Workbook

Sheet Sheet1
A1: ЖАЖДА СКОРОСТИ, 526-06-31, www.karting.com.ua
A3: Дата: | B3: 22-06-14 | C3: Время: 11:57:56 | F3: Заезд: | G3: 2
A4: Место | B4: 1 | C4: 2 | D4: 3 | E4: 4 | F4: 5 | G4: 6 | H4: 7 | I4: 8 • | J4: 9
A5: 1мМЯ | B5: Ну Погоди | C5: Финики | D5: Чпок Тим | E5: Смурфики | F5: МендМс | G5: НЛО | H5: л лот IVIO 1 | I5: Незнайки | J5: Бандеровцы
A6: Круг/Карт | B6: 9 | C6: 5 | D6: 1 | E6: 8 | F6: 7 | G6: 3 | H6: 4 | I6: 2 | J6: 6
C7: 1
A8: 1 | B8: 42.35 | C8: 42.37 | D8: 41.94 | E8: 42.54 | F8: 42.53 | G8: 42.56 | H8: 42.89 | I8: 42.8 | J8: 43.53 | L8: =SUM(B$8:B8)-$D$328*$A8 -> -2.633625
A9: 2 | B9: 42.38 | C9: 41.46 | D9: 41.54 | E9: 41.72 | F9: 42.3 | G9: 42.16 | H9: 41.91 | I9: 42.97 | J9: 44.24 | L9: =SUM(B$8:B9)-$D$328*$A9 -> -5.23725
A10: 3 | B10: 44.44 | C10: 41.38 | D10: 41.5 | E10: 41.76 | F10: 42.5 | G10: 43.53 | H10: 43.81 | I10: 43.33 | J10: 43.56 | L10: =SUM(B$8:B10)-$D$328*$A10 -> -5.780875
A11: 4 | B11: 43.27 | C11: 41.75 | D11: 41.59 | E11: 41.7 | F11: 41.61 | G11: 42.12 | H11: 43.23 | I11: 43.01 | J11: 42.59 | L11: =SUM(B$8:B11)-$D$328*$A11 -> -7.4945
A12: 5 | B12: 42.48 | C12: 41.41 | D12: 41.58 | E12: 41.44 | F12: 41.49 | G12: 41.83 | H12: 42.95 | I12: 42.85 | J12: 42.7 | L12: =SUM(B$8:B12)-$D$328*$A12 -> -9.998125
A13: 6 | B13: 41.94 | C13: 41.43 | D13: 41.41 | E13: 41.73 | F13: 41.73 | G13: 41.92 | H13: 42.14 | I13: 43.11 | J13: 42.66 | L13: =SUM(B$8:B13)-$D$328*$A13 -> -13.04175
A14: 7 | B14: 41.6 | C14: 41.47 | D14: 41.37 | E14: 41.34 | F14: 41.49 | G14: 41.99 | H14: 42.15 | I14: 42.57 | J14: 42.56 | L14: =SUM(B$8:B14)-$D$328*$A14 -> -16.425375
A15: 8 | B15: 41.8 | C15: 41.5 | D15: 41.42 | E15: 41.37 | F15: 41.39 | G15: 41.98 | H15: 108.18 | I15: 42.96 | J15: 42.23 | L15: =SUM(B$8:B15)-$D$328*$A15 -> -19.609
A16: 9 | B16: 41.75 | C16: 43.1 | D16: 41.38 | E16: 43.23 | F16: 41.34 | G16: 41.85 | H16: 42.35 | I16: 42.6 | J16: 42.32 | L16: =SUM(B$8:B16)-$D$328*$A16 -> -22.842625
A17: 10 | B17: 41.41 | C17: 41.65 | D17: 41.44 | E17: 41.7 | F17: 41.44 | G17: 41.81 | H17: 41.7 | I17: 42.47 | J17: 42.56 | L17: =SUM(B$8:B17)-$D$328*$A17 -> -26.41625
A18: 11 | B18: 41.63 | C18: 41.6 | D18: 41.34 | E18: 41.38 | F18: 41.81 | G18: 41.58 | H18: 42.19 | I18: 42.91 | J18: 42.69 | L18: =SUM(B$8:B18)-$D$328*$A18 -> -29.769875
A19: 12 | B19: 41.74 | C19: 41.41 | D19: 41.29 | E19: 41.55 | F19: 41.6 | G19: 41.92 | H19: 41.93 | I19: 42.42 | J19: 42.84 | L19: =SUM(B$8:B19)-$D$328*$A19 -> -33.0135
... A315: 308 | B315: 55.09 | C315: 63.47 | D315: 55.74 | E315: 63.15 | F315: 61.43 | G315: 61.77 | H315: 60.78 | I315: 62.34 | J315: 68.05 | L315: =SUM(B$8:B315)-$D$328*$A315 -> -188.7365
A316: 309 | B316: 58.83 | C316: 64.17 | D316: 61.23 | E316: 62.17 | F316: 61.65 | G316: 62.89 | H316: 61.23 | I316: 60.84 | L316: =SUM(B$8:B316)-$D$328*$A316 -> -174.89013
A317: 310 | B317: 62.26 | C317: 63.52 | D317: 61.83 | E317: 62.36 | F317: 63.23 | G317: 63.88 | H317: 62.87 | I317: 60.82 | L317: =SUM(B$8:B317)-$D$328*$A317 -> -157.61375
A318: 311 | B318: 61.55 | C318: 63.81 | D318: 61.43 | E318: 62.45 | F318: 61.52 | G318: 62.57 | H318: 75.25 | L318: =SUM(B$8:B318)-$D$328*$A318 -> -141.04738
A319: 312 | B319: 61.44 | C319: 65.28 | D319: 61.6 | E319: 62.9 | F319: 61.62 | G319: 62.67 | H319: 60.79 | L319: =SUM(B$8:B319)-$D$328*$A319 -> -124.591
A320: 313 | B320: 60.6 | C320: 63.65 | D320: 60.89 | E320: 62.17 | F320: 61.56 | G320: 62.57 | H320: 67.43 | L320: =SUM(B$8:B320)-$D$328*$A320 -> -108.97463
A321: 314 | B321: 62.78 | C321: 65.02 | D321: 62.29 | E321: 61.44 | F321: 61.5 | G321: 62.08 | H321: 61 | L321: =SUM(B$8:B321)-$D$328*$A321 -> -91.17825
A322: 315 | B322: 60.93 | C322: 63.87 | D322: 61.67 | E322: 61.64 | F322: 62.42 | G322: 62.38 | H322: 60.48 | L322: =SUM(B$8:B322)-$D$328*$A322 -> -75.231875
A323: 316 | B323: 60.41 | C323: 65.58 | D323: 61.56 | E323: 61.17 | F323: 61.67 | G323: 61.63 | L323: =SUM(B$8:B323)-$D$328*$A323 -> -59.8055
A324: 317 | B324: 59.36 | C324: 62.02 | D324: 61.09 | E324: 61.42 | F324: 61.46 | G324: 62.06 | L324: =SUM(B$8:B324)-$D$328*$A324 -> -45.429125
A325: 318 | B325: 61.89 | C325: 61.85 | D325: 61.33 | E325: 61.08 | F325: 60.42 | G325: 61.3 | L325: =SUM(B$8:B325)-$D$328*$A325 -> -28.52275
A326: 319 | B326: 60.33 | D326: 61.01 | E326: 60.95 | F326: 59.87 | L326: =SUM(B$8:B326)-$D$328*$A326 -> -13.176375
A327: 320 | B327: 60.15 | D327: 65.73 | L327: =SUM(B$8:B327)-$D$328*$A327 -> 1.99
A328: Ср. время (расчет) | B328: =AVERAGE(B8:B327) -> 44.989844 | C328: =AVERAGE(C8:C327) -> 45.295252 | D328: =AVERAGE(D8:D327) -> 44.983625 | E328: =AVERAGE(E8:E327) -> 45.209655 | F328: =AVERAGE(F8:F327) -> 45.167774 | G328: =AVERAGE(G8:G327) -> 45.334182 | H328: =AVERAGE(H8:H327) -> 45.744889 | I328: =AVERAGE(I8:I327) -> 46.509226 | J328: =AVERAGE(J8:J327) -> 46.844188
A329: Ср. время (распечатка) | B329: 44.99 | C329: 45.29 | D329: 44.98 | E329: 45.21 | F329: 45.17 | G329: 45.33 | H329: 45.74 | I329: 46.51 | J329: 46.84
B331: =B328*$A327 -> 14396.75 | C331: =C328*$A325 -> 14403.89 | D331: =D328*$A327 -> 14394.76 | E331: =E328*$A326 -> 14421.88 | F331: =F328*$A326 -> 14408.52 | G331: =G328*$A325 -> 14416.27 | H331: =H328*$A322 -> 14409.64 | I331: =I328*$A317 -> 14417.86 | J331: =J328*$A315 -> 14428.01
B332: =SUM(B8:B327) -> 14396.75 | C332: =SUM(C8:C327) -> 14403.89 | D332: =SUM(D8:D327) -> 14394.76 | E332: =SUM(E8:E327) -> 14421.88 | F332: =SUM(F8:F327) -> 14408.52 | G332: =SUM(G8:G327) -> 14416.27 | H332: =SUM(H8:H327) -> 14409.64 | I332: =SUM(I8:I327) -> 14417.86 | J332: =SUM(J8:J327) -> 14428.01

Sheet Лист1
B2: =(SUM(Sheet1!B$8:'Sheet1'!B8)-Sheet1!$D$328*Sheet1!$A8) -> -2.633625
B3: =(SUM(Sheet1!B$8:'Sheet1'!B9)-Sheet1!$D$328*Sheet1!$A9) -> -5.23725
B4: =(SUM(Sheet1!B$8:'Sheet1'!B10)-Sheet1!$D$328*Sheet1!$A10) -> -5.780875
B5: =(SUM(Sheet1!B$8:'Sheet1'!B11)-Sheet1!$D$328*Sheet1!$A11) -> -7.4945
B6: =(SUM(Sheet1!B$8:'Sheet1'!B12)-Sheet1!$D$328*Sheet1!$A12) -> -9.998125
B7: =(SUM(Sheet1!B$8:'Sheet1'!B13)-Sheet1!$D$328*Sheet1!$A13) -> -13.04175
B8: =(SUM(Sheet1!B$8:'Sheet1'!B14)-Sheet1!$D$328*Sheet1!$A14) -> -16.425375
B9: =(SUM(Sheet1!B$8:'Sheet1'!B15)-Sheet1!$D$328*Sheet1!$A15) -> -19.609
B10: =(SUM(Sheet1!B$8:'Sheet1'!B16)-Sheet1!$D$328*Sheet1!$A16) -> -22.842625
B11: =(SUM(Sheet1!B$8:'Sheet1'!B17)-Sheet1!$D$328*Sheet1!$A17) -> -26.41625
B12: =(SUM(Sheet1!B$8:'Sheet1'!B18)-Sheet1!$D$328*Sheet1!$A18) -> -29.769875
B13: =(SUM(Sheet1!B$8:'Sheet1'!B19)-Sheet1!$D$328*Sheet1!$A19) -> -33.0135
... B325: =(SUM(Sheet1!B$8:'Sheet1'!B331)-Sheet1!$D$328*Sheet1!$A331) -> 28883.48
