Workbook

Sheet Общие результаты
A1: Серия мини марафонов "Большие Гонки 2019", 5-й этап, 15.06.19
A2: Конфигурация №
A4: Место в гонке | B4: Команда | C4: № в гонке | D4: Квала | F4: Гонка | I4: Лучший круг в гонке
D5: Время | E5: Место | F5: Круги | G5: Время/от лидера | H5: От места выше | I5: Время | J5: На круге
A6: 1 | B6: K44 | C6: 8 | D6: 60.4185 | E6: 1 | F6: 399 | G6: 7:00:46 | H6: - | I6: 58.195 | J6: 63
A7: 2 | B7: NFS Kozaks | C7: 6 | D7: 60.821 | E7: 3 | F7: 397 | G7: 2 круга | H7: 2 круга | I7: 58.412 | J7: 298
A8: 3 | B8: Kart Freedom | C8: 1 | D8: 61.1585 | E8: 4 | F8: 397 | G8: 2 круга | H8: 36.594 | I8: 58.709 | J8: 364
A9: 4 | B9: Hurricane RTU | C9: 4 | D9: 60.683 | E9: 2 | F9: 395 | G9: 4 круга | H9: 3 круга | I9: 58.883 | J9: 321
A10: 5 | B10: NFS Fortuna RT | C10: 5 | D10: 62.1765 | E10: 5 | F10: 392 | G10: 7 кругов | H10: 2 круга | I10: 59.269 | J10: 318
A11: 6 | B11: Jaguar | C11: 3 | D11: 62.454 | E11: 7 | F11: 391 | G11: 8 кругов | H11: 1 круг | I11: 59.194 | J11: 355
A12: 7 | B12: 777 | C12: 7 | D12: 62.208 | E12: 6 | F12: 387 | G12: 12 кругов | H12: 4 круга | I12: 59.299 | J12: 296
A13: 8 | B13: Fossa | C13: 2 | D13: 63.2625 | E13: 8 | F13: 386 | G13: 13 кругов | H13: 1 круг | I13: 59.114 | J13: 363
A14: 9 | B14: Flash UA | C14: 10 | D14: 63.712 | E14: 9 | F14: 382 | G14: 17 кругов | H14: 4 круга | I14: 60.329 | J14: 366

Sheet Регистрация 7Ч
A1: Серия мини марафонов "Большие Гонки 2019", Гранд Финал, 03.11.19
A3: Регистрационная форма
A5: № в гонке | B5: Команда | C5: Пилот | D5: № | E5: Вес | F5: Бонус | H5: Квалификация
F6: ПИЛОТ | G6: ВСЕГО | H6: карт | I6: Время | J6: бонус | K6: Итого | L6: Среднее | M6: Место | O6: бонусы за вес
A7: 1 | B7: Kart Freedom | C7: Мифтахутдинов Ильяс | D7: 1-1 | E7: 45.2 | F7: =IF(E7<85,0,IF((COUNT(E7:E10))=2,Y7,IF((COUNT(E7:E10))=3,Z7,AA7))) -> 0 | G7: =SUM(F7:F10) -> 0 | H7: 2 | I7: 61.755 | J7: =IF(E7<84.9,0,IF(E7<87.4,0.1,IF(E7<89.9,0.15,IF(E7<92.4,0.2,IF(E7<94.9,0.25,IF(E7<97.4,0.3,IF(E7<99.9,0.35,0.4))))))) -> 0 | K7: =I7-J7 -> 61.755 | L7: =AVERAGE(K7:K8) -> 61.1585 | M7: =RANK(L7,L7:L42,1) -> 4 | N7: кв | O7: 0.05 | P7: 0.1 | Q7: 0.15 | R7: 0.2 | S7: 0.25 | T7: 0.3 | U7: 0.35 | V7: =O7*8 -> 0.4 | Y7: =IF(E7<87.4,$P$8,IF(E7<89.9,$Q$8,IF(E7<92.4,$R$8,IF(E7<94.9,$S$8,IF(E7<97.4,$T$8,IF(E7<99.9,$U$8,$V$8)))))) -> 14 | Z7: =IF(E7<87.4,$P$9,IF(E7<89.9,$Q$9,IF(E7<92.4,$R$9,IF(E7<94.9,$S$9,IF(E7<97.4,$T$9,IF(E7<99.9,$U$9,$V$9)))))) -> 9.8 | AA7: =IF(E7<87.4,$P$10,IF(E7<89.9,$Q$10,IF(E7<92.4,$R$10,IF(E7<94.9,$S$10,IF(E7<97.4,$T$10,IF(E7<99.9,$U$10,$V$10)))))) -> 7
C8: Наум | D8: 1-2 | E8: 81.8 | F8: =IF(E8<85,0,IF((COUNT(E7:E10))=2,Y8,IF((COUNT(E7:E10))=3,Z8,AA8))) -> 0 | H8: 4 | I8: 60.562 | J8: =IF(E8<84.9,0,IF(E8<87.4,0.1,IF(E8<89.9,0.15,IF(E8<92.4,0.2,IF(E8<94.9,0.25,IF(E8<97.4,0.3,IF(E8<99.9,0.35,0.4))))))) -> 0 | K8: =I8-J8 -> 60.562 | O8: =7*1 -> 7 | P8: =O8*2 -> 14 | Q8: =O8*3 -> 21 | R8: =O8*4 -> 28 | S8: =O8*5 -> 35 | T8: =O8*6 -> 42 | U8: =O8*7 -> 49 | V8: =O8*8 -> 56 | W8: 2 пилот | Y8: =IF(E8<87.4,$P$8,IF(E8<89.9,$Q$8,IF(E8<92.4,$R$8,IF(E8<94.9,$S$8,IF(E8<97.4,$T$8,IF(E8<99.9,$U$8,$V$8)))))) -> 14 | Z8: =IF(E8<87.4,$P$9,IF(E8<89.9,$Q$9,IF(E8<92.4,$R$9,IF(E8<94.9,$S$9,IF(E8<97.4,$T$9,IF(E8<99.9,$U$9,$V$9)))))) -> 9.8 | AA8: =IF(E8<87.4,$P$10,IF(E8<89.9,$Q$10,IF(E8<92.4,$R$10,IF(E8<94.9,$S$10,IF(E8<97.4,$T$10,IF(E8<99.9,$U$10,$V$10)))))) -> 7
D9: 1-3 | F9: =IF(E9<85,0,IF((COUNT(E7:E10))=2,Y9,IF((COUNT(E7:E10))=3,Z9,AA9))) -> 0 | J9: =IF(E9<84.9,0,IF(E9<87.4,0.1,IF(E9<89.9,0.15,IF(E9<92.4,0.2,IF(E9<94.9,0.25,IF(E9<97.4,0.3,IF(E9<99.9,0.35,0.4))))))) -> 0 | K9: =I9-J9 -> 0 | O9: =7*0.7 -> 4.9 | P9: =O9*2 -> 9.8 | Q9: =O9*3 -> 14.7 | R9: =O9*4 -> 19.6 | S9: =O9*5 -> 24.5 | T9: =O9*6 -> 29.4 | U9: =O9*7 -> 34.3 | V9: =O9*8 -> 39.2 | W9: 3 пилота | Y9: =IF(E9<87.4,$P$8,IF(E9<89.9,$Q$8,IF(E9<92.4,$R$8,IF(E9<94.9,$S$8,IF(E9<97.4,$T$8,IF(E9<99.9,$U$8,$V$8)))))) -> 14 | Z9: =IF(E9<87.4,$P$9,IF(E9<89.9,$Q$9,IF(E9<92.4,$R$9,IF(E9<94.9,$S$9,IF(E9<97.4,$T$9,IF(E9<99.9,$U$9,$V$9)))))) -> 9.8 | AA9: =IF(E9<87.4,$P$10,IF(E9<89.9,$Q$10,IF(E9<92.4,$R$10,IF(E9<94.9,$S$10,IF(E9<97.4,$T$10,IF(E9<99.9,$U$10,$V$10)))))) -> 7
D10: 1-4 | F10: =IF(E10<85,0,IF((COUNT(E7:E10))=2,Y10,IF((COUNT(E7:E10))=3,Z10,AA10))) -> 0 | J10: =IF(E10<84.9,0,IF(E10<87.4,0.1,IF(E10<89.9,0.15,IF(E10<92.4,0.2,IF(E10<94.9,0.25,IF(E10<97.4,0.3,IF(E10<99.9,0.35,0.4))))))) -> 0 | K10: =I10-J10 -> 0 | O10: =7*0.5 -> 3.5 | P10: =O10*2 -> 7 | Q10: =O10*3 -> 10.5 | R10: =O10*4 -> 14 | S10: =O10*5 -> 17.5 | T10: =O10*6 -> 21 | U10: =O10*7 -> 24.5 | V10: =O10*8 -> 28 | W10: 4 пилота | Y10: =IF(E10<87.4,$P$8,IF(E10<89.9,$Q$8,IF(E10<92.4,$R$8,IF(E10<94.9,$S$8,IF(E10<97.4,$T$8,IF(E10<99.9,$U$8,$V$8)))))) -> 14 | Z10: =IF(E10<87.4,$P$9,IF(E10<89.9,$Q$9,IF(E10<92.4,$R$9,IF(E10<94.9,$S$9,IF(E10<97.4,$T$9,IF(E10<99.9,$U$9,$V$9)))))) -> 9.8 | AA10: =IF(E10<87.4,$P$10,IF(E10<89.9,$Q$10,IF(E10<92.4,$R$10,IF(E10<94.9,$S$10,IF(E10<97.4,$T$10,IF(E10<99.9,$U$10,$V$10)))))) -> 7
A11: 2 | B11: Fossa | C11: Гончаров Алексей | D11: 2-1 | E11: 80.6 | F11: =IF(E11<85,0,IF((COUNT(E11:E14))=2,Y11,IF((COUNT(E11:E14))=3,Z11,AA11))) -> 0 | G11: =SUM(F11:F14) -> 0 | H11: 5 | I11: 63.825 | J11: =IF(E11<84.9,0,IF(E11<87.4,0.1,IF(E11<89.9,0.15,IF(E11<92.4,0.2,IF(E11<94.9,0.25,IF(E11<97.4,0.3,IF(E11<99.9,0.35,0.4))))))) -> 0 | K11: =I11-J11 -> 63.825 | L11: =AVERAGE(K11:K12) -> 63.2625 | M11: =RANK(L11,L7:L42,1) -> 8 | N11: вес | O11: 82.5 | P11: 85 | Q11: 87.5 | R11: 90 | S11: 92.5 | T11: 95 | U11: 97.5 | V11: 100 | Y11: =IF(E11<87.4,$P$8,IF(E11<89.9,$Q$8,IF(E11<92.4,$R$8,IF(E11<94.9,$S$8,IF(E11<97.4,$T$8,IF(E11<99.9,$U$8,$V$8)))))) -> 14 | Z11: =IF(E11<87.4,$P$9,IF(E11<89.9,$Q$9,IF(E11<92.4,$R$9,IF(E11<94.9,$S$9,IF(E11<97.4,$T$9,IF(E11<99.9,$U$9,$V$9)))))) -> 9.8 | AA11: =IF(E11<87.4,$P$10,IF(E11<89.9,$Q$10,IF(E11<92.4,$R$10,IF(E11<94.9,$S$10,IF(E11<97.4,$T$10,IF(E11<99.9,$U$10,$V$10)))))) -> 7
C12: Кравченок Саша | D12: 2-2 | E12: 75 | F12: =IF(E12<85,0,IF((COUNT(E11:E14))=2,Y12,IF((COUNT(E11:E14))=3,Z12,AA12))) -> 0 | H12: 4 | I12: 62.7 | J12: =IF(E12<84.9,0,IF(E12<87.4,0.1,IF(E12<89.9,0.15,IF(E12<92.4,0.2,IF(E12<94.9,0.25,IF(E12<97.4,0.3,IF(E12<99.9,0.35,0.4))))))) -> 0 | K12: =I12-J12 -> 62.7 | Y12: =IF(E12<87.4,$P$8,IF(E12<89.9,$Q$8,IF(E12<92.4,$R$8,IF(E12<94.9,$S$8,IF(E12<97.4,$T$8,IF(E12<99.9,$U$8,$V$8)))))) -> 14 | Z12: =IF(E12<87.4,$P$9,IF(E12<89.9,$Q$9,IF(E12<92.4,$R$9,IF(E12<94.9,$S$9,IF(E12<97.4,$T$9,IF(E12<99.9,$U$9,$V$9)))))) -> 9.8 | AA12: =IF(E12<87.4,$P$10,IF(E12<89.9,$Q$10,IF(E12<92.4,$R$10,IF(E12<94.9,$S$10,IF(E12<97.4,$T$10,IF(E12<99.9,$U$10,$V$10)))))) -> 7
C13: Верба Алесандр | D13: 2-3 | E13: 83.9 | F13: =IF(E13<85,0,IF((COUNT(E11:E14))=2,Y13,IF((COUNT(E11:E14))=3,Z13,AA13))) -> 0 | J13: =IF(E13<84.9,0,IF(E13<87.4,0.1,IF(E13<89.9,0.15,IF(E13<92.4,0.2,IF(E13<94.9,0.25,IF(E13<97.4,0.3,IF(E13<99.9,0.35,0.4))))))) -> 0 | K13: =I13-J13 -> 0 | Y13: =IF(E13<87.4,$P$8,IF(E13<89.9,$Q$8,IF(E13<92.4,$R$8,IF(E13<94.9,$S$8,IF(E13<97.4,$T$8,IF(E13<99.9,$U$8,$V$8)))))) -> 14 | Z13: =IF(E13<87.4,$P$9,IF(E13<89.9,$Q$9,IF(E13<92.4,$R$9,IF(E13<94.9,$S$9,IF(E13<97.4,$T$9,IF(E13<99.9,$U$9,$V$9)))))) -> 9.8 | AA13: =IF(E13<87.4,$P$10,IF(E13<89.9,$Q$10,IF(E13<92.4,$R$10,IF(E13<94.9,$S$10,IF(E13<97.4,$T$10,IF(E13<99.9,$U$10,$V$10)))))) -> 7
D14: 2-4 | F14: =IF(E14<85,0,IF((COUNT(E11:E14))=2,Y14,IF((COUNT(E11:E14))=3,Z14,AA14))) -> 0 | J14: =IF(E14<84.9,0,IF(E14<87.4,0.1,IF(E14<89.9,0.15,IF(E14<92.4,0.2,IF(E14<94.9,0.25,IF(E14<97.4,0.3,IF(E14<99.9,0.35,0.4))))))) -> 0 | K14: =I14-J14 -> 0 | Y14: =IF(E14<87.4,$P$8,IF(E14<89.9,$Q$8,IF(E14<92.4,$R$8,IF(E14<94.9,$S$8,IF(E14<97.4,$T$8,IF(E14<99.9,$U$8,$V$8)))))) -> 14 | Z14: =IF(E14<87.4,$P$9,IF(E14<89.9,$Q$9,IF(E14<92.4,$R$9,IF(E14<94.9,$S$9,IF(E14<97.4,$T$9,IF(E14<99.9,$U$9,$V$9)))))) -> 9.8 | AA14: =IF(E14<87.4,$P$10,IF(E14<89.9,$Q$10,IF(E14<92.4,$R$10,IF(E14<94.9,$S$10,IF(E14<97.4,$T$10,IF(E14<99.9,$U$10,$V$10)))))) -> 7
A15: 3 | B15: Jaguar | C15: Лихошерст Леша | D15: 3-1 | E15: 74 | F15: =IF(E15<85,0,IF((COUNT(E15:E18))=2,Y15,IF((COUNT(E15:E18))=3,Z15,AA15))) -> 0 | G15: =SUM(F15:F18) -> 35 | H15: 7 | I15: 61.954 | J15: =IF(E15<84.9,0,IF(E15<87.4,0.1,IF(E15<89.9,0.15,IF(E15<92.4,0.2,IF(E15<94.9,0.25,IF(E15<97.4,0.3,IF(E15<99.9,0.35,0.4))))))) -> 0 | K15: =I15-J15 -> 61.954 | L15: =AVERAGE(K15:K16) -> 62.454 | M15: =RANK(L15,L7:L42,1) -> 7 | Y15: =IF(E15<87.4,$P$8,IF(E15<89.9,$Q$8,IF(E15<92.4,$R$8,IF(E15<94.9,$S$8,IF(E15<97.4,$T$8,IF(E15<99.9,$U$8,$V$8)))))) -> 14 | Z15: =IF(E15<87.4,$P$9,IF(E15<89.9,$Q$9,IF(E15<92.4,$R$9,IF(E15<94.9,$S$9,IF(E15<97.4,$T$9,IF(E15<99.9,$U$9,$V$9)))))) -> 9.8 | AA15: =IF(E15<87.4,$P$10,IF(E15<89.9,$Q$10,IF(E15<92.4,$R$10,IF(E15<94.9,$S$10,IF(E15<97.4,$T$10,IF(E15<99.9,$U$10,$V$10)))))) -> 7
C16: Закалюк Женя | D16: 3-2 | E16: 93.5 | F16: =IF(E16<85,0,IF((COUNT(E15:E18))=2,Y16,IF((COUNT(E15:E18))=3,Z16,AA16))) -> 35 | H16: 6 | I16: 62.954 | K16: =I16-J16 -> 62.954 | Y16: =IF(E16<87.4,$P$8,IF(E16<89.9,$Q$8,IF(E16<92.4,$R$8,IF(E16<94.9,$S$8,IF(E16<97.4,$T$8,IF(E16<99.9,$U$8,$V$8)))))) -> 35 | Z16: =IF(E16<87.4,$P$9,IF(E16<89.9,$Q$9,IF(E16<92.4,$R$9,IF(E16<94.9,$S$9,IF(E16<97.4,$T$9,IF(E16<99.9,$U$9,$V$9)))))) -> 24.5 | AA16: =IF(E16<87.4,$P$10,IF(E16<89.9,$Q$10,IF(E16<92.4,$R$10,IF(E16<94.9,$S$10,IF(E16<97.4,$T$10,IF(E16<99.9,$U$10,$V$10)))))) -> 17.5
D17: 3-3 | F17: =IF(E17<85,0,IF((COUNT(E15:E18))=2,Y17,IF((COUNT(E15:E18))=3,Z17,AA17))) -> 0 | J17: =IF(E17<84.9,0,IF(E17<87.4,0.1,IF(E17<89.9,0.15,IF(E17<92.4,0.2,IF(E17<94.9,0.25,IF(E17<97.4,0.3,IF(E17<99.9,0.35,0.4))))))) -> 0 | K17: =I17-J17 -> 0 | Y17: =IF(E17<87.4,$P$8,IF(E17<89.9,$Q$8,IF(E17<92.4,$R$8,IF(E17<94.9,$S$8,IF(E17<97.4,$T$8,IF(E17<99.9,$U$8,$V$8)))))) -> 14 | Z17: =IF(E17<87.4,$P$9,IF(E17<89.9,$Q$9,IF(E17<92.4,$R$9,IF(E17<94.9,$S$9,IF(E17<97.4,$T$9,IF(E17<99.9,$U$9,$V$9)))))) -> 9.8 | AA17: =IF(E17<87.4,$P$10,IF(E17<89.9,$Q$10,IF(E17<92.4,$R$10,IF(E17<94.9,$S$10,IF(E17<97.4,$T$10,IF(E17<99.9,$U$10,$V$10)))))) -> 7
D18: 3-4 | F18: =IF(E18<85,0,IF((COUNT(E15:E18))=2,Y18,IF((COUNT(E15:E18))=3,Z18,AA18))) -> 0 | J18: =IF(E18<84.9,0,IF(E18<87.4,0.1,IF(E18<89.9,0.15,IF(E18<92.4,0.2,IF(E18<94.9,0.25,IF(E18<97.4,0.3,IF(E18<99.9,0.35,0.4))))))) -> 0 | K18: =I18-J18 -> 0 | Y18: =IF(E18<87.4,$P$8,IF(E18<89.9,$Q$8,IF(E18<92.4,$R$8,IF(E18<94.9,$S$8,IF(E18<97.4,$T$8,IF(E18<99.9,$U$8,$V$8)))))) -> 14 | Z18: =IF(E18<87.4,$P$9,IF(E18<89.9,$Q$9,IF(E18<92.4,$R$9,IF(E18<94.9,$S$9,IF(E18<97.4,$T$9,IF(E18<99.9,$U$9,$V$9)))))) -> 9.8 | AA18: =IF(E18<87.4,$P$10,IF(E18<89.9,$Q$10,IF(E18<92.4,$R$10,IF(E18<94.9,$S$10,IF(E18<97.4,$T$10,IF(E18<99.9,$U$10,$V$10)))))) -> 7
A19: 4 | B19: Hurricane Racing Team | C19: Стоцкий Андрей | D19: 4-1 | E19: 65.4 | F19: =IF(E19<85,0,IF((COUNT(E19:E22))=2,Y19,IF((COUNT(E19:E22))=3,Z19,AA19))) -> 0 | G19: =SUM(F19:F22) -> 0 | H19: 8 | I19: 60.969 | J19: =IF(E19<84.9,0,IF(E19<87.4,0.1,IF(E19<89.9,0.15,IF(E19<92.4,0.2,IF(E19<94.9,0.25,IF(E19<97.4,0.3,IF(E19<99.9,0.35,0.4))))))) -> 0 | K19: =I19-J19 -> 60.969 | L19: =AVERAGE(K19:K20) -> 60.683 | M19: =RANK(L19,L7:L42,1) -> 2 | Y19: =IF(E19<87.4,$P$8,IF(E19<89.9,$Q$8,IF(E19<92.4,$R$8,IF(E19<94.9,$S$8,IF(E19<97.4,$T$8,IF(E19<99.9,$U$8,$V$8)))))) -> 14 | Z19: =IF(E19<87.4,$P$9,IF(E19<89.9,$Q$9,IF(E19<92.4,$R$9,IF(E19<94.9,$S$9,IF(E19<97.4,$T$9,IF(E19<99.9,$U$9,$V$9)))))) -> 9.8 | AA19: =IF(E19<87.4,$P$10,IF(E19<89.9,$Q$10,IF(E19<92.4,$R$10,IF(E19<94.9,$S$10,IF(E19<97.4,$T$10,IF(E19<99.9,$U$10,$V$10)))))) -> 7
C20: Манило Денис | D20: 4-2 | F20: =IF(E20<85,0,IF((COUNT(E19:E22))=2,Y20,IF((COUNT(E19:E22))=3,Z20,AA20))) -> 0 | H20: 9 | I20: 60.397 | J20: =IF(E20<84.9,0,IF(E20<87.4,0.1,IF(E20<89.9,0.15,IF(E20<92.4,0.2,IF(E20<94.9,0.25,IF(E20<97.4,0.3,IF(E20<99.9,0.35,0.4))))))) -> 0 | K20: =I20-J20 -> 60.397 | Y20: =IF(E20<87.4,$P$8,IF(E20<89.9,$Q$8,IF(E20<92.4,$R$8,IF(E20<94.9,$S$8,IF(E20<97.4,$T$8,IF(E20<99.9,$U$8,$V$8)))))) -> 14 | Z20: =IF(E20<87.4,$P$9,IF(E20<89.9,$Q$9,IF(E20<92.4,$R$9,IF(E20<94.9,$S$9,IF(E20<97.4,$T$9,IF(E20<99.9,$U$9,$V$9)))))) -> 9.8 | AA20: =IF(E20<87.4,$P$10,IF(E20<89.9,$Q$10,IF(E20<92.4,$R$10,IF(E20<94.9,$S$10,IF(E20<97.4,$T$10,IF(E20<99.9,$U$10,$V$10)))))) -> 7
D21: 4-3 | F21: =IF(E21<85,0,IF((COUNT(E19:E22))=2,Y21,IF((COUNT(E19:E22))=3,Z21,AA21))) -> 0 | J21: =IF(E21<84.9,0,IF(E21<87.4,0.1,IF(E21<89.9,0.15,IF(E21<92.4,0.2,IF(E21<94.9,0.25,IF(E21<97.4,0.3,IF(E21<99.9,0.35,0.4))))))) -> 0 | K21: =I21-J21 -> 0 | Y21: =IF(E21<87.4,$P$8,IF(E21<89.9,$Q$8,IF(E21<92.4,$R$8,IF(E21<94.9,$S$8,IF(E21<97.4,$T$8,IF(E21<99.9,$U$8,$V$8)))))) -> 14 | Z21: =IF(E21<87.4,$P$9,IF(E21<89.9,$Q$9,IF(E21<92.4,$R$9,IF(E21<94.9,$S$9,IF(E21<97.4,$T$9,IF(E21<99.9,$U$9,$V$9)))))) -> 9.8 | AA21: =IF(E21<87.4,$P$10,IF(E21<89.9,$Q$10,IF(E21<92.4,$R$10,IF(E21<94.9,$S$10,IF(E21<97.4,$T$10,IF(E21<99.9,$U$10,$V$10)))))) -> 7
D22: 4-4 | F22: =IF(E22<85,0,IF((COUNT(E19:E22))=2,Y22,IF((COUNT(E19:E22))=3,Z22,AA22))) -> 0 | J22: =IF(E22<84.9,0,IF(E22<87.4,0.1,IF(E22<89.9,0.15,IF(E22<92.4,0.2,IF(E22<94.9,0.25,IF(E22<97.4,0.3,IF(E22<99.9,0.35,0.4))))))) -> 0 | K22: =I22-J22 -> 0 | Y22: =IF(E22<87.4,$P$8,IF(E22<89.9,$Q$8,IF(E22<92.4,$R$8,IF(E22<94.9,$S$8,IF(E22<97.4,$T$8,IF(E22<99.9,$U$8,$V$8)))))) -> 14 | Z22: =IF(E22<87.4,$P$9,IF(E22<89.9,$Q$9,IF(E22<92.4,$R$9,IF(E22<94.9,$S$9,IF(E22<97.4,$T$9,IF(E22<99.9,$U$9,$V$9)))))) -> 9.8 | AA22: =IF(E22<87.4,$P$10,IF(E22<89.9,$Q$10,IF(E22<92.4,$R$10,IF(E22<94.9,$S$10,IF(E22<97.4,$T$10,IF(E22<99.9,$U$10,$V$10)))))) -> 7
A23: 5 | B23: Fortuna Racing | C23: Фортуна Таня | D23: 5-1 | E23: 69.6 | F23: =IF(E23<85,0,IF((COUNT(E23:E26))=2,Y23,IF((COUNT(E23:E26))=3,Z23,AA23))) -> 0 | G23: =SUM(F23:F26) -> 0 | H23: 11 | I23: 62.717 | J23: =IF(E23<84.9,0,IF(E23<87.4,0.1,IF(E23<89.9,0.15,IF(E23<92.4,0.2,IF(E23<94.9,0.25,IF(E23<97.4,0.3,IF(E23<99.9,0.35,0.4))))))) -> 0 | K23: =I23-J23 -> 62.717 | L23: =AVERAGE(K23:K24) -> 62.1765 | M23: =RANK(L23,L7:L42,1) -> 5 | Y23: =IF(E23<87.4,$P$8,IF(E23<89.9,$Q$8,IF(E23<92.4,$R$8,IF(E23<94.9,$S$8,IF(E23<97.4,$T$8,IF(E23<99.9,$U$8,$V$8)))))) -> 14 | Z23: =IF(E23<87.4,$P$9,IF(E23<89.9,$Q$9,IF(E23<92.4,$R$9,IF(E23<94.9,$S$9,IF(E23<97.4,$T$9,IF(E23<99.9,$U$9,$V$9)))))) -> 9.8 | AA23: =IF(E23<87.4,$P$10,IF(E23<89.9,$Q$10,IF(E23<92.4,$R$10,IF(E23<94.9,$S$10,IF(E23<97.4,$T$10,IF(E23<99.9,$U$10,$V$10)))))) -> 7
C24: Шутка Виталий | D24: 5-2 | E24: 80.8 | F24: =IF(E24<85,0,IF((COUNT(E23:E26))=2,Y24,IF((COUNT(E23:E26))=3,Z24,AA24))) -> 0 | H24: 10 | I24: 61.636 | J24: =IF(E24<84.9,0,IF(E24<87.4,0.1,IF(E24<89.9,0.15,IF(E24<92.4,0.2,IF(E24<94.9,0.25,IF(E24<97.4,0.3,IF(E24<99.9,0.35,0.4))))))) -> 0 | K24: =I24-J24 -> 61.636 | Y24: =IF(E24<87.4,$P$8,IF(E24<89.9,$Q$8,IF(E24<92.4,$R$8,IF(E24<94.9,$S$8,IF(E24<97.4,$T$8,IF(E24<99.9,$U$8,$V$8)))))) -> 14 | Z24: =IF(E24<87.4,$P$9,IF(E24<89.9,$Q$9,IF(E24<92.4,$R$9,IF(E24<94.9,$S$9,IF(E24<97.4,$T$9,IF(E24<99.9,$U$9,$V$9)))))) -> 9.8 | AA24: =IF(E24<87.4,$P$10,IF(E24<89.9,$Q$10,IF(E24<92.4,$R$10,IF(E24<94.9,$S$10,IF(E24<97.4,$T$10,IF(E24<99.9,$U$10,$V$10)))))) -> 7
D25: 5-3 | F25: =IF(E25<85,0,IF((COUNT(E23:E26))=2,Y25,IF((COUNT(E23:E26))=3,Z25,AA25))) -> 0 | J25: =IF(E25<84.9,0,IF(E25<87.4,0.1,IF(E25<89.9,0.15,IF(E25<92.4,0.2,IF(E25<94.9,0.25,IF(E25<97.4,0.3,IF(E25<99.9,0.35,0.4))))))) -> 0 | K25: =I25-J25 -> 0 | Y25: =IF(E25<87.4,$P$8,IF(E25<89.9,$Q$8,IF(E25<92.4,$R$8,IF(E25<94.9,$S$8,IF(E25<97.4,$T$8,IF(E25<99.9,$U$8,$V$8)))))) -> 14 | Z25: =IF(E25<87.4,$P$9,IF(E25<89.9,$Q$9,IF(E25<92.4,$R$9,IF(E25<94.9,$S$9,IF(E25<97.4,$T$9,IF(E25<99.9,$U$9,$V$9)))))) -> 9.8 | AA25: =IF(E25<87.4,$P$10,IF(E25<89.9,$Q$10,IF(E25<92.4,$R$10,IF(E25<94.9,$S$10,IF(E25<97.4,$T$10,IF(E25<99.9,$U$10,$V$10)))))) -> 7
D26: 5-4 | F26: =IF(E26<85,0,IF((COUNT(E23:E26))=2,Y26,IF((COUNT(E23:E26))=3,Z26,AA26))) -> 0 | J26: =IF(E26<84.9,0,IF(E26<87.4,0.1,IF(E26<89.9,0.15,IF(E26<92.4,0.2,IF(E26<94.9,0.25,IF(E26<97.4,0.3,IF(E26<99.9,0.35,0.4))))))) -> 0 | K26: =I26-J26 -> 0 | Y26: =IF(E26<87.4,$P$8,IF(E26<89.9,$Q$8,IF(E26<92.4,$R$8,IF(E26<94.9,$S$8,IF(E26<97.4,$T$8,IF(E26<99.9,$U$8,$V$8)))))) -> 14 | Z26: =IF(E26<87.4,$P$9,IF(E26<89.9,$Q$9,IF(E26<92.4,$R$9,IF(E26<94.9,$S$9,IF(E26<97.4,$T$9,IF(E26<99.9,$U$9,$V$9)))))) -> 9.8 | AA26: =IF(E26<87.4,$P$10,IF(E26<89.9,$Q$10,IF(E26<92.4,$R$10,IF(E26<94.9,$S$10,IF(E26<97.4,$T$10,IF(E26<99.9,$U$10,$V$10)))))) -> 7
A27: 6 | B27: Kozaks | C27: Бахмацкий Олег | D27: 6-1 | E27: 83.1 | F27: =IF(E27<85,0,IF((COUNT(E27:E30))=2,Y27,IF((COUNT(E27:E30))=3,Z27,AA27))) -> 0 | G27: =SUM(F27:F30) -> 19.6 | H27: 69 | I27: 61.216 | J27: =IF(E27<84.9,0,IF(E27<87.4,0.1,IF(E27<89.9,0.15,IF(E27<92.4,0.2,IF(E27<94.9,0.25,IF(E27<97.4,0.3,IF(E27<99.9,0.35,0.4))))))) -> 0 | K27: =I27-J27 -> 61.216 | L27: =AVERAGE(K27,K29) -> 60.821 | M27: =RANK(L27,L7:L42,1) -> 3 | Y27: =IF(E27<87.4,$P$8,IF(E27<89.9,$Q$8,IF(E27<92.4,$R$8,IF(E27<94.9,$S$8,IF(E27<97.4,$T$8,IF(E27<99.9,$U$8,$V$8)))))) -> 14 | Z27: =IF(E27<87.4,$P$9,IF(E27<89.9,$Q$9,IF(E27<92.4,$R$9,IF(E27<94.9,$S$9,IF(E27<97.4,$T$9,IF(E27<99.9,$U$9,$V$9)))))) -> 9.8 | AA27: =IF(E27<87.4,$P$10,IF(E27<89.9,$Q$10,IF(E27<92.4,$R$10,IF(E27<94.9,$S$10,IF(E27<97.4,$T$10,IF(E27<99.9,$U$10,$V$10)))))) -> 7
C28: Петушков Андрей | D28: 6-2 | E28: 77.5 | F28: =IF(E28<85,0,IF((COUNT(E27:E30))=2,Y28,IF((COUNT(E27:E30))=3,Z28,AA28))) -> 0 | J28: =IF(E28<84.9,0,IF(E28<87.4,0.1,IF(E28<89.9,0.15,IF(E28<92.4,0.2,IF(E28<94.9,0.25,IF(E28<97.4,0.3,IF(E28<99.9,0.35,0.4))))))) -> 0 | K28: =I28-J28 -> 0 | Y28: =IF(E28<87.4,$P$8,IF(E28<89.9,$Q$8,IF(E28<92.4,$R$8,IF(E28<94.9,$S$8,IF(E28<97.4,$T$8,IF(E28<99.9,$U$8,$V$8)))))) -> 14 | Z28: =IF(E28<87.4,$P$9,IF(E28<89.9,$Q$9,IF(E28<92.4,$R$9,IF(E28<94.9,$S$9,IF(E28<97.4,$T$9,IF(E28<99.9,$U$9,$V$9)))))) -> 9.8 | AA28: =IF(E28<87.4,$P$10,IF(E28<89.9,$Q$10,IF(E28<92.4,$R$10,IF(E28<94.9,$S$10,IF(E28<97.4,$T$10,IF(E28<99.9,$U$10,$V$10)))))) -> 7
C29: Тыщенко Миша | D29: 6-3 | E29: 90.3 | F29: =IF(E29<85,0,IF((COUNT(E27:E30))=2,Y29,IF((COUNT(E27:E30))=3,Z29,AA29))) -> 19.6 | H29: 21 | I29: 60.426 | K29: =I29-J29 -> 60.426 | Y29: =IF(E29<87.4,$P$8,IF(E29<89.9,$Q$8,IF(E29<92.4,$R$8,IF(E29<94.9,$S$8,IF(E29<97.4,$T$8,IF(E29<99.9,$U$8,$V$8)))))) -> 28 | Z29: =IF(E29<87.4,$P$9,IF(E29<89.9,$Q$9,IF(E29<92.4,$R$9,IF(E29<94.9,$S$9,IF(E29<97.4,$T$9,IF(E29<99.9,$U$9,$V$9)))))) -> 19.6 | AA29: =IF(E29<87.4,$P$10,IF(E29<89.9,$Q$10,IF(E29<92.4,$R$10,IF(E29<94.9,$S$10,IF(E29<97.4,$T$10,IF(E29<99.9,$U$10,$V$10)))))) -> 14
D30: 6-4 | F30: =IF(E30<85,0,IF((COUNT(E27:E30))=2,Y30,IF((COUNT(E27:E30))=3,Z30,AA30))) -> 0 | J30: =IF(E30<84.9,0,IF(E30<87.4,0.1,IF(E30<89.9,0.15,IF(E30<92.4,0.2,IF(E30<94.9,0.25,IF(E30<97.4,0.3,IF(E30<99.9,0.35,0.4))))))) -> 0 | K30: =I30-J30 -> 0 | Y30: =IF(E30<87.4,$P$8,IF(E30<89.9,$Q$8,IF(E30<92.4,$R$8,IF(E30<94.9,$S$8,IF(E30<97.4,$T$8,IF(E30<99.9,$U$8,$V$8)))))) -> 14 | Z30: =IF(E30<87.4,$P$9,IF(E30<89.9,$Q$9,IF(E30<92.4,$R$9,IF(E30<94.9,$S$9,IF(E30<97.4,$T$9,IF(E30<99.9,$U$9,$V$9)))))) -> 9.8 | AA30: =IF(E30<87.4,$P$10,IF(E30<89.9,$Q$10,IF(E30<92.4,$R$10,IF(E30<94.9,$S$10,IF(E30<97.4,$T$10,IF(E30<99.9,$U$10,$V$10)))))) -> 7
A31: 7 | B31: 777 | C31: Бурим Сергей | D31: 7-1 | E31: 63 | F31: =IF(E31<85,0,IF((COUNT(E31:E34))=2,Y31,IF((COUNT(E31:E34))=3,Z31,AA31))) -> 0 | G31: =SUM(F31:F34) -> 34.3 | H31: 1 | I31: 61.442 | J31: =IF(E31<84.9,0,IF(E31<87.4,0.1,IF(E31<89.9,0.15,IF(E31<92.4,0.2,IF(E31<94.9,0.25,IF(E31<97.4,0.3,IF(E31<99.9,0.35,0.4))))))) -> 0 | K31: =I31-J31 -> 61.442 | L31: =AVERAGE(K31:K32) -> 62.208 | M31: =RANK(L31,L7:L42,1) -> 6 | Y31: =IF(E31<87.4,$P$8,IF(E31<89.9,$Q$8,IF(E31<92.4,$R$8,IF(E31<94.9,$S$8,IF(E31<97.4,$T$8,IF(E31<99.9,$U$8,$V$8)))))) -> 14 | Z31: =IF(E31<87.4,$P$9,IF(E31<89.9,$Q$9,IF(E31<92.4,$R$9,IF(E31<94.9,$S$9,IF(E31<97.4,$T$9,IF(E31<99.9,$U$9,$V$9)))))) -> 9.8 | AA31: =IF(E31<87.4,$P$10,IF(E31<89.9,$Q$10,IF(E31<92.4,$R$10,IF(E31<94.9,$S$10,IF(E31<97.4,$T$10,IF(E31<99.9,$U$10,$V$10)))))) -> 7
C32: Ерофеев Денис | D32: 7-2 | E32: 97.6 | F32: =IF(E32<85,0,IF((COUNT(E31:E34))=2,Y32,IF((COUNT(E31:E34))=3,Z32,AA32))) -> 34.3 | H32: 1 | I32: 62.974 | K32: =I32-J32 -> 62.974 | Y32: =IF(E32<87.4,$P$8,IF(E32<89.9,$Q$8,IF(E32<92.4,$R$8,IF(E32<94.9,$S$8,IF(E32<97.4,$T$8,IF(E32<99.9,$U$8,$V$8)))))) -> 49 | Z32: =IF(E32<87.4,$P$9,IF(E32<89.9,$Q$9,IF(E32<92.4,$R$9,IF(E32<94.9,$S$9,IF(E32<97.4,$T$9,IF(E32<99.9,$U$9,$V$9)))))) -> 34.3 | AA32: =IF(E32<87.4,$P$10,IF(E32<89.9,$Q$10,IF(E32<92.4,$R$10,IF(E32<94.9,$S$10,IF(E32<97.4,$T$10,IF(E32<99.9,$U$10,$V$10)))))) -> 24.5
C33: Сериченко Мария | D33: 7-3 | E33: 65.6 | F33: =IF(E33<85,0,IF((COUNT(E31:E34))=2,Y33,IF((COUNT(E31:E34))=3,Z33,AA33))) -> 0 | J33: =IF(E33<84.9,0,IF(E33<87.4,0.1,IF(E33<89.9,0.15,IF(E33<92.4,0.2,IF(E33<94.9,0.25,IF(E33<97.4,0.3,IF(E33<99.9,0.35,0.4))))))) -> 0 | K33: =I33-J33 -> 0 | Y33: =IF(E33<87.4,$P$8,IF(E33<89.9,$Q$8,IF(E33<92.4,$R$8,IF(E33<94.9,$S$8,IF(E33<97.4,$T$8,IF(E33<99.9,$U$8,$V$8)))))) -> 14 | Z33: =IF(E33<87.4,$P$9,IF(E33<89.9,$Q$9,IF(E33<92.4,$R$9,IF(E33<94.9,$S$9,IF(E33<97.4,$T$9,IF(E33<99.9,$U$9,$V$9)))))) -> 9.8 | AA33: =IF(E33<87.4,$P$10,IF(E33<89.9,$Q$10,IF(E33<92.4,$R$10,IF(E33<94.9,$S$10,IF(E33<97.4,$T$10,IF(E33<99.9,$U$10,$V$10)))))) -> 7
D34: 7-4 | F34: =IF(E34<85,0,IF((COUNT(E31:E34))=2,Y34,IF((COUNT(E31:E34))=3,Z34,AA34))) -> 0 | J34: =IF(E34<84.9,0,IF(E34<87.4,0.1,IF(E34<89.9,0.15,IF(E34<92.4,0.2,IF(E34<94.9,0.25,IF(E34<97.4,0.3,IF(E34<99.9,0.35,0.4))))))) -> 0 | K34: =I34-J34 -> 0 | Y34: =IF(E34<87.4,$P$8,IF(E34<89.9,$Q$8,IF(E34<92.4,$R$8,IF(E34<94.9,$S$8,IF(E34<97.4,$T$8,IF(E34<99.9,$U$8,$V$8)))))) -> 14 | Z34: =IF(E34<87.4,$P$9,IF(E34<89.9,$Q$9,IF(E34<92.4,$R$9,IF(E34<94.9,$S$9,IF(E34<97.4,$T$9,IF(E34<99.9,$U$9,$V$9)))))) -> 9.8 | AA34: =IF(E34<87.4,$P$10,IF(E34<89.9,$Q$10,IF(E34<92.4,$R$10,IF(E34<94.9,$S$10,IF(E34<97.4,$T$10,IF(E34<99.9,$U$10,$V$10)))))) -> 7
A35: 8 | B35: K44 | C35: Пикулин Павел | D35: 8-1 | E35: 78.1 | F35: =IF(E35<85,0,IF((COUNT(E35:E38))=2,Y35,IF((COUNT(E35:E38))=3,Z35,AA35))) -> 0 | G35: =SUM(F35:F38) -> 0 | H35: 1 | I35: 60.18 | J35: =IF(E35<84.9,0,IF(E35<87.4,0.1,IF(E35<89.9,0.15,IF(E35<92.4,0.2,IF(E35<94.9,0.25,IF(E35<97.4,0.3,IF(E35<99.9,0.35,0.4))))))) -> 0 | K35: =I35-J35 -> 60.18 | L35: =AVERAGE(K35,K37) -> 60.4185 | M35: =RANK(L35,L7:L42,1) -> 1 | Y35: =IF(E35<87.4,$P$8,IF(E35<89.9,$Q$8,IF(E35<92.4,$R$8,IF(E35<94.9,$S$8,IF(E35<97.4,$T$8,IF(E35<99.9,$U$8,$V$8)))))) -> 14 | Z35: =IF(E35<87.4,$P$9,IF(E35<89.9,$Q$9,IF(E35<92.4,$R$9,IF(E35<94.9,$S$9,IF(E35<97.4,$T$9,IF(E35<99.9,$U$9,$V$9)))))) -> 9.8 | AA35: =IF(E35<87.4,$P$10,IF(E35<89.9,$Q$10,IF(E35<92.4,$R$10,IF(E35<94.9,$S$10,IF(E35<97.4,$T$10,IF(E35<99.9,$U$10,$V$10)))))) -> 7
C36: Ткаченко Кирилл | D36: 8-2 | E36: 78.8 | F36: =IF(E36<85,0,IF((COUNT(E35:E38))=2,Y36,IF((COUNT(E35:E38))=3,Z36,AA36))) -> 0 | J36: =IF(E36<84.9,0,IF(E36<87.4,0.1,IF(E36<89.9,0.15,IF(E36<92.4,0.2,IF(E36<94.9,0.25,IF(E36<97.4,0.3,IF(E36<99.9,0.35,0.4))))))) -> 0 | K36: =I36-J36 -> 0 | Y36: =IF(E36<87.4,$P$8,IF(E36<89.9,$Q$8,IF(E36<92.4,$R$8,IF(E36<94.9,$S$8,IF(E36<97.4,$T$8,IF(E36<99.9,$U$8,$V$8)))))) -> 14 | Z36: =IF(E36<87.4,$P$9,IF(E36<89.9,$Q$9,IF(E36<92.4,$R$9,IF(E36<94.9,$S$9,IF(E36<97.4,$T$9,IF(E36<99.9,$U$9,$V$9)))))) -> 9.8 | AA36: =IF(E36<87.4,$P$10,IF(E36<89.9,$Q$10,IF(E36<92.4,$R$10,IF(E36<94.9,$S$10,IF(E36<97.4,$T$10,IF(E36<99.9,$U$10,$V$10)))))) -> 7
C37: Хавило Дима | D37: 8-3 | E37: 69 | F37: =IF(E37<85,0,IF((COUNT(E35:E38))=2,Y37,IF((COUNT(E35:E38))=3,Z37,AA37))) -> 0 | H37: 2 | I37: 60.657 | J37: =IF(E37<84.9,0,IF(E37<87.4,0.1,IF(E37<89.9,0.15,IF(E37<92.4,0.2,IF(E37<94.9,0.25,IF(E37<97.4,0.3,IF(E37<99.9,0.35,0.4))))))) -> 0 | K37: =I37-J37 -> 60.657 | Y37: =IF(E37<87.4,$P$8,IF(E37<89.9,$Q$8,IF(E37<92.4,$R$8,IF(E37<94.9,$S$8,IF(E37<97.4,$T$8,IF(E37<99.9,$U$8,$V$8)))))) -> 14 | Z37: =IF(E37<87.4,$P$9,IF(E37<89.9,$Q$9,IF(E37<92.4,$R$9,IF(E37<94.9,$S$9,IF(E37<97.4,$T$9,IF(E37<99.9,$U$9,$V$9)))))) -> 9.8 | AA37: =IF(E37<87.4,$P$10,IF(E37<89.9,$Q$10,IF(E37<92.4,$R$10,IF(E37<94.9,$S$10,IF(E37<97.4,$T$10,IF(E37<99.9,$U$10,$V$10)))))) -> 7
D38: 8-4 | F38: =IF(E38<85,0,IF((COUNT(E35:E38))=2,Y38,IF((COUNT(E35:E38))=3,Z38,AA38))) -> 0 | J38: =IF(E38<84.9,0,IF(E38<87.4,0.1,IF(E38<89.9,0.15,IF(E38<92.4,0.2,IF(E38<94.9,0.25,IF(E38<97.4,0.3,IF(E38<99.9,0.35,0.4))))))) -> 0 | K38: =I38-J38 -> 0 | Y38: =IF(E38<87.4,$P$8,IF(E38<89.9,$Q$8,IF(E38<92.4,$R$8,IF(E38<94.9,$S$8,IF(E38<97.4,$T$8,IF(E38<99.9,$U$8,$V$8)))))) -> 14 | Z38: =IF(E38<87.4,$P$9,IF(E38<89.9,$Q$9,IF(E38<92.4,$R$9,IF(E38<94.9,$S$9,IF(E38<97.4,$T$9,IF(E38<99.9,$U$9,$V$9)))))) -> 9.8 | AA38: =IF(E38<87.4,$P$10,IF(E38<89.9,$Q$10,IF(E38<92.4,$R$10,IF(E38<94.9,$S$10,IF(E38<97.4,$T$10,IF(E38<99.9,$U$10,$V$10)))))) -> 7
A39: 10 | B39: Flash | C39: Загорулько Иван | D39: 10-1 | E39: 97.4 | F39: =IF(E39<85,0,IF((COUNT(E39:E42))=2,Y39,IF((COUNT(E39:E42))=3,Z39,AA39))) -> 49 | G39: =SUM(F39:F42) -> 49 | H39: 10 | I39: 61.404 | K39: =I39-J39 -> 61.404 | L39: =AVERAGE(K39:K40) -> 63.712 | M39: =RANK(L39,L7:L42,1) -> 9 | Y39: =IF(E39<87.4,$P$8,IF(E39<89.9,$Q$8,IF(E39<92.4,$R$8,IF(E39<94.9,$S$8,IF(E39<97.4,$T$8,IF(E39<99.9,$U$8,$V$8)))))) -> 49 | Z39: =IF(E39<87.4,$P$9,IF(E39<89.9,$Q$9,IF(E39<92.4,$R$9,IF(E39<94.9,$S$9,IF(E39<97.4,$T$9,IF(E39<99.9,$U$9,$V$9)))))) -> 34.3 | AA39: =IF(E39<87.4,$P$10,IF(E39<89.9,$Q$10,IF(E39<92.4,$R$10,IF(E39<94.9,$S$10,IF(E39<97.4,$T$10,IF(E39<99.9,$U$10,$V$10)))))) -> 24.5
C40: Черников Леша | D40: 10-2 | E40: 61 | F40: =IF(E40<85,0,IF((COUNT(E39:E42))=2,Y40,IF((COUNT(E39:E42))=3,Z40,AA40))) -> 0 | H40: 13 | I40: 66.02 | J40: =IF(E40<84.9,0,IF(E40<87.4,0.1,IF(E40<89.9,0.15,IF(E40<92.4,0.2,IF(E40<94.9,0.25,IF(E40<97.4,0.3,IF(E40<99.9,0.35,0.4))))))) -> 0 | K40: =I40-J40 -> 66.02 | Y40: =IF(E40<87.4,$P$8,IF(E40<89.9,$Q$8,IF(E40<92.4,$R$8,IF(E40<94.9,$S$8,IF(E40<97.4,$T$8,IF(E40<99.9,$U$8,$V$8)))))) -> 14 | Z40: =IF(E40<87.4,$P$9,IF(E40<89.9,$Q$9,IF(E40<92.4,$R$9,IF(E40<94.9,$S$9,IF(E40<97.4,$T$9,IF(E40<99.9,$U$9,$V$9)))))) -> 9.8 | AA40: =IF(E40<87.4,$P$10,IF(E40<89.9,$Q$10,IF(E40<92.4,$R$10,IF(E40<94.9,$S$10,IF(E40<97.4,$T$10,IF(E40<99.9,$U$10,$V$10)))))) -> 7
D41: 10-3 | F41: =IF(E41<85,0,IF((COUNT(E39:E42))=2,Y41,IF((COUNT(E39:E42))=3,Z41,AA41))) -> 0 | J41: =IF(E41<84.9,0,IF(E41<87.4,0.1,IF(E41<89.9,0.15,IF(E41<92.4,0.2,IF(E41<94.9,0.25,IF(E41<97.4,0.3,IF(E41<99.9,0.35,0.4))))))) -> 0 | K41: =I41-J41 -> 0 | Y41: =IF(E41<87.4,$P$8,IF(E41<89.9,$Q$8,IF(E41<92.4,$R$8,IF(E41<94.9,$S$8,IF(E41<97.4,$T$8,IF(E41<99.9,$U$8,$V$8)))))) -> 14 | Z41: =IF(E41<87.4,$P$9,IF(E41<89.9,$Q$9,IF(E41<92.4,$R$9,IF(E41<94.9,$S$9,IF(E41<97.4,$T$9,IF(E41<99.9,$U$9,$V$9)))))) -> 9.8 | AA41: =IF(E41<87.4,$P$10,IF(E41<89.9,$Q$10,IF(E41<92.4,$R$10,IF(E41<94.9,$S$10,IF(E41<97.4,$T$10,IF(E41<99.9,$U$10,$V$10)))))) -> 7
D42: 10-4 | F42: =IF(E42<85,0,IF((COUNT(E39:E42))=2,Y42,IF((COUNT(E39:E42))=3,Z42,AA42))) -> 0 | J42: =IF(E42<84.9,0,IF(E42<87.4,0.1,IF(E42<89.9,0.15,IF(E42<92.4,0.2,IF(E42<94.9,0.25,IF(E42<97.4,0.3,IF(E42<99.9,0.35,0.4))))))) -> 0 | K42: =I42-J42 -> 0 | Y42: =IF(E42<87.4,$P$8,IF(E42<89.9,$Q$8,IF(E42<92.4,$R$8,IF(E42<94.9,$S$8,IF(E42<97.4,$T$8,IF(E42<99.9,$U$8,$V$8)))))) -> 14 | Z42: =IF(E42<87.4,$P$9,IF(E42<89.9,$Q$9,IF(E42<92.4,$R$9,IF(E42<94.9,$S$9,IF(E42<97.4,$T$9,IF(E42<99.9,$U$9,$V$9)))))) -> 9.8 | AA42: =IF(E42<87.4,$P$10,IF(E42<89.9,$Q$10,IF(E42<92.4,$R$10,IF(E42<94.9,$S$10,IF(E42<97.4,$T$10,IF(E42<99.9,$U$10,$V$10)))))) -> 7
...

Sheet K44
A2: Чемпионат мини марафон "Большие Гонки", Гранд-Финал
A4: K44
A6: Обяза-тельные | B6: Пилот | C6: карт | D6: Круг | E6: кругов на отрезке | F6: Статистика по кругам | I6: Общее время гонки | J6: Время на трассе | L6: Питы | M6: Штрафы/ бонусы (сек)
F7: Лучший круг | G7: Среднее на отрезке | H7: стабильность | J7: отрезок | K7: всего у пилота
A8: 1 | B8: Пикулин Паша | C8: 69 | D8: =COUNTA(C28:C92) -> 17 | E8: =COUNTA(C28:C92) -> 17 | F8: =MIN(C28:C91) -> 59.917 | G8: =AVERAGE(C28:C94) -> 60.6 | H8: =G8-F8 -> 0.683 | I8: 0.012662037 | J8: =I8 -> 0.012662037 | K8: =J8 -> 0.012662037 | L8: 158.067
A9: 2 | B9: Хавило Дима | C9: 8 | D9: =COUNTA(D28:D92)+D8+1 -> 38 | E9: =COUNTA(D28:D92)+1 -> 21 | F9: =MIN(D28:D91) -> 59.67 | G9: =AVERAGE(D28:D93) -> 60.6623 | H9: =G9-F9 -> 0.9923 | I9: 0.028518519 | J9: =I9-I8 -> 0.015856481 | K9: =J9 -> 0.015856481 | L9: 158.263
A10: 3 | B10: Хавило Дима | C10: 9 | D10: =COUNTA(E28:E92)+D9+1 -> 81 | E10: =COUNTA(E28:E92)+1 -> 43 | F10: =MIN(E28:E93) -> 58.195 | G10: =AVERAGE(E28:E94) -> 59.184643 | H10: =G10-F10 -> 0.98964286 | I10: 0.059108796 | J10: =I10-I9 -> 0.030590278 | K10: =J10+K9 -> 0.046446759 | L10: 162.157 | M10: +5 | N10: провоз 3
A11: 4 | B11: Хавило Дима | C11: 6 | D11: =COUNTA(F28:F92)+D10+1 -> 103 | E11: =COUNTA(F28:F92)+1 -> 22 | F11: =MIN(F28:F93) -> 59.724 | G11: =AVERAGE(F28:F93) -> 60.37319 | H11: =G11-F11 -> 0.64919048 | I11: 0.075671296 | J11: =I11-I10 -> 0.0165625 | K11: =J11+K10 -> 0.063009259 | L11: 158.441
A12: 5 | B12: Хавило Дима | C12: 2 | D12: =COUNTA(G28:G92)+D11+1 -> 146 | E12: =COUNTA(G28:G92)+1 -> 43 | F12: =MIN(G28:G93) -> 59.019 | G12: =AVERAGE(G28:G893) -> 59.910881 | H12: =G12-F12 -> 0.89188095 | I12: 0.10664352 | J12: =I12-I11 -> 0.030972222 | K12: =J12+K11 -> 0.093981481 | L12: 159.173
A13: 6 | B13: Пикулин Паша | C13: 7 | D13: =COUNTA(H28:H92)+D12+1 -> 182 | E13: =COUNTA(H28:H92)+1 -> 36 | F13: =MIN(H28:H93) -> 59.835 | G13: =AVERAGE(H28:H93) -> 60.7046 | H13: =G13-F13 -> 0.8696 | I13: 0.1330787 | J13: =I13-I12 -> 0.026435185 | K13: =J13+K8 -> 0.039097222 | L13: 158.604
A14: 7 | B14: Пикулин Паша | C14: 44 | D14: =COUNTA(I28:I92)+D13+1 -> 201 | E14: =COUNTA(I28:I92)+1 -> 19 | F14: =MIN(I28:I93) -> 58.98 | G14: =AVERAGE(I28:I93) -> 59.751722 | H14: =G14-F14 -> 0.77172222 | I14: 0.14733796 | J14: =I14-I13 -> 0.014259259 | K14: =J14+K13 -> 0.053356481 | L14: 157.164
A15: 8 | B15: Пикулин Паша | C15: 10 | D15: =COUNTA(J28:J92)+D14+1 -> 239 | E15: =COUNTA(J28:J92)+1 -> 38 | F15: =MIN(J28:J93) -> 59.509 | G15: =AVERAGE(J28:J93) -> 60.221541 | H15: =G9-F9 -> 0.9923 | I15: 0.17496528 | J15: =I15-I14 -> 0.027627315 | K15: =J15+K14 -> 0.080983796 | L15: 157.933
A16: 9 | B16: Ткаченко Кирилл | C16: 9 | D16: =COUNTA(K28:K92)+D15+1 -> 267 | E16: =COUNTA(K28:K92)+1 -> 28 | F16: =MIN(K28:K93) -> 59.338 | G16: =AVERAGE(K28:K93) -> 59.930519 | H16: =G10-F10 -> 0.98964286 | I16: 0.19552083 | J16: =I16-I15 -> 0.020555556 | K16: =J16 -> 0.020555556 | L16: 157.304
A17: 10 | B17: Ткаченко Кирилл | C17: 10 | D17: =COUNTA(L28:L92)+D16+1 -> 292 | E17: =COUNTA(L28:L92)+1 -> 25 | F17: =MIN(L28:L93) -> 60.218 | G17: =AVERAGE(L28:L93) -> 60.930833 | H17: =G11-F11 -> 0.64919048 | I17: 0.21424769 | J17: =I17-I16 -> 0.018726852 | K17: =J17+K16 -> 0.039282407 | L17: 157.374
A18: 11 | B18: Пикулин Паша | C18: 2 | D18: =COUNTA(M28:M92)+D17+1 -> 312 | E18: =COUNTA(M28:M92)+1 -> 20 | F18: =MIN(M28:M93) -> 58.362 | G18: =AVERAGE(M28:M93) -> 59.415211 | H18: =G12-F12 -> 0.89188095 | I18: 0.22878472 | J18: =I18-I17 -> 0.014537037 | K18: =J18+K15 -> 0.095520833 | L18: 156.683
A19: 12 | B19: Ткаченко Кирилл | C19: 44 | D19: =COUNTA(N28:N92)+D18+1 -> 343 | E19: =COUNTA(N28:N92)+1 -> 31 | F19: =MIN(N28:N93) -> 59.26 | G19: =AVERAGE(N28:N93) -> 59.945167 | H19: =G13-F13 -> 0.8696 | I19: 0.25177083 | J19: =I19-I18 -> 0.022986111 | K19: =J19+K17 -> 0.062268519 | L19: 157.922
A20: 13 | B20: Ткаченко Кирилл | C20: 5 | D20: =COUNTA(O28:O92)+D19+1 -> 358 | E20: =COUNTA(O28:O92)+1 -> 15 | F20: =MIN(O28:O93) -> 59.803 | G20: =AVERAGE(O28:O93) -> 60.564286 | H20: =G14-F14 -> 0.77172222 | I20: 0.26342593 | J20: =I20-I19 -> 0.011655093 | K20: =J20+K19 -> 0.073923611 | L20: 156.617
A21: Финиш | B21: Ткаченко Кирилл | C21: 69 | D21: =COUNTA(P28:P92)+D20+1 -> 399 | E21: =COUNTA(P28:P92)+1 -> 41 | F21: =MIN(P28:P93) -> 58.617 | G21: =AVERAGE(P28:P93) -> 59.85495 | H21: =G15-F15 -> 0.71254054 | I21: ='Общие результаты'!G6 -> 7:00:46 | J21: =I21-I20 -> 0.028773148 | K21: =J21+K20 -> 0.10269676
F22: =AVERAGE(F8,F13:F15,F18) -> 59.3206 | G22: =AVERAGE(C28:C92,H28:J92,M28:M92) -> 60.218079 | H22: =AVERAGE(H8,H13:H15,H18) -> 0.84170063 | I22: Паша
F23: =AVERAGE(F9:F12) -> 59.152 | G23: =AVERAGE(D28:G92) -> 59.86476 | H23: =AVERAGE(H9:H12) -> 0.88075357 | I23: Дима
F24: =AVERAGE(F16:F17,F19:F21) -> 59.4472 | G24: =AVERAGE(N28:P92,K28:L92) -> 60.154941 | H24: =AVERAGE(H16:H17,H19:H21) -> 0.79853922 | I24: Кирилл
F25: =AVERAGE(F8:F21) -> 59.317643 | G25: =AVERAGE(C28:P100) -> 60.08158 | H25: =AVERAGE(H8:H21) -> 0.83744383
C27: =B8 -> Пикулин Паша | D27: =B9 -> Хавило Дима | E27: =B10 -> Хавило Дима | F27: =B11 -> Хавило Дима | G27: =B12 -> Хавило Дима | H27: =B13 -> Пикулин Паша | I27: =B14 -> Пикулин Паша | J27: =B15 -> Пикулин Паша | K27: =B16 -> Ткаченко Кирилл | L27: =B17 -> Ткаченко Кирилл | M27: =B18 -> Пикулин Паша | N27: =B19 -> Ткаченко Кирилл | O27: =B20 -> Ткаченко Кирилл | P27: =B21 -> Ткаченко Кирилл
B28: 1 | C28: 61.005 | D28: 62.823 | E28: 59.339 | F28: 60.527 | G28: 59.655 | H28: 60.949 | I28: 60.215 | J28: 61.902 | K28: 59.935 | L28: 60.987 | M28: 59.483 | N28: 60.131 | O28: 60.106 | P28: 59.819
B29: 2 | C29: 59.917 | D29: 61.027 | E29: 60.484 | F29: 60.354 | G29: 60.108 | H29: 60.948 | I29: 60.073 | J29: 60.792 | K29: 60.098 | L29: 60.854 | M29: 59.379 | N29: 60.031 | O29: 61.43 | P29: 59.871
B30: 3 | C30: 60.773 | D30: 61.171 | E30: 59.128 | F30: 60.533 | G30: 59.473 | H30: 60.566 | I30: 59.449 | J30: 60.447 | K30: 59.876 | L30: 61.051 | M30: 60.257 | N30: 59.931 | O30: 62.547 | P30: 59.455
B31: 4 | C31: 60.703 | D31: 60.72 | E31: 60.161 | F31: 60.638 | G31: 59.559 | H31: 60.095 | I31: 60.066 | J31: 60.852 | K31: 59.895 | L31: 60.892 | M31: 59.726 | N31: 59.813 | O31: 60.528 | P31: 60.015
B32: 5 | C32: 60.418 | D32: 60.899 | E32: 58.778 | F32: 59.983 | G32: 60.212 | H32: 59.991 | I32: 59.735 | J32: 60.321 | K32: 60.028 | L32: 60.868 | M32: 59.19 | N32: 59.748 | O32: 59.822 | P32: 60.137
B33: 6 | C33: 60.215 | D33: 60.977 | E33: 59.425 | F33: 60.424 | G33: 60.02 | H33: 60.104 | I33: 59.758 | J33: 60.239 | K33: 60.014 | L33: 61.189 | M33: 58.362 | N33: 60.304 | O33: 60.577 | P33: 60.454
B34: 7 | C34: 60.365 | D34: 60.622 | E34: 59.335 | F34: 60.71 | G34: 59.545 | H34: 61.248 | I34: 59.642 | J34: 59.916 | K34: 60.773 | L34: 60.867 | M34: 59.972 | N34: 59.987 | O34: 60.845 | P34: 60.551
B35: 8 | C35: 60.59 | D35: 60.285 | E35: 58.944 | F35: 59.775 | G35: 59.671 | H35: 61.154 | I35: 60.028 | J35: 60.84 | K35: 60.187 | L35: 61.173 | M35: 59.403 | N35: 60.187 | O35: 59.954 | P35: 60.137
B36: 9 | C36: 60.579 | D36: 60.129 | E36: 59.33 | F36: 59.867 | G36: 59.594 | H36: 61.921 | I36: 59.508 | J36: 60.285 | K36: 59.847 | L36: 61.246 | M36: 59.261 | N36: 60.002 | O36: 60.084 | P36: 60.721
B37: 10 | C37: 60.459 | D37: 60.799 | E37: 60.317 | F37: 60.958 | G37: 59.856 | H37: 63.662 | I37: 58.98 | J37: 60.354 | K37: 59.861 | L37: 61.487 | M37: 59.14 | N37: 59.75 | O37: 60.066 | P37: 60.159
B38: 11 | C38: 60.471 | D38: 60.18 | E38: 59.503 | F38: 59.724 | G38: 60.024 | H38: 63.119 | I38: 59.578 | J38: 60.27 | K38: 60.492 | L38: 60.955 | M38: 58.947 | N38: 59.646 | O38: 61.091 | P38: 59.591
B39: 12 | C39: 60.865 | D39: 60.528 | E39: 58.542 | F39: 60.086 | G39: 59.817 | H39: 60.625 | I39: 59.404 | J39: 60.296 | K39: 59.461 | L39: 61.116 | M39: 59.461 | N39: 60.061 | O39: 61.043 | P39: 60.24
... B41: 14 | C41: 60.876 | D41: 60.629 | E41: 58.921 | F41: 60.33 | G41: 59.555 | H41: 60.316 | I41: 60.393 | J41: 59.947 | K41: 59.636 | L41: 60.878 | M41: 59.249 | N41: 59.286 | O41: 60.004 | P41: 59.609
B42: 15 | C42: 60.499 | D42: 60.686 | E42: 60.476 | F42: 60.435 | G42: 59.807 | H42: 59.97 | I42: 59.937 | J42: 61.109 | K42: 59.554 | L42: 60.566 | M42: 58.849 | N42: 60.159 | P42: 59.819
B43: 16 | C43: 60.775 | D43: 60.512 | E43: 60.556 | F43: 60.507 | G43: 59.728 | H43: 60.578 | I43: 59.248 | J43: 60.123 | K43: 59.493 | L43: 61.008 | M43: 59.344 | N43: 59.666 | P43: 59.767
B44: 17 | C44: 61.281 | D44: 60.43 | E44: 60.36 | F44: 60.7 | G44: 59.803 | H44: 61.374 | I44: 60.064 | J44: 60.361 | K44: 59.775 | L44: 60.831 | M44: 59.802 | N44: 59.336 | P44: 59.845
B45: 18 | D45: 59.67 | E45: 60.292 | F45: 60.717 | G45: 60.015 | H45: 60.456 | I45: 59.946 | J45: 60.092 | K45: 59.338 | L45: 61.182 | M45: 60.038 | N45: 60.34 | P45: 59.793
...

Sheet NFS Kozaks
A2: Чемпионат мини марафон "Большие Гонки", Гранд-Финал
A4: NFS Kozaks
A6: Обяза-тельные | B6: Пилот | C6: карт | D6: Круг | E6: кругов на отрезке | F6: Статистика по кругам | I6: Общее время гонки | J6: Время на трассе | L6: Питы | M6: Штрафы/ бонусы (сек)
F7: Лучший круг | G7: Среднее на отрезке | H7: стабильность | J7: отрезок | K7: всего у пилота
A8: 1 | B8: Петушков Андрей | C8: 13 | D8: =COUNTA(C28:C92) -> 15 | E8: =COUNTA(C28:C92) -> 15 | F8: =MIN(C28:C91) -> 61.082 | G8: =AVERAGE(C28:C94) -> 61.697667 | H8: =G8-F8 -> 0.61566667 | I8: 0.011469907 | J8: =I8 -> 0.011469907 | K8: =J8 -> 0.011469907 | L8: 160.533
A9: 2 | B9: Петушков Андрей | C9: 6 | D9: =COUNTA(D28:D92)+D8+1 -> 30 | E9: =COUNTA(D28:D92)+1 -> 15 | F9: =MIN(D28:D91) -> 61.953 | G9: =AVERAGE(D28:D93) -> 62.538286 | H9: =G9-F9 -> 0.58528571 | I9: 0.023449074 | J9: =I9-I8 -> 0.011979167 | K9: =J9+K8 -> 0.023449074 | L9: 160.004
A10: 3 | B10: Тыщенко Миша | C10: 44 | D10: =COUNTA(E28:E92)+D9+1 -> 69 | E10: =COUNTA(E28:E92)+1 -> 39 | F10: =MIN(E28:E93) -> 58.665 | G10: =AVERAGE(E28:E94) -> 60.184816 | H10: =G10-F10 -> 1.5198158 | I10: 0.051736111 | J10: =I10-I9 -> 0.028287037 | K10: =J10 -> 0.028287037 | L10: 157.044
A11: 4 | B11: Тыщенко Миша | C11: 1 | D11: =COUNTA(F28:F92)+D10+1 -> 102 | E11: =COUNTA(F28:F92)+1 -> 33 | F11: =MIN(F28:F93) -> 59.142 | G11: =AVERAGE(F28:F93) -> 59.833094 | H11: =G11-F11 -> 0.69109375 | I11: 0.075717593 | J11: =I11-I10 -> 0.023981481 | K11: =J11+K10 -> 0.052268519 | L11: 156.829
A12: 5 | B12: Тыщенко Миша | C12: 8 | D12: =COUNTA(G28:G92)+D11+1 -> 119 | E12: =COUNTA(G28:G92)+1 -> 17 | F12: =MIN(G28:G93) -> 59.517 | G12: =AVERAGE(G28:G893) -> 60.409875 | H12: =G12-F12 -> 0.892875 | I12: 0.088726852 | J12: =I12-I11 -> 0.013009259 | K12: =J12+K11 -> 0.065277778 | L12: 157.212
A13: 6 | B13: Петушков Андрей | C13: 4 | D13: =COUNTA(H28:H92)+D12+1 -> 144 | E13: =COUNTA(H28:H92)+1 -> 25 | F13: =MIN(H28:H93) -> 60.796 | G13: =AVERAGE(H28:H93) -> 61.457542 | H13: =G13-F13 -> 0.66154167 | I13: 0.10765046 | J13: =I13-I12 -> 0.018923611 | K13: =J13+K9 -> 0.042372685 | L13: 159.825
A14: 7 | B14: Тыщенко Миша | C14: 2 | D14: =COUNTA(I28:I92)+D13+1 -> 179 | E14: =COUNTA(I28:I92)+1 -> 35 | F14: =MIN(I28:I93) -> 59.271 | G14: =AVERAGE(I28:I93) -> 59.838118 | H14: =G14-F14 -> 0.56711765 | I14: 0.13302083 | J14: =I14-I13 -> 0.02537037 | K14: =J14+K12 -> 0.090648148 | L14: 156.875
A15: 8 | B15: Тыщенко Миша | C15: 1 | D15: =COUNTA(J28:J92)+D14+1 -> 192 | E15: =COUNTA(J28:J92)+1 -> 13 | F15: =MIN(J28:J93) -> 59.701 | G15: =AVERAGE(J28:J93) -> 60.022 | H15: =G9-F9 -> 0.58528571 | I15: 0.14315972 | J15: =I15-I14 -> 0.010138889 | K15: =J15+K14 -> 0.10078704 | L15: 161.54 | M15: +5 | N15: лимит
A16: 9 | B16: Бахмацкий Олег | C16: 11 | D16: =COUNTA(K28:K92)+D15+1 -> 235 | E16: =COUNTA(K28:K92)+1 -> 43 | F16: =MIN(K28:K93) -> 59.738 | G16: =AVERAGE(K28:K93) -> 60.662286 | H16: =G10-F10 -> 1.5198158 | I16: 0.17452546 | J16: =I16-I15 -> 0.031365741 | K16: =J16 -> 0.031365741 | L16: 157.489
A17: 10 | B17: Бахмацкий Олег | C17: 5 | D17: =COUNTA(L28:L92)+D16+1 -> 265 | E17: =COUNTA(L28:L92)+1 -> 30 | F17: =MIN(L28:L93) -> 60.296 | G17: =AVERAGE(L28:L93) -> 60.906414 | H17: =G11-F11 -> 0.69109375 | I17: 0.19679398 | J17: =I17-I16 -> 0.022268519 | K17: =J17+K16 -> 0.053634259 | L17: 163.162 | M17: +5 | N17: лимит
A18: 11 | B18: Бахмацкий Олег | C18: 9 | D18: =COUNTA(M28:M92)+D17+1 -> 308 | E18: =COUNTA(M28:M92)+1 -> 43 | F18: =MIN(M28:M93) -> 58.412 | G18: =AVERAGE(M28:M93) -> 59.761429 | H18: =G12-F12 -> 0.892875 | I18: 0.22758102 | J18: =I18-I17 -> 0.030787037 | K18: =J18+K17 -> 0.084421296 | L18: 156.423
A19: 12 | B19: Петушков Андрей | C19: 6 | D19: =COUNTA(N28:N92)+D18+1 -> 338 | E19: =COUNTA(N28:N92)+1 -> 30 | F19: =MIN(N28:N93) -> 59.783 | G19: =AVERAGE(N28:N93) -> 60.663276 | H19: =G13-F13 -> 0.66154167 | I19: 0.24980324 | J19: =I19-I18 -> 0.022222222 | K19: =J19+K13 -> 0.064594907 | L19: 159.129
A20: 13 | B20: Бахмацкий Олег | C20: 7 | D20: =COUNTA(O28:O92)+D19+1 -> 357 | E20: =COUNTA(O28:O92)+1 -> 19 | F20: =MIN(O28:O93) -> 59.588 | G20: =AVERAGE(O28:O93) -> 60.368667 | H20: =G14-F14 -> 0.56711765 | I20: 0.26418981 | J20: =I20-I19 -> 0.014386574 | K20: =J20+K18 -> 0.09880787 | L20: 159.533
A21: Финиш | B21: Петушков Андрей | C21: 8 | D21: =COUNTA(P28:P92)+D20+1 -> 397 | E21: =COUNTA(P28:P92)+1 -> 40 | F21: =MIN(P28:P93) -> 59.096 | G21: =AVERAGE(P28:P93) -> 59.960154 | H21: =G15-F15 -> 0.321 | I21: ='Общие результаты'!G6 -> 7:00:46 | J21: =I21-I20 -> 0.028009259 | K21: =J21+K19 -> 0.092604167
F22: =AVERAGE(F8:F9,F13,F19,F21) -> 60.542 | G22: =AVERAGE(C28:D92,H28:H92,N28:N92,P28:P92) -> 60.939364 | H22: =AVERAGE(H8:H9,H13,H19,H21) -> 0.56900714 | I22: Андрей
F23: =AVERAGE(F10:F12,F14:F15) -> 59.2592 | G23: =AVERAGE(E28:G92,I28:J92) -> 60.022727 | H23: =AVERAGE(H10:H12,H14:H15) -> 0.85123758 | I23: Миша
F24: =AVERAGE(F20,F16:F18) -> 59.5085 | G24: =AVERAGE(K28:M92,O28:O92) -> 60.38716 | H24: =AVERAGE(H20,H16:H18) -> 0.91772555 | I24: Олег
F25: =AVERAGE(F8:F21) -> 59.788571 | G25: =AVERAGE(C28:P100) -> 60.435888 | H25: =AVERAGE(H8:H21) -> 0.76943756
C27: =B8 -> Петушков Андрей | D27: =B9 -> Петушков Андрей | E27: =B10 -> Тыщенко Миша | F27: =B11 -> Тыщенко Миша | G27: =B12 -> Тыщенко Миша | H27: =B13 -> Петушков Андрей | I27: =B14 -> Тыщенко Миша | J27: =B15 -> Тыщенко Миша | K27: =B16 -> Бахмацкий Олег | L27: =B17 -> Бахмацкий Олег | M27: =B18 -> Бахмацкий Олег | N27: =B19 -> Петушков Андрей | O27: =B20 -> Бахмацкий Олег | P27: =B21 -> Петушков Андрей
B28: 1 | C28: 63.118 | D28: 61.953 | E28: 59.761 | F28: 59.502 | G28: 59.517 | H28: 61.752 | I28: 59.888 | J28: 60.032 | K28: 61.991 | L28: 61.149 | M28: 59.645 | N28: 60.657 | O28: 61.62 | P28: 59.741
B29: 2 | C29: 61.417 | D29: 62.844 | E29: 59.913 | F29: 59.322 | G29: 59.978 | H29: 61.341 | I29: 60.527 | J29: 60.148 | K29: 61.054 | L29: 60.947 | M29: 60.122 | N29: 60.566 | O29: 60.704 | P29: 59.717
B30: 3 | C30: 61.384 | D30: 62.721 | E30: 59.898 | F30: 59.142 | G30: 59.69 | H30: 60.893 | I30: 61.046 | J30: 59.724 | K30: 60.639 | L30: 60.86 | M30: 59.247 | N30: 60.619 | O30: 59.79 | P30: 59.459
B31: 4 | C31: 61.759 | D31: 62.573 | E31: 60.051 | F31: 59.493 | G31: 59.709 | H31: 60.975 | I31: 59.898 | J31: 59.701 | K31: 61.135 | L31: 61.192 | M31: 59.424 | N31: 60.276 | O31: 60.782 | P31: 59.775
B32: 5 | C32: 61.672 | D32: 62.779 | E32: 59.892 | F32: 59.335 | G32: 59.957 | H32: 61.316 | I32: 59.98 | J32: 59.818 | K32: 60.086 | L32: 61.035 | M32: 58.848 | N32: 60.239 | O32: 60.175 | P32: 59.938
B33: 6 | C33: 61.182 | D33: 62.408 | E33: 60.092 | F33: 59.493 | G33: 60.678 | H33: 62.214 | I33: 60.369 | J33: 60.283 | K33: 61.14 | L33: 60.811 | M33: 59.189 | N33: 60.61 | O33: 59.712 | P33: 59.795
B34: 7 | C34: 61.082 | D34: 62.903 | E34: 59.763 | F34: 59.449 | G34: 61.675 | H34: 61.392 | I34: 60.13 | J34: 60.001 | K34: 60.615 | L34: 60.63 | M34: 59.536 | N34: 60.784 | O34: 60.068 | P34: 59.884
B35: 8 | C35: 61.678 | D35: 62.363 | E35: 60.34 | F35: 59.61 | G35: 60.008 | H35: 60.93 | I35: 59.935 | J35: 59.854 | K35: 60.534 | L35: 61.433 | M35: 58.603 | N35: 60.768 | O35: 59.794 | P35: 59.096
B36: 9 | C36: 61.286 | D36: 63.171 | E36: 59.635 | F36: 59.341 | G36: 59.865 | H36: 60.796 | I36: 59.991 | J36: 60.15 | K36: 61.374 | L36: 60.767 | M36: 58.898 | N36: 60.366 | O36: 61.238 | P36: 59.644
B37: 10 | C37: 61.261 | D37: 62.258 | E37: 59.89 | F37: 59.844 | G37: 59.793 | H37: 61.451 | I37: 60.209 | J37: 60.237 | K37: 60.636 | L37: 60.296 | M37: 58.662 | N37: 60.513 | O37: 60.866 | P37: 59.347
B38: 11 | C38: 61.785 | D38: 62.374 | E38: 59.89 | F38: 61.335 | G38: 60.262 | H38: 61.548 | I38: 60.303 | J38: 60.578 | K38: 60.585 | L38: 60.88 | M38: 58.881 | N38: 60.175 | O38: 60.465 | P38: 59.848
B39: 12 | C39: 62.1 | D39: 62.106 | E39: 60.46 | F39: 59.283 | G39: 60.282 | H39: 62.853 | I39: 59.374 | J39: 59.738 | K39: 60.461 | L39: 61.516 | M39: 58.721 | N39: 59.783 | O39: 60.429 | P39: 60.12
B40: 13 | C40: 61.273 | D40: 62.265 | E40: 60.694 | F40: 59.416 | G40: 59.864 | H40: 61.596 | I40: 59.966 | K40: 60.492 | L40: 60.996 | M40: 59.008 | N40: 60.131 | O40: 60.53 | P40: 59.462
B41: 14 | C41: 62.135 | D41: 62.818 | E41: 61.464 | F41: 59.823 | G41: 62.093 | H41: 62.262 | I41: 59.514 | K41: 61.372 | L41: 60.868 | M41: 60.147 | N41: 60.254 | O41: 60.299 | P41: 60.094
B42: 15 | C42: 62.333 | E42: 63.521 | F42: 59.655 | G42: 63.151 | H42: 61.709 | I42: 59.967 | K42: 60.915 | L42: 60.547 | M42: 59.651 | N42: 60.72 | O42: 59.899 | P42: 59.961
B43: 16 | E43: 60.036 | F43: 59.561 | G43: 60.036 | H43: 61.546 | I43: 59.703 | K43: 61.555 | L43: 60.828 | M43: 59.172 | N43: 60.649 | O43: 59.588 | P43: 59.635
B44: 17 | E44: 60.593 | F44: 59.563 | H44: 61.66 | I44: 59.684 | K44: 60.644 | L44: 60.747 | M44: 59.251 | N44: 60.887 | O44: 59.871 | P44: 59.675
...

Sheet Kart Freedom
A2: Чемпионат мини марафон "Большие Гонки", Гранд-Финал
A4: Kart Freedom
A6: Обяза-тельные | B6: Пилот | C6: карт | D6: Круг | E6: кругов на отрезке | F6: Статистика по кругам | I6: Общее время гонки | J6: Время на трассе | L6: Питы | M6: Штрафы/ бонусы (сек)
F7: Лучший круг | G7: Среднее на отрезке | H7: стабильность | J7: отрезок | K7: всего у пилота
A8: 1 | B8: Наум | C8: 1 | D8: =COUNTA(C27:C91) -> 26 | E8: =COUNTA(C27:C91) -> 26 | F8: =MIN(C27:C90) -> 59.739 | G8: =AVERAGE(C27:C93) -> 60.631692 | H8: =G8-F8 -> 0.89269231 | I8: 0.018993056 | J8: =I8 -> 0.018993056 | K8: =J8 -> 0.018993056 | L8: 159.303
A9: 2 | B9: Наум | C9: 69 | D9: =COUNTA(D27:D91)+D8+1 -> 43 | E9: =COUNTA(D27:D91)+1 -> 17 | F9: =MIN(D27:D90) -> 59.967 | G9: =AVERAGE(D27:D92) -> 60.572438 | H9: =G9-F9 -> 0.6054375 | I9: 0.032037037 | J9: =I9-I8 -> 0.013043981 | K9: =J9+K8 -> 0.032037037 | L9: 157.93
A10: 3 | B10: Наум | C10: 6 | D10: =COUNTA(E27:E91)+D9+1 -> 60 | E10: =COUNTA(E27:E91)+1 -> 17 | F10: =MIN(E27:E92) -> 59.574 | G10: =AVERAGE(E27:E93) -> 60.479938 | H10: =G10-F10 -> 0.9059375 | I10: 0.04505787 | J10: =I10-I9 -> 0.013020833 | K10: =J10+K9 -> 0.04505787 | L10: 157.507
A11: 4 | B11: Мифтахутдинов Ильяс | C11: 11 | D11: =COUNTA(F27:F91)+D10+1 -> 102 | E11: =COUNTA(F27:F91)+1 -> 42 | F11: =MIN(F27:F92) -> 59.319 | G11: =AVERAGE(F27:F92) -> 60.252732 | H11: =G11-F11 -> 0.93373171 | I11: 0.075486111 | J11: =I11-I10 -> 0.030428241 | K11: =J11 -> 0.030428241 | L11: 157.685
A12: 5 | B12: Наум | C12: 5 | D12: =COUNTA(G27:G91)+D11+1 -> 116 | E12: =COUNTA(G27:G91)+1 -> 14 | F12: =MIN(G27:G92) -> 60.072 | G12: =AVERAGE(G27:G892) -> 61.248462 | H12: =G12-F12 -> 1.1764615 | I12: 0.086527778 | J12: =I12-I11 -> 0.011041667 | K12: =J12+K10 -> 0.056099537 | L12: 158.055
A13: 6 | B13: Наум | C13: 10 | D13: =COUNTA(H27:H91)+D12+1 -> 150 | E13: =COUNTA(H27:H91)+1 -> 34 | F13: =MIN(H27:H92) -> 59.861 | G13: =AVERAGE(H27:H92) -> 60.817031 | H13: =G13-F13 -> 0.95603125 | I13: 0.11158565 | J13: =I13-I12 -> 0.02505787 | K13: =J13+K12 -> 0.081157407 | L13: 158.032
A14: 7 | B14: Мифтахутдинов Ильяс | C14: 44 | D14: =COUNTA(I27:I91)+D13+1 -> 165 | E14: =COUNTA(I27:I91)+1 -> 15 | F14: =MIN(I27:I92) -> 59.986 | G14: =AVERAGE(I27:I92) -> 60.993286 | H14: =G14-F14 -> 1.0072857 | I14: 0.12327546 | J14: =I14-I13 -> 0.011689815 | K14: =J14+K11 -> 0.042118056 | L14: 156.696
A15: 8 | B15: Мифтахутдинов Ильяс | C15: 5 | D15: =COUNTA(J27:J91)+D14+1 -> 179 | E15: =COUNTA(J27:J91)+1 -> 14 | F15: =MIN(J27:J92) -> 60.814 | G15: =AVERAGE(J27:J92) -> 61.272462 | H15: =G9-F9 -> 0.6054375 | I15: 0.13435185 | J15: =I15-I14 -> 0.011076389 | K15: =J15+K14 -> 0.053194444 | L15: 159.026
A16: 9 | B16: Наум | C16: 4 | D16: =COUNTA(K27:K91)+D15+1 -> 219 | E16: =COUNTA(K27:K91)+1 -> 40 | F16: =MIN(K27:K92) -> 59.877 | G16: =AVERAGE(K27:K92) -> 60.839769 | H16: =G10-F10 -> 0.9059375 | I16: 0.16363426 | J16: =I16-I15 -> 0.029282407 | K16: =J16+K13 -> 0.11043981 | L16: 157.662
A17: 10 | B17: Мифтахутдинов Ильяс | C17: 1 | D17: =COUNTA(L27:L91)+D16+1 -> 262 | E17: =COUNTA(L27:L91)+1 -> 43 | F17: =MIN(L27:L92) -> 59.768 | G17: =AVERAGE(L27:L92) -> 60.700119 | H17: =G11-F11 -> 0.93373171 | I17: 0.19498843 | J17: =I17-I16 -> 0.031354167 | K17: =J17+K15 -> 0.084548611 | L17: 158.302
A18: 11 | B18: Мифтахутдинов Ильяс | C18: 6 | D18: =COUNTA(M27:M91)+D17+1 -> 291 | E18: =COUNTA(M27:M91)+1 -> 29 | F18: =MIN(M27:M92) -> 60.116 | G18: =AVERAGE(M27:M92) -> 60.619857 | H18: =G12-F12 -> 1.1764615 | I18: 0.21643519 | J18: =I18-I17 -> 0.021446759 | K18: =J18+K17 -> 0.10599537 | L18: 162.828 | M18: +5 | N18: лимит
A19: 12 | B19: Наум | C19: 5 | D19: =COUNTA(N27:N91)+D18+1 -> 312 | E19: =COUNTA(N27:N91)+1 -> 21 | F19: =MIN(N27:N92) -> 59.891 | G19: =AVERAGE(N27:N92) -> 60.81925 | H19: =G13-F13 -> 0.95603125 | I19: 0.23240741 | J19: =I19-I18 -> 0.015972222 | K19: =J19+K16 -> 0.12641204 | L19: 160.06
A20: 13 | B20: Мифтахутдинов Ильяс | C20: 10 | D20: =COUNTA(O27:O91)+D19+1 -> 355 | E20: =COUNTA(O27:O91)+1 -> 43 | F20: =MIN(O27:O92) -> 59.411 | G20: =AVERAGE(O27:O92) -> 59.949405 | H20: =G14-F14 -> 1.0072857 | I20: 0.26337963 | J20: =I20-I19 -> 0.030972222 | K20: =J20+K18 -> 0.13696759 | L20: 167.544 | M20: +10 | N20: разворот перед финишем
A21: Финиш | B21: Наум | C21: 11 | D21: =COUNTA(P27:P91)+D20+1 -> 397 | E21: =COUNTA(P27:P91)+1 -> 42 | F21: =MIN(P27:P92) -> 58.709 | G21: =AVERAGE(P27:P92) -> 59.447976 | H21: =G15-F15 -> 0.45846154 | I21: ='Общие результаты'!G6 -> 7:00:46 | J21: =I21-I20 -> 0.028819444 | K21: =J21+K19 -> 0.15523148
F22: =AVERAGE(F8,F9,F10,F13,F12,F19,F21,F16) -> 59.71125 | G22: =AVERAGE(C27:D91,E27:E91,G27:H91,K27:K91,N27:N91,P27:P91) -> 60.503153 | H22: =AVERAGE(H8,H9,H10,H13,H12,H19,H21,H16) -> 0.8571238 | I22: Наум
F23: =AVERAGE(F11,F15,F14,F17,F18,F20) -> 59.902333 | G23: =AVERAGE(F27:F91,I27:J91,L27:L91,M27:M91,O27:O91) -> 60.4747 | H23: =AVERAGE(H11,H15,H14,H17,H18,H20) -> 0.94398898 | I23: Ильяс
F24: =AVERAGE(F8:F21) -> 59.793143 | G24: =AVERAGE(C27:P99) -> 60.489781 | H24: =AVERAGE(H8:H21) -> 0.89435173
C26: =B8 -> Наум | D26: =B9 -> Наум | E26: =B10 -> Наум | F26: =B11 -> Мифтахутдинов Ильяс | G26: =B12 -> Наум | H26: =B13 -> Наум | I26: =B14 -> Мифтахутдинов Ильяс | J26: =B15 -> Мифтахутдинов Ильяс | K26: =B16 -> Наум | L26: =B17 -> Мифтахутдинов Ильяс | M26: =B18 -> Мифтахутдинов Ильяс | N26: =B19 -> Наум | O26: =B20 -> Мифтахутдинов Ильяс | P26: =B21 -> Наум
B27: 1 | C27: 62.27 | D27: 62.102 | E27: 60.108 | F27: 60.423 | G27: 64.478 | H27: 61.075 | I27: 60.812 | J27: 61.269 | K27: 60.987 | L27: 60.075 | M27: 62.117 | N27: 61.68 | O27: 60.277 | P27: 60.189
B28: 2 | C28: 60.864 | D28: 60.411 | E28: 60.917 | F28: 60.712 | G28: 61.415 | H28: 60.347 | I28: 61.612 | J28: 61.496 | K28: 60.455 | L28: 59.768 | M28: 61.118 | N28: 61.809 | O28: 59.678 | P28: 60.196
B29: 3 | C29: 60.652 | D29: 60.327 | E29: 61.225 | F29: 59.629 | G29: 61.088 | H29: 60.859 | I29: 61.883 | J29: 61.168 | K29: 61.404 | L29: 60.491 | M29: 60.919 | N29: 61.449 | O29: 59.639 | P29: 59.481
B30: 4 | C30: 60.68 | D30: 60.761 | E30: 59.574 | F30: 60.052 | G30: 60.955 | H30: 60.749 | I30: 63.158 | J30: 61.151 | K30: 61.69 | L30: 59.803 | M30: 60.956 | N30: 60.332 | O30: 59.837 | P30: 59.92
B31: 5 | C31: 60.164 | D31: 60.271 | E31: 60.677 | F31: 59.319 | G31: 60.892 | H31: 61.109 | I31: 61.2 | J31: 60.814 | K31: 60.955 | L31: 61.195 | M31: 60.722 | N31: 61.272 | O31: 59.505 | P31: 59.63
B32: 6 | C32: 60.355 | D32: 61.414 | E32: 60.504 | F32: 60.067 | G32: 61.125 | H32: 61.519 | I32: 60.917 | J32: 60.817 | K32: 60.474 | L32: 60.768 | M32: 60.451 | N32: 61.319 | O32: 59.692 | P32: 59.238
B33: 7 | C33: 61.002 | D33: 60.668 | E33: 60.263 | F33: 59.928 | G33: 60.072 | H33: 60.525 | I33: 60.629 | J33: 60.818 | K33: 60.481 | L33: 60.576 | M33: 60.729 | N33: 60.104 | O33: 59.708 | P33: 59.694
B34: 8 | C34: 60.418 | D34: 61.136 | E34: 60.44 | F34: 59.624 | G34: 60.636 | H34: 60.887 | I34: 60.392 | J34: 60.827 | K34: 60.331 | L34: 60.799 | M34: 60.307 | N34: 60.586 | O34: 60.034 | P34: 58.709
B35: 9 | C35: 60.765 | D35: 60.26 | E35: 60.977 | F35: 59.934 | G35: 60.85 | H35: 60.684 | I35: 60.551 | J35: 60.823 | K35: 61.464 | L35: 60.723 | M35: 60.351 | N35: 60.684 | O35: 59.846 | P35: 59.631
B36: 10 | C36: 60.496 | D36: 59.967 | E36: 60.001 | F36: 60.43 | G36: 61.793 | H36: 61.557 | I36: 60.898 | J36: 62.867 | K36: 60.179 | L36: 60.521 | M36: 60.32 | N36: 60.638 | O36: 60.075 | P36: 58.783
B37: 11 | C37: 60.274 | D37: 60.436 | E37: 60.617 | F37: 60.089 | G37: 61.652 | H37: 60.224 | I37: 60.725 | J37: 61.629 | K37: 59.877 | L37: 61.029 | M37: 60.28 | N37: 61.118 | O37: 60.306 | P37: 59.343
B38: 12 | C38: 60.168 | D38: 60.147 | E38: 60.115 | F38: 59.754 | G38: 60.623 | H38: 59.861 | I38: 60.592 | J38: 61.457 | K38: 60.489 | L38: 61.185 | M38: 60.54 | N38: 61.677 | O38: 59.809 | P38: 58.919
B39: 13 | C39: 59.739 | D39: 60.616 | E39: 60.357 | F39: 59.748 | G39: 60.651 | H39: 60.842 | I39: 59.986 | J39: 61.406 | K39: 60.844 | L39: 60.778 | M39: 60.506 | N39: 59.891 | O39: 60.095 | P39: 58.849
B40: 14 | C40: 60.759 | D40: 60.268 | E40: 61.046 | F40: 59.996 | H40: 60.157 | I40: 60.551 | K40: 60.2 | L40: 60.968 | M40: 60.426 | N40: 60.85 | O40: 60.432 | P40: 59.226
B41: 15 | C41: 60.044 | D41: 60.278 | E41: 60.503 | F41: 59.706 | H41: 60..738 | K41: 60.793 | L41: 61.005 | M41: 60.661 | N41: 60.491 | O41: 59.861 | P41: 59.345
B42: 16 | C42: 61.041 | D42: 60.097 | E42: 60.355 | F42: 60.606 | H42: 60.125 | K42: 60.218 | L42: 60.644 | M42: 60.461 | N42: 60.695 | O42: 60.186 | P42: 59.761
B43: 17 | C43: 60.374 | F43: 61.072 | H43: 60.879 | K43: 60.465 | L43: 60.401 | M43: 60.667 | N43: 60.757 | O43: 59.54 | P43: 59.368
B44: 18 | C44: 60.55 | F44: 60.373 | H44: 60.732 | K44: 60.801 | L44: 60.727 | M44: 60.861 | N44: 60.668 | O44: 60.154 | P44: 59.699
...

Sheet Hurricane RTU
A2: Чемпионат мини марафон "Большие Гонки", Гранд-Финал
A4: Hurricane RTU
A6: Обяза-тельные | B6: Пилот | C6: карт | D6: Круг | E6: кругов на отрезке | F6: Статистика по кругам | I6: Общее время гонки | J6: Время на трассе | L6: Питы | M6: Штрафы/ бонусы (сек)
F7: Лучший круг | G7: Среднее на отрезке | H7: стабильность | J7: отрезок | K7: всего у пилота
A8: 1 | B8: Стоцкий Андрей | C8: 7 | D8: =COUNTA(C27:C91) -> 15 | E8: =COUNTA(C27:C91) -> 15 | F8: =MIN(C27:C90) -> 60.491 | G8: =AVERAGE(C27:C93) -> 61.2908 | H8: =G8-F8 -> 0.7998 | I8: 0.011388889 | J8: =I8 -> 0.011388889 | K8: =J8 -> 0.011388889 | L8: 159.663
A9: 2 | B9: Стоцкий Андрей | C9: 4 | D9: =COUNTA(D27:D91)+D8+1 -> 37 | E9: =COUNTA(D27:D91)+1 -> 22 | F9: =MIN(D27:D90) -> 61.033 | G9: =AVERAGE(D27:D92) -> 61.780476 | H9: =G9-F9 -> 0.74747619 | I9: 0.028240741 | J9: =I9-I8 -> 0.016851852 | K9: =J9+K8 -> 0.028240741 | L9: 158.906
A10: 3 | B10: Манило Денис | C10: 1 | D10: =COUNTA(E27:E91)+D9+1 -> 68 | E10: =COUNTA(E27:E91)+1 -> 31 | F10: =MIN(E27:E92) -> 60.179 | G10: =AVERAGE(E27:E93) -> 60.868567 | H10: =G10-F10 -> 0.68956667 | I10: 0.051203704 | J10: =I10-I9 -> 0.022962963 | K10: =J10 -> 0.022962963 | L10: 157.587
A11: 4 | B11: Манило Денис | C11: 5 | D11: =COUNTA(F27:F91)+D10+1 -> 87 | E11: =COUNTA(F27:F91)+1 -> 19 | F11: =MIN(F27:F92) -> 60.392 | G11: =AVERAGE(F27:F92) -> 61.3275 | H11: =G11-F11 -> 0.9355 | I11: 0.065810185 | J11: =I11-I10 -> 0.014606481 | K11: =J11+K10 -> 0.037569444 | L11: 159.694
A12: 5 | B12: Стоцкий Андрей | C12: 44 | D12: =COUNTA(G27:G91)+D11+1 -> 103 | E12: =COUNTA(G27:G91)+1 -> 16 | F12: =MIN(G27:G92) -> 59.781 | G12: =AVERAGE(G27:G892) -> 60.446333 | H12: =G12-F12 -> 0.66533333 | I12: 0.078148148 | J12: =I12-I11 -> 0.012337963 | K12: =J12+K9 -> 0.040578704 | L12: 157.685
A13: 6 | B13: Стоцкий Андрей | C13: 11 | D13: =COUNTA(H27:H91)+D12+1 -> 144 | E13: =COUNTA(H27:H91)+1 -> 41 | F13: =MIN(H27:H92) -> 59.526 | G13: =AVERAGE(H27:H92) -> 60.500975 | H13: =G13-F13 -> 0.974975 | I13: 0.10798611 | J13: =I13-I12 -> 0.029837963 | K13: =J13+K12 -> 0.070416667 | L13: 159.204
A14: 7 | B14: Манило Денис | C14: 69 | D14: =COUNTA(I27:I91)+D13+1 -> 162 | E14: =COUNTA(I27:I91)+1 -> 18 | F14: =MIN(I27:I92) -> 60.604 | G14: =AVERAGE(I27:I92) -> 61.545706 | H14: =G14-F14 -> 0.94170588 | I14: 0.12194444 | J14: =I14-I13 -> 0.013958333 | K14: =J14+K11 -> 0.051527778 | L14: 158.634
A15: 8 | B15: Манило Денис | C15: 13 | D15: =COUNTA(J27:J91)+D14+1 -> 182 | E15: =COUNTA(J27:J91)+1 -> 20 | F15: =MIN(J27:J92) -> 60.777 | G15: =AVERAGE(J27:J92) -> 61.544632 | H15: =G9-F9 -> 0.74747619 | I15: 0.13731481 | J15: =I15-I14 -> 0.01537037 | K15: =J15+K14 -> 0.066898148 | L15: 158.406
A16: 9 | B16: Стоцкий Андрей | C16: 7 | D16: =COUNTA(K27:K91)+D15+1 -> 218 | E16: =COUNTA(K27:K91)+1 -> 36 | F16: =MIN(K27:K92) -> 60.333 | G16: =AVERAGE(K27:K92) -> 61.151371 | H16: =G10-F10 -> 0.68956667 | I16: 0.16391204 | J16: =I16-I15 -> 0.026597222 | K16: =J16+K13 -> 0.097013889 | L16: 158.06
A17: 10 | B17: Стоцкий Андрей | C17: 44 | D17: =COUNTA(L27:L91)+D16+1 -> 261 | E17: =COUNTA(L27:L91)+1 -> 43 | F17: =MIN(L27:L92) -> 59.35 | G17: =AVERAGE(L27:L92) -> 60.686333 | H17: =G11-F11 -> 0.9355 | I17: 0.19525463 | J17: =I17-I16 -> 0.031342593 | K17: =J17+K16 -> 0.12835648 | L17: 156.224
A18: 11 | B18: Манило Денис | C18: 11 | D18: =COUNTA(M27:M91)+D17+1 -> 293 | E18: =COUNTA(M27:M91)+1 -> 32 | F18: =MIN(M27:M92) -> 59.561 | G18: =AVERAGE(M27:M92) -> 60.197823 | H18: =G12-F12 -> 0.66533333 | I18: 0.21865741 | J18: =I18-I17 -> 0.023402778 | K18: =J18+K15 -> 0.090300926 | L18: 162.248 | M18: +5 | N18: лимит
A19: 12 | B19: Манило Денис | C19: 10 | D19: =COUNTA(N27:N91)+D18+1 -> 305 | E19: =COUNTA(N27:N91)+1 -> 12 | F19: =MIN(N27:N92) -> 59.91 | G19: =AVERAGE(N27:N92) -> 60.655545 | H19: =G13-F13 -> 0.974975 | I19: 0.22826389 | J19: =I19-I18 -> 0.0096064815 | K19: =J19+K18 -> 0.099907407 | L19: 159.007
A20: 13 | B20: Стоцкий Андрей | C20: 11 | D20: =COUNTA(O27:O91)+D19+1 -> 349 | E20: =COUNTA(O27:O91)+1 -> 44 | F20: =MIN(O27:O92) -> 58.883 | G20: =AVERAGE(O27:O92) -> 59.604535 | H20: =G14-F14 -> 0.94170588 | I20: 0.25976852 | J20: =I20-I19 -> 0.03150463 | K20: =J20+K17 -> 0.15986111 | L20: 186.842 | M20: +20+5+5 | N20: лимит
A21: Финиш | B21: Манило Денис | C21: 6 | D21: =COUNTA(P27:P91)+D20+1 -> 395 | E21: =COUNTA(P27:P91)+1 -> 46 | F21: =MIN(P27:P92) -> 59.456 | G21: =AVERAGE(P27:P92) -> 60.346978 | H21: =G15-F15 -> 0.76763158 | I21: ='Общие результаты'!G6 -> 7:00:46 | J21: =I21-I20 -> 0.032430556 | K21: =J21+K19 -> 0.13233796 | M21: +40 | N21: лимит
F22: =AVERAGE(F8,F13,F9,F12,F16,F17,F20) -> 59.913857 | G22: =AVERAGE(C27:C91,D27:D91,H27:H91,G27:G91,L27:L91,K27:K91,O27:O91) -> 60.642678 | H22: =AVERAGE(H8,H13,H9,H12,H16,H17,H20) -> 0.82205101 | I22: Андрей
F23: =AVERAGE(F11,F14,F10,F15,F19,F18,F21) -> 60.125571 | G23: =AVERAGE(E27:E91,F27:F91,J27:J91,I27:I91,N27:N91,M27:M91,P27:P91) -> 60.786751 | H23: =AVERAGE(H11,H14,H10,H15,H19,H18,H21) -> 0.81745552 | I23: Денис
F24: =AVERAGE(F8:F21) -> 60.019714 | G24: =AVERAGE(C27:P99) -> 60.707171 | H24: =AVERAGE(H8:H21) -> 0.81975327
C26: =B8 -> Стоцкий Андрей | D26: =B9 -> Стоцкий Андрей | E26: =B10 -> Манило Денис | F26: =B11 -> Манило Денис | G26: =B12 -> Стоцкий Андрей | H26: =B13 -> Стоцкий Андрей | I26: =B14 -> Манило Денис | J26: =B15 -> Манило Денис | K26: =B16 -> Стоцкий Андрей | L26: =B17 -> Стоцкий Андрей | M26: =B18 -> Манило Денис | N26: =B19 -> Манило Денис | O26: =B20 -> Стоцкий Андрей | P26: =B21 -> Манило Денис
B27: 1 | C27: 61.89 | D27: 62.456 | E27: 60.864 | F27: 61.384 | G27: 62.292 | H27: 60.633 | I27: 61.292 | J27: 61.165 | K27: 63.086 | L27: 61.844 | M27: 60.187 | N27: 60.764 | O27: 59.662 | P27: 60.587
B28: 2 | C28: 60.76 | D28: 62.038 | E28: 61.736 | F28: 61.727 | G28: 60.025 | H28: 60.777 | I28: 60.996 | J28: 61.735 | K28: 61.847 | L28: 61.235 | M28: 61.23 | N28: 61.642 | O28: 59.911 | P28: 60.577
B29: 3 | C29: 60.845 | D29: 61.968 | E29: 61.405 | F29: 61.324 | G29: 59.781 | H29: 60.327 | I29: 61.063 | J29: 61.607 | K29: 61.637 | L29: 60.832 | M29: 59.889 | N29: 60.46 | O29: 59.653 | P29: 61.08
B30: 4 | C30: 60.772 | D30: 61.954 | E30: 60.924 | F30: 61.125 | G30: 60.381 | H30: 60.379 | I30: 61.443 | J30: 61.14 | K30: 61.281 | L30: 60.133 | M30: 60.273 | N30: 60.572 | O30: 58.954 | P30: 60.58
