Workbook

Sheet Общие результаты
A1: Серия мини марафонов "Большие Гонки 2019", 5-й этап, 15.06.19
A2: Конфигурация №
A4: Место в гонке | B4: Команда | C4: № в гонке | D4: Квала | F4: Гонка | I4: Лучший круг в гонке
D5: Время | E5: Место | F5: Круги | G5: Время/от лидера | H5: От места выше | I5: Время | J5: На круге
A6: 1 | B6: K44 | C6: 8 | D6: 60.4185 | E6: 1 | F6: 399 | G6: 7:00:46 | H6: - | I6: 58.195 | J6: 63
A7: 2 | B7: NFS Kozaks | C7: 6 | D7: 60.821 | E7: 3 | F7: 397 | G7: 2 круга | H7: 2 круга | I7: 58.412 | J7: 298
A8: 3 | B8: Kart Freedom | C8: 1 | D8: 61.1585 | E8: 4 | F8: 397 | G8: 2 круга | H8: 36.594 | I8: 58.709 | J8: 364
A9: 4 | B9: Hurricane RTU | C9: 4 | D9: 60.683 | E9: 2 | F9: 395 | G9: 4 круга | H9: 3 круга | I9: 58.883 | J9: 321
A10: 5 | B10: NFS Fortuna RT | C10: 5 | D10: 62.1765 | E10: 5 | F10: 392 | G10: 7 кругов | H10: 2 круга | I10: 59.269 | J10: 318
A11: 6 | B11: Jaguar | C11: 3 | D11: 62.454 | E11: 7 | F11: 391 | G11: 8 кругов | H11: 1 круг | I11: 59.194 | J11: 355
A12: 7 | B12: 777 | C12: 7 | D12: 62.208 | E12: 6 | F12: 387 | G12: 12 кругов | H12: 4 круга | I12: 59.299 | J12: 296
A13: 8 | B13: Fossa | C13: 2 | D13: 63.2625 | E13: 8 | F13: 386 | G13: 13 кругов | H13: 1 круг | I13: 59.114 | J13: 363
A14: 9 | B14: Flash UA | C14: 10 | D14: 63.712 | E14: 9 | F14: 382 | G14: 17 кругов | H14: 4 круга | I14: 60.329 | J14: 366

Sheet Регистрация 7Ч
A1: Серия мини марафонов "Большие Гонки 2019", Гранд Финал, 03.11.19
A3: Регистрационная форма
A5: № в гонке | B5: Команда | C5: Пилот | D5: № | E5: Вес | F5: Бонус | H5: Квалификация
F6: ПИЛОТ | G6: ВСЕГО | H6: карт | I6: Время | J6: бонус | K6: Итого | L6: Среднее | M6: Место | O6: бонусы за вес
A7: 1 | B7: Kart Freedom | C7: Мифтахутдинов Ильяс | D7: 1-1 | E7: 45.2 | F7: =IF(E7<85,0,IF((COUNT(E7:E10))=2,Y7,IF((COUNT(E7:E10))=3,Z7,AA7))) -> 0 | G7: =SUM(F7:F10) -> 0 | H7: 2 | I7: 61.755 | J7: =IF(E7<84.9,0,IF(E7<87.4,0.1,IF(E7<89.9,0.15,IF(E7<92.4,0.2,IF(E7<94.9,0.25,IF(E7<97.4,0.3,IF(E7<99.9,0.35,0.4))))))) -> 0 | K7: =I7-J7 -> 61.755 | L7: =AVERAGE(K7:K8) -> 61.1585 | M7: =RANK(L7,L7:L42,1) -> 4 | N7: кв | O7: 0.05 | P7: 0.1 | Q7: 0.15 | R7: 0.2 | S7: 0.25 | T7: 0.3 | U7: 0.35 | V7: =O7*8 -> 0.4 | Y7: =IF(E7<87.4,$P$8,IF(E7<89.9,$Q$8,IF(E7<92.4,$R$8,IF(E7<94.9,$S$8,IF(E7<97.4,$T$8,IF(E7<99.9,$U$8,$V$8)))))) -> 14 | Z7: =IF(E7<87.4,$P$9,IF(E7<89.9,$Q$9,IF(E7<92.4,$R$9,IF(E7<94.9,$S$9,IF(E7<97.4,$T$9,IF(E7<99.9,$U$9,$V$9)))))) -> 9.8 | AA7: =IF(E7<87.4,$P$10,IF(E7<89.9,$Q$10,IF(E7<92.4,$R$10,IF(E7<94.9,$S$10,IF(E7<97.4,$T$10,IF(E7<99.9,$U$10,$V$10)))))) -> 7
C8: Наум | D8: 1-2 | E8: 81.8 | F8: =IF(E8<85,0,IF((COUNT(E7:E10))=2,Y8,IF((COUNT(E7:E10))=3,Z8,AA8))) -> 0 | H8: 4 | I8: 60.562 | J8: =IF(E8<84.9,0,IF(E8<87.4,0.1,IF(E8<89.9,0.15,IF(E8<92.4,0.2,IF(E8<94.9,0.25,IF(E8<97.4,0.3,IF(E8<99.9,0.35,0.4))))))) -> 0 | K8: =I8-J8 -> 60.562 | O8: =7*1 -> 7 | P8: =O8*2 -> 14 | Q8: =O8*3 -> 21 | R8: =O8*4 -> 28 | S8: =O8*5 -> 35 | T8: =O8*6 -> 42 | U8: =O8*7 -> 49 | V8: =O8*8 -> 56 | W8: 2 пилот | Y8: =IF(E8<87.4,$P$8,IF(E8<89.9,$Q$8,IF(E8<92.4,$R$8,IF(E8<94.9,$S$8,IF(E8<97.4,$T$8,IF(E8<99.9,$U$8,$V$8)))))) -> 14 | Z8: =IF(E8<87.4,$P$9,IF(E8<89.9,$Q$9,IF(E8<92.4,$R$9,IF(E8<94.9,$S$9,IF(E8<97.4,$T$9,IF(E8<99.9,$U$9,$V$9)))))) -> 9.8 | AA8: =IF(E8<87.4,$P$10,IF(E8<89.9,$Q$10,IF(E8<92.4,$R$10,IF(E8<94.9,$S$10,IF(E8<97.4,$T$10,IF(E8<99.9,$U$10,$V$10)))))) -> 7
D9: 1-3 | F9: =IF(E9<85,0,IF((COUNT(E7:E10))=2,Y9,IF((COUNT(E7:E10))=3,Z9,AA9))) -> 0 | J9: =IF(E9<84.9,0,IF(E9<87.4,0.1,IF(E9<89.9,0.15,IF(E9<92.4,0.2,IF(E9<94.9,0.25,IF(E9<97.4,0.3,IF(E9<99.9,0.35,0.4))))))) -> 0 | K9: =I9-J9 -> 0 | O9: =7*0.7 -> 4.9 | P9: =O9*2 -> 9.8 | Q9: =O9*3 -> 14.7 | R9: =O9*4 -> 19.6 | S9: =O9*5 -> 24.5 | T9: =O9*6 -> 29.4 | U9: =O9*7 -> 34.3 | V9: =O9*8 -> 39.2 | W9: 3 пилота | Y9: =IF(E9<87.4,$P$8,IF(E9<89.9,$Q$8,IF(E9<92.4,$R$8,IF(E9<94.9,$S$8,IF(E9<97.4,$T$8,IF(E9<99.9,$U$8,$V$8)))))) -> 14 | Z9: =IF(E9<87.4,$P$9,IF(E9<89.9,$Q$9,IF(E9<92.4,$R$9,IF(E9<94.9,$S$9,IF(E9<97.4,$T$9,IF(E9<99.9,$U$9,$V$9)))))) -> 9.8 | AA9: =IF(E9<87.4,$P$10,IF(E9<89.9,$Q$10,IF(E9<92.4,$R$10,IF(E9<94.9,$S$10,IF(E9<97.4,$T$10,IF(E9<99.9,$U$10,$V$10)))))) -> 7
D10: 1-4 | F10: =IF(E10<85,0,IF((COUNT(E7:E10))=2,Y10,IF((COUNT(E7:E10))=3,Z10,AA10))) -> 0 | J10: =IF(E10<84.9,0,IF(E10<87.4,0.1,IF(E10<89.9,0.15,IF(E10<92.4,0.2,IF(E10<94.9,0.25,IF(E10<97.4,0.3,IF(E10<99.9,0.35,0.4))))))) -> 0 | K10: =I10-J10 -> 0 | O10: =7*0.5 -> 3.5 | P10: =O10*2 -> 7 | Q10: =O10*3 -> 10.5 | R10: =O10*4 -> 14 | S10: =O10*5 -> 17.5 | T10: =O10*6 -> 21 | U10: =O10*7 -> 24.5 | V10: =O10*8 -> 28 | W10: 4 пилота | Y10: =IF(E10<87.4,$P$8,IF(E10<89.9,$Q$8,IF(E10<92.4,$R$8,IF(E10<94.9,$S$8,IF(E10<97.4,$T$8,IF(E10<99.9,$U$8,$V$8)))))) -> 14 | Z10: =IF(E10<87.4,$P$9,IF(E10<89.9,$Q$9,IF(E10<92.4,$R$9,IF(E10<94.9,$S$9,IF(E10<97.4,$T$9,IF(E10<99.9,$U$9,$V$9)))))) -> 9.8 | AA10: =IF(E10<87.4,$P$10,IF(E10<89.9,$Q$10,IF(E10<92.4,$R$10,IF(E10<94.9,$S$10,IF(E10<97.4,$T$10,IF(E10<99.9,$U$10,$V$10)))))) -> 7
A11: 2 | B11: Fossa | C11: Гончаров Алексей | D11: 2-1 | E11: 80.6 | F11: =IF(E11<85,0,IF((COUNT(E11:E14))=2,Y11,IF((COUNT(E11:E14))=3,Z11,AA11))) -> 0 | G11: =SUM(F11:F14) -> 0 | H11: 5 | I11: 63.825 | J11: =IF(E11<84.9,0,IF(E11<87.4,0.1,IF(E11<89.9,0.15,IF(E11<92.4,0.2,IF(E11<94.9,0.25,IF(E11<97.4,0.3,IF(E11<99.9,0.35,0.4))))))) -> 0 | K11: =I11-J11 -> 63.825 | L11: =AVERAGE(K11:K12) -> 63.2625 | M11: =RANK(L11,L7:L42,1) -> 8 | N11: вес | O11: 82.5 | P11: 85 | Q11: 87.5 | R11: 90 | S11: 92.5 | T11: 95 | U11: 97.5 | V11: 100 | Y11: =IF(E11<87.4,$P$8,IF(E11<89.9,$Q$8,IF(E11<92.4,$R$8,IF(E11<94.9,$S$8,IF(E11<97.4,$T$8,IF(E11<99.9,$U$8,$V$8)))))) -> 14 | Z11: =IF(E11<87.4,$P$9,IF(E11<89.9,$Q$9,IF(E11<92.4,$R$9,IF(E11<94.9,$S$9,IF(E11<97.4,$T$9,IF(E11<99.9,$U$9,$V$9)))))) -> 9.8 | AA11: =IF(E11<87.4,$P$10,IF(E11<89.9,$Q$10,IF(E11<92.4,$R$10,IF(E11<94.9,$S$10,IF(E11<97.4,$T$10,IF(E11<99.9,$U$10,$V$10)))))) -> 7
C12: Кравченок Саша | D12: 2-2 | E12: 75 | F12: =IF(E12<85,0,IF((COUNT(E11:E14))=2,Y12,IF((COUNT(E11:E14))=3,Z12,AA12))) -> 0 | H12: 4 | I12: 62.7 | J12: =IF(E12<84.9,0,IF(E12<87.4,0.1,IF(E12<89.9,0.15,IF(E12<92.4,0.2,IF(E12<94.9,0.25,IF(E12<97.4,0.3,IF(E12<99.9,0.35,0.4))))))) -> 0 | K12: =I12-J12 -> 62.7 | Y12: =IF(E12<87.4,$P$8,IF(E12<89.9,$Q$8,IF(E12<92.4,$R$8,IF(E12<94.9,$S$8,IF(E12<97.4,$T$8,IF(E12<99.9,$U$8,$V$8)))))) -> 14 | Z12: =IF(E12<87.4,$P$9,IF(E12<89.9,$Q$9,IF(E12<92.4,$R$9,IF(E12<94.9,$S$9,IF(E12<97.4,$T$9,IF(E12<99.9,$U$9,$V$9)))))) -> 9.8 | AA12: =IF(E12<87.4,$P$10,IF(E12<89.9,$Q$10,IF(E12<92.4,$R$10,IF(E12<94.9,$S$10,IF(E12<97.4,$T$10,IF(E12<99.9,$U$10,$V$10)))))) -> 7
C13: Верба Алесандр | D13: 2-3 | E13: 83.9 | F13: =IF(E13<85,0,IF((COUNT(E11:E14))=2,Y13,IF((COUNT(E11:E14))=3,Z13,AA13))) -> 0 | J13: =IF(E13<84.9,0,IF(E13<87.4,0.1,IF(E13<89.9,0.15,IF(E13<92.4,0.2,IF(E13<94.9,0.25,IF(E13<97.4,0.3,IF(E13<99.9,0.35,0.4))))))) -> 0 | K13: =I13-J13 -> 0 | Y13: =IF(E13<87.4,$P$8,IF(E13<89.9,$Q$8,IF(E13<92.4,$R$8,IF(E13<94.9,$S$8,IF(E13<97.4,$T$8,IF(E13<99.9,$U$8,$V$8)))))) -> 14 | Z13: =IF(E13<87.4,$P$9,IF(E13<89.9,$Q$9,IF(E13<92.4,$R$9,IF(E13<94.9,$S$9,IF(E13<97.4,$T$9,IF(E13<99.9,$U$9,$V$9)))))) -> 9.8 | AA13: =IF(E13<87.4,$P$10,IF(E13<89.9,$Q$10,IF(E13<92.4,$R$10,IF(E13<94.9,$S$10,IF(E13<97.4,$T$10,IF(E13<99.9,$U$10,$V$10)))))) -> 7
D14: 2-4 | F14: =IF(E14<85,0,IF((COUNT(E11:E14))=2,Y14,IF((COUNT(E11:E14))=3,Z14,AA14))) -> 0 | J14: =IF(E14<84.9,0,IF(E14<87.4,0.1,IF(E14<89.9,0.15,IF(E14<92.4,0.2,IF(E14<94.9,0.25,IF(E14<97.4,0.3,IF(E14<99.9,0.35,0.4))))))) -> 0 | K14: =I14-J14 -> 0 | Y14: =IF(E14<87.4,$P$8,IF(E14<89.9,$Q$8,IF(E14<92.4,$R$8,IF(E14<94.9,$S$8,IF(E14<97.4,$T$8,IF(E14<99.9,$U$8,$V$8)))))) -> 14 | Z14: =IF(E14<87.4,$P$9,IF(E14<89.9,$Q$9,IF(E14<92.4,$R$9,IF(E14<94.9,$S$9,IF(E14<97.4,$T$9,IF(E14<99.9,$U$9,$V$9)))))) -> 9.8 | AA14: =IF(E14<87.4,$P$10,IF(E14<89.9,$Q$10,IF(E14<92.4,$R$10,IF(E14<94.9,$S$10,IF(E14<97.4,$T$10,IF(E14<99.9,$U$10,$V$10)))))) -> 7
A15: 3 | B15: Jaguar | C15: Лихошерст Леша | D15: 3-1 | E15: 74 | F15: =IF(E15<85,0,IF((COUNT(E15:E18))=2,Y15,IF((COUNT(E15:E18))=3,Z15,AA15))) -> 0 | G15: =SUM(F15:F18) -> 35 | H15: 7 | I15: 61.954 | J15: =IF(E15<84.9,0,IF(E15<87.4,0.1,IF(E15<89.9,0.15,IF(E15<92.4,0.2,IF(E15<94.9,0.25,IF(E15<97.4,0.3,IF(E15<99.9,0.35,0.4))))))) -> 0 | K15: =I15-J15 -> 61.954 | L15: =AVERAGE(K15:K16) -> 62.454 | M15: =RANK(L15,L7:L42,1) -> 7 | Y15: =IF(E15<87.4,$P$8,IF(E15<89.9,$Q$8,IF(E15<92.4,$R$8,IF(E15<94.9,$S$8,IF(E15<97.4,$T$8,IF(E15<99.9,$U$8,$V$8)))))) -> 14 | Z15: =IF(E15<87.4,$P$9,IF(E15<89.9,$Q$9,IF(E15<92.4,$R$9,IF(E15<94.9,$S$9,IF(E15<97.4,$T$9,IF(E15<99.9,$U$9,$V$9)))))) -> 9.8 | AA15: =IF(E15<87.4,$P$10,IF(E15<89.9,$Q$10,IF(E15<92.4,$R$10,IF(E15<94.9,$S$10,IF(E15<97.4,$T$10,IF(E15<99.9,$U$10,$V$10)))))) -> 7
C16: Закалюк Женя | D16: 3-2 | E16: 93.5 | F16: =IF(E16<85,0,IF((COUNT(E15:E18))=2,Y16,IF((COUNT(E15:E18))=3,Z16,AA16))) -> 35 | H16: 6 | I16: 62.954 | K16: =I16-J16 -> 62.954 | Y16: =IF(E16<87.4,$P$8,IF(E16<89.9,$Q$8,IF(E16<92.4,$R$8,IF(E16<94.9,$S$8,IF(E16<97.4,$T$8,IF(E16<99.9,$U$8,$V$8)))))) -> 35 | Z16: =IF(E16<87.4,$P$9,IF(E16<89.9,$Q$9,IF(E16<92.4,$R$9,IF(E16<94.9,$S$9,IF(E16<97.4,$T$9,IF(E16<99.9,$U$9,$V$9)))))) -> 24.5 | AA16: =IF(E16<87.4,$P$10,IF(E16<89.9,$Q$10,IF(E16<92.4,$R$10,IF(E16<94.9,$S$10,IF(E16<97.4,$T$10,IF(E16<99.9,$U$10,$V$10)))))) -> 17.5
D17: 3-3 | F17: =IF(E17<85,0,IF((COUNT(E15:E18))=2,Y17,IF((COUNT(E15:E18))=3,Z17,AA17))) -> 0 | J17: =IF(E17<84.9,0,IF(E17<87.4,0.1,IF(E17<89.9,0.15,IF(E17<92.4,0.2,IF(E17<94.9,0.25,IF(E17<97.4,0.3,IF(E17<99.9,0.35,0.4))))))) -> 0 | K17: =I17-J17 -> 0 | Y17: =IF(E17<87.4,$P$8,IF(E17<89.9,$Q$8,IF(E17<92.4,$R$8,IF(E17<94.9,$S$8,IF(E17<97.4,$T$8,IF(E17<99.9,$U$8,$V$8)))))) -> 14 | Z17: =IF(E17<87.4,$P$9,IF(E17<89.9,$Q$9,IF(E17<92.4,$R$9,IF(E17<94.9,$S$9,IF(E17<97.4,$T$9,IF(E17<99.9,$U$9,$V$9)))))) -> 9.8 | AA17: =IF(E17<87.4,$P$10,IF(E17<89.9,$Q$10,IF(E17<92.4,$R$10,IF(E17<94.9,$S$10,IF(E17<97.4,$T$10,IF(E17<99.9,$U$10,$V$10)))))) -> 7
D18: 3-4 | F18: =IF(E18<85,0,IF((COUNT(E15:E18))=2,Y18,IF((COUNT(E15:E18))=3,Z18,AA18))) -> 0 | J18: =IF(E18<84.9,0,IF(E18<87.4,0.1,IF(E18<89.9,0.15,IF(E18<92.4,0.2,IF(E18<94.9,0.25,IF(E18<97.4,0.3,IF(E18<99.9,0.35,0.4))))))) -> 0 | K18: =I18-J18 -> 0 | Y18: =IF(E18<87.4,$P$8,IF(E18<89.9,$Q$8,IF(E18<92.4,$R$8,IF(E18<94.9,$S$8,IF(E18<97.4,$T$8,IF(E18<99.9,$U$8,$V$8)))))) -> 14 | Z18: =IF(E18<87.4,$P$9,IF(E18<89.9,$Q$9,IF(E18<92.4,$R$9,IF(E18<94.9,$S$9,IF(E18<97.4,$T$9,IF(E18<99.9,$U$9,$V$9)))))) -> 9.8 | AA18: =IF(E18<87.4,$P$10,IF(E18<89.9,$Q$10,IF(E18<92.4,$R$10,IF(E18<94.9,$S$10,IF(E18<97.4,$T$10,IF(E18<99.9,$U$10,$V$10)))))) -> 7
A19: 4 | B19: Hurricane Racing Team | C19: Стоцкий Андрей | D19: 4-1 | E19: 65.4 | F19: =IF(E19<85,0,IF((COUNT(E19:E22))=2,Y19,IF((COUNT(E19:E22))=3,Z19,AA19))) -> 0 | G19: =SUM(F19:F22) -> 0 | H19: 8 | I19: 60.969 | J19: =IF(E19<84.9,0,IF(E19<87.4,0.1,IF(E19<89.9,0.15,IF(E19<92.4,0.2,IF(E19<94.9,0.25,IF(E19<97.4,0.3,IF(E19<99.9,0.35,0.4))))))) -> 0 | K19: =I19-J19 -> 60.969 | L19: =AVERAGE(K19:K20) -> 60.683 | M19: =RANK(L19,L7:L42,1) -> 2 | Y19: =IF(E19<87.4,$P$8,IF(E19<89.9,$Q$8,IF(E19<92.4,$R$8,IF(E19<94.9,$S$8,IF(E19<97.4,$T$8,IF(E19<99.9,$U$8,$V$8)))))) -> 14 | Z19: =IF(E19<87.4,$P$9,IF(E19<89.9,$Q$9,IF(E19<92.4,$R$9,IF(E19<94.9,$S$9,IF(E19<97.4,$T$9,IF(E19<99.9,$U$9,$V$9)))))) -> 9.8 | AA19: =IF(E19<87.4,$P$10,IF(E19<89.9,$Q$10,IF(E19<92.4,$R$10,IF(E19<94.9,$S$10,IF(E19<97.4,$T$10,IF(E19<99.9,$U$10,$V$10)))))) -> 7
C20: Манило Денис | D20: 4-2 | F20: =IF(E20<85,0,IF((COUNT(E19:E22))=2,Y20,IF((COUNT(E19:E22))=3,Z20,AA20))) -> 0 | H20: 9 | I20: 60.397 | J20: =IF(E20<84.9,0,IF(E20<87.4,0.1,IF(E20<89.9,0.15,IF(E20<92.4,0.2,IF(E20<94.9,0.25,IF(E20<97.4,0.3,IF(E20<99.9,0.35,0.4))))))) -> 0 | K20: =I20-J20 -> 60.397 | Y20: =IF(E20<87.4,$P$8,IF(E20<89.9,$Q$8,IF(E20<92.4,$R$8,IF(E20<94.9,$S$8,IF(E20<97.4,$T$8,IF(E20<99.9,$U$8,$V$8)))))) -> 14 | Z20: =IF(E20<87.4,$P$9,IF(E20<89.9,$Q$9,IF(E20<92.4,$R$9,IF(E20<94.9,$S$9,IF(E20<97.4,$T$9,IF(E20<99.9,$U$9,$V$9)))))) -> 9.8 | AA20: =IF(E20<87.4,$P$10,IF(E20<89.9,$Q$10,IF(E20<92.4,$R$10,IF(E20<94.9,$S$10,IF(E20<97.4,$T$10,IF(E20<99.9,$U$10,$V$10)))))) -> 7
D21: 4-3 | F21: =IF(E21<85,0,IF((COUNT(E19:E22))=2,Y21,IF((COUNT(E19:E22))=3,Z21,AA21))) -> 0 | J21: =IF(E21<84.9,0,IF(E21<87.4,0.1,IF(E21<89.9,0.15,IF(E21<92.4,0.2,IF(E21<94.9,0.25,IF(E21<97.4,0.3,IF(E21<99.9,0.35,0.4))))))) -> 0 | K21: =I21-J21 -> 0 | Y21: =IF(E21<87.4,$P$8,IF(E21<89.9,$Q$8,IF(E21<92.4,$R$8,IF(E21<94.9,$S$8,IF(E21<97.4,$T$8,IF(E21<99.9,$U$8,$V$8)))))) -> 14 | Z21: =IF(E21<87.4,$P$9,IF(E21<89.9,$Q$9,IF(E21<92.4,$R$9,IF(E21<94.9,$S$9,IF(E21<97.4,$T$9,IF(E21<99.9,$U$9,$V$9)))))) -> 9.8 | AA21: =IF(E21<87.4,$P$10,IF(E21<89.9,$Q$10,IF(E21<92.4,$R$10,IF(E21<94.9,$S$10,IF(E21<97.4,$T$10,IF(E21<99.9,$U$10,$V$10)))))) -> 7
D22: 4-4 | F22: =IF(E22<85,0,IF((COUNT(E19:E22))=2,Y22,IF((COUNT(E19:E22))=3,Z22,AA22))) -> 0 | J22: =IF(E22<84.9,0,IF(E22<87.4,0.1,IF(E22<89.9,0.15,IF(E22<92.4,0.2,IF(E22<94.9,0.25,IF(E22<97.4,0.3,IF(E22<99.9,0.35,0.4))))))) -> 0 | K22: =I22-J22 -> 0 | Y22: =IF(E22<87.4,$P$8,IF(E22<89.9,$Q$8,IF(E22<92.4,$R$8,IF(E22<94.9,$S$8,IF(E22<97.4,$T$8,IF(E22<99.9,$U$8,$V$8)))))) -> 14 | Z22: =IF(E22<87.4,$P$9,IF(E22<89.9,$Q$9,IF(E22<92.4,$R$9,IF(E22<94.9,$S$9,IF(E22<97.4,$T$9,IF(E22<99.9,$U$9,$V$9)))))) -> 9.8 | AA22: =IF(E22<87.4,$P$10,IF(E22<89.9,$Q$10,IF(E22<92.4,$R$10,IF(E22<94.9,$S$10,IF(E22<97.4,$T$10,IF(E22<99.9,$U$10,$V$10)))))) -> 7
A23: 5 | B23: Fortuna Racing | C23: Фортуна Таня | D23: 5-1 | E23: 69.6 | F23: =IF(E23<85,0,IF((COUNT(E23:E26))=2,Y23,IF((COUNT(E23:E26))=3,Z23,AA23))) -> 0 | G23: =SUM(F23:F26) -> 0 | H23: 11 | I23: 62.717 | J23: =IF(E23<84.9,0,IF(E23<87.4,0.1,IF(E23<89.9,0.15,IF(E23<92.4,0.2,IF(E23<94.9,0.25,IF(E23<97.4,0.3,IF(E23<99.9,0.35,0.4))))))) -> 0 | K23: =I23-J23 -> 62.717 | L23: =AVERAGE(K23:K24) -> 62.1765 | M23: =RANK(L23,L7:L42,1) -> 5 | Y23: =IF(E23<87.4,$P$8,IF(E23<89.9,$Q$8,IF(E23<92.4,$R$8,IF(E23<94.9,$S$8,IF(E23<97.4,$T$8,IF(E23<99.9,$U$8,$V$8)))))) -> 14 | Z23: =IF(E23<87.4,$P$9,IF(E23<89.9,$Q$9,IF(E23<92.4,$R$9,IF(E23<94.9,$S$9,IF(E23<97.4,$T$9,IF(E23<99.9,$U$9,$V$9)))))) -> 9.8 | AA23: =IF(E23<87.4,$P$10,IF(E23<89.9,$Q$10,IF(E23<92.4,$R$10,IF(E23<94.9,$S$10,IF(E23<97.4,$T$10,IF(E23<99.9,$U$10,$V$10)))))) -> 7
C24: Шутка Виталий | D24: 5-2 | E24: 80.8 | F24: =IF(E24<85,0,IF((COUNT(E23:E26))=2,Y24,IF((COUNT(E23:E26))=3,Z24,AA24))) -> 0 | H24: 10 | I24: 61.636 | J24: =IF(E24<84.9,0,IF(E24<87.4,0.1,IF(E24<89.9,0.15,IF(E24<92.4,0.2,IF(E24<94.9,0.25,IF(E24<97.4,0.3,IF(E24<99.9,0.35,0.4))))))) -> 0 | K24: =I24-J24 -> 61.636 | Y24: =IF(E24<87.4,$P$8,IF(E24<89.9,$Q$8,IF(E24<92.4,$R$8,IF(E24<94.9,$S$8,IF(E24<97.4,$T$8,IF(E24<99.9,$U$8,$V$8)))))) -> 14 | Z24: =IF(E24<87.4,$P$9,IF(E24<89.9,$Q$9,IF(E24<92.4,$R$9,IF(E24<94.9,$S$9,IF(E24<97.4,$T$9,IF(E24<99.9,$U$9,$V$9)))))) -> 9.8 | AA24: =IF(E24<87.4,$P$10,IF(E24<89.9,$Q$10,IF(E24<92.4,$R$10,IF(E24<94.9,$S$10,IF(E24<97.4,$T$10,IF(E24<99.9,$U$10,$V$10)))))) -> 7
D25: 5-3 | F25: =IF(E25<85,0,IF((COUNT(E23:E26))=2,Y25,IF((COUNT(E23:E26))=3,Z25,AA25))) -> 0 | J25: =IF(E25<84.9,0,IF(E25<87.4,0.1,IF(E25<89.9,0.15,IF(E25<92.4,0.2,IF(E25<94.9,0.25,IF(E25<97.4,0.3,IF(E25<99.9,0.35,0.4))))))) -> 0 | K25: =I25-J25 -> 0 | Y25: =IF(E25<87.4,$P$8,IF(E25<89.9,$Q$8,IF(E25<92.4,$R$8,IF(E25<94.9,$S$8,IF(E25<97.4,$T$8,IF(E25<99.9,$U$8,$V$8)))))) -> 14 | Z25: =IF(E25<87.4,$P$9,IF(E25<89.9,$Q$9,IF(E25<92.4,$R$9,IF(E25<94.9,$S$9,IF(E25<97.4,$T$9,IF(E25<99.9,$U$9,$V$9)))))) -> 9.8 | AA25: =IF(E25<87.4,$P$10,IF(E25<89.9,$Q$10,IF(E25<92.4,$R$10,IF(E25<94.9,$S$10,IF(E25<97.4,$T$10,IF(E25<99.9,$U$10,$V$10)))))) -> 7
D26: 5-4 | F26: =IF(E26<85,0,IF((COUNT(E23:E26))=2,Y26,IF((COUNT(E23:E26))=3,Z26,AA26))) -> 0 | J26: =IF(E26<84.9,0,IF(E26<87.4,0.1,IF(E26<89.9,0.15,IF(E26<92.4,0.2,IF(E26<94.9,0.25,IF(E26<97.4,0.3,IF(E26<99.9,0.35,0.4))))))) -> 0 | K26: =I26-J26 -> 0 | Y26: =IF(E26<87.4,$P$8,IF(E26<89.9,$Q$8,IF(E26<92.4,$R$8,IF(E26<94.9,$S$8,IF(E26<97.4,$T$8,IF(E26<99.9,$U$8,$V$8)))))) -> 14 | Z26: =IF(E26<87.4,$P$9,IF(E26<89.9,$Q$9,IF(E26<92.4,$R$9,IF(E26<94.9,$S$9,IF(E26<97.4,$T$9,IF(E26<99.9,$U$9,$V$9)))))) -> 9.8 | AA26: =IF(E26<87.4,$P$10,IF(E26<89.9,$Q$10,IF(E26<92.4,$R$10,IF(E26<94.9,$S$10,IF(E26<97.4,$T$10,IF(E26<99.9,$U$10,$V$10)))))) -> 7
A27: 6 | B27: Kozaks | C27: Бахмацкий Олег | D27: 6-1 | E27: 83.1 | F27: =IF(E27<85,0,IF((COUNT(E27:E30))=2,Y27,IF((COUNT(E27:E30))=3,Z27,AA27))) -> 0 | G27: =SUM(F27:F30) -> 19.6 | H27: 69 | I27: 61.216 | J27: =IF(E27<84.9,0,IF(E27<87.4,0.1,IF(E27<89.9,0.15,IF(E27<92.4,0.2,IF(E27<94.9,0.25,IF(E27<97.4,0.3,IF(E27<99.9,0.35,0.4))))))) -> 0 | K27: =I27-J27 -> 61.216 | L27: =AVERAGE(K27,K29) -> 60.821 | M27: =RANK(L27,L7:L42,1) -> 3 | Y27: =IF(E27<87.4,$P$8,IF(E27<89.9,$Q$8,IF(E27<92.4,$R$8,IF(E27<94.9,$S$8,IF(E27<97.4,$T$8,IF(E27<99.9,$U$8,$V$8)))))) -> 14 | Z27: =IF(E27<87.4,$P$9,IF(E27<89.9,$Q$9,IF(E27<92.4,$R$9,IF(E27<94.9,$S$9,IF(E27<97.4,$T$9,IF(E27<99.9,$U$9,$V$9)))))) -> 9.8 | AA27: =IF(E27<87.4,$P$10,IF(E27<89.9,$Q$10,IF(E27<92.4,$R$10,IF(E27<94.9,$S$10,IF(E27<97.4,$T$10,IF(E27<99.9,$U$10,$V$10)))))) -> 7
C28: Петушков Андрей | D28: 6-2 | E28: 77.5 | F28: =IF(E28<85,0,IF((COUNT(E27:E30))=2,Y28,IF((COUNT(E27:E30))=3,Z28,AA28))) -> 0 | J28: =IF(E28<84.9,0,IF(E28<87.4,0.1,IF(E28<89.9,0.15,IF(E28<92.4,0.2,IF(E28<94.9,0.25,IF(E28<97.4,0.3,IF(E28<99.9,0.35,0.4))))))) -> 0 | K28: =I28-J28 -> 0 | Y28: =IF(E28<87.4,$P$8,IF(E28<89.9,$Q$8,IF(E28<92.4,$R$8,IF(E28<94.9,$S$8,IF(E28<97.4,$T$8,IF(E28<99.9,$U$8,$V$8)))))) -> 14 | Z28: =IF(E28<87.4,$P$9,IF(E28<89.9,$Q$9,IF(E28<92.4,$R$9,IF(E28<94.9,$S$9,IF(E28<97.4,$T$9,IF(E28<99.9,$U$9,$V$9)))))) -> 9.8 | AA28: =IF(E28<87.4,$P$10,IF(E28<89.9,$Q$10,IF(E28<92.4,$R$10,IF(E28<94.9,$S$10,IF(E28<97.4,$T$10,IF(E28<99.9,$U$10,$V$10)))))) -> 7
C29: Тыщенко Миша | D29: 6-3 | E29: 90.3 | F29: =IF(E29<85,0,IF((COUNT(E27:E30))=2,Y29,IF((COUNT(E27:E30))=3,Z29,AA29))) -> 19.6 | H29: 21 | I29: 60.426 | K29: =I29-J29 -> 60.426 | Y29: =IF(E29<87.4,$P$8,IF(E29<89.9,$Q$8,IF(E29<92.4,$R$8,IF(E29<94.9,$S$8,IF(E29<97.4,$T$8,IF(E29<99.9,$U$8,$V$8)))))) -> 28 | Z29: =IF(E29<87.4,$P$9,IF(E29<89.9,$Q$9,IF(E29<92.4,$R$9,IF(E29<94.9,$S$9,IF(E29<97.4,$T$9,IF(E29<99.9,$U$9,$V$9)))))) -> 19.6 | AA29: =IF(E29<87.4,$P$10,IF(E29<89.9,$Q$10,IF(E29<92.4,$R$10,IF(E29<94.9,$S$10,IF(E29<97.4,$T$10,IF(E29<99.9,$U$10,$V$10)))))) -> 14
D30: 6-4 | F30: =IF(E30<85,0,IF((COUNT(E27:E30))=2,Y30,IF((COUNT(E27:E30))=3,Z30,AA30))) -> 0 | J30: =IF(E30<84.9,0,IF(E30<87.4,0.1,IF(E30<89.9,0.15,IF(E30<92.4,0.2,IF(E30<94.9,0.25,IF(E30<97.4,0.3,IF(E30<99.9,0.35,0.4))))))) -> 0 | K30: =I30-J30 -> 0 | Y30: =IF(E30<87.4,$P$8,IF(E30<89.9,$Q$8,IF(E30<92.4,$R$8,IF(E30<94.9,$S$8,IF(E30<97.4,$T$8,IF(E30<99.9,$U$8,$V$8)))))) -> 14 | Z30: =IF(E30<87.4,$P$9,IF(E30<89.9,$Q$9,IF(E30<92.4,$R$9,IF(E30<94.9,$S$9,IF(E30<97.4,$T$9,IF(E30<99.9,$U$9,$V$9)))))) -> 9.8 | AA30: =IF(E30<87.4,$P$10,IF(E30<89.9,$Q$10,IF(E30<92.4,$R$10,IF(E30<94.9,$S$10,IF(E30<97.4,$T$10,IF(E30<99.9,$U$10,$V$10)))))) -> 7
A31: 7 | B31: 777 | C31: Бурим Сергей | D31: 7-1 | E31: 63 | F31: =IF(E31<85,0,IF((COUNT(E31:E34))=2,Y31,IF((COUNT(E31:E34))=3,Z31,AA31))) -> 0 | G31: =SUM(F31:F34) -> 34.3 | H31: 1 | I31: 61.442 | J31: =IF(E31<84.9,0,IF(E31<87.4,0.1,IF(E31<89.9,0.15,IF(E31<92.4,0.2,IF(E31<94.9,0.25,IF(E31<97.4,0.3,IF(E31<99.9,0.35,0.4))))))) -> 0 | K31: =I31-J31 -> 61.442 | L31: =AVERAGE(K31:K32) -> 62.208 | M31: =RANK(L31,L7:L42,1) -> 6 | Y31: =IF(E31<87.4,$P$8,IF(E31<89.9,$Q$8,IF(E31<92.4,$R$8,IF(E31<94.9,$S$8,IF(E31<97.4,$T$8,IF(E31<99.9,$U$8,$V$8)))))) -> 14 | Z31: =IF(E31<87.4,$P$9,IF(E31<89.9,$Q$9,IF(E31<92.4,$R$9,IF(E31<94.9,$S$9,IF(E31<97.4,$T$9,IF(E31<99.9,$U$9,$V$9)))))) -> 9.8 | AA31: =IF(E31<87.4,$P$10,IF(E31<89.9,$Q$10,IF(E31<92.4,$R$10,IF(E31<94.9,$S$10,IF(E31<97.4,$T$10,IF(E31<99.9,$U$10,$V$10)))))) -> 7
C32: Ерофеев Денис | D32: 7-2 | E32: 97.6 | F32: =IF(E32<85,0,IF((COUNT(E31:E34))=2,Y32,IF((COUNT(E31:E34))=3,Z32,AA32))) -> 34.3 | H32: 1 | I32: 62.974 | K32: =I32-J32 -> 62.974 | Y32: =IF(E32<87.4,$P$8,IF(E32<89.9,$Q$8,IF(E32<92.4,$R$8,IF(E32<94.9,$S$8,IF(E32<97.4,$T$8,IF(E32<99.9,$U$8,$V$8)))))) -> 49 | Z32: =IF(E32<87.4,$P$9,IF(E32<89.9,$Q$9,IF(E32<92.4,$R$9,IF(E32<94.9,$S$9,IF(E32<97.4,$T$9,IF(E32<99.9,$U$9,$V$9)))))) -> 34.3 | AA32: =IF(E32<87.4,$P$10,IF(E32<89.9,$Q$10,IF(E32<92.4,$R$10,IF(E32<94.9,$S$10,IF(E32<97.4,$T$10,IF(E32<99.9,$U$10,$V$10)))))) -> 24.5
C33: Сериченко Мария | D33: 7-3 | E33: 65.6 | F33: =IF(E33<85,0,IF((COUNT(E31:E34))=2,Y33,IF((COUNT(E31:E34))=3,Z33,AA33))) -> 0 | J33: =IF(E33<84.9,0,IF(E33<87.4,0.1,IF(E33<89.9,0.15,IF(E33<92.4,0.2,IF(E33<94.9,0.25,IF(E33<97.4,0.3,IF(E33<99.9,0.35,0.4))))))) -> 0 | K33: =I33-J33 -> 0 | Y33: =IF(E33<87.4,$P$8,IF(E33<89.9,$Q$8,IF(E33<92.4,$R$8,IF(E33<94.9,$S$8,IF(E33<97.4,$T$8,IF(E33<99.9,$U$8,$V$8)))))) -> 14 | Z33: =IF(E33<87.4,$P$9,IF(E33<89.9,$Q$9,IF(E33<92.4,$R$9,IF(E33<94.9,$S$9,IF(E33<97.4,$T$9,IF(E33<99.9,$U$9,$V$9)))))) -> 9.8 | AA33: =IF(E33<87.4,$P$10,IF(E33<89.9,$Q$10,IF(E33<92.4,$R$10,IF(E33<94.9,$S$10,IF(E33<97.4,$T$10,IF(E33<99.9,$U$10,$V$10)))))) -> 7
D34: 7-4 | F34: =IF(E34<85,0,IF((COUNT(E31:E34))=2,Y34,IF((COUNT(E31:E34))=3,Z34,AA34))) -> 0 | J34: =IF(E34<84.9,0,IF(E34<87.4,0.1,IF(E34<89.9,0.15,IF(E34<92.4,0.2,IF(E34<94.9,0.25,IF(E34<97.4,0.3,IF(E34<99.9,0.35,0.4))))))) -> 0 | K34: =I34-J34 -> 0 | Y34: =IF(E34<87.4,$P$8,IF(E34<89.9,$Q$8,IF(E34<92.4,$R$8,IF(E34<94.9,$S$8,IF(E34<97.4,$T$8,IF(E34<99.9,$U$8,$V$8)))))) -> 14 | Z34: =IF(E34<87.4,$P$9,IF(E34<89.9,$Q$9,IF(E34<92.4,$R$9,IF(E34<94.9,$S$9,IF(E34<97.4,$T$9,IF(E34<99.9,$U$9,$V$9)))))) -> 9.8 | AA34: =IF(E34<87.4,$P$10,IF(E34<89.9,$Q$10,IF(E34<92.4,$R$10,IF(E34<94.9,$S$10,IF(E34<97.4,$T$10,IF(E34<99.9,$U$10,$V$10)))))) -> 7
A35: 8 | B35: K44 | C35: Пикулин Павел | D35: 8-1 | E35: 78.1 | F35: =IF(E35<85,0,IF((COUNT(E35:E38))=2,Y35,IF((COUNT(E35:E38))=3,Z35,AA35))) -> 0 | G35: =SUM(F35:F38) -> 0 | H35: 1 | I35: 60.18 | J35: =IF(E35<84.9,0,IF(E35<87.4,0.1,IF(E35<89.9,0.15,IF(E35<92.4,0.2,IF(E35<94.9,0.25,IF(E35<97.4,0.3,IF(E35<99.9,0.35,0.4))))))) -> 0 | K35: =I35-J35 -> 60.18 | L35: =AVERAGE(K35,K37) -> 60.4185 | M35: =RANK(L35,L7:L42,1) -> 1 | Y35: =IF(E35<87.4,$P$8,IF(E35<89.9,$Q$8,IF(E35<92.4,$R$8,IF(E35<94.9,$S$8,IF(E35<97.4,$T$8,IF(E35<99.9,$U$8,$V$8)))))) -> 14 | Z35: =IF(E35<87.4,$P$9,IF(E35<89.9,$Q$9,IF(E35<92.4,$R$9,IF(E35<94.9,$S$9,IF(E35<97.4,$T$9,IF(E35<99.9,$U$9,$V$9)))))) -> 9.8 | AA35: =IF(E35<87.4,$P$10,IF(E35<89.9,$Q$10,IF(E35<92.4,$R$10,IF(E35<94.9,$S$10,IF(E35<97.4,$T$10,IF(E35<99.9,$U$10,$V$10)))))) -> 7
C36: Ткаченко Кирилл | D36: 8-2 | E36: 78.8 | F36: =IF(E36<85,0,IF((COUNT(E35:E38))=2,Y36,IF((COUNT(E35:E38))=3,Z36,AA36))) -> 0 | J36: =IF(E36<84.9,0,IF(E36<87.4,0.1,IF(E36<89.9,0.15,IF(E36<92.4,0.2,IF(E36<94.9,0.25,IF(E36<97.4,0.3,IF(E36<99.9,0.35,0.4))))))) -> 0 | K36: =I36-J36 -> 0 | Y36: =IF(E36<87.4,$P$8,IF(E36<89.9,$Q$8,IF(E36<92.4,$R$8,IF(E36<94.9,$S$8,IF(E36<97.4,$T$8,IF(E36<99.9,$U$8,$V$8)))))) -> 14 | Z36: =IF(E36<87.4,$P$9,IF(E36<89.9,$Q$9,IF(E36<92.4,$R$9,IF(E36<94.9,$S$9,IF(E36<97.4,$T$9,IF(E36<99.9,$U$9,$V$9)))))) -> 9.8 | AA36: =IF(E36<87.4,$P$10,IF(E36<89.9,$Q$10,IF(E36<92.4,$R$10,IF(E36<94.9,$S$10,IF(E36<97.4,$T$10,IF(E36<99.9,$U$10,$V$10)))))) -> 7
C37: Хавило Дима | D37: 8-3 | E37: 69 | F37: =IF(E37<85,0,IF((COUNT(E35:E38))=2,Y37,IF((COUNT(E35:E38))=3,Z37,AA37))) -> 0 | H37: 2 | I37: 60.657 | J37: =IF(E37<84.9,0,IF(E37<87.4,0.1,IF(E37<89.9,0.15,IF(E37<92.4,0.2,IF(E37<94.9,0.25,IF(E37<97.4,0.3,IF(E37<99.9,0.35,0.4))))))) -> 0 | K37: =I37-J37 -> 60.657 | Y37: =IF(E37<87.4,$P$8,IF(E37<89.9,$Q$8,IF(E37<92.4,$R$8,IF(E37<94.9,$S$8,IF(E37<97.4,$T$8,IF(E37<99.9,$U$8,$V$8)))))) -> 14 | Z37: =IF(E37<87.4,$P$9,IF(E37<89.9,$Q$9,IF(E37<92.4,$R$9,IF(E37<94.9,$S$9,IF(E37<97.4,$T$9,IF(E37<99.9,$U$9,$V$9)))))) -> 9.8 | AA37: =IF(E37<87.4,$P$10,IF(E37<89.9,$Q$10,IF(E37<92.4,$R$10,IF(E37<94.9,$S$10,IF(E37<97.4,$T$10,IF(E37<99.9,$U$10,$V$10)))))) -> 7
D38: 8-4 | F38: =IF(E38<85,0,IF((COUNT(E35:E38))=2,Y38,IF((COUNT(E35:E38))=3,Z38,AA38))) -> 0 | J38: =IF(E38<84.9,0,IF(E38<87.4,0.1,IF(E38<89.9,0.15,IF(E38<92.4,0.2,IF(E38<94.9,0.25,IF(E38<97.4,0.3,IF(E38<99.9,0.35,0.4))))))) -> 0 | K38: =I38-J38 -> 0 | Y38: =IF(E38<87.4,$P$8,IF(E38<89.9,$Q$8,IF(E38<92.4,$R$8,IF(E38<94.9,$S$8,IF(E38<97.4,$T$8,IF(E38<99.9,$U$8,$V$8)))))) -> 14 | Z38: =IF(E38<87.4,$P$9,IF(E38<89.9,$Q$9,IF(E38<92.4,$R$9,IF(E38<94.9,$S$9,IF(E38<97.4,$T$9,IF(E38<99.9,$U$9,$V$9)))))) -> 9.8 | AA38: =IF(E38<87.4,$P$10,IF(E38<89.9,$Q$10,IF(E38<92.4,$R$10,IF(E38<94.9,$S$10,IF(E38<97.4,$T$10,IF(E38<99.9,$U$10,$V$10)))))) -> 7
A39: 10 | B39: Flash | C39: Загорулько Иван | D39: 10-1 | E39: 97.4 | F39: =IF(E39<85,0,IF((COUNT(E39:E42))=2,Y39,IF((COUNT(E39:E42))=3,Z39,AA39))) -> 49 | G39: =SUM(F39:F42) -> 49 | H39: 10 | I39: 61.404 | K39: =I39-J39 -> 61.404 | L39: =AVERAGE(K39:K40) -> 63.712 | M39: =RANK(L39,L7:L42,1) -> 9 | Y39: =IF(E39<87.4,$P$8,IF(E39<89.9,$Q$8,IF(E39<92.4,$R$8,IF(E39<94.9,$S$8,IF(E39<97.4,$T$8,IF(E39<99.9,$U$8,$V$8)))))) -> 49 | Z39: =IF(E39<87.4,$P$9,IF(E39<89.9,$Q$9,IF(E39<92.4,$R$9,IF(E39<94.9,$S$9,IF(E39<97.4,$T$9,IF(E39<99.9,$U$9,$V$9)))))) -> 34.3 | AA39: =IF(E39<87.4,$P$10,IF(E39<89.9,$Q$10,IF(E39<92.4,$R$10,IF(E39<94.9,$S$10,IF(E39<97.4,$T$10,IF(E39<99.9,$U$10,$V$10)))))) -> 24.5
C40: Черников Леша | D40: 10-2 | E40: 61 | F40: =IF(E40<85,0,IF((COUNT(E39:E42))=2,Y40,IF((COUNT(E39:E42))=3,Z40,AA40))) -> 0 | H40: 13 | I40: 66.02 | J40: =IF(E40<84.9,0,IF(E40<87.4,0.1,IF(E40<89.9,0.15,IF(E40<92.4,0.2,IF(E40<94.9,0.25,IF(E40<97.4,0.3,IF(E40<99.9,0.35,0.4))))))) -> 0 | K40: =I40-J40 -> 66.02 | Y40: =IF(E40<87.4,$P$8,IF(E40<89.9,$Q$8,IF(E40<92.4,$R$8,IF(E40<94.9,$S$8,IF(E40<97.4,$T$8,IF(E40<99.9,$U$8,$V$8)))))) -> 14 | Z40: =IF(E40<87.4,$P$9,IF(E40<89.9,$Q$9,IF(E40<92.4,$R$9,IF(E40<94.9,$S$9,IF(E40<97.4,$T$9,IF(E40<99.9,$U$9,$V$9)))))) -> 9.8 | AA40: =IF(E40<87.4,$P$10,IF(E40<89.9,$Q$10,IF(E40<92.4,$R$10,IF(E40<94.9,$S$10,IF(E40<97.4,$T$10,IF(E40<99.9,$U$10,$V$10)))))) -> 7
D41: 10-3 | F41: =IF(E41<85,0,IF((COUNT(E39:E42))=2,Y41,IF((COUNT(E39:E42))=3,Z41,AA41))) -> 0 | J41: =IF(E41<84.9,0,IF(E41<87.4,0.1,IF(E41<89.9,0.15,IF(E41<92.4,0.2,IF(E41<94.9,0.25,IF(E41<97.4,0.3,IF(E41<99.9,0.35,0.4))))))) -> 0 | K41: =I41-J41 -> 0 | Y41: =IF(E41<87.4,$P$8,IF(E41<89.9,$Q$8,IF(E41<92.4,$R$8,IF(E41<94.9,$S$8,IF(E41<97.4,$T$8,IF(E41<99.9,$U$8,$V$8)))))) -> 14 | Z41: =IF(E41<87.4,$P$9,IF(E41<89.9,$Q$9,IF(E41<92.4,$R$9,IF(E41<94.9,$S$9,IF(E41<97.4,$T$9,IF(E41<99.9,$U$9,$V$9)))))) -> 9.8 | AA41: =IF(E41<87.4,$P$10,IF(E41<89.9,$Q$10,IF(E41<92.4,$R$10,IF(E41<94.9,$S$10,IF(E41<97.4,$T$10,IF(E41<99.9,$U$10,$V$10)))))) -> 7
D42: 10-4 | F42: =IF(E42<85,0,IF((COUNT(E39:E42))=2,Y42,IF((COUNT(E39:E42))=3,Z42,AA42))) -> 0 | J42: =IF(E42<84.9,0,IF(E42<87.4,0.1,IF(E42<89.9,0.15,IF(E42<92.4,0.2,IF(E42<94.9,0.25,IF(E42<97.4,0.3,IF(E42<99.9,0.35,0.4))))))) -> 0 | K42: =I42-J42 -> 0 | Y42: =IF(E42<87.4,$P$8,IF(E42<89.9,$Q$8,IF(E42<92.4,$R$8,IF(E42<94.9,$S$8,IF(E42<97.4,$T$8,IF(E42<99.9,$U$8,$V$8)))))) -> 14 | Z42: =IF(E42<87.4,$P$9,IF(E42<89.9,$Q$9,IF(E42<92.4,$R$9,IF(E42<94.9,$S$9,IF(E42<97.4,$T$9,IF(E42<99.9,$U$9,$V$9)))))) -> 9.8 | AA42: =IF(E42<87.4,$P$10,IF(E42<89.9,$Q$10,IF(E42<92.4,$R$10,IF(E42<94.9,$S$10,IF(E42<97.4,$T$10,IF(E42<99.9,$U$10,$V$10)))))) -> 7
Y43: =IF(#REF!<87.4,$P$8,IF(#REF!<89.9,$Q$8,IF(#REF!<92.4,$R$8,IF(#REF!<94.9,$S$8,IF(#REF!<97.4,$T$8,IF(#REF!<99.9,$U$8,$V$8)))))) -> #REF! | Z43: =IF(#REF!<87.4,$P$9,IF(#REF!<89.9,$Q$9,IF(#REF!<92.4,$R$9,IF(#REF!<94.9,$S$9,IF(#REF!<97.4,$T$9,IF(#REF!<99.9,$U$9,$V$9)))))) -> #REF! | AA43: =IF(#REF!<87.4,$P$10,IF(#REF!<89.9,$Q$10,IF(#REF!<92.4,$R$10,IF(#REF!<94.9,$S$10,IF(#REF!<97.4,$T$10,IF(#REF!<99.9,$U$10,$V$10)))))) -> #REF!
Y44: =IF(#REF!<87.4,$P$8,IF(#REF!<89.9,$Q$8,IF(#REF!<92.4,$R$8,IF(#REF!<94.9,$S$8,IF(#REF!<97.4,$T$8,IF(#REF!<99.9,$U$8,$V$8)))))) -> #REF! | Z44: =IF(#REF!<87.4,$P$9,IF(#REF!<89.9,$Q$9,IF(#REF!<92.4,$R$9,IF(#REF!<94.9,$S$9,IF(#REF!<97.4,$T$9,IF(#REF!<99.9,$U$9,$V$9)))))) -> #REF! | AA44: =IF(#REF!<87.4,$P$10,IF(#REF!<89.9,$Q$10,IF(#REF!<92.4,$R$10,IF(#REF!<94.9,$S$10,IF(#REF!<97.4,$T$10,IF(#REF!<99.9,$U$10,$V$10)))))) -> #REF!
Y45: =IF(#REF!<87.4,$P$8,IF(#REF!<89.9,$Q$8,IF(#REF!<92.4,$R$8,IF(#REF!<94.9,$S$8,IF(#REF!<97.4,$T$8,IF(#REF!<99.9,$U$8,$V$8)))))) -> #REF! | Z45: =IF(#REF!<87.4,$P$9,IF(#REF!<89.9,$Q$9,IF(#REF!<92.4,$R$9,IF(#REF!<94.9,$S$9,IF(#REF!<97.4,$T$9,IF(#REF!<99.9,$U$9,$V$9)))))) -> #REF! | AA45: =IF(#REF!<87.4,$P$10,IF(#REF!<89.9,$Q$10,IF(#REF!<92.4,$R$10,IF(#REF!<94.9,$S$10,IF(#REF!<97.4,$T$10,IF(#REF!<99.9,$U$10,$V$10)))))) -> #REF!
Y46: =IF(#REF!<87.4,$P$8,IF(#REF!<89.9,$Q$8,IF(#REF!<92.4,$R$8,IF(#REF!<94.9,$S$8,IF(#REF!<97.4,$T$8,IF(#REF!<99.9,$U$8,$V$8)))))) -> #REF! | Z46: =IF(#REF!<87.4,$P$9,IF(#REF!<89.9,$Q$9,IF(#REF!<92.4,$R$9,IF(#REF!<94.9,$S$9,IF(#REF!<97.4,$T$9,IF(#REF!<99.9,$U$9,$V$9)))))) -> #REF! | AA46: =IF(#REF!<87.4,$P$10,IF(#REF!<89.9,$Q$10,IF(#REF!<92.4,$R$10,IF(#REF!<94.9,$S$10,IF(#REF!<97.4,$T$10,IF(#REF!<99.9,$U$10,$V$10)))))) -> #REF!
Y47: =IF(#REF!<87.4,$P$8,IF(#REF!<89.9,$Q$8,IF(#REF!<92.4,$R$8,IF(#REF!<94.9,$S$8,IF(#REF!<97.4,$T$8,IF(#REF!<99.9,$U$8,$V$8)))))) -> #REF! | Z47: =IF(#REF!<87.4,$P$9,IF(#REF!<89.9,$Q$9,IF(#REF!<92.4,$R$9,IF(#REF!<94.9,$S$9,IF(#REF!<97.4,$T$9,IF(#REF!<99.9,$U$9,$V$9)))))) -> #REF! | AA47: =IF(#REF!<87.4,$P$10,IF(#REF!<89.9,$Q$10,IF(#REF!<92.4,$R$10,IF(#REF!<94.9,$S$10,IF(#REF!<97.4,$T$10,IF(#REF!<99.9,$U$10,$V$10)))))) -> #REF!
Y48: =IF(#REF!<87.4,$P$8,IF(#REF!<89.9,$Q$8,IF(#REF!<92.4,$R$8,IF(#REF!<94.9,$S$8,IF(#REF!<97.4,$T$8,IF(#REF!<99.9,$U$8,$V$8)))))) -> #REF! | Z48: =IF(#REF!<87.4,$P$9,IF(#REF!<89.9,$Q$9,IF(#REF!<92.4,$R$9,IF(#REF!<94.9,$S$9,IF(#REF!<97.4,$T$9,IF(#REF!<99.9,$U$9,$V$9)))))) -> #REF! | AA48: =IF(#REF!<87.4,$P$10,IF(#REF!<89.9,$Q$10,IF(#REF!<92.4,$R$10,IF(#REF!<94.9,$S$10,IF(#REF!<97.4,$T$10,IF(#REF!<99.9,$U$10,$V$10)))))) -> #REF!
Y49: =IF(#REF!<87.4,$P$8,IF(#REF!<89.9,$Q$8,IF(#REF!<92.4,$R$8,IF(#REF!<94.9,$S$8,IF(#REF!<97.4,$T$8,IF(#REF!<99.9,$U$8,$V$8)))))) -> #REF! | Z49: =IF(#REF!<87.4,$P$9,IF(#REF!<89.9,$Q$9,IF(#REF!<92.4,$R$9,IF(#REF!<94.9,$S$9,IF(#REF!<97.4,$T$9,IF(#REF!<99.9,$U$9,$V$9)))))) -> #REF! | AA49: =IF(#REF!<87.4,$P$10,IF(#REF!<89.9,$Q$10,IF(#REF!<92.4,$R$10,IF(#REF!<94.9,$S$10,IF(#REF!<97.4,$T$10,IF(#REF!<99.9,$U$10,$V$10)))))) -> #REF!
Y50: =IF(#REF!<87.4,$P$8,IF(#REF!<89.9,$Q$8,IF(#REF!<92.4,$R$8,IF(#REF!<94.9,$S$8,IF(#REF!<97.4,$T$8,IF(#REF!<99.9,$U$8,$V$8)))))) -> #REF! | Z50: =IF(#REF!<87.4,$P$9,IF(#REF!<89.9,$Q$9,IF(#REF!<92.4,$R$9,IF(#REF!<94.9,$S$9,IF(#REF!<97.4,$T$9,IF(#REF!<99.9,$U$9,$V$9)))))) -> #REF! | AA50: =IF(#REF!<87.4,$P$10,IF(#REF!<89.9,$Q$10,IF(#REF!<92.4,$R$10,IF(#REF!<94.9,$S$10,IF(#REF!<97.4,$T$10,IF(#REF!<99.9,$U$10,$V$10)))))) -> #REF!
Y51: =IF(#REF!<87.4,$P$8,IF(#REF!<89.9,$Q$8,IF(#REF!<92.4,$R$8,IF(#REF!<94.9,$S$8,IF(#REF!<97.4,$T$8,IF(#REF!<99.9,$U$8,$V$8)))))) -> #REF! | Z51: =IF(#REF!<87.4,$P$9,IF(#REF!<89.9,$Q$9,IF(#REF!<92.4,$R$9,IF(#REF!<94.9,$S$9,IF(#REF!<97.4,$T$9,IF(#REF!<99.9,$U$9,$V$9)))))) -> #REF! | AA51: =IF(#REF!<87.4,$P$10,IF(#REF!<89.9,$Q$10,IF(#REF!<92.4,$R$10,IF(#REF!<94.9,$S$10,IF(#REF!<97.4,$T$10,IF(#REF!<99.9,$U$10,$V$10)))))) -> #REF!
Y52: =IF(#REF!<87.4,$P$8,IF(#REF!<89.9,$Q$8,IF(#REF!<92.4,$R$8,IF(#REF!<94.9,$S$8,IF(#REF!<97.4,$T$8,IF(#REF!<99.9,$U$8,$V$8)))))) -> #REF! | Z52: =IF(#REF!<87.4,$P$9,IF(#REF!<89.9,$Q$9,IF(#REF!<92.4,$R$9,IF(#REF!<94.9,$S$9,IF(#REF!<97.4,$T$9,IF(#REF!<99.9,$U$9,$V$9)))))) -> #REF! | AA52: =IF(#REF!<87.4,$P$10,IF(#REF!<89.9,$Q$10,IF(#REF!<92.4,$R$10,IF(#REF!<94.9,$S$10,IF(#REF!<97.4,$T$10,IF(#REF!<99.9,$U$10,$V$10)))))) -> #REF!
Y53: =IF(#REF!<87.4,$P$8,IF(#REF!<89.9,$Q$8,IF(#REF!<92.4,$R$8,IF(#REF!<94.9,$S$8,IF(#REF!<97.4,$T$8,IF(#REF!<99.9,$U$8,$V$8)))))) -> #REF! | Z53: =IF(#REF!<87.4,$P$9,IF(#REF!<89.9,$Q$9,IF(#REF!<92.4,$R$9,IF(#REF!<94.9,$S$9,IF(#REF!<97.4,$T$9,IF(#REF!<99.9,$U$9,$V$9)))))) -> #REF! | AA53: =IF(#REF!<87.4,$P$10,IF(#REF!<89.9,$Q$10,IF(#REF!<92.4,$R$10,IF(#REF!<94.9,$S$10,IF(#REF!<97.4,$T$10,IF(#REF!<99.9,$U$10,$V$10)))))) -> #REF!
Y54: =IF(#REF!<87.4,$P$8,IF(#REF!<89.9,$Q$8,IF(#REF!<92.4,$R$8,IF(#REF!<94.9,$S$8,IF(#REF!<97.4,$T$8,IF(#REF!<99.9,$U$8,$V$8)))))) -> #REF! | Z54: =IF(#REF!<87.4,$P$9,IF(#REF!<89.9,$Q$9,IF(#REF!<92.4,$R$9,IF(#REF!<94.9,$S$9,IF(#REF!<97.4,$T$9,IF(#REF!<99.9,$U$9,$V$9)))))) -> #REF! | AA54: =IF(#REF!<87.4,$P$10,IF(#REF!<89.9,$Q$10,IF(#REF!<92.4,$R$10,IF(#REF!<94.9,$S$10,IF(#REF!<97.4,$T$10,IF(#REF!<99.9,$U$10,$V$10)))))) -> #REF!
... Y78: =IF(#REF!<87.4,$P$8,IF(#REF!<89.9,$Q$8,IF(#REF!<92.4,$R$8,IF(#REF!<94.9,$S$8,IF(#REF!<97.4,$T$8,IF(#REF!<99.9,$U$8,$V$8)))))) -> #REF! | Z78: =IF(#REF!<87.4,$P$9,IF(#REF!<89.9,$Q$9,IF(#REF!<92.4,$R$9,IF(#REF!<94.9,$S$9,IF(#REF!<97.4,$T$9,IF(#REF!<99.9,$U$9,$V$9)))))) -> #REF! | AA78: =IF(#REF!<87.4,$P$10,IF(#REF!<89.9,$Q$10,IF(#REF!<92.4,$R$10,IF(#REF!<94.9,$S$10,IF(#REF!<97.4,$T$10,IF(#REF!<99.9,$U$10,$V$10)))))) -> #REF!

Sheet K44
A2: Чемпионат мини марафон "Большие Гонки", Гранд-Финал
A4: K44
A6: Обяза-тельные | B6: Пилот | C6: карт | D6: Круг | E6: кругов на отрезке | F6: Статистика по кругам | I6: Общее время гонки | J6: Время на трассе | L6: Питы | M6: Штрафы/ бонусы (сек)
F7: Лучший круг | G7: Среднее на отрезке | H7: стабильность | J7: отрезок | K7: всего у пилота
A8: 1 | B8: Пикулин Паша | C8: 69 | D8: =COUNTA(C28:C92) -> 17 | E8: =COUNTA(C28:C92) -> 17 | F8: =MIN(C28:C91) -> 59.917 | G8: =AVERAGE(C28:C94) -> 60.6 | H8: =G8-F8 -> 0.683 | I8: 0.012662037 | J8: =I8 -> 0.012662037 | K8: =J8 -> 0.012662037 | L8: 158.067
A9: 2 | B9: Хавило Дима | C9: 8 | D9: =COUNTA(D28:D92)+D8+1 -> 38 | E9: =COUNTA(D28:D92)+1 -> 21 | F9: =MIN(D28:D91) -> 59.67 | G9: =AVERAGE(D28:D93) -> 60.6623 | H9: =G9-F9 -> 0.9923 | I9: 0.028518519 | J9: =I9-I8 -> 0.015856481 | K9: =J9 -> 0.015856481 | L9: 158.263
A10: 3 | B10: Хавило Дима | C10: 9 | D10: =COUNTA(E28:E92)+D9+1 -> 81 | E10: =COUNTA(E28:E92)+1 -> 43 | F10: =MIN(E28:E93) -> 58.195 | G10: =AVERAGE(E28:E94) -> 59.184643 | H10: =G10-F10 -> 0.98964286 | I10: 0.059108796 | J10: =I10-I9 -> 0.030590278 | K10: =J10+K9 -> 0.046446759 | L10: 162.157 | M10: +5 | N10: провоз 3
A11: 4 | B11: Хавило Дима | C11: 6 | D11: =COUNTA(F28:F92)+D10+1 -> 103 | E11: =COUNTA(F28:F92)+1 -> 22 | F11: =MIN(F28:F93) -> 59.724 | G11: =AVERAGE(F28:F93) -> 60.37319 | H11: =G11-F11 -> 0.64919048 | I11: 0.075671296 | J11: =I11-I10 -> 0.0165625 | K11: =J11+K10 -> 0.063009259 | L11: 158.441
A12: 5 | B12: Хавило Дима | C12: 2 | D12: =COUNTA(G28:G92)+D11+1 -> 146 | E12: =COUNTA(G28:G92)+1 -> 43 | F12: =MIN(G28:G93) -> 59.019 | G12: =AVERAGE(G28:G893) -> 59.910881 | H12: =G12-F12 -> 0.89188095 | I12: 0.10664352 | J12: =I12-I11 -> 0.030972222 | K12: =J12+K11 -> 0.093981481 | L12: 159.173
A13: 6 | B13: Пикулин Паша | C13: 7 | D13: =COUNTA(H28:H92)+D12+1 -> 182 | E13: =COUNTA(H28:H92)+1 -> 36 | F13: =MIN(H28:H93) -> 59.835 | G13: =AVERAGE(H28:H93) -> 60.7046 | H13: =G13-F13 -> 0.8696 | I13: 0.1330787 | J13: =I13-I12 -> 0.026435185 | K13: =J13+K8 -> 0.039097222 | L13: 158.604
A14: 7 | B14: Пикулин Паша | C14: 44 | D14: =COUNTA(I28:I92)+D13+1 -> 201 | E14: =COUNTA(I28:I92)+1 -> 19 | F14: =MIN(I28:I93) -> 58.98 | G14: =AVERAGE(I28:I93) -> 59.751722 | H14: =G14-F14 -> 0.77172222 | I14: 0.14733796 | J14: =I14-I13 -> 0.014259259 | K14: =J14+K13 -> 0.053356481 | L14: 157.164
A15: 8 | B15: Пикулин Паша | C15: 10 | D15: =COUNTA(J28:J92)+D14+1 -> 239 | E15: =COUNTA(J28:J92)+1 -> 38 | F15: =MIN(J28:J93) -> 59.509 | G15: =AVERAGE(J28:J93) -> 60.221541 | H15: =G9-F9 -> 0.9923 | I15: 0.17496528 | J15: =I15-I14 -> 0.027627315 | K15: =J15+K14 -> 0.080983796 | L15: 157.933
A16: 9 | B16: Ткаченко Кирилл | C16: 9 | D16: =COUNTA(K28:K92)+D15+1 -> 267 | E16: =COUNTA(K28:K92)+1 -> 28 | F16: =MIN(K28:K93) -> 59.338 | G16: =AVERAGE(K28:K93) -> 59.930519 | H16: =G10-F10 -> 0.98964286 | I16: 0.19552083 | J16: =I16-I15 -> 0.020555556 | K16: =J16 -> 0.020555556 | L16: 157.304
A17: 10 | B17: Ткаченко Кирилл | C17: 10 | D17: =COUNTA(L28:L92)+D16+1 -> 292 | E17: =COUNTA(L28:L92)+1 -> 25 | F17: =MIN(L28:L93) -> 60.218 | G17: =AVERAGE(L28:L93) -> 60.930833 | H17: =G11-F11 -> 0.64919048 | I17: 0.21424769 | J17: =I17-I16 -> 0.018726852 | K17: =J17+K16 -> 0.039282407 | L17: 157.374
A18: 11 | B18: Пикулин Паша | C18: 2 | D18: =COUNTA(M28:M92)+D17+1 -> 312 | E18: =COUNTA(M28:M92)+1 -> 20 | F18: =MIN(M28:M93) -> 58.362 | G18: =AVERAGE(M28:M93) -> 59.415211 | H18: =G12-F12 -> 0.89188095 | I18: 0.22878472 | J18: =I18-I17 -> 0.014537037 | K18: =J18+K15 -> 0.095520833 | L18: 156.683
A19: 12 | B19: Ткаченко Кирилл | C19: 44 | D19: =COUNTA(N28:N92)+D18+1 -> 343 | E19: =COUNTA(N28:N92)+1 -> 31 | F19: =MIN(N28:N93) -> 59.26 | G19: =AVERAGE(N28:N93) -> 59.945167 | H19: =G13-F13 -> 0.8696 | I19: 0.25177083 | J19: =I19-I18 -> 0.022986111 | K19: =J19+K17 -> 0.062268519 | L19: 157.922
A20: 13 | B20: Ткаченко Кирилл | C20: 5 | D20: =COUNTA(O28:O92)+D19+1 -> 358 | E20: =COUNTA(O28:O92)+1 -> 15 | F20: =MIN(O28:O93) -> 59.803 | G20: =AVERAGE(O28:O93) -> 60.564286 | H20: =G14-F14 -> 0.77172222 | I20: 0.26342593 | J20: =I20-I19 -> 0.011655093 | K20: =J20+K19 -> 0.073923611 | L20: 156.617
A21: Финиш | B21: Ткаченко Кирилл | C21: 69 | D21: =COUNTA(P28:P92)+D20+1 -> 399 | E21: =COUNTA(P28:P92)+1 -> 41 | F21: =MIN(P28:P93) -> 58.617 | G21: =AVERAGE(P28:P93) -> 59.85495 | H21: =G15-F15 -> 0.71254054 | I21: ='Общие результаты'!G6 -> 7:00:46 | J21: =I21-I20 -> 0.028773148 | K21: =J21+K20 -> 0.10269676
F22: =AVERAGE(F8,F13:F15,F18) -> 59.3206 | G22: =AVERAGE(C28:C92,H28:J92,M28:M92) -> 60.218079 | H22: =AVERAGE(H8,H13:H15,H18) -> 0.84170063 | I22: Паша
F23: =AVERAGE(F9:F12) -> 59.152 | G23: =AVERAGE(D28:G92) -> 59.86476 | H23: =AVERAGE(H9:H12) -> 0.88075357 | I23: Дима
F24: =AVERAGE(F16:F17,F19:F21) -> 59.4472 | G24: =AVERAGE(N28:P92,K28:L92) -> 60.154941 | H24: =AVERAGE(H16:H17,H19:H21) -> 0.79853922 | I24: Кирилл
F25: =AVERAGE(F8:F21) -> 59.317643 | G25: =AVERAGE(C28:P100) -> 60.08158 | H25: =AVERAGE(H8:H21) -> 0.83744383
C27: =B8 -> Пикулин Паша | D27: =B9 -> Хавило Дима | E27: =B10 -> Хавило Дима | F27: =B11 -> Хавило Дима | G27: =B12 -> Хавило Дима | H27: =B13 -> Пикулин Паша | I27: =B14 -> Пикулин Паша | J27: =B15 -> Пикулин Паша | K27: =B16 -> Ткаченко Кирилл | L27: =B17 -> Ткаченко Кирилл | M27: =B18 -> Пикулин Паша | N27: =B19 -> Ткаченко Кирилл | O27: =B20 -> Ткаченко Кирилл | P27: =B21 -> Ткаченко Кирилл
B28: 1 | C28: 61.005 | D28: 62.823 | E28: 59.339 | F28: 60.527 | G28: 59.655 | H28: 60.949 | I28: 60.215 | J28: 61.902 | K28: 59.935 | L28: 60.987 | M28: 59.483 | N28: 60.131 | O28: 60.106 | P28: 59.819
B29: 2 | C29: 59.917 | D29: 61.027 | E29: 60.484 | F29: 60.354 | G29: 60.108 | H29: 60.948 | I29: 60.073 | J29: 60.792 | K29: 60.098 | L29: 60.854 | M29: 59.379 | N29: 60.031 | O29: 61.43 | P29: 59.871
B30: 3 | C30: 60.773 | D30: 61.171 | E30: 59.128 | F30: 60.533 | G30: 59.473 | H30: 60.566 | I30: 59.449 | J30: 60.447 | K30: 59.876 | L30: 61.051 | M30: 60.257 | N30: 59.931 | O30: 62.547 | P30: 59.455
B31: 4 | C31: 60.703 | D31: 60.72 | E31: 60.161 | F31: 60.638 | G31: 59.559 | H31: 60.095 | I31: 60.066 | J31: 60.852 | K31: 59.895 | L31: 60.892 | M31: 59.726 | N31: 59.813 | O31: 60.528 | P31: 60.015
B32: 5 | C32: 60.418 | D32: 60.899 | E32: 58.778 | F32: 59.983 | G32: 60.212 | H32: 59.991 | I32: 59.735 | J32: 60.321 | K32: 60.028 | L32: 60.868 | M32: 59.19 | N32: 59.748 | O32: 59.822 | P32: 60.137
B33: 6 | C33: 60.215 | D33: 60.977 | E33: 59.425 | F33: 60.424 | G33: 60.02 | H33: 60.104 | I33: 59.758 | J33: 60.239 | K33: 60.014 | L33: 61.189 | M33: 58.362 | N33: 60.304 | O33: 60.577 | P33: 60.454
B34: 7 | C34: 60.365 | D34: 60.622 | E34: 59.335 | F34: 60.71 | G34: 59.545 | H34: 61.248 | I34: 59.642 | J34: 59.916 | K34: 60.773 | L34: 60.867 | M34: 59.972 | N34: 59.987 | O34: 60.845 | P34: 60.551
B35: 8 | C35: 60.59 | D35: 60.285 | E35: 58.944 | F35: 59.775 | G35: 59.671 | H35: 61.154 | I35: 60.028 | J35: 60.84 | K35: 60.187 | L35: 61.173 | M35: 59.403 | N35: 60.187 | O35: 59.954 | P35: 60.137
B36: 9 | C36: 60.579 | D36: 60.129 | E36: 59.33 | F36: 59.867 | G36: 59.594 | H36: 61.921 | I36: 59.508 | J36: 60.285 | K36: 59.847 | L36: 61.246 | M36: 59.261 | N36: 60.002 | O36: 60.084 | P36: 60.721
B37: 10 | C37: 60.459 | D37: 60.799 | E37: 60.317 | F37: 60.958 | G37: 59.856 | H37: 63.662 | I37: 58.98 | J37: 60.354 | K37: 59.861 | L37: 61.487 | M37: 59.14 | N37: 59.75 | O37: 60.066 | P37: 60.159
B38: 11 | C38: 60.471 | D38: 60.18 | E38: 59.503 | F38: 59.724 | G38: 60.024 | H38: 63.119 | I38: 59.578 | J38: 60.27 | K38: 60.492 | L38: 60.955 | M38: 58.947 | N38: 59.646 | O38: 61.091 | P38: 59.591
B39: 12 | C39: 60.865 | D39: 60.528 | E39: 58.542 | F39: 60.086 | G39: 59.817 | H39: 60.625 | I39: 59.404 | J39: 60.296 | K39: 59.461 | L39: 61.116 | M39: 59.461 | N39: 60.061 | O39: 61.043 | P39: 60.24
... B41: 14 | C41: 60.876 | D41: 60.629 | E41: 58.921 | F41: 60.33 | G41: 59.555 | H41: 60.316 | I41: 60.393 | J41: 59.947 | K41: 59.636 | L41: 60.878 | M41: 59.249 | N41: 59.286 | O41: 60.004 | P41: 59.609
B42: 15 | C42: 60.499 | D42: 60.686 | E42: 60.476 | F42: 60.435 | G42: 59.807 | H42: 59.97 | I42: 59.937 | J42: 61.109 | K42: 59.554 | L42: 60.566 | M42: 58.849 | N42: 60.159 | P42: 59.819
B43: 16 | C43: 60.775 | D43: 60.512 | E43: 60.556 | F43: 60.507 | G43: 59.728 | H43: 60.578 | I43: 59.248 | J43: 60.123 | K43: 59.493 | L43: 61.008 | M43: 59.344 | N43: 59.666 | P43: 59.767
B44: 17 | C44: 61.281 | D44: 60.43 | E44: 60.36 | F44: 60.7 | G44: 59.803 | H44: 61.374 | I44: 60.064 | J44: 60.361 | K44: 59.775 | L44: 60.831 | M44: 59.802 | N44: 59.336 | P44: 59.845
B45: 18 | D45: 59.67 | E45: 60.292 | F45: 60.717 | G45: 60.015 | H45: 60.456 | I45: 59.946 | J45: 60.092 | K45: 59.338 | L45: 61.182 | M45: 60.038 | N45: 60.34 | P45: 59.793
B46: 19 | D46: 60.105 | E46: 60.478 | F46: 60.665 | G46: 59.506 | H46: 60.401 | J46: 59.542 | K46: 59.551 | L46: 61.466 | M46: 59.936 | N46: 60.277 | P46: 60.172
B47: 20 | D47: 60.208 | E47: 59.778 | F47: 60.529 | G47: 59.565 | H47: 60.956 | J47: 59.536 | K47: 59.882 | L47: 60.46 | N47: 59.494 | P47: 59.052
B48: 21 | E48: 58.656 | F48: 60.298 | G48: 59.781 | H48: 60.487 | J48: 59.582 | K48: 60.042 | L48: 60.712 | N48: 60.007 | P48: 60.09
B49: 22 | E49: 58.329 | G49: 59.81 | H49: 60.129 | J49: 59.509 | K49: 59.727 | L49: 60.463 | N49: 61.228 | P49: 59.537
B50: 23 | E50: 58.727 | G50: 59.019 | H50: 60.995 | J50: 59.701 | K50: 60.692 | L50: 60.218 | N50: 60.047 | P50: 59.751
B51: 24 | E51: 58.195 | G51: 60.174 | H51: 60.194 | J51: 59.864 | K51: 59.639 | L51: 60.71 | N51: 59.26 | P51: 59.595
B52: 25 | E52: 58.376 | G52: 59.721 | H52: 60.532 | J52: 60.021 | K52: 60.029 | N52: 60.569 | P52: 59.619
B53: 26 | E53: 58.625 | G53: 59.386 | H53: 60.126 | J53: 59.727 | K53: 60.135 | N53: 60.206 | P53: 59.87
B54: 27 | E54: 58.766 | G54: 60.149 | H54: 59.911 | J54: 59.595 | K54: 60.346 | N54: 59.565 | P54: 59.744
B55: 28 | E55: 58.498 | G55: 61.151 | H55: 59.857 | J55: 59.763 | N55: 60.203 | P55: 59.841
B56: 29 | E56: 59.314 | G56: 59.975 | H56: 60.107 | J56: 59.898 | N56: 59.522 | P56: 59.297
B57: 30 | E57: 58.794 | G57: 61.298 | H57: 60.534 | J57: 60.441 | N57: 60.174 | P57: 60.594
B58: 31 | E58: 59.088 | G58: 59.382 | H58: 62.04 | J58: 59.969 | P58: 59.685
B59: 32 | E59: 59.207 | G59: 59.845 | H59: 60.753 | J59: 59.784 | P59: 58.936
B60: 33 | E60: 59.43 | G60: 60.195 | H60: 59.835 | J60: 60.938 | P60: 59.108
B61: 34 | E61: 59.012 | G61: 60.766 | H61: 59.928 | J61: 60.03 | P61: 58.617
B62: 35 | E62: 58.564 | G62: 60.034 | H62: 60.67 | J62: 60.107 | P62: 59.265
B63: 36 | E63: 59.124 | G63: 60.796 | J63: 59.969 | P63: 60.155
B64: 37 | E64: 58.304 | G64: 60.035 | J64: 61.23 | P64: 59.771
B65: 38 | E65: 58.693 | G65: 59.563 | P65: 60.646
B66: 39 | E66: 59.803 | G66: 60.117 | P66: 60.137
B67: 40 | E67: 58.633 | G67: 59.449 | P67: 60.215
B68: 41 | E68: 58.713 | G68: 60.63
B69: 42 | E69: 58.214 | G69: 59.703
B70: 43
B71: 44
B72: 45
B73: 46
B74: 47
B75: 48
B76: 49
B77: 50
B78: 51
B79: 52
B80: 53
B81: 54
... B90: 63

Sheet NFS Kozaks
A2: Чемпионат мини марафон "Большие Гонки", Гранд-Финал
A4: NFS Kozaks
A6: Обяза-тельные | B6: Пилот | C6: карт | D6: Круг | E6: кругов на отрезке | F6: Статистика по кругам | I6: Общее время гонки | J6: Время на трассе | L6: Питы | M6: Штрафы/ бонусы (сек)
F7: Лучший круг | G7: Среднее на отрезке | H7: стабильность | J7: отрезок | K7: всего у пилота
A8: 1 | B8: Петушков Андрей | C8: 13 | D8: =COUNTA(C28:C92) -> 15 | E8: =COUNTA(C28:C92) -> 15 | F8: =MIN(C28:C91) -> 61.082 | G8: =AVERAGE(C28:C94) -> 61.697667 | H8: =G8-F8 -> 0.61566667 | I8: 0.011469907 | J8: =I8 -> 0.011469907 | K8: =J8 -> 0.011469907 | L8: 160.533
A9: 2 | B9: Петушков Андрей | C9: 6 | D9: =COUNTA(D28:D92)+D8+1 -> 30 | E9: =COUNTA(D28:D92)+1 -> 15 | F9: =MIN(D28:D91) -> 61.953 | G9: =AVERAGE(D28:D93) -> 62.538286 | H9: =G9-F9 -> 0.58528571 | I9: 0.023449074 | J9: =I9-I8 -> 0.011979167 | K9: =J9+K8 -> 0.023449074 | L9: 160.004
A10: 3 | B10: Тыщенко Миша | C10: 44 | D10: =COUNTA(E28:E92)+D9+1 -> 69 | E10: =COUNTA(E28:E92)+1 -> 39 | F10: =MIN(E28:E93) -> 58.665 | G10: =AVERAGE(E28:E94) -> 60.184816 | H10: =G10-F10 -> 1.5198158 | I10: 0.051736111 | J10: =I10-I9 -> 0.028287037 | K10: =J10 -> 0.028287037 | L10: 157.044
A11: 4 | B11: Тыщенко Миша | C11: 1 | D11: =COUNTA(F28:F92)+D10+1 -> 102 | E11: =COUNTA(F28:F92)+1 -> 33 | F11: =MIN(F28:F93) -> 59.142 | G11: =AVERAGE(F28:F93) -> 59.833094 | H11: =G11-F11 -> 0.69109375 | I11: 0.075717593 | J11: =I11-I10 -> 0.023981481 | K11: =J11+K10 -> 0.052268519 | L11: 156.829
A12: 5 | B12: Тыщенко Миша | C12: 8 | D12: =COUNTA(G28:G92)+D11+1 -> 119 | E12: =COUNTA(G28:G92)+1 -> 17 | F12: =MIN(G28:G93) -> 59.517 | G12: =AVERAGE(G28:G893) -> 60.409875 | H12: =G12-F12 -> 0.892875 | I12: 0.088726852 | J12: =I12-I11 -> 0.013009259 | K12: =J12+K11 -> 0.065277778 | L12: 157.212
A13: 6 | B13: Петушков Андрей | C13: 4 | D13: =COUNTA(H28:H92)+D12+1 -> 144 | E13: =COUNTA(H28:H92)+1 -> 25 | F13: =MIN(H28:H93) -> 60.796 | G13: =AVERAGE(H28:H93) -> 61.457542 | H13: =G13-F13 -> 0.66154167 | I13: 0.10765046 | J13: =I13-I12 -> 0.018923611 | K13: =J13+K9 -> 0.042372685 | L13: 159.825
A14: 7 | B14: Тыщенко Миша | C14: 2 | D14: =COUNTA(I28:I92)+D13+1 -> 179 | E14: =COUNTA(I28:I92)+1 -> 35 | F14: =MIN(I28:I93) -> 59.271 | G14: =AVERAGE(I28:I93) -> 59.838118 | H14: =G14-F14 -> 0.56711765 | I14: 0.13302083 | J14: =I14-I13 -> 0.02537037 | K14: =J14+K12 -> 0.090648148 | L14: 156.875
A15: 8 | B15: Тыщенко Миша | C15: 1 | D15: =COUNTA(J28:J92)+D14+1 -> 192 | E15: =COUNTA(J28:J92)+1 -> 13 | F15: =MIN(J28:J93) -> 59.701 | G15: =AVERAGE(J28:J93) -> 60.022 | H15: =G9-F9 -> 0.58528571 | I15: 0.14315972 | J15: =I15-I14 -> 0.010138889 | K15: =J15+K14 -> 0.10078704 | L15: 161.54 | M15: +5 | N15: лимит
A16: 9 | B16: Бахмацкий Олег | C16: 11 | D16: =COUNTA(K28:K92)+D15+1 -> 235 | E16: =COUNTA(K28:K92)+1 -> 43 | F16: =MIN(K28:K93) -> 59.738 | G16: =AVERAGE(K28:K93) -> 60.662286 | H16: =G10-F10 -> 1.5198158 | I16: 0.17452546 | J16: =I16-I15 -> 0.031365741 | K16: =J16 -> 0.031365741 | L16: 157.489
A17: 10 | B17: Бахмацкий Олег | C17: 5 | D17: =COUNTA(L28:L92)+D16+1 -> 265 | E17: =COUNTA(L28:L92)+1 -> 30 | F17: =MIN(L28:L93) -> 60.296 | G17: =AVERAGE(L28:L93) -> 60.906414 | H17: =G11-F11 -> 0.69109375 | I17: 0.19679398 | J17: =I17-I16 -> 0.022268519 | K17: =J17+K16 -> 0.053634259 | L17: 163.162 | M17: +5 | N17: лимит
A18: 11 | B18: Бахмацкий Олег | C18: 9 | D18: =COUNTA(M28:M92)+D17+1 -> 308 | E18: =COUNTA(M28:M92)+1 -> 43 | F18: =MIN(M28:M93) -> 58.412 | G18: =AVERAGE(M28:M93) -> 59.761429 | H18: =G12-F12 -> 0.892875 | I18: 0.22758102 | J18: =I18-I17 -> 0.030787037 | K18: =J18+K17 -> 0.084421296 | L18: 156.423
A19: 12 | B19: Петушков Андрей | C19: 6 | D19: =COUNTA(N28:N92)+D18+1 -> 338 | E19: =COUNTA(N28:N92)+1 -> 30 | F19: =MIN(N28:N93) -> 59.783 | G19: =AVERAGE(N28:N93) -> 60.663276 | H19: =G13-F13 -> 0.66154167 | I19: 0.24980324 | J19: =I19-I18 -> 0.022222222 | K19: =J19+K13 -> 0.064594907 | L19: 159.129
A20: 13 | B20: Бахмацкий Олег | C20: 7 | D20: =COUNTA(O28:O92)+D19+1 -> 357 | E20: =COUNTA(O28:O92)+1 -> 19 | F20: =MIN(O28:O93) -> 59.588 | G20: =AVERAGE(O28:O93) -> 60.368667 | H20: =G14-F14 -> 0.56711765 | I20: 0.26418981 | J20: =I20-I19 -> 0.014386574 | K20: =J20+K18 -> 0.09880787 | L20: 159.533
A21: Финиш | B21: Петушков Андрей | C21: 8 | D21: =COUNTA(P28:P92)+D20+1 -> 397 | E21: =COUNTA(P28:P92)+1 -> 40 | F21: =MIN(P28:P93) -> 59.096 | G21: =AVERAGE(P28:P93) -> 59.960154 | H21: =G15-F15 -> 0.321 | I21: ='Общие результаты'!G6 -> 7:00:46 | J21: =I21-I20 -> 0.028009259 | K21: =J21+K19 -> 0.092604167
F22: =AVERAGE(F8:F9,F13,F19,F21) -> 60.542 | G22: =AVERAGE(C28:D92,H28:H92,N28:N92,P28:P92) -> 60.939364 | H22: =AVERAGE(H8:H9,H13,H19,H21) -> 0.56900714 | I22: Андрей
F23: =AVERAGE(F10:F12,F14:F15) -> 59.2592 | G23: =AVERAGE(E28:G92,I28:J92) -> 60.022727 | H23: =AVERAGE(H10:H12,H14:H15) -> 0.85123758 | I23: Миша
F24: =AVERAGE(F20,F16:F18) -> 59.5085 | G24: =AVERAGE(K28:M92,O28:O92) -> 60.38716 | H24: =AVERAGE(H20,H16:H18) -> 0.91772555 | I24: Олег
F25: =AVERAGE(F8:F21) -> 59.788571 | G25: =AVERAGE(C28:P100) -> 60.435888 | H25: =AVERAGE(H8:H21) -> 0.76943756
C27: =B8 -> Петушков Андрей | D27: =B9 -> Петушков Андрей | E27: =B10 -> Тыщенко Миша | F27: =B11 -> Тыщенко Миша | G27: =B12 -> Тыщенко Миша | H27: =B13 -> Петушков Андрей | I27: =B14 -> Тыщенко Миша | J27: =B15 -> Тыщенко Миша | K27: =B16 -> Бахмацкий Олег | L27: =B17 -> Бахмацкий Олег | M27: =B18 -> Бахмацкий Олег | N27: =B19 -> Петушков Андрей | O27: =B20 -> Бахмацкий Олег | P27: =B21 -> Петушков Андрей
B28: 1 | C28: 63.118 | D28: 61.953 | E28: 59.761 | F28: 59.502 | G28: 59.517 | H28: 61.752 | I28: 59.888 | J28: 60.032 | K28: 61.991 | L28: 61.149 | M28: 59.645 | N28: 60.657 | O28: 61.62 | P28: 59.741
B29: 2 | C29: 61.417 | D29: 62.844 | E29: 59.913 | F29: 59.322 | G29: 59.978 | H29: 61.341 | I29: 60.527 | J29: 60.148 | K29: 61.054 | L29: 60.947 | M29: 60.122 | N29: 60.566 | O29: 60.704 | P29: 59.717
B30: 3 | C30: 61.384 | D30: 62.721 | E30: 59.898 | F30: 59.142 | G30: 59.69 | H30: 60.893 | I30: 61.046 | J30: 59.724 | K30: 60.639 | L30: 60.86 | M30: 59.247 | N30: 60.619 | O30: 59.79 | P30: 59.459
B31: 4 | C31: 61.759 | D31: 62.573 | E31: 60.051 | F31: 59.493 | G31: 59.709 | H31: 60.975 | I31: 59.898 | J31: 59.701 | K31: 61.135 | L31: 61.192 | M31: 59.424 | N31: 60.276 | O31: 60.782 | P31: 59.775
B32: 5 | C32: 61.672 | D32: 62.779 | E32: 59.892 | F32: 59.335 | G32: 59.957 | H32: 61.316 | I32: 59.98 | J32: 59.818 | K32: 60.086 | L32: 61.035 | M32: 58.848 | N32: 60.239 | O32: 60.175 | P32: 59.938
B33: 6 | C33: 61.182 | D33: 62.408 | E33: 60.092 | F33: 59.493 | G33: 60.678 | H33: 62.214 | I33: 60.369 | J33: 60.283 | K33: 61.14 | L33: 60.811 | M33: 59.189 | N33: 60.61 | O33: 59.712 | P33: 59.795
B34: 7 | C34: 61.082 | D34: 62.903 | E34: 59.763 | F34: 59.449 | G34: 61.675 | H34: 61.392 | I34: 60.13 | J34: 60.001 | K34: 60.615 | L34: 60.63 | M34: 59.536 | N34: 60.784 | O34: 60.068 | P34: 59.884
B35: 8 | C35: 61.678 | D35: 62.363 | E35: 60.34 | F35: 59.61 | G35: 60.008 | H35: 60.93 | I35: 59.935 | J35: 59.854 | K35: 60.534 | L35: 61.433 | M35: 58.603 | N35: 60.768 | O35: 59.794 | P35: 59.096
B36: 9 | C36: 61.286 | D36: 63.171 | E36: 59.635 | F36: 59.341 | G36: 59.865 | H36: 60.796 | I36: 59.991 | J36: 60.15 | K36: 61.374 | L36: 60.767 | M36: 58.898 | N36: 60.366 | O36: 61.238 | P36: 59.644
B37: 10 | C37: 61.261 | D37: 62.258 | E37: 59.89 | F37: 59.844 | G37: 59.793 | H37: 61.451 | I37: 60.209 | J37: 60.237 | K37: 60.636 | L37: 60.296 | M37: 58.662 | N37: 60.513 | O37: 60.866 | P37: 59.347
B38: 11 | C38: 61.785 | D38: 62.374 | E38: 59.89 | F38: 61.335 | G38: 60.262 | H38: 61.548 | I38: 60.303 | J38: 60.578 | K38: 60.585 | L38: 60.88 | M38: 58.881 | N38: 60.175 | O38: 60.465 | P38: 59.848
B39: 12 | C39: 62.1 | D39: 62.106 | E39: 60.46 | F39: 59.283 | G39: 60.282 | H39: 62.853 | I39: 59.374 | J39: 59.738 | K39: 60.461 | L39: 61.516 | M39: 58.721 | N39: 59.783 | O39: 60.429 | P39: 60.12
B40: 13 | C40: 61.273 | D40: 62.265 | E40: 60.694 | F40: 59.416 | G40: 59.864 | H40: 61.596 | I40: 59.966 | K40: 60.492 | L40: 60.996 | M40: 59.008 | N40: 60.131 | O40: 60.53 | P40: 59.462
B41: 14 | C41: 62.135 | D41: 62.818 | E41: 61.464 | F41: 59.823 | G41: 62.093 | H41: 62.262 | I41: 59.514 | K41: 61.372 | L41: 60.868 | M41: 60.147 | N41: 60.254 | O41: 60.299 | P41: 60.094
B42: 15 | C42: 62.333 | E42: 63.521 | F42: 59.655 | G42: 63.151 | H42: 61.709 | I42: 59.967 | K42: 60.915 | L42: 60.547 | M42: 59.651 | N42: 60.72 | O42: 59.899 | P42: 59.961
B43: 16 | E43: 60.036 | F43: 59.561 | G43: 60.036 | H43: 61.546 | I43: 59.703 | K43: 61.555 | L43: 60.828 | M43: 59.172 | N43: 60.649 | O43: 59.588 | P43: 59.635
B44: 17 | E44: 60.593 | F44: 59.563 | H44: 61.66 | I44: 59.684 | K44: 60.644 | L44: 60.747 | M44: 59.251 | N44: 60.887 | O44: 59.871 | P44: 59.675
B45: 18 | E45: 60.462 | F45: 60.25 | H45: 61.336 | I45: 59.889 | K45: 60.569 | L45: 61.171 | M45: 59.365 | N45: 60.322 | O45: 60.806 | P45: 59.98
B46: 19 | E46: 60.6 | F46: 60.376 | H46: 61.188 | I46: 60.158 | K46: 60.961 | L46: 61.033 | M46: 61.399 | N46: 60.473 | P46: 60.325
B47: 20 | E47: 60.185 | F47: 60.833 | H47: 61.002 | I47: 59.756 | K47: 60.623 | L47: 61.751 | M47: 60.374 | N47: 62.178 | P47: 60.043
B48: 21 | E48: 60.769 | F48: 60.627 | H48: 61.215 | I48: 59.949 | K48: 60.824 | L48: 60.602 | M48: 59.935 | N48: 61.092 | P48: 60.146
B49: 22 | E49: 60.436 | F49: 59.618 | H49: 61.511 | I49: 59.271 | K49: 61.276 | L49: 60.513 | M49: 59.308 | N49: 60.52 | P49: 60.18
B50: 23 | E50: 61.39 | F50: 59.418 | H50: 61.345 | I50: 59.337 | K50: 60.623 | L50: 61.501 | M50: 69.129 | N50: 60.578 | P50: 59.677
B51: 24 | E51: 60.832 | F51: 59.456 | H51: 61.15 | I51: 59.65 | K51: 60.039 | L51: 61.055 | M51: 59.102 | N51: 60.654 | P51: 59.344
B52: 25 | E52: 60.187 | F52: 59.937 | I52: 59.372 | K52: 61.031 | L52: 60.454 | M52: 59.081 | N52: 61.346 | P52: 59.892
B53: 26 | E53: 60.45 | F53: 60.016 | I53: 59.509 | K53: 60.499 | L53: 60.645 | M53: 58.726 | N53: 61.376 | P53: 60.156
B54: 27 | E54: 61.02 | F54: 60.084 | I54: 59.529 | K54: 60.058 | L54: 60.6 | M54: 58.942 | N54: 60.67 | P54: 60.884
B55: 28 | E55: 60.009 | F55: 60.143 | I55: 59.728 | K55: 60.486 | L55: 61.008 | M55: 59.122 | N55: 61.161 | P55: 59.679
B56: 29 | E56: 60.747 | F56: 59.323 | I56: 59.425 | K56: 60.662 | L56: 60.451 | M56: 58.656 | N56: 60.868 | P56: 60.256
B57: 30 | E57: 59.674 | F57: 61.12 | I57: 59.91 | K57: 59.948 | M57: 58.675 | P57: 60.502
B58: 31 | E58: 60.345 | F58: 60.022 | I58: 59.448 | K58: 59.738 | M58: 59.148 | P58: 60.707
B59: 32 | E59: 59.184 | F59: 60.269 | I59: 59.569 | K59: 60.606 | M59: 58.412 | P59: 59.733
B60: 33 | E60: 58.665 | I60: 59.818 | K60: 59.872 | M60: 59.558 | P60: 59.97
B61: 34 | E61: 58.758 | I61: 59.694 | K61: 60.948 | M61: 58.417 | P61: 60.091
B62: 35 | E62: 59.508 | K62: 60.102 | M62: 59.046 | P62: 60.015
B63: 36 | E63: 58.687 | K63: 60.691 | M63: 59.894 | P63: 59.529
B64: 37 | E64: 59.379 | K64: 60.247 | M64: 58.995 | P64: 61.381
B65: 38 | E65: 59.843 | K65: 60.846 | M65: 58.525 | P65: 60.635
B66: 39 | K66: 60.416 | M66: 58.84 | P66: 60.13
B67: 40 | K67: 59.74 | M67: 58.446
B68: 41 | K68: 61.692 | M68: 72.037
B69: 42 | K69: 60.091 | M69: 59.843
B70: 43
B71: 44
B72: 45
B73: 46
B74: 47
B75: 48
B76: 49
B77: 50
B78: 51
B79: 52
B80: 53
B81: 54
... B90: 63

Sheet Kart Freedom
A2: Чемпионат мини марафон "Большие Гонки", Гранд-Финал
A4: Kart Freedom
A6: Обяза-тельные | B6: Пилот | C6: карт | D6: Круг | E6: кругов на отрезке | F6: Статистика по кругам | I6: Общее время гонки | J6: Время на трассе | L6: Питы | M6: Штрафы/ бонусы (сек)
F7: Лучший круг | G7: Среднее на отрезке | H7: стабильность | J7: отрезок | K7: всего у пилота
A8: 1 | B8: Наум | C8: 1 | D8: =COUNTA(C27:C91) -> 26 | E8: =COUNTA(C27:C91) -> 26 | F8: =MIN(C27:C90) -> 59.739 | G8: =AVERAGE(C27:C93) -> 60.631692 | H8: =G8-F8 -> 0.89269231 | I8: 0.018993056 | J8: =I8 -> 0.018993056 | K8: =J8 -> 0.018993056 | L8: 159.303
A9: 2 | B9: Наум | C9: 69 | D9: =COUNTA(D27:D91)+D8+1 -> 43 | E9: =COUNTA(D27:D91)+1 -> 17 | F9: =MIN(D27:D90) -> 59.967 | G9: =AVERAGE(D27:D92) -> 60.572438 | H9: =G9-F9 -> 0.6054375 | I9: 0.032037037 | J9: =I9-I8 -> 0.013043981 | K9: =J9+K8 -> 0.032037037 | L9: 157.93
A10: 3 | B10: Наум | C10: 6 | D10: =COUNTA(E27:E91)+D9+1 -> 60 | E10: =COUNTA(E27:E91)+1 -> 17 | F10: =MIN(E27:E92) -> 59.574 | G10: =AVERAGE(E27:E93) -> 60.479938 | H10: =G10-F10 -> 0.9059375 | I10: 0.04505787 | J10: =I10-I9 -> 0.013020833 | K10: =J10+K9 -> 0.04505787 | L10: 157.507
A11: 4 | B11: Мифтахутдинов Ильяс | C11: 11 | D11: =COUNTA(F27:F91)+D10+1 -> 102 | E11: =COUNTA(F27:F91)+1 -> 42 | F11: =MIN(F27:F92) -> 59.319 | G11: =AVERAGE(F27:F92) -> 60.252732 | H11: =G11-F11 -> 0.93373171 | I11: 0.075486111 | J11: =I11-I10 -> 0.030428241 | K11: =J11 -> 0.030428241 | L11: 157.685
A12: 5 | B12: Наум | C12: 5 | D12: =COUNTA(G27:G91)+D11+1 -> 116 | E12: =COUNTA(G27:G91)+1 -> 14 | F12: =MIN(G27:G92) -> 60.072 | G12: =AVERAGE(G27:G892) -> 61.248462 | H12: =G12-F12 -> 1.1764615 | I12: 0.086527778 | J12: =I12-I11 -> 0.011041667 | K12: =J12+K10 -> 0.056099537 | L12: 158.055
A13: 6 | B13: Наум | C13: 10 | D13: =COUNTA(H27:H91)+D12+1 -> 150 | E13: =COUNTA(H27:H91)+1 -> 34 | F13: =MIN(H27:H92) -> 59.861 | G13: =AVERAGE(H27:H92) -> 60.817031 | H13: =G13-F13 -> 0.95603125 | I13: 0.11158565 | J13: =I13-I12 -> 0.02505787 | K13: =J13+K12 -> 0.081157407 | L13: 158.032
A14: 7 | B14: Мифтахутдинов Ильяс | C14: 44 | D14: =COUNTA(I27:I91)+D13+1 -> 165 | E14: =COUNTA(I27:I91)+1 -> 15 | F14: =MIN(I27:I92) -> 59.986 | G14: =AVERAGE(I27:I92) -> 60.993286 | H14: =G14-F14 -> 1.0072857 | I14: 0.12327546 | J14: =I14-I13 -> 0.011689815 | K14: =J14+K11 -> 0.042118056 | L14: 156.696
A15: 8 | B15: Мифтахутдинов Ильяс | C15: 5 | D15: =COUNTA(J27:J91)+D14+1 -> 179 | E15: =COUNTA(J27:J91)+1 -> 14 | F15: =MIN(J27:J92) -> 60.814 | G15: =AVERAGE(J27:J92) -> 61.272462 | H15: =G9-F9 -> 0.6054375 | I15: 0.13435185 | J15: =I15-I14 -> 0.011076389 | K15: =J15+K14 -> 0.053194444 | L15: 159.026
A16: 9 | B16: Наум | C16: 4 | D16: =COUNTA(K27:K91)+D15+1 -> 219 | E16: =COUNTA(K27:K91)+1 -> 40 | F16: =MIN(K27:K92) -> 59.877 | G16: =AVERAGE(K27:K92) -> 60.839769 | H16: =G10-F10 -> 0.9059375 | I16: 0.16363426 | J16: =I16-I15 -> 0.029282407 | K16: =J16+K13 -> 0.11043981 | L16: 157.662
A17: 10 | B17: Мифтахутдинов Ильяс | C17: 1 | D17: =COUNTA(L27:L91)+D16+1 -> 262 | E17: =COUNTA(L27:L91)+1 -> 43 | F17: =MIN(L27:L92) -> 59.768 | G17: =AVERAGE(L27:L92) -> 60.700119 | H17: =G11-F11 -> 0.93373171 | I17: 0.19498843 | J17: =I17-I16 -> 0.031354167 | K17: =J17+K15 -> 0.084548611 | L17: 158.302
A18: 11 | B18: Мифтахутдинов Ильяс | C18: 6 | D18: =COUNTA(M27:M91)+D17+1 -> 291 | E18: =COUNTA(M27:M91)+1 -> 29 | F18: =MIN(M27:M92) -> 60.116 | G18: =AVERAGE(M27:M92) -> 60.619857 | H18: =G12-F12 -> 1.1764615 | I18: 0.21643519 | J18: =I18-I17 -> 0.021446759 | K18: =J18+K17 -> 0.10599537 | L18: 162.828 | M18: +5 | N18: лимит
A19: 12 | B19: Наум | C19: 5 | D19: =COUNTA(N27:N91)+D18+1 -> 312 | E19: =COUNTA(N27:N91)+1 -> 21 | F19: =MIN(N27:N92) -> 59.891 | G19: =AVERAGE(N27:N92) -> 60.81925 | H19: =G13-F13 -> 0.95603125 | I19: 0.23240741 | J19: =I19-I18 -> 0.015972222 | K19: =J19+K16 -> 0.12641204 | L19: 160.06
A20: 13 | B20: Мифтахутдинов Ильяс | C20: 10 | D20: =COUNTA(O27:O91)+D19+1 -> 355 | E20: =COUNTA(O27:O91)+1 -> 43 | F20: =MIN(O27:O92) -> 59.411 | G20: =AVERAGE(O27:O92) -> 59.949405 | H20: =G14-F14 -> 1.0072857 | I20: 0.26337963 | J20: =I20-I19 -> 0.030972222 | K20: =J20+K18 -> 0.13696759 | L20: 167.544 | M20: +10 | N20: разворот перед финишем
A21: Финиш | B21: Наум | C21: 11 | D21: =COUNTA(P27:P91)+D20+1 -> 397 | E21: =COUNTA(P27:P91)+1 -> 42 | F21: =MIN(P27:P92) -> 58.709 | G21: =AVERAGE(P27:P92) -> 59.447976 | H21: =G15-F15 -> 0.45846154 | I21: ='Общие результаты'!G6 -> 7:00:46 | J21: =I21-I20 -> 0.028819444 | K21: =J21+K19 -> 0.15523148
F22: =AVERAGE(F8,F9,F10,F13,F12,F19,F21,F16) -> 59.71125 | G22: =AVERAGE(C27:D91,E27:E91,G27:H91,K27:K91,N27:N91,P27:P91) -> 60.503153 | H22: =AVERAGE(H8,H9,H10,H13,H12,H19,H21,H16) -> 0.8571238 | I22: Наум
F23: =AVERAGE(F11,F15,F14,F17,F18,F20) -> 59.902333 | G23: =AVERAGE(F27:F91,I27:J91,L27:L91,M27:M91,O27:O91) -> 60.4747 | H23: =AVERAGE(H11,H15,H14,H17,H18,H20) -> 0.94398898 | I23: Ильяс
F24: =AVERAGE(F8:F21) -> 59.793143 | G24: =AVERAGE(C27:P99) -> 60.489781 | H24: =AVERAGE(H8:H21) -> 0.89435173
C26: =B8 -> Наум | D26: =B9 -> Наум | E26: =B10 -> Наум | F26: =B11 -> Мифтахутдинов Ильяс | G26: =B12 -> Наум | H26: =B13 -> Наум | I26: =B14 -> Мифтахутдинов Ильяс | J26: =B15 -> Мифтахутдинов Ильяс | K26: =B16 -> Наум | L26: =B17 -> Мифтахутдинов Ильяс | M26: =B18 -> Мифтахутдинов Ильяс | N26: =B19 -> Наум | O26: =B20 -> Мифтахутдинов Ильяс | P26: =B21 -> Наум
B27: 1 | C27: 62.27 | D27: 62.102 | E27: 60.108 | F27: 60.423 | G27: 64.478 | H27: 61.075 | I27: 60.812 | J27: 61.269 | K27: 60.987 | L27: 60.075 | M27: 62.117 | N27: 61.68 | O27: 60.277 | P27: 60.189
B28: 2 | C28: 60.864 | D28: 60.411 | E28: 60.917 | F28: 60.712 | G28: 61.415 | H28: 60.347 | I28: 61.612 | J28: 61.496 | K28: 60.455 | L28: 59.768 | M28: 61.118 | N28: 61.809 | O28: 59.678 | P28: 60.196
B29: 3 | C29: 60.652 | D29: 60.327 | E29: 61.225 | F29: 59.629 | G29: 61.088 | H29: 60.859 | I29: 61.883 | J29: 61.168 | K29: 61.404 | L29: 60.491 | M29: 60.919 | N29: 61.449 | O29: 59.639 | P29: 59.481
B30: 4 | C30: 60.68 | D30: 60.761 | E30: 59.574 | F30: 60.052 | G30: 60.955 | H30: 60.749 | I30: 63.158 | J30: 61.151 | K30: 61.69 | L30: 59.803 | M30: 60.956 | N30: 60.332 | O30: 59.837 | P30: 59.92
B31: 5 | C31: 60.164 | D31: 60.271 | E31: 60.677 | F31: 59.319 | G31: 60.892 | H31: 61.109 | I31: 61.2 | J31: 60.814 | K31: 60.955 | L31: 61.195 | M31: 60.722 | N31: 61.272 | O31: 59.505 | P31: 59.63
B32: 6 | C32: 60.355 | D32: 61.414 | E32: 60.504 | F32: 60.067 | G32: 61.125 | H32: 61.519 | I32: 60.917 | J32: 60.817 | K32: 60.474 | L32: 60.768 | M32: 60.451 | N32: 61.319 | O32: 59.692 | P32: 59.238
B33: 7 | C33: 61.002 | D33: 60.668 | E33: 60.263 | F33: 59.928 | G33: 60.072 | H33: 60.525 | I33: 60.629 | J33: 60.818 | K33: 60.481 | L33: 60.576 | M33: 60.729 | N33: 60.104 | O33: 59.708 | P33: 59.694
B34: 8 | C34: 60.418 | D34: 61.136 | E34: 60.44 | F34: 59.624 | G34: 60.636 | H34: 60.887 | I34: 60.392 | J34: 60.827 | K34: 60.331 | L34: 60.799 | M34: 60.307 | N34: 60.586 | O34: 60.034 | P34: 58.709
B35: 9 | C35: 60.765 | D35: 60.26 | E35: 60.977 | F35: 59.934 | G35: 60.85 | H35: 60.684 | I35: 60.551 | J35: 60.823 | K35: 61.464 | L35: 60.723 | M35: 60.351 | N35: 60.684 | O35: 59.846 | P35: 59.631
B36: 10 | C36: 60.496 | D36: 59.967 | E36: 60.001 | F36: 60.43 | G36: 61.793 | H36: 61.557 | I36: 60.898 | J36: 62.867 | K36: 60.179 | L36: 60.521 | M36: 60.32 | N36: 60.638 | O36: 60.075 | P36: 58.783
B37: 11 | C37: 60.274 | D37: 60.436 | E37: 60.617 | F37: 60.089 | G37: 61.652 | H37: 60.224 | I37: 60.725 | J37: 61.629 | K37: 59.877 | L37: 61.029 | M37: 60.28 | N37: 61.118 | O37: 60.306 | P37: 59.343
B38: 12 | C38: 60.168 | D38: 60.147 | E38: 60.115 | F38: 59.754 | G38: 60.623 | H38: 59.861 | I38: 60.592 | J38: 61.457 | K38: 60.489 | L38: 61.185 | M38: 60.54 | N38: 61.677 | O38: 59.809 | P38: 58.919
B39: 13 | C39: 59.739 | D39: 60.616 | E39: 60.357 | F39: 59.748 | G39: 60.651 | H39: 60.842 | I39: 59.986 | J39: 61.406 | K39: 60.844 | L39: 60.778 | M39: 60.506 | N39: 59.891 | O39: 60.095 | P39: 58.849
B40: 14 | C40: 60.759 | D40: 60.268 | E40: 61.046 | F40: 59.996 | H40: 60.157 | I40: 60.551 | K40: 60.2 | L40: 60.968 | M40: 60.426 | N40: 60.85 | O40: 60.432 | P40: 59.226
B41: 15 | C41: 60.044 | D41: 60.278 | E41: 60.503 | F41: 59.706 | H41: 60..738 | K41: 60.793 | L41: 61.005 | M41: 60.661 | N41: 60.491 | O41: 59.861 | P41: 59.345
B42: 16 | C42: 61.041 | D42: 60.097 | E42: 60.355 | F42: 60.606 | H42: 60.125 | K42: 60.218 | L42: 60.644 | M42: 60.461 | N42: 60.695 | O42: 60.186 | P42: 59.761
B43: 17 | C43: 60.374 | F43: 61.072 | H43: 60.879 | K43: 60.465 | L43: 60.401 | M43: 60.667 | N43: 60.757 | O43: 59.54 | P43: 59.368
B44: 18 | C44: 60.55 | F44: 60.373 | H44: 60.732 | K44: 60.801 | L44: 60.727 | M44: 60.861 | N44: 60.668 | O44: 60.154 | P44: 59.699
B45: 19 | C45: 60.356 | F45: 59.708 | H45: 60.255 | K45: 61.137 | L45: 61.11 | M45: 60.116 | N45: 59.891 | O45: 60.563 | P45: 59.834
B46: 20 | C46: 61.272 | F46: 59.904 | H46: 60.842 | K46: 61.094 | L46: 61.907 | M46: 60.892 | N46: 60.474 | O46: 60.09 | P46: 59.536
B47: 21 | C47: 60.582 | F47: 59.852 | H47: 60.655 | K47: 60.994 | L47: 60.811 | M47: 60.2 | O47: 60.006 | P47: 59.337
B48: 22 | C48: 60.747 | F48: 60.109 | H48: 60.368 | K48: 60.709 | L48: 61.594 | M48: 60.616 | O48: 60.641 | P48: 59.449
B49: 23 | C49: 60.93 | F49: 59.725 | H49: 60.715 | K49: 60.667 | L49: 61.82 | M49: 60.441 | O49: 60.194 | P49: 59.41
B50: 24 | C50: 61.1 | F50: 60.717 | H50: 60.292 | K50: 60.713 | L50: 60.603 | M50: 60.727 | O50: 60.616 | P50: 59.351
B51: 25 | C51: 60.735 | F51: 62.056 | H51: 60.734 | K51: 60.385 | L51: 60.368 | M51: 60.646 | O51: 59.866 | P51: 59.303
B52: 26 | C52: 60.087 | F52: 59.847 | H52: 60.303 | K52: 61.754 | L52: 60.155 | M52: 60.646 | O52: 60.487 | P52: 58.827
B53: 27 | F53: 60.489 | H53: 61.726 | K53: 61.04 | L53: 61.85 | M53: 60.372 | O53: 60.025 | P53: 59.561
B54: 28 | F54: 60.3 | H54: 61.786 | K54: 61.074 | L54: 60.984 | M54: 60.308 | O54: 60.168 | P54: 59.868
B55: 29 | F55: 60.535 | H55: 61.061 | K55: 61.106 | L55: 60.781 | O55: 59.568 | P55: 58.798
B56: 30 | F56: 60.415 | H56: 61.3 | K56: 61.455 | L56: 60.573 | O56: 60.061 | P56: 59.735
B57: 31 | F57: 60.437 | H57: 60.682 | K57: 61.098 | L57: 60.567 | O57: 59.757 | P57: 59.492
B58: 32 | F58: 60.704 | H58: 61.05 | K58: 61.463 | L58: 59.898 | O58: 60.32 | P58: 59.504
B59: 33 | F59: 60.068 | H59: 62.245 | K59: 60.97 | L59: 60.636 | O59: 59.723 | P59: 59.009
B60: 34 | F60: 60.207 | K60: 60.914 | L60: 59.881 | O60: 59.9 | P60: 59.253
B61: 35 | F61: 60.545 | K61: 60.12 | L61: 60.881 | O61: 59.757 | P61: 59.059
B62: 36 | F62: 60.177 | K62: 61.182 | L62: 60.696 | O62: 59.572 | P62: 59.869
B63: 37 | F63: 60.623 | K63: 61.466 | L63: 60.853 | O63: 59.702 | P63: 59.998
B64: 38 | F64: 61.142 | K64: 60.592 | L64: 60.313 | O64: 59.411 | P64: 59.672
B65: 39 | F65: 60.372 | K65: 60.711 | L65: 60.757 | O65: 59.929 | P65: 59.188
B66: 40 | F66: 60.523 | L66: 60.027 | O66: 59.438 | P66: 60.066
B67: 41 | F67: 60.445 | L67: 60.352 | O67: 59.558 | P67: 59.267
B68: 42 | L68: 60.532 | O68: 59.849
B69: 43
B70: 44
B71: 45
B72: 46
B73: 47
B74: 48
B75: 49
B76: 50
B77: 51
B78: 52
B79: 53
B80: 54
... B89: 63

Sheet Hurricane RTU
A2: Чемпионат мини марафон "Большие Гонки", Гранд-Финал
A4: Hurricane RTU
A6: Обяза-тельные | B6: Пилот | C6: карт | D6: Круг | E6: кругов на отрезке | F6: Статистика по кругам | I6: Общее время гонки | J6: Время на трассе | L6: Питы | M6: Штрафы/ бонусы (сек)
F7: Лучший круг | G7: Среднее на отрезке | H7: стабильность | J7: отрезок | K7: всего у пилота
A8: 1 | B8: Стоцкий Андрей | C8: 7 | D8: =COUNTA(C27:C91) -> 15 | E8: =COUNTA(C27:C91) -> 15 | F8: =MIN(C27:C90) -> 60.491 | G8: =AVERAGE(C27:C93) -> 61.2908 | H8: =G8-F8 -> 0.7998 | I8: 0.011388889 | J8: =I8 -> 0.011388889 | K8: =J8 -> 0.011388889 | L8: 159.663
A9: 2 | B9: Стоцкий Андрей | C9: 4 | D9: =COUNTA(D27:D91)+D8+1 -> 37 | E9: =COUNTA(D27:D91)+1 -> 22 | F9: =MIN(D27:D90) -> 61.033 | G9: =AVERAGE(D27:D92) -> 61.780476 | H9: =G9-F9 -> 0.74747619 | I9: 0.028240741 | J9: =I9-I8 -> 0.016851852 | K9: =J9+K8 -> 0.028240741 | L9: 158.906
A10: 3 | B10: Манило Денис | C10: 1 | D10: =COUNTA(E27:E91)+D9+1 -> 68 | E10: =COUNTA(E27:E91)+1 -> 31 | F10: =MIN(E27:E92) -> 60.179 | G10: =AVERAGE(E27:E93) -> 60.868567 | H10: =G10-F10 -> 0.68956667 | I10: 0.051203704 | J10: =I10-I9 -> 0.022962963 | K10: =J10 -> 0.022962963 | L10: 157.587
A11: 4 | B11: Манило Денис | C11: 5 | D11: =COUNTA(F27:F91)+D10+1 -> 87 | E11: =COUNTA(F27:F91)+1 -> 19 | F11: =MIN(F27:F92) -> 60.392 | G11: =AVERAGE(F27:F92) -> 61.3275 | H11: =G11-F11 -> 0.9355 | I11: 0.065810185 | J11: =I11-I10 -> 0.014606481 | K11: =J11+K10 -> 0.037569444 | L11: 159.694
A12: 5 | B12: Стоцкий Андрей | C12: 44 | D12: =COUNTA(G27:G91)+D11+1 -> 103 | E12: =COUNTA(G27:G91)+1 -> 16 | F12: =MIN(G27:G92) -> 59.781 | G12: =AVERAGE(G27:G892) -> 60.446333 | H12: =G12-F12 -> 0.66533333 | I12: 0.078148148 | J12: =I12-I11 -> 0.012337963 | K12: =J12+K9 -> 0.040578704 | L12: 157.685
A13: 6 | B13: Стоцкий Андрей | C13: 11 | D13: =COUNTA(H27:H91)+D12+1 -> 144 | E13: =COUNTA(H27:H91)+1 -> 41 | F13: =MIN(H27:H92) -> 59.526 | G13: =AVERAGE(H27:H92) -> 60.500975 | H13: =G13-F13 -> 0.974975 | I13: 0.10798611 | J13: =I13-I12 -> 0.029837963 | K13: =J13+K12 -> 0.070416667 | L13: 159.204
A14: 7 | B14: Манило Денис | C14: 69 | D14: =COUNTA(I27:I91)+D13+1 -> 162 | E14: =COUNTA(I27:I91)+1 -> 18 | F14: =MIN(I27:I92) -> 60.604 | G14: =AVERAGE(I27:I92) -> 61.545706 | H14: =G14-F14 -> 0.94170588 | I14: 0.12194444 | J14: =I14-I13 -> 0.013958333 | K14: =J14+K11 -> 0.051527778 | L14: 158.634
A15: 8 | B15: Манило Денис | C15: 13 | D15: =COUNTA(J27:J91)+D14+1 -> 182 | E15: =COUNTA(J27:J91)+1 -> 20 | F15: =MIN(J27:J92) -> 60.777 | G15: =AVERAGE(J27:J92) -> 61.544632 | H15: =G9-F9 -> 0.74747619 | I15: 0.13731481 | J15: =I15-I14 -> 0.01537037 | K15: =J15+K14 -> 0.066898148 | L15: 158.406
A16: 9 | B16: Стоцкий Андрей | C16: 7 | D16: =COUNTA(K27:K91)+D15+1 -> 218 | E16: =COUNTA(K27:K91)+1 -> 36 | F16: =MIN(K27:K92) -> 60.333 | G16: =AVERAGE(K27:K92) -> 61.151371 | H16: =G10-F10 -> 0.68956667 | I16: 0.16391204 | J16: =I16-I15 -> 0.026597222 | K16: =J16+K13 -> 0.097013889 | L16: 158.06
A17: 10 | B17: Стоцкий Андрей | C17: 44 | D17: =COUNTA(L27:L91)+D16+1 -> 261 | E17: =COUNTA(L27:L91)+1 -> 43 | F17: =MIN(L27:L92) -> 59.35 | G17: =AVERAGE(L27:L92) -> 60.686333 | H17: =G11-F11 -> 0.9355 | I17: 0.19525463 | J17: =I17-I16 -> 0.031342593 | K17: =J17+K16 -> 0.12835648 | L17: 156.224
A18: 11 | B18: Манило Денис | C18: 11 | D18: =COUNTA(M27:M91)+D17+1 -> 293 | E18: =COUNTA(M27:M91)+1 -> 32 | F18: =MIN(M27:M92) -> 59.561 | G18: =AVERAGE(M27:M92) -> 60.197823 | H18: =G12-F12 -> 0.66533333 | I18: 0.21865741 | J18: =I18-I17 -> 0.023402778 | K18: =J18+K15 -> 0.090300926 | L18: 162.248 | M18: +5 | N18: лимит
A19: 12 | B19: Манило Денис | C19: 10 | D19: =COUNTA(N27:N91)+D18+1 -> 305 | E19: =COUNTA(N27:N91)+1 -> 12 | F19: =MIN(N27:N92) -> 59.91 | G19: =AVERAGE(N27:N92) -> 60.655545 | H19: =G13-F13 -> 0.974975 | I19: 0.22826389 | J19: =I19-I18 -> 0.0096064815 | K19: =J19+K18 -> 0.099907407 | L19: 159.007
A20: 13 | B20: Стоцкий Андрей | C20: 11 | D20: =COUNTA(O27:O91)+D19+1 -> 349 | E20: =COUNTA(O27:O91)+1 -> 44 | F20: =MIN(O27:O92) -> 58.883 | G20: =AVERAGE(O27:O92) -> 59.604535 | H20: =G14-F14 -> 0.94170588 | I20: 0.25976852 | J20: =I20-I19 -> 0.03150463 | K20: =J20+K17 -> 0.15986111 | L20: 186.842 | M20: +20+5+5 | N20: лимит
A21: Финиш | B21: Манило Денис | C21: 6 | D21: =COUNTA(P27:P91)+D20+1 -> 395 | E21: =COUNTA(P27:P91)+1 -> 46 | F21: =MIN(P27:P92) -> 59.456 | G21: =AVERAGE(P27:P92) -> 60.346978 | H21: =G15-F15 -> 0.76763158 | I21: ='Общие результаты'!G6 -> 7:00:46 | J21: =I21-I20 -> 0.032430556 | K21: =J21+K19 -> 0.13233796 | M21: +40 | N21: лимит
F22: =AVERAGE(F8,F13,F9,F12,F16,F17,F20) -> 59.913857 | G22: =AVERAGE(C27:C91,D27:D91,H27:H91,G27:G91,L27:L91,K27:K91,O27:O91) -> 60.642678 | H22: =AVERAGE(H8,H13,H9,H12,H16,H17,H20) -> 0.82205101 | I22: Андрей
F23: =AVERAGE(F11,F14,F10,F15,F19,F18,F21) -> 60.125571 | G23: =AVERAGE(E27:E91,F27:F91,J27:J91,I27:I91,N27:N91,M27:M91,P27:P91) -> 60.786751 | H23: =AVERAGE(H11,H14,H10,H15,H19,H18,H21) -> 0.81745552 | I23: Денис
F24: =AVERAGE(F8:F21) -> 60.019714 | G24: =AVERAGE(C27:P99) -> 60.707171 | H24: =AVERAGE(H8:H21) -> 0.81975327
C26: =B8 -> Стоцкий Андрей | D26: =B9 -> Стоцкий Андрей | E26: =B10 -> Манило Денис | F26: =B11 -> Манило Денис | G26: =B12 -> Стоцкий Андрей | H26: =B13 -> Стоцкий Андрей | I26: =B14 -> Манило Денис | J26: =B15 -> Манило Денис | K26: =B16 -> Стоцкий Андрей | L26: =B17 -> Стоцкий Андрей | M26: =B18 -> Манило Денис | N26: =B19 -> Манило Денис | O26: =B20 -> Стоцкий Андрей | P26: =B21 -> Манило Денис
B27: 1 | C27: 61.89 | D27: 62.456 | E27: 60.864 | F27: 61.384 | G27: 62.292 | H27: 60.633 | I27: 61.292 | J27: 61.165 | K27: 63.086 | L27: 61.844 | M27: 60.187 | N27: 60.764 | O27: 59.662 | P27: 60.587
B28: 2 | C28: 60.76 | D28: 62.038 | E28: 61.736 | F28: 61.727 | G28: 60.025 | H28: 60.777 | I28: 60.996 | J28: 61.735 | K28: 61.847 | L28: 61.235 | M28: 61.23 | N28: 61.642 | O28: 59.911 | P28: 60.577
B29: 3 | C29: 60.845 | D29: 61.968 | E29: 61.405 | F29: 61.324 | G29: 59.781 | H29: 60.327 | I29: 61.063 | J29: 61.607 | K29: 61.637 | L29: 60.832 | M29: 59.889 | N29: 60.46 | O29: 59.653 | P29: 61.08
B30: 4 | C30: 60.772 | D30: 61.954 | E30: 60.924 | F30: 61.125 | G30: 60.381 | H30: 60.379 | I30: 61.443 | J30: 61.14 | K30: 61.281 | L30: 60.133 | M30: 60.273 | N30: 60.572 | O30: 58.954 | P30: 60.58
B31: 5 | C31: 62.043 | D31: 62.112 | E31: 60.677 | F31: 60.392 | G31: 60.402 | H31: 59.965 | I31: 61.72 | J31: 61.223 | K31: 61.695 | L31: 60.144 | M31: 59.993 | N31: 60.906 | O31: 60.176 | P31: 60.403
B32: 6 | C32: 61.711 | D32: 62.302 | E32: 60.92 | F32: 61.348 | G32: 60.469 | H32: 60.443 | I32: 61.708 | J32: 60.937 | K32: 61.949 | L32: 60.227 | M32: 60.083 | N32: 60.471 | O32: 59.339 | P32: 60.525
B33: 7 | C33: 60.697 | D33: 62.088 | E33: 61.861 | F33: 61.943 | G33: 60.478 | H33: 60.188 | I33: 62.012 | J33: 61.142 | K33: 61.021 | L33: 62.006 | M33: 60.52 | N33: 60.502 | O33: 59.268 | P33: 60.452
B34: 8 | C34: 60.808 | D34: 61.885 | E34: 61.688 | F34: 61.836 | G34: 60.273 | H34: 60.425 | I34: 63.608 | J34: 61.646 | K34: 61.143 | L34: 61.686 | M34: 60.382 | N34: 59.91 | O34: 58.948 | P34: 60.088
B35: 9 | C35: 60.491 | D35: 61.898 | E35: 60.957 | F35: 60.666 | G35: 60.384 | H35: 60.203 | I35: 62.104 | J35: 61.438 | K35: 60.839 | L35: 61.537 | M35: 60.487 | N35: 60.359 | O35: 59.422 | P35: 60.73
B36: 10 | C36: 61.282 | D36: 62.353 | E36: 60.945 | F36: 60.495 | G36: 60.73 | H36: 60.369 | I36: 63.178 | J36: 61.538 | K36: 60.856 | L36: 61.158 | M36: 60.226 | N36: 60.723 | O36: 60.052 | P36: 60.734
B37: 11 | C37: 61.722 | D37: 61.759 | E37: 60.664 | F37: 61.139 | G37: 60.353 | H37: 60.964 | I37: 61.179 | J37: 61.261 | K37: 60.514 | L37: 61.7 | M37: 60.126 | N37: 60.902 | O37: 59.511 | P37: 60.062
B38: 12 | C38: 61.606 | D38: 61.033 | E38: 60.179 | F38: 60.835 | G38: 60.155 | H38: 60.123 | I38: 61.054 | J38: 60.777 | K38: 61.234 | L38: 61.731 | M38: 59.919 | O38: 59.513 | P38: 59.864
B39: 13 | C39: 61.192 | D39: 61.754 | E39: 60.467 | F39: 61.38 | G39: 60.112 | H39: 62.667 | I39: 60.952 | J39: 61.309 | K39: 61.187 | L39: 62.607 | M39: 60.819 | O39: 58.972 | P39: 59.985
B40: 14 | C40: 61.757 | D40: 61.748 | E40: 60.705 | F40: 62.103 | G40: 60.418 | H40: 61.072 | I40: 60.894 | J40: 61.707 | K40: 60.533 | L40: 61.296 | M40: 60.37 | O40: 58.893 | P40: 60.082
B41: 15 | C41: 61.786 | D41: 61.393 | E41: 60.415 | F41: 61.234 | G41: 60.442 | H41: 60.358 | I41: 60.604 | J41: 61.247 | K41: 61.061 | L41: 60.901 | M41: 59.6 | O41: 58.883 | P41: 60.189
B42: 16 | D42: 61.24 | E42: 61.019 | F42: 61.252 | H42: 59.972 | I42: 61.076 | J42: 65.546 | K42: 61.154 | L42: 60.578 | M42: 59.732 | O42: 59.171 | P42: 60.081
B43: 17 | D43: 61.392 | E43: 60.477 | F43: 61.92 | H43: 60.163 | I43: 61.394 | J43: 61.164 | K43: 61.343 | L43: 60.623 | M43: 60.113 | O43: 59.941 | P43: 59.456
B44: 18 | D44: 61.173 | E44: 60.417 | F44: 61.792 | H44: 59.526 | J44: 61.269 | K44: 60.751 | L44: 61.394 | M44: 60.283 | O44: 59.429 | P44: 60.61
B45: 19 | D45: 62.513 | E45: 60.504 | H45: 60.234 | J45: 61.497 | K45: 61.457 | L45: 60.846 | M45: 60.4445 | O45: 59.566 | P45: 60.338
B46: 20 | D46: 61.143 | E46: 61.254 | H46: 60.119 | K46: 62.087 | L46: 61.071 | M46: 60.139 | O46: 59.678 | P46: 60.215
B47: 21 | D47: 61.188 | E47: 60.353 | H47: 60.583 | K47: 60.936 | L47: 61.186 | M47: 61.316 | O47: 59.181 | P47: 60.299
B48: 22 | E48: 61.495 | H48: 61.303 | K48: 61.17 | L48: 60.853 | M48: 60.294 | O48: 59.391 | P48: 60.409
B49: 23 | E49: 60.524 | H49: 60.608 | K49: 61.678 | L49: 62.1 | M49: 60.104 | O49: 60.175 | P49: 60.93
B50: 24 | E50: 60.523 | H50: 60.312 | K50: 61.589 | L50: 59.934 | M50: 60.955 | O50: 59.083 | P50: 60.238
B51: 25 | E51: 60.984 | H51: 60.356 | K51: 61.738 | L51: 59.61 | M51: 59.859 | O51: 59.599 | P51: 59.933
B52: 26 | E52: 60.358 | H52: 60.21 | K52: 60.983 | L52: 59.788 | M52: 59.853 | O52: 59.898 | P52: 60.463
B53: 27 | E53: 60.307 | H53: 60.386 | K53: 60.497 | L53: 59.407 | M53: 59.807 | O53: 59.463 | P53: 60.333
B54: 28 | E54: 60.632 | H54: 60.513 | K54: 60.333 | L54: 60.281 | M54: 59.902 | O54: 60.276 | P54: 59.674
B55: 29 | E55: 61.043 | H55: 60.58 | K55: 61.066 | L55: 60.409 | M55: 59.957 | O55: 60.101 | P55: 59.828
B56: 30 | E56: 61.76 | H56: 60.268 | K56: 60.887 | L56: 59.999 | M56: 59.709 | O56: 60.086 | P56: 60.52
B57: 31 | H57: 60.546 | K57: 60.493 | L57: 60.758 | M57: 59.561 | O57: 59.756 | P57: 60.695
B58: 32 | H58: 60.598 | K58: 60.561 | L58: 60.478 | O58: 59.689 | P58: 60.084
B59: 33 | H59: 60.642 | K59: 60.576 | L59: 60.074 | O59: 59.953 | P59: 60.094
B60: 34 | H60: 60.972 | K60: 60.686 | L60: 60.114 | O60: 59.866 | P60: 60.724
B61: 35 | H61: 60.482 | K61: 60.43 | L61: 59.832 | O61: 60.423 | P61: 59.782
B62: 36 | H62: 61.278 | L62: 59.35 | O62: 59.496 | P62: 60.315
B63: 37 | H63: 60.488 | L63: 60.15 | O63: 59.912 | P63: 60.346
B64: 38 | H64: 60.187 | L64: 60.561 | O64: 59.548 | P64: 60.57
B65: 39 | H65: 60.63 | L65: 59.795 | O65: 59.771 | P65: 60.049
B66: 40 | H66: 60.19 | L66: 60.049 | O66: 59.905 | P66: 60.123
B67: 41 | L67: 60.098 | O67: 59.12 | P67: 60.234
B68: 42 | L68: 60.451 | O68: 59.82 | P68: 60.537
B69: 43 | O69: 59.541 | P69: 60.481
B70: 44 | P70: 61.381
B71: 45 | P71: 60.934
B72: 46
B73: 47
B74: 48
B75: 49
B76: 50
B77: 51
B78: 52
B79: 53
B80: 54
B81: 55
B82: 56
B83: 57
... B89: 63

Sheet NFS Fortuna RT
A2: Чемпионат мини марафон "Большие Гонки", Гранд-Финал
A4: NFS Fortuna RT
A6: Обяза-тельные | B6: Пилот | C6: карт | D6: Круг | E6: кругов на отрезке | F6: Статистика по кругам | I6: Общее время гонки | J6: Время на трассе | L6: Питы | M6: Штрафы/ бонусы (сек)
F7: Лучший круг | G7: Среднее на отрезке | H7: стабильность | J7: отрезок | K7: всего у пилота
A8: 1 | B8: Шутка Виталий | C8: 9 | D8: =COUNTA(C27:C91) -> 26 | E8: =COUNTA(C27:C91) -> 26 | F8: =MIN(C27:C90) -> 60.189 | G8: =AVERAGE(C27:C93) -> 61.017462 | H8: =G8-F8 -> 0.82846154 | I8: 0.019108796 | J8: =I8 -> 0.019108796 | K8: =J8 -> 0.019108796 | L8: 159.249
A9: 2 | B9: Шутка Виталий | C9: 5 | D9: =COUNTA(D27:D91)+D8+1 -> 50 | E9: =COUNTA(D27:D91)+1 -> 24 | F9: =MIN(D27:D90) -> 60.572 | G9: =AVERAGE(D27:D92) -> 61.791913 | H9: =G9-F9 -> 1.219913 | I9: 0.037395833 | J9: =I9-I8 -> 0.018287037 | K9: =J9+K8 -> 0.037395833 | L9: 158.852
A10: 3 | B10: Шутка Виталий | C10: 8 | D10: =COUNTA(E27:E91)+D9+1 -> 89 | E10: =COUNTA(E27:E91)+1 -> 39 | F10: =MIN(E27:E92) -> 60.1 | G10: =AVERAGE(E27:E93) -> 60.817289 | H10: =G10-F10 -> 0.71728947 | I10: 0.065972222 | J10: =I10-I9 -> 0.028576389 | K10: =J10+K9 -> 0.065972222 | L10: 158.232
A11: 4 | B11: Фортуна Таня | C11: 7 | D11: =COUNTA(F27:F91)+D10+1 -> 117 | E11: =COUNTA(F27:F91)+1 -> 28 | F11: =MIN(F27:F92) -> 61.145 | G11: =AVERAGE(F27:F92) -> 62.375111 | H11: =G11-F11 -> 1.2301111 | I11: 0.087361111 | J11: =I11-I10 -> 0.021388889 | K11: =J11 -> 0.021388889 | L11: 163.297
A12: 5 | B12: Фортуна Таня | C12: 44 | D12: =COUNTA(G27:G91)+D11+1 -> 143 | E12: =COUNTA(G27:G91)+1 -> 26 | F12: =MIN(G27:G92) -> 60.486 | G12: =AVERAGE(G27:G892) -> 61.29236 | H12: =G12-F12 -> 0.80636 | I12: 0.10695602 | J12: =I12-I11 -> 0.019594907 | K12: =J12+K11 -> 0.040983796 | L12: 160.087
A13: 6 | B13: Шутка Виталий | C13: 6 | D13: =COUNTA(H27:H91)+D12+1 -> 162 | E13: =COUNTA(H27:H91)+1 -> 19 | F13: =MIN(H27:H92) -> 61.783 | G13: =AVERAGE(H27:H92) -> 62.502222 | H13: =G13-F13 -> 0.71922222 | I13: 0.12184028 | J13: =I13-I12 -> 0.014884259 | K13: =J13+K10 -> 0.080856481 | L13: 160.757
A14: 7 | B14: Шутка Виталий | C14: 11 | D14: =COUNTA(I27:I91)+D13+1 -> 180 | E14: =COUNTA(I27:I91)+1 -> 18 | F14: =MIN(I27:I92) -> 60.711 | G14: =AVERAGE(I27:I92) -> 61.354294 | H14: =G14-F14 -> 0.64329412 | I14: 0.13783565 | J14: =I14-I13 -> 0.01599537 | K14: =J14+K13 -> 0.096851852 | L14: 159.815
A15: 8 | B15: Фортуна Таня | C15: 2 | D15: =COUNTA(J27:J91)+D14+1 -> 218 | E15: =COUNTA(J27:J91)+1 -> 38 | F15: =MIN(J27:J92) -> 60.376 | G15: =AVERAGE(J27:J92) -> 61.256324 | H15: =G9-F9 -> 1.219913 | I15: 0.16384259 | J15: =I15-I14 -> 0.026006944 | K15: =J15+K12 -> 0.066990741 | L15: 159.863
A16: 9 | B16: Шутка Виталий | C16: 8 | D16: =COUNTA(K27:K91)+D15+1 -> 261 | E16: =COUNTA(K27:K91)+1 -> 43 | F16: =MIN(K27:K92) -> 60.523 | G16: =AVERAGE(K27:K92) -> 61.522452 | H16: =G10-F10 -> 0.71728947 | I16: 0.19559028 | J16: =I16-I15 -> 0.031747685 | K16: =J16+K14 -> 0.12859954 | L16: 158.172
A17: 10 | B17: Фортуна Таня | C17: 4 | D17: =COUNTA(L27:L91)+D16+1 -> 285 | E17: =COUNTA(L27:L91)+1 -> 24 | F17: =MIN(L27:L92) -> 60.784 | G17: =AVERAGE(L27:L92) -> 61.502696 | H17: =G11-F11 -> 1.2301111 | I17: 0.2137963 | J17: =I17-I16 -> 0.018206019 | K17: =J17+K15 -> 0.085196759 | L17: 159.878
A18: 11 | B18: Фортуна Таня | C18: 69 | D18: =COUNTA(M27:M91)+D17+1 -> 304 | E18: =COUNTA(M27:M91)+1 -> 19 | F18: =MIN(M27:M92) -> 60.149 | G18: =AVERAGE(M27:M92) -> 60.938278 | H18: =G12-F12 -> 0.80636 | I18: 0.22832176 | J18: =I18-I17 -> 0.014525463 | K18: =J18+K17 -> 0.099722222 | L18: 163.492 | M18: +5 | N18: лимит
A19: 12 | B19: Фортуна Таня | C19: 9 | D19: =COUNTA(N27:N91)+D18+1 -> 347 | E19: =COUNTA(N27:N91)+1 -> 43 | F19: =MIN(N27:N92) -> 59.269 | G19: =AVERAGE(N27:N92) -> 60.022262 | H19: =G13-F13 -> 0.71922222 | I19: 0.25939815 | J19: =I19-I18 -> 0.031076389 | K19: =J19+K18 -> 0.13079861 | L19: 158.39
A20: 13 | B20: Шутка Виталий | C20: 4 | D20: =COUNTA(O27:O91)+D19+1 -> 361 | E20: =COUNTA(O27:O91)+1 -> 14 | F20: =MIN(O27:O92) -> 61.264 | G20: =AVERAGE(O27:O92) -> 61.731769 | H20: =G14-F14 -> 0.64329412 | I20: 0.27052083 | J20: =I20-I19 -> 0.011122685 | K20: =J20+K16 -> 0.13972222 | L20: 158.454
A21: Финиш | B21: Фортуна Таня | C21: 10 | D21: =COUNTA(P27:P91)+D20+1 -> 392 | E21: =COUNTA(P27:P91)+1 -> 31 | F21: =MIN(P27:P92) -> 59.68 | G21: =AVERAGE(P27:P92) -> 60.344767 | H21: =G15-F15 -> 0.88032432 | I21: ='Общие результаты'!G6 -> 7:00:46 | J21: =I21-I20 -> 0.021678241 | K21: =J21+K19 -> 0.15247685
F22: =AVERAGE(F8,F9,F10,F13,F14,F16,F20) -> 60.734571 | G22: =AVERAGE(C27:E91,H27:I91,K27:K91,O27:O91) -> 61.430757 | H22: =AVERAGE(H8,H9,H10,H13,H14,H16,H20) -> 0.78410914 | I22: Виталик
F23: =AVERAGE(F12,F11,F17,F15,F18,F19,F21) -> 60.269857 | G23: =AVERAGE(L27:N91,F27:G91,J27:J91,P27:P91) -> 61.018069 | H23: =AVERAGE(H12,H11,H17,H15,H18,H19,H21) -> 0.98462883 | I23: Таня
F24: =AVERAGE(F8:F21) -> 60.502214 | G24: =AVERAGE(C27:P99) -> 61.210802 | H24: =AVERAGE(H8:H21) -> 0.88436899
C26: =B8 -> Шутка Виталий | D26: =B9 -> Шутка Виталий | E26: =B10 -> Шутка Виталий | F26: =B11 -> Фортуна Таня | G26: =B12 -> Фортуна Таня | H26: =B13 -> Шутка Виталий | I26: =B14 -> Шутка Виталий | J26: =B15 -> Фортуна Таня | K26: =B16 -> Шутка Виталий | L26: =B17 -> Фортуна Таня | M26: =B18 -> Фортуна Таня | N26: =B19 -> Фортуна Таня | O26: =B20 -> Шутка Виталий | P26: =B21 -> Фортуна Таня
B27: 1 | C27: 62.907 | D27: 61.711 | E27: 61.127 | F27: 62.561 | G27: 61.865 | H27: 62.697 | I27: 60.855 | J27: 62.288 | K27: 61.606 | L27: 62.027 | M27: 60.545 | N27: 59.586 | O27: 61.76 | P27: 60.753
B28: 2 | C28: 61.339 | D28: 62.028 | E28: 61.148 | F28: 62.375 | G28: 61.071 | H28: 61.788 | I28: 60.955 | J28: 62.613 | K28: 61.74 | L28: 61.436 | M28: 61.339 | N28: 60.035 | O28: 61.598 | P28: 60.401
B29: 3 | C29: 61.511 | D29: 62.001 | E29: 60.878 | F29: 61.634 | G29: 61.234 | H29: 61.959 | I29: 61.213 | J29: 62.617 | K29: 61.171 | L29: 61.297 | M29: 60.716 | N29: 59.82 | O29: 61.519 | P29: 60.878
B30: 4 | C30: 60.96 | D30: 62.474 | E30: 60.366 | F30: 61.768 | G30: 61.928 | H30: 61.996 | I30: 60.957 | J30: 60.843 | K30: 61.793 | L30: 61.581 | M30: 60.149 | N30: 60.55 | O30: 63.043 | P30: 60.785
B31: 5 | C31: 60.326 | D31: 62.011 | E31: 60.398 | F31: 62.593 | G31: 60.972 | H31: 62.919 | I31: 61.22 | J31: 60.379 | K31: 61.481 | L31: 61.636 | M31: 60.756 | N31: 60.023 | O31: 61.646 | P31: 60.617
B32: 6 | C32: 60.813 | D32: 62.255 | E32: 60.302 | F32: 62.609 | G32: 61.494 | H32: 62.258 | I32: 61.374 | J32: 61.521 | K32: 62.266 | L32: 61.386 | M32: 61.054 | N32: 60.076 | O32: 61.308 | P32: 60.277
B33: 7 | C33: 60.526 | D33: 63.22 | E33: 60.893 | F33: 61.887 | G33: 61.998 | H33: 62.687 | I33: 61.398 | J33: 60.836 | K33: 61.849 | L33: 61.42 | M33: 60.782 | N33: 59.873 | O33: 62.018 | P33: 60.865
B34: 8 | C34: 60.754 | D34: 61.675 | E34: 61.064 | F34: 63.32 | G34: 60.87 | H34: 62.427 | I34: 61.548 | J34: 60.723 | K34: 61.578 | L34: 61.084 | M34: 61.249 | N34: 61.226 | O34: 61.394 | P34: 60.382
B35: 9 | C35: 60.46 | D35: 61.458 | E35: 60.575 | F35: 62.522 | G35: 61.387 | H35: 63.023 | I35: 61.663 | J35: 60.599 | K35: 61.514 | L35: 61.909 | M35: 60.939 | N35: 61.329 | O35: 62.088 | P35: 60.305
B36: 10 | C36: 61.117 | D36: 62.111 | E36: 60.647 | F36: 62.453 | G36: 61.853 | H36: 62.571 | I36: 62.897 | J36: 61.078 | K36: 61.171 | L36: 61.946 | M36: 61.483 | N36: 60.446 | O36: 61.554 | P36: 60.849
B37: 11 | C37: 61.128 | D37: 61.954 | E37: 61.603 | F37: 63.007 | G37: 61.642 | H37: 63.077 | I37: 60.711 | J37: 60.376 | K37: 61.693 | L37: 61.914 | M37: 61.344 | N37: 59.942 | O37: 61.565 | P37: 60.12
B38: 12 | C38: 60.189 | D38: 61.69 | E38: 60.1 | F38: 62.496 | G38: 61.04 | H38: 62.003 | I38: 60.91 | J38: 61.491 | K38: 61.786 | L38: 61.081 | M38: 60.615 | N38: 59.62 | O38: 61.264 | P38: 60.393
B39: 13 | C39: 60.834 | D39: 61.467 | E39: 60.78 | F39: 62.578 | G39: 60.57 | H39: 62.52 | I39: 61.196 | J39: 61.4 | K39: 61.994 | L39: 61.365 | M39: 60.668 | N39: 59.269 | O39: 61.756 | P39: 60.08
B40: 14 | C40: 60.361 | D40: 61.461 | E40: 60.77 | F40: 62.323 | G40: 61.648 | H40: 62.588 | I40: 61.622 | J40: 61.1 | K40: 60.534 | L40: 60.927 | M40: 60.486 | N40: 59.875 | P40: 60.904
B41: 15 | C41: 60.954 | D41: 61.033 | E41: 60.533 | F41: 62.91 | G41: 61.694 | H41: 63.033 | I41: 61.549 | J41: 62.138 | K41: 62.064 | L41: 60.784 | M41: 60.278 | N41: 59.596 | P41: 60.448
B42: 16 | C42: 61.311 | D42: 61.9 | E42: 60.802 | F42: 62.478 | G42: 61.887 | H42: 61.783 | I42: 61.831 | J42: 60.808 | K42: 60.523 | L42: 60.884 | M42: 61.945 | N42: 59.3 | P42: 60.173
B43: 17 | C43: 60.914 | D43: 62.729 | E43: 60.498 | F43: 62.032 | G43: 61.237 | H43: 62.955 | I43: 61.124 | J43: 61.266 | K43: 62.818 | L43: 63.333 | M43: 61.774 | N43: 59.942 | P43: 60.171
B44: 18 | C44: 61.172 | D44: 60.641 | E44: 61.223 | F44: 61.838 | G44: 60.735 | H44: 62.756 | J44: 60.857 | K44: 61.178 | L44: 61.981 | M44: 60.767 | N44: 59.858 | P44: 59.919
B45: 19 | C45: 61.512 | D45: 61.381 | E45: 60.628 | F45: 62.286 | G45: 60.599 | J45: 61.96 | K45: 60.841 | L45: 61.595 | N45: 60.19 | P45: 60.133
B46: 20 | C46: 61.143 | D46: 61.533 | E46: 60.548 | F46: 61.987 | G46: 61.01 | J46: 60.971 | K46: 61.414 | L46: 60.925 | N46: 59.77 | P46: 60.427
B47: 21 | C47: 61.148 | D47: 62.936 | E47: 61.327 | F47: 62.366 | G47: 61.247 | J47: 61.237 | K47: 61.002 | L47: 61.505 | N47: 60.075 | P47: 59.748
B48: 22 | C48: 61.25 | D48: 60.572 | E48: 60.562 | F48: 61.145 | G48: 60.922 | J48: 60.445 | K48: 61.046 | L48: 61.222 | N48: 59.708 | P48: 59.875
B49: 23 | C49: 61.719 | D49: 60.973 | E49: 60.806 | F49: 63.642 | G49: 62.09 | J49: 60.585 | K49: 63.369 | L49: 61.324 | N49: 61.997 | P49: 59.68
B50: 24 | C50: 60.774 | E50: 60.859 | F50: 62.927 | G50: 60.83 | J50: 60.81 | K50: 60.78 | N50: 59.804 | P50: 60.628
B51: 25 | C51: 60.648 | E51: 60.785 | F51: 61.957 | G51: 60.486 | J51: 61.28 | K51: 61.377 | N51: 59.435 | P51: 60.413
B52: 26 | C52: 60.684 | E52: 61.009 | F52: 62.219 | J52: 60.9 | K52: 61.248 | N52: 59.961 | P52: 60.445
B53: 27 | E53: 60.812 | F53: 62.215 | J53: 61.195 | K53: 61.323 | N53: 59.768 | P53: 60.433
B54: 28 | E54: 61.071 | J54: 60.842 | K54: 61.477 | N54: 60.019 | P54: 59.997
B55: 29 | E55: 60.383 | J55: 62.247 | K55: 61.148 | N55: 59.711 | P55: 60.066
B56: 30 | E56: 60.794 | J56: 61.389 | K56: 61.121 | N56: 59.803 | P56: 60.178
B57: 31 | E57: 60.406 | J57: 61.376 | K57: 61.476 | N57: 60.966
B58: 32 | E58: 61.046 | J58: 61.174 | K58: 61.782 | N58: 59.88
B59: 33 | E59: 60.766 | J59: 60.711 | K59: 61.077 | N59: 59.679
B60: 34 | E60: 60.809 | J60: 64.605 | K60: 61.663 | N60: 59.535
B61: 35 | E61: 60.98 | J61: 60.939 | K61: 63.027 | N61: 60.217
B62: 36 | E62: 61.314 | J62: 60.455 | K62: 61.068 | N62: 59.923
B63: 37 | E63: 61.341 | J63: 60.43 | K63: 61.545 | N63: 59.854
B64: 38 | E64: 61.104 | K64: 60.953 | N64: 59.927
B65: 39 | K65: 62.282 | N65: 59.623
B66: 40 | K66: 61.386 | N66: 60.284
B67: 41 | K67: 61.518 | N67: 59.901
B68: 42 | K68: 61.261 | N68: 60.539
B69: 43
B70: 44
B71: 45
B72: 46
B73: 47
B74: 48
B75: 49
B76: 50
B77: 51
B78: 52
B79: 53
B80: 54
... B89: 63

Sheet Jaguar
A2: Чемпионат мини марафон "Большие Гонки", Гранд-Финал
A4: Jaguar
A6: Обяза-тельные | B6: Пилот | C6: карт | D6: Круг | E6: кругов на отрезке | F6: Статистика по кругам | I6: Общее время гонки | J6: Время на трассе | L6: Питы | M6: Штрафы/ бонусы (сек)
F7: Лучший круг | G7: Среднее на отрезке | H7: стабильность | J7: отрезок | K7: всего у пилота
A8: 1 | B8: Закалюк Женя | C8: 5 | D8: =COUNTA(C27:C91) -> 17 | E8: =COUNTA(C27:C91) -> 17 | F8: =MIN(C27:C90) -> 61.618 | G8: =AVERAGE(C27:C93) -> 62.446706 | H8: =G8-F8 -> 0.82870588 | I8: 0.013078704 | J8: =I8 -> 0.013078704 | K8: =J8 -> 0.013078704 | L8: 162.093
A9: 2 | B9: Лихошерст Леша | C9: 7 | D9: =COUNTA(D27:D91)+D8+1 -> 36 | E9: =COUNTA(D27:D91)+1 -> 19 | F9: =MIN(D27:D90) -> 60.548 | G9: =AVERAGE(D27:D92) -> 61.551611 | H9: =G9-F9 -> 1.0036111 | I9: 0.027743056 | J9: =I9-I8 -> 0.014664352 | K9: =J9 -> 0.014664352 | L9: 159.11
A10: 3 | B10: Закалюк Женя | C10: 10 | D10: =COUNTA(E27:E91)+D9+1 -> 58 | E10: =COUNTA(E27:E91)+1 -> 22 | F10: =MIN(E27:E92) -> 60.112 | G10: =AVERAGE(E27:E93) -> 61.408667 | H10: =G10-F10 -> 1.2966667 | I10: 0.044525463 | J10: =I10-I9 -> 0.016782407 | K10: =J10+K8 -> 0.029861111 | L10: 160.291
A11: 4 | B11: Лихошерст Леша | C11: 69 | D11: =COUNTA(F27:F91)+D10+1 -> 89 | E11: =COUNTA(F27:F91)+1 -> 31 | F11: =MIN(F27:F92) -> 59.841 | G11: =AVERAGE(F27:F92) -> 60.5858 | H11: =G11-F11 -> 0.7448 | I11: 0.067407407 | J11: =I11-I10 -> 0.022881944 | K11: =J11+K9 -> 0.037546296 | L11: 159.454
A12: 5 | B12: Лихошерст Леша | C12: 4 | D12: =COUNTA(G27:G91)+D11+1 -> 103 | E12: =COUNTA(G27:G91)+1 -> 14 | F12: =MIN(G27:G92) -> 60.636 | G12: =AVERAGE(G27:G892) -> 61.267769 | H12: =G12-F12 -> 0.63176923 | I12: 0.078460648 | J12: =I12-I11 -> 0.011053241 | K12: =J12+K11 -> 0.048599537 | L12: 158.785
A13: 6 | B13: Закалюк Женя | C13: 6 | D13: =COUNTA(H27:H91)+D12+1 -> 126 | E13: =COUNTA(H27:H91)+1 -> 23 | F13: =MIN(H27:H92) -> 61.524 | G13: =AVERAGE(H27:H92) -> 62.222227 | H13: =G13-F13 -> 0.69822727 | I13: 0.096168981 | J13: =I13-I12 -> 0.017708333 | K13: =J13+K10 -> 0.047569444 | L13: 161.232
A14: 7 | B14: Лихошерст Леша | C14: 1 | D14: =COUNTA(I27:I91)+D13+1 -> 161 | E14: =COUNTA(I27:I91)+1 -> 35 | F14: =MIN(I27:I92) -> 60.306 | G14: =AVERAGE(I27:I92) -> 60.834029 | H14: =G14-F14 -> 0.52802941 | I14: 0.1221875 | J14: =I14-I13 -> 0.026018519 | K14: =J14+K12 -> 0.074618056 | L14: 179.99
A15: 8 | B15: Закалюк Женя | C15: 10 | D15: =COUNTA(J27:J91)+D14+1 -> 183 | E15: =COUNTA(J27:J91)+1 -> 22 | F15: =MIN(J27:J92) -> 60.781 | G15: =AVERAGE(J27:J92) -> 61.377762 | H15: =G9-F9 -> 1.0036111 | I15: 0.13896991 | J15: =I15-I14 -> 0.016782407 | K15: =J15+K13 -> 0.064351852 | L15: 160.568
A16: 9 | B16: Лихошерст Леша | C16: 5 | D16: =COUNTA(K27:K91)+D15+1 -> 219 | E16: =COUNTA(K27:K91)+1 -> 36 | F16: =MIN(K27:K92) -> 60.196 | G16: =AVERAGE(K27:K92) -> 61.000771 | H16: =G10-F10 -> 1.2966667 | I16: 0.16552083 | J16: =I16-I15 -> 0.026550926 | K16: =J16+K14 -> 0.10116898 | L16: 159.135
A17: 10 | B17: Закалюк Женя | C17: 69 | D17: =COUNTA(L27:L91)+D16+1 -> 261 | E17: =COUNTA(L27:L91)+1 -> 42 | F17: =MIN(L27:L92) -> 60.932 | G17: =AVERAGE(L27:L92) -> 61.664268 | H17: =G11-F11 -> 0.7448 | I17: 0.19663194 | J17: =I17-I16 -> 0.031111111 | K17: =J17+K15 -> 0.095462963 | L17: 161.588
A18: 11 | B18: Лихошерст Леша | C18: 1 | D18: =COUNTA(M27:M91)+D17+1 -> 290 | E18: =COUNTA(M27:M91)+1 -> 29 | F18: =MIN(M27:M92) -> 59.806 | G18: =AVERAGE(M27:M92) -> 60.750643 | H18: =G12-F12 -> 0.63176923 | I18: 0.21815972 | J18: =I18-I17 -> 0.021527778 | K18: =J18+K16 -> 0.12269676 | L18: 159.29
A19: 12 | B19: Закалюк Женя | C19: 4 | D19: =COUNTA(N27:N91)+D18+1 -> 319 | E19: =COUNTA(N27:N91)+1 -> 29 | F19: =MIN(N27:N92) -> 60.608 | G19: =AVERAGE(N27:N92) -> 61.975857 | H19: =G13-F13 -> 0.69822727 | I19: 0.24011574 | J19: =I19-I18 -> 0.021956019 | K19: =J19+K17 -> 0.11741898 | L19: 161.259
A20: 13 | B20: Лихошерст Леша | C20: 2 | D20: =COUNTA(O27:O91)+D19+1 -> 357 | E20: =COUNTA(O27:O91)+1 -> 38 | F20: =MIN(O27:O92) -> 59.194 | G20: =AVERAGE(O27:O92) -> 60.138135 | H20: =G14-F14 -> 0.52802941 | I20: 0.26770833 | J20: =I20-I19 -> 0.027592593 | K20: =J20+K18 -> 0.15028935 | L20: 159.099
A21: Финиш | B21: Закалюк Женя | C21: 13 | D21: =COUNTA(P27:P91)+D20+1 -> 391 | E21: =COUNTA(P27:P91)+1 -> 34 | F21: =MIN(P27:P92) -> 60.016 | G21: =AVERAGE(P27:P92) -> 61.537061 | H21: =G15-F15 -> 0.5967619 | I21: ='Общие результаты'!G6 -> 7:00:46 | J21: =I21-I20 -> 0.024490741 | K21: =J21+K19 -> 0.14190972
F22: =AVERAGE(F8,F15,F10,F13,F17,F19,F21) -> 60.798714 | G22: =AVERAGE(C27:C91,E27:E91,H27:H91,J27:J91,L27:L91,N27:N91,P27:P91) -> 61.766557 | H22: =AVERAGE(H8,H15,H10,H13,H17,H19,H21) -> 0.83814287 | I22: Женя
F23: =AVERAGE(F9,F11,F12,F14,F16,F18,F20) -> 60.075286 | G23: =AVERAGE(D27:D91,F27:F91,G27:G91,I27:I91,K27:K91,M27:M91,O27:O91) -> 60.776908 | H23: =AVERAGE(H9,H11,H12,H14,H16,H18,H20) -> 0.76638215 | I23: Леша
F24: =AVERAGE(F8:F21) -> 60.437 | G24: =AVERAGE(C27:P99) -> 61.256024 | H24: =AVERAGE(H8:H21) -> 0.80226251
C26: =B8 -> Закалюк Женя | D26: =B9 -> Лихошерст Леша | E26: =B10 -> Закалюк Женя | F26: =B11 -> Лихошерст Леша | G26: =B12 -> Лихошерст Леша | H26: =B13 -> Закалюк Женя | I26: =B14 -> Лихошерст Леша | J26: =B15 -> Закалюк Женя | K26: =B16 -> Лихошерст Леша | L26: =B17 -> Закалюк Женя | M26: =B18 -> Лихошерст Леша | N26: =B19 -> Закалюк Женя | O26: =B20 -> Лихошерст Леша | P26: =B21 -> Закалюк Женя
B27: 1 | C27: 63.932 | D27: 62.611 | E27: 63.004 | F27: 60.746 | G27: 60.636 | H27: 63.336 | I27: 60.496 | J27: 62.872 | K27: 61.015 | L27: 62.404 | M27: 60.274 | N27: 62.898 | O27: 60.696 | P27: 62.248
B28: 2 | C28: 62.154 | D28: 61.53 | E28: 62.686 | F28: 60.004 | G28: 61.596 | H28: 62.533 | I28: 60.96 | J28: 61.738 | K28: 61.528 | L28: 61.71 | M28: 60.625 | N28: 62.926 | O28: 60.812 | P28: 62.194
B29: 3 | C29: 62.442 | D29: 61.626 | E29: 63.861 | F29: 61.095 | G29: 60.982 | H29: 62.156 | I29: 61.098 | J29: 61.581 | K29: 61.843 | L29: 61.725 | M29: 61.417 | N29: 62.574 | O29: 60.669 | P29: 60.991
B30: 4 | C30: 62.319 | D30: 61.427 | E30: 62.388 | F30: 60.187 | G30: 62.224 | H30: 62.206 | I30: 60.787 | J30: 61.263 | K30: 60.844 | L30: 61.657 | M30: 60.558 | N30: 60.608 | O30: 60.851 | P30: 61.017
B31: 5 | C31: 62.49 | D31: 61.71 | E31: 61.283 | F31: 60.527 | G31: 61.265 | H31: 62.137 | I31: 61.467 | J31: 62.047 | K31: 60.85 | L31: 61.32 | M31: 60.778 | N31: 62.843 | O31: 59.766 | P31: 60.89
B32: 6 | C32: 62.106 | D32: 62.073 | E32: 61.565 | F32: 60.182 | G32: 60.915 | H32: 62.234 | I32: 61.548 | J32: 61.37 | K32: 60.82 | L32: 61.427 | M32: 60.531 | N32: 63.098 | O32: 59.793 | P32: 60.486
B33: 7 | C33: 62.107 | D33: 61.363 | E33: 61.904 | F33: 59.841 | G33: 61.072 | H33: 61.884 | I33: 60.678 | J33: 61.202 | K33: 60.542 | L33: 62.066 | M33: 60.35 | N33: 61.695 | O33: 60.906 | P33: 60.016
B34: 8 | C34: 62.376 | D34: 61.67 | E34: 61.241 | F34: 60.226 | G34: 61.428 | H34: 62.167 | I34: 60.439 | J34: 60.827 | K34: 61.114 | L34: 62.69 | M34: 61.084 | N34: 61.966 | O34: 60.327 | P34: 60.613
B35: 9 | C35: 61.618 | D35: 61.9 | E35: 61.389 | F35: 60.859 | G35: 60.787 | H35: 61.851 | I35: 60.829 | J35: 61.468 | K35: 60.37 | L35: 61.668 | M35: 60.447 | N35: 61.675 | O35: 60.195 | P35: 60.721
B36: 10 | C36: 62.025 | D36: 61.93 | E36: 60.921 | F36: 60.001 | G36: 61.065 | H36: 61.532 | I36: 61.119 | J36: 61.152 | K36: 60.786 | L36: 60.932 | M36: 60.437 | N36: 61.369 | O36: 60.613 | P36: 61.924
B37: 11 | C37: 62.183 | D37: 61.871 | E37: 61.105 | F37: 60.337 | G37: 61.775 | H37: 61.524 | I37: 60.797 | J37: 62.597 | K37: 60.531 | L37: 60.989 | M37: 59.806 | N37: 61.883 | O37: 59.621 | P37: 61.212
B38: 12 | C38: 62.265 | D38: 61.646 | E38: 60.779 | F38: 59.96 | G38: 61.688 | H38: 62.312 | I38: 61.766 | J38: 60.944 | K38: 61.11 | L38: 61.617 | M38: 60.342 | N38: 61.737 | O38: 59.865 | P38: 60.748
B39: 13 | C39: 61.901 | D39: 60.854 | E39: 61.699 | F39: 60.818 | G39: 61.048 | H39: 61.924 | I39: 61.049 | J39: 61.179 | K39: 61.089 | L39: 61.741 | M39: 60.185 | N39: 61.472 | O39: 59.971 | P39: 61.665
B40: 14 | C40: 61.755 | D40: 61.056 | E40: 61.676 | F40: 60.41 | H40: 62.23 | I40: 60.815 | J40: 61.256 | K40: 61.018 | L40: 61.207 | M40: 60.791 | N40: 62.012 | O40: 60.333 | P40: 61.277
B41: 15 | C41: 62.939 | D41: 61.12 | E41: 60.717 | F41: 60.374 | H41: 61.981 | I41: 60.571 | J41: 61.046 | K41: 61.158 | L41: 61.159 | M41: 60.932 | N41: 62.215 | O41: 60.079 | P41: 61.071
B42: 16 | C42: 62.419 | D42: 61.304 | E42: 60.975 | F42: 60.097 | H42: 62.396 | I42: 60.77 | J42: 60.781 | K42: 60.548 | L42: 61.299 | M42: 60.155 | N42: 62.192 | O42: 59.983 | P42: 61.231
B43: 17 | C43: 64.563 | D43: 60.548 | E43: 60.95 | F43: 60.938 | H43: 62.062 | I43: 60.336 | J43: 60.95 | K43: 60.594 | L43: 62.12 | M43: 60.091 | N43: 61.575 | O43: 59.65 | P43: 61.228
B44: 18 | D44: 61.69 | E44: 60.858 | F44: 61.049 | H44: 61.908 | I44: 60.306 | J44: 61.054 | K44: 60.196 | L44: 61.25 | M44: 60.378 | N44: 61.553 | O44: 59.984 | P44: 61.544
B45: 19 | E45: 60.112 | F45: 60.377 | H45: 62.143 | I45: 60.795 | J45: 61.071 | K45: 61.038 | L45: 63.513 | M45: 61.358 | N45: 62.351 | O45: 59.966 | P45: 62.267
B46: 20 | E46: 60.336 | F46: 60.49 | H46: 63.127 | I46: 60.673 | J46: 60.903 | K46: 61.329 | L46: 62.197 | M46: 61.588 | N46: 62.01 | O46: 59.646 | P46: 62.168
B47: 21 | E47: 60.133 | F47: 60.48 | H47: 63.105 | I47: 60.464 | J47: 61.632 | K47: 60.786 | L47: 62.762 | M47: 61.099 | N47: 61.991 | O47: 59.978 | P47: 61.37
B48: 22 | F48: 60.804 | H48: 62.141 | I48: 61.637 | K48: 63.667 | L48: 61.161 | M48: 60.893 | N48: 61.668 | O48: 59.4 | P48: 60.893
B49: 23 | F49: 61.177 | I49: 60.394 | K49: 61.834 | L49: 61.381 | M49: 60.895 | N49: 61.971 | O49: 59.701 | P49: 61.426
B50: 24 | F50: 60.722 | I50: 60.865 | K50: 61.316 | L50: 61.199 | M50: 60.555 | N50: 62.601 | O50: 61.739 | P50: 61.481
B51: 25 | F51: 60.683 | I51: 60.733 | K51: 60.484 | L51: 61.551 | M51: 61.303 | N51: 62.026 | O51: 60.771 | P51: 61.428
B52: 26 | F52: 61.358 | I52: 60.873 | K52: 60.553 | L52: 61.811 | M52: 61.577 | N52: 61.87 | O52: 59.857 | P52: 61.215
B53: 27 | F53: 61.126 | I53: 60.683 | K53: 60.305 | L53: 61.298 | M53: 61.265 | N53: 61.428 | O53: 60.077 | P53: 61.54
B54: 28 | F54: 60.932 | I54: 61.224 | K54: 60.813 | L54: 61.875 | M54: 61.304 | N54: 61.117 | O54: 60.036 | P54: 61.3
B55: 29 | F55: 60.836 | I55: 60.836 | K55: 61.479 | L55: 61.083 | O55: 59.802 | P55: 69.349
B56: 30 | F56: 60.938 | I56: 60.51 | K56: 61.654 | L56: 61.294 | O56: 60.525 | P56: 61.332
B57: 31 | I57: 60.686 | K57: 60.757 | L57: 61.419 | O57: 59.96 | P57: 61.725
B58: 32 | I58: 60.854 | K58: 60.232 | L58: 61.597 | O58: 60.274 | P58: 61
B59: 33 | I59: 60.398 | K59: 60.696 | L59: 62.394 | O59: 60.168 | P59: 61.153
B60: 34 | I60: 60.901 | K60: 60.765 | L60: 61.761 | O60: 59.46
B61: 35 | K61: 61.363 | L61: 61.675 | O61: 59.194
B62: 36 | L62: 61.549 | O62: 60.38
B63: 37 | L63: 61.378 | O63: 60.063
B64: 38 | L64: 61.737
B65: 39 | L65: 61.121
B66: 40 | L66: 61.714
B67: 41 | L67: 61.784
B68: 42
B69: 43
B70: 44
B71: 45
B72: 46
B73: 47
B74: 48
B75: 49
B76: 50
B77: 51
B78: 52
B79: 53
... B89: 63

Sheet 777
A2: Чемпионат мини марафон "Большие Гонки", Гранд-Финал
A4: 777
A6: Обяза-тельные | B6: Пилот | C6: карт | D6: Круг | E6: кругов на отрезке | F6: Статистика по кругам | I6: Общее время гонки | J6: Время на трассе | L6: Питы | M6: Штрафы/ бонусы (сек)
F7: Лучший круг | G7: Среднее на отрезке | H7: стабильность | J7: отрезок | K7: всего у пилота
A8: 1 | B8: Ерофеев Денис | C8: 44 | D8: =COUNTA(C28:C92) -> 24 | E8: =COUNTA(C28:C92) -> 24 | F8: =MIN(C28:C91) -> 61.231 | G8: =AVERAGE(C28:C94) -> 62.103792 | H8: =G8-F8 -> 0.87279167 | I8: 0.018032407 | J8: =I8 -> 0.018032407 | K8: =J8 -> 0.018032407 | L8: 160.852
A9: 2 | B9: Бурим Сергей | C9: 13 | D9: =COUNTA(D28:D92)+D8+1 -> 61 | E9: =COUNTA(D28:D92)+1 -> 37 | F9: =MIN(D28:D91) -> 60.03 | G9: =AVERAGE(D28:D93) -> 61.023139 | H9: =G9-F9 -> 0.99313889 | I9: 0.045289352 | J9: =I9-I8 -> 0.027256944 | K9: =J9 -> 0.027256944 | L9: 157.154
A10: 3 | B10: Ерофеев Денис | C10: 2 | D10: =COUNTA(E28:E92)+D9+1 -> 88 | E10: =COUNTA(E28:E92)+1 -> 27 | F10: =MIN(E28:E93) -> 60.392 | G10: =AVERAGE(E28:E94) -> 62.156192 | H10: =G10-F10 -> 1.7641923 | I10: 0.065856481 | J10: =I10-I9 -> 0.02056713 | K10: =J10+K8 -> 0.038599537 | L10: 162.734
A11: 4 | B11: Сериченко Мария | C11: 9 | D11: =COUNTA(F28:F92)+D10+1 -> 127 | E11: =COUNTA(F28:F92)+1 -> 39 | F11: =MIN(F28:F93) -> 61.75 | G11: =AVERAGE(F28:F93) -> 63.561842 | H11: =G11-F11 -> 1.8118421 | I11: 0.095740741 | J11: =I11-I10 -> 0.029884259 | K11: =J11 -> 0.029884259 | L11: 165.189
A12: 5 | B12: Сериченко Мария | C12: 5 | D12: =COUNTA(G28:G92)+D11+1 -> 140 | E12: =COUNTA(G28:G92)+1 -> 13 | F12: =MIN(G28:G93) -> 63.936 | G12: =AVERAGE(G28:G893) -> 65.801083 | H12: =G12-F12 -> 1.8650833 | I12: 0.10680556 | J12: =I12-I11 -> 0.011064815 | K12: =J12+K11 -> 0.040949074 | L12: 164.655
A13: 6 | B13: Ерофеев Денис | C13: 9 | D13: =COUNTA(H28:H92)+D12+1 -> 179 | E13: =COUNTA(H28:H92)+1 -> 39 | F13: =MIN(H28:H93) -> 59.876 | G13: =AVERAGE(H28:H93) -> 61.011579 | H13: =G13-F13 -> 1.1355789 | I13: 0.13546296 | J13: =I13-I12 -> 0.028657407 | K13: =J13+K10 -> 0.067256944 | L13: 159.84
A14: 7 | B14: Бурим Сергей | C14: 8 | D14: =COUNTA(I28:I92)+D13+1 -> 193 | E14: =COUNTA(I28:I92)+1 -> 14 | F14: =MIN(I28:I93) -> 60.927 | G14: =AVERAGE(I28:I93) -> 61.629 | H14: =G14-F14 -> 0.702 | I14: 0.14658565 | J14: =I14-I13 -> 0.011122685 | K14: =J14+K9 -> 0.03837963 | L14: 159.266
A15: 8 | B15: Сериченко Мария | C15: 13 | D15: =COUNTA(J28:J92)+D14+1 -> 227 | E15: =COUNTA(J28:J92)+1 -> 34 | F15: =MIN(J28:J93) -> 63.031 | G15: =AVERAGE(J28:J93) -> 64.631061 | H15: =G9-F9 -> 0.99313889 | I15: 0.17314815 | J15: =I15-I14 -> 0.0265625 | K15: =J15+K12 -> 0.067511574 | L15: 164.098
A16: 9 | B16: Сериченко Мария | C16: 2 | D16: =COUNTA(K28:K92)+D15+1 -> 257 | E16: =COUNTA(K28:K92)+1 -> 30 | F16: =MIN(K28:K93) -> 62.984 | G16: =AVERAGE(K28:K93) -> 64.268724 | H16: =G10-F10 -> 1.7641923 | I16: 0.19666667 | J16: =I16-I15 -> 0.023518519 | K16: =J16+K15 -> 0.091030093 | L16: 165.844
A17: 10 | B17: Бурим Сергей | C17: 44 | D17: =COUNTA(L28:L92)+D16+1 -> 300 | E17: =COUNTA(L28:L92)+1 -> 43 | F17: =MIN(L28:L93) -> 59.299 | G17: =AVERAGE(L28:L93) -> 60.28281 | H17: =G11-F11 -> 1.8118421 | I17: 0.22777778 | J17: =I17-I16 -> 0.031111111 | K17: =J17+K14 -> 0.069490741 | L17: 157.391
A18: 11 | B18: Ерофеев Денис | C18: 13 | D18: =COUNTA(M28:M92)+D17+1 -> 314 | E18: =COUNTA(M28:M92)+1 -> 14 | F18: =MIN(M28:M93) -> 61.092 | G18: =AVERAGE(M28:M93) -> 61.707923 | H18: =G12-F12 -> 1.8650833 | I18: 0.23894676 | J18: =I18-I17 -> 0.011168981 | K18: =J18+K13 -> 0.078425926 | L18: 162.137
A19: 12 | B19: Бурим Сергей | C19: 69 | D19: =COUNTA(N28:N92)+D18+1 -> 343 | E19: =COUNTA(N28:N92)+1 -> 29 | F19: =MIN(N28:N93) -> 59.702 | G19: =AVERAGE(N28:N93) -> 60.589536 | H19: =G13-F13 -> 1.1355789 | I19: 0.26038194 | J19: =I19-I18 -> 0.021435185 | K19: =J19+K17 -> 0.090925926 | L19: 157.723
A20: 13 | B20: Ерофеев Денис | C20: 44 | D20: =COUNTA(O28:O92)+D19+1 -> 362 | E20: =COUNTA(O28:O92)+1 -> 19 | F20: =MIN(O28:O93) -> 60.013 | G20: =AVERAGE(O28:O93) -> 60.618056 | H20: =G14-F14 -> 0.702 | I20: 0.27487269 | J20: =I20-I19 -> 0.014490741 | K20: =J20+K18 -> 0.092916667 | L20: 160.137
A21: Финиш | B21: Бурим Сергей | C21: 5 | D21: =COUNTA(P28:P92)+D20+1 -> 387 | E21: =COUNTA(P28:P92)+1 -> 25 | F21: =MIN(P28:P93) -> 59.76 | G21: =AVERAGE(P28:P93) -> 60.332875 | H21: =G15-F15 -> 1.6000606 | I21: ='Общие результаты'!G6 -> 7:00:46 | J21: =I21-I20 -> 0.017326389 | K21: =J21+K19 -> 0.10825231
F22: =AVERAGE(F8,F10,F13,F18,F20) -> 60.5208 | G22: =AVERAGE(C28:C92,E28:E92,H28:H92,M28:M92,O28:O92) -> 61.498487 | H22: =AVERAGE(H8,H10,H13,H18,H20) -> 1.2679293 | I22: Денис
F23: =AVERAGE(F9,F14,F17,F19,F21) -> 59.9436 | G23: =AVERAGE(D28:D92,I28:I92,L28:L92,N28:N92,P28:P92) -> 60.660028 | H23: =AVERAGE(H9,H14,H17,H19,H21) -> 1.2485241 | I23: Сергей
F24: =AVERAGE(F11,F12,F16,F15) -> 62.92525 | G24: =AVERAGE(F28:G92,J28:K92) -> 64.29983 | H24: =AVERAGE(H11,H12,H16,H15) -> 1.6085642 | I24: Мария
F25: =AVERAGE(F8:F21) -> 61.001643 | G25: =AVERAGE(C28:P100) -> 62.016805 | H25: =AVERAGE(H8:H21) -> 1.3583231
C27: =B8 -> Ерофеев Денис | D27: =B9 -> Бурим Сергей | E27: =B10 -> Ерофеев Денис | F27: =B11 -> Сериченко Мария | G27: =B12 -> Сериченко Мария | H27: =B13 -> Ерофеев Денис | I27: =B14 -> Бурим Сергей | J27: =B15 -> Сериченко Мария | K27: =B16 -> Сериченко Мария | L27: =B17 -> Бурим Сергей | M27: =B18 -> Ерофеев Денис | N27: =B19 -> Бурим Сергей | O27: =B20 -> Ерофеев Денис | P27: =B21 -> Бурим Сергей
B28: 1 | C28: 64.898 | D28: 62.703 | E28: 61.046 | F28: 63.932 | G28: 67.169 | H28: 60.638 | I28: 63.763 | J28: 65.12 | K28: 63 | L28: 61.557 | M28: 61.541 | N28: 59.979 | O28: 61.876 | P28: 60.275
B29: 2 | C29: 62.482 | D29: 62.06 | E29: 61.203 | F29: 65.033 | G29: 65.598 | H29: 61.375 | I29: 61.699 | J29: 64.69 | K29: 63.072 | L29: 60.787 | M29: 61.392 | N29: 61.162 | O29: 61.353 | P29: 60.63
B30: 3 | C30: 62.374 | D30: 62.311 | E30: 60.987 | F30: 63.628 | G30: 64.25 | H30: 61.872 | I30: 61.906 | J30: 64.057 | K30: 64.274 | L30: 60.254 | M30: 62.398 | N30: 60.396 | O30: 60.862 | P30: 59.897
B31: 4 | C31: 62.185 | D31: 62.395 | E31: 60.621 | F31: 67.931 | G31: 64.75 | H31: 61.192 | I31: 61.744 | J31: 71.884 | K31: 63.408 | L31: 60.497 | M31: 61.57 | N31: 60.377 | O31: 60.228 | P31: 60.397
B32: 5 | C32: 62.383 | D32: 61.56 | E32: 60.392 | F32: 63.046 | G32: 66.048 | H32: 61.158 | I32: 61.368 | J32: 64.034 | K32: 64.786 | L32: 60.556 | M32: 61.524 | N32: 61.193 | O32: 60.013 | P32: 60.18
B33: 6 | C33: 62.271 | D33: 61.162 | E33: 60.939 | F33: 61.75 | G33: 68.523 | H33: 61.786 | I33: 61.659 | J33: 64.701 | K33: 63.682 | L33: 59.953 | M33: 61.425 | N33: 61.434 | O33: 60.899 | P33: 60.818
B34: 7 | C34: 62.445 | D34: 61.421 | E34: 61.782 | F34: 63.142 | G34: 66.214 | H34: 61.446 | I34: 60.927 | J34: 64.752 | K34: 64.278 | L34: 60.306 | M34: 61.313 | N34: 60.932 | O34: 60.608 | P34: 60.588
B35: 8 | C35: 62.057 | D35: 60.737 | E35: 61.337 | F35: 63.868 | G35: 65.693 | H35: 61.091 | I35: 61.704 | J35: 64.406 | K35: 64.828 | L35: 60.459 | M35: 61.092 | N35: 60.166 | O35: 60.24 | P35: 60.153
B36: 9 | C36: 62.234 | D36: 61.001 | E36: 61.113 | F36: 65.009 | G36: 66.414 | H36: 61.229 | I36: 61.2 | J36: 65.47 | K36: 64.162 | L36: 60.913 | M36: 61.741 | N36: 61.337 | O36: 60.904 | P36: 60.12
B37: 10 | C37: 61.73 | D37: 61.382 | E37: 60.465 | F37: 62.967 | G37: 66.176 | H37: 62.875 | I37: 61.476 | J37: 64.916 | K37: 63.278 | L37: 59.751 | M37: 61.664 | N37: 60.914 | O37: 60.611 | P37: 60.246
B38: 11 | C38: 61.34 | D38: 61.606 | E38: 60.519 | F38: 63.382 | G38: 64.842 | H38: 61.398 | I38: 60.938 | J38: 64.527 | K38: 63.248 | L38: 60.025 | M38: 62.477 | N38: 60.928 | O38: 60.481 | P38: 59.987
B39: 12 | C39: 61.911 | D39: 61.499 | E39: 60.681 | F39: 63.633 | G39: 63.936 | H39: 62.76 | I39: 61.866 | J39: 64.226 | K39: 64.397 | L39: 60.095 | M39: 61.572 | N39: 61.278 | O39: 60.146 | P39: 60.589
B40: 13 | C40: 62.122 | D40: 61.319 | E40: 62.285 | F40: 63.739 | H40: 61.522 | I40: 60.927 | J40: 64.667 | K40: 68.611 | L40: 61.234 | M40: 62.494 | N40: 60.902 | O40: 60.507 | P40: 61.008
B41: 14 | C41: 61.591 | D41: 61.53 | E41: 60.907 | F41: 65.008 | H41: 61.535 | J41: 64.578 | K41: 64.273 | L41: 60.395 | N41: 60.485 | O41: 60.508 | P41: 60.139
B42: 15 | C42: 63.042 | D42: 61.363 | E42: 90.463 | F42: 62.519 | H42: 62.475 | J42: 64.055 | K42: 63.32 | L42: 60.267 | N42: 60.457 | O42: 60.325 | P42: 60.115
B43: 16 | C43: 62.403 | D43: 61.38 | E43: 60.995 | F43: 62.698 | H43: 62.309 | J43: 63.031 | K43: 62.984 | L43: 60.283 | N43: 60.776 | O43: 60.406 | P43: 60.09
B44: 17 | C44: 62.251 | D44: 61.209 | E44: 60.531 | F44: 63.02 | H44: 61.4 | J44: 63.935 | K44: 64.219 | L44: 60.252 | N44: 60.778 | O44: 60.7 | P44: 60.972
B45: 18 | C45: 61.63 | D45: 60.591 | E45: 60.969 | F45: 62.972 | H45: 60.6 | J45: 65.456 | K45: 65.069 | L45: 60.67 | N45: 60.378 | O45: 60.458 | P45: 60.458
B46: 19 | C46: 62.229 | D46: 60.717 | E46: 60.673 | F46: 62.435 | H46: 60.676 | J46: 64.667 | K46: 63.337 | L46: 59.926 | N46: 60.328 | P46: 59.76
B47: 20 | C47: 61.444 | D47: 60.206 | E47: 60.618 | F47: 71.92 | H47: 60.564 | J47: 64.309 | K47: 64.109 | L47: 61.231 | N47: 60.231 | P47: 60.53
B48: 21 | C48: 61.634 | D48: 60.915 | E48: 60.675 | F48: 63.29 | H48: 60.069 | J48: 64.84 | K48: 69.915 | L48: 60.865 | N48: 59.702 | P48: 60.087
B49: 22 | C49: 61.231 | D49: 60.855 | E49: 61.092 | F49: 63.302 | H49: 60.756 | J49: 63.584 | K49: 64.454 | L49: 60.531 | N49: 60.157 | P49: 60.276
B50: 23 | C50: 61.365 | D50: 60.959 | E50: 61.005 | F50: 62.671 | H50: 60.661 | J50: 64.815 | K50: 64.017 | L50: 60.465 | N50: 59.935 | P50: 60.031
B51: 24 | C51: 61.239 | D51: 60.677 | E51: 61.017 | F51: 63.291 | H51: 60.286 | J51: 63.614 | K51: 64.43 | L51: 60.331 | N51: 60.205 | P51: 60.643
B52: 25 | D52: 60.196 | E52: 61.743 | F52: 62.568 | H52: 60.462 | J52: 63.956 | K52: 63.572 | L52: 59.746 | N52: 60.324
B53: 26 | D53: 60.603 | E53: 62.003 | F53: 62.385 | H53: 59.876 | J53: 64.628 | K53: 64.407 | L53: 60.824 | N53: 60.041
B54: 27 | D54: 60.779 | F54: 62.014 | H54: 60.678 | J54: 63.741 | K54: 63.298 | L54: 59.917 | N54: 60.446
B55: 28 | D55: 60.335 | F55: 62.581 | H55: 60.474 | J55: 63.723 | K55: 63.898 | L55: 60.311 | N55: 61.266
B56: 29 | D56: 60.03 | F56: 63.205 | H56: 59.931 | J56: 64.772 | K56: 63.467 | L56: 60.06
B57: 30 | D57: 60.556 | F57: 63.463 | H57: 60.492 | J57: 64.219 | L57: 59.743
B58: 31 | D58: 60.723 | F58: 62.133 | H58: 60.583 | J58: 63.948 | L58: 60.137
B59: 32 | D59: 60.672 | F59: 64.499 | H59: 60.056 | J59: 65.186 | L59: 59.649
B60: 33 | D60: 60.736 | F60: 62.785 | H60: 61.256 | J60: 64.318 | L60: 59.806
B61: 34 | D61: 60.08 | F61: 63.808 | H61: 61.008 | L61: 59.936
B62: 35 | D62: 60.105 | F62: 63.024 | H62: 60.46 | L62: 59.567
B63: 36 | D63: 60.46 | F63: 63.167 | H63: 60.697 | L63: 59.504
B64: 37 | F64: 62.37 | H64: 60.478 | L64: 59.943
B65: 38 | F65: 63.162 | H65: 60.316 | L65: 59.299
B66: 39 | L66: 61.358
B67: 40 | L67: 60.078
B68: 41 | L68: 60.307
B69: 42 | L69: 60.09
B70: 43
B71: 44
B72: 45
B73: 46
B74: 47
B75: 48
B76: 49
B77: 50
B78: 51
B79: 52
B80: 53
B81: 54
... B90: 63

Sheet Fossa 
A2: Чемпионат мини марафон "Большие Гонки", Гранд-Финал
A4: Fossa
A6: Обяза-тельные | B6: Пилот | C6: карт | D6: Круг | E6: кругов на отрезке | F6: Статистика по кругам | I6: Общее время гонки | J6: Время на трассе | L6: Питы | M6: Штрафы/ бонусы (сек)
F7: Лучший круг | G7: Среднее на отрезке | H7: стабильность | J7: отрезок | K7: всего у пилота
A8: 1 | B8: Кравчонок Саша | C8: 2 | D8: =COUNTA(C28:C92) -> 16 | E8: =COUNTA(C28:C92) -> 16 | F8: =MIN(C28:C91) -> 61.297 | G8: =AVERAGE(C28:C94) -> 62.369813 | H8: =G8-F8 -> 1.0728125 | I8: 0.012361111 | J8: =I8 -> 0.012361111 | K8: =J8 -> 0.012361111 | L8: 165.697
A9: 2 | B9: Кравчонок Саша | C9: 11 | D9: =COUNTA(D28:D92)+D8+1 -> 42 | E9: =COUNTA(D28:D92)+1 -> 26 | F9: =MIN(D28:D91) -> 61.429 | G9: =AVERAGE(D28:D93) -> 62.25744 | H9: =G9-F9 -> 0.82844 | I9: 0.032256944 | J9: =I9-I8 -> 0.019895833 | K9: =J9+K8 -> 0.032256944 | L9: 165.606
A10: 3 | B10: Верба Александр | C10: 7 | D10: =COUNTA(E28:E92)+D9+1 -> 78 | E10: =COUNTA(E28:E92)+1 -> 36 | F10: =MIN(E28:E93) -> 61.575 | G10: =AVERAGE(E28:E94) -> 62.7564 | H10: =G10-F10 -> 1.1814 | I10: 0.059618056 | J10: =I10-I9 -> 0.027361111 | K10: =J10 -> 0.027361111 | L10: 161.497
A11: 4 | B11: Верба Александр | C11: 13 | D11: =COUNTA(F28:F92)+D10+1 -> 99 | E11: =COUNTA(F28:F92)+1 -> 21 | F11: =MIN(F28:F93) -> 62.02 | G11: =AVERAGE(F28:F93) -> 62.72675 | H11: =G11-F11 -> 0.70675 | I11: 0.07599537 | J11: =I11-I10 -> 0.016377315 | K11: =J11+K10 -> 0.043738426 | L11: 156.895
A12: 5 | B12: Гончаров Алексей | C12: 69 | D12: =COUNTA(G28:G92)+D11+1 -> 140 | E12: =COUNTA(G28:G92)+1 -> 41 | F12: =MIN(G28:G93) -> 61.03 | G12: =AVERAGE(G28:G893) -> 62.501 | H12: =G12-F12 -> 1.471 | I12: 0.10675926 | J12: =I12-I11 -> 0.030763889 | K12: =J12 -> 0.030763889 | L12: 160.949
A13: 6 | B13: Гончаров Алексей | C13: 8 | D13: =COUNTA(H28:H92)+D12+1 -> 175 | E13: =COUNTA(H28:H92)+1 -> 35 | F13: =MIN(H28:H93) -> 60.773 | G13: =AVERAGE(H28:H93) -> 61.915294 | H13: =G13-F13 -> 1.1422941 | I13: 0.13297454 | J13: =I13-I12 -> 0.026215278 | K13: =J13+K12 -> 0.056979167 | L13: 159.719
A14: 7 | B14: Кравчонок Саша | C14: 69 | D14: =COUNTA(I28:I92)+D13+1 -> 216 | E14: =COUNTA(I28:I92)+1 -> 41 | F14: =MIN(I28:I93) -> 61.016 | G14: =AVERAGE(I28:I93) -> 61.860675 | H14: =G14-F14 -> 0.844675 | I14: 0.1634838 | J14: =I14-I13 -> 0.030509259 | K14: =J14+K9 -> 0.062766204 | L14: 161.453
A15: 8 | B15: Кравчонок Саша | C15: 6 | D15: =COUNTA(J28:J92)+D14+1 -> 229 | E15: =COUNTA(J28:J92)+1 -> 13 | F15: =MIN(J28:J93) -> 61.468 | G15: =AVERAGE(J28:J93) -> 62.374083 | H15: =G9-F9 -> 0.82844 | I15: 0.1740162 | J15: =I15-I14 -> 0.010532407 | K15: =J15+K14 -> 0.073298611 | L15: 162.903
A16: 9 | B16: Верба Александр | C16: 7 | D16: =COUNTA(K28:K92)+D15+1 -> 259 | E16: =COUNTA(K28:K92)+1 -> 30 | F16: =MIN(K28:K93) -> 61.502 | G16: =AVERAGE(K28:K93) -> 62.845552 | H16: =G10-F10 -> 1.1814 | I16: 0.19699074 | J16: =I16-I15 -> 0.022974537 | K16: =J16+K11 -> 0.066712963 | L16: 162.642
A17: 10 | B17: Верба Александр | C17: 8 | D17: =COUNTA(L28:L92)+D16+1 -> 301 | E17: =COUNTA(L28:L92)+1 -> 42 | F17: =MIN(L28:L93) -> 60.783 | G17: =AVERAGE(L28:L93) -> 61.656463 | H17: =G11-F11 -> 0.70675 | I17: 0.22810185 | J17: =I17-I16 -> 0.031111111 | K17: =J17+K16 -> 0.097824074 | L17: 159.214
A18: 11 | B18: Гончаров Алексей | C18: 1 | D18: =COUNTA(M28:M92)+D17+1 -> 334 | E18: =COUNTA(M28:M92)+1 -> 33 | F18: =MIN(M28:M93) -> 60.461 | G18: =AVERAGE(M28:M93) -> 61.692094 | H18: =G12-F12 -> 1.471 | I18: 0.2528125 | J18: =I18-I17 -> 0.024710648 | K18: =J18+K13 -> 0.081689815 | L18: 160.743
A19: 12 | B19: Гончаров Алексей | C19: 13 | D19: =COUNTA(N28:N92)+D18+1 -> 347 | E19: =COUNTA(N28:N92)+1 -> 13 | F19: =MIN(N28:N93) -> 61.532 | G19: =AVERAGE(N28:N93) -> 62.3765 | H19: =G13-F13 -> 1.1422941 | I19: 0.26333333 | J19: =I19-I18 -> 0.010520833 | K19: =J19+K18 -> 0.092210648 | L19: 160.426
A20: 13 | B20: Кравчонок Саша | C20: 9 | D20: =COUNTA(O28:O92)+D19+1 -> 366 | E20: =COUNTA(O28:O92)+1 -> 19 | F20: =MIN(O28:O93) -> 59.114 | G20: =AVERAGE(O28:O93) -> 60.398167 | H20: =G14-F14 -> 0.844675 | I20: 0.27774306 | J20: =I20-I19 -> 0.014409722 | K20: =J20+K15 -> 0.087708333 | L20: 157.114
A21: Финиш | B21: Кравчонок Саша | C21: 7 | D21: =COUNTA(P28:P92)+D20+1 -> 386 | E21: =COUNTA(P28:P92)+1 -> 20 | F21: =MIN(P28:P93) -> 60.707 | G21: =AVERAGE(P28:P93) -> 61.810053 | H21: =G15-F15 -> 0.90608333 | I21: ='Общие результаты'!G6 -> 7:00:46 | J21: =I21-I20 -> 0.014456019 | K21: =J21+K20 -> 0.10216435
F22: =AVERAGE(F8:F9,F14:F15,F20:F21) -> 60.8385 | G22: =AVERAGE(C28:D92,I28:J92,O28:P92) -> 61.837131 | H22: =AVERAGE(H8,H15,H10,H13,H17,H19,H21) -> 0.99715344 | I22: Саша
F23: =AVERAGE(F10:F11,F16:F17) -> 61.47 | G23: =AVERAGE(E28:F92,K28:L92) -> 62.41156 | H23: =AVERAGE(H9,H11,H12,H14,H16,H18,H20) -> 1.0497057 | I23: Александр
F24: =AVERAGE(F12:F13,F18:F19) -> 60.949 | G24: =AVERAGE(G28:H92,M28:N92) -> 62.100212 | H24: =AVERAGE(H15,H17,H19,H21) -> 0.89589186 | I24: Алексей
F25: =AVERAGE(F8:F21) -> 61.0505 | G25: =AVERAGE(C28:P100) -> 62.112861 | H25: =AVERAGE(H8:H21) -> 1.0234296
C27: =B8 -> Кравчонок Саша | D27: =B9 -> Кравчонок Саша | E27: =B10 -> Верба Александр | F27: =B11 -> Верба Александр | G27: =B12 -> Гончаров Алексей | H27: =B13 -> Гончаров Алексей | I27: =B14 -> Кравчонок Саша | J27: =B15 -> Кравчонок Саша | K27: =B16 -> Верба Александр | L27: =B17 -> Верба Александр | M27: =B18 -> Гончаров Алексей | N27: =B19 -> Гончаров Алексей | O27: =B20 -> Кравчонок Саша | P27: =B21 -> Кравчонок Саша
B28: 1 | C28: 64.022 | D28: 62.981 | E28: 63.561 | F28: 63.154 | G28: 62.117 | H28: 62.603 | I28: 62.59 | J28: 62.11 | K28: 61.502 | L28: 63.79 | M28: 66.047 | N28: 61.757 | O28: 60.879 | P28: 60.707
B29: 2 | C29: 62.302 | D29: 62.549 | E29: 62.081 | F29: 63.164 | G29: 63.076 | H29: 61.917 | I29: 63.17 | J29: 62.476 | K29: 63.348 | L29: 62.047 | M29: 61.594 | N29: 62.329 | O29: 60.913 | P29: 61.469
B30: 3 | C30: 62.48 | D30: 62.116 | E30: 62.72 | F30: 62.84 | G30: 62.434 | H30: 61.836 | I30: 61.734 | J30: 62.774 | K30: 62.687 | L30: 60.827 | M30: 62.355 | N30: 62.996 | O30: 61.524 | P30: 61.705
B31: 4 | C31: 62.12 | D31: 62.257 | E31: 62.275 | F31: 62.195 | G31: 63.59 | H31: 60.864 | I31: 63.245 | J31: 62.111 | K31: 62.022 | L31: 61.325 | M31: 61.606 | N31: 62.537 | O31: 60.44 | P31: 61.505
B32: 5 | C32: 62.777 | D32: 63.019 | E32: 62.537 | F32: 62.774 | G32: 62.373 | H32: 61.749 | I32: 62.579 | J32: 62.95 | K32: 64.736 | L32: 61.192 | M32: 61.252 | N32: 61.532 | O32: 60.582 | P32: 61.366
B33: 6 | C33: 62.073 | D33: 63.103 | E33: 62.897 | F33: 62.434 | G33: 62.881 | H33: 61.44 | I33: 62.141 | J33: 62.819 | K33: 62.891 | L33: 62.211 | M33: 61.779 | N33: 61.7 | O33: 60.604 | P33: 60.964
B34: 7 | C34: 62.245 | D34: 62.158 | E34: 62.092 | F34: 64.12 | G34: 62.753 | H34: 61.382 | I34: 62.078 | J34: 62.636 | K34: 63.627 | L34: 61.711 | M34: 61.459 | N34: 61.986 | O34: 60.556 | P34: 62.331
B35: 8 | C35: 62.021 | D35: 62.44 | E35: 64.259 | F35: 62.372 | G35: 62.278 | H35: 61.191 | I35: 62.216 | J35: 62.051 | K35: 62.837 | L35: 61.505 | M35: 61.748 | N35: 62.294 | O35: 60.105 | P35: 62.267
B36: 9 | C36: 62.33 | D36: 62.39 | E36: 63.164 | F36: 62.683 | G36: 73.63 | H36: 60.773 | I36: 61.461 | J36: 62.632 | K36: 62.356 | L36: 61.349 | M36: 61.47 | N36: 63.815 | O36: 61.078 | P36: 62.226
B37: 10 | C37: 61.297 | D37: 62.503 | E37: 62.209 | F37: 62.873 | G37: 61.947 | H37: 63.135 | I37: 61.749 | J37: 61.468 | K37: 62.7 | L37: 61.035 | M37: 60.461 | N37: 62.971 | O37: 61.575 | P37: 62.086
B38: 11 | C38: 63.06 | D38: 63.003 | E38: 71.242 | F38: 62.469 | G38: 62.14 | H38: 61.48 | I38: 61.651 | J38: 62.177 | K38: 62.891 | L38: 61.264 | M38: 61.038 | N38: 62.001 | O38: 60.289 | P38: 61.783
B39: 12 | C39: 62.315 | D39: 61.885 | E39: 62.447 | F39: 63.133 | G39: 62.568 | H39: 62.846 | I39: 61.776 | J39: 62.285 | K39: 62.22 | L39: 61.754 | M39: 62.663 | N39: 62.6 | O39: 60.958 | P39: 62.535
B40: 13 | C40: 62.066 | D40: 62.086 | E40: 61.967 | F40: 62.472 | G40: 62.179 | H40: 61.798 | I40: 61.028 | K40: 62.393 | L40: 61.892 | M40: 61.225 | O40: 60.016 | P40: 60.762
B41: 14 | C41: 61.441 | D41: 63.16 | E41: 61.575 | F41: 62.02 | G41: 63.498 | H41: 61.35 | I41: 61.129 | K41: 62.819 | L41: 61.17 | M41: 63.868 | O41: 59.695 | P41: 62.162
B42: 15 | C42: 62.817 | D42: 61.83 | E42: 61.632 | F42: 63.196 | G42: 61.291 | H42: 62.661 | I42: 61.061 | K42: 62.464 | L42: 61.495 | M42: 61.93 | O42: 59.114 | P42: 61.699
B43: 16 | C43: 62.551 | D43: 61.814 | E43: 62.135 | F43: 63.086 | G43: 61.89 | H43: 62.033 | I43: 62.164 | K43: 63.157 | L43: 62.169 | M43: 61.826 | O43: 59.382 | P43: 62.585
B44: 17 | D44: 61.608 | E44: 62.318 | F44: 62.211 | G44: 62.207 | H44: 62.953 | I44: 61.333 | K44: 62.532 | L44: 65.271 | M44: 62.136 | O44: 59.689 | P44: 61.416
B45: 18 | D45: 61.685 | E45: 62.138 | F45: 62.122 | G45: 62.104 | H45: 61.71 | I45: 61.395 | K45: 63.075 | L45: 63.683 | M45: 60.926 | O45: 59.768 | P45: 63.151
B46: 19 | D46: 61.429 | E46: 62.02 | F46: 62.757 | G46: 62.234 | H46: 62.415 | I46: 62.045 | K46: 62.348 | L46: 61.337 | M46: 60.899 | P46: 61.672
B47: 20 | D47: 61.866 | E47: 62.167 | F47: 62.46 | G47: 61.913 | H47: 61.721 | I47: 61.42 | K47: 62.662 | L47: 61.897 | M47: 60.883
B48: 21 | D48: 62.742 | E48: 61.882 | G48: 61.725 | H48: 62.307 | I48: 61.997 | K48: 62.939 | L48: 61.542 | M48: 61.141
B49: 22 | D49: 61.813 | E49: 62.286 | G49: 61.841 | H49: 61.493 | I49: 61.175 | K49: 63.094 | L49: 61.025 | M49: 61.423
B50: 23 | D50: 61.952 | E50: 61.778 | G50: 62.156 | H50: 61.388 | I50: 62.232 | K50: 63.993 | L50: 61.784 | M50: 60.54
B51: 24 | D51: 61.954 | E51: 62.075 | G51: 61.511 | H51: 61.87 | I51: 61.824 | K51: 63.079 | L51: 61.292 | M51: 61.354
B52: 25 | D52: 62.093 | E52: 62.005 | G52: 62.58 | H52: 61.58 | I52: 61.736 | K52: 62.748 | L52: 61.283 | M52: 60.829
B53: 26 | E53: 62.427 | G53: 62.119 | H53: 62.77 | I53: 61.371 | K53: 62.431 | L53: 61.503 | M53: 60.843
B54: 27 | E54: 62.007 | G54: 61.982 | H54: 62.281 | I54: 61.016 | K54: 62.619 | L54: 62.687 | M54: 62.681
B55: 28 | E55: 63.054 | G55: 62.128 | H55: 61.14 | I55: 62.218 | K55: 63.698 | L55: 61.403 | M55: 61.146
B56: 29 | E56: 62.702 | G56: 62.948 | H56: 63.615 | I56: 61.506 | K56: 62.653 | L56: 61.381 | M56: 61.153
B57: 30 | E57: 68.176 | G57: 62.301 | H57: 61.374 | I57: 61.564 | L57: 61.195 | M57: 62.815
B58: 31 | E58: 61.909 | G58: 61.118 | H58: 61.823 | I58: 62.174 | L58: 61.183 | M58: 61.717
B59: 32 | E59: 62.5 | G59: 62.66 | H59: 61.669 | I59: 61.56 | L59: 60.872 | M59: 61.34
B60: 33 | E60: 62.105 | G60: 61.962 | H60: 62.185 | I60: 62.405 | L60: 61.278
B61: 34 | E61: 62.265 | G61: 62.398 | H61: 61.768 | I61: 61.302 | L61: 61.462
B62: 35 | E62: 61.867 | G62: 62.07 | I62: 61.773 | L62: 61.469
B63: 36 | G63: 61.688 | I63: 61.696 | L63: 61.394
B64: 37 | G64: 62.054 | I64: 61.8 | L64: 60.783
B65: 38 | G65: 61.924 | I65: 63.478 | L65: 61.451
B66: 39 | G66: 61.03 | I66: 62.046 | L66: 60.836
B67: 40 | G67: 62.742 | I67: 61.589 | L67: 61.538
B68: 41 | L68: 61.63
B69: 42
B70: 43
B71: 44
B72: 45
B73: 46
B74: 47
B75: 48
B76: 49
B77: 50
B78: 51
B79: 52
B80: 53
... B90: 63

Sheet Flash UA
A2: Чемпионат мини марафон "Большие Гонки", Гранд-Финал
A4: Flash UA
A6: Обяза-тельные | B6: Пилот | C6: карт | D6: Круг | E6: кругов на отрезке | F6: Статистика по кругам | I6: Общее время гонки | J6: Время на трассе | L6: Питы | M6: Штрафы/ бонусы (сек)
F7: Лучший круг | G7: Среднее на отрезке | H7: стабильность | J7: отрезок | K7: всего у пилота
A8: 1 | B8: Загорулько Ваня | C8: 10 | D8: =COUNTA(C27:C91) -> 24 | E8: =COUNTA(C27:C91) -> 24 | F8: =MIN(C27:C90) -> 61.179 | G8: =AVERAGE(C27:C93) -> 62.342958 | H8: =G8-F8 -> 1.1639583 | I8: 0.018113426 | J8: =I8 -> 0.018113426 | K8: =J8 -> 0.018113426 | L8: 161.535
A9: 2 | B9: Черников Леша | C9: 2 | D9: =COUNTA(D27:D91)+D8+1 -> 48 | E9: =COUNTA(D27:D91)+1 -> 24 | F9: =MIN(D27:D90) -> 62.855 | G9: =AVERAGE(D27:D92) -> 64.971435 | H9: =G9-F9 -> 2.1164348 | I9: 0.037314815 | J9: =I9-I8 -> 0.019201389 | K9: =J9 -> 0.019201389 | L9: 166.168
A10: 3 | B10: Загорулько Ваня | C10: 4 | D10: =COUNTA(E27:E91)+D9+1 -> 86 | E10: =COUNTA(E27:E91)+1 -> 38 | F10: =MIN(E27:E92) -> 60.866 | G10: =AVERAGE(E27:E93) -> 61.996919 | H10: =G10-F10 -> 1.1309189 | I10: 0.065729167 | J10: =I10-I9 -> 0.028414352 | K10: =J10+K8 -> 0.046527778 | L10: 159.413
A11: 4 | B11: Загорулько Ваня | C11: 1 | D11: =COUNTA(F27:F91)+D10+1 -> 114 | E11: =COUNTA(F27:F91)+1 -> 28 | F11: =MIN(F27:F92) -> 61.164 | G11: =AVERAGE(F27:F92) -> 61.920222 | H11: =G11-F11 -> 0.75622222 | I11: 0.086944444 | J11: =I11-I10 -> 0.021215278 | K11: =J11+K10 -> 0.067743056 | L11: 160.163
A12: 5 | B12: Черников Леша | C12: 13 | D12: =COUNTA(G27:G91)+D11+1 -> 145 | E12: =COUNTA(G27:G91)+1 -> 31 | F12: =MIN(G27:G92) -> 63.264 | G12: =AVERAGE(G27:G892) -> 64.242533 | H12: =G12-F12 -> 0.97853333 | I12: 0.11116898 | J12: =I12-I11 -> 0.024224537 | K12: =J12+K9 -> 0.043425926 | L12: 169.7
A13: 6 | B13: Загорулько Ваня | C13: 5 | D13: =COUNTA(H27:H91)+D12+1 -> 158 | E13: =COUNTA(H27:H91)+1 -> 13 | F13: =MIN(H27:H92) -> 61.96 | G13: =AVERAGE(H27:H92) -> 62.512167 | H13: =G13-F13 -> 0.55216667 | I13: 0.12173611 | J13: =I13-I12 -> 0.01056713 | K13: =J13+K11 -> 0.078310185 | L13: 159.612
A14: 7 | B14: Загорулько Ваня | C14: 4 | D14: =COUNTA(I27:I91)+D13+1 -> 171 | E14: =COUNTA(I27:I91)+1 -> 13 | F14: =MIN(I27:I92) -> 62.023 | G14: =AVERAGE(I27:I92) -> 62.594417 | H14: =G14-F14 -> 0.57141667 | I14: 0.13228009 | J14: =I14-I13 -> 0.010543981 | K14: =J14+K13 -> 0.088854167 | L14: 160.935
A15: 8 | B15: Загорулько Ваня | C15: 6 | D15: =COUNTA(J27:J91)+D14+1 -> 184 | E15: =COUNTA(J27:J91)+1 -> 13 | F15: =MIN(J27:J92) -> 61.689 | G15: =AVERAGE(J27:J92) -> 62.297083 | H15: =G9-F9 -> 2.1164348 | I15: 0.14278935 | J15: =I15-I14 -> 0.010509259 | K15: =J15+K14 -> 0.099363426 | L15: 159.183
A16: 9 | B16: Черников Леша | C16: 9 | D16: =COUNTA(K27:K91)+D15+1 -> 224 | E16: =COUNTA(K27:K91)+1 -> 40 | F16: =MIN(K27:K92) -> 61.551 | G16: =AVERAGE(K27:K92) -> 63.01841 | H16: =G10-F10 -> 1.1309189 | I16: 0.173125 | J16: =I16-I15 -> 0.030335648 | K16: =J16+K12 -> 0.073761574 | L16: 163.733
A17: 10 | B17: Загорулько Ваня | C17: 4 | D17: =COUNTA(L27:L91)+D16+1 -> 241 | E17: =COUNTA(L27:L91)+1 -> 17 | F17: =MIN(L27:L92) -> 61.194 | G17: =AVERAGE(L27:L92) -> 61.69875 | H17: =G11-F11 -> 0.75622222 | I17: 0.18638889 | J17: =I17-I16 -> 0.013263889 | K17: =J17+K15 -> 0.11262731 | L17: 158.879
A18: 11 | B18: Черников Леша | C18: 13 | D18: =COUNTA(M27:M91)+D17+1 -> 282 | E18: =COUNTA(M27:M91)+1 -> 41 | F18: =MIN(M27:M92) -> 62.29 | G18: =AVERAGE(M27:M92) -> 63.529525 | H18: =G12-F12 -> 0.97853333 | I18: 0.21769676 | J18: =I18-I17 -> 0.03130787 | K18: =J18+K16 -> 0.10506944 | L18: 169.881 | M18: +5 | N18: ЛИМИТ
A19: 12 | B19: Загорулько Ваня | C19: 7 | D19: =COUNTA(N27:N91)+D18+1 -> 300 | E19: =COUNTA(N27:N91)+1 -> 18 | F19: =MIN(N27:N92) -> 61.204 | G19: =AVERAGE(N27:N92) -> 62.713824 | H19: =G13-F13 -> 0.55216667 | I19: 0.23204861 | J19: =I19-I18 -> 0.014351852 | K19: =J19+K17 -> 0.12697917 | L19: 158.445
A20: 13 | B20: Черников Леша | C20: 8 | D20: =COUNTA(O27:O91)+D19+1 -> 341 | E20: =COUNTA(O27:O91)+1 -> 41 | F20: =MIN(O27:O92) -> 62.219 | G20: =AVERAGE(O27:O92) -> 63.470825 | H20: =G14-F14 -> 0.57141667 | I20: 0.26318287 | J20: =I20-I19 -> 0.031134259 | K20: =J20+K18 -> 0.1362037 | L20: 160.597
A21: Финиш | B21: Загорулько Ваня | C21: 1 | D21: =COUNTA(P27:P91)+D20+1 -> 382 | E21: =COUNTA(P27:P91)+1 -> 41 | F21: =MIN(P27:P92) -> 60.329 | G21: =AVERAGE(P27:P92) -> 61.0306 | H21: =G15-F15 -> 0.60808333 | I21: ='Общие результаты'!G6 -> 7:00:46 | J21: =I21-I20 -> 0.029016204 | K21: =J21+K19 -> 0.15599537
F22: =AVERAGE(F8,F15,F10,F13,F17,F19,F21) -> 61.203 | G22: =AVERAGE(C26:C90,E26:E90,H26:H90,J26:J90,L26:L90,N26:N90,P26:P90) -> 61.913715 | H22: =AVERAGE(H8,H15,H10,H13,H17,H19,H21) -> 0.98285013 | I22: Ваня
F23: =AVERAGE(F9,F11,F13,F15) -> 61.917 | G23: =AVERAGE(G9,G11,G13,G15) -> 62.925227 | H23: =AVERAGE(H15,H17,H19,H21) -> 1.0082268 | I23: Леша
F24: =AVERAGE(F8:F21) -> 61.699071 | G24: =AVERAGE(C27:P99) -> 62.776957 | H24: =AVERAGE(H8:H21) -> 0.9988162
C26: =B8 -> Загорулько Ваня | D26: =B9 -> Черников Леша | E26: =B10 -> Загорулько Ваня | F26: =B11 -> Загорулько Ваня | G26: =B12 -> Черников Леша | H26: =B13 -> Загорулько Ваня | I26: =B14 -> Загорулько Ваня | J26: =B15 -> Загорулько Ваня | K26: =B16 -> Черников Леша | L26: =B17 -> Загорулько Ваня | M26: =B18 -> Черников Леша | N26: =B19 -> Загорулько Ваня | O26: =B20 -> Черников Леша | P26: =B21 -> Загорулько Ваня
B27: 1 | C27: 64.852 | D27: 64.277 | E27: 60.866 | F27: 61.819 | G27: 63.602 | H27: 61.96 | I27: 62.151 | J27: 62.507 | K27: 62.197 | L27: 63.493 | M27: 64.367 | N27: 62.027 | O27: 63.599 | P27: 61.471
B28: 2 | C28: 62.686 | D28: 63.367 | E28: 63.13 | F28: 61.632 | G28: 63.62 | H28: 62.512 | I28: 62.094 | J28: 62.043 | K28: 61.98 | L28: 61.948 | M28: 62.67 | N28: 62.26 | O28: 63.124 | P28: 60.941
B29: 3 | C29: 62.16 | D29: 64.17 | E29: 61.172 | F29: 61.389 | G29: 63.264 | H29: 63.252 | I29: 62.901 | J29: 63.471 | K29: 62.986 | L29: 61.426 | M29: 63.328 | N29: 61.964 | O29: 62.219 | P29: 60.815
B30: 4 | C30: 62.399 | D30: 63.582 | E30: 61.16 | F30: 61.809 | G30: 63.654 | H30: 62.691 | I30: 63.187 | J30: 62.942 | K30: 62.805 | L30: 61.194 | M30: 62.479 | N30: 61.843 | O30: 64.038 | P30: 60.605
B31: 5 | C31: 62.194 | D31: 64.792 | E31: 60.978 | F31: 61.164 | G31: 63.47 | H31: 62.296 | I31: 62.335 | J31: 61.713 | K31: 63.048 | L31: 61.211 | M31: 63.726 | N31: 62.127 | O31: 63.902 | P31: 60.716
B32: 6 | C32: 61.711 | D32: 63.217 | E32: 61.522 | F32: 61.29 | G32: 64.031 | H32: 62.255 | I32: 63.863 | J32: 62.098 | K32: 61.802 | L32: 62.424 | M32: 63.718 | N32: 62.347 | O32: 63.577 | P32: 62.263
B33: 7 | C33: 63.395 | D33: 83.767 | E33: 64.96 | F33: 61.395 | G33: 63.691 | H33: 62.284 | I33: 62.047 | J33: 61.689 | K33: 62.241 | L33: 61.766 | M33: 63.521 | N33: 62.377 | O33: 62.634 | P33: 60.607
B34: 8 | C34: 62.612 | D34: 62.855 | E34: 61.545 | F34: 62.761 | G34: 64.591 | H34: 63.048 | I34: 63.155 | J34: 62.22 | K34: 62.638 | L34: 62.031 | M34: 62.751 | N34: 62.381 | O34: 62.281 | P34: 61.382
B35: 9 | C35: 61.179 | D35: 63.611 | E35: 61.566 | F35: 61.242 | G35: 65.675 | H35: 62.121 | I35: 62.417 | J35: 62.398 | K35: 64.403 | L35: 61.335 | M35: 62.927 | N35: 62.251 | O35: 62.947 | P35: 60.892
B36: 10 | C36: 61.523 | D36: 64.051 | E36: 61.405 | F36: 62.757 | G36: 63.94 | H36: 62.991 | I36: 62.418 | J36: 61.779 | K36: 63.018 | L36: 61.718 | M36: 63.106 | N36: 74.13 | O36: 63.459 | P36: 60.751
B37: 11 | C37: 62.361 | D37: 64.243 | E37: 61.183 | F37: 62.298 | G37: 65.505 | H37: 62.527 | I37: 62.023 | J37: 62.132 | K37: 63.45 | L37: 61.668 | M37: 63.511 | N37: 61.921 | O37: 63.587 | P37: 60.651
B38: 12 | C38: 62.25 | D38: 64.185 | E38: 61.472 | F38: 61.792 | G38: 63.701 | H38: 62.209 | I38: 62.542 | J38: 62.573 | K38: 64.1 | L38: 61.254 | M38: 63.178 | N38: 61.766 | O38: 63.601 | P38: 60.78
B39: 13 | C39: 62.273 | D39: 65 | E39: 62.173 | F39: 61.474 | G39: 63.356 | K39: 62.373 | L39: 61.31 | M39: 63.771 | N39: 61.651 | O39: 63.296 | P39: 60.61
B40: 14 | C40: 62.132 | D40: 64.501 | E40: 61.584 | F40: 62.076 | G40: 65.029 | K40: 69.216 | L40: 61.379 | M40: 64.022 | N40: 61.815 | O40: 63.548 | P40: 60.355
B41: 15 | C41: 62.493 | D41: 64.814 | E41: 62.577 | F41: 62.458 | G41: 64.139 | K41: 62.339 | L41: 61.563 | M41: 62.965 | N41: 62.09 | O41: 63.996 | P41: 60.378
B42: 16 | C42: 62.33 | D42: 63.407 | E42: 61.489 | F42: 62.217 | G42: 65.189 | K42: 63.457 | L42: 61.46 | M42: 64.056 | N42: 61.981 | O42: 62.765 | P42: 61.276
B43: 17 | C43: 62.524 | D43: 63.487 | E43: 61.71 | F43: 62.487 | G43: 64.36 | K43: 61.556 | M43: 63.728 | N43: 61.204 | O43: 63.123 | P43: 60.676
B44: 18 | C44: 62.33 | D44: 63.469 | E44: 62.105 | F44: 61.886 | G44: 64.32 | K44: 63.364 | M44: 63.463 | O44: 62.233 | P44: 60.548
B45: 19 | C45: 61.651 | D45: 64.907 | E45: 60.952 | F45: 61.441 | G45: 64.097 | K45: 61.88 | M45: 64.101 | O45: 64.373 | P45: 62.044
B46: 20 | C46: 63.737 | D46: 66.136 | E46: 65.352 | F46: 61.36 | G46: 64.331 | K46: 64.129 | M46: 63.388 | O46: 62.459 | P46: 60.836
B47: 21 | C47: 61.607 | D47: 63.765 | E47: 62.154 | F47: 62.17 | G47: 63.591 | K47: 62.49 | M47: 63.798 | O47: 62.584 | P47: 61.071
B48: 22 | C48: 61.87 | D48: 64.134 | E48: 62.608 | F48: 62.007 | G48: 63.801 | K48: 61.965 | M48: 64.727 | O48: 63.365 | P48: 60.706
B49: 23 | C49: 61.816 | D49: 64.606 | E49: 61.673 | F49: 61.858 | G49: 63.735 | K49: 62.944 | M49: 62.757 | O49: 63.949 | P49: 60.534
B50: 24 | C50: 62.146 | E50: 61.73 | F50: 61.8 | G50: 65.328 | K50: 61.968 | M50: 62.975 | O50: 65.184 | P50: 60.329
B51: 25 | E51: 63.735 | F51: 62.434 | G51: 66.088 | K51: 62.633 | M51: 63.211 | O51: 63.099 | P51: 60.937
B52: 26 | E52: 61.096 | F52: 62.583 | G52: 65.453 | K52: 62.324 | M52: 63.524 | O52: 62.809 | P52: 61.243
B53: 27 | E53: 62.286 | F53: 62.247 | G53: 64.062 | K53: 70.064 | M53: 62.377 | O53: 62.643 | P53: 60.659
B54: 28 | E54: 61.655 | G54: 63.901 | K54: 62.7 | M54: 63.151 | O54: 62.646 | P54: 62.304
B55: 29 | E55: 61.857 | G55: 64.141 | K55: 62.134 | M55: 63.728 | O55: 63.917 | P55: 61.65
B56: 30 | E56: 62.418 | G56: 63.611 | K56: 62.332 | M56: 63.629 | O56: 63.858 | P56: 61.279
B57: 31 | E57: 62.248 | K57: 62.587 | M57: 65.311 | O57: 63.005 | P57: 60.938
B58: 32 | E58: 62.084 | K58: 63.305 | M58: 65.635 | O58: 62.665 | P58: 61.898
B59: 33 | E59: 61.571 | K59: 62.666 | M59: 64.98 | O59: 63.17 | P59: 60.628
B60: 34 | E60: 61.771 | K60: 64.432 | M60: 62.817 | O60: 62.916 | P60: 62.186
B61: 35 | E61: 61.985 | K61: 61.795 | M61: 62.797 | O61: 63.521 | P61: 60.87
B62: 36 | E62: 62.645 | K62: 62.05 | M62: 63.968 | O62: 69.946 | P62: 61.31
B63: 37 | E63: 61.469 | K63: 61.551 | M63: 62.29 | O63: 64.009 | P63: 61.344
B64: 38 | K64: 62.495 | M64: 63.903 | O64: 63.167 | P64: 60.688
B65: 39 | K65: 62.301 | M65: 63.366 | O65: 63.927 | P65: 60.721
B66: 40 | M66: 63.461 | O66: 63.692 | P66: 61.332
B67: 41
B68: 42
B69: 43
B70: 44
B71: 45
B72: 46
B73: 47
B74: 48
B75: 49
B76: 50
B77: 51
B78: 52
... B89: 63
