Workbook

Sheet Общие результаты
A1: Гонка "Эстафетный Марафон" 26.10.19
A2: Конфигурация № 5
A4: Место в гонке | B4: Команда | C4: № в гонке | D4: Квала | F4: Гонка | I4: Лучший круг в гонке
D5: Время | E5: Место | F5: Круги | G5: Время/от лидера | H5: От места выше | I5: Время | J5: На круге
A6: 1 | B6: K44 | C6: 5 | D6: 42.6 | E6: 3 | F6: 249 | G6: 4:00:12 | H6: - | I6: 41.977 | J6: 110
A7: 2 | B7: Hurricane RTU | C7: 2 | D7: 42.444 | E7: 2 | F7: 249 | G7: =H7 -> 11.182 | H7: 11.182 | I7: 41.745 | J7: 91
A8: 3 | B8: NFS Kyiv Legends | C8: 1 | D8: 42.837 | E8: 7 | F8: 248 | G8: 1 круг | H8: 32.165 | I8: 42.026 | J8: 59
A9: 4 | B9: Ass Racing Team | C9: 7 | D9: 42.332 | E9: 1 | F9: 248 | G9: 1 круг | H9: 4 | I9: 42.166 | J9: 248
A10: 5 | B10: NFS Fortuna RT | C10: 9 | D10: 42.695 | E10: 6 | F10: 248 | G10: 1 круг | H10: 18.299 | I10: 41.914 | J10: 226
A11: 6 | B11: Flash UA | C11: 3 | D11: 43.644 | E11: 9 | F11: 248 | G11: 1 круг | H11: 4.432 | I11: 41.805 | J11: 25
A12: 7 | B12: Jaguar | C12: 10 | D12: 42.694 | E12: 5 | F12: 248 | G12: 1 круг | H12: 7.146 | I12: 41.911 | J12: 190
A13: 8 | B13: F1UA | C13: 4 | D13: 43.428 | E13: 8 | F13: 246 | G13: 3 круга | H13: 2 круга | I13: 42.191 | J13: 122
A14: 9 | B14: Buro11 | C14: 8 | D14: 42.689 | E14: 4 | F14: 243 | G14: 6 кругов | H14: 3 круга | I14: 42.272 | J14: 227
A15: 10
A16: 11
A17: 12
A18: 13
A19: 14
A20: 15

Sheet Регистрация 
A1: Гонка "Эстафетный Марафон" 26.10.19
A3: Регистрационная форма
A5: № в гонке | B5: Команда | C5: Пилот | D5: № | E5: Вес | F5: среднее | G5: довес на команду | H5: Квалификация
H6: карт | I6: Время | J6: Место
A7: 1 | B7: NFS Kyiv Legends | C7: Резанко Оля | D7: 1-1 | E7: 73.3 | F7: =AVERAGE(E7:E8) -> 81.4 | G7: =IF(F7>79.9,0,IF(F7>79.99,0,IF(F7>77.49,2.5,IF(F7>74.99,5,IF(F7>72.49,7.5,IF(F7>69.99,10,IF(F7>67.49,12.5,IF(F7>64.99,15,IF(F7>62.49,17.5,IF(F7>59.99,20,22.5)))))))))) -> 0 | I7: 42.837 | J7: =RANK(I7,I7:I26,1) -> 7
C8: Тыщенко Миша | D8: 1-2 | E8: 89.5 | H8: 6
A9: 2 | B9: Hurricane racing Team Ukraine | C9: Стоцкий Андрей | D9: 2-1 | E9: 65.2 | F9: =AVERAGE(E9:E10) -> 71.25 | G9: =IF(F9>79.9,0,IF(F9>79.99,0,IF(F9>77.49,2.5,IF(F9>74.99,5,IF(F9>72.49,7.5,IF(F9>69.99,10,IF(F9>67.49,12.5,IF(F9>64.99,15,IF(F9>62.49,17.5,IF(F9>59.99,20,22.5)))))))))) -> 10 | H9: 7 | I9: 42.444 | J9: =RANK(I9,I7:I26,1) -> 2
C10: Мифтахутдинов Ильяс | D10: 2-2 | E10: 77.3
A11: 3 | B11: Flash | C11: Загорулько Иван | D11: 3-1 | E11: 97.74 | F11: =AVERAGE(E11:E12) -> 80.12 | G11: =IF(F11>79.9,0,IF(F11>79.99,0,IF(F11>77.49,2.5,IF(F11>74.99,5,IF(F11>72.49,7.5,IF(F11>69.99,10,IF(F11>67.49,12.5,IF(F11>64.99,15,IF(F11>62.49,17.5,IF(F11>59.99,20,22.5)))))))))) -> 0 | H11: 9 | I11: 43.644 | J11: =RANK(I11,I7:I26,1) -> 9
C12: Шендрик Влад | D12: 3-2 | E12: 62.5
A13: 4 | B13: F1ua | C13: Якусик Дима | D13: 4-1 | E13: 77.8 | F13: =AVERAGE(E13:E14) -> 85.5 | G13: =IF(F13>79.9,0,IF(F13>79.99,0,IF(F13>77.49,2.5,IF(F13>74.99,5,IF(F13>72.49,7.5,IF(F13>69.99,10,IF(F13>67.49,12.5,IF(F13>64.99,15,IF(F13>62.49,17.5,IF(F13>59.99,20,22.5)))))))))) -> 0 | I13: 43.428 | J13: =RANK(I13,I7:I26,1) -> 8
C14: Закалюк Женя | D14: 4-2 | E14: 93.2 | H14: 10
A15: 5 | B15: K44 | C15: Пикулин Павел | D15: 5-1 | E15: 77.1 | F15: =AVERAGE(E15:E16) -> 79.5 | G15: =IF(F15>79.9,0,IF(F15>79.99,0,IF(F15>77.49,2.5,IF(F15>74.99,5,IF(F15>72.49,7.5,IF(F15>69.99,10,IF(F15>67.49,12.5,IF(F15>64.99,15,IF(F15>62.49,17.5,IF(F15>59.99,20,22.5)))))))))) -> 2.5 | H15: 1 | I15: 42.6 | J15: =RANK(I15,I7:I26,1) -> 3
C16: Наум | D16: 5-2 | E16: 81.9
A17: 6 | D17: 6-1 | F17: =AVERAGE(E17:E18) -> #DIV/0! | G17: =IF(F17>79.9,0,IF(F17>79.99,0,IF(F17>77.49,2.5,IF(F17>74.99,5,IF(F17>72.49,7.5,IF(F17>69.99,10,IF(F17>67.49,12.5,IF(F17>64.99,15,IF(F17>62.49,17.5,IF(F17>59.99,20,22.5)))))))))) -> #DIV/0! | J17: =RANK(I17,I7:I26,1) -> #N/A
D18: 6-2
A19: 7 | B19: Ass Racing Team | C19: Ткаченко Кирилл | D19: 7-1 | E19: 75.5 | F19: =AVERAGE(E19:E20) -> 71.95 | G19: =IF(F19>79.9,0,IF(F19>79.99,0,IF(F19>77.49,2.5,IF(F19>74.99,5,IF(F19>72.49,7.5,IF(F19>69.99,10,IF(F19>67.49,12.5,IF(F19>64.99,15,IF(F19>62.49,17.5,IF(F19>59.99,20,22.5)))))))))) -> 10 | I19: 42.332 | J19: =RANK(I19,I7:I26,1) -> 1
C20: Хавило Дима | D20: 7-2 | E20: 68.4 | H20: 2
A21: 8 | B21: Buro 11 | C21: Якусик Саша | D21: 8-1 | E21: 76.8 | F21: =AVERAGE(E21:E22) -> 81.1 | G21: =IF(F21>79.9,0,IF(F21>79.99,0,IF(F21>77.49,2.5,IF(F21>74.99,5,IF(F21>72.49,7.5,IF(F21>69.99,10,IF(F21>67.49,12.5,IF(F21>64.99,15,IF(F21>62.49,17.5,IF(F21>59.99,20,22.5)))))))))) -> 0 | H21: 3 | I21: 42.689 | J21: =RANK(I21,I7:I26,1) -> 4
C22: Карлюк Марина | D22: 8-2 | E22: 85.4
A23: 9 | B23: Fortuna Racing | C23: Фортуна Таня | D23: 9-1 | E23: 80 | F23: =AVERAGE(E23:E24) -> 80.4 | G23: =IF(F23>79.9,0,IF(F23>79.99,0,IF(F23>77.49,2.5,IF(F23>74.99,5,IF(F23>72.49,7.5,IF(F23>69.99,10,IF(F23>67.49,12.5,IF(F23>64.99,15,IF(F23>62.49,17.5,IF(F23>59.99,20,22.5)))))))))) -> 0 | H23: 4 | I23: 42.695 | J23: =RANK(I23,I7:I26,1) -> 6
C24: Шутка Виталий | D24: 9-2 | E24: 80.8
A25: 10 | B25: Jaguar | C25: Онащук Максим | D25: 10-1 | E25: 80.5 | F25: =AVERAGE(E25:E26) -> 76.865 | G25: =IF(F25>79.9,0,IF(F25>79.99,0,IF(F25>77.49,2.5,IF(F25>74.99,5,IF(F25>72.49,7.5,IF(F25>69.99,10,IF(F25>67.49,12.5,IF(F25>64.99,15,IF(F25>62.49,17.5,IF(F25>59.99,20,22.5)))))))))) -> 5 | I25: 42.694 | J25: =RANK(I25,I7:I26,1) -> 5
C26: Лихошерст Леша | D26: 10.2 | E26: 73.23 | H26: 5

Sheet ПИТЫ
B1: Пит-стопы команд
B2: K44 | C2: Hurricane RTU | D2: NFS Kyiv Legends | E2: ASS RT | F2: NFS Fortuna RT | G2: Flash UA | H2: Jaguar | I2: F1UA | J2: Buro 11
A3: 1 | B3: 56.559 | C3: 58.903 | D3: 58.026 | E3: 60.424 | F3: 57.997 | G3: 58.043 | H3: 57.607 | I3: 63.286 | J3: 61.452
A4: 2 | B4: 56.033 | C4: 57.948 | D4: 57.521 | E4: 56.643 | F4: 59.517 | G4: 56.688 | H4: 57.356 | I4: 60.473 | J4: 60.948
A5: 3 | B5: 56.876 | C5: 58.239 | D5: 57.263 | E5: 56.338 | F5: 59.726 | G5: 57.931 | H5: 56.683 | I5: 59.811 | J5: 60.002
A6: 4 | B6: 56.408 | C6: 57.002 | D6: 56.582 | E6: 55.903 | F6: 56.261 | G6: 57.931 | H6: 57.137 | I6: 60.91 | J6: 60.335
A7: 5 | B7: 56.222 | C7: 58.425 | D7: 57.521 | E7: 56.079 | F7: 60.747 | G7: 58.747 | H7: 58.535 | I7: 61.387 | J7: 59.823
A8: 6 | B8: 55.486 | C8: 57.118 | D8: 57.18 | E8: 55.86 | F8: 56.121 | G8: 57.919 | H8: 56.791 | I8: 57.747 | J8: 60.787
A9: 7 | B9: 56.39 | C9: 58.239 | D9: 57.472 | E9: 56.542 | F9: 56.964 | G9: 57.419 | H9: 56.114 | I9: 59.624 | J9: 61.166
A10: 8 | B10: 56.354 | C10: 57.451 | D10: 56.893 | E10: 56.539 | F10: 58.331 | G10: 57.005 | H10: 57.424 | I10: 57.408 | J10: 57.861
A11: 9 | B11: 56 | C11: 58.107 | D11: 57.608 | E11: 55.932 | F11: 56.216 | G11: 57.101 | H11: 57.493 | I11: 58.379 | J11: 58.588
A12: 10 | B12: 55.984 | C12: 56.814 | D12: 56.633 | E12: 56.018 | F12: 58.561 | G12: 55.961 | H12: 58.026 | I12: 57.715 | J12: 58.126
A13: Идеал | B13: =55*10 -> 550 | C13: =55*10 -> 550 | D13: =55*10 -> 550 | E13: =55*10 -> 550 | F13: =55*10 -> 550 | G13: =55*10 -> 550 | H13: =55*10 -> 550 | I13: =55*10 -> 550 | J13: =55*10 -> 550
A14: Общие потери | B14: =SUM(B3:B12)-B13 -> 12.312 | C14: =SUM(C3:C12)-C13 -> 28.246 | D14: =SUM(D3:D12)-D13 -> 22.699 | E14: =SUM(E3:E12)-E13 -> 16.278 | F14: =SUM(F3:F12)-F13 -> 30.441 | G14: =SUM(G3:G12)-G13 -> 24.745 | H14: =SUM(H3:H12)-H13 -> 23.166 | I14: =SUM(I3:I12)-I13 -> 46.74 | J14: =SUM(J3:J12)-J13 -> 49.088 | K14: сек

Sheet Компенсационные питы
A1: Таблица формирования очереди на выезд с компенсационного пит стопа №1 | J1: Таблица формирования очереди на выезд с компенсационного пит стопа №2
A3: Команда № | B3: Пит стоп | C3: Компенсации | D3: Штрафы | E3: отставание на въезде | F3: итог (сек) | G3: отставание на выезде | H3: № п/п выезд | J3: Команда № | K3: Пит стоп | L3: Компенсации | M3: Штрафы | N3: отставание на въезде | O3: итог (сек) | P3: отставание на выезде | Q3: № п/п выезд
A5: 5 | B5: 600 | E5: 0 | F5: =B5-C5+D5+E5 -> 600 | G5: =F5-MIN($F$5:$F$13) -> 0 | H5: =RANK(F5,F$5:F$13,1) -> 1 | J5: 1 | K5: 600 | L5: 110 | N5: 7 | O5: =K5-L5+M5+N5 -> 497 | P5: =O5-MIN($O$5:$O$13) -> 0 | Q5: =RANK(O5,O$5:O$13,1) -> 1
A6: 2 | B6: 600 | E6: 5 | F6: =B6-C6+D6+E6 -> 605 | G6: =F6-MIN($F$5:$F$13) -> 5 | H6: =RANK(F6,F$5:F$13,1) -> 2 | J6: 2 | K6: 600 | N6: 0 | O6: =K6-L6+M6+N6 -> 600 | P6: =O6-MIN($O$5:$O$13) -> 103 | Q6: =RANK(O6,O$5:O$13,1) -> 2
A7: 3 | B7: 600 | E7: 10 | F7: =B7-C7+D7+E7 -> 610 | G7: =F7-MIN($F$5:$F$13) -> 10 | H7: =RANK(F7,F$5:F$13,1) -> 3 | J7: 10 | K7: 600 | N7: 1 | O7: =K7-L7+M7+N7 -> 601 | P7: =O7-MIN($O$5:$O$13) -> 104 | Q7: =RANK(O7,O$5:O$13,1) -> 3
A8: 8 | B8: 600 | E8: 10 | F8: =B8-C8+D8+E8 -> 610 | G8: =F8-MIN($F$5:$F$13) -> 10 | H8: =RANK(F8,F$5:F$13,1) -> 3 | J8: 3 | K8: 600 | N8: 3 | O8: =K8-L8+M8+N8 -> 603 | P8: =O8-MIN($O$5:$O$13) -> 106 | Q8: =RANK(O8,O$5:O$13,1) -> 4
A9: 7 | B9: 600 | E9: 14 | F9: =B9-C9+D9+E9 -> 614 | G9: =F9-MIN($F$5:$F$13) -> 14 | H9: =RANK(F9,F$5:F$13,1) -> 5 | J9: 8 | K9: 600 | N9: 8 | O9: =K9-L9+M9+N9 -> 608 | P9: =O9-MIN($O$5:$O$13) -> 111 | Q9: =RANK(O9,O$5:O$13,1) -> 5
A10: 1 | B10: 600 | D10: 5 | E10: 12 | F10: =B10-C10+D10+E10 -> 617 | G10: =F10-MIN($F$5:$F$13) -> 17 | H10: =RANK(F10,F$5:F$13,1) -> 6 | J10: 5 | K10: 600 | N10: 9 | O10: =K10-L10+M10+N10 -> 609 | P10: =O10-MIN($O$5:$O$13) -> 112 | Q10: =RANK(O10,O$5:O$13,1) -> 6
A11: 10 | B11: 600 | E11: 22 | F11: =B11-C11+D11+E11 -> 622 | G11: =F11-MIN($F$5:$F$13) -> 22 | H11: =RANK(F11,F$5:F$13,1) -> 7 | J11: 9 | K11: 600 | N11: 23 | O11: =K11-L11+M11+N11 -> 623 | P11: =O11-MIN($O$5:$O$13) -> 126 | Q11: =RANK(O11,O$5:O$13,1) -> 7
A12: 9 | B12: 600 | E12: 35.5 | F12: =B12-C12+D12+E12 -> 635.5 | G12: =F12-MIN($F$5:$F$13) -> 35.5 | H12: =RANK(F12,F$5:F$13,1) -> 8 | J12: 7 | K12: 600 | N12: 24 | O12: =K12-L12+M12+N12 -> 624 | P12: =O12-MIN($O$5:$O$13) -> 127 | Q12: =RANK(O12,O$5:O$13,1) -> 8
A13: 4 | B13: 600 | E13: 38 | F13: =B13-C13+D13+E13 -> 638 | G13: =F13-MIN($F$5:$F$13) -> 38 | H13: =RANK(F13,F$5:F$13,1) -> 9 | J13: 4 | K13: 600 | N13: 34 | O13: =K13-L13+M13+N13 -> 634 | P13: =O13-MIN($O$5:$O$13) -> 137 | Q13: =RANK(O13,O$5:O$13,1) -> 9
A15: Таблица формирования очереди на выезд с компенсационного пит стопа №3 | J15: Таблица формирования очереди на выезд с компенсационного пит стопа №4
A17: Команда № | B17: Пит стоп | C17: Компенсации | D17: Штрафы | E17: отставание на въезде | F17: итог (сек) | G17: отставание на выезде | H17: № п/п выезд | J17: Команда № | K17: Пит стоп | L17: Компенсации | M17: Штрафы | N17: отставание на въезде | O17: итог (сек) | P17: отставание на выезде | Q17: № п/п выезд
A19: 10 | B19: 600 | C19: 62 | E19: 1 | F19: =B19-C19+D19+E19 -> 539 | G19: =F19-MIN($F$19:$F$27) -> 0 | H19: =RANK(F19,F$19:F$27,1) -> 1 | J19: 9 | K19: 600 | L19: 62 | N19: 3 | O19: =K19-L19+M19+N19 -> 541 | P19: =O19-MIN($O$19:$O$27) -> 0 | Q19: =RANK(O19,O$19:O$27,1) -> 1
A20: 5 | B20: 600 | E20: 0 | F20: =B20-C20+D20+E20 -> 600 | G20: =F20-MIN($F$19:$F$27) -> 61 | H20: =RANK(F20,F$19:F$27,1) -> 2 | J20: 5 | K20: 600 | N20: 0 | O20: =K20-L20+M20+N20 -> 600 | P20: =O20-MIN($O$19:$O$27) -> 59 | Q20: =RANK(O20,O$19:O$27,1) -> 2
A21: 7 | B21: 600 | E21: 4 | F21: =B21-C21+D21+E21 -> 604 | G21: =F21-MIN($F$19:$F$27) -> 65 | H21: =RANK(F21,F$19:F$27,1) -> 3 | J21: 2 | K21: 600 | N21: 1 | O21: =K21-L21+M21+N21 -> 601 | P21: =O21-MIN($O$19:$O$27) -> 60 | Q21: =RANK(O21,O$19:O$27,1) -> 3
A22: 2 | B22: 600 | E22: 14 | F22: =B22-C22+D22+E22 -> 614 | G22: =F22-MIN($F$19:$F$27) -> 75 | H22: =RANK(F22,F$19:F$27,1) -> 4 | J22: 7 | K22: 600 | N22: 5 | O22: =K22-L22+M22+N22 -> 605 | P22: =O22-MIN($O$19:$O$27) -> 64 | Q22: =RANK(O22,O$19:O$27,1) -> 4
A23: 4 | B23: 600 | E23: 15 | F23: =B23-C23+D23+E23 -> 615 | G23: =F23-MIN($F$19:$F$27) -> 76 | H23: =RANK(F23,F$19:F$27,1) -> 5 | J23: 10 | K23: 600 | N23: 9 | O23: =K23-L23+M23+N23 -> 609 | P23: =O23-MIN($O$19:$O$27) -> 68 | Q23: =RANK(O23,O$19:O$27,1) -> 5
A24: 3 | B24: 600 | E24: 16 | F24: =B24-C24+D24+E24 -> 616 | G24: =F24-MIN($F$19:$F$27) -> 77 | H24: =RANK(F24,F$19:F$27,1) -> 6 | J24: 3 | K24: 600 | N24: 15 | O24: =K24-L24+M24+N24 -> 615 | P24: =O24-MIN($O$19:$O$27) -> 74 | Q24: =RANK(O24,O$19:O$27,1) -> 6
A25: 1 | B25: 600 | E25: 20 | F25: =B25-C25+D25+E25 -> 620 | G25: =F25-MIN($F$19:$F$27) -> 81 | H25: =RANK(F25,F$19:F$27,1) -> 7 | J25: 1 | K25: 600 | N25: 17 | O25: =K25-L25+M25+N25 -> 617 | P25: =O25-MIN($O$19:$O$27) -> 76 | Q25: =RANK(O25,O$19:O$27,1) -> 7
A26: 9 | B26: 600 | E26: 20 | F26: =B26-C26+D26+E26 -> 620 | G26: =F26-MIN($F$19:$F$27) -> 81 | H26: =RANK(F26,F$19:F$27,1) -> 7 | J26: 8 | K26: 600 | N26: 23 | O26: =K26-L26+M26+N26 -> 623 | P26: =O26-MIN($O$19:$O$27) -> 82 | Q26: =RANK(O26,O$19:O$27,1) -> 8
A27: 8 | B27: 600 | E27: 32 | F27: =B27-C27+D27+E27 -> 632 | G27: =F27-MIN($F$19:$F$27) -> 93 | H27: =RANK(F27,F$19:F$27,1) -> 9 | J27: 4 | K27: 600 | N27: 24 | O27: =K27-L27+M27+N27 -> 624 | P27: =O27-MIN($O$19:$O$27) -> 83 | Q27: =RANK(O27,O$19:O$27,1) -> 9

Sheet K44
A2: Гонка "Эстафетный Марафон" 26.10.19
A4: K44
A6: Обяза-тельные | B6: Пилот | C6: карт | D6: Круг | E6: кругов на отрезке | F6: Статистика по кругам | I6: Общее время гонки | J6: Время на трассе
F7: Лучший круг | G7: Среднее на отрезке | H7: стабильность | J7: отрезок | K7: всего у пилота | L7: Питы | M7: Штрафы/ бонусы (сек)
A8: 1 | B8: Наум | C8: 5 | D8: =COUNTA(C32:C96) -> 13 | E8: =COUNTA(C32:C96) -> 13 | F8: =MIN(C32:C95) -> 42.54 | G8: =AVERAGE(C32:C98) -> 42.995615 | H8: =G8-F8 -> 0.45561538 | I8: 0.0065046296 | J8: =I8 -> 0.0065046296 | K8: =J8 -> 0.0065046296 | L8: 56.559
A9: 2 | B9: Пикулин Паша | D9: =COUNTA(D32:D96)+D8+1 -> 14 | E9: =COUNTA(D32:D96)+1 -> 1 | I9: 0.0071643519 | J9: =I9-I8 -> 0.00065972222 | K9: =J9 -> 0.00065972222 | L9: 56.033
A10: 3 | B10: Наум | D10: =COUNTA(E32:E96)+D9+1 -> 51 | E10: =COUNTA(E32:E96)+1 -> 37 | F10: =MIN(E32:E95) -> 42.425 | G10: =AVERAGE(E32:E98) -> 42.644889 | H10: =G10-F10 -> 0.21988889 | I10: 0.02556713 | J10: =I10-I9 -> 0.018402778 | K10: =J10+K8 -> 0.024907407 | L10: 936.428
B11: Компенсационный пит | I11: 0.035856481 | J11: =I11-I10 -> 0.010289352
A12: 4 | B12: Пикулин Паша | C12: 6 | D12: =COUNTA(F32:F96)+D10+1 -> 53 | E12: =COUNTA(F32:F96)+1 -> 2 | F12: =MIN(F32:F95) -> 43.294 | G12: =AVERAGE(F32:F98) -> 43.294 | H12: =G12-F12 -> 0 | I12: 0.036909722 | J12: =I12-I11 -> 0.0010532407 | K12: =J12+K9 -> 0.001712963 | L12: 56.876
A13: 5 | B13: Наум | D13: =COUNTA(G32:G96)+D12+1 -> 54 | E13: =COUNTA(G32:G96)+1 -> 1 | I13: 0.037581019 | J13: =I13-I12 -> 0.0006712963 | K13: =J13+K10 -> 0.025578704 | L13: 56.408
A14: 6 | B14: Пикулин Паша | D14: =COUNTA(H32:H96)+D13+1 -> 100 | E14: =COUNTA(H32:H96)+1 -> 46 | F14: =MIN(H32:H95) -> 42.261 | G14: =AVERAGE(H32:H98) -> 42.523689 | H14: =G14-F14 -> 0.26268889 | I14: 0.060358796 | J14: =I14-I13 -> 0.022777778 | K14: =J14+K12 -> 0.024490741 | L14: 1017.169
B15: Компенсационный пит | I15: 0.071597222 | J15: =I15-I14 -> 0.011238426
A16: 7 | B16: Наум | C16: 7 | D16: =COUNTA(I32:I96)+D14+1 -> 102 | E16: =COUNTA(I32:I96)+1 -> 2 | F16: =MIN(I32:I95) -> 43.265 | G16: =AVERAGE(I32:I98) -> 43.265 | H16: =G16-F16 -> 0 | I16: 0.072662037 | J16: =I16-I15 -> 0.0010648148 | K16: =J16+K13 -> 0.026643519 | L16: 56.222
A17: 8 | B17: Пикулин Паша | D17: =COUNTA(J32:J96)+D16+1 -> 103 | E17: =COUNTA(J32:J96)+1 -> 1 | I17: 0.073298611 | J17: =I17-I16 -> 0.00063657407 | K17: =J17+K14 -> 0.025127315 | L17: 55.486
A18: 9 | B18: Наум | D18: =COUNTA(K32:K96)+D17+1 -> 154 | E18: =COUNTA(K32:K96)+1 -> 51 | F18: =MIN(K32:K95) -> 41.977 | G18: =AVERAGE(K32:K98) -> 42.37046 | H18: =G18-F18 -> 0.39346 | I18: 0.098449074 | J18: =I18-I17 -> 0.025150463 | K18: =J18+K16 -> 0.051793981 | L18: 945.117
B19: Компенсационный пит | I19: 0.10884259 | J19: =I19-I18 -> 0.010393519
A20: 10 | B20: Пикулин Паша | C20: 9 | D20: =COUNTA(L32:L96)+D18+1 -> 156 | E20: =COUNTA(L32:L96)+1 -> 2 | F20: =MIN(L32:L95) -> 43.784 | G20: =AVERAGE(L32:L98) -> 43.784 | H20: =G20-F20 -> 0 | I20: 0.10990741 | J20: =I20-I19 -> 0.0010648148 | K20: =J20+K17 -> 0.02619213 | L20: 56.390
A21: 11 | B21: Наум | D21: =COUNTA(M32:M96)+D20+1 -> 157 | E21: =COUNTA(M32:M96)+1 -> 1 | I21: 0.1105787 | J21: =I21-I20 -> 0.0006712963 | K21: =J21+K18 -> 0.052465278 | L21: 56.354
A22: 12 | B22: Пикулин Паша | D22: =COUNTA(N32:N96)+1+D21 -> 200 | E22: =COUNTA(N32:N96)+1 -> 43 | F22: =MIN(N32:N95) -> 42.356 | G22: =AVERAGE(N32:N98) -> 42.666381 | H22: =G22-F22 -> 0.31038095 | I22: 0.13194444 | J22: =I22-I21 -> 0.021365741 | K22: =J22+K20 -> 0.04755787 | L22: 945.855
B23: Компенсационный пит | I23: 0.14234954 | J23: =I23-I22 -> 0.010405093
A24: 13 | B24: Пикулин Паша | C24: 10 | D24: =COUNTA(O32:O96)+D22+1 -> 204 | E24: =COUNTA(N32:N96)+1 -> 43 | F24: =MIN(O32:O95) -> 42.619 | G24: =AVERAGE(O32:O98) -> 42.725333 | H24: =G24-F24 -> 0.10633333 | I24: 0.14443287 | J24: =I24-I23 -> 0.0020833333 | K24: =J24+K22 -> 0.049641204 | L24: 56.000
A25: 14 | B25: Наум | D25: =COUNTA(P32:P96)+D24+1 -> 225 | E25: =COUNTA(P32:P96)+1 -> 21 | F25: =MIN(P32:P95) -> 42.273 | G25: =AVERAGE(P32:P98) -> 42.53895 | H25: =G25-F25 -> 0.26595 | I25: 0.15488426 | J25: =I25-I24 -> 0.010451389 | K25: =J25+K21 -> 0.062916667 | L25: 55.984
A26: Финиш | B26: Пикулин Паша | D26: =COUNTA(Q32:Q96)+D25+1 -> 249 | E26: =COUNTA(Q32:Q96)+1 -> 24 | F26: =MIN(Q32:Q95) -> 42.174 | G26: =AVERAGE(Q32:Q98) -> 42.37513 | H26: =G26-F26 -> 0.20113043 | I26: ='Общие результаты'!G6 -> 4:00:12 | J26: =I26-I25 -> 0.011921296 | K26: =J26+K24 -> 0.0615625
F27: =AVERAGE(F8,F10,F16,F18,F25) -> 42.496 | G27: =AVERAGE(C32:C61,E32:E61,G32:G61,I32:I62,K32:K62,M32:M64,P32:P64) -> 42.584547 | H27: =AVERAGE(H8,H10,H13,H16,H18,H21,H25) -> 0.26698285 | I27: Наум
F28: =AVERAGE(F12,F14,F20,F22,F24,F26) -> 42.748 | G28: =AVERAGE(D32:D61,F32:F61,H32:H61,J32:J62,L32:L62,N32:N64,O32:O64,Q32:Q65) -> 42.57656 | H28: =AVERAGE(H9,H12,H14,H17,H20,H22,H24,H26) -> 0.1467556 | I28: Паша
G29: =AVERAGE(C32:Q81) -> 42.562391 | H29: =AVERAGE(H8:H26) -> 0.20140435
C31: =B8 -> Наум | D31: =B9 -> Пикулин Паша | E31: =B10 -> Наум | F31: =B12 -> Пикулин Паша | G31: =B13 -> Наум | H31: =B14 -> Пикулин Паша | I31: =B16 -> Наум | J31: =B17 -> Пикулин Паша | K31: =B18 -> Наум | L31: =B20 -> Пикулин Паша | M31: =B21 -> Наум | N31: =B22 -> Пикулин Паша | O31: =B24 -> Пикулин Паша | P31: =B25 -> Наум | Q31: =B26 -> Пикулин Паша
B32: 1 | C32: 45.173 | E32: 42.929 | F32: 43.294 | H32: 42.779 | I32: 43.265 | K32: 42.532 | L32: 43.784 | N32: 43.116 | O32: 42.698 | P32: 42.579 | Q32: 42.595
B33: 2 | C33: 43.318 | E33: 42.962 | H33: 42.65 | K33: 42.392 | N33: 43.015 | O33: 42.619 | P33: 42.673 | Q33: 42.527
B34: 3 | C34: 43.073 | E34: 43.024 | H34: 42.543 | K34: 42.46 | N34: 42.685 | O34: 42.859 | P34: 42.461 | Q34: 42.478
B35: 4 | C35: 42.972 | E35: 42.425 | H35: 42.527 | K35: 42.529 | N35: 42.845 | P35: 42.56 | Q35: 42.514
B36: 5 | C36: 42.599 | E36: 42.665 | H36: 42.878 | K36: 42.297 | N36: 42.61 | P36: 42.5 | Q36: 42.332
B37: 6 | C37: 42.723 | E37: 42.771 | H37: 42.467 | K37: 41.977 | N37: 43.365 | P37: 42.782 | Q37: 42.24
B38: 7 | C38: 42.749 | E38: 42.748 | H38: 42.465 | K38: 42.353 | N38: 42.612 | P38: 42.644 | Q38: 42.309
B39: 8 | C39: 42.702 | E39: 42.593 | H39: 42.836 | K39: 42.11 | N39: 42.825 | P39: 42.539 | Q39: 42.303
B40: 9 | C40: 43.145 | E40: 42.744 | H40: 42.467 | K40: 43.084 | N40: 42.615 | P40: 42.727 | Q40: 42.353
B41: 10 | C41: 42.54 | E41: 42.702 | H41: 42.462 | K41: 42.144 | N41: 42.627 | P41: 42.462 | Q41: 42.276
B42: 11 | C42: 42.554 | E42: 42.585 | H42: 42.427 | K42: 42.52 | N42: 42.614 | P42: 42.674 | Q42: 42.29
B43: 12 | C43: 42.558 | E43: 42.562 | H43: 42.5 | K43: 42.19 | N43: 42.581 | P43: 42.481 | Q43: 42.333
B44: 13 | C44: 42.837 | E44: 42.766 | H44: 42.514 | K44: 42.28 | N44: 42.868 | P44: 42.41 | Q44: 42.197
...

Sheet Hurricane RTU
A2: Гонка "Эстафетный Марафон" 26.10.19
A4: Hurricane RTU
A6: Обяза-тельные | B6: Пилот | C6: карт | D6: Круг | E6: кругов на отрезке | F6: Статистика по кругам | I6: Общее время гонки | J6: Время на трассе
F7: Лучший круг | G7: Среднее на отрезке | H7: стабильность | J7: отрезок | K7: всего у пилота | L7: Питы | M7: Штрафы/ бонусы (сек)
A8: 1 | B8: Мифтахутдинов Ильяс | C8: 2 | D8: =COUNTA(C32:C96) -> 41 | E8: =COUNTA(C32:C96) -> 41 | F8: =MIN(C32:C95) -> 42.38 | G8: =AVERAGE(C32:C98) -> 42.806415 | H8: =G8-F8 -> 0.42641463 | I8: 0.020833333 | J8: =I8 -> 0.020833333 | K8: =J8 -> 0.020833333 | L8: 58.903
A9: 2 | B9: Стоцкий Андрей | D9: =COUNTA(D32:D96)+D8+1 -> 42 | E9: =COUNTA(D32:D96)+1 -> 1 | I9: 0.021516204 | J9: =I9-I8 -> 0.00068287037 | K9: =J9 -> 0.00068287037 | L9: 57.948
A10: 3 | B10: Мифтахутдинов Ильяс | D10: =COUNTA(E32:E96)+D9+1 -> 50 | E10: =COUNTA(E32:E96)+1 -> 8 | F10: =MIN(E32:E95) -> 42.433 | G10: =AVERAGE(E32:E98) -> 42.676429 | H10: =G10-F10 -> 0.24342857 | I10: 0.025625 | J10: =I10-I9 -> 0.0041087963 | K10: =J10+K8 -> 0.02494213 | L10: 935.335
B11: Компенсационный пит | I11: 0.035914352 | J11: =I11-I10 -> 0.010289352
A12: 4 | B12: Стоцкий Андрей | C12: 3 | D12: =COUNTA(F32:F96)+D10+1 -> 95 | E12: =COUNTA(F32:F96)+1 -> 45 | F12: =MIN(F32:F95) -> 41.169 | G12: =AVERAGE(F32:F98) -> 42.108477 | H12: =G12-F12 -> 0.93947727 | I12: 0.057916667 | J12: =I12-I11 -> 0.022002315 | K12: =J12+K9 -> 0.022685185 | L12: 58.239
A13: 5 | B13: Мифтахутдинов Ильяс | D13: =COUNTA(G32:G96)+D12+1 -> 96 | E13: =COUNTA(G32:G96)+1 -> 1 | I13: 0.058599537 | J13: =I13-I12 -> 0.00068287037 | K13: =J13+K10 -> 0.025625 | L13: 57.002
A14: 6 | B14: Стоцкий Андрей | D14: =COUNTA(H32:H96)+D13+1 -> 99 | E14: =COUNTA(H32:H96)+1 -> 3 | F14: =MIN(H32:H95) -> 42.024 | G14: =AVERAGE(H32:H98) -> 42.0665 | H14: =G14-F14 -> 0.0425 | I14: 0.060208333 | J14: =I14-I13 -> 0.0016087963 | K14: =J14+K12 -> 0.024293981 | L14: 1021.513
B15: Компенсационный пит | I15: 0.071493056 | J15: =I15-I14 -> 0.011284722
A16: 7 | B16: Мифтахутдинов Ильяс | C16: 4 | D16: =COUNTA(I32:I96)+D14+1 -> 101 | E16: =COUNTA(I32:I96)+1 -> 2 | F16: =MIN(I32:I95) -> 43.675 | G16: =AVERAGE(I32:I98) -> 43.675 | H16: =G16-F16 -> 0 | I16: 0.07255787 | J16: =I16-I15 -> 0.0010648148 | K16: =J16+K13 -> 0.026689815 | L16: 58.425
A17: 8 | B17: Стоцкий Андрей | D17: =COUNTA(J32:J96)+D16+1 -> 102 | E17: =COUNTA(J32:J96)+1 -> 1 | I17: 0.073229167 | J17: =I17-I16 -> 0.0006712963 | K17: =J17+K14 -> 0.024965278 | L17: 57.118
A18: 9 | B18: Мифтахутдинов Ильяс | D18: =COUNTA(K32:K96)+D17+1 -> 154 | E18: =COUNTA(K32:K96)+1 -> 52 | F18: =MIN(K32:K95) -> 42.22 | G18: =AVERAGE(K32:K98) -> 42.746431 | H18: =G18-F18 -> 0.52643137 | I18: 0.098622685 | J18: =I18-I17 -> 0.025393519 | K18: =J18+K16 -> 0.052083333 | L18: 943.616
B19: Компенсационный пит | I19: 0.10900463 | J19: =I19-I18 -> 0.010381944
A20: 10 | B20: Стоцкий Андрей | C20: 5 | D20: =COUNTA(L32:L96)+D18+1 -> 156 | E20: =COUNTA(L32:L96)+1 -> 2 | F20: =MIN(L32:L95) -> 43.328 | G20: =AVERAGE(L32:L98) -> 43.328 | H20: =G20-F20 -> 0 | I20: 0.11040509 | J20: =I20-I19 -> 0.001400463 | K20: =J20+K17 -> 0.026365741 | L20: 58.239
A21: 11 | B21: Мифтахутдинов Ильяс | D21: =COUNTA(M32:M96)+D20+1 -> 157 | E21: =COUNTA(M32:M96)+1 -> 1 | I21: 0.11108796 | J21: =I21-I20 -> 0.00068287037 | K21: =J21+K18 -> 0.052766204 | L21: 57.451
A22: 12 | B22: Стоцкий Андрей | D22: =COUNTA(N32:N96)+1+D21 -> 200 | E22: =COUNTA(N32:N96)+1 -> 43 | F22: =MIN(N32:N95) -> 42.051 | G22: =AVERAGE(N32:N98) -> 42.282905 | H22: =G22-F22 -> 0.23190476 | I22: 0.13195602 | J22: =I22-I21 -> 0.020868056 | K22: =J22+K20 -> 0.047233796 | L22: 945.955
B23: Компенсационный пит | I23: 0.14236111 | J23: =I23-I22 -> 0.010405093
A24: 13 | B24: Стоцкий Андрей | C24: 6 | D24: =COUNTA(O32:O96)+D22+1 -> 203 | E24: =COUNTA(N32:N96)+1 -> 43 | F24: =MIN(O32:O95) -> 43.005 | G24: =AVERAGE(O32:O98) -> 43.017 | H24: =G24-F24 -> 0.012 | I24: 0.14390046 | J24: =I24-I23 -> 0.0015393519 | K24: =J24+K22 -> 0.048773148 | L24: 58.107
A25: 14 | B25: Мифтахутдинов Ильяс | D25: =COUNTA(P32:P96)+D24+1 -> 213 | E25: =COUNTA(P32:P96)+1 -> 10 | F25: =MIN(P32:P95) -> 42.92 | G25: =AVERAGE(P32:P98) -> 43.129889 | H25: =G25-F25 -> 0.20988889 | I25: 0.14907407 | J25: =I25-I24 -> 0.0051736111 | K25: =J25+K21 -> 0.057939815 | L25: 56.814
A26: Финиш | B26: Стоцкий Андрей | D26: =COUNTA(Q32:Q96)+D25+1 -> 249 | E26: =COUNTA(Q32:Q96)+1 -> 36 | F26: =MIN(Q32:Q95) -> 42.187 | G26: =AVERAGE(Q32:Q98) -> 42.489314 | H26: =G26-F26 -> 0.30231429 | I26: ='Общие результаты'!G6 -> 4:00:12 | J26: =I26-I25 -> 0.017731481 | K26: =J26+K24 -> 0.06650463
F27: =AVERAGE(F8,F10,F13,F16,F18,F21,F25) -> 42.7256 | G27: =AVERAGE(C32:C61,E32:E61,G32:G61,I32:I62,K32:K62,M32:M64,P32:P64) -> 42.861256 | H27: =AVERAGE(H8,H10,H13,H16,H18,H21,H25) -> 0.28123269 | I27: Ильяс
F28: =AVERAGE(F9,F12,F14,F17,F20,F22,F24,F26) -> 42.294 | G28: =AVERAGE(D32:D61,F32:F61,H32:H61,J32:J62,L32:L62,N32:N64,O32:O64,Q32:Q65) -> 42.357804 | H28: =AVERAGE(H9,H12,H14,H17,H20,H22,H24,H26) -> 0.25469939 | I28: Андрей
F29: =AVERAGE(F8:F26) -> 42.490182 | G29: =AVERAGE(C32:Q93) -> 42.531855 | H29: =AVERAGE(H8:H26) -> 0.26675998
C31: =B8 -> Мифтахутдинов Ильяс | D31: =B9 -> Стоцкий Андрей | E31: =B10 -> Мифтахутдинов Ильяс | F31: =B12 -> Стоцкий Андрей | G31: =B13 -> Мифтахутдинов Ильяс | H31: =B14 -> Стоцкий Андрей | I31: =B16 -> Мифтахутдинов Ильяс | J31: =B17 -> Стоцкий Андрей | K31: =B18 -> Мифтахутдинов Ильяс | L31: =B20 -> Стоцкий Андрей | M31: =B21 -> Мифтахутдинов Ильяс | N31: =B22 -> Стоцкий Андрей | O31: =B24 -> Стоцкий Андрей | P31: =B25 -> Мифтахутдинов Ильяс | Q31: =B26 -> Стоцкий Андрей
B32: 1 | C32: 46.82 | E32: 42.718 | F32: 42.639 | H32: 42.024 | I32: 43.675 | K32: 42.22 | L32: 43.328 | N32: 42.557 | O32: 43.005 | P32: 43.66 | Q32: 42.694
B33: 2 | C33: 43.162 | E33: 42.501 | F33: 42.626 | H33: 42.109 | K33: 42.627 | N33: 42.631 | O33: 43.029 | P33: 43.037 | Q33: 42.361
B34: 3 | C34: 43.236 | E34: 42.433 | F34: 42.383 | K34: 42.882 | N34: 42.268 | P34: 42.976 | Q34: 42.424
B35: 4 | C35: 42.943 | E35: 42.763 | F35: 42.22 | K35: 42.968 | N35: 42.349 | P35: 43.015 | Q35: 42.488
B36: 5 | C36: 42.711 | E36: 43.15 | F36: 42.113 | K36: 42.739 | N36: 42.875 | P36: 43.065 | Q36: 42.636
B37: 6 | C37: 42.57 | E37: 42.589 | F37: 42.212 | K37: 42.825 | N37: 42.331 | P37: 42.92 | Q37: 42.359
B38: 7 | C38: 42.68 | E38: 42.581 | F38: 42.09 | K38: 42.638 | N38: 42.409 | P38: 43.061 | Q38: 42.52
B39: 8 | C39: 42.745 | F39: 42.228 | K39: 42.731 | N39: 42.348 | P39: 43.084 | Q39: 42.54
B40: 9 | C40: 42.966 | F40: 41.97 | K40: 44.181 | N40: 42.152 | P40: 43.351 | Q40: 42.378
B41: 10 | C41: 42.76 | F41: 42.258 | K41: 42.779 | N41: 42.33 | Q41: 42.469
B42: 11 | C42: 42.648 | F42: 42.059 | K42: 42.719 | N42: 42.147 | Q42: 42.58
B43: 12 | C43: 42.513 | F43: 42.147 | K43: 42.665 | N43: 42.372 | Q43: 42.446
B44: 13 | C44: 42.595 | F44: 42.426 | K44: 42.632 | N44: 42.217 | Q44: 42.412
...

Sheet NFS Kyiv Legends
A2: Гонка "Эстафетный Марафон" 26.10.19
A4: NFS Kyiv Legends
A6: Обяза-тельные | B6: Пилот | C6: карт | D6: Круг | E6: кругов на отрезке | F6: Статистика по кругам | I6: Общее время гонки | J6: Время на трассе
F7: Лучший круг | G7: Среднее на отрезке | H7: стабильность | J7: отрезок | K7: всего у пилота | L7: Питы | M7: Штрафы/ бонусы (сек)
A8: 1 | B8: Резанко Ольга | C8: 1 | D8: =COUNTA(C32:C96) -> 30 | E8: =COUNTA(C32:C96) -> 30 | F8: =MIN(C32:C95) -> 42.281 | G8: =AVERAGE(C32:C98) -> 43.0603 | H8: =G8-F8 -> 0.7793 | I8: 0.015011574 | J8: =I8 -> 0.015011574 | K8: =J8 -> 0.015011574 | L8: 58.026
A9: 2 | B9: Тыщенко Миша | D9: =COUNTA(D32:D96)+D8+1 -> 32 | E9: =COUNTA(D32:D96)+1 -> 2 | F9: =MIN(D32:D95) -> 43.096 | G9: =AVERAGE(D32:D98) -> 43.096 | H9: =G9-F9 -> 0 | I9: 0.016168981 | J9: =I9-I8 -> 0.0011574074 | K9: =J9 -> 0.0011574074 | L9: 57.521
A10: 3 | B10: Резанко Ольга | D10: =COUNTA(E32:E96)+D9+1 -> 51 | E10: =COUNTA(E32:E96)+1 -> 19 | F10: =MIN(E32:E95) -> 42.179 | G10: =AVERAGE(E32:E98) -> 42.618667 | H10: =G10-F10 -> 0.43966667 | I10: 0.025717593 | J10: =I10-I9 -> 0.0095486111 | K10: =J10+K8 -> 0.024560185 | L10: 941.177
B11: Компенсационный пит | I11: 0.036053241 | J11: =I11-I10 -> 0.010335648 | M11: +5 | N11: ШТРАФ
A12: 4 | B12: Тыщенко Миша | C12: 2 | D12: =COUNTA(F32:F96)+D10+1 -> 79 | E12: =COUNTA(F32:F96)+1 -> 28 | F12: =MIN(F32:F95) -> 42.026 | G12: =AVERAGE(F32:F98) -> 42.352185 | H12: =G12-F12 -> 0.32618519 | I12: 0.049849537 | J12: =I12-I11 -> 0.013796296 | K12: =J12+K9 -> 0.014953704 | L12: 57.263
A13: 5 | B13: Резанко Ольга | D13: =COUNTA(G32:G96)+D12+1 -> 81 | E13: =COUNTA(G32:G96)+1 -> 2 | F13: =MIN(G32:G95) -> 42.884 | G13: =AVERAGE(G32:G98) -> 42.884 | H13: =G13-F13 -> 0 | I13: 0.051006944 | J13: =I13-I12 -> 0.0011574074 | K13: =J13+K10 -> 0.025717593 | L13: 56.582
A14: 6 | B14: Тыщенко Миша | D14: =COUNTA(H32:H96)+D13+1 -> 97 | E14: =COUNTA(H32:H96)+1 -> 16 | F14: =MIN(H32:H95) -> 42.168 | G14: =AVERAGE(H32:H98) -> 42.694267 | H14: =G14-F14 -> 0.52626667 | I14: 0.060324074 | J14: =I14-I13 -> 0.0093171296 | K14: =J14+K12 -> 0.024270833 | L14: 907.329
B15: Компенсационный пит | I15: 0.070300926 | J15: =I15-I14 -> 0.0099768519
A16: 7 | B16: Резанко Ольга | C16: 3 | D16: =COUNTA(I32:I96)+D14+1 -> 124 | E16: =COUNTA(I32:I96)+1 -> 27 | F16: =MIN(I32:I95) -> 42.168 | G16: =AVERAGE(I32:I98) -> 42.411308 | H16: =G16-F16 -> 0.24330769 | I16: 0.083611111 | J16: =I16-I15 -> 0.013310185 | K16: =J16+K13 -> 0.039027778 | L16: 57.521
A17: 8 | B17: Тыщенко Миша | D17: =COUNTA(J32:J96)+D16+1 -> 126 | E17: =COUNTA(J32:J96)+1 -> 2 | F17: =MIN(J32:J95) -> 42.997 | G17: =AVERAGE(J32:J98) -> 42.997 | H17: =G17-F17 -> 0 | I17: 0.084780093 | J17: =I17-I16 -> 0.0011689815 | K17: =J17+K14 -> 0.025439815 | L17: 57.18
A18: 9 | B18: Резанко Ольга | D18: =COUNTA(K32:K96)+D17+1 -> 154 | E18: =COUNTA(K32:K96)+1 -> 28 | F18: =MIN(K32:K95) -> 42.202 | G18: =AVERAGE(K32:K98) -> 42.467222 | H18: =G18-F18 -> 0.26522222 | I18: 0.098703704 | J18: =I18-I17 -> 0.013923611 | K18: =J18+K16 -> 0.052951389 | L18: 945.377
B19: Компенсационный пит | I19: 0.1091088 | J19: =I19-I18 -> 0.010405093 | M19: -110 | N19: ПОЛОМКА
A20: 10 | B20: Тыщенко Миша | C20: 4 | D20: =COUNTA(L32:L96)+D18+1 -> 188 | E20: =COUNTA(L32:L96)+1 -> 34 | F20: =MIN(L32:L95) -> 42.236 | G20: =AVERAGE(L32:L98) -> 42.557818 | H20: =G20-F20 -> 0.32181818 | I20: 0.12590278 | J20: =I20-I19 -> 0.016793981 | K20: =J20+K17 -> 0.042233796 | L20: 57.472
A21: 11 | B21: Резанко Ольга | D21: =COUNTA(M32:M96)+D20+1 -> 189 | E21: =COUNTA(M32:M96)+1 -> 1 | I21: 0.1265625 | J21: =I21-I20 -> 0.00065972222 | K21: =J21+K18 -> 0.053611111 | L21: 56.893
A22: 12 | B22: Тыщенко Миша | D22: =COUNTA(N32:N96)+1+D21 -> 200 | E22: =COUNTA(N32:N96)+1 -> 11 | F22: =MIN(N32:N95) -> 42.297 | G22: =AVERAGE(N32:N98) -> 42.5406 | H22: =G22-F22 -> 0.2436 | I22: 0.1321412 | J22: =I22-I21 -> 0.0055787037 | K22: =J22+K20 -> 0.0478125 | L22: 946.633
B23: Компенсационный пит | I23: 0.1425463 | J23: =I23-I22 -> 0.010405093
A24: 13 | B24: Тыщенко Миша | C24: 5 | D24: =COUNTA(O32:O96)+D22+1 -> 202 | E24: =COUNTA(N32:N96)+1 -> 11 | F24: =MIN(O32:O95) -> 43.65 | G24: =AVERAGE(O32:O98) -> 43.65 | H24: =G24-F24 -> 0 | I24: 0.14361111 | J24: =I24-I23 -> 0.0010648148 | K24: =J24+K22 -> 0.048877315 | L24: 57.608
A25: 14 | B25: Резанко Ольга | D25: =COUNTA(P32:P96)+D24+1 -> 216 | E25: =COUNTA(P32:P96)+1 -> 14 | F25: =MIN(P32:P95) -> 42.575 | G25: =AVERAGE(P32:P98) -> 42.835538 | H25: =G25-F25 -> 0.26053846 | I25: 0.15071759 | J25: =I25-I24 -> 0.0071064815 | K25: =J25+K21 -> 0.060717593 | L25: 56.633
A26: Финиш | B26: Тыщенко Миша | D26: =COUNTA(Q32:Q96)+D25+1 -> 249 | E26: =COUNTA(Q32:Q96)+1 -> 33 | F26: =MIN(Q32:Q95) -> 42.426 | G26: =AVERAGE(Q32:Q98) -> 42.688875 | H26: =G26-F26 -> 0.262875 | I26: ='Общие результаты'!G6 -> 4:00:12 | J26: =I26-I25 -> 0.016087963 | K26: =J26+K24 -> 0.064965278 | M26: +10 | N26: ШТРАФ
F27: =AVERAGE(F8,F10,F13,F16,F18,F21,F25) -> 42.3815 | G27: =AVERAGE(C32:C61,E32:E61,G32:G61,I32:I62,K32:K62,M32:M64,P32:P64) -> 42.678261 | H27: =AVERAGE(H8,H10,H13,H16,H18,H21,H25) -> 0.33133917 | I27: Оля
F28: =AVERAGE(F9,F12,F14,F17,F20,F22,F24,F26) -> 42.612 | G28: =AVERAGE(D32:D61,F32:F61,H32:H61,J32:J62,L32:L62,N32:N64,O32:O64,Q32:Q65) -> 42.578814 | H28: =AVERAGE(H9,H12,H14,H17,H20,H22,H24,H26) -> 0.21009313 | I28: Миша
F29: =AVERAGE(F8:F26) -> 42.513214 | G29: =AVERAGE(C32:Q73) -> 42.627762 | H29: =AVERAGE(H8:H26) -> 0.26205572
C31: =B8 -> Резанко Ольга | D31: =B9 -> Тыщенко Миша | E31: =B10 -> Резанко Ольга | F31: =B12 -> Тыщенко Миша | G31: =B13 -> Резанко Ольга | H31: =B14 -> Тыщенко Миша | I31: =B16 -> Резанко Ольга | J31: =B17 -> Тыщенко Миша | K31: =B18 -> Резанко Ольга | L31: =B20 -> Тыщенко Миша | M31: =B21 -> Резанко Ольга | N31: =B22 -> Тыщенко Миша | O31: =B24 -> Тыщенко Миша | P31: =B25 -> Резанко Ольга | Q31: =B26 -> Тыщенко Миша
B32: 1 | C32: 51.658 | D32: 43.096 | E32: 42.618 | F32: 42.734 | G32: 42.884 | H32: 42.374 | I32: 42.909 | J32: 42.997 | K32: 42.379 | L32: 43.994 | N32: 42.498 | O32: 43.65 | P32: 43.282 | Q32: 43.161
B33: 2 | C33: 44.205 | E33: 42.596 | F33: 42.692 | H33: 42.451 | I33: 42.5 | K33: 42.267 | L33: 42.703 | N33: 42.461 | P33: 42.931 | Q33: 42.731
B34: 3 | C34: 43.029 | E34: 42.653 | F34: 42.463 | H34: 42.266 | I34: 42.409 | K34: 42.471 | L34: 42.691 | N34: 43.335 | P34: 42.617 | Q34: 42.685
B35: 4 | C35: 42.779 | E35: 42.52 | F35: 42.425 | H35: 42.231 | I35: 42.814 | K35: 42.45 | L35: 43.616 | N35: 42.569 | P35: 42.885 | Q35: 42.599
B36: 5 | C36: 44.324 | E36: 42.809 | F36: 42.225 | H36: 42.29 | I36: 42.413 | K36: 42.686 | L36: 42.526 | N36: 42.297 | P36: 42.998 | Q36: 42.676
B37: 6 | C37: 43.522 | E37: 42.486 | F37: 42.324 | H37: 42.288 | I37: 42.249 | K37: 42.35 | L37: 42.311 | N37: 42.357 | P37: 42.695 | Q37: 42.47
B38: 7 | C38: 42.593 | E38: 42.303 | F38: 42.026 | H38: 42.364 | I38: 42.301 | K38: 42.326 | L38: 43.035 | N38: 42.471 | P38: 42.817 | Q38: 42.528
B39: 8 | C39: 42.693 | E39: 42.179 | F39: 42.578 | H39: 42.323 | I39: 42.314 | K39: 42.346 | L39: 42.358 | N39: 42.445 | P39: 42.575 | Q39: 42.634
B40: 9 | C40: 42.631 | E40: 43.274 | F40: 42.195 | H40: 42.223 | I40: 42.321 | K40: 42.373 | L40: 42.409 | N40: 42.518 | P40: 42.649 | Q40: 42.525
B41: 10 | C41: 42.837 | E41: 42.649 | F41: 42.289 | H41: 42.467 | I41: 42.258 | K41: 42.362 | L41: 42.483 | N41: 42.455 | P41: 42.784 | Q41: 42.468
B42: 11 | C42: 42.696 | E42: 42.51 | F42: 42.465 | H42: 42.168 | I42: 42.219 | K42: 42.581 | L42: 42.447 | P42: 42.978 | Q42: 42.61
B43: 12 | C43: 42.709 | E43: 42.521 | F43: 42.235 | H43: 42.204 | I43: 42.244 | K43: 42.351 | L43: 42.497 | P43: 42.674 | Q43: 42.601
B44: 13 | C44: 42.655 | E44: 42.613 | F44: 42.208 | H44: =152.937-110 -> 42.937 | I44: 42.369 | K44: 42.439 | L44: 42.5 | P44: 42.977 | Q44: 42.567
...

Sheet Ass RT
A2: Гонка "Эстафетный Марафон" 26.10.19
A4: Ass RT
A6: Обяза-тельные | B6: Пилот | C6: карт | D6: Круг | E6: кругов на отрезке | F6: Статистика по кругам | I6: Общее время гонки | J6: Время на трассе
F7: Лучший круг | G7: Среднее на отрезке | H7: стабильность | J7: отрезок | K7: всего у пилота | L7: Питы | M7: Штрафы/ бонусы (сек)
A8: 1 | B8: Ткаченко Кирилл | C8: 6 | D8: =COUNTA(C32:C96) -> 15 | E8: =COUNTA(C32:C96) -> 15 | F8: =MIN(C32:C95) -> 42.695 | G8: =AVERAGE(C32:C98) -> 43.192067 | H8: =G8-F8 -> 0.49706667 | I8: 0.0075231481 | J8: =I8 -> 0.0075231481 | K8: =J8 -> 0.0075231481 | L8: 60.424
A9: 2 | B9: Хавило Дима | D9: =COUNTA(D32:D96)+D8+1 -> 38 | E9: =COUNTA(D32:D96)+1 -> 23 | F9: =MIN(D32:D95) -> 42.545 | G9: =AVERAGE(D32:D98) -> 42.790318 | H9: =G9-F9 -> 0.24531818 | I9: 0.01912037 | J9: =I9-I8 -> 0.011597222 | K9: =J9 -> 0.011597222 | L9: 56.643
A10: 3 | B10: Ткаченко Кирилл | D10: =COUNTA(E32:E96)+D9+1 -> 51 | E10: =COUNTA(E32:E96)+1 -> 13 | F10: =MIN(E32:E95) -> 42.673 | G10: =AVERAGE(E32:E98) -> 42.977 | H10: =G10-F10 -> 0.304 | I10: 0.025740741 | J10: =I10-I9 -> 0.0066203704 | K10: =J10+K8 -> 0.014143519 | L10: 936.293
B11: Компенсационный пит | I11: 0.036018519 | J11: =I11-I10 -> 0.010277778
A12: 4 | B12: Ткаченко Кирилл | C12: 7 | D12: =COUNTA(F32:F96)+D10+1 -> 71 | E12: =COUNTA(F32:F96)+1 -> 20 | F12: =MIN(F32:F95) -> 42.332 | G12: =AVERAGE(F32:F98) -> 42.629789 | H12: =G12-F12 -> 0.29778947 | I12: 0.045960648 | J12: =I12-I11 -> 0.0099421296 | K12: =J12+K10 -> 0.024085648 | L12: 56.338
A13: 5 | B13: Хавило Дима | D13: =COUNTA(G32:G96)+D12+1 -> 92 | E13: =COUNTA(G32:G96)+1 -> 21 | F13: =MIN(G32:G95) -> 42.216 | G13: =AVERAGE(G32:G98) -> 42.49385 | H13: =G13-F13 -> 0.27785 | I13: 0.056446759 | J13: =I13-I12 -> 0.010486111 | K13: =J13+K9 -> 0.022083333 | L13: 55.903
A14: 6 | B14: Ткаченко Кирилл | D14: =COUNTA(H32:H96)+D13+1 -> 100 | E14: =COUNTA(H32:H96)+1 -> 8 | F14: =MIN(H32:H95) -> 42.431 | G14: =AVERAGE(H32:H98) -> 42.576857 | H14: =G14-F14 -> 0.14585714 | I14: 0.060532407 | J14: =I14-I13 -> 0.0040856481 | K14: =J14+K12 -> 0.028171296 | L14: 1018.24
B15: Компенсационный пит | I15: 0.071782407 | J15: =I15-I14 -> 0.01125
A16: 7 | B16: Хавило Дима | C16: 9 | D16: =COUNTA(I32:I96)+D14+1 -> 117 | E16: =COUNTA(I32:I96)+1 -> 17 | F16: =MIN(I32:I95) -> 42.692 | G16: =AVERAGE(I32:I98) -> 43.055 | H16: =G16-F16 -> 0.363 | I16: 0.0803125 | J16: =I16-I15 -> 0.0085300926 | K16: =J16+K13 -> 0.030613426 | L16: 56.079
A17: 8 | B17: Ткаченко Кирилл | D17: =COUNTA(J32:J96)+D16+1 -> 132 | E17: =COUNTA(J32:J96)+1 -> 15 | F17: =MIN(J32:J95) -> 42.394 | G17: =AVERAGE(J32:J98) -> 42.994143 | H17: =G17-F17 -> 0.60014286 | I17: 0.087928241 | J17: =I17-I16 -> 0.0076157407 | K17: =J17+K14 -> 0.035787037 | L17: 55.86
A18: 9 | B18: Хавило Дима | D18: =COUNTA(K32:K96)+D17+1 -> 153 | E18: =COUNTA(K32:K96)+1 -> 21 | F18: =MIN(K32:K95) -> 42.532 | G18: =AVERAGE(K32:K98) -> 42.95875 | H18: =G18-F18 -> 0.42675 | I18: 0.098506944 | J18: =I18-I17 -> 0.010578704 | K18: =J18+K16 -> 0.04119213 | L18: 944.521
B19: Компенсационный пит | I19: 0.10888889 | J19: =I19-I18 -> 0.010381944
A20: 10 | B20: Хавило Дима | C20: 10 | D20: =COUNTA(L32:L96)+D18+1 -> 159 | E20: =COUNTA(L32:L96)+1 -> 6 | F20: =MIN(L32:L95) -> 42.923 | G20: =AVERAGE(L32:L98) -> 43.0822 | H20: =G20-F20 -> 0.1592 | I20: 0.11194444 | J20: =I20-I19 -> 0.0030555556 | K20: =J20+K18 -> 0.044247685 | L20: 56.542
A21: 11 | B21: Ткаченко Кирилл | D21: =COUNTA(M32:M96)+D20+1 -> 194 | E21: =COUNTA(M32:M96)+1 -> 35 | F21: =MIN(M32:M95) -> 42.327 | G21: =AVERAGE(M32:M98) -> 42.641912 | H21: =G21-F21 -> 0.31491176 | I21: 0.12938657 | J21: =I21-I20 -> 0.01744213 | K21: =J21+K17 -> 0.053229167 | L21: 56.539
A22: 12 | B22: Хавило Дима | D22: =COUNTA(N32:N96)+1+D21 -> 199 | E22: =COUNTA(N32:N96)+1 -> 5 | F22: =MIN(N32:N95) -> 42.681 | G22: =AVERAGE(N32:N98) -> 42.83525 | H22: =G22-F22 -> 0.15425 | I22: 0.13200231 | J22: =I22-I21 -> 0.0026157407 | K22: =J22+K20 -> 0.046863426 | L22: 944.888
B23: Компенсационный пит | I23: 0.14240741 | J23: =I23-I22 -> 0.010405093
A24: 13 | B24: Хавило Дима | C24: 1 | D24: =COUNTA(O32:O96)+D22+1 -> 206 | E24: =COUNTA(N32:N96)+1 -> 5 | F24: =MIN(O32:O95) -> 42.49 | G24: =AVERAGE(O32:O98) -> 42.782833 | H24: =G24-F24 -> 0.29283333 | I24: 0.14591435 | J24: =I24-I23 -> 0.0035069444 | K24: =J24+K22 -> 0.05037037 | L24: 55.932
A25: 14 | B25: Ткаченко Кирилл | D25: =COUNTA(P32:P96)+D24+1 -> 230 | E25: =COUNTA(P32:P96)+1 -> 24 | F25: =MIN(P32:P95) -> 42.19 | G25: =AVERAGE(P32:P98) -> 42.435391 | H25: =G25-F25 -> 0.2453913 | I25: 0.15787037 | J25: =I25-I24 -> 0.011956019 | K25: =J25+K21 -> 0.065185185 | L25: 56.018
A26: Финиш | B26: Хавило Дима | D26: =COUNTA(Q32:Q96)+D25+1 -> 248 | E26: =COUNTA(Q32:Q96)+1 -> 18 | F26: =MIN(Q32:Q95) -> 42.166 | G26: =AVERAGE(Q32:Q98) -> 42.462235 | H26: =G26-F26 -> 0.29623529 | I26: ='Общие результаты'!G6 -> 4:00:12 | J26: =I26-I25 -> 0.0089351852 | K26: =J26+K24 -> 0.059305556
F27: =AVERAGE(F8,F10,F12,F14,F17,F21,F25) -> 42.434571 | G27: =AVERAGE(C32:C61,E32:E61,F32:F61,H32:H62,J32:J62,M32:M64,P32:P64) -> 42.737073 | H27: =AVERAGE(H8,H10,H12,H14,H17,H21,H25) -> 0.34359417 | I27: Кирилл
F28: =AVERAGE(F9,F13,F16,F18,F20,F22,F24,F26) -> 42.530625 | G28: =AVERAGE(D32:D61,G32:G61,L32:L61,I32:I62,K32:K62,N32:N64,O32:O64,Q32:Q65) -> 42.769327 | H28: =AVERAGE(H9,H13,H16,H18,H20,H22,H24,H26) -> 0.2769296 | I28: Дима
F29: =AVERAGE(F8:F26) -> 42.4858 | G29: =AVERAGE(C32:Q73) -> 42.752103 | H29: =AVERAGE(H8:H26) -> 0.30803973
C31: =B8 -> Ткаченко Кирилл | D31: =B9 -> Хавило Дима | E31: =B10 -> Ткаченко Кирилл | F31: =B12 -> Ткаченко Кирилл | G31: =B13 -> Хавило Дима | H31: =B14 -> Ткаченко Кирилл | I31: =B16 -> Хавило Дима | J31: =B17 -> Ткаченко Кирилл | K31: =B18 -> Хавило Дима | L31: =B20 -> Хавило Дима | M31: =B21 -> Ткаченко Кирилл | N31: =B22 -> Хавило Дима | O31: =B24 -> Хавило Дима | P31: =B25 -> Ткаченко Кирилл | Q31: =B26 -> Хавило Дима
B32: 1 | C32: 46.091 | D32: 43.054 | E32: 43.315 | F32: 43.242 | G32: 43.113 | H32: 42.873 | I32: 44.05 | J32: 43.311 | K32: 42.87 | L32: 43.376 | M32: 43.122 | N32: 43.041 | O32: 42.872 | P32: 42.458 | Q32: 42.595
B33: 2 | C33: 43.12 | D33: 42.763 | E33: 42.89 | F33: 43.37 | G33: 42.633 | H33: 42.705 | I33: 43.262 | J33: 42.98 | K33: 43.053 | L33: 43.022 | M33: 42.576 | N33: 42.784 | O33: 42.644 | P33: 42.722 | Q33: 42.673
B34: 3 | C34: 42.941 | D34: 42.683 | E34: 44.226 | F34: 42.657 | G34: 42.399 | H34: 42.543 | I34: 43.112 | J34: 42.94 | K34: 43.126 | L34: 43.056 | M34: 42.724 | N34: 42.681 | O34: 42.907 | P34: 42.291 | Q34: 42.941
B35: 4 | C35: 42.7 | D35: 42.846 | E35: 42.823 | F35: 42.712 | G35: 42.631 | H35: 42.431 | I35: 43.032 | J35: 42.785 | K35: 43.159 | L35: 42.923 | M35: 43.124 | N35: 42.835 | O35: 42.855 | P35: 42.453 | Q35: 42.683
B36: 5 | C36: 42.797 | D36: 43.025 | E36: 43.011 | F36: 42.558 | G36: 42.556 | H36: 42.494 | I36: 42.711 | J36: 42.94 | K36: 43.109 | L36: 43.034 | M36: 42.811 | O36: 42.49 | P36: 42.578 | Q36: 42.456
B37: 6 | C37: 42.896 | D37: 42.802 | E37: 42.726 | F37: 42.526 | G37: 42.481 | H37: 42.458 | I37: 42.959 | J37: 42.908 | K37: 43.073 | M37: 42.623 | O37: 42.929 | P37: 42.614 | Q37: 42.223
B38: 7 | C38: 42.72 | D38: 42.702 | E38: 42.72 | F38: 42.402 | G38: 42.507 | H38: 42.534 | I38: 42.692 | J38: 42.845 | K38: 42.893 | M38: 42.53 | P38: 42.453 | Q38: 42.57
B39: 8 | C39: 42.695 | D39: 43.179 | E39: 42.673 | F39: 43.374 | G39: 42.554 | I39: 42.999 | J39: 42.699 | K39: 42.98 | M39: 42.565 | P39: 42.459 | Q39: 42.54
B40: 9 | C40: 44.2 | D40: 42.847 | E40: 42.87 | F40: 42.434 | G40: 42.466 | I40: 42.782 | J40: 42.914 | K40: 42.913 | M40: 42.327 | P40: 42.318 | Q40: 42.248
B41: 10 | C41: 43.106 | D41: 42.545 | E41: 42.76 | F41: 42.384 | G41: 42.216 | I41: 42.745 | J41: 42.792 | K41: 43.673 | M41: 42.61 | P41: 43.11 | Q41: 42.346
B42: 11 | C42: 42.811 | D42: 42.636 | E42: 42.806 | F42: 42.396 | G42: 42.261 | I42: 43.119 | J42: 42.691 | K42: 42.532 | M42: 42.476 | P42: 42.368 | Q42: 42.302
B43: 12 | C43: 42.8 | D43: 42.571 | E43: 42.904 | F43: 42.42 | G43: 42.568 | I43: 43.95 | J43: 42.394 | K43: 42.928 | M43: 42.535 | P43: 42.609 | Q43: 42.355
B44: 13 | C44: 42.799 | D44: 42.599 | F44: 42.388 | G44: 42.443 | I44: 42.875 | J44: 43.132 | K44: 42.749 | M44: 42.465 | P44: 42.19 | Q44: 42.355
...

Sheet NFS Fortuna RT
A2: Гонка "Эстафетный Марафон" 26.10.19
A4: NFS Fortuna RT
A6: Обяза-тельные | B6: Пилот | C6: карт | D6: Круг | E6: кругов на отрезке | F6: Статистика по кругам | I6: Общее время гонки | J6: Время на трассе | L6: Питы | M6: Штрафы/ бонусы (сек)
F7: Лучший круг | G7: Среднее на отрезке | H7: стабильность | I7: отрезок | J7: отрезок | K7: всего у пилота
A8: 1 | B8: Шутка Виталий | C8: 9 | D8: =COUNTA(C32:C96) -> 1 | E8: =COUNTA(C32:C96) -> 1 | F8: =MIN(C32:C95) -> 51.827 | G8: =AVERAGE(C32:C98) -> 51.827 | H8: =G8-F8 -> 0 | I8: 0.00064814815 | J8: =I8 -> 0.00064814815 | K8: =J8 -> 0.00064814815 | L8: 57.997
A9: 2 | B9: Фортуна Таня | D9: =COUNTA(D32:D96)+D8+1 -> 2 | E9: =COUNTA(D32:D96)+1 -> 1 | I9: 0.0014351852 | J9: =I9-I8 -> 0.00078703704 | K9: =J9 -> 0.00078703704 | L9: 59.517
A10: 3 | B10: Шутка Виталий | D10: =COUNTA(E32:E96)+D9+1 -> 51 | E10: =COUNTA(E32:E96)+1 -> 49 | F10: =MIN(E32:E95) -> 42.851 | G10: =AVERAGE(E32:E98) -> 43.163958 | H10: =G10-F10 -> 0.31295833 | I10: 0.025983796 | J10: =I10-I9 -> 0.024548611 | K10: =J10+K8 -> 0.025196759 | L10: 936.936
B11: Компенсационный пит | I11: 0.036284722 | J11: =I11-I10 -> 0.010300926
A12: 4 | B12: Фортуна Таня | C12: 10 | D12: =COUNTA(F32:F96)+D10+1 -> 68 | E12: =COUNTA(F32:F96)+1 -> 17 | F12: =MIN(F32:F95) -> 42.632 | G12: =AVERAGE(F32:F98) -> 43.007812 | H12: =G12-F12 -> 0.3758125 | I12: 0.044791667 | J12: =I12-I11 -> 0.0085069444 | K12: =J12+K9 -> 0.0092939815 | L12: 59.726
A13: 5 | B13: Шутка Виталий | D13: =COUNTA(G32:G96)+D12+1 -> 74 | E13: =COUNTA(G32:G96)+1 -> 6 | F13: =MIN(G32:G95) -> 43.261 | G13: =AVERAGE(G32:G98) -> 43.3616 | H13: =G13-F13 -> 0.1006 | I13: 0.047997685 | J13: =I13-I12 -> 0.0032060185 | K13: =J13+K10 -> 0.028402778 | L13: 56.261
A14: 6 | B14: Фортуна Таня | D14: =COUNTA(H32:H96)+D13+1 -> 99 | E14: =COUNTA(H32:H96)+1 -> 25 | F14: =MIN(H32:H95) -> 42.421 | G14: =AVERAGE(H32:H98) -> 42.771917 | H14: =G14-F14 -> 0.35091667 | I14: 0.060520833 | J14: =I14-I13 -> 0.012523148 | K14: =J14+K12 -> 0.02181713 | L14: 1017.898
B15: Компенсационный пит | I15: 0.071759259 | J15: =I15-I14 -> 0.011238426
A16: 7 | B16: Фортуна Таня | C16: 1 | D16: =COUNTA(I32:I96)+D14+1 -> 126 | E16: =COUNTA(I32:I96)+1 -> 27 | F16: =MIN(I32:I95) -> 42.104 | G16: =AVERAGE(I32:I98) -> 42.467808 | H16: =G16-F16 -> 0.36380769 | I16: 0.085092593 | J16: =I16-I15 -> 0.013333333 | K16: =J16+K14 -> 0.035150463 | L16: 60.747
A17: 8 | B17: Шутка Виталий | D17: =COUNTA(J32:J96)+D16+1 -> 127 | E17: =COUNTA(J32:J96)+1 -> 1 | I17: 0.085787037 | J17: =I17-I16 -> 0.00069444444 | K17: =J17+K13 -> 0.029097222 | L17: 56.121
A18: 9 | B18: Фортуна Таня | D18: =COUNTA(K32:K96)+D17+1 -> 153 | E18: =COUNTA(K32:K96)+1 -> 26 | F18: =MIN(K32:K95) -> 42.066 | G18: =AVERAGE(K32:K98) -> 42.37548 | H18: =G18-F18 -> 0.30948 | I18: 0.09869213 | J18: =I18-I17 -> 0.012905093 | K18: =J18+K16 -> 0.048055556 | L18: 945.376
B19: Компенсационный пит | I19: 0.10908565 | J19: =I19-I18 -> 0.010393519
A20: 10 | B20: Шутка Виталий | C20: 13 | D20: =COUNTA(L32:L96)+D18+1 -> 190 | E20: =COUNTA(L32:L96)+1 -> 37 | F20: =MIN(L32:L95) -> 42.168 | G20: =AVERAGE(L32:L98) -> 42.820722 | H20: =G20-F20 -> 0.65272222 | I20: 0.12818287 | J20: =I20-I19 -> 0.019097222 | K20: =J20+K17 -> 0.048194444 | L20: 56.964
A21: 11 | B21: Фортуна Таня | D21: =COUNTA(M32:M96)+D20+1 -> 193 | E21: =COUNTA(M32:M96)+1 -> 3 | F21: =MIN(M32:M95) -> 42.704 | G21: =AVERAGE(M32:M98) -> 42.725 | H21: =G21-F21 -> 0.021 | I21: 0.12982639 | J21: =I21-I20 -> 0.0016435185 | K21: =J21+K18 -> 0.049699074 | L21: 58.331
A22: 12 | B22: Шутка Виталий | C22: 2 | D22: =COUNTA(N32:N96)+1+D21 -> 197 | E22: =COUNTA(N32:N96)+1 -> 4 | F22: =MIN(N32:N95) -> 42.515 | G22: =AVERAGE(N32:N98) -> 42.630667 | H22: =G22-F22 -> 0.11566667 | I22: 0.13196759 | J22: =I22-I21 -> 0.0021412037 | K22: =J22+K20 -> 0.050335648 | L22: 883.298
B23: Компенсационный пит | I23: 0.14165509 | J23: =I23-I22 -> 0.0096875 | M23: -62 | N23: ПОЛОМКА
A24: 13 | B24: Шутка Виталий | C24: 3 | D24: =COUNTA(O32:O96)+D22+1 -> 214 | E24: =COUNTA(N32:N96)+1 -> 4 | F24: =MIN(O32:O95) -> 42.36 | G24: =AVERAGE(O32:O98) -> 42.630938 | H24: =G24-F24 -> 0.2709375 | I24: 0.15010417 | J24: =I24-I23 -> 0.0084490741 | K24: =J24+K22 -> 0.058784722 | L24: 56.216
A25: 14 | B25: Фортуна Таня | D25: =COUNTA(P32:P96)+D24+1 -> 246 | E25: =COUNTA(P32:P96)+1 -> 32 | F25: =MIN(P32:P95) -> 41.914 | G25: =AVERAGE(P32:P98) -> 42.231968 | H25: =G25-F25 -> 0.31796774 | I25: 0.16590278 | J25: =I25-I24 -> 0.015798611 | K25: =J25+K21 -> 0.065497685 | L25: 58.561
A26: Финиш | B26: Шутка Виталий | D26: =COUNTA(Q32:Q96)+D25+1 -> 248 | E26: =COUNTA(Q32:Q96)+1 -> 2 | F26: =MIN(Q32:Q95) -> 42.74 | G26: =AVERAGE(Q32:Q98) -> 42.74 | H26: =G26-F26 -> 0 | I26: ='Общие результаты'!G6 -> 4:00:12 | J26: =I26-I25 -> 0.00090277778 | K26: =J26+K24 -> 0.0596875
F27: =AVERAGE(F8,F10,F13,F17,F20,F22,F24,F26) -> 43.960286 | G27: =AVERAGE(C32:C61,E32:E61,G32:G61,J32:J62,L32:L62,N32:N64,O32:O64,Q32:Q64) -> 43.04323 | H27: =AVERAGE(H8,H10,H13,H17,H20,H22,H24,H26) -> 0.20755496 | I27: Виталик
F28: =AVERAGE(F9,F12,F14,F16,F18,F21,F25) -> 42.306833 | G28: =AVERAGE(D32:D61,F32:F61,H32:H61,I32:I62,K32:K62,M32:M64,P32:P64) -> 42.522919 | H28: =AVERAGE(H9,H12,H14,H16,H18,H21,H25) -> 0.28983077 | I28: Таня
F29: =AVERAGE(F8:F26) -> 43.197154 | G29: =AVERAGE(C32:Q83) -> 42.767607 | H29: =AVERAGE(H8:H26) -> 0.24552841
C31: =B8 -> Шутка Виталий | D31: =B9 -> Фортуна Таня | E31: =B10 -> Шутка Виталий | F31: =B12 -> Фортуна Таня | G31: =B13 -> Шутка Виталий | H31: =B14 -> Фортуна Таня | I31: =B16 -> Фортуна Таня | J31: =B17 -> Шутка Виталий | K31: =B18 -> Фортуна Таня | L31: =B20 -> Шутка Виталий | M31: =B21 -> Фортуна Таня | N31: =B22 -> Шутка Виталий | O31: =B24 -> Шутка Виталий | P31: =B25 -> Фортуна Таня | Q31: =B26 -> Шутка Виталий
B32: 1 | C32: 51.827 | E32: 43.358 | F32: 43.36 | G32: 43.51 | H32: 42.865 | I32: 43.017 | K32: 42.242 | L32: 44.616 | M32: 42.746 | N32: 42.515 | O32: 43.11 | P32: 42.503 | Q32: 42.74
B33: 2 | E33: 43.121 | F33: 42.821 | G33: 43.346 | H33: 42.959 | I33: 42.548 | K33: 42.197 | L33: 43.869 | M33: 42.704 | N33: 42.608 | O33: 42.948 | P33: 42.402
B34: 3 | E34: 43.108 | F34: 42.827 | G34: 43.373 | H34: 42.575 | I34: 42.395 | K34: 43.839 | L34: 43.299 | N34: 42.769 | O34: 42.862 | P34: 42.317
B35: 4 | E35: 43.181 | F35: 42.705 | G35: 43.261 | H35: 42.488 | I35: 42.434 | K35: 42.591 | L35: 44.082 | O35: 42.65 | P35: 42.121
B36: 5 | E36: 43.03 | F36: 42.914 | G36: 43.318 | H36: 43.298 | I36: 42.753 | K36: 42.209 | L36: 44.059 | O36: 42.572 | P36: 42.43
B37: 6 | E37: 43.021 | F37: 42.828 | H37: 42.712 | I37: 43.033 | K37: 42.283 | L37: 43.966 | O37: 42.36 | P37: 42.284
B38: 7 | E38: 43.127 | F38: 42.864 | H38: 42.421 | I38: 42.273 | K38: 42.272 | L38: =102.71-60 -> 42.71 | O38: 42.711 | P38: 42.05
B39: 8 | E39: 42.998 | F39: 42.839 | H39: 42.601 | I39: 42.319 | K39: 42.066 | L39: 43.387 | O39: 42.459 | P39: 42.13
B40: 9 | E40: 43.015 | F40: 42.654 | H40: 42.583 | I40: 42.246 | K40: 42.096 | L40: 43.06 | O40: 42.683 | P40: 42.211
B41: 10 | E41: 42.979 | F41: 42.892 | H41: 42.584 | I41: 42.642 | K41: 42.079 | L41: 42.634 | O41: 42.758 | P41: 42.123
B42: 11 | E42: 43.779 | F42: 43.453 | H42: 42.58 | I42: 42.104 | K42: 42.251 | L42: 42.498 | O42: 42.394 | P42: 41.914
B43: 12 | E43: 43.145 | F43: 42.872 | H43: 42.682 | I43: 42.315 | K43: 42.275 | L43: 42.551 | O43: 42.514 | P43: 42.084
B44: 13 | E44: 43.264 | F44: 43.361 | H44: 42.569 | I44: 42.29 | K44: 42.202 | L44: 42.736 | O44: 42.376 | P44: 42.284
...

Sheet Flash UA
A2: Гонка "Эстафетный Марафон" 26.10.19
A4: Flash UA
A6: Обяза-тельные | B6: Пилот | C6: карт | D6: Круг | E6: кругов на отрезке | F6: Статистика по кругам | I6: Общее время гонки | J6: Время на трассе
F7: Лучший круг | G7: Среднее на отрезке | H7: стабильность | J7: отрезок | K7: всего у пилота | L7: Питы | M7: Штрафы/ бонусы (сек)
A8: 1 | B8: Шендрик Влад | C8: 3 | D8: =COUNTA(C32:C96) -> 28 | E8: =COUNTA(C32:C96) -> 28 | F8: =MIN(C32:C95) -> 41.805 | G8: =AVERAGE(C32:C98) -> 42.655429 | H8: =G8-F8 -> 0.85042857 | I8: 0.013877315 | J8: =I8 -> 0.013877315 | K8: =J8 -> 0.013877315 | L8: 58.043
A9: 2 | B9: Загорулько Ваня | D9: =COUNTA(D32:D96)+D8+1 -> 50 | E9: =COUNTA(D32:D96)+1 -> 22 | F9: =MIN(D32:D95) -> 42.915 | G9: =AVERAGE(D32:D98) -> 43.185524 | H9: =G9-F9 -> 0.27052381 | I9: 0.025046296 | J9: =I9-I8 -> 0.011168981 | K9: =J9 -> 0.011168981 | L9: 56.688
A10: 3 | B10: Шендрик Влад | D10: =COUNTA(E32:E96)+D9+1 -> 51 | E10: =COUNTA(E32:E96)+1 -> 1 | I10: 0.025706019 | J10: =I10-I9 -> 0.00065972222 | K10: =J10+K8 -> 0.014537037 | L10: 935.285
B11: Компенсационный пит | I11: 0.035972222 | J11: =I11-I10 -> 0.010266204
A12: 4 | B12: Шендрик Влад | C12: 4 | D12: =COUNTA(F32:F96)+D10+1 -> 58 | E12: =COUNTA(F32:F96)+1 -> 7 | F12: =MIN(F32:F95) -> 42.3 | G12: =AVERAGE(F32:F98) -> 42.603333 | H12: =G12-F12 -> 0.30333333 | I12: 0.039490741 | J12: =I12-I11 -> 0.0035185185 | K12: =J12+K10 -> 0.018055556 | L12: 57.931
A13: 5 | B13: Загорулько Ваня | D13: =COUNTA(G32:G96)+D12+1 -> 92 | E13: =COUNTA(G32:G96)+1 -> 34 | F13: =MIN(G32:G95) -> 42.952 | G13: =AVERAGE(G32:G98) -> 43.301697 | H13: =G13-F13 -> 0.34969697 | I13: 0.056701389 | J13: =I13-I12 -> 0.017210648 | K13: =J13+K9 -> 0.02837963 | L13: 57.931
A14: 6 | B14: Шендрик Влад | D14: =COUNTA(H32:H96)+D13+1 -> 99 | E14: =COUNTA(H32:H96)+1 -> 7 | F14: =MIN(H32:H95) -> 42.031 | G14: =AVERAGE(H32:H98) -> 42.217 | H14: =G14-F14 -> 0.186 | I14: 0.060289352 | J14: =I14-I13 -> 0.003587963 | K14: =J14+K12 -> 0.021643519 | L14: 1018.239
B15: Компенсационный пит | I15: 0.071539352 | J15: =I15-I14 -> 0.01125
A16: 7 | B16: Шендрик Влад | C16: 5 | D16: =COUNTA(I32:I96)+D14+1 -> 107 | E16: =COUNTA(I32:I96)+1 -> 8 | F16: =MIN(I32:I95) -> 42.106 | G16: =AVERAGE(I32:I98) -> 42.403 | H16: =G16-F16 -> 0.297 | I16: 0.075520833 | J16: =I16-I15 -> 0.0039814815 | K16: =J16+K14 -> 0.025625 | L16: 58.747
A17: 8 | B17: Загорулько Ваня | D17: =COUNTA(J32:J96)+D16+1 -> 129 | E17: =COUNTA(J32:J96)+1 -> 22 | F17: =MIN(J32:J95) -> 43.093 | G17: =AVERAGE(J32:J98) -> 43.37381 | H17: =G17-F17 -> 0.28080952 | I17: 0.086747685 | J17: =I17-I16 -> 0.011226852 | K17: =J17+K13 -> 0.039606481 | L17: 57.919
A18: 9 | B18: Шендрик Влад | D18: =COUNTA(K32:K96)+D17+1 -> 153 | E18: =COUNTA(K32:K96)+1 -> 24 | F18: =MIN(K32:K95) -> 41.844 | G18: =AVERAGE(K32:K98) -> 42.292522 | H18: =G18-F18 -> 0.44852174 | I18: 0.098657407 | J18: =I18-I17 -> 0.011909722 | K18: =J18+K16 -> 0.037534722 | L18: 944.531
B19: Компенсационный пит | I19: 0.10903935 | J19: =I19-I18 -> 0.010381944
A20: 10 | B20: Шендрик Влад | C20: 6 | D20: =COUNTA(L32:L96)+D18+1 -> 161 | E20: =COUNTA(L32:L96)+1 -> 8 | F20: =MIN(L32:L95) -> 41.719 | G20: =AVERAGE(L32:L98) -> 42.269286 | H20: =G20-F20 -> 0.55028571 | I20: 0.11302083 | J20: =I20-I19 -> 0.0039814815 | K20: =J20+K18 -> 0.041516204 | L20: 57.419
A21: 11 | B21: Загорулько Ваня | D21: =COUNTA(M32:M96)+D20+1 -> 175 | E21: =COUNTA(M32:M96)+1 -> 14 | F21: =MIN(M32:M95) -> 43.284 | G21: =AVERAGE(M32:M98) -> 43.651923 | H21: =G21-F21 -> 0.36792308 | I21: 0.12025463 | J21: =I21-I20 -> 0.0072337963 | K21: =J21+K17 -> 0.046840278 | L21: 57.005
A22: 12 | B22: Шендрик Влад | D22: =COUNTA(N32:N96)+1+D21 -> 199 | E22: =COUNTA(N32:N96)+1 -> 24 | F22: =MIN(N32:N95) -> 41.81 | G22: =AVERAGE(N32:N98) -> 42.108043 | H22: =G22-F22 -> 0.29804348 | I22: 0.13210648 | J22: =I22-I21 -> 0.011851852 | K22: =J22+K20 -> 0.053368056 | L22: 945.554
B23: Компенсационный пит | I23: 0.14251157 | J23: =I23-I22 -> 0.010405093
A24: 13 | B24: Шендрик Влад | C24: 7 | D24: =COUNTA(O32:O96)+D22+1 -> 207 | E24: =COUNTA(N32:N96)+1 -> 24 | F24: =MIN(O32:O95) -> 42.203 | G24: =AVERAGE(O32:O98) -> 42.556143 | H24: =G24-F24 -> 0.35314286 | I24: 0.1465162 | J24: =I24-I23 -> 0.0040046296 | K24: =J24+K22 -> 0.057372685 | L24: 57.101
A25: 14 | B25: Загорулько Ваня | D25: =COUNTA(P32:P96)+D24+1 -> 227 | E25: =COUNTA(P32:P96)+1 -> 20 | F25: =MIN(P32:P95) -> 42.882 | G25: =AVERAGE(P32:P98) -> 43.342 | H25: =G25-F25 -> 0.46 | I25: 0.15671296 | J25: =I25-I24 -> 0.010196759 | K25: =J25+K21 -> 0.057037037 | L25: 55.961
A26: Финиш | B26: Шендрик Влад | D26: =COUNTA(Q32:Q96)+D25+1 -> 248 | E26: =COUNTA(Q32:Q96)+1 -> 21 | F26: =MIN(Q32:Q95) -> 41.981 | G26: =AVERAGE(Q32:Q98) -> 42.26685 | H26: =G26-F26 -> 0.28585 | I26: ='Общие результаты'!G6 -> 4:00:12 | J26: =I26-I25 -> 0.010092593 | K26: =J26+K24 -> 0.067465278
F27: =AVERAGE(F8,F10,F12,F14,F16,F18,F20,F22,F24,F26) -> 41.977667 | G27: =AVERAGE(C32:C61,E32:E61,F32:F61,H32:H64,I32:I62,K32:K64,L32:L62,N32:N64,O32:O64,Q32:Q64) -> 42.365535 | H27: =AVERAGE(H8,H10,H12,H14,H16,H18,H20,H22,H24,H26) -> 0.39695619 | I27: Влад
F28: =AVERAGE(F9,F13,F17,F21,F25) -> 43.0252 | G28: =AVERAGE(D32:D61,G32:G61,J32:J62,M32:M64,P32:P64) -> 43.346048 | H28: =AVERAGE(H9,H13,H17,H21,H25) -> 0.34579068 | I28: Ваня
F29: =AVERAGE(F8:F26) -> 42.351786 | G29: =AVERAGE(C32:Q73) -> 42.812385 | H29: =AVERAGE(H8:H26) -> 0.37868279
C31: =B8 -> Шендрик Влад | D31: =B9 -> Загорулько Ваня | E31: =B10 -> Шендрик Влад | F31: =B12 -> Шендрик Влад | G31: =B13 -> Загорулько Ваня | H31: =B14 -> Шендрик Влад | I31: =B16 -> Шендрик Влад | J31: =B17 -> Загорулько Ваня | K31: =B18 -> Шендрик Влад | L31: =B20 -> Шендрик Влад | M31: =B21 -> Загорулько Ваня | N31: =B22 -> Шендрик Влад | O31: =B24 -> Шендрик Влад | P31: =B25 -> Загорулько Ваня | Q31: =B26 -> Шендрик Влад
B32: 1 | C32: 48.57 | D32: 43.061 | F32: 42.954 | G32: 43.33 | H32: 42.459 | I32: 43.027 | J32: 43.331 | K32: 44.299 | L32: 41.719 | M32: 44.42 | N32: 42.22 | O32: 43.038 | P32: 43.604 | Q32: 42.883
B33: 2 | C33: 43.343 | D33: 43.936 | F33: 42.844 | G33: 43.732 | H33: 42.079 | I33: 42.53 | J33: 43.179 | K33: 43.289 | L33: 42.516 | M33: 43.574 | N33: 42.208 | O33: 42.744 | P33: 43.293 | Q33: 42.264
B34: 3 | C34: 44.841 | D34: 43.252 | F34: 42.553 | G34: 43.356 | H34: 42.031 | I34: 42.468 | J34: 43.425 | K34: 42.192 | L34: 42.226 | M34: 43.4 | N34: 42.29 | O34: 43.075 | P34: 43.67 | Q34: 42.165
B35: 4 | C35: 43.72 | D35: 43.402 | F35: 42.3 | G35: 44.321 | H35: 42.341 | I35: 42.139 | J35: 43.591 | K35: 42.305 | L35: 42.704 | M35: 44.356 | N35: 42.175 | O35: 42.203 | P35: 43.151 | Q35: 42.088
B36: 5 | C36: 45.135 | D36: 43.139 | F36: 42.384 | G36: 43.363 | H36: 42.216 | I36: 42.203 | J36: 43.964 | K36: 42.295 | L36: 42.334 | M36: 43.455 | N36: 42.018 | O36: 42.288 | P36: 43.459 | Q36: 42.172
B37: 6 | C37: 42.786 | D37: 43.312 | F37: 42.585 | G37: 43.353 | H37: 42.176 | I37: 42.106 | J37: 43.192 | K37: 41.981 | L37: 42.119 | M37: 43.42 | N37: 42.063 | O37: 42.253 | P37: 43.262 | Q37: 42.068
B38: 7 | C38: 42.509 | D38: 43.041 | G38: 43.709 | I38: 42.348 | J38: 43.486 | K38: 42.154 | L38: 42.267 | M38: 43.284 | N38: 42.11 | O38: 42.292 | P38: 43.438 | Q38: 42.056
B39: 8 | C39: 42.41 | D39: 43.185 | G39: 43.311 | J39: 43.574 | K39: 42.347 | M39: 43.52 | N39: 41.972 | P39: 43.363 | Q39: 42.865
B40: 9 | C40: 42.043 | D40: 43.503 | G40: 43.223 | J40: 43.093 | K40: 42.174 | M40: 43.598 | N40: 41.986 | P40: 43.888 | Q40: 41.981
B41: 10 | C41: 42.187 | D41: 43.079 | G41: 43.01 | J41: 43.499 | K41: 42.132 | M41: 43.431 | N41: 42.07 | P41: 43.242 | Q41: 42.504
B42: 11 | C42: 41.983 | D42: 43.008 | G42: 43.052 | J42: 43.122 | K42: 42.119 | M42: 43.329 | N42: 41.868 | P42: 43.151 | Q42: 42.649
B43: 12 | C43: 42.009 | D43: 43.034 | G43: 43.199 | J43: 43.311 | K43: 41.844 | M43: 44.2 | N43: 41.81 | P43: 42.924 | Q43: 42.194
B44: 13 | C44: 41.914 | D44: 42.947 | G44: 43.151 | J44: 43.335 | K44: 42.907 | M44: 43.488 | N44: 42.014 | P44: 44.044 | Q44: 42.12
...

Sheet Jaguar
A2: Гонка "Эстафетный Марафон" 26.10.19
A4: Jaguar
A6: Обяза-тельные | B6: Пилот | C6: карт | D6: Круг | E6: кругов на отрезке | F6: Статистика по кругам | I6: Общее время гонки | J6: Время на трассе
F7: Лучший круг | G7: Среднее на отрезке | H7: Стабильность | J7: отрезок | K7: всего у пилота | L7: Питы | M7: Штрафы/ бонусы (сек)
A8: 1 | B8: Онащук Максим | C8: 10 | D8: =COUNTA(C32:C96) -> 18 | E8: =COUNTA(C32:C96) -> 18 | F8: =MIN(C32:C95) -> 42.933 | G8: =AVERAGE(C32:C98) -> 43.700222 | H8: =G8-F8 -> 0.76722222 | I8: 0.0091666667 | J8: =I8 -> 0.0091666667 | K8: =J8 -> 0.0091666667 | L8: 57.607
A9: 2 | B9: Лихошерст Леша | D9: =COUNTA(D32:D96)+D8+1 -> 48 | E9: =COUNTA(D32:D96)+1 -> 30 | F9: =MIN(D32:D95) -> 42.424 | G9: =AVERAGE(D32:D98) -> 42.674931 | H9: =G9-F9 -> 0.25093103 | I9: 0.024166667 | J9: =I9-I8 -> 0.015 | K9: =J9 -> 0.015 | L9: 57.356
A10: 3 | B10: Онащук Максим | D10: =COUNTA(E32:E96)+D9+1 -> 51 | E10: =COUNTA(E32:E96)+1 -> 3 | F10: =MIN(E32:E95) -> 43.034 | G10: =AVERAGE(E32:E98) -> 43.1695 | H10: =G10-F10 -> 0.1355 | I10: 0.025810185 | J10: =I10-I9 -> 0.0016435185 | K10: =J10+K8 -> 0.010810185 | L10: 936.955
B11: Компенсационный пит | I11: 0.036111111 | J11: =I11-I10 -> 0.010300926
A12: 4 | B12: Онащук Максим | C12: 1 | D12: =COUNTA(F32:F96)+D10+1 -> 84 | E12: =COUNTA(F32:F96)+1 -> 33 | F12: =MIN(F32:F95) -> 42.474 | G12: =AVERAGE(F32:F98) -> 42.708844 | H12: =G12-F12 -> 0.23484375 | I12: 0.052488426 | J12: =I12-I11 -> 0.016377315 | K12: =J12+K10 -> 0.0271875 | L12: 56.683
