Workbook

Sheet Общие_результаты
A1: Серия мини марафонов "Большие Гонки 2019", 13-й этап, 19.10.19
A2: Конфигурация № 3R
A4: Место в гонке | B4: Команда | C4: № в гонке | D4: Квала | F4: Гонка | I4: Лучший круг в гонке
D5: Время | E5: Место | F5: Круги | G5: Время/от лидера | H5: От места выше | I5: Время | J5: На круге
A6: 1 | B6: K44 | C6: 5 | D6: 41.9155 | E6: 7 | F6: 326 | G6: 4:00:25 | H6: - | I6: 41.632 | J6: 305
A7: 2 | B7: Kart Freedom | C7: 8 | D7: 41.834 | E7: 4 | F7: 326 | G7: =H7 -> 0.388 | H7: 0.388 | I7: 4.525 | J7: 311
A8: 3 | B8: ASS Racing Team | C8: 7 | D8: 41.7395 | E8: 1 | F8: 325 | G8: 1 круг | H8: 1 круг | I8: 41.642 | J8: 35
A9: 4 | B9: Hurricane RTU | C9: 1 | D9: 41.748 | E9: 2 | F9: 325 | G9: 1 круг | H9: 9.952 | I9: 41.623 | J9: 13
A10: 5 | B10: NFS Kyiv Legends | C10: 6 | D10: 41.8375 | E10: 5 | F10: 325 | G10: 1 круг | H10: 3.833 | I10: 41.821 | J10: 12
A11: 6 | B11: Fortuna Racing | C11: 2 | D11: 41.9325 | E11: 8 | F11: 325 | G11: 1 круг | H11: 4.783 | I11: 41.72 | J11: 12
A12: 7 | B12: Jaguar | C12: 4 | D12: 41.9135 | E12: 6 | F12: 325 | G12: 1 круг | H12: 12.5 | I12: 41.824 | J12: 230
A13: 8 | B13: Vpered ta Vgoru | C13: 9 | D13: 42.33 | E13: 10 | F13: 324 | G13: 2 круга | H13: 25 | I13: 41.818 | J13: 285
A14: 9 | B14: Flash | C14: 10 | D14: 41.7975 | E14: 3 | F14: 322 | G14: 4 круга | H14: 2 круга | I14: 41.982 | J14: 15
A15: 10 | B15: Buro 11 | C15: 3 | D15: 42.1445 | E15: 9 | F15: 318 | G15: 8 кругов | H15: 4 круга | I15: 42.22 | J15: 11

Sheet Регистрация
A1: Серия мини марафонов "Большие Гонки 2019", 8-й этап, 27.07.19
A3: Регистрационная форма
AF4: 4ч
A5: № в гонке | B5: Команда | C5: Пилот | D5: № | E5: Вес | F5: Бонус | G5: Квалификация | Z5: 3ч | AJ5: 2 ел
G6: карт | H6: Время | I6: бонус | J6: Итого | K6: Среднее | L6: Место | M6: 4 | N6: бонусы за вес | Z6: 2 | AA6: 1 | AB6: кол | AC6: бон | AD6: 1 | AE6: 2 | AF6: бон | AG6: уч | AH6: 2 уч | AI6: 3 уч | AJ6: 1из2 | AK6: 2из2/3v3 | AL6: 1из3 | AM6: 2из3
A7: 1 | B7: Hurricane Racing team | C7: Стоцкий Андрей | D7: 1-1 | E7: 65.5 | F7: =IF(M6=3,AC7,AF7) -> 0 | G7: 4 | H7: 41.682 | I7: =IF(E7<84.9,0,IF(E7<87.4,0.1,IF(E7<89.9,0.15,IF(E7<92.4,0.2,IF(E7<94.9,0.25,IF(E7<97.4,0.3,IF(E7<99.9,0.35,0.4))))))) -> 0 | J7: =H7-I7 -> 41.682 | K7: =AVERAGE(J7:J8) -> 41.748 | L7: =_xlfn.RANK.EQ(K7,K7:K36,1) -> 2 | M7: кв | N7: 0.05 | O7: 0.1 | P7: 0.15 | Q7: 0.2 | R7: 0.25 | S7: 0.3 | T7: 0.35 | U7: =N7*8 -> 0.4 | Z7: =AVERAGE(E7:E9) -> 66.5 | AA7: =IF(E7>84.9,E7,E8) -> 67.5 | AB7: =COUNTIF(E7:E9,">84.9") -> 0 | AC7: =IF(AB7=1,AD7,AE7) -> 0 | AD7: =IF(AA7<84.9,0,IF(AA7<87.4,9,IF(AA7<89.9,13.5,IF(AA7<92.4,18,IF(AA7<94.9,22.5,IF(AA7<97.4,27,IF(AA7<99.9,31.5,36))))))) -> 0 | AE7: =IF(Z7<84.9,0,IF(Z7<87.4,18,IF(Z7<89.9,27,IF(Z7<92.4,36,IF(Z7<94.9,45,IF(Z7<97.4,54,IF(Z7<99.9,63,72))))))) -> 0 | AF7: =IF(AG7=2,AH7,AI7) -> 0 | AG7: =COUNTIF(E7:E9,">1") -> 2 | AH7: =IF(AB7=1,AJ7,AK7) -> 0 | AI7: =IF(AB7=1,AL7,IF(AB7=2,AM7,AK7)) -> 0 | AJ7: =IF(AA7<84.9,0,IF(AA7<87.4,12,IF(AA7<89.9,18,IF(AA7<92.4,24,IF(AA7<94.9,30,IF(AA7<97.4,36,IF(AA7<99.9,42,48))))))) -> 0 | AK7: =IF(AA7<84.9,0,IF(AA7<87.4,24,IF(AA7<89.9,36,IF(AA7<92.4,48,IF(AA7<94.9,60,IF(AA7<97.4,72,IF(AA7<99.9,84,96))))))) -> 0 | AL7: =IF(AN7<84.9,0,IF(AN7<87.4,8,IF(AN7<89.9,12,IF(AN7<92.4,16,IF(AN7<94.9,20,IF(AN7<97.4,24,IF(AN7<99.9,28,32))))))) -> 0 | AM7: =IF(AO7<84.9,0,IF(AO7<87.4,16,IF(AO7<89.9,24,IF(AO7<92.4,32,IF(AO7<94.9,40,IF(AO7<97.4,48,IF(AO7<99.9,56,64))))))) -> 0 | AN7: =IF(E7>84.9,E7,IF(E8>84.9,E8,E9)) -> 0 | AO7: =(SUM(E7:E9)-MIN(E7:E9))/2 -> 33.75
C8: Хавило Дима | D8: 1-2 | E8: 67.5 | G8: 3 | H8: 41.814 | I8: =IF(E8<84.9,0,IF(E8<87.4,0.1,IF(E8<89.9,0.15,IF(E8<92.4,0.2,IF(E8<94.9,0.25,IF(E8<97.4,0.3,IF(E8<99.9,0.35,0.4))))))) -> 0 | J8: =H8-I8 -> 41.814 | M8: 3 часа | N8: =1.5*3 -> 4.5 | O8: =1.5*3*2 -> 9 | P8: =1.5*3*3 -> 13.5 | Q8: =1.5*3*4 -> 18 | R8: =1.5*3*5 -> 22.5 | S8: =1.5*3*6 -> 27 | T8: =1.5*3*7 -> 31.5 | U8: =1.5*3*8 -> 36 | V8: 1 пилот
D9: 1-3 | I9: =IF(E9<84.9,0,IF(E9<87.4,0.1,IF(E9<89.9,0.15,IF(E9<92.4,0.2,IF(E9<94.9,0.25,IF(E9<97.4,0.3,IF(E9<99.9,0.35,0.4))))))) -> 0 | J9: =H9-I9 -> 0 | N9: =3*3 -> 9 | O9: =3*3*2 -> 18 | P9: =3*3*3 -> 27 | Q9: =3*3*4 -> 36 | R9: =3*3*5 -> 45 | S9: =3*3*6 -> 54 | T9: =3*3*7 -> 63 | U9: =3*3*8 -> 72 | V9: 2 пилота
A10: 2 | B10: Fortuna Racing | C10: Фортуна Таня | D10: 2-1 | E10: 80 | F10: =IF(M6=3,AC10,AF10) -> 0 | G10: 5 | H10: 41.812 | I10: =IF(E10<84.9,0,IF(E10<87.4,0.1,IF(E10<89.9,0.15,IF(E10<92.4,0.2,IF(E10<94.9,0.25,IF(E10<97.4,0.3,IF(E10<99.9,0.35,0.4))))))) -> 0 | J10: =H10-I10 -> 41.812 | K10: =AVERAGE(J10:J11) -> 41.9325 | L10: =_xlfn.RANK.EQ(K10,K7:K36,1) -> 8 | M10: вес | N10: 82.5 | O10: 85 | P10: 87.5 | Q10: 90 | R10: 92.5 | S10: 95 | T10: 97.5 | U10: 100 | Z10: =AVERAGE(E10:E12) -> 80.55 | AA10: =IF(E10>84.9,E10,E11) -> 81.1 | AB10: =COUNTIF(E10:E12,">84.9") -> 0 | AC10: =IF(AB10=1,AD10,AE10) -> 0 | AD10: =IF(AA10<84.9,0,IF(AA10<87.4,9,IF(AA10<89.9,13.5,IF(AA10<92.4,18,IF(AA10<94.9,22.5,IF(AA10<97.4,27,IF(AA10<99.9,31.5,36))))))) -> 0 | AE10: =IF(Z10<84.9,0,IF(Z10<87.4,18,IF(Z10<89.9,27,IF(Z10<92.4,36,IF(Z10<94.9,45,IF(Z10<97.4,54,IF(Z10<99.9,63,72))))))) -> 0 | AF10: =IF(AG10=2,AH10,AI10) -> 0 | AG10: =COUNTIF(E10:E12,">1") -> 2 | AH10: =IF(AB10=1,AJ10,AK10) -> 0 | AI10: =IF(AB10=1,AL10,IF(AB10=2,AM10,AK10)) -> 0 | AJ10: =IF(AA10<84.9,0,IF(AA10<87.4,12,IF(AA10<89.9,18,IF(AA10<92.4,24,IF(AA10<94.9,30,IF(AA10<97.4,36,IF(AA10<99.9,42,48))))))) -> 0 | AK10: =IF(AA10<84.9,0,IF(AA10<87.4,24,IF(AA10<89.9,36,IF(AA10<92.4,48,IF(AA10<94.9,60,IF(AA10<97.4,72,IF(AA10<99.9,84,96))))))) -> 0 | AL10: =IF(AN10<84.9,0,IF(AN10<87.4,8,IF(AN10<89.9,12,IF(AN10<92.4,16,IF(AN10<94.9,20,IF(AN10<97.4,24,IF(AN10<99.9,28,32))))))) -> 0 | AM10: =IF(AO10<84.9,0,IF(AO10<87.4,16,IF(AO10<89.9,24,IF(AO10<92.4,32,IF(AO10<94.9,40,IF(AO10<97.4,48,IF(AO10<99.9,56,64))))))) -> 0 | AN10: =IF(E10>84.9,E10,IF(E11>84.9,E11,E12)) -> 0 | AO10: =(SUM(E10:E12)-MIN(E10:E12))/2 -> 40.55
C11: Шутка Виталий | D11: 2-2 | E11: 81.1 | G11: 4 | H11: 42.053 | I11: =IF(E11<84.9,0,IF(E11<87.4,0.1,IF(E11<89.9,0.15,IF(E11<92.4,0.2,IF(E11<94.9,0.25,IF(E11<97.4,0.3,IF(E11<99.9,0.35,0.4))))))) -> 0 | J11: =H11-I11 -> 42.053 | M11: 4 часа | N11: =1.5*4 -> 6 | O11: =1.5*4*2 -> 12 | P11: =1.5*4*3 -> 18 | Q11: =1.5*4*4 -> 24 | R11: =1.5*4*5 -> 30 | S11: =1.5*4*6 -> 36 | T11: =1.5*4*7 -> 42 | U11: =1.5*4*8 -> 48 | V11: 1 пилот | W11: 2 участника в команде
D12: 2-3 | I12: =IF(E12<84.9,0,IF(E12<87.4,0.1,IF(E12<89.9,0.15,IF(E12<92.4,0.2,IF(E12<94.9,0.25,IF(E12<97.4,0.3,IF(E12<99.9,0.35,0.4))))))) -> 0 | J12: =H12-I12 -> 0 | N12: =3*4 -> 12 | O12: =3*4*2 -> 24 | P12: =3*4*3 -> 36 | Q12: =3*4*4 -> 48 | R12: =3*4*5 -> 60 | S12: =3*4*6 -> 72 | T12: =3*4*7 -> 84 | U12: =3*4*8 -> 96 | V12: 2 пилота
A13: 3 | B13: Buro 11 | C13: Якусик Саша | D13: 3-1 | E13: 76.8 | F13: =IF(M6=3,AC13,AF13) -> 20 | G13: 5 | H13: 41.988 | I13: =IF(E13<84.9,0,IF(E13<87.4,0.1,IF(E13<89.9,0.15,IF(E13<92.4,0.2,IF(E13<94.9,0.25,IF(E13<97.4,0.3,IF(E13<99.9,0.35,0.4))))))) -> 0 | J13: =H13-I13 -> 41.988 | K13: =AVERAGE(J13,J15) -> 42.1445 | L13: =_xlfn.RANK.EQ(K13,K7:K36,1) -> 9 | N13: =1*4 -> 4 | O13: =1*4*2 -> 8 | P13: =1*4*3 -> 12 | Q13: =1*4*4 -> 16 | R13: =1*4*5 -> 20 | S13: =1*4*6 -> 24 | T13: =1*4*7 -> 28 | U13: =1*4*8 -> 32 | V13: 1 пилот | W13: 3 участника в команде | Z13: =AVERAGE(E13:E15) -> 85.233333 | AA13: =IF(E13>84.9,E13,E14) -> 84.9 | AB13: =COUNTIF(E13:E15,">84.9") -> 1 | AC13: =IF(AB13=1,AD13,AE13) -> 9 | AD13: =IF(AA13<84.9,0,IF(AA13<87.4,9,IF(AA13<89.9,13.5,IF(AA13<92.4,18,IF(AA13<94.9,22.5,IF(AA13<97.4,27,IF(AA13<99.9,31.5,36))))))) -> 9 | AE13: =IF(Z13<84.9,0,IF(Z13<87.4,18,IF(Z13<89.9,27,IF(Z13<92.4,36,IF(Z13<94.9,45,IF(Z13<97.4,54,IF(Z13<99.9,63,72))))))) -> 18 | AF13: =IF(AG13=2,AH13,AI13) -> 20 | AG13: =COUNTIF(E13:E15,">1") -> 3 | AH13: =IF(AB13=1,AJ13,AK13) -> 12 | AI13: =IF(AB13=1,AL13,IF(AB13=2,AM13,AK13)) -> 20 | AJ13: =IF(AA13<84.9,0,IF(AA13<87.4,12,IF(AA13<89.9,18,IF(AA13<92.4,24,IF(AA13<94.9,30,IF(AA13<97.4,36,IF(AA13<99.9,42,48))))))) -> 12 | AK13: =IF(AA13<84.9,0,IF(AA13<87.4,24,IF(AA13<89.9,36,IF(AA13<92.4,48,IF(AA13<94.9,60,IF(AA13<97.4,72,IF(AA13<99.9,84,96))))))) -> 24 | AL13: =IF(AN13<84.9,0,IF(AN13<87.4,8,IF(AN13<89.9,12,IF(AN13<92.4,16,IF(AN13<94.9,20,IF(AN13<97.4,24,IF(AN13<99.9,28,32))))))) -> 20 | AM13: =IF(AO13<84.9,0,IF(AO13<87.4,16,IF(AO13<89.9,24,IF(AO13<92.4,32,IF(AO13<94.9,40,IF(AO13<97.4,48,IF(AO13<99.9,56,64))))))) -> 24 | AN13: =IF(E13>84.9,E13,IF(E14>84.9,E14,E15)) -> 94 | AO13: =(SUM(E13:E15)-MIN(E13:E15))/2 -> 89.45
C14: Карлюк Марина | D14: 3-2 | E14: 84.9 | I14: =IF(E14<84.9,0,IF(E14<87.4,0.1,IF(E14<89.9,0.15,IF(E14<92.4,0.2,IF(E14<94.9,0.25,IF(E14<97.4,0.3,IF(E14<99.9,0.35,0.4))))))) -> 0.1 | J14: =H14-I14 -> -0.1 | N14: =2*4 -> 8 | O14: =2*4*2 -> 16 | P14: =2*4*3 -> 24 | Q14: =2*4*4 -> 32 | R14: =2*4*5 -> 40 | S14: =2*4*6 -> 48 | T14: =2*4*7 -> 56 | U14: =2*4*8 -> 64 | V14: 2 пилота
C15: Закалюк Женя | D15: 3-3 | E15: 94 | G15: 6 | H15: 42.551 | I15: =IF(E15<84.9,0,IF(E15<87.4,0.1,IF(E15<89.9,0.15,IF(E15<92.4,0.2,IF(E15<94.9,0.25,IF(E15<97.4,0.3,IF(E15<99.9,0.35,0.4))))))) -> 0.25 | J15: =H15-I15 -> 42.301 | N15: =3*4 -> 12 | O15: =3*4*2 -> 24 | P15: =3*4*3 -> 36 | Q15: =3*4*4 -> 48 | R15: =3*4*5 -> 60 | S15: =3*4*6 -> 72 | T15: =3*4*7 -> 84 | U15: =3*4*8 -> 96 | V15: 3 пилота
A16: 4 | B16: Jaguar | C16: Лихошерст Леша | D16: 4-1 | E16: 73.3 | F16: =IF(M6=3,AC16,AF16) -> 0 | G16: 7 | H16: 41.796 | I16: =IF(E16<84.9,0,IF(E16<87.4,0.1,IF(E16<89.9,0.15,IF(E16<92.4,0.2,IF(E16<94.9,0.25,IF(E16<97.4,0.3,IF(E16<99.9,0.35,0.4))))))) -> 0 | J16: =H16-I16 -> 41.796 | K16: =AVERAGE(J16:J17) -> 41.9135 | L16: =_xlfn.RANK.EQ(K16,K7:K36,1) -> 6 | Z16: =AVERAGE(E16:E18) -> 73 | AA16: =IF(E16>84.9,E16,E17) -> 72.7 | AB16: =COUNTIF(E16:E18,">84.9") -> 0 | AC16: =IF(AB16=1,AD16,AE16) -> 0 | AD16: =IF(AA16<84.9,0,IF(AA16<87.4,9,IF(AA16<89.9,13.5,IF(AA16<92.4,18,IF(AA16<94.9,22.5,IF(AA16<97.4,27,IF(AA16<99.9,31.5,36))))))) -> 0 | AE16: =IF(Z16<84.9,0,IF(Z16<87.4,18,IF(Z16<89.9,27,IF(Z16<92.4,36,IF(Z16<94.9,45,IF(Z16<97.4,54,IF(Z16<99.9,63,72))))))) -> 0 | AF16: =IF(AG16=2,AH16,AI16) -> 0 | AG16: =COUNTIF(E16:E18,">1") -> 2 | AH16: =IF(AB16=1,AJ16,AK16) -> 0 | AI16: =IF(AB16=1,AL16,IF(AB16=2,AM16,AK16)) -> 0 | AJ16: =IF(AA16<84.9,0,IF(AA16<87.4,12,IF(AA16<89.9,18,IF(AA16<92.4,24,IF(AA16<94.9,30,IF(AA16<97.4,36,IF(AA16<99.9,42,48))))))) -> 0 | AK16: =IF(AA16<84.9,0,IF(AA16<87.4,24,IF(AA16<89.9,36,IF(AA16<92.4,48,IF(AA16<94.9,60,IF(AA16<97.4,72,IF(AA16<99.9,84,96))))))) -> 0 | AL16: =IF(AN16<84.9,0,IF(AN16<87.4,8,IF(AN16<89.9,12,IF(AN16<92.4,16,IF(AN16<94.9,20,IF(AN16<97.4,24,IF(AN16<99.9,28,32))))))) -> 0 | AM16: =IF(AO16<84.9,0,IF(AO16<87.4,16,IF(AO16<89.9,24,IF(AO16<92.4,32,IF(AO16<94.9,40,IF(AO16<97.4,48,IF(AO16<99.9,56,64))))))) -> 0 | AN16: =IF(E16>84.9,E16,IF(E17>84.9,E17,E18)) -> 0 | AO16: =(SUM(E16:E18)-MIN(E16:E18))/2 -> 36.65
C17: Якусик Дима | D17: 4-2 | E17: 72.7 | G17: 8 | H17: 42.031 | I17: =IF(E17<84.9,0,IF(E17<87.4,0.1,IF(E17<89.9,0.15,IF(E17<92.4,0.2,IF(E17<94.9,0.25,IF(E17<97.4,0.3,IF(E17<99.9,0.35,0.4))))))) -> 0 | J17: =H17-I17 -> 42.031
D18: 4-3 | I18: =IF(E18<84.9,0,IF(E18<87.4,0.1,IF(E18<89.9,0.15,IF(E18<92.4,0.2,IF(E18<94.9,0.25,IF(E18<97.4,0.3,IF(E18<99.9,0.35,0.4))))))) -> 0 | J18: =H18-I18 -> 0
A19: 5 | B19: K44 | C19: Пикулин Паша | D19: 5-1 | E19: 77.5 | F19: =IF(M6=3,AC19,AF19) -> 12 | G19: 8 | H19: 42.18 | I19: =IF(E19<84.9,0,IF(E19<87.4,0.1,IF(E19<89.9,0.15,IF(E19<92.4,0.2,IF(E19<94.9,0.25,IF(E19<97.4,0.3,IF(E19<99.9,0.35,0.4))))))) -> 0 | J19: =H19-I19 -> 42.18 | K19: =AVERAGE(J19:J20) -> 41.9155 | L19: =_xlfn.RANK.EQ(K19,K7:K36,1) -> 7 | Z19: =AVERAGE(E19:E21) -> 82.266667 | AA19: =IF(E19>84.9,E19,E20) -> 81.8 | AB19: =COUNTIF(E19:E21,">84.9") -> 1 | AC19: =IF(AB19=1,AD19,AE19) -> 0 | AD19: =IF(AA19<84.9,0,IF(AA19<87.4,9,IF(AA19<89.9,13.5,IF(AA19<92.4,18,IF(AA19<94.9,22.5,IF(AA19<97.4,27,IF(AA19<99.9,31.5,36))))))) -> 0 | AE19: =IF(Z19<84.9,0,IF(Z19<87.4,18,IF(Z19<89.9,27,IF(Z19<92.4,36,IF(Z19<94.9,45,IF(Z19<97.4,54,IF(Z19<99.9,63,72))))))) -> 0 | AF19: =IF(AG19=2,AH19,AI19) -> 12 | AG19: =COUNTIF(E19:E21,">1") -> 3 | AH19: =IF(AB19=1,AJ19,AK19) -> 0 | AI19: =IF(AB19=1,AL19,IF(AB19=2,AM19,AK19)) -> 12 | AJ19: =IF(AA19<84.9,0,IF(AA19<87.4,12,IF(AA19<89.9,18,IF(AA19<92.4,24,IF(AA19<94.9,30,IF(AA19<97.4,36,IF(AA19<99.9,42,48))))))) -> 0 | AK19: =IF(AA19<84.9,0,IF(AA19<87.4,24,IF(AA19<89.9,36,IF(AA19<92.4,48,IF(AA19<94.9,60,IF(AA19<97.4,72,IF(AA19<99.9,84,96))))))) -> 0 | AL19: =IF(AN19<84.9,0,IF(AN19<87.4,8,IF(AN19<89.9,12,IF(AN19<92.4,16,IF(AN19<94.9,20,IF(AN19<97.4,24,IF(AN19<99.9,28,32))))))) -> 12 | AM19: =IF(AO19<84.9,0,IF(AO19<87.4,16,IF(AO19<89.9,24,IF(AO19<92.4,32,IF(AO19<94.9,40,IF(AO19<97.4,48,IF(AO19<99.9,56,64))))))) -> 0 | AN19: =IF(E19>84.9,E19,IF(E20>84.9,E20,E21)) -> 87.5 | AO19: =(SUM(E19:E21)-MIN(E19:E21))/2 -> 84.65
C20: Лысенкий Денис | D20: 5-2 | E20: 81.8 | G20: 9 | H20: 41.651 | I20: =IF(E20<84.9,0,IF(E20<87.4,0.1,IF(E20<89.9,0.15,IF(E20<92.4,0.2,IF(E20<94.9,0.25,IF(E20<97.4,0.3,IF(E20<99.9,0.35,0.4))))))) -> 0 | J20: =H20-I20 -> 41.651
C21: Тыщенко Миша | D21: 5-3 | E21: 87.5 | I21: =IF(E21<84.9,0,IF(E21<87.4,0.1,IF(E21<89.9,0.15,IF(E21<92.4,0.2,IF(E21<94.9,0.25,IF(E21<97.4,0.3,IF(E21<99.9,0.35,0.4))))))) -> 0.15 | J21: =H21-I21 -> -0.15
A22: 6 | B22: NFS Kyiv Legends | C22: Резанко Оля | D22: 6-1 | E22: 75 | F22: =IF(M6=3,AC22,AF22) -> 0 | G22: 9 | H22: 41.912 | I22: =IF(E22<84.9,0,IF(E22<87.4,0.1,IF(E22<89.9,0.15,IF(E22<92.4,0.2,IF(E22<94.9,0.25,IF(E22<97.4,0.3,IF(E22<99.9,0.35,0.4))))))) -> 0 | J22: =H22-I22 -> 41.912 | K22: =AVERAGE(J22:J23) -> 41.8375 | L22: =_xlfn.RANK.EQ(K22,K7:K36,1) -> 5 | Z22: =AVERAGE(E22:E24) -> 74 | AA22: =IF(E22>84.9,E22,E23) -> 73 | AB22: =COUNTIF(E22:E24,">84.9") -> 0 | AC22: =IF(AB22=1,AD22,AE22) -> 0 | AD22: =IF(AA22<84.9,0,IF(AA22<87.4,9,IF(AA22<89.9,13.5,IF(AA22<92.4,18,IF(AA22<94.9,22.5,IF(AA22<97.4,27,IF(AA22<99.9,31.5,36))))))) -> 0 | AE22: =IF(Z22<84.9,0,IF(Z22<87.4,18,IF(Z22<89.9,27,IF(Z22<92.4,36,IF(Z22<94.9,45,IF(Z22<97.4,54,IF(Z22<99.9,63,72))))))) -> 0 | AF22: =IF(AG22=2,AH22,AI22) -> 0 | AG22: =COUNTIF(E22:E24,">1") -> 2 | AH22: =IF(AB22=1,AJ22,AK22) -> 0 | AI22: =IF(AB22=1,AL22,IF(AB22=2,AM22,AK22)) -> 0 | AJ22: =IF(AA22<84.9,0,IF(AA22<87.4,12,IF(AA22<89.9,18,IF(AA22<92.4,24,IF(AA22<94.9,30,IF(AA22<97.4,36,IF(AA22<99.9,42,48))))))) -> 0 | AK22: =IF(AA22<84.9,0,IF(AA22<87.4,24,IF(AA22<89.9,36,IF(AA22<92.4,48,IF(AA22<94.9,60,IF(AA22<97.4,72,IF(AA22<99.9,84,96))))))) -> 0 | AL22: =IF(AN22<84.9,0,IF(AN22<87.4,8,IF(AN22<89.9,12,IF(AN22<92.4,16,IF(AN22<94.9,20,IF(AN22<97.4,24,IF(AN22<99.9,28,32))))))) -> 0 | AM22: =IF(AO22<84.9,0,IF(AO22<87.4,16,IF(AO22<89.9,24,IF(AO22<92.4,32,IF(AO22<94.9,40,IF(AO22<97.4,48,IF(AO22<99.9,56,64))))))) -> 0 | AN22: =IF(E22>84.9,E22,IF(E23>84.9,E23,E24)) -> 0 | AO22: =(SUM(E22:E24)-MIN(E22:E24))/2 -> 37.5
C23: Гаврилюк Олег | D23: 6-2 | E23: 73 | G23: 10 | H23: 41.763 | I23: =IF(E23<84.9,0,IF(E23<87.4,0.1,IF(E23<89.9,0.15,IF(E23<92.4,0.2,IF(E23<94.9,0.25,IF(E23<97.4,0.3,IF(E23<99.9,0.35,0.4))))))) -> 0 | J23: =H23-I23 -> 41.763
D24: 6-3 | I24: =IF(E24<84.9,0,IF(E24<87.4,0.1,IF(E24<89.9,0.15,IF(E24<92.4,0.2,IF(E24<94.9,0.25,IF(E24<97.4,0.3,IF(E24<99.9,0.35,0.4))))))) -> 0 | J24: =H24-I24 -> 0
A25: 7 | B25: ASS-racing team | C25: Ткаченко Кирилл | D25: 7-1 | E25: 75.9 | F25: =IF(M6=3,AC25,AF25) -> 0 | G25: 11 | H25: 41.542 | I25: =IF(E25<84.9,0,IF(E25<87.4,0.1,IF(E25<89.9,0.15,IF(E25<92.4,0.2,IF(E25<94.9,0.25,IF(E25<97.4,0.3,IF(E25<99.9,0.35,0.4))))))) -> 0 | J25: =H25-I25 -> 41.542 | K25: =AVERAGE(J25:J26) -> 41.7395 | L25: =_xlfn.RANK.EQ(K25,K7:K39,1) -> 1 | Z25: =AVERAGE(E25:E27) -> 78.25 | AA25: =IF(E25>84.9,E25,E26) -> 80.6 | AB25: =COUNTIF(E25:E27,">84.9") -> 0 | AC25: =IF(AB25=1,AD25,AE25) -> 0 | AD25: =IF(AA25<84.9,0,IF(AA25<87.4,9,IF(AA25<89.9,13.5,IF(AA25<92.4,18,IF(AA25<94.9,22.5,IF(AA25<97.4,27,IF(AA25<99.9,31.5,36))))))) -> 0 | AE25: =IF(Z25<84.9,0,IF(Z25<87.4,18,IF(Z25<89.9,27,IF(Z25<92.4,36,IF(Z25<94.9,45,IF(Z25<97.4,54,IF(Z25<99.9,63,72))))))) -> 0 | AF25: =IF(AG25=2,AH25,AI25) -> 0 | AG25: =COUNTIF(E25:E27,">1") -> 2 | AH25: =IF(AB25=1,AJ25,AK25) -> 0 | AI25: =IF(AB25=1,AL25,IF(AB25=2,AM25,AK25)) -> 0 | AJ25: =IF(AA25<84.9,0,IF(AA25<87.4,12,IF(AA25<89.9,18,IF(AA25<92.4,24,IF(AA25<94.9,30,IF(AA25<97.4,36,IF(AA25<99.9,42,48))))))) -> 0 | AK25: =IF(AA25<84.9,0,IF(AA25<87.4,24,IF(AA25<89.9,36,IF(AA25<92.4,48,IF(AA25<94.9,60,IF(AA25<97.4,72,IF(AA25<99.9,84,96))))))) -> 0 | AL25: =IF(AN25<84.9,0,IF(AN25<87.4,8,IF(AN25<89.9,12,IF(AN25<92.4,16,IF(AN25<94.9,20,IF(AN25<97.4,24,IF(AN25<99.9,28,32))))))) -> 0 | AM25: =IF(AO25<84.9,0,IF(AO25<87.4,16,IF(AO25<89.9,24,IF(AO25<92.4,32,IF(AO25<94.9,40,IF(AO25<97.4,48,IF(AO25<99.9,56,64))))))) -> 0 | AN25: =IF(E25>84.9,E25,IF(E26>84.9,E26,E27)) -> 0 | AO25: =(SUM(E25:E27)-MIN(E25:E27))/2 -> 40.3
C26: Онащук Максим | D26: 7-2 | E26: 80.6 | G26: 10 | H26: 41.937 | I26: =IF(E26<84.9,0,IF(E26<87.4,0.1,IF(E26<89.9,0.15,IF(E26<92.4,0.2,IF(E26<94.9,0.25,IF(E26<97.4,0.3,IF(E26<99.9,0.35,0.4))))))) -> 0 | J26: =H26-I26 -> 41.937
D27: 7-3 | I27: =IF(E27<84.9,0,IF(E27<87.4,0.1,IF(E27<89.9,0.15,IF(E27<92.4,0.2,IF(E27<94.9,0.25,IF(E27<97.4,0.3,IF(E27<99.9,0.35,0.4))))))) -> 0 | J27: =H27-I27 -> 0
A28: 8 | B28: KartFreedom | C28: Наум | D28: 8-1 | E28: 79.5 | F28: =IF(M6=3,AC28,AF28) -> 0 | G28: 21 | H28: 41.712 | I28: =IF(E28<84.9,0,IF(E28<87.4,0.1,IF(E28<89.9,0.15,IF(E28<92.4,0.2,IF(E28<94.9,0.25,IF(E28<97.4,0.3,IF(E28<99.9,0.35,0.4))))))) -> 0 | J28: =H28-I28 -> 41.712 | K28: =AVERAGE(J28:J29) -> 41.834 | L28: =_xlfn.RANK.EQ(K28,K7:K36,1) -> 4 | Z28: =AVERAGE(E28:E30) -> 61.35 | AA28: =IF(E28>84.9,E28,E29) -> 43.2 | AB28: =COUNTIF(E28:E30,">84.9") -> 0 | AC28: =IF(AB28=1,AD28,AE28) -> 0 | AD28: =IF(AA28<84.9,0,IF(AA28<87.4,9,IF(AA28<89.9,13.5,IF(AA28<92.4,18,IF(AA28<94.9,22.5,IF(AA28<97.4,27,IF(AA28<99.9,31.5,36))))))) -> 0 | AE28: =IF(Z28<84.9,0,IF(Z28<87.4,18,IF(Z28<89.9,27,IF(Z28<92.4,36,IF(Z28<94.9,45,IF(Z28<97.4,54,IF(Z28<99.9,63,72))))))) -> 0 | AF28: =IF(AG28=2,AH28,AI28) -> 0 | AG28: =COUNTIF(E28:E30,">1") -> 2 | AH28: =IF(AB28=1,AJ28,AK28) -> 0 | AI28: =IF(AB28=1,AL28,IF(AB28=2,AM28,AK28)) -> 0 | AJ28: =IF(AA28<84.9,0,IF(AA28<87.4,12,IF(AA28<89.9,18,IF(AA28<92.4,24,IF(AA28<94.9,30,IF(AA28<97.4,36,IF(AA28<99.9,42,48))))))) -> 0 | AK28: =IF(AA28<84.9,0,IF(AA28<87.4,24,IF(AA28<89.9,36,IF(AA28<92.4,48,IF(AA28<94.9,60,IF(AA28<97.4,72,IF(AA28<99.9,84,96))))))) -> 0 | AL28: =IF(AN28<84.9,0,IF(AN28<87.4,8,IF(AN28<89.9,12,IF(AN28<92.4,16,IF(AN28<94.9,20,IF(AN28<97.4,24,IF(AN28<99.9,28,32))))))) -> 0 | AM28: =IF(AO28<84.9,0,IF(AO28<87.4,16,IF(AO28<89.9,24,IF(AO28<92.4,32,IF(AO28<94.9,40,IF(AO28<97.4,48,IF(AO28<99.9,56,64))))))) -> 0 | AN28: =IF(E28>84.9,E28,IF(E29>84.9,E29,E30)) -> 0 | AO28: =(SUM(E28:E30)-MIN(E28:E30))/2 -> 39.75
C29: Мифтахутдинов Ильяс | D29: 8-2 | E29: 43.2 | G29: 13 | H29: 41.956 | I29: =IF(E29<84.9,0,IF(E29<87.4,0.1,IF(E29<89.9,0.15,IF(E29<92.4,0.2,IF(E29<94.9,0.25,IF(E29<97.4,0.3,IF(E29<99.9,0.35,0.4))))))) -> 0 | J29: =H29-I29 -> 41.956
D30: 8-3 | I30: =IF(E30<84.9,0,IF(E30<87.4,0.1,IF(E30<89.9,0.15,IF(E30<92.4,0.2,IF(E30<94.9,0.25,IF(E30<97.4,0.3,IF(E30<99.9,0.35,0.4))))))) -> 0 | J30: =H30-I30 -> 0
A31: 9 | B31: Vpered ta vgory | C31: Манило Денис | D31: 9-1 | E31: 81 | F31: =IF(M6=3,AC31,AF31) -> 0 | G31: 69 | H31: 42.23 | I31: =IF(E31<84.9,0,IF(E31<87.4,0.1,IF(E31<89.9,0.15,IF(E31<92.4,0.2,IF(E31<94.9,0.25,IF(E31<97.4,0.3,IF(E31<99.9,0.35,0.4))))))) -> 0 | J31: =H31-I31 -> 42.23 | K31: =AVERAGE(J31:J32) -> 42.33 | L31: =_xlfn.RANK.EQ(K31,K7:K36,1) -> 10 | Z31: =AVERAGE(E31:E33) -> 78.25 | AA31: =IF(E31>84.9,E31,E32) -> 75.5 | AB31: =COUNTIF(E31:E33,">84.9") -> 0 | AC31: =IF(AB31=1,AD31,AE31) -> 0 | AD31: =IF(AA31<84.9,0,IF(AA31<87.4,9,IF(AA31<89.9,13.5,IF(AA31<92.4,18,IF(AA31<94.9,22.5,IF(AA31<97.4,27,IF(AA31<99.9,31.5,36))))))) -> 0 | AE31: =IF(Z31<84.9,0,IF(Z31<87.4,18,IF(Z31<89.9,27,IF(Z31<92.4,36,IF(Z31<94.9,45,IF(Z31<97.4,54,IF(Z31<99.9,63,72))))))) -> 0 | AF31: =IF(AG31=2,AH31,AI31) -> 0 | AG31: =COUNTIF(E31:E33,">1") -> 2 | AH31: =IF(AB31=1,AJ31,AK31) -> 0 | AI31: =IF(AB31=1,AL31,IF(AB31=2,AM31,AK31)) -> 0 | AJ31: =IF(AA31<84.9,0,IF(AA31<87.4,12,IF(AA31<89.9,18,IF(AA31<92.4,24,IF(AA31<94.9,30,IF(AA31<97.4,36,IF(AA31<99.9,42,48))))))) -> 0 | AK31: =IF(AA31<84.9,0,IF(AA31<87.4,24,IF(AA31<89.9,36,IF(AA31<92.4,48,IF(AA31<94.9,60,IF(AA31<97.4,72,IF(AA31<99.9,84,96))))))) -> 0 | AL31: =IF(AN31<84.9,0,IF(AN31<87.4,8,IF(AN31<89.9,12,IF(AN31<92.4,16,IF(AN31<94.9,20,IF(AN31<97.4,24,IF(AN31<99.9,28,32))))))) -> 0 | AM31: =IF(AO31<84.9,0,IF(AO31<87.4,16,IF(AO31<89.9,24,IF(AO31<92.4,32,IF(AO31<94.9,40,IF(AO31<97.4,48,IF(AO31<99.9,56,64))))))) -> 0 | AN31: =IF(E31>84.9,E31,IF(E32>84.9,E32,E33)) -> 0 | AO31: =(SUM(E31:E33)-MIN(E31:E33))/2 -> 40.5
C32: Соколан Артем | D32: 9-2 | E32: 75.5 | G32: 44 | H32: 42.43 | I32: =IF(E32<84.9,0,IF(E32<87.4,0.1,IF(E32<89.9,0.15,IF(E32<92.4,0.2,IF(E32<94.9,0.25,IF(E32<97.4,0.3,IF(E32<99.9,0.35,0.4))))))) -> 0 | J32: =H32-I32 -> 42.43
D33: 9-3 | I33: =IF(E33<84.9,0,IF(E33<87.4,0.1,IF(E33<89.9,0.15,IF(E33<92.4,0.2,IF(E33<94.9,0.25,IF(E33<97.4,0.3,IF(E33<99.9,0.35,0.4))))))) -> 0 | J33: =H33-I33 -> 0
A34: 10 | B34: Flash | C34: Загорулько Иван | D34: 10-1 | E34: 95.9 | F34: =IF(M6=3,AC34,AF34) -> 36 | G34: 3 | H34: 42.013 | I34: =IF(E34<84.9,0,IF(E34<87.4,0.1,IF(E34<89.9,0.15,IF(E34<92.4,0.2,IF(E34<94.9,0.25,IF(E34<97.4,0.3,IF(E34<99.9,0.35,0.4))))))) -> 0.3 | J34: =H34-I34 -> 41.713 | K34: =AVERAGE(J34:J35) -> 41.7975 | L34: =_xlfn.RANK.EQ(K34,K7:K36,1) -> 3 | Z34: =AVERAGE(E34:E36) -> 86.95 | AA34: =IF(E34>84.9,E34,E35) -> 95.9 | AB34: =COUNTIF(E34:E36,">84.9") -> 1 | AC34: =IF(AB34=1,AD34,AE34) -> 27 | AD34: =IF(AA34<84.9,0,IF(AA34<87.4,9,IF(AA34<89.9,13.5,IF(AA34<92.4,18,IF(AA34<94.9,22.5,IF(AA34<97.4,27,IF(AA34<99.9,31.5,36))))))) -> 27 | AE34: =IF(Z34<84.9,0,IF(Z34<87.4,18,IF(Z34<89.9,27,IF(Z34<92.4,36,IF(Z34<94.9,45,IF(Z34<97.4,54,IF(Z34<99.9,63,72))))))) -> 18 | AF34: =IF(AG34=2,AH34,AI34) -> 36 | AG34: =COUNTIF(E34:E36,">1") -> 2 | AH34: =IF(AB34=1,AJ34,AK34) -> 36 | AI34: =IF(AB34=1,AL34,IF(AB34=2,AM34,AK34)) -> 24 | AJ34: =IF(AA34<84.9,0,IF(AA34<87.4,12,IF(AA34<89.9,18,IF(AA34<92.4,24,IF(AA34<94.9,30,IF(AA34<97.4,36,IF(AA34<99.9,42,48))))))) -> 36 | AK34: =IF(AA34<84.9,0,IF(AA34<87.4,24,IF(AA34<89.9,36,IF(AA34<92.4,48,IF(AA34<94.9,60,IF(AA34<97.4,72,IF(AA34<99.9,84,96))))))) -> 72 | AL34: =IF(AN34<84.9,0,IF(AN34<87.4,8,IF(AN34<89.9,12,IF(AN34<92.4,16,IF(AN34<94.9,20,IF(AN34<97.4,24,IF(AN34<99.9,28,32))))))) -> 24 | AM34: =IF(AO34<84.9,0,IF(AO34<87.4,16,IF(AO34<89.9,24,IF(AO34<92.4,32,IF(AO34<94.9,40,IF(AO34<97.4,48,IF(AO34<99.9,56,64))))))) -> 0 | AN34: =IF(E34>84.9,E34,IF(E35>84.9,E35,E36)) -> 95.9 | AO34: =(SUM(E34:E36)-MIN(E34:E36))/2 -> 47.95
C35: Паламарчук Саша | D35: 10.2 | E35: 78 | G35: 2 | H35: 41.882 | I35: =IF(E35<84.9,0,IF(E35<87.4,0.1,IF(E35<89.9,0.15,IF(E35<92.4,0.2,IF(E35<94.9,0.25,IF(E35<97.4,0.3,IF(E35<99.9,0.35,0.4))))))) -> 0 | J35: =H35-I35 -> 41.882
D36: 10-3 | I36: =IF(E36<84.9,0,IF(E36<87.4,0.1,IF(E36<89.9,0.15,IF(E36<92.4,0.2,IF(E36<94.9,0.25,IF(E36<97.4,0.3,IF(E36<99.9,0.35,0.4))))))) -> 0 | J36: =H36-I36 -> 0
Z37: =AVERAGE(E37:E39) -> #DIV/0! | AA37: =IF(E37>84.9,E37,E38) -> 0 | AB37: =COUNTIF(E37:E39,">84.9") -> 0 | AC37: =IF(AB37=1,AD37,AE37) -> #DIV/0! | AD37: =IF(AA37<84.9,0,IF(AA37<87.4,9,IF(AA37<89.9,13.5,IF(AA37<92.4,18,IF(AA37<94.9,22.5,IF(AA37<97.4,27,IF(AA37<99.9,31.5,36))))))) -> 0 | AE37: =IF(Z37<84.9,0,IF(Z37<87.4,18,IF(Z37<89.9,27,IF(Z37<92.4,36,IF(Z37<94.9,45,IF(Z37<97.4,54,IF(Z37<99.9,63,72))))))) -> #DIV/0! | AF37: =IF(AG37=2,AH37,AI37) -> 0 | AG37: =COUNTIF(E37:E39,">1") -> 0 | AH37: =IF(AB37=1,AJ37,AK37) -> 0 | AI37: =IF(AB37=1,AL37,IF(AB37=2,AM37,AK37)) -> 0 | AJ37: =IF(AA37<84.9,0,IF(AA37<87.4,12,IF(AA37<89.9,18,IF(AA37<92.4,24,IF(AA37<94.9,30,IF(AA37<97.4,36,IF(AA37<99.9,42,48))))))) -> 0 | AK37: =IF(AA37<84.9,0,IF(AA37<87.4,24,IF(AA37<89.9,36,IF(AA37<92.4,48,IF(AA37<94.9,60,IF(AA37<97.4,72,IF(AA37<99.9,84,96))))))) -> 0 | AL37: =IF(AN37<84.9,0,IF(AN37<87.4,8,IF(AN37<89.9,12,IF(AN37<92.4,16,IF(AN37<94.9,20,IF(AN37<97.4,24,IF(AN37<99.9,28,32))))))) -> 0 | AM37: =IF(AO37<84.9,0,IF(AO37<87.4,16,IF(AO37<89.9,24,IF(AO37<92.4,32,IF(AO37<94.9,40,IF(AO37<97.4,48,IF(AO37<99.9,56,64))))))) -> 0 | AN37: =IF(E37>84.9,E37,IF(E38>84.9,E38,E39)) -> 0 | AO37: =(SUM(E37:E39)-MIN(E37:E39))/2 -> 0
Z40: =AVERAGE(E40:E42) -> #DIV/0! | AA40: =IF(E40>84.9,E40,E41) -> 0 | AB40: =COUNTIF(E40:E42,">84.9") -> 0 | AC40: =IF(AB40=1,AD40,AE40) -> #DIV/0! | AD40: =IF(AA40<84.9,0,IF(AA40<87.4,9,IF(AA40<89.9,13.5,IF(AA40<92.4,18,IF(AA40<94.9,22.5,IF(AA40<97.4,27,IF(AA40<99.9,31.5,36))))))) -> 0 | AE40: =IF(Z40<84.9,0,IF(Z40<87.4,18,IF(Z40<89.9,27,IF(Z40<92.4,36,IF(Z40<94.9,45,IF(Z40<97.4,54,IF(Z40<99.9,63,72))))))) -> #DIV/0! | AF40: =IF(AG40=2,AH40,AI40) -> 0 | AG40: =COUNTIF(E40:E42,">1") -> 0 | AH40: =IF(AB40=1,AJ40,AK40) -> 0 | AI40: =IF(AB40=1,AL40,IF(AB40=2,AM40,AK40)) -> 0 | AJ40: =IF(AA40<84.9,0,IF(AA40<87.4,12,IF(AA40<89.9,18,IF(AA40<92.4,24,IF(AA40<94.9,30,IF(AA40<97.4,36,IF(AA40<99.9,42,48))))))) -> 0 | AK40: =IF(AA40<84.9,0,IF(AA40<87.4,24,IF(AA40<89.9,36,IF(AA40<92.4,48,IF(AA40<94.9,60,IF(AA40<97.4,72,IF(AA40<99.9,84,96))))))) -> 0 | AL40: =IF(AA40<84.9,0,IF(AA40<87.4,8,IF(AA40<89.9,12,IF(AA40<92.4,16,IF(AA40<94.9,20,IF(AA40<97.4,24,IF(AA40<99.9,28,32))))))) -> 0 | AM40: =IF(AO40<84.9,0,IF(AO40<87.4,16,IF(AO40<89.9,24,IF(AO40<92.4,32,IF(AO40<94.9,40,IF(AO40<97.4,48,IF(AO40<99.9,56,64))))))) -> 0 | AN40: =IF(E40>84.9,E40,IF(E41>84.9,E41,E42)) -> 0 | AO40: =(SUM(E40:E42)-MIN(E40:E42))/2 -> 0
Z43: =AVERAGE(E43:E45) -> #DIV/0! | AA43: =IF(E43>84.9,E43,E44) -> 0 | AB43: =COUNTIF(E43:E45,">84.9") -> 0 | AC43: =IF(AB43=1,AD43,AE43) -> #DIV/0! | AD43: =IF(AA43<84.9,0,IF(AA43<87.4,9,IF(AA43<89.9,13.5,IF(AA43<92.4,18,IF(AA43<94.9,22.5,IF(AA43<97.4,27,IF(AA43<99.9,31.5,36))))))) -> 0 | AE43: =IF(Z43<84.9,0,IF(Z43<87.4,18,IF(Z43<89.9,27,IF(Z43<92.4,36,IF(Z43<94.9,45,IF(Z43<97.4,54,IF(Z43<99.9,63,72))))))) -> #DIV/0! | AF43: =IF(AG43=2,AH43,AI43) -> 0 | AG43: =COUNTIF(E43:E45,">1") -> 0 | AH43: =IF(AB43=1,AJ43,AK43) -> 0 | AI43: =IF(AB43=1,AL43,IF(AB43=2,AM43,AK43)) -> 0 | AJ43: =IF(AA43<84.9,0,IF(AA43<87.4,12,IF(AA43<89.9,18,IF(AA43<92.4,24,IF(AA43<94.9,30,IF(AA43<97.4,36,IF(AA43<99.9,42,48))))))) -> 0 | AK43: =IF(AA43<84.9,0,IF(AA43<87.4,24,IF(AA43<89.9,36,IF(AA43<92.4,48,IF(AA43<94.9,60,IF(AA43<97.4,72,IF(AA43<99.9,84,96))))))) -> 0 | AL43: =IF(AA43<84.9,0,IF(AA43<87.4,8,IF(AA43<89.9,12,IF(AA43<92.4,16,IF(AA43<94.9,20,IF(AA43<97.4,24,IF(AA43<99.9,28,32))))))) -> 0 | AM43: =IF(AO43<84.9,0,IF(AO43<87.4,16,IF(AO43<89.9,24,IF(AO43<92.4,32,IF(AO43<94.9,40,IF(AO43<97.4,48,IF(AO43<99.9,56,64))))))) -> 0 | AO43: =(SUM(E43:E45)-MIN(E43:E45))/2 -> 0
Z46: =AVERAGE(E46:E48) -> #DIV/0! | AA46: =IF(E46>84.9,E46,E47) -> 0 | AB46: =COUNTIF(E46:E48,">84.9") -> 0 | AC46: =IF(AB46=1,AD46,AE46) -> #DIV/0! | AD46: =IF(AA46<84.9,0,IF(AA46<87.4,9,IF(AA46<89.9,13.5,IF(AA46<92.4,18,IF(AA46<94.9,22.5,IF(AA46<97.4,27,IF(AA46<99.9,31.5,36))))))) -> 0 | AE46: =IF(Z46<84.9,0,IF(Z46<87.4,18,IF(Z46<89.9,27,IF(Z46<92.4,36,IF(Z46<94.9,45,IF(Z46<97.4,54,IF(Z46<99.9,63,72))))))) -> #DIV/0! | AF46: =IF(AG46=2,AH46,AI46) -> 0 | AG46: =COUNTIF(E46:E48,">1") -> 0 | AH46: =IF(AB46=1,AJ46,AK46) -> 0 | AI46: =IF(AB46=1,AL46,IF(AB46=2,AM46,AK46)) -> 0 | AJ46: =IF(AA46<84.9,0,IF(AA46<87.4,12,IF(AA46<89.9,18,IF(AA46<92.4,24,IF(AA46<94.9,30,IF(AA46<97.4,36,IF(AA46<99.9,42,48))))))) -> 0 | AK46: =IF(AA46<84.9,0,IF(AA46<87.4,24,IF(AA46<89.9,36,IF(AA46<92.4,48,IF(AA46<94.9,60,IF(AA46<97.4,72,IF(AA46<99.9,84,96))))))) -> 0 | AL46: =IF(AA46<84.9,0,IF(AA46<87.4,8,IF(AA46<89.9,12,IF(AA46<92.4,16,IF(AA46<94.9,20,IF(AA46<97.4,24,IF(AA46<99.9,28,32))))))) -> 0 | AM46: =IF(AO46<84.9,0,IF(AO46<87.4,16,IF(AO46<89.9,24,IF(AO46<92.4,32,IF(AO46<94.9,40,IF(AO46<97.4,48,IF(AO46<99.9,56,64))))))) -> 0 | AO46: =(SUM(E46:E48)-MIN(E46:E48))/2 -> 0
Z49: =AVERAGE(E49:E51) -> #DIV/0! | AA49: =IF(E49>84.9,E49,E50) -> 0 | AB49: =COUNTIF(E49:E51,">84.9") -> 0 | AC49: =IF(AB49=1,AD49,AE49) -> #DIV/0! | AD49: =IF(AA49<84.9,0,IF(AA49<87.4,9,IF(AA49<89.9,13.5,IF(AA49<92.4,18,IF(AA49<94.9,22.5,IF(AA49<97.4,27,IF(AA49<99.9,31.5,36))))))) -> 0 | AE49: =IF(Z49<84.9,0,IF(Z49<87.4,18,IF(Z49<89.9,27,IF(Z49<92.4,36,IF(Z49<94.9,45,IF(Z49<97.4,54,IF(Z49<99.9,63,72))))))) -> #DIV/0! | AF49: =IF(AG49=2,AH49,AI49) -> 0 | AG49: =COUNTIF(E49:E51,">1") -> 0 | AH49: =IF(AB49=1,AJ49,AK49) -> 0 | AI49: =IF(AB49=1,AL49,IF(AB49=2,AM49,AK49)) -> 0 | AJ49: =IF(AA49<84.9,0,IF(AA49<87.4,12,IF(AA49<89.9,18,IF(AA49<92.4,24,IF(AA49<94.9,30,IF(AA49<97.4,36,IF(AA49<99.9,42,48))))))) -> 0 | AK49: =IF(AA49<84.9,0,IF(AA49<87.4,24,IF(AA49<89.9,36,IF(AA49<92.4,48,IF(AA49<94.9,60,IF(AA49<97.4,72,IF(AA49<99.9,84,96))))))) -> 0 | AL49: =IF(AA49<84.9,0,IF(AA49<87.4,8,IF(AA49<89.9,12,IF(AA49<92.4,16,IF(AA49<94.9,20,IF(AA49<97.4,24,IF(AA49<99.9,28,32))))))) -> 0 | AM49: =IF(AO49<84.9,0,IF(AO49<87.4,16,IF(AO49<89.9,24,IF(AO49<92.4,32,IF(AO49<94.9,40,IF(AO49<97.4,48,IF(AO49<99.9,56,64))))))) -> 0 | AO49: =(SUM(E49:E51)-MIN(E49:E51))/2 -> 0
Z52: =AVERAGE(E52:E54) -> #DIV/0! | AA52: =IF(E52>84.9,E52,E53) -> 0 | AB52: =COUNTIF(E52:E54,">84.9") -> 0 | AC52: =IF(AB52=1,AD52,AE52) -> #DIV/0! | AD52: =IF(AA52<84.9,0,IF(AA52<87.4,9,IF(AA52<89.9,13.5,IF(AA52<92.4,18,IF(AA52<94.9,22.5,IF(AA52<97.4,27,IF(AA52<99.9,31.5,36))))))) -> 0 | AE52: =IF(Z52<84.9,0,IF(Z52<87.4,18,IF(Z52<89.9,27,IF(Z52<92.4,36,IF(Z52<94.9,45,IF(Z52<97.4,54,IF(Z52<99.9,63,72))))))) -> #DIV/0! | AF52: =IF(AG52=2,AH52,AI52) -> 0 | AG52: =COUNTIF(E52:E54,">1") -> 0 | AH52: =IF(AB52=1,AJ52,AK52) -> 0 | AI52: =IF(AB52=1,AL52,IF(AB52=2,AM52,AK52)) -> 0 | AJ52: =IF(AA52<84.9,0,IF(AA52<87.4,12,IF(AA52<89.9,18,IF(AA52<92.4,24,IF(AA52<94.9,30,IF(AA52<97.4,36,IF(AA52<99.9,42,48))))))) -> 0 | AK52: =IF(AA52<84.9,0,IF(AA52<87.4,24,IF(AA52<89.9,36,IF(AA52<92.4,48,IF(AA52<94.9,60,IF(AA52<97.4,72,IF(AA52<99.9,84,96))))))) -> 0 | AL52: =IF(AA52<84.9,0,IF(AA52<87.4,8,IF(AA52<89.9,12,IF(AA52<92.4,16,IF(AA52<94.9,20,IF(AA52<97.4,24,IF(AA52<99.9,28,32))))))) -> 0 | AM52: =IF(AO52<84.9,0,IF(AO52<87.4,16,IF(AO52<89.9,24,IF(AO52<92.4,32,IF(AO52<94.9,40,IF(AO52<97.4,48,IF(AO52<99.9,56,64))))))) -> 0 | AO52: =(SUM(E52:E54)-MIN(E52:E54))/2 -> 0
Z55: =AVERAGE(E55:E57) -> #DIV/0! | AA55: =IF(E55>84.9,E55,E56) -> 0 | AB55: =COUNTIF(E55:E57,">84.9") -> 0 | AC55: =IF(AB55=1,AD55,AE55) -> #DIV/0! | AD55: =IF(AA55<84.9,0,IF(AA55<87.4,9,IF(AA55<89.9,13.5,IF(AA55<92.4,18,IF(AA55<94.9,22.5,IF(AA55<97.4,27,IF(AA55<99.9,31.5,36))))))) -> 0 | AE55: =IF(Z55<84.9,0,IF(Z55<87.4,18,IF(Z55<89.9,27,IF(Z55<92.4,36,IF(Z55<94.9,45,IF(Z55<97.4,54,IF(Z55<99.9,63,72))))))) -> #DIV/0! | AF55: =IF(AG55=2,AH55,AI55) -> 0 | AG55: =COUNTIF(E55:E57,">1") -> 0 | AH55: =IF(AB55=1,AJ55,AK55) -> 0 | AI55: =IF(AB55=1,AL55,IF(AB55=2,AM55,AK55)) -> 0 | AJ55: =IF(AA55<84.9,0,IF(AA55<87.4,12,IF(AA55<89.9,18,IF(AA55<92.4,24,IF(AA55<94.9,30,IF(AA55<97.4,36,IF(AA55<99.9,42,48))))))) -> 0 | AK55: =IF(AA55<84.9,0,IF(AA55<87.4,24,IF(AA55<89.9,36,IF(AA55<92.4,48,IF(AA55<94.9,60,IF(AA55<97.4,72,IF(AA55<99.9,84,96))))))) -> 0 | AL55: =IF(AA55<84.9,0,IF(AA55<87.4,8,IF(AA55<89.9,12,IF(AA55<92.4,16,IF(AA55<94.9,20,IF(AA55<97.4,24,IF(AA55<99.9,28,32))))))) -> 0 | AM55: =IF(AO55<84.9,0,IF(AO55<87.4,16,IF(AO55<89.9,24,IF(AO55<92.4,32,IF(AO55<94.9,40,IF(AO55<97.4,48,IF(AO55<99.9,56,64))))))) -> 0 | AO55: =(SUM(E55:E57)-MIN(E55:E57))/2 -> 0
Z58: =AVERAGE(E58:E60) -> #DIV/0! | AA58: =IF(E58>84.9,E58,E59) -> 0 | AB58: =COUNTIF(E58:E60,">84.9") -> 0 | AC58: =IF(AB58=1,AD58,AE58) -> #DIV/0! | AD58: =IF(AA58<84.9,0,IF(AA58<87.4,9,IF(AA58<89.9,13.5,IF(AA58<92.4,18,IF(AA58<94.9,22.5,IF(AA58<97.4,27,IF(AA58<99.9,31.5,36))))))) -> 0 | AE58: =IF(Z58<84.9,0,IF(Z58<87.4,18,IF(Z58<89.9,27,IF(Z58<92.4,36,IF(Z58<94.9,45,IF(Z58<97.4,54,IF(Z58<99.9,63,72))))))) -> #DIV/0! | AF58: =IF(AG58=2,AH58,AI58) -> 0 | AG58: =COUNTIF(E58:E60,">1") -> 0 | AH58: =IF(AB58=1,AJ58,AK58) -> 0 | AI58: =IF(AB58=1,AL58,IF(AB58=2,AM58,AK58)) -> 0 | AJ58: =IF(AA58<84.9,0,IF(AA58<87.4,12,IF(AA58<89.9,18,IF(AA58<92.4,24,IF(AA58<94.9,30,IF(AA58<97.4,36,IF(AA58<99.9,42,48))))))) -> 0 | AK58: =IF(AA58<84.9,0,IF(AA58<87.4,24,IF(AA58<89.9,36,IF(AA58<92.4,48,IF(AA58<94.9,60,IF(AA58<97.4,72,IF(AA58<99.9,84,96))))))) -> 0 | AL58: =IF(AA58<84.9,0,IF(AA58<87.4,8,IF(AA58<89.9,12,IF(AA58<92.4,16,IF(AA58<94.9,20,IF(AA58<97.4,24,IF(AA58<99.9,28,32))))))) -> 0 | AM58: =IF(AO58<84.9,0,IF(AO58<87.4,16,IF(AO58<89.9,24,IF(AO58<92.4,32,IF(AO58<94.9,40,IF(AO58<97.4,48,IF(AO58<99.9,56,64))))))) -> 0 | AO58: =(SUM(E58:E60)-MIN(E58:E60))/2 -> 0
Z61: =AVERAGE(E61:E63) -> #DIV/0! | AA61: =IF(E61>84.9,E61,E62) -> 0 | AB61: =COUNTIF(E61:E63,">84.9") -> 0 | AC61: =IF(AB61=1,AD61,AE61) -> #DIV/0! | AD61: =IF(AA61<84.9,0,IF(AA61<87.4,9,IF(AA61<89.9,13.5,IF(AA61<92.4,18,IF(AA61<94.9,22.5,IF(AA61<97.4,27,IF(AA61<99.9,31.5,36))))))) -> 0 | AE61: =IF(Z61<84.9,0,IF(Z61<87.4,18,IF(Z61<89.9,27,IF(Z61<92.4,36,IF(Z61<94.9,45,IF(Z61<97.4,54,IF(Z61<99.9,63,72))))))) -> #DIV/0! | AF61: =IF(AG61=2,AH61,AI61) -> 0 | AG61: =COUNTIF(E61:E63,">1") -> 0 | AH61: =IF(AB61=1,AJ61,AK61) -> 0 | AI61: =IF(AB61=1,AL61,IF(AB61=2,AM61,AK61)) -> 0 | AJ61: =IF(AA61<84.9,0,IF(AA61<87.4,12,IF(AA61<89.9,18,IF(AA61<92.4,24,IF(AA61<94.9,30,IF(AA61<97.4,36,IF(AA61<99.9,42,48))))))) -> 0 | AK61: =IF(AA61<84.9,0,IF(AA61<87.4,24,IF(AA61<89.9,36,IF(AA61<92.4,48,IF(AA61<94.9,60,IF(AA61<97.4,72,IF(AA61<99.9,84,96))))))) -> 0 | AL61: =IF(AA61<84.9,0,IF(AA61<87.4,8,IF(AA61<89.9,12,IF(AA61<92.4,16,IF(AA61<94.9,20,IF(AA61<97.4,24,IF(AA61<99.9,28,32))))))) -> 0 | AM61: =IF(AO61<84.9,0,IF(AO61<87.4,16,IF(AO61<89.9,24,IF(AO61<92.4,32,IF(AO61<94.9,40,IF(AO61<97.4,48,IF(AO61<99.9,56,64))))))) -> 0 | AO61: =(SUM(E61:E63)-MIN(E61:E63))/2 -> 0
Z64: =AVERAGE(E64:E66) -> #DIV/0! | AA64: =IF(E64>84.9,E64,E65) -> 0 | AB64: =COUNTIF(E64:E66,">84.9") -> 0 | AC64: =IF(AB64=1,AD64,AE64) -> #DIV/0! | AD64: =IF(AA64<84.9,0,IF(AA64<87.4,9,IF(AA64<89.9,13.5,IF(AA64<92.4,18,IF(AA64<94.9,22.5,IF(AA64<97.4,27,IF(AA64<99.9,31.5,36))))))) -> 0 | AE64: =IF(Z64<84.9,0,IF(Z64<87.4,18,IF(Z64<89.9,27,IF(Z64<92.4,36,IF(Z64<94.9,45,IF(Z64<97.4,54,IF(Z64<99.9,63,72))))))) -> #DIV/0! | AF64: =IF(AG64=2,AH64,AI64) -> 0 | AG64: =COUNTIF(E64:E66,">1") -> 0 | AH64: =IF(AB64=1,AJ64,AK64) -> 0 | AI64: =IF(AB64=1,AL64,IF(AB64=2,AM64,AK64)) -> 0 | AJ64: =IF(AA64<84.9,0,IF(AA64<87.4,12,IF(AA64<89.9,18,IF(AA64<92.4,24,IF(AA64<94.9,30,IF(AA64<97.4,36,IF(AA64<99.9,42,48))))))) -> 0 | AK64: =IF(AA64<84.9,0,IF(AA64<87.4,24,IF(AA64<89.9,36,IF(AA64<92.4,48,IF(AA64<94.9,60,IF(AA64<97.4,72,IF(AA64<99.9,84,96))))))) -> 0 | AL64: =IF(AA64<84.9,0,IF(AA64<87.4,8,IF(AA64<89.9,12,IF(AA64<92.4,16,IF(AA64<94.9,20,IF(AA64<97.4,24,IF(AA64<99.9,28,32))))))) -> 0 | AM64: =IF(AO64<84.9,0,IF(AO64<87.4,16,IF(AO64<89.9,24,IF(AO64<92.4,32,IF(AO64<94.9,40,IF(AO64<97.4,48,IF(AO64<99.9,56,64))))))) -> 0 | AO64: =(SUM(E64:E66)-MIN(E64:E66))/2 -> 0

Sheet K44
A2: Чемпионат мини марафон "Большие Гонки", 13-й этап
A4: K44
A6: Обяза-тельные | B6: Пилот | C6: карт | D6: Круг | E6: кругов на отрезке | F6: Статистика по кругам | J6: Общее время гонки | K6: Время на трассе
F7: Лучший круг | G7: Среднее на отрезке | I7: стабильность | K7: отрезок | L7: всего у пилота | M7: Питы | N7: Штрафы/ бонусы (сек)
A8: 1 | B8: Лысенский Денис | C8: 7 | D8: =COUNTA(C22:C86) -> 41 | E8: =COUNTA(C22:C86) -> 41 | F8: =MIN(C22:C85) -> 41.886 | G8: =AVERAGE(C22:C88) -> 42.31061 | I8: =G8-F8 -> 0.42460976 | J8: 0.020578704 | K8: =J8 -> 0.020578704 | L8: =K8 -> 0.020578704 | M8: 137.213
A9: 2 | B9: Тыщенко Миша | C9: 3 | D9: =COUNTA(D22:D86)+D8+1 -> 85 | E9: =COUNTA(D22:D86)+1 -> 44 | F9: =MIN(D22:D85) -> 41.864 | G9: =AVERAGE(D22:D87) -> 42.264605 | I9: =G9-F9 -> 0.40060465 | J9: 0.043206019 | K9: =J9-J8 -> 0.022627315 | L9: =K9 -> 0.022627315 | M9: 126.464 | N9: -12 | O9: бонус за вес
A10: 3 | B10: Пикулин Паша | C10: 21 | D10: =COUNTA(E22:E86)+D9+1 -> 147 | E10: =COUNTA(E22:E86)+1 -> 62 | F10: =MIN(E22:E87) -> 41.698 | G10: =AVERAGE(E22:E88) -> 41.988656 | I10: =G10-F10 -> 0.29065574 | J10: 0.074305556 | K10: =J10-J9 -> 0.031099537 | L10: =K10 -> 0.031099537 | M10: 157.696
A11: 4 | B11: Пикулин Паша | C11: 6 | D11: =COUNTA(F22:F86)+D10+1 -> 166 | E11: =COUNTA(F22:F86)+1 -> 19 | F11: =MIN(F22:F87) -> 41.938 | G11: =AVERAGE(F22:F87) -> 42.321389 | I11: =G11-F11 -> 0.38338889 | J11: 0.084953704 | K11: =J11-J10 -> 0.010648148 | L11: =K11+L10 -> 0.041747685 | M11: 123.61 | N11: +5-20 | O11: линия+передержали
A12: 5 | B12: Тыщенко Миша | C12: 10 | D12: =COUNTA(G22:G86)+D11+1 -> 213 | E12: =COUNTA(G22:G86)+1 -> 47 | F12: =MIN(G22:G87) -> 42.036 | G12: =AVERAGE(G22:G887) -> 42.390065 | I12: =G12-F12 -> 0.35406522 | J12: 0.10895833 | K12: =J12-J11 -> 0.02400463 | L12: =K12+L9 -> 0.046631944 | M12: 138.09
A13: 6 | B13: Лысенский Денис | C13: 5 | D13: =COUNTA(H22:H86)+D12+1 -> 267 | E13: =COUNTA(H22:H86)+1 -> 54 | F13: =MIN(H22:H87) -> 42.024 | G13: =AVERAGE(H22:H87) -> 42.345377 | I13: =G13-F13 -> 0.32137736 | J13: 0.13652778 | K13: =J13-J12 -> 0.027569444 | L13: =K13+L8 -> 0.048148148 | M13: 139.553
A14: 7 | B14: Пикулин Паша | C14: 4 | D14: =COUNTA(I22:I86)+D13+1 -> 292 | E14: =COUNTA(I22:I86)+1 -> 25 | F14: =MIN(I22:I87) -> 41.808 | G14: =AVERAGE(I22:I87) -> 42.113542 | I14: =G14-F14 -> 0.30554167 | J14: 0.14983796 | K14: =J14-J13 -> 0.013310185 | L14: =K14+L11 -> 0.05505787 | M14: 135.662 | N14: -2 | O14: передержали
A15: Финиш | B15: Пикулин Паша | C15: 13 | D15: =COUNTA(J22:J86)+D14+1 -> 326 | E15: =COUNTA(J22:J86)+1 -> 34 | F15: =MIN(J22:J87) -> 41.632 | G15: =AVERAGE(J22:J87) -> 41.969697 | I15: =G15-F15 -> 0.33769697 | J15: =Общие_результаты!G6 -> 4:00:25 | K15: =J15-J14 -> 0.017118056 | L15: =K15+L14 -> 0.072175926
F16: =AVERAGE(F8,F9,F12,F13) -> 41.9525 | G16: =AVERAGE(E22:F87,I22:J87) -> 42.050132 | H16: Паша | I16: =AVERAGE(I8,I9,I12,I13) -> 0.37516425
F17: =AVERAGE(F10,F15) -> 41.665 | G17: =AVERAGE(C22:C88,H22:H88) -> 42.330213 | H17: Денис | I17: =AVERAGE(I10,I15) -> 0.31417635
F18: =AVERAGE(F11,F14) -> 41.873 | G18: =AVERAGE(D22:D86,G22:G87) -> 42.329449 | H18: Миша | I18: =AVERAGE(I11,I14) -> 0.34446528
F19: =AVERAGE(F8:F15) -> 41.86075 | G19: =AVERAGE(C22:J91) -> 42.210592 | I19: =AVERAGE(I8:I15) -> 0.35224253
C21: =B8 -> Лысенский Денис | D21: =B9 -> Тыщенко Миша | E21: =B10 -> Пикулин Паша | F21: =B11 -> Пикулин Паша | G21: =B12 -> Тыщенко Миша | H21: =B13 -> Лысенский Денис | I21: =B14 -> Пикулин Паша | J21: =B15 -> Пикулин Паша
B22: 1 | C22: 45.691 | D22: 43.636 | E22: 43.711 | F22: 43.787 | G22: 43.492 | H22: 43.056 | I22: 43.425 | J22: 43.063
B23: 2 | C23: 43.502 | D23: 42.694 | E23: 42.373 | F23: 42.793 | G23: 42.913 | H23: 42.407 | I23: 42.207 | J23: 42.049
B24: 3 | C24: 42.248 | D24: 42.71 | E24: 42.162 | F24: 41.938 | G24: 42.522 | H24: 42.189 | I24: 42.147 | J24: 42.026
B25: 4 | C25: 42.259 | D25: 42.415 | E25: 42.35 | F25: 42.054 | G25: 42.617 | H25: 42.376 | I25: 42.111 | J25: 41.898
B26: 5 | C26: 43.469 | D26: 42.277 | E26: 42.118 | F26: 42.165 | G26: 42.868 | H26: 42.229 | I26: 42.155 | J26: 42.013
B27: 6 | C27: 42.244 | D27: 42.302 | E27: 42.073 | F27: 42.164 | G27: 42.392 | H27: 42.46 | I27: 42.05 | J27: 41.896
B28: 7 | C28: 42.15 | D28: 42.008 | E28: 42.126 | F28: 42.309 | G28: 42.432 | H28: 42.315 | I28: 42.16 | J28: 41.669
B29: 8 | C29: 42.114 | D29: 42.424 | E29: 41.89 | F29: 42.224 | G29: 42.381 | H29: 42.285 | I29: 41.813 | J29: 41.847
B30: 9 | C30: 41.991 | D30: 41.907 | E30: 42.114 | F30: 42.039 | G30: 42.409 | H30: 42.467 | I30: 42.213 | J30: 41.867
B31: 10 | C31: 42.141 | D31: 41.94 | E31: 41.834 | F31: 42.171 | G31: 42.277 | H31: 42.306 | I31: 42.133 | J31: 41.958
B32: 11 | C32: 42.147 | D32: 42.104 | E32: 41.923 | F32: 42.388 | G32: 42.378 | H32: 42.32 | I32: 42.029 | J32: 41.765
B33: 12 | C33: 42.171 | D33: 42.115 | E33: 41.975 | F33: 42.187 | G33: 42.406 | H33: 42.263 | I33: 42.113 | J33: 41.632
... B39: 18 | C39: 42.039 | D39: 42.158 | E39: 41.934 | F39: 42.059 | G39: 42.301 | H39: 42.568 | I39: 41.962 | J39: 41.858
B40: 19 | C40: 42.062 | D40: 42.074 | E40: 41.821 | G40: 42.317 | H40: 42.31 | I40: 41.808 | J40: 41.831
B41: 20 | C41: 41.886 | D41: 42.344 | E41: 41.886 | G41: 42.288 | H41: 42.291 | I41: 41.865 | J41: 41.82
B42: 21 | C42: 42.248 | D42: 42.25 | E42: 41.889 | G42: 42.353 | H42: 42.421 | I42: 41.854 | J42: 41.791
B43: 22 | C43: 42.094 | D43: 42.239 | E43: 41.758 | G43: 42.213 | H43: 42.331 | I43: 42.004 | J43: 42.406
B44: 23 | C44: 41.967 | D44: 42.217 | E44: 41.881 | G44: 42.418 | H44: 42.286 | I44: 41.949 | J44: 41.866
B45: 24 | C45: 42.084 | D45: 42.16 | E45: 41.811 | G45: 42.446 | H45: 42.222 | I45: 42.131 | J45: 42.006
B46: 25 | C46: 42.193 | D46: 42.347 | E46: 42.197 | G46: 42.319 | H46: 42.346 | J46: 41.903
B47: 26 | C47: 42.145 | D47: 42.235 | E47: 41.881 | G47: 42.521 | H47: 42.357 | J47: 41.927
B48: 27 | C48: 42.265 | D48: 42.115 | E48: 42.157 | G48: 42.11 | H48: 42.491 | J48: 41.881
B49: 28 | C49: 42.21 | D49: 42.246 | E49: 41.821 | G49: 42.335 | H49: 42.336 | J49: 41.971
B50: 29 | C50: 42.438 | D50: 42.168 | E50: 41.802 | G50: 42.339 | H50: 42.455 | J50: 42.02
B51: 30 | C51: 42.108 | D51: 42.191 | E51: 41.891 | G51: 42.252 | H51: 42.264 | J51: 41.916
B52: 31 | C52: 42.204 | D52: 42.046 | E52: 41.698 | G52: 42.405 | H52: 42.475 | J52: 42.074
B53: 32 | C53: 42.172 | D53: 42.146 | E53: 41.857 | G53: 42.145 | H53: 42.281 | J53: 42.035
B54: 33 | C54: 42.039 | D54: 42.357 | E54: 41.758 | G54: 42.362 | H54: 42.297 | J54: 41.909
B55: 34 | C55: 42.199 | D55: 42.489 | E55: 41.918 | G55: 42.255 | H55: 42.528 | X55: =280+280+280+280+280+140 -> 1540
B56: 35 | C56: 42.202 | D56: 41.864 | E56: 41.851 | G56: 42.351 | H56: 42.17
B57: 36 | C57: 42.034 | D57: 42.637 | E57: 41.898 | G57: 42.224 | H57: 42.443
B58: 37 | C58: 42.303 | D58: 42.225 | E58: 42.207 | G58: 42.21 | H58: 42.399
B59: 38 | C59: 42.12 | D59: 41.905 | E59: 42.119 | G59: 42.036 | H59: 42.263
B60: 39 | C60: 42.324 | D60: 42.32 | E60: 42.034 | G60: 42.142 | H60: 42.104
B61: 40 | C61: 42.332 | D61: 42.212 | E61: 41.845 | G61: 42.328 | H61: 42.296
B62: 41 | C62: 42.344 | D62: 42.074 | E62: 41.851 | G62: 42.48 | H62: 42.298
B63: 42 | D63: 42.556 | E63: 41.916 | G63: 42.586 | H63: 42.208
B64: 43 | D64: 42.5 | E64: 42.072 | G64: 42.429 | H64: 42.068
B65: 44 | E65: 41.911 | G65: 42.478 | H65: 42.353
B66: 45 | E66: 41.964 | G66: 42.292 | H66: 42.384
B67: 46 | E67: 41.769 | G67: 42.176 | H67: 42.394
B68: 47 | E68: 41.896 | H68: 42.752
B69: 48 | E69: 42.013 | H69: 42.622
B70: 49 | E70: 41.943 | H70: 42.024
B71: 50 | E71: 41.845 | H71: 42.368
B72: 51 | E72: 42.058 | H72: 42.213
B73: 52 | E73: 42.243 | H73: 42.245
B74: 53 | E74: 42.006 | H74: 42.055
B75: 54 | E75: 41.98
B76: 55 | E76: 41.831
B77: 56 | E77: 42.061
B78: 57 | E78: 42.066
B79: 58 | E79: 41.785
B80: 59 | E80: 41.832
B81: 60 | E81: 42.201
B82: 61 | E82: 41.907
B83: 62
B84: 63

Sheet Kart_Freedom
P1: ф
A2: Чемпионат мини марафон "Большие Гонки", 13-й этап
A4: Kart Freedom
A6: Обяза-тельные | B6: Пилот | C6: карт | D6: Круг | E6: кругов на отрезке | F6: Статистика по кругам | J6: Общее время гонки | K6: Время на трассе
F7: Лучший круг | G7: Среднее на отрезке | I7: стабильность | K7: отрезок | L7: всего у пилота | M7: Питы | N7: Штрафы/ бонусы (сек)
A8: 1 | B8: Наум | C8: 11 | D8: =COUNTA(C21:C85) -> 43 | E8: =COUNTA(C21:C85) -> 43 | F8: =MIN(C21:C84) -> 41.543 | G8: =AVERAGE(C21:C87) -> 41.93207 | I8: =G8-F8 -> 0.38906977 | J8: 0.021469907 | K8: =J8 -> 0.021469907 | L8: =K8 -> 0.021469907 | M8: 145.794
A9: 2 | B9: Мифтахутдинов Ильяс | C9: 7 | D9: =COUNTA(D21:D85)+D8+1 -> 100 | E9: =COUNTA(D21:D85)+1 -> 57 | F9: =MIN(D21:D84) -> 41.822 | G9: =AVERAGE(D21:D86) -> 42.172875 | I9: =G9-F9 -> 0.350875 | J9: 0.050358796 | K9: =J9-J8 -> 0.028888889 | L9: =K9 -> 0.028888889 | M9: 164.2 | N9: +20+5 | O9: опасный заезд на пит+лимит
A10: 3 | B10: Наум | C10: 13 | D10: =COUNTA(E21:E85)+D9+1 -> 159 | E10: =COUNTA(E21:E85)+1 -> 59 | F10: =MIN(E21:E86) -> 41.739 | G10: =AVERAGE(E21:E87) -> 42.03869 | I10: =G10-F10 -> 0.29968966 | J10: 0.080474537 | K10: =J10-J9 -> 0.030115741 | L10: =K10+L8 -> 0.051585648 | M10: 137.322
A11: 4 | B11: Мифтахутдинов Ильяс | C11: 4 | D11: =COUNTA(F21:F85)+D10+1 -> 183 | E11: =COUNTA(F21:F85)+1 -> 24 | F11: =MIN(F21:F86) -> 41.974 | G11: =AVERAGE(F21:F86) -> 42.238652 | I11: =G11-F11 -> 0.26465217 | J11: 0.093310185 | K11: =J11-J10 -> 0.012835648 | L11: =K11+L9 -> 0.041724537 | M11: 146.962
A12: 5 | B12: Наум | C12: 3 | D12: =COUNTA(G21:G85)+D11+1 -> 213 | E12: =COUNTA(G21:G85)+1 -> 30 | F12: =MIN(G21:G86) -> 41.805 | G12: =AVERAGE(G21:G886) -> 42.059655 | I12: =G12-F12 -> 0.25465517 | J12: 0.10913194 | K12: =J12-J11 -> 0.015821759 | L12: =K12+L10 -> 0.067407407 | M12: 127.923 | N12: -9 | O12: передержали
A13: 6 | B13: Мифтахутдинов Ильяс | C13: 9 | D13: =COUNTA(H21:H85)+D12+1 -> 239 | E13: =COUNTA(H21:H85)+1 -> 26 | F13: =MIN(H21:H86) -> 42.027 | G13: =AVERAGE(H21:H86) -> 42.37804 | I13: =G13-F13 -> 0.35104 | J13: 0.12287037 | K13: =J13-J12 -> 0.013738426 | L13: =K13+L11 -> 0.055462963 | M13: 139.325
A14: 7 | B14: Мифтахутдинов Ильяс | C14: 7 | D14: =COUNTA(I21:I85)+D13+1 -> 293 | E14: =COUNTA(I21:I85)+1 -> 54 | F14: =MIN(I21:I86) -> 41.911 | G14: =AVERAGE(I21:I86) -> 42.158943 | I14: =G14-F14 -> 0.2479434 | J14: 0.15034722 | K14: =J14-J13 -> 0.027476852 | L14: =K14+L13 -> 0.082939815 | M14: 135.461 | N14: -2 | O14: передержали
A15: Финиш | B15: Наум | C15: 6 | D15: =COUNTA(J21:J85)+D14+1 -> 326 | E15: =COUNTA(J21:J85)+1 -> 33 | F15: =MIN(J21:J86) -> 41.525 | G15: =AVERAGE(J21:J86) -> 41.93325 | I15: =G15-F15 -> 0.40825 | J15: =Общие_результаты!G6 -> 4:00:25 | K15: =J15-J14 -> 0.016608796 | L15: =K15+L12 -> 0.084016204
F16: =AVERAGE(F8,F10,F12,F15) -> 41.653 | G16: =AVERAGE(C21:C88,E21:E86,G21:G88,J21:J87) -> 41.993315 | H16: Наум | I16: =AVERAGE(I8,I10,I12,I15) -> 0.33791615
F17: =AVERAGE(F9,F11,F13,F14) -> 41.9335 | G17: =AVERAGE(D21:D88,F21:F86,H21:H88,I21:I87) -> 42.210478 | H17: Ильяс | I17: =AVERAGE(I9,I11,I13,I14) -> 0.30362764
F18: =AVERAGE(F8:F15) -> 41.79325 | G18: =AVERAGE(C21:J90) -> 42.100194 | I18: =AVERAGE(I8:I15) -> 0.3207719
C20: =B8 -> Наум | D20: =B9 -> Мифтахутдинов Ильяс | E20: =B10 -> Наум | F20: =B11 -> Мифтахутдинов Ильяс | G20: =B12 -> Наум | H20: =B13 -> Мифтахутдинов Ильяс | I20: =B14 -> Мифтахутдинов Ильяс | J20: =B15 -> Наум
B21: 1 | C21: 43.591 | D21: 43.463 | E21: 43.303 | F21: 43.22 | G21: 43.392 | H21: 43.127 | I21: 43.309 | J21: 42.807
B22: 2 | C22: 41.916 | D22: 42.334 | E22: 42.123 | F22: 42.388 | G22: 41.999 | H22: 42.61 | I22: 42.268 | J22: 42.172
B23: 3 | C23: 41.938 | D23: 42.294 | E23: 42.135 | F23: 42.369 | G23: 42.103 | H23: 42.662 | I23: 42.057 | J23: 42.036
B24: 4 | C24: 41.861 | D24: 42.141 | E24: 43.764 | F24: 42.326 | G24: 41.869 | H24: 42.444 | I24: 42.381 | J24: 42.026
B25: 5 | C25: 42.234 | D25: 42.254 | E25: 42.204 | F25: 42.3 | G25: 42.176 | H25: 42.418 | I25: 42.402 | J25: 42.23
B26: 6 | C26: 41.72 | D26: 42.27 | E26: 42.088 | F26: 42.008 | G26: 41.872 | H26: 42.209 | I26: 42.62 | J26: 42.159
B27: 7 | C27: 41.752 | D27: 42.111 | E27: 41.754 | F27: 42.237 | G27: 42.022 | H27: 42.363 | I27: 42.192 | J27: 42.163
B28: 8 | C28: 41.748 | D28: 42.097 | E28: 42.158 | F28: 42.371 | G28: 41.885 | H28: 42.252 | I28: 42.175 | J28: 42.169
B29: 9 | C29: 41.828 | D29: 42.053 | E29: 43.253 | F29: 42.074 | G29: 41.923 | H29: 42.292 | I29: 42.063 | J29: 42.162
B30: 10 | C30: 41.861 | D30: 41.992 | E30: 41.83 | F30: 42.412 | G30: 42.058 | H30: 42.223 | I30: 42.071 | J30: 42.059
B31: 11 | C31: 41.939 | D31: 41.957 | E31: 42.084 | F31: 42.234 | G31: 41.827 | H31: 42.295 | I31: 42.09 | J31: 41.986
B32: 12 | C32: 41.846 | D32: 42.101 | E32: 41.822 | F32: 42.137 | G32: 42.109 | H32: 42.498 | I32: 42.281 | J32: 42.309
... B43: 23 | C43: 41.824 | D43: 42.305 | E43: 41.988 | F43: 41.995 | G43: 41.805 | H43: 42.304 | I43: 42.245 | J43: 41.746
B44: 24 | C44: 42.043 | D44: 42.139 | E44: 41.912 | G44: 42.186 | H44: 42.231 | I44: 41.956 | J44: 41.654
B45: 25 | C45: 41.663 | D45: 42.23 | E45: 41.947 | G45: 41.989 | H45: 42.964 | I45: 42.103 | J45: 41.845
B46: 26 | C46: 41.756 | D46: 41.918 | E46: 41.79 | G46: 42.195 | I46: 41.986 | J46: 41.675
B47: 27 | C47: 41.543 | D47: 44.88 | E47: 42.005 | G47: 41.855 | I47: 41.984 | J47: 41.691
B48: 28 | C48: 41.952 | D48: 42.079 | E48: 42.001 | G48: 42.015 | I48: 42.168 | J48: 41.637
B49: 29 | C49: 41.968 | D49: 41.846 | E49: 41.739 | G49: 41.965 | I49: 42.283 | J49: 41.709
B50: 30 | C50: 41.586 | D50: 41.859 | E50: 41.851 | I50: 42.573 | J50: 41.643
B51: 31 | C51: 41.893 | D51: 42.015 | E51: 42.142 | I51: 42.08 | J51: 41.685
B52: 32 | C52: 42.01 | D52: 42.011 | E52: 42.024 | I52: 42.057 | J52: 41.847
B53: 33 | C53: 41.688 | D53: 42.115 | E53: 42.2 | I53: 42.258
B54: 34 | C54: 41.816 | D54: 42.425 | E54: 42.014 | I54: 42.303
B55: 35 | C55: 42.069 | D55: 42.267 | E55: 41.977 | I55: 42.049
B56: 36 | C56: 41.767 | D56: 42.127 | E56: 41.823 | I56: 41.979
B57: 37 | C57: 41.884 | D57: 41.941 | E57: 42.254 | I57: 42.217
B58: 38 | C58: 41.897 | D58: 42.098 | E58: 41.877 | I58: 42.106
B59: 39 | C59: 42.119 | D59: 42.355 | E59: 42.049 | I59: 42.148
B60: 40 | C60: 41.95 | D60: 42.04 | E60: 41.943 | I60: 42.019
B61: 41 | C61: 42.097 | D61: 41.906 | E61: 41.876 | I61: 41.911
B62: 42 | C62: 41.832 | D62: 42.045 | E62: 41.794 | I62: 41.932
B63: 43 | C63: 41.978 | D63: 41.913 | E63: 41.765 | I63: 42.232
B64: 44 | D64: 42.1 | E64: 41.941 | I64: 42.172
B65: 45 | D65: 42.08 | E65: 41.952 | I65: 42.018
B66: 46 | D66: 42.03 | E66: 42.317 | I66: 42.188
B67: 47 | D67: 42.064 | E67: 42.066 | I67: 41.989
B68: 48 | D68: 42.051 | E68: 41.895 | I68: 41.934
B69: 49 | D69: 42.005 | E69: 41.867 | I69: 42.063
B70: 50 | D70: 41.978 | E70: 41.881 | I70: 42.313
B71: 51 | D71: 42.128 | E71: 41.828 | I71: 41.968
B72: 52 | D72: 42.011 | E72: 42.187 | I72: 41.952
B73: 53 | D73: 41.822 | E73: 41.959 | I73: 42.062
B74: 54 | D74: 42.159 | E74: 41.818
B75: 55 | D75: 42.12 | E75: 41.892
B76: 56 | D76: 42.254 | E76: 42.137
B77: 57 | E77: 42.009
B78: 58 | E78: 41.874
B79: 59
B80: 60
B81: 61
B82: 62
B83: 63

Sheet ASS_Racing_Team
A2: Чемпионат мини марафон "Большие Гонки", 13-й этап
A4: ASS Racing Team
A6: Обяза-тельные | B6: Пилот | C6: карт | D6: Круг | E6: кругов на отрезке | F6: Статистика по кругам | J6: Общее время гонки | K6: Время на трассе
F7: Лучший круг | G7: Среднее на отрезке | I7: стабильность | K7: отрезок | L7: всего у пилота | M7: Питы | N7: Штрафы/ бонусы (сек)
A8: 1 | B8: Ткаченко Кирилл | C8: 9 | D8: =COUNTA(C21:C85) -> 41 | E8: =COUNTA(C21:C85) -> 41 | F8: =MIN(C21:C84) -> 41.642 | G8: =AVERAGE(C21:C87) -> 41.994659 | I8: =G8-F8 -> 0.35265854 | J8: 0.020405093 | K8: =J8 -> 0.020405093 | L8: =K8 -> 0.020405093 | M8: 137.709
A9: 2 | B9: Онащук Максим | C9: 6 | D9: =COUNTA(D21:D85)+D8+1 -> 60 | E9: =COUNTA(D21:D85)+1 -> 19 | F9: =MIN(D21:D84) -> 42.284 | G9: =AVERAGE(D21:D86) -> 42.596222 | I9: =G9-F9 -> 0.31222222 | J9: 0.030891204 | K9: =J9-J8 -> 0.010486111 | L9: =K9 -> 0.010486111 | M9: 137.691
A10: 3 | B10: Онащук Максим | C10: 2 | D10: =COUNTA(E21:E85)+D9+1 -> 105 | E10: =COUNTA(E21:E85)+1 -> 45 | F10: =MIN(E21:E86) -> 41.797 | G10: =AVERAGE(E21:E87) -> 42.105727 | I10: =G10-F10 -> 0.30872727 | J10: 0.053912037 | K10: =J10-J9 -> 0.023020833 | L10: =K10+L9 -> 0.033506944 | M10: 139.31
A11: 4 | B11: Ткаченко Кирилл | C11: 10 | D11: =COUNTA(F21:F85)+D10+1 -> 157 | E11: =COUNTA(F21:F85)+1 -> 52 | F11: =MIN(F21:F86) -> 41.854 | G11: =AVERAGE(F21:F86) -> 42.143569 | I11: =G11-F11 -> 0.28956863 | J11: 0.080405093 | K11: =J11-J10 -> 0.026493056 | L11: =K11+L8 -> 0.046898148 | M11: 137.446
A12: 5 | B12: Онащук Максим | C12: 21 | D12: =COUNTA(G21:G85)+D11+1 -> 184 | E12: =COUNTA(G21:G85)+1 -> 27 | F12: =MIN(G21:G86) -> 42.215 | G12: =AVERAGE(G21:G886) -> 42.435769 | I12: =G12-F12 -> 0.22076923 | J12: 0.094768519 | K12: =J12-J11 -> 0.014363426 | L12: =K12+L10 -> 0.04787037 | M12: 157.981 | N12: +20 | O12: выбивание
A13: 6 | B13: Ткаченко Кирилл | C13: 2 | D13: =COUNTA(H21:H85)+D12+1 -> 242 | E13: =COUNTA(H21:H85)+1 -> 58 | F13: =MIN(H21:H86) -> 41.769 | G13: =AVERAGE(H21:H86) -> 42.04707 | I13: =G13-F13 -> 0.27807018 | J13: 0.12434028 | K13: =J13-J12 -> 0.029571759 | L13: =K13+L11 -> 0.076469907 | M13: 139.363
A14: 7 | B14: Онащук Максим | C14: 9 | D14: =COUNTA(I21:I85)+D13+1 -> 298 | E14: =COUNTA(I21:I85)+1 -> 56 | F14: =MIN(I21:I86) -> 42.259 | G14: =AVERAGE(I21:I86) -> 42.752764 | I14: =G14-F14 -> 0.49376364 | J14: 0.15315972 | K14: =J14-J13 -> 0.028819444 | L14: =K14+L12 -> 0.076689815 | M14: 138.372
A15: Финиш | B15: Ткаченко Кирилл | C15: 44 | D15: =COUNTA(J21:J85)+D14+1 -> 325 | E15: =COUNTA(J21:J85)+1 -> 27 | F15: =MIN(J21:J86) -> 42.137 | G15: =AVERAGE(J21:J86) -> 42.433538 | I15: =G15-F15 -> 0.29653846 | J15: =Общие_результаты!G6 -> 4:00:25 | K15: =J15-J14 -> 0.013796296 | L15: =K15+L13 -> 0.090266204
F16: =AVERAGE(F8,F11,F13,F15) -> 41.8505 | G16: =AVERAGE(C21:C87,F21:F86,H21:H86,J21:J88) -> 42.120331 | H16: Кирилл | I16: =AVERAGE(I8,I11,I13,I15) -> 0.30420895
F17: =AVERAGE(F9,F10,F12,F14) -> 42.13875 | G17: =AVERAGE(D21:D87,E21:E86,G21:G86,I21:I88) -> 42.476336 | H17: Максим | I17: =AVERAGE(I9,I10,I12,I14) -> 0.33387059
F18: =AVERAGE(F8:F15) -> 41.994625 | G18: =AVERAGE(C21:J90) -> 42.280421 | I18: =AVERAGE(I8:I15) -> 0.31903977
C20: =B8 -> Ткаченко Кирилл | D20: =B9 -> Онащук Максим | E20: =B10 -> Онащук Максим | F20: =B11 -> Ткаченко Кирилл | G20: =B12 -> Онащук Максим | H20: =B13 -> Ткаченко Кирилл | I20: =B14 -> Онащук Максим | J20: =B15 -> Ткаченко Кирилл
B21: 1 | C21: 42.782 | D21: 43.947 | E21: 43.355 | F21: 43.378 | G21: 43.678 | H21: 43.07 | I21: 43.215 | J21: 43.264
B22: 2 | C22: 42.455 | D22: 42.922 | E22: 42.366 | F22: 42.207 | G22: 43.202 | H22: 41.896 | I22: 42.562 | J22: 42.505
B23: 3 | C23: 42.213 | D23: 42.701 | E23: 42.391 | F23: 41.979 | G23: 42.337 | H23: 42.216 | I23: 43.639 | J23: 42.285
B24: 4 | C24: 41.956 | D24: 42.408 | E24: 42.066 | F24: 42.084 | G24: 42.405 | H24: 41.869 | I24: 42.434 | J24: 42.137
B25: 5 | C25: 41.95 | D25: 42.411 | E25: 41.987 | F25: 41.89 | G25: 42.289 | H25: 42.101 | I25: 42.536 | J25: 42.2
B26: 6 | C26: 41.966 | D26: 42.395 | E26: 42.129 | F26: 42.392 | G26: 42.348 | H26: 41.769 | I26: 42.548 | J26: 42.296
B27: 7 | C27: 41.874 | D27: 42.423 | E27: 41.969 | F27: 42.106 | G27: 42.219 | H27: 42.292 | I27: 42.519 | J27: 42.209
B28: 8 | C28: 41.993 | D28: 42.449 | E28: 42.007 | F28: 42.287 | G28: 42.368 | H28: 41.979 | I28: 42.389 | J28: 42.142
B29: 9 | C29: 42.121 | D29: 42.459 | E29: 42.038 | F29: 42.23 | G29: 42.352 | H29: 41.851 | I29: 42.633 | J29: 42.673
B30: 10 | C30: 42.318 | D30: 42.284 | E30: 41.869 | F30: 42.17 | G30: 42.233 | H30: 41.909 | I30: 42.364 | J30: 42.799
B31: 11 | C31: 41.861 | D31: 42.407 | E31: 41.984 | F31: 42.178 | G31: 42.443 | H31: 41.879 | I31: 42.458 | J31: 42.17
B32: 12 | C32: 41.926 | D32: 42.461 | E32: 41.943 | F32: 41.906 | G32: 42.406 | H32: 42.053 | I32: 42.862 | J32: 42.335
... B38: 18 | C38: 42.344 | D38: 43.556 | E38: 42.328 | F38: 42.057 | G38: 42.44 | H38: 42.062 | I38: 42.904 | J38: 42.558
B39: 19 | C39: 41.863 | E39: 41.797 | F39: 42.128 | G39: 42.392 | H39: 42.023 | I39: 42.64 | J39: 42.274
B40: 20 | C40: 41.872 | E40: 42.183 | F40: 42.154 | G40: 42.236 | H40: 41.975 | I40: 43.21 | J40: 42.398
B41: 21 | C41: 42.011 | E41: 42.122 | F41: 42.005 | G41: 42.414 | H41: 42.506 | I41: 42.259 | J41: 42.341
B42: 22 | C42: 41.699 | E42: 42.255 | F42: 42.166 | G42: 42.401 | H42: 41.854 | I42: 42.587 | J42: 42.272
B43: 23 | C43: 41.871 | E43: 42.163 | F43: 42.201 | G43: 42.298 | H43: 41.99 | I43: 42.51 | J43: 42.323
B44: 24 | C44: 42.116 | E44: 42.131 | F44: 42.163 | G44: 42.259 | H44: 41.861 | I44: 42.657 | J44: 42.218
B45: 25 | C45: 42.041 | E45: 42.032 | F45: 42.925 | G45: 42.472 | H45: 41.912 | I45: 42.532 | J45: 42.401
B46: 26 | C46: 41.912 | E46: 42.606 | F46: 42.291 | G46: 42.215 | H46: 42.122 | I46: 42.408 | J46: 42.758
B47: 27 | C47: 42.053 | E47: 42.043 | F47: 42.192 | H47: 41.821 | I47: 43.397
B48: 28 | C48: 41.858 | E48: 41.993 | F48: 42.103 | H48: 41.776 | I48: 42.405
B49: 29 | C49: 41.811 | E49: 42.152 | F49: 41.973 | H49: 42.084 | I49: 42.364
B50: 30 | C50: 42.179 | E50: 42.251 | F50: 42.049 | H50: 42.352 | I50: 42.514
B51: 31 | C51: 41.904 | E51: 42.039 | F51: 42.194 | H51: 41.894 | I51: 42.72
B52: 32 | C52: 41.831 | E52: 42.269 | F52: 41.933 | H52: 42.055 | I52: 43.165
B53: 33 | C53: 41.915 | E53: 41.938 | F53: 42.159 | H53: 42.011 | I53: 43.28
B54: 34 | C54: 41.793 | E54: 42.095 | F54: 42.171 | H54: 42.014 | I54: 42.67
B55: 35 | C55: 41.642 | E55: 42.036 | F55: 41.911 | H55: 41.936 | I55: 43.122
B56: 36 | C56: 42.026 | E56: 42.044 | F56: 42.014 | H56: 42.029 | I56: 43.004
B57: 37 | C57: 41.924 | E57: 42.166 | F57: 41.913 | H57: 41.881 | I57: 42.732
B58: 38 | C58: 41.77 | E58: 42.065 | F58: 42.048 | H58: 41.982 | I58: 42.602
... B61: 41 | C61: 42.053 | E61: 42.153 | F61: 42.347 | H61: 41.988 | I61: 42.955
B62: 42 | E62: 41.989 | F62: 42.054 | H62: 41.844 | I62: 42.767
B63: 43 | E63: 41.918 | F63: 42.015 | H63: 41.87 | I63: 43.022
B64: 44 | E64: 42.029 | F64: 41.951 | H64: 41.926 | I64: 42.658
B65: 45 | F65: 41.969 | H65: 42.134 | I65: 43.648
B66: 46 | F66: 42.178 | H66: 42.039 | I66: 42.683
B67: 47 | F67: 41.854 | H67: 42.247 | I67: 42.781
B68: 48 | F68: 41.95 | H68: 42.63 | I68: 42.823
B69: 49 | F69: 42.084 | H69: 42.407 | I69: 42.823
B70: 50 | F70: 42.248 | H70: 42.169 | I70: 42.622
B71: 51 | F71: 42.254 | H71: 42.088 | I71: 42.795
B72: 52 | H72: 41.941 | I72: 42.704
B73: 53 | H73: 41.934 | I73: 42.688
B74: 54 | H74: 42.372 | I74: 43.142
B75: 55 | H75: 42.171 | I75: 42.761
B76: 56 | H76: 42.1
B77: 57 | H77: 42.307
B78: 58
B79: 59
B80: 60
B81: 61
B82: 62
B83: 63

Sheet NFS_Fortuna_RT
A2: Чемпионат мини марафон "Большие Гонки", 13-й этап
A4: NFS Fortuna RT
A6: Обяза-тельные | B6: Пилот | C6: карт | D6: Круг | E6: кругов на отрезке | F6: Статистика по кругам | J6: Общее время гонки | K6: Время на трассе
F7: Лучший круг | G7: Среднее на отрезке | I7: стабильность | K7: отрезок | L7: всего у пилота | M7: Питы | N7: Штрафы/ бонусы (сек)
A8: 1 | B8: Шутка Виталий | C8: 3 | D8: =COUNTA(C21:C74) -> 22 | E8: =COUNTA(C21:C74) -> 22 | F8: =MIN(C21:C74) -> 41.729 | G8: =AVERAGE(C21:C74) -> 42.3685 | I8: =G8-F8 -> 0.6395 | J8: 0.010972222 | K8: =J8 -> 0.010972222 | L8: =K8 -> 0.010972222 | M8: 138.328
A9: 2 | B9: Фортуна Таня | C9: 10 | D9: =COUNTA(D21:D74)+D8+1 -> 43 | E9: =COUNTA(D21:D74)+1 -> 21 | F9: =MIN(D21:D74) -> 42.009 | G9: =AVERAGE(D21:D74) -> 42.3643 | I9: =G9-F9 -> 0.3553 | J9: 0.022928241 | K9: =J9-J8 -> 0.011956019 | L9: =K9 -> 0.011956019 | M9: 135.86
A10: 3 | B10: Фортуна Таня | C10: 11/8 | D10: =COUNTA(E21:E85)+D9+1 -> 81 | E10: =COUNTA(E21:E85)+1 -> 38 | F10: =MIN(E21:E86) -> 42.005 | G10: =AVERAGE(E21:E87) -> 42.624 | I10: =G10-F10 -> 0.619 | J10: 0.042708333 | K10: =J10-J9 -> 0.019780093 | L10: =K10+L9 -> 0.031736111 | M10: 90.343 | N10: -92+5 | O10: поломка+подбивание
A11: 4 | B11: Шутка Виталий | C11: 5 | D11: =COUNTA(F21:F85)+D10+1 -> 143 | E11: =COUNTA(F21:F85)+1 -> 62 | F11: =MIN(F21:F86) -> 41.741 | G11: =AVERAGE(F21:F87) -> 42.180246 | I11: =G11-F11 -> 0.4392459 | J11: 0.065289352 | K11: =J11-J10 -> 0.022581019 | L11: =K11+L8 -> 0.033553241 | M11: 117.009
A12: 5 | B12: Фортуна Таня | C12: 9 | D12: =COUNTA(G21:G85)+D11+1 -> 204 | E12: =COUNTA(G21:G85)+1 -> 61 | F12: =MIN(G21:G86) -> 42.153 | G12: =AVERAGE(G21:G886) -> 42.56435 | I12: =G12-F12 -> 0.41135 | J12: 0.093414352 | K12: =J12-J11 -> 0.028125 | L12: =K12+L10 -> 0.059861111 | M12: 107.873
A13: 6 | B13: Шутка Виталий | C13: 44 | D13: =COUNTA(H21:H85)+D12+1 -> 241 | E13: =COUNTA(H21:H85)+1 -> 37 | F13: =MIN(H21:H86) -> 42.186 | G13: =AVERAGE(H21:H86) -> 42.552694 | I13: =G13-F13 -> 0.36669444 | J13: 0.1053588 | K13: =J13-J12 -> 0.011944444 | L13: =K13+L11 -> 0.045497685 | M13: 137.966
A14: 7 | B14: Шутка Виталий | C14: 13 | D14: =COUNTA(I21:I85)+D13+1 -> 273 | E14: =COUNTA(I21:I85)+1 -> 32 | F14: =MIN(I21:I86) -> 42.093 | G14: =AVERAGE(I21:I86) -> 42.382935 | I14: =G14-F14 -> 0.28993548 | J14: 0.13631944 | K14: =J14-J13 -> 0.030960648 | L14: =K14+L13 -> 0.076458333 | M14: 138.238
A15: Финиш | B15: Фортуна Таня | C15: 3 | D15: =COUNTA(J21:J85)+D14+1 -> 325 | E15: =COUNTA(J21:J85)+1 -> 52 | F15: =MIN(J21:J86) -> 41.73 | G15: =AVERAGE(J21:J86) -> 42.181 | I15: =G15-F15 -> 0.451 | J15: =Общие_результаты!G6 -> 4:00:25 | K15: =J15-J14 -> 0.030636574 | L15: =K15+L12 -> 0.090497685 | N15: +12 | O15: недодержали на питах
F16: =AVERAGE(F8,F11,F13,F14) -> 41.93725 | G16: =AVERAGE(C21:C74,F21:F89,H21:I97) -> 42.339133 | H16: Виталий | I16: =AVERAGE(I8,I11,I13,I14) -> 0.43384396
F17: =AVERAGE(F9,F10,F12,F15) -> 41.97425 | G17: =AVERAGE(D21:D74,E21:E89,G21:G97,J21:J85) -> 42.437298 | H17: Таня | I17: =AVERAGE(I9,I10,I12,I15) -> 0.4591625
F18: =AVERAGE(F8:F15) -> 41.95575 | G18: =AVERAGE(C21:J90) -> 42.390994 | I18: =AVERAGE(I8:I15) -> 0.44650323
C20: =B8 -> Шутка Виталий | D20: =B9 -> Фортуна Таня | E20: =B10 -> Фортуна Таня | F20: =B11 -> Шутка Виталий | G20: =B12 -> Фортуна Таня | H20: =B13 -> Шутка Виталий | I20: =B14 -> Шутка Виталий | J20: =B15 -> Фортуна Таня
B21: 1 | C21: 45.776 | D21: 45.043 | E21: 43.494 | F21: 42.981 | G21: 43.705 | H21: 43.904 | I21: 43.516 | J21: 43.961
B22: 2 | C22: 44.074 | D22: 42.627 | E22: 42.08 | F22: 42.347 | G22: 42.683 | H22: 42.811 | I22: 42.652 | J22: 42.348
B23: 3 | C23: 42.092 | D23: 42.32 | E23: 42.293 | F23: 42.175 | G23: 42.323 | H23: 42.957 | I23: 42.784 | J23: 42.462
B24: 4 | C24: 41.783 | D24: 42.493 | E24: 42.326 | F24: 42.401 | G24: 42.51 | H24: 42.919 | I24: 42.374 | J24: 42.239
B25: 5 | C25: 42.877 | D25: 42.249 | E25: 42.392 | F25: 42.078 | G25: 42.596 | H25: 42.727 | I25: 42.189 | J25: 42.428
B26: 6 | C26: 42.006 | D26: 42.431 | E26: 42.498 | F26: 42.251 | G26: 42.473 | H26: 42.776 | I26: 42.388 | J26: 42.321
B27: 7 | C27: 41.782 | D27: 42.337 | E27: 43.056 | F27: 42.041 | G27: 42.507 | H27: 42.685 | I27: 42.247 | J27: 41.972
B28: 8 | C28: 42.273 | D28: 42.209 | E28: 43.208 | F28: 42.263 | G28: 42.325 | H28: 42.52 | I28: 42.797 | J28: 42.037
B29: 9 | C29: 42.136 | D29: 42.05 | E29: 43.278 | F29: 42.138 | G29: 42.399 | H29: 42.55 | I29: 42.285 | J29: 42.144
B30: 10 | C30: 42.119 | D30: 42.205 | E30: =133.509-91 -> 42.509 | F30: 42.281 | G30: 43.216 | H30: 42.458 | I30: 42.368 | J30: 41.981
B31: 11 | C31: 42.052 | D31: 42.097 | E31: 44.115 | F31: 42.1 | G31: 42.669 | H31: 42.558 | I31: 42.235 | J31: 42.004
B32: 12 | C32: 41.729 | D32: 42.275 | E32: 42.862 | F32: 42.176 | G32: 42.153 | H32: 42.5 | I32: 42.408 | J32: 42.03
B33: 13 | C33: 41.85 | D33: 42.009 | E33: 42.843 | F33: 42.27 | G33: 42.265 | H33: 42.471 | I33: 42.164 | J33: 42.143
B34: 14 | C34: 41.901 | D34: 42.064 | E34: 42.873 | F34: 42.301 | G34: 42.735 | H34: 42.423 | I34: 42.369 | J34: 41.941
B35: 15 | C35: 42.07 | D35: 42.104 | E35: 42.616 | F35: 42.131 | G35: 42.441 | H35: 42.501 | I35: 42.298 | J35: 42.032
B36: 16 | C36: 43.03 | D36: 42.059 | E36: 42.365 | F36: 42.008 | G36: 42.21 | H36: 42.414 | I36: 42.099 | J36: 41.991
B37: 17 | C37: 42.082 | D37: 42.166 | E37: 42.373 | F37: 42.257 | G37: 42.473 | H37: 42.412 | I37: 42.307 | J37: 42.028
B38: 18 | C38: 42.001 | D38: 42.146 | E38: 42.517 | F38: 42.04 | G38: 42.354 | H38: 42.464 | I38: 42.322 | J38: 41.846
B39: 19 | C39: 42.021 | D39: 42.202 | E39: 42.807 | F39: 42.136 | G39: 42.35 | H39: 43.161 | I39: 42.178 | J39: 41.906
B40: 20 | C40: 42.21 | D40: 42.2 | E40: 42.557 | F40: 41.948 | G40: 42.606 | H40: 42.306 | I40: 42.21 | J40: 41.961
B41: 21 | C41: 42.178 | E41: 42.282 | F41: 41.937 | G41: 42.517 | H41: 42.241 | I41: 42.202 | J41: 42.015
B42: 22 | C42: 42.065 | E42: 42.392 | F42: 42.083 | G42: 42.602 | H42: 42.31 | I42: 42.321 | J42: 42.029
B43: 23 | E43: 42.253 | F43: 42.124 | G43: 42.599 | H43: 42.525 | I43: 42.093 | J43: 42.033
B44: 24 | E44: 42.618 | F44: 42.095 | G44: 42.455 | H44: 42.52 | I44: 42.27 | J44: 42.232
B45: 25 | E45: 42.556 | F45: 42.943 | G45: 42.489 | H45: 42.186 | I45: 42.175 | J45: 41.956
B46: 26 | E46: 42.657 | F46: 41.958 | G46: 42.455 | H46: 42.285 | I46: 42.662 | J46: 42.106
B47: 27 | E47: 42.122 | F47: 42.11 | G47: 43.225 | H47: 42.463 | I47: 42.417 | J47: 41.983
B48: 28 | E48: 42.322 | F48: 41.962 | G48: 42.43 | H48: 42.215 | I48: 42.148 | J48: 42.025
B49: 29 | E49: 43.286 | F49: 42.134 | G49: 42.47 | H49: 42.492 | I49: 42.262 | J49: 42.233
B50: 30 | E50: 42.371 | F50: 42.086 | G50: 42.565 | H50: 42.291 | I50: 42.151 | J50: 42.105
B51: 31 | E51: 42.287 | F51: 41.741 | G51: 42.725 | H51: 42.841 | I51: 42.98 | J51: 41.73
B52: 32 | E52: 42.005 | F52: 42 | G52: 42.401 | H52: 42.549 | J52: 42.321
B53: 33 | E53: 42.145 | F53: 42.046 | G53: 42.503 | H53: 42.51 | J53: 42.121
B54: 34 | E54: 42.279 | F54: 42.006 | G54: 42.557 | H54: 42.262 | J54: 42.297
B55: 35 | E55: 42.438 | F55: 41.979 | G55: 42.664 | H55: 42.294 | J55: 42.171
B56: 36 | E56: 43.53 | F56: 42.165 | G56: 42.399 | H56: 42.396 | J56: 42.085
B57: 37 | E57: 42.483 | F57: 42.598 | G57: 42.505 | J57: 42.099
B58: 38 | F58: 42.223 | G58: 42.505 | J58: 42.598
B59: 39 | F59: 42.035 | G59: 42.562 | J59: 42.183
B60: 40 | F60: 41.998 | G60: 42.696 | J60: 42.168
B61: 41 | F61: 42.174 | G61: 42.617 | J61: 42.112
B62: 42 | F62: 42.207 | G62: 42.675 | J62: 42.299
B63: 43 | F63: 41.953 | G63: 42.652 | J63: 42.024
B64: 44 | F64: 42.924 | G64: 42.676 | J64: 42.557
B65: 45 | F65: 42.396 | G65: 42.537 | J65: 42.744
B66: 46 | F66: 42.296 | G66: 42.71 | J66: 42.085
B67: 47 | F67: 42.351 | G67: 42.906 | J67: 42.119
B68: 48 | F68: 42.209 | G68: 42.568 | J68: 42.191
B69: 49 | F69: 41.866 | G69: 42.554 | J69: 42.255
... B71: 51 | F71: 41.938 | G71: 42.55 | J71: 42.31
B72: 52 | F72: 42.423 | G72: 42.227
B73: 53 | F73: 42.233 | G73: 42.535
B74: 54 | F74: 42.137 | G74: 42.567
B75: 55 | F75: 42.056 | G75: 42.568
B76: 56 | F76: 42.11 | G76: 42.54
B77: 57 | F77: 42.281 | G77: 42.339
B78: 58 | F78: 42.158 | G78: 42.678
B79: 59 | F79: 42.246 | G79: 42.526
B80: 60 | F80: 42.262 | G80: 42.656
B81: 61 | F81: 42.195
B82: 62
B83: 63

Sheet Hurricane_RTU
A2: Чемпионат мини марафон "Большие Гонки", 13-й этап
A4: Hurricane RTU
A6: Обяза-тельные | B6: Пилот | C6: карт | D6: Круг | E6: кругов на отрезке | F6: Статистика по кругам | J6: Общее время гонки | K6: Время на трассе
F7: Лучший круг | G7: Среднее на отрезке | I7: стабильность | K7: отрезок | L7: всего у пилота | M7: Питы | N7: Штрафы/ бонусы (сек)
A8: 1 | B8: Стоцкий Андрей | C8: 2 | D8: =COUNTA(C21:C85) -> 45 | E8: =COUNTA(C21:C85) -> 45 | F8: =MIN(C21:C84) -> 41.623 | G8: =AVERAGE(C21:C87) -> 41.917356 | I8: =G8-F8 -> 0.29435556 | J8: 0.022314815 | K8: =J8 -> 0.022314815 | L8: =K8 -> 0.022314815 | M8: 137.92
A9: 2 | B9: Хавило Дима | C9: 69 | D9: =COUNTA(D21:D85)+D8+1 -> 64 | E9: =COUNTA(D21:D85)+1 -> 19 | F9: =MIN(D21:D84) -> 41.991 | G9: =AVERAGE(D21:D86) -> 42.415556 | I9: =G9-F9 -> 0.42455556 | J9: 0.03275463 | K9: =J9-J8 -> 0.010439815 | L9: =K9 -> 0.010439815 | M9: 173.541 | N9: +35 | O9: лимит
A10: 3 | B10: Хавило Дима | C10: 44 | D10: =COUNTA(E21:E85)+D9+1 -> 97 | E10: =COUNTA(E21:E85)+1 -> 33 | F10: =MIN(E21:E86) -> 42.071 | G10: =AVERAGE(E21:E87) -> 42.437406 | I10: =G10-F10 -> 0.36640625 | J10: 0.050474537 | K10: =J10-J9 -> 0.017719907 | L10: =K10+L9 -> 0.028159722 | M10: 153.019
A11: 4 | B11: Стоцкий Андрей | C11: 8 | D11: =COUNTA(F21:F85)+D10+1 -> 156 | E11: =COUNTA(F21:F85)+1 -> 59 | F11: =MIN(F21:F86) -> 41.856 | G11: =AVERAGE(F21:F86) -> 42.181431 | I11: =G11-F11 -> 0.32543103 | J11: 0.08056713 | K11: =J11-J10 -> 0.030092593 | L11: =K11+L8 -> 0.052407407 | M11: 132.424
A12: 5 | B12: Хавило Дима | C12: 5 | D12: =COUNTA(G21:G85)+D11+1 -> 204 | E12: =COUNTA(G21:G85)+1 -> 48 | F12: =MIN(G21:G86) -> 42.028 | G12: =AVERAGE(G21:G886) -> 42.409532 | I12: =G12-F12 -> 0.38153191 | J12: 0.10517361 | K12: =J12-J11 -> 0.024606481 | L12: =K12+L10 -> 0.052766204 | M12: 142.948 | N12: +5 | O12: раньше выпустили
A13: 6 | B13: Хавило Дима | C13: 11 | D13: =COUNTA(H21:H85)+D12+1 -> 251 | E13: =COUNTA(H21:H85)+1 -> 47 | F13: =MIN(H21:H86) -> 41.936 | G13: =AVERAGE(H21:H86) -> 42.313913 | I13: =G13-F13 -> 0.37791304 | J13: 0.12935185 | K13: =J13-J12 -> 0.024178241 | L13: =K13+L12 -> 0.076944444 | M13: 138.644
A14: 7 | B14: Стоцкий Андрей | C14: 69 | D14: =COUNTA(I21:I85)+D13+1 -> 271 | E14: =COUNTA(I21:I85)+1 -> 20 | F14: =MIN(I21:I86) -> 41.917 | G14: =AVERAGE(I21:I86) -> 42.256263 | I14: =G14-F14 -> 0.33926316 | J14: 0.14025463 | K14: =J14-J13 -> 0.010902778 | L14: =K14+L11 -> 0.063310185 | M14: 138.449
A15: Финиш | B15: Стоцкий Андрей | C15: 21 | D15: =COUNTA(J21:J85)+D14+1 -> 325 | E15: =COUNTA(J21:J85)+1 -> 54 | F15: =MIN(J21:J86) -> 41.762 | G15: =AVERAGE(J21:J86) -> 42.033094 | I15: =G15-F15 -> 0.27109434 | J15: =Общие_результаты!G6 -> 4:00:25 | K15: =J15-J14 -> 0.026701389 | L15: =K15+L14 -> 0.090011574
F16: =AVERAGE(F8,F11,F15,F14) -> 41.7895 | G16: =AVERAGE(C21:C86,F21:F88,I21:J87) -> 42.076726 | H16: Андрей | I16: =AVERAGE(I8,I11,I15,I14) -> 0.30753602
F17: =AVERAGE(F9,F10,F12,F13) -> 42.0065 | G17: =AVERAGE(D21:D86,E21:E88,G21:H87) -> 42.385769 | H17: Дима | I17: =AVERAGE(I9,I10,I12,I13) -> 0.38760169
F18: =AVERAGE(F8:F15) -> 41.898 | G18: =AVERAGE(C21:J90) -> 42.215698 | I18: =AVERAGE(I8:I15) -> 0.34756886
C20: =B8 -> Стоцкий Андрей | D20: =B9 -> Хавило Дима | E20: =B10 -> Хавило Дима | F20: =B11 -> Стоцкий Андрей | G20: =B12 -> Хавило Дима | H20: =B13 -> Хавило Дима | I20: =B14 -> Стоцкий Андрей | J20: =B15 -> Стоцкий Андрей
B21: 1 | C21: 43.049 | D21: 43.678 | E21: 44.306 | F21: 43.356 | G21: 43.306 | H21: 43.434 | I21: 43.437 | J21: 43.06
B22: 2 | C22: 42.385 | D22: 42.416 | E22: 42.524 | F22: 42.296 | G22: 42.533 | H22: 42.169 | I22: 42.567 | J22: 42.268
B23: 3 | C23: 42.142 | D23: 42.369 | E23: 42.584 | F23: 42.22 | G23: 42.497 | H23: 43.135 | I23: 42.219 | J23: 41.962
B24: 4 | C24: 41.915 | D24: 42.508 | E24: 42.306 | F24: 43.417 | G24: 42.369 | H24: 42.243 | I24: 42.397 | J24: 41.943
B25: 5 | C25: 42.949 | D25: 42.265 | E25: 42.278 | F25: 42.172 | G25: 42.433 | H25: 42.08 | I25: 42.311 | J25: 42.519
B26: 6 | C26: 41.909 | D26: 42.269 | E26: 42.595 | F26: 42.146 | G26: 42.028 | H26: 42.068 | I26: 42.184 | J26: 42.057
B27: 7 | C27: 42.085 | D27: 42.213 | E27: 42.491 | F27: 42.083 | G27: 42.32 | H27: 42.216 | I27: 42.226 | J27: 42.169
B28: 8 | C28: 41.959 | D28: 42.069 | E28: 42.378 | F28: 42.125 | G28: 42.406 | H28: 42.303 | I28: 42.079 | J28: 41.947
B29: 9 | C29: 41.835 | D29: 42.414 | E29: 42.539 | F29: 43.132 | G29: 42.849 | H29: 42.162 | I29: 42.106 | J29: 42.086
B30: 10 | C30: 41.781 | D30: 42.262 | E30: 42.363 | F30: 42.191 | G30: 42.33 | H30: 42.178 | I30: 42.196 | J30: 42.09
B31: 11 | C31: 41.744 | D31: 42.426 | E31: 42.591 | F31: 42.405 | G31: 42.269 | H31: 42.431 | I31: 42.08 | J31: 41.924
B32: 12 | C32: 41.752 | D32: 41.991 | E32: 42.518 | F32: 41.883 | G32: 42.21 | H32: 42.259 | I32: 42.025 | J32: 42.035
... B38: 18 | C38: 41.702 | D38: 42.435 | E38: 42.288 | F38: 42.014 | G38: 42.277 | H38: 42.454 | I38: 42.085 | J38: 41.901
B39: 19 | C39: 41.633 | E39: 42.253 | F39: 41.961 | G39: 42.336 | H39: 42.369 | I39: 42.155 | J39: 42.08
B40: 20 | C40: 42.006 | E40: 42.34 | F40: 41.952 | G40: 42.394 | H40: 42.234 | J40: 41.872
B41: 21 | C41: 41.914 | E41: 42.364 | F41: 42.029 | G41: 42.353 | H41: 42.527 | J41: 41.967
B42: 22 | C42: 41.786 | E42: 42.314 | F42: 42.01 | G42: 42.514 | H42: 42.435 | J42: 42.103
B43: 23 | C43: 41.791 | E43: 42.614 | F43: 42.033 | G43: 42.294 | H43: 42.403 | J43: 42.12
B44: 24 | C44: 41.81 | E44: 42.7 | F44: 42.283 | G44: 42.573 | H44: 42.19 | J44: 42.029
B45: 25 | C45: 41.726 | E45: 42.243 | F45: 42.022 | G45: 42.602 | H45: 42.304 | J45: 41.914
B46: 26 | C46: 41.784 | E46: 42.337 | F46: 42.155 | G46: 42.385 | H46: 42.564 | J46: 41.999
B47: 27 | C47: 41.706 | E47: 42.071 | F47: 42.228 | G47: 42.374 | H47: 42.466 | J47: 41.859
B48: 28 | C48: 42.12 | E48: 42.078 | F48: 42.124 | G48: 42.553 | H48: 42.206 | J48: 41.953
B49: 29 | C49: 41.767 | E49: 42.238 | F49: 42.268 | G49: 42.359 | H49: 42.45 | J49: 42.144
B50: 30 | C50: 41.784 | E50: 42.312 | F50: 41.985 | G50: 42.733 | H50: 42.267 | J50: 42.07
B51: 31 | C51: 41.822 | E51: 42.216 | F51: 42.072 | G51: 42.352 | H51: 42.293 | J51: 42.099
B52: 32 | C52: 41.921 | E52: 42.49 | F52: 42.3 | G52: 42.621 | H52: 42.423 | J52: 41.902
B53: 33 | C53: 41.826 | F53: 42.278 | G53: 42.482 | H53: 42.419 | J53: 41.944
B54: 34 | C54: 41.869 | F54: 42.114 | G54: 42.355 | H54: 42.128 | J54: 41.875
B55: 35 | C55: 41.821 | F55: 42.076 | G55: 42.184 | H55: 42.566 | J55: 42.009
B56: 36 | C56: 41.819 | F56: 41.905 | G56: 42.431 | H56: 42.315 | J56: 41.984
B57: 37 | C57: 41.817 | F57: 42.119 | G57: 42.191 | H57: 42.248 | J57: 41.926
B58: 38 | C58: 41.893 | F58: 42.141 | G58: 42.388 | H58: 42.002 | J58: 41.874
B59: 39 | C59: 41.893 | F59: 42.356 | G59: 42.282 | H59: 42.129 | J59: 41.821
B60: 40 | C60: 41.816 | F60: 42.205 | G60: 42.238 | H60: 41.936 | J60: 41.81
B61: 41 | C61: 41.848 | F61: 42.743 | G61: 42.38 | H61: 42.132 | J61: 42.054
B62: 42 | C62: 41.903 | F62: 41.938 | G62: 42.374 | H62: 42.394 | J62: 41.987
B63: 43 | C63: 41.921 | F63: 42.14 | G63: 42.091 | H63: 42.111 | J63: 41.878
B64: 44 | C64: 41.908 | F64: 42.168 | G64: 42.396 | H64: 42.135 | J64: 41.841
B65: 45 | C65: 41.958 | F65: 42.137 | G65: 42.453 | H65: 42.022 | J65: 41.867
B66: 46 | F66: 42.085 | G66: 42.37 | H66: 41.945 | J66: 42.033
B67: 47 | F67: 42.057 | G67: 42.611 | J67: 41.945
B68: 48 | F68: 42.122 | J68: 42.101
B69: 49 | F69: 42.032 | J69: 41.762
B70: 50 | F70: 42.015 | J70: 42.07
B71: 51 | F71: 42.049 | J71: 42.05
B72: 52 | F72: 42.168 | J72: 41.989
B73: 53 | F73: 42.054 | J73: 42.066
B74: 54 | F74: 41.988
B75: 55 | F75: 42.004
B76: 56 | F76: 42.015
B77: 57 | F77: 41.92
B78: 58 | F78: 42.097
B79: 59
B80: 60
B81: 61
B82: 62
B83: 63

Sheet NFS_Kyiv_Legends
A2: Чемпионат мини марафон "Большие Гонки", 13-й этап
A4: NFS Kyiv Legends
A6: Обяза-тельные | B6: Пилот | C6: карт | D6: Круг | E6: кругов на отрезке | F6: Статистика по кругам | J6: Общее время гонки | K6: Время на трассе
F7: Лучший круг | G7: Среднее на отрезке | I7: стабильность | K7: отрезок | L7: всего у пилота | M7: Питы | N7: Штрафы/ бонусы (сек)
A8: 1 | B8: Гаврилюк Олег | C8: 5 | D8: =COUNTA(C21:C85) -> 42 | E8: =COUNTA(C21:C85) -> 42 | F8: =MIN(C21:C84) -> 41.821 | G8: =AVERAGE(C21:C87) -> 42.400214 | I8: =G8-F8 -> 0.57921429 | J8: 0.021666667 | K8: =J8 -> 0.021666667 | L8: =K8 -> 0.021666667 | M8: 122.712 | N8: -48+20 | O8: поломка+лимит
A9: 2 | B9: Резанко Оля | C9: 21 | D9: =COUNTA(D21:D85)+D8+1 -> 83 | E9: =COUNTA(D21:D85)+1 -> 41 | F9: =MIN(D21:D84) -> 41.952 | G9: =AVERAGE(D21:D86) -> 42.277 | I9: =G9-F9 -> 0.325 | J9: 0.042650463 | K9: =J9-J8 -> 0.020983796 | L9: =K9 -> 0.020983796 | M9: 124.972
A10: 3 | B10: Гаврилюк Олег | C10: 4 | D10: =COUNTA(E21:E85)+D9+1 -> 146 | E10: =COUNTA(E21:E85)+1 -> 63 | F10: =MIN(E21:E86) -> 41.888 | G10: =AVERAGE(E21:E87) -> 42.201597 | I10: =G10-F10 -> 0.31359677 | J10: 0.074386574 | K10: =J10-J9 -> 0.031736111 | L10: =K10+L8 -> 0.053402778 | M10: 131.633
A11: 4 | B11: Резанко Оля | C11: 2 | D11: =COUNTA(F21:F85)+D10+1 -> 182 | E11: =COUNTA(F21:F85)+1 -> 36 | F11: =MIN(F21:F86) -> 42.002 | G11: =AVERAGE(F21:F86) -> 42.313457 | I11: =G11-F11 -> 0.31145714 | J11: 0.093055556 | K11: =J11-J10 -> 0.018668981 | L11: =K11+L9 -> 0.039652778 | M11: 149.718 | N11: +5+6 | O11: лимит+раньше выпустили
A12: 5 | B12: Гаврилюк Олег | C12: 8 | D12: =COUNTA(G21:G85)+D11+1 -> 204 | E12: =COUNTA(G21:G85)+1 -> 22 | F12: =MIN(G21:G86) -> 42.036 | G12: =AVERAGE(G21:G886) -> 42.320429 | I12: =G12-F12 -> 0.28442857 | J12: 0.10506944 | K12: =J12-J11 -> 0.012013889 | L12: =K12+L10 -> 0.065416667 | M12: 138.409
A13: 6 | B13: Резанко Оля | C13: 4 | D13: =COUNTA(H21:H85)+D12+1 -> 252 | E13: =COUNTA(H21:H85)+1 -> 48 | F13: =MIN(H21:H86) -> 41.98 | G13: =AVERAGE(H21:H86) -> 42.417787 | I13: =G13-F13 -> 0.43778723 | J13: 0.12974537 | K13: =J13-J12 -> 0.024675926 | L13: =K13+L11 -> 0.064328704 | M13: 137.788
A14: 7 | B14: Гаврилюк Олег | C14: 8 | D14: =COUNTA(I21:I85)+D13+1 -> 292 | E14: =COUNTA(I21:I85)+1 -> 40 | F14: =MIN(I21:I86) -> 41.936 | G14: =AVERAGE(I21:I86) -> 42.158179 | I14: =G14-F14 -> 0.22217949 | J14: 0.15050926 | K14: =J14-J13 -> 0.020763889 | L14: =K14+L12 -> 0.086180556 | M14: 141.707
A15: Финиш | B15: Резанко Оля | C15: 2 | D15: =COUNTA(J21:J85)+D14+1 -> 325 | E15: =COUNTA(J21:J85)+1 -> 33 | F15: =MIN(J21:J86) -> 41.902 | G15: =AVERAGE(J21:J86) -> 42.308562 | I15: =G15-F15 -> 0.4065625 | J15: =Общие_результаты!G6 -> 4:00:25 | K15: =J15-J14 -> 0.016446759 | L15: =K15+L13 -> 0.080775463
F16: =AVERAGE(F8,F10,F12,F14) -> 41.92025 | G16: =AVERAGE(C21:C87,E21:E87,G21:G87,I21:I87) -> 42.257354 | H16: Олег | I16: =AVERAGE(I8,I10,I12,I14) -> 0.34985478
F17: =AVERAGE(F9,F11,F13,F15) -> 41.959 | G17: =AVERAGE(D21:D87,F21:F87,H21:H87,J21:J87) -> 42.334812 | H17: Оля | I17: =AVERAGE(I9,I11,I13,I15) -> 0.37020172
F18: =AVERAGE(F8:F15) -> 41.939625 | G18: =AVERAGE(C21:J90) -> 42.294865 | I18: =AVERAGE(I8:I15) -> 0.36002825
C20: =B8 -> Гаврилюк Олег | D20: =B9 -> Резанко Оля | E20: =B10 -> Гаврилюк Олег | F20: =B11 -> Резанко Оля | G20: =B12 -> Гаврилюк Олег | H20: =B13 -> Резанко Оля | I20: =B14 -> Гаврилюк Олег | J20: =B15 -> Резанко Оля
B21: 1 | C21: 45.198 | D21: 43.164 | E21: 43.753 | F21: 43.917 | G21: 43.811 | H21: 43.515 | I21: 43.053 | J21: 43.196
B22: 2 | C22: 43.247 | D22: 42.32 | E22: 42.176 | F22: 42.663 | G22: 42.443 | H22: 42.98 | I22: 42.033 | J22: 42.357
B23: 3 | C23: 42.453 | D23: 42.359 | E23: 42.234 | F23: 42.297 | G23: 42.362 | H23: 43.058 | I23: 42.119 | J23: 42.164
B24: 4 | C24: 42.327 | D24: 42.367 | E24: 42.081 | F24: 42.717 | G24: 42.155 | H24: 42.62 | I24: 42.139 | J24: 42.195
B25: 5 | C25: 42.221 | D25: 42.326 | E25: 42.17 | F25: 42.298 | G25: 42.313 | H25: 42.554 | I25: 42.196 | J25: 42.594
B26: 6 | C26: 42.157 | D26: 42.339 | E26: 42.132 | F26: 42.334 | G26: 42.687 | H26: 42.447 | I26: 42.461 | J26: 41.974
B27: 7 | C27: 42.099 | D27: 42.257 | E27: 42.254 | F27: 42.525 | G27: 42.164 | H27: 42.346 | I27: 42.195 | J27: 42.396
B28: 8 | C28: 42.087 | D28: 42.062 | E28: 42.137 | F28: 42.315 | G28: 42.305 | H28: 42.377 | I28: 42.146 | J28: 42.396
B29: 9 | C29: 41.962 | D29: 42.664 | E29: 41.918 | F29: 42.109 | G29: 42.099 | H29: 41.98 | I29: 42.187 | J29: 42.277
B30: 10 | C30: 42.017 | D30: 42.175 | E30: 42.101 | F30: 42.304 | G30: 42.036 | H30: 42.249 | I30: 42.113 | J30: 42.483
B31: 11 | C31: 42.188 | D31: 42.164 | E31: 41.888 | F31: 42.104 | G31: 42.11 | H31: 42.891 | I31: 42.012 | J31: 42.112
B32: 12 | C32: 41.821 | D32: 42.16 | E32: 42.165 | F32: 42.241 | G32: 42.199 | H32: 42.272 | I32: 42.182 | J32: 42.208
B33: 13 | C33: 42.041 | D33: 42.382 | E33: 42.427 | F33: 42.162 | G33: 42.12 | H33: 42.442 | I33: 42.17 | J33: 42.264
B34: 14 | C34: =90.412-48 -> 42.412 | D34: 42.502 | E34: 42.433 | F34: 42.203 | G34: 42.134 | H34: 42.358 | I34: 42.22 | J34: 42.277
B35: 15 | C35: 45.211 | D35: 42.31 | E35: 42.17 | F35: 42.504 | G35: 42.206 | H35: 42.477 | I35: 42.384 | J35: 42.161
B36: 16 | C36: 42.322 | D36: 42.311 | E36: 42.292 | F36: 42.355 | G36: 42.294 | H36: 42.151 | I36: 42.202 | J36: 42.166
B37: 17 | C37: 42.283 | D37: 42.201 | E37: 42.362 | F37: 42.298 | G37: 42.349 | H37: 42.272 | I37: 41.972 | J37: 42.221
B38: 18 | C38: 42.162 | D38: 42.298 | E38: 42.201 | F38: 42.096 | G38: 42.341 | H38: 42.137 | I38: 42.199 | J38: 42.164
B39: 19 | C39: 42.254 | D39: 42.069 | E39: 42.05 | F39: 42.345 | G39: 42.152 | H39: 42.115 | I39: 42.191 | J39: 42.222
B40: 20 | C40: 41.922 | D40: 42.244 | E40: 42.027 | F40: 42.108 | G40: 42.133 | H40: 42.526 | I40: 42.233 | J40: 42.239
B41: 21 | C41: 42.11 | D41: 42.406 | E41: 42.124 | F41: 42.197 | G41: 42.316 | H41: 42.405 | I41: 42.083 | J41: 42.968
B42: 22 | C42: 42.251 | D42: 42.325 | E42: 42.094 | F42: 42.002 | H42: 42.171 | I42: 42.13 | J42: 41.902
B43: 23 | C43: 42.137 | D43: 42.285 | E43: 41.965 | F43: 42.185 | H43: 42.184 | I43: 41.95 | J43: 42.088
B44: 24 | C44: 42.578 | D44: 42.049 | E44: 42.215 | F44: 42.267 | H44: 42.249 | I44: 42.105 | J44: 42.41
B45: 25 | C45: 42.148 | D45: 42.254 | E45: 42.063 | F45: 42.378 | H45: 42.454 | I45: 42.039 | J45: 42.034
B46: 26 | C46: 42.547 | D46: 42.118 | E46: 42.238 | F46: 42.375 | H46: 42.386 | I46: 42.192 | J46: 42.168
B47: 27 | C47: 42.068 | D47: 42.137 | E47: 42.12 | F47: 42.345 | H47: 42.588 | I47: 42.282 | J47: 43.039
B48: 28 | C48: 43.072 | D48: 42.01 | E48: 42.175 | F48: 42.109 | H48: 42.447 | I48: 42.093 | J48: 42.266
B49: 29 | C49: 42.158 | D49: 42.238 | E49: 42.005 | F49: 42.032 | H49: 42.927 | I49: 42.222 | J49: 42.124
B50: 30 | C50: 42.2 | D50: 41.978 | E50: 42.098 | F50: 42.267 | H50: 42.324 | I50: 42.03 | J50: 42.301
B51: 31 | C51: 42.108 | D51: 42.117 | E51: 42.143 | F51: 42.027 | H51: 42.262 | I51: 42.156 | J51: 42.283
B52: 32 | C52: 42.164 | D52: 42.803 | E52: 42.202 | F52: 42.194 | H52: 42.389 | I52: 41.999 | J52: 42.225
B53: 33 | C53: 42.223 | D53: 41.952 | E53: 42.057 | F53: 42.324 | H53: 42.162 | I53: 42.207
B54: 34 | C54: 42.503 | D54: 42.265 | E54: 43.29 | F54: 42.296 | H54: 42.129 | I54: 41.936
B55: 35 | C55: 42.095 | D55: 42.287 | E55: 42.258 | F55: 42.078 | H55: 42.118 | I55: 42.023
B56: 36 | C56: 42.06 | D56: 42.074 | E56: 42.216 | H56: 42.283 | I56: 42.113
B57: 37 | C57: 42.183 | D57: 42.355 | E57: 42.075 | H57: 42.472 | I57: 42.026
B58: 38 | C58: 42.208 | D58: 42.101 | E58: 43.56 | H58: 42.27 | I58: 41.952
B59: 39 | C59: 42.38 | D59: 42.199 | E59: 42.286 | H59: 42.45 | I59: 42.224
B60: 40 | C60: 42.365 | D60: 42.453 | E60: 42.008 | H60: 42.574
B61: 41 | C61: 42.33 | E61: 41.991 | H61: 42.302
B62: 42 | C62: 42.537 | E62: 41.99 | H62: 42.426
B63: 43 | E63: 42.041 | H63: 42.283
B64: 44 | E64: 42.022 | H64: 42.181
B65: 45 | E65: 42.191 | H65: 42.463
B66: 46 | E66: 42.02 | H66: 42.546
B67: 47 | E67: 42.156 | H67: 42.424
B68: 48 | E68: 42.35
B69: 49 | E69: 42.384
B70: 50 | E70: 42.118
B71: 51 | E71: 42.031
B72: 52 | E72: 42.144
B73: 53 | E73: 42.182
B74: 54 | E74: 41.964
B75: 55 | E75: 42.097
B76: 56 | E76: 42.038
B77: 57 | E77: 42.011
B78: 58 | E78: 42.042
B79: 59 | E79: 42.048
... B82: 62 | E82: 42.241
B83: 63

Sheet Jaguar
A2: Чемпионат мини марафон "Большие Гонки", 13-й этап
A4: Jaguar
A6: Обяза-тельные | B6: Пилот | C6: карт | D6: Круг | E6: кругов на отрезке | F6: Статистика по кругам | J6: Общее время гонки | K6: Время на трассе
F7: Лучший круг | G7: Среднее на отрезке | I7: стабильность | K7: отрезок | L7: всего у пилота | M7: Питы | N7: Штрафы/ бонусы (сек)
A8: 1 | B8: Якусик Дима | C8: 6 | D8: =COUNTA(C21:C85) -> 21 | E8: =COUNTA(C21:C85) -> 21 | F8: =MIN(C21:C84) -> 42.193 | G8: =AVERAGE(C21:C87) -> 43.08419 | I8: =G8-F8 -> 0.89119048 | J8: 0.010972222 | K8: =J8 -> 0.010972222 | L8: =K8 -> 0.010972222 | M8: 138.98
A9: 2 | B9: Лихошерст Леша | C9: 44 | D9: =COUNTA(D21:D85)+D8+1 -> 43 | E9: =COUNTA(D21:D85)+1 -> 22 | F9: =MIN(D21:D84) -> 41.988 | G9: =AVERAGE(D21:D86) -> 42.567333 | I9: =G9-F9 -> 0.57933333 | J9: 0.022928241 | K9: =J9-J8 -> 0.011956019 | L9: =K9 -> 0.011956019 | M9: 137.488
A10: 3 | B10: Якусик Дима | C10: 5 | D10: =COUNTA(E21:E85)+D9+1 -> 81 | E10: =COUNTA(E21:E85)+1 -> 38 | F10: =MIN(E21:E86) -> 42.08 | G10: =AVERAGE(E21:E87) -> 42.421351 | I10: =G10-F10 -> 0.34135135 | J10: 0.042708333 | K10: =J10-J9 -> 0.019780093 | L10: =K10+L8 -> 0.030752315 | M10: 138.679
A11: 4 | B11: Лихошерст Леша | C11: 69 | D11: =COUNTA(F21:F85)+D10+1 -> 125 | E11: =COUNTA(F21:F85)+1 -> 44 | F11: =MIN(F21:F86) -> 41.942 | G11: =AVERAGE(F21:F86) -> 42.218163 | I11: =G11-F11 -> 0.27616279 | J11: 0.0653125 | K11: =J11-J10 -> 0.022604167 | L11: =K11+L9 -> 0.034560185 | M11: 140.218
A12: 5 | B12: Якусик Дима | C12: 11 | D12: =COUNTA(G21:G85)+D11+1 -> 180 | E12: =COUNTA(G21:G85)+1 -> 55 | F12: =MIN(G21:G86) -> 41.968 | G12: =AVERAGE(G21:G886) -> 42.390444 | I12: =G12-F12 -> 0.42244444 | J12: 0.093414352 | K12: =J12-J11 -> 0.028101852 | L12: =K12+L10 -> 0.058854167 | M12: 138.303
A13: 6 | B13: Лихошерст Леша | C13: 6 | D13: =COUNTA(H21:H85)+D12+1 -> 202 | E13: =COUNTA(H21:H85)+1 -> 22 | F13: =MIN(H21:H86) -> 42.129 | G13: =AVERAGE(H21:H86) -> 42.423762 | I13: =G13-F13 -> 0.2947619 | J13: 0.1053588 | K13: =J13-J12 -> 0.011944444 | L13: =K13+L11 -> 0.04650463 | M13: 143.945 | N13: +5 | O13: выбивание
A14: 7 | B14: Лихошерст Леша | C14: 21 | D14: =COUNTA(I21:I85)+D13+1 -> 263 | E14: =COUNTA(I21:I85)+1 -> 61 | F14: =MIN(I21:I86) -> 41.824 | G14: =AVERAGE(I21:I86) -> 42.2184 | I14: =G14-F14 -> 0.3944 | J14: 0.13631944 | K14: =J14-J13 -> 0.030960648 | L14: =K14+L13 -> 0.077465278 | M14: 204.393
A15: Финиш | B15: Якусик Дима | C15: 10 | D15: =COUNTA(J21:J85)+D14+1 -> 323 | E15: =COUNTA(J21:J85)+1 -> 60 | F15: =MIN(J21:J86) -> 42.086 | G15: =AVERAGE(J21:J86) -> 42.394322 | I15: =G15-F15 -> 0.30832203 | J15: =Общие_результаты!G6 -> 4:00:25 | K15: =J15-J14 -> 0.030636574 | L15: =K15+L12 -> 0.089490741 | N15: -67 | O15: поломка
F16: =AVERAGE(F8,F10,F12,F15) -> 42.08175 | G16: =AVERAGE(C21:C88,E21:E86,G21:G88,J21:J87) -> 42.483667 | H16: Дима | I16: =AVERAGE(I8,I10,I12,I15) -> 0.49082708
F17: =AVERAGE(F9,F11,F12,F15) -> 41.996 | G17: =AVERAGE(D21:D88,F21:F86,H21:H88,I21:I87) -> 42.298607 | H17: Леша | I17: =AVERAGE(I9,I11,I12,I15) -> 0.39656565
F18: =AVERAGE(F8:F15) -> 42.02625 | G18: =AVERAGE(C21:J90) -> 42.39875 | I18: =AVERAGE(I8:I15) -> 0.43849579
C20: =B8 -> Якусик Дима | D20: =B9 -> Лихошерст Леша | E20: =B10 -> Якусик Дима | F20: =B11 -> Лихошерст Леша | G20: =B12 -> Якусик Дима | H20: =B13 -> Лихошерст Леша | I20: =B14 -> Лихошерст Леша | J20: =B15 -> Якусик Дима
B21: 1 | C21: 45.668 | D21: 44.702 | E21: 44.023 | F21: 43.696 | G21: 44.013 | H21: 43.229 | I21: 43.714 | J21: 43.606
B22: 2 | C22: 50.289 | D22: 42.973 | E22: 42.291 | F22: 42.431 | G22: 42.463 | H22: 42.649 | I22: 42.52 | J22: 42.416
B23: 3 | C23: 42.957 | D23: 43.526 | E23: 42.242 | F23: 42.543 | G23: 42.904 | H23: 42.16 | I23: 42.453 | J23: 42.469
B24: 4 | C24: 42.488 | D24: 42.428 | E24: 42.223 | F24: 42.314 | G24: 42.615 | H24: 42.391 | I24: 42.422 | J24: 42.343
B25: 5 | C25: 43.794 | D25: 43.182 | E25: 42.201 | F25: 42.266 | G25: 42.212 | H25: 42.273 | I25: 42.105 | J25: 42.298
B26: 6 | C26: 42.533 | D26: 42.295 | E26: 42.244 | F26: 42.366 | G26: 42.606 | H26: 42.159 | I26: 42.387 | J26: 42.473
B27: 7 | C27: 42.367 | D27: 42.484 | E27: 42.404 | F27: 42.237 | G27: 42.362 | H27: 42.343 | I27: 42.275 | J27: 42.269
B28: 8 | C28: 42.614 | D28: 42.331 | E28: 42.323 | F28: 41.983 | G28: 42.238 | H28: 42.129 | I28: 42.3 | J28: 42.315
B29: 9 | C29: 42.549 | D29: 42.421 | E29: 42.346 | F29: 42.142 | G29: 42.74 | H29: 42.361 | I29: 42.198 | J29: 42.182
B30: 10 | C30: 42.473 | D30: 42.146 | E30: 42.326 | F30: 42.112 | G30: 42.204 | H30: 42.319 | I30: 42.027 | J30: 42.194
B31: 11 | C31: 42.34 | D31: 42.072 | E31: 42.117 | F31: 42.156 | G31: 42.239 | H31: 42.601 | I31: 42.333 | J31: 42.222
B32: 12 | C32: 42.265 | D32: 42.27 | E32: 42.262 | F32: 42.361 | G32: 42.475 | H32: 42.313 | I32: 42.05 | J32: 42.253
... B41: 21 | C41: 43.645 | D41: 42.821 | E41: 42.125 | F41: 42.033 | G41: 42.167 | H41: 42.588 | I41: 42.103 | J41: 42.698
B42: 22 | E42: 42.08 | F42: 42.214 | G42: 42.197 | I42: 42.374 | J42: 42.194
B43: 23 | E43: 42.345 | F43: 42.027 | G43: 42.113 | I43: 42.962 | J43: 42.388
B44: 24 | E44: 42.206 | F44: 42.167 | G44: 42.463 | I44: 42.196 | J44: 42.232
B45: 25 | E45: 42.478 | F45: 42.217 | G45: 42.612 | I45: 42.283 | J45: 42.768
B46: 26 | E46: 42.308 | F46: 42.409 | G46: 42.418 | I46: 41.938 | J46: 42.446
B47: 27 | E47: 42.392 | F47: 42.185 | G47: 42.199 | I47: 41.824 | J47: 42.55
B48: 28 | E48: 42.572 | F48: 42.473 | G48: 42.751 | I48: 42.081 | J48: 42.157
B49: 29 | E49: 42.532 | F49: 42.761 | G49: 42.566 | I49: 41.986 | J49: 42.086
B50: 30 | E50: 42.608 | F50: 42.172 | G50: 42.18 | I50: 42.289 | J50: 42.522
B51: 31 | E51: 42.353 | F51: 42.081 | G51: 42.222 | I51: 41.922 | J51: 42.118
B52: 32 | E52: 43.353 | F52: 42.341 | G52: 41.968 | I52: 42.34 | J52: 42.375
B53: 33 | E53: 42.505 | F53: 42.159 | G53: 42.183 | I53: 42.356 | J53: 42.159
... B57: 37 | E57: 42.391 | F57: 42.347 | G57: 42.213 | I57: 42.371 | J57: 42.575
B58: 38 | F58: 42.063 | G58: 42.105 | I58: 42.069 | J58: 42.166
B59: 39 | F59: 42.06 | G59: 42.151 | I59: 42.101 | J59: 42.343
B60: 40 | F60: 42.062 | G60: 42.685 | I60: 42.154 | J60: 43.698
B61: 41 | F61: 41.957 | G61: 42.248 | I61: 42.032 | J61: 42.474
B62: 42 | F62: 42.093 | G62: 42.363 | I62: 42.246 | J62: 42.401
B63: 43 | F63: 42.255 | G63: 42.386 | I63: 42.497 | J63: 42.363
B64: 44 | G64: 42.357 | I64: 42.116 | J64: 42.363
B65: 45 | G65: 42.36 | I65: 42.119 | J65: 42.282
B66: 46 | G66: 42.301 | I66: 42.196 | J66: 42.287
B67: 47 | G67: 42.134 | I67: 42.081 | J67: 42.139
B68: 48 | G68: 42.399 | I68: 41.982 | J68: 42.403
B69: 49 | G69: 42.146 | I69: 41.995 | J69: 42.222
B70: 50 | G70: 42.082 | I70: 41.961 | J70: 42.436
B71: 51 | G71: 42.217 | I71: 42.453 | J71: 42.368
B72: 52 | G72: 42.459 | I72: 42.156 | J72: 42.306
B73: 53 | G73: 42.324 | I73: 41.952 | J73: 42.476
B74: 54 | G74: 42.42 | I74: 42.182 | J74: 42.322
B75: 55 | I75: 42.121 | J75: 42.267
B76: 56 | I76: 42.033 | J76: 42.556
B77: 57 | I77: 42.331 | J77: 42.428
B78: 58 | I78: 42.082 | J78: 42.289
B79: 59 | I79: 42.375 | J79: 42.221
B80: 60 | I80: 42.342
B81: 61
B82: 62
B83: 63

Sheet Vpered_ta_Vgoru
A2: Чемпионат мини марафон "Большие Гонки", 13-й этап
A4: Vpered ta Vgoru
A6: Обяза-тельные | B6: Пилот | C6: карт | D6: Круг | E6: кругов на отрезке | F6: Статистика по кругам | J6: Общее время гонки | K6: Время на трассе
F7: Лучший круг | G7: Среднее на отрезке | I7: стабильность | K7: отрезок | L7: всего у пилота | M7: Питы | N7: Штрафы/ бонусы (сек)
A8: 1 | B8: Соколан Артем | C8: 21 | D8: =COUNTA(C21:C85) -> 41 | E8: =COUNTA(C21:C85) -> 41 | F8: =MIN(C21:C84) -> 42.043 | G8: =AVERAGE(C21:C87) -> 42.610488 | I8: =G8-F8 -> 0.5674878 | J8: 0.020729167 | K8: =J8 -> 0.020729167 | L8: =K8 -> 0.020729167 | M8: 137.134
A9: 2 | B9: Манило Денис | C9: 4 | D9: =COUNTA(D21:D82)+D8+1 -> 61 | E9: =COUNTA(D21:D82)+1 -> 20 | F9: =MIN(D21:D82) -> 42.101 | G9: =AVERAGE(D21:D82) -> 42.368105 | I9: =G9-F9 -> 0.26710526 | J9: 0.031631944 | K9: =J9-J8 -> 0.010902778 | L9: =K9 -> 0.010902778 | M9: 137.913
A10: 3 | B10: Соколан Артем | C10: 10 | D10: =COUNTA(E21:E85)+D9+1 -> 97 | E10: =COUNTA(E21:E85)+1 -> 36 | F10: =MIN(E21:E86) -> 42.023 | G10: =AVERAGE(E21:E87) -> 42.531429 | I10: =G10-F10 -> 0.50842857 | J10: 0.050648148 | K10: =J10-J9 -> 0.019016204 | L10: =K10+L8 -> 0.03974537 | M10: 140.503
A11: 4 | B11: Манило Денис | C11: 3 | D11: =COUNTA(F21:F85)+D10+1 -> 158 | E11: =COUNTA(F21:F85)+1 -> 61 | F11: =MIN(F21:F86) -> 41.828 | G11: =AVERAGE(F21:F86) -> 42.443667 | I11: =G11-F11 -> 0.61566667 | J11: 0.081550926 | K11: =J11-J10 -> 0.030902778 | L11: =K11+L9 -> 0.041805556 | M11: 138.227
A12: 5 | B12: Соколан Артем | C12: 7 | D12: =COUNTA(G21:G85)+D11+1 -> 211 | E12: =COUNTA(G21:G85)+1 -> 53 | F12: =MIN(G21:G86) -> 42.194 | G12: =AVERAGE(G21:G886) -> 42.578808 | I12: =G12-F12 -> 0.38480769 | J12: 0.10878472 | K12: =J12-J11 -> 0.027233796 | L12: =K12+L10 -> 0.066979167 | M12: 138.172
A13: 6 | B13: Манило Денис | C13: 8 | D13: =COUNTA(H21:H85)+D12+1 -> 238 | E13: =COUNTA(H21:H85)+1 -> 27 | F13: =MIN(H21:H86) -> 42.036 | G13: =AVERAGE(H21:H86) -> 42.474423 | I13: =G13-F13 -> 0.43842308 | J13: 0.12315972 | K13: =J13-J12 -> 0.014375 | L13: =K13+L11 -> 0.056180556 | M13: 138.522
A14: 7 | B14: Соколан Артем | C14: 3 | D14: =COUNTA(I21:I85)+D13+1 -> 263 | E14: =COUNTA(I21:I85)+1 -> 25 | F14: =MIN(I21:I86) -> 41.949 | G14: =AVERAGE(I21:I86) -> 42.270833 | I14: =G14-F14 -> 0.32183333 | J14: 0.1365162 | K14: =J14-J13 -> 0.013356481 | L14: =K14+L12 -> 0.080335648 | M14: 138.239
A15: Финиш | B15: Манило Денис | C15: 11 | D15: =COUNTA(J21:J85)+D14+1 -> 325 | E15: =COUNTA(J21:J85)+1 -> 62 | F15: =MIN(J21:J86) -> 41.818 | G15: =AVERAGE(J21:J86) -> 42.171148 | I15: =G15-F15 -> 0.35314754 | J15: =Общие_результаты!G6 -> 4:00:25 | K15: =J15-J14 -> 0.030439815 | L15: =K15+L13 -> 0.08662037 | N15: +10+10 | O15: неостановка+место в равных
F16: =AVERAGE(F8,F10,F12,F14) -> 42.05225 | G16: =AVERAGE(C21:C87,E21:E87,G21:G87,I21:I87) -> 42.527816 | H16: Артем | I16: =AVERAGE(I8,I10,I12,I14) -> 0.44563935
F17: =AVERAGE(F9,F11,F13,F15) -> 41.94575 | G17: =AVERAGE(D21:D82,F21:F87,H21:H87,J21:J87) -> 42.339693 | H17: Денис | I17: =AVERAGE(I9,I11,I13,I15) -> 0.41858564
F18: =AVERAGE(F8:F15) -> 41.999 | G18: =AVERAGE(C21:J90) -> 42.429613 | I18: =AVERAGE(I8:I15) -> 0.43211249
C20: =B8 -> Соколан Артем | D20: =B9 -> Манило Денис | E20: =B10 -> Соколан Артем | F20: =B11 -> Манило Денис | G20: =B12 -> Соколан Артем | H20: =B13 -> Манило Денис | I20: =B14 -> Соколан Артем | J20: =B15 -> Манило Денис
B21: 1 | C21: 45.751 | D21: 43.501 | E21: 43.661 | F21: 43.624 | G21: 43.527 | H21: 43.297 | I21: 43.813 | J21: 43.604
B22: 2 | C22: 44.306 | D22: 42.682 | E22: 42.785 | F22: 42.495 | G22: 42.976 | H22: 42.594 | I22: 42.242 | J22: 42.452
B23: 3 | C23: 42.777 | D23: 42.435 | E23: 42.761 | F23: 42.344 | G23: 42.787 | H23: 42.423 | I23: 42.704 | J23: 42.527
B24: 4 | C24: 42.476 | D24: 42.375 | E24: 42.35 | F24: 42.099 | G24: 42.621 | H24: 42.446 | I24: 42.268 | J24: 42.656
B25: 5 | C25: 43.345 | D25: 42.248 | E25: 42.486 | F25: 42.302 | G25: 42.362 | H25: 42.412 | I25: 42.234 | J25: 42.389
B26: 6 | C26: 42.384 | D26: 42.199 | E26: 42.441 | F26: 42.152 | G26: 42.552 | H26: 42.533 | I26: 42 | J26: 42.159
B27: 7 | C27: 42.465 | D27: 42.332 | E27: 42.169 | F27: 42.2 | G27: 42.411 | H27: 42.55 | I27: 41.988 | J27: 42.202
B28: 8 | C28: 42.333 | D28: 42.147 | E28: 42.362 | F28: 42.171 | G28: 42.806 | H28: 42.496 | I28: 42.335 | J28: 42.277
B29: 9 | C29: 42.673 | D29: 42.101 | E29: 42.023 | F29: 42.356 | G29: 42.513 | H29: 42.756 | I29: 42.048 | J29: 41.987
B30: 10 | C30: 42.26 | D30: 42.143 | E30: 42.365 | F30: 42.198 | G30: 42.375 | H30: 42.191 | I30: 42.083 | J30: 42.195
B31: 11 | C31: 42.242 | D31: 42.532 | E31: 42.46 | F31: 42.327 | G31: 42.339 | H31: 42.508 | I31: 42.305 | J31: 42.194
B32: 12 | C32: 42.267 | D32: 42.212 | E32: 42.399 | F32: 42.412 | G32: 42.705 | H32: 42.359 | I32: 42.265 | J32: 42.08
... B39: 19 | C39: 42.259 | D39: 42.249 | E39: 43.086 | F39: 42.06 | G39: 42.636 | H39: 42.358 | I39: 42.173 | J39: 41.899
B40: 20 | C40: 42.408 | E40: 44.693 | F40: 42.076 | G40: 42.407 | H40: 42.226 | I40: 42.167 | J40: 41.888
B41: 21 | C41: 42.154 | E41: 42.167 | F41: 42.111 | G41: 42.33 | H41: 42.195 | I41: 41.949 | J41: 41.818
B42: 22 | C42: 42.323 | E42: 42.197 | F42: 42.086 | G42: 42.318 | H42: 42.269 | I42: 42.107 | J42: 41.952
B43: 23 | C43: 42.416 | E43: 42.569 | F43: 42.302 | G43: 42.493 | H43: 42.427 | I43: 42.052 | J43: 42.089
B44: 24 | C44: 42.326 | E44: 42.383 | F44: 42.209 | G44: 42.247 | H44: 42.44 | I44: 42.167 | J44: 41.975
B45: 25 | C45: 42.459 | E45: 42.47 | F45: 42.255 | G45: 42.373 | H45: 42.41 | J45: 41.99
B46: 26 | C46: 42.043 | E46: 42.426 | F46: 42.122 | G46: 42.359 | H46: 42.418 | J46: 42.26
B47: 27 | C47: 42.383 | E47: 42.546 | F47: 41.968 | G47: 42.695 | J47: 42.099
B48: 28 | C48: 42.659 | E48: 42.128 | F48: 42.01 | G48: 42.416 | J48: 42.463
B49: 29 | C49: 43.26 | E49: 42.488 | F49: 42.209 | G49: 42.495 | J49: 42.083
B50: 30 | C50: 42.902 | E50: 42.348 | F50: 42.292 | G50: 42.252 | J50: 42.1
B51: 31 | C51: 42.352 | E51: 42.272 | F51: 42.183 | G51: 42.632 | J51: 42.195
B52: 32 | C52: 42.303 | E52: 42.354 | F52: 43.024 | G52: 43.206 | J52: 42.061
B53: 33 | C53: 43.465 | E53: 42.572 | F53: 58.586 | G53: 42.371 | J53: 41.952
B54: 34 | C54: 42.41 | E54: 42.201 | F54: 42.284 | G54: 42.352 | J54: 42.205
B55: 35 | C55: 42.474 | E55: 42.493 | F55: 41.929 | G55: 42.536 | J55: 41.973
B56: 36 | C56: 42.267 | F56: 42.796 | G56: 42.502 | J56: 42.276
B57: 37 | C57: 43.088 | F57: 42.007 | G57: 42.395 | J57: 41.876
B58: 38 | C58: 42.55 | F58: 42.217 | G58: 42.535 | J58: 42.065
B59: 39 | C59: 42.268 | F59: 42.034 | G59: 42.432 | J59: 42.212
B60: 40 | C60: 42.243 | F60: 41.946 | G60: 42.813 | J60: 42.029
B61: 41 | C61: 42.572 | F61: 42.144 | G61: 42.429 | J61: 42.011
B62: 42 | F62: 42.141 | G62: 42.271 | J62: 42.169
B63: 43 | F63: 41.958 | G63: 42.512 | J63: 42.106
B64: 44 | F64: 41.88 | G64: 42.735 | J64: 42.246
B65: 45 | F65: 42.054 | G65: 42.63 | J65: 41.969
B66: 46 | F66: 42.105 | G66: 43.575 | J66: 42.03
B67: 47 | F67: 41.916 | G67: 42.551 | J67: 42.234
B68: 48 | F68: 42.111 | G68: 43.382 | J68: 41.976
B69: 49 | F69: 42.137 | G69: 42.538 | J69: 42.004
B70: 50 | F70: 41.916 | G70: 42.361 | J70: 42.126
B71: 51 | F71: 42.028 | G71: 42.797 | J71: 42.128
B72: 52 | F72: 41.828 | G72: 42.194 | J72: 42.286
B73: 53 | F73: 41.909 | J73: 42.017
B74: 54 | F74: 42.102 | J74: 42.363
B75: 55 | F75: 42.025 | J75: 42.016
B76: 56 | F76: 41.959 | J76: 42.105
B77: 57 | F77: 41.933 | J77: 42.136
B78: 58 | F78: 42.019 | J78: 42.297
B79: 59 | F79: 41.978 | J79: 42.145
B80: 60 | F80: 42.154 | J80: 42.192
B81: 61 | J81: 42.418
B82: 62
B83: 63

Sheet Flash
A2: Чемпионат мини марафон "Большие Гонки", 13-й этап
A4: Flash
A6: Обяза-тельные | B6: Пилот | C6: карт | D6: Круг | E6: кругов на отрезке | F6: Статистика по кругам | J6: Общее время гонки | K6: Время на трассе
F7: Лучший круг | G7: Среднее на отрезке | I7: стабильность | K7: отрезок | L7: всего у пилота | M7: Питы | N7: Штрафы/ бонусы (сек)
A8: 1 | B8: Паламарчук Саша | C8: 69 | D8: =COUNTA(C21:C85) -> 41 | E8: =COUNTA(C21:C85) -> 41 | F8: =MIN(C21:C84) -> 41.982 | G8: =AVERAGE(C21:C87) -> 42.643268 | I8: =G8-F8 -> 0.66126829 | J8: 0.020752315 | K8: =J8 -> 0.020752315 | L8: =K8 -> 0.020752315 | M8: 139.036
A9: 2 | B9: Загорулько Ваня | C9: 9 | D9: =COUNTA(D21:D85)+D8+1 -> 82 | E9: =COUNTA(D21:D85)+1 -> 41 | F9: =MIN(D21:D84) -> 42.502 | G9: =AVERAGE(D21:D86) -> 43.009375 | I9: =G9-F9 -> 0.507375 | J9: 0.042256944 | K9: =J9-J8 -> 0.02150463 | L9: =K9 -> 0.02150463 | M9: 103.038 | N9: -36 | O9: бонус за вес
A10: 3 | B10: Паламарчук Саша | C10: 6 | D10: =COUNTA(E21:E85)+D9+1 -> 104 | E10: =COUNTA(E21:E85)+1 -> 22 | F10: =MIN(E21:E86) -> 42.326 | G10: =AVERAGE(E21:E87) -> 42.699667 | I10: =G10-F10 -> 0.37366667 | J10: 0.053819444 | K10: =J10-J9 -> 0.0115625 | L10: =K10+L8 -> 0.032314815 | M10: 200.563 | O10: передержали на 62 сек
A11: 4 | B11: Паламарчук Саша | C11: 7 | D11: =COUNTA(F21:F85)+D10+1 -> 154 | E11: =COUNTA(F21:F85)+1 -> 50 | F11: =MIN(F21:F86) -> 42.234 | G11: =AVERAGE(F21:F86) -> 42.581571 | I11: =G11-F11 -> 0.34757143 | J11: 0.080289352 | K11: =J11-J10 -> 0.026469907 | L11: =K11+L10 -> 0.058784722 | M11: 109.062 | N11: -65
A12: 5 | B12: Загорулько Ваня | C12: 69 | D12: =COUNTA(G21:G85)+D11+1 -> 177 | E12: =COUNTA(G21:G85)+1 -> 23 | F12: =MIN(G21:G86) -> 42.602 | G12: =AVERAGE(G21:G886) -> 43.190136 | I12: =G12-F12 -> 0.58813636 | J12: 0.09255787 | K12: =J12-J11 -> 0.012268519 | L12: =K12+L9 -> 0.033773148 | M12: 102.338
A13: 6 | B13: Загорулько Ваня | C13: 13 | D13: =COUNTA(H21:H85)+D12+1 -> 236 | E13: =COUNTA(H21:H85)+1 -> 59 | F13: =MIN(H21:H86) -> 42.537 | G13: =AVERAGE(H21:H86) -> 43.135914 | I13: =G13-F13 -> 0.59891379 | J13: 0.12269676 | K13: =J13-J12 -> 0.030138889 | L13: =K13+L12 -> 0.063912037 | M13: 153.994
A14: 7 | B14: Паламарчук Саша | C14: 6 | D14: =COUNTA(I21:I85)+D13+1 -> 284 | E14: =COUNTA(I21:I85)+1 -> 48 | F14: =MIN(I21:I86) -> 42.458 | G14: =AVERAGE(I21:I86) -> 42.849064 | I14: =G14-F14 -> 0.39106383 | J14: 0.14778935 | K14: =J14-J13 -> 0.025092593 | L14: =K14+L11 -> 0.083877315 | M14: 123.675 | N14: -15 | O14: передержали
A15: Финиш | B15: Загорулько Ваня | C15: 5 | D15: =COUNTA(J21:J85)+D14+1 -> 322 | E15: =COUNTA(J21:J85)+1 -> 38 | F15: =MIN(J21:J86) -> 42.535 | G15: =AVERAGE(J21:J86) -> 43.109757 | I15: =G15-F15 -> 0.57475676 | J15: =Общие_результаты!G6 -> 4:00:25 | K15: =J15-J14 -> 0.019166667 | L15: =K15+L13 -> 0.083078704 | N15: +3 | O15: недодержали
F16: =AVERAGE(F8,F10,F11,F14) -> 42.25 | G16: =AVERAGE(C21:C87,E21:F86,I21:I86) -> 42.692848 | H16: Саша | I16: =AVERAGE(I8,I10,I11,I14) -> 0.44339255
F17: =AVERAGE(F9,F13,F12,F15) -> 42.544 | G17: =AVERAGE(D21:D87,G21:H86,J21:J86) -> 43.105108 | H17: Ваня | I17: =AVERAGE(I9,I13,I12,I15) -> 0.56729548
F18: =AVERAGE(F8:F15) -> 42.397 | G18: =AVERAGE(C21:J90) -> 42.898324 | I18: =AVERAGE(I8:I15) -> 0.50534402
C20: =B8 -> Паламарчук Саша | D20: =B9 -> Загорулько Ваня | E20: =B10 -> Паламарчук Саша | F20: =B11 -> Паламарчук Саша | G20: =B12 -> Загорулько Ваня | H20: =B13 -> Загорулько Ваня | I20: =B14 -> Паламарчук Саша | J20: =B15 -> Загорулько Ваня
B21: 1 | C21: 45.313 | D21: 43.737 | E21: 44.083 | F21: 43.667 | G21: 44.579 | H21: 44.579 | I21: 45.158 | J21: 44.208
B22: 2 | C22: 45.951 | D22: 43.149 | E22: 42.79 | F22: 42.859 | G22: 43.923 | H22: 43.426 | I22: 42.923 | J22: 43.057
B23: 3 | C23: 42.641 | D23: 42.523 | E23: 42.766 | F23: 42.418 | G23: 42.805 | H23: 43.032 | I23: 42.691 | J23: 43.167
B24: 4 | C24: 42.579 | D24: 42.731 | E24: 42.938 | F24: 42.509 | G24: 43.067 | H24: 43.112 | I24: 42.848 | J24: 43.273
B25: 5 | C25: 43.951 | D25: 42.584 | E25: 42.61 | F25: 42.66 | G25: 43.302 | H25: 42.927 | I25: 42.726 | J25: 43.101
B26: 6 | C26: 43.012 | D26: 42.518 | E26: 42.655 | F26: 43.834 | G26: 43.627 | H26: 43.315 | I26: 42.581 | J26: 42.758
B27: 7 | C27: 42.563 | D27: 42.938 | E27: 42.557 | F27: 42.315 | G27: 43.06 | H27: 43.083 | I27: 42.877 | J27: 43.009
B28: 8 | C28: 42.113 | D28: 42.737 | E28: 42.549 | F28: 42.508 | G28: 42.938 | H28: 43.831 | I28: 42.703 | J28: 42.834
B29: 9 | C29: 42.234 | D29: 42.694 | E29: 42.637 | F29: 42.537 | G29: 42.798 | H29: 43.011 | I29: 42.547 | J29: 42.614
B30: 10 | C30: 42.431 | D30: 43.01 | E30: 42.685 | F30: 42.334 | G30: 43.534 | H30: 42.844 | I30: 42.522 | J30: 43.014
B31: 11 | C31: 42.232 | D31: 43.023 | E31: 42.376 | F31: 42.234 | G31: 42.909 | H31: 42.955 | I31: 42.699 | J31: 42.919
B32: 12 | C32: 42.742 | D32: 42.752 | E32: 43.235 | F32: 42.427 | G32: 42.722 | H32: 42.894 | I32: 42.707 | J32: 43.337
... B41: 21 | C41: 42.389 | D41: 43.995 | E41: 42.546 | F41: 42.617 | G41: 42.602 | H41: 42.993 | I41: 42.458 | J41: 42.877
B42: 22 | C42: 42.031 | D42: 42.502 | F42: 42.696 | G42: 43.186 | H42: 43.029 | I42: 42.591 | J42: 42.535
B43: 23 | C43: 42.196 | D43: 42.927 | F43: 42.567 | H43: 42.9 | I43: 42.757 | J43: 43.272
B44: 24 | C44: 42.487 | D44: 42.692 | F44: 42.847 | H44: 42.955 | I44: 42.629 | J44: 42.606
B45: 25 | C45: 42.33 | D45: 42.741 | F45: 42.492 | H45: 42.788 | I45: 42.829 | J45: 42.923
B46: 26 | C46: 42.354 | D46: 42.958 | F46: 42.662 | H46: 43.294 | I46: 42.732 | J46: 42.903
B47: 27 | C47: 43.563 | D47: 42.958 | F47: 42.372 | H47: 42.873 | I47: 42.945 | J47: 43.257
B48: 28 | C48: 42.531 | D48: 43.441 | F48: 43.38 | H48: 42.537 | I48: 42.899 | J48: 43.039
B49: 29 | C49: 42.519 | D49: 42.907 | F49: 42.773 | H49: 42.773 | I49: 42.858 | J49: 42.781
B50: 30 | C50: 42.507 | D50: 42.926 | F50: 42.422 | H50: 43.019 | I50: 42.646 | J50: 43.548
B51: 31 | C51: 42.215 | D51: 43.589 | F51: 42.605 | H51: 43.046 | I51: 42.726 | J51: 44.313
B52: 32 | C52: 42.229 | D52: 43.328 | F52: 42.33 | H52: 42.959 | I52: 42.788 | J52: 42.791
B53: 33 | C53: 43.05 | D53: 44.401 | F53: 42.617 | H53: 44.146 | I53: 42.907 | J53: 43.435
B54: 34 | C54: 42.264 | D54: 42.836 | F54: 42.39 | H54: 43.11 | I54: 42.957 | J54: 43.483
... B57: 37 | C57: 42.957 | D57: 43.037 | F57: 42.352 | H57: 42.916 | I57: 42.562 | J57: 42.86
B58: 38 | C58: 42.326 | D58: 43.993 | F58: 42.249 | H58: 43.158 | I58: 42.588
B59: 39 | C59: 42.42 | D59: 42.874 | F59: 42.594 | H59: 43.065 | I59: 43.031
B60: 40 | C60: 42.416 | D60: 42.822 | F60: 42.624 | H60: 42.892 | I60: 43.678
B61: 41 | C61: 42.55 | F61: 42.335 | H61: 43.855 | I61: 42.65
B62: 42 | F62: 42.758 | H62: 42.991 | I62: 42.582
B63: 43 | F63: 42.26 | H63: 43.093 | I63: 42.675
B64: 44 | F64: 42.586 | H64: 42.935 | I64: 43.269
B65: 45 | F65: 42.792 | H65: 43.062 | I65: 42.815
B66: 46 | F66: 43.011 | H66: 43.103 | I66: 42.704
B67: 47 | F67: 42.605 | H67: 43.456 | I67: 43.006
B68: 48 | F68: 42.629 | H68: 43.449
B69: 49 | F69: 42.879 | H69: 43.113
B70: 50 | H70: 43.237
B71: 51 | H71: 42.808
B72: 52 | H72: 43.248
B73: 53 | H73: 43.006
B74: 54 | H74: 43.024
B75: 55 | H75: 43.271
B76: 56 | H76: 43.564
B77: 57 | H77: 43.733
B78: 58 | H78: 43.113
B79: 59
B80: 60
B81: 61
B82: 62
B83: 63

Sheet Buro_11
A2: Чемпионат мини марафон "Большие Гонки", 13-й этап
A4: Buro 11
A6: Обяза-тельные | B6: Пилот | C6: карт | D6: Круг | E6: кругов на отрезке | F6: Статистика по кругам | J6: Общее время гонки | K6: Время на трассе
F7: Лучший круг | G7: Среднее на отрезке | I7: стабильность | K7: отрезок | L7: всего у пилота | M7: Питы | N7: Штрафы/ бонусы (сек)
A8: 1 | B8: Якусик Саша | C8: 4 | D8: =COUNTA(C22:C86) -> 40 | E8: =COUNTA(C22:C86) -> 40 | F8: =MIN(C22:C85) -> 42.22 | G8: =AVERAGE(C22:C88) -> 42.86505 | I8: =G8-F8 -> 0.64505 | J8: 0.02037037 | K8: =J8 -> 0.02037037 | L8: =K8 -> 0.02037037 | M8: 120.1 | N8: -20 | O8: бонус за вес
A9: 2 | B9: Закалюк Женя | C9: 13 | D9: =COUNTA(D22:D86)+D8+1 -> 84 | E9: =COUNTA(D22:D86)+1 -> 44 | F9: =MIN(D22:D85) -> 42.476 | G9: =AVERAGE(D22:D87) -> 42.790581 | I9: =G9-F9 -> 0.3145814 | J9: 0.043043981 | K9: =J9-J8 -> 0.022673611 | L9: =K9 -> 0.022673611 | M9: 138.617
A10: 3 | B10: Карлюк Марина | C10: 9 | D10: =COUNTA(E22:E86)+D9+1 -> 125 | E10: =COUNTA(E22:E86)+1 -> 41 | F10: =MIN(E22:E87) -> 43.405 | G10: =AVERAGE(E22:E88) -> 44.5288 | I10: =G10-F10 -> 1.1238 | J10: 0.065289352 | K10: =J10-J9 -> 0.02224537 | L10: =K10 -> 0.02224537 | M10: 140.911
A11: 4 | B11: Якусик Саша | C11: 44 | D11: =COUNTA(F22:F86)+D10+1 -> 182 | E11: =COUNTA(F22:F86)+1 -> 57 | F11: =MIN(F22:F87) -> 42.524 | G11: =AVERAGE(F22:F87) -> 42.89225 | I11: =G11-F11 -> 0.36825 | J11: 0.094699074 | K11: =J11-J10 -> 0.029409722 | L11: =K11+L8 -> 0.049780093 | M11: 139.163
A12: 5 | B12: Закалюк Женя | C12: 69 | D12: =COUNTA(G22:G86)+D11+1 -> 237 | E12: =COUNTA(G22:G86)+1 -> 55 | F12: =MIN(G22:G87) -> 42.401 | G12: =AVERAGE(G22:G887) -> 42.800074 | I12: =G12-F12 -> 0.39907407 | J12: 0.12305556 | K12: =J12-J11 -> 0.028356481 | L12: =K12+L9 -> 0.051030093 | M12: 143.082
A13: 6 | B13: Карлюк Марина | C13: 10 | D13: =COUNTA(H22:H86)+D12+1 -> 260 | E13: =COUNTA(H22:H86)+1 -> 23 | F13: =MIN(H22:H87) -> 43.437 | G13: =AVERAGE(H22:H87) -> 44.412545 | I13: =G13-F13 -> 0.97554545 | J13: 0.13607639 | K13: =J13-J12 -> 0.013020833 | L13: =K13+L10 -> 0.035266204 | M13: 145.674 | N13: +5 | O13: не полная остановка
A14: 7 | B14: Закалюк Женя | C14: 44 | D14: =COUNTA(I22:I86)+D13+1 -> 285 | E14: =COUNTA(I22:I86)+1 -> 25 | F14: =MIN(I22:I87) -> 42.744 | G14: =AVERAGE(I22:I87) -> 43.124042 | I14: =G14-F14 -> 0.38004167 | J14: 0.1496875 | K14: =J14-J13 -> 0.013611111 | L14: =K14+L12 -> 0.064641204 | M14: 139.669
A15: Финиш | B15: Карлюк Марина | C15: 69 | D15: =COUNTA(J22:J86)+D14+1 -> 318 | E15: =COUNTA(J22:J86)+1 -> 33 | F15: =MIN(J22:J87) -> 43.705 | G15: =AVERAGE(J22:J87) -> 44.554031 | I15: =G15-F15 -> 0.84903125 | J15: =Общие_результаты!G6 -> 4:00:25 | K15: =J15-J14 -> 0.017268519 | L15: =K15+L13 -> 0.052534722
F16: =AVERAGE(F8,F11) -> 42.372 | G16: =AVERAGE(C22:C85,F22:F86) -> 42.880917 | H16: Саша | I16: =AVERAGE(I8,I11) -> 0.50665
F17: =AVERAGE(F9,F12,F14) -> 42.540333 | G17: =AVERAGE(D22:D85,G22:G86,I22:I86) -> 42.860959 | H17: Женя | I17: =AVERAGE(I9,I12,I14) -> 0.36456571
F18: =AVERAGE(F10,F13,F15) -> 43.515667 | G18: =AVERAGE(E22:E85,H22:H86,J22:J86) -> 44.510181 | H18: Марина | I18: =AVERAGE(I10,I13,I15) -> 0.98279223
F19: =AVERAGE(F8:F15) -> 42.864 | G19: =AVERAGE(C22:J91) -> 43.365598 | I19: =AVERAGE(I8:I15) -> 0.63192173
C21: =B8 -> Якусик Саша | D21: =B9 -> Закалюк Женя | E21: =B10 -> Карлюк Марина | F21: =B11 -> Якусик Саша | G21: =B12 -> Закалюк Женя | H21: =B13 -> Карлюк Марина | I21: =B14 -> Закалюк Женя | J21: =B15 -> Карлюк Марина
B22: 1 | C22: 46.464 | D22: 45.033 | E22: 47.209 | F22: 44.284 | G22: 43.621 | H22: 45.848 | I22: 44.418 | J22: 46.184
B23: 2 | C23: 49.366 | D23: 43.166 | E23: 44.324 | F23: 43.548 | G23: 43.538 | H23: 45.468 | I23: 43.249 | J23: 44.924
B24: 3 | C24: 42.839 | D24: 43.076 | E24: 43.536 | F24: 42.6 | G24: 43.091 | H24: 44.581 | I24: 43.491 | J24: 44.095
B25: 4 | C25: 42.542 | D25: 43.17 | E25: 44.129 | F25: 43 | G25: 44.336 | H25: 44.006 | I25: 43.272 | J25: 46.99
B26: 5 | C26: 42.567 | D26: 42.795 | E26: 44.404 | F26: 42.71 | G26: 42.687 | H26: 44.308 | I26: 42.914 | J26: 43.705
B27: 6 | C27: 42.533 | D27: 42.691 | E27: 44.56 | F27: 44.217 | G27: 42.538 | H27: 43.802 | I27: 42.958 | J27: 44.515
B28: 7 | C28: 42.56 | D28: 42.778 | E28: 43.671 | F28: 42.868 | G28: 42.759 | H28: 43.437 | I28: 42.988 | J28: 44.383
B29: 8 | C29: 42.393 | D29: 42.631 | E29: 43.659 | F29: 42.747 | G29: 42.779 | H29: 43.676 | I29: 43.104 | J29: 44.869
B30: 9 | C30: 42.401 | D30: 42.88 | E30: 44.2 | F30: 42.802 | G30: 43.125 | H30: 44.163 | I30: 43.262 | J30: 43.706
B31: 10 | C31: 42.333 | D31: 43.801 | E31: 44.002 | F31: 43.464 | G31: 42.572 | H31: 46.007 | I31: 43.08 | J31: 44.879
B32: 11 | C32: 42.22 | D32: 43.459 | E32: 43.624 | F32: 42.827 | G32: 42.652 | H32: 44.383 | I32: 43.65 | J32: 44.176
B33: 12 | C33: 42.333 | D33: 42.895 | E33: 43.967 | F33: 42.597 | G33: 42.702 | H33: 45.077 | I33: 42.865 | J33: 44.238
... B43: 22 | C43: 42.436 | D43: 42.62 | E43: 44.666 | F43: 42.58 | G43: 42.661 | H43: 44.52 | I43: 42.939 | J43: 45.645
B44: 23 | C44: 42.526 | D44: 42.6 | E44: 44.642 | F44: 42.909 | G44: 42.416 | I44: 42.995 | J44: 43.847
B45: 24 | C45: 42.803 | D45: 42.588 | E45: 45.068 | F45: 43.013 | G45: 42.52 | I45: 43.88 | J45: 43.829
B46: 25 | C46: 42.438 | D46: 42.739 | E46: 46.314 | F46: 42.572 | G46: 42.511 | J46: 45.695
B47: 26 | C47: 42.736 | D47: 42.52 | E47: 43.645 | F47: 42.65 | G47: 42.544 | J47: 44.703
B48: 27 | C48: 42.332 | D48: 42.705 | E48: 44.457 | F48: 42.688 | G48: 42.64 | J48: 46.778
B49: 28 | C49: 42.415 | D49: 42.598 | E49: 43.739 | F49: 42.553 | G49: 43.278 | J49: 44.169
B50: 29 | C50: 42.834 | D50: 42.657 | E50: 43.996 | F50: 42.947 | G50: 42.807 | J50: 44.041
B51: 30 | C51: 42.74 | D51: 42.708 | E51: 44.242 | F51: 43.078 | G51: 42.691 | J51: 44.498
B52: 31 | C52: 42.585 | D52: 42.91 | E52: 47.153 | F52: 42.819 | G52: 43.225 | J52: 43.938
B53: 32 | C53: 42.688 | D53: 42.663 | E53: 43.893 | F53: 42.82 | G53: 42.768 | J53: 43.944
B54: 33 | C54: 42.85 | D54: 42.523 | E54: 44.269 | F54: 43.201 | G54: 42.678
B55: 34 | C55: 42.63 | D55: 42.568 | E55: 44.886 | F55: 42.599 | G55: 42.709
B56: 35 | C56: 42.765 | D56: 42.581 | E56: 48.493 | F56: 42.543 | G56: 42.778
B57: 36 | C57: 42.625 | D57: 42.709 | E57: 43.878 | F57: 42.782 | G57: 42.766
B58: 37 | C58: 42.542 | D58: 42.509 | E58: 44.214 | F58: 42.768 | G58: 42.852
B59: 38 | C59: 42.847 | D59: 42.723 | E59: 44.069 | F59: 42.865 | G59: 42.794
B60: 39 | C60: 43.031 | D60: 42.525 | E60: 44.098 | F60: 42.785 | G60: 42.636
B61: 40 | C61: 42.794 | D61: 42.652 | E61: 43.658 | F61: 42.985 | G61: 42.778
B62: 41 | D62: 42.477 | F62: 42.951 | G62: 42.65
B63: 42 | D63: 42.748 | F63: 43.078 | G63: 42.466
B64: 43 | D64: 42.673 | F64: 42.625 | G64: 42.698
B65: 44 | F65: 43.1 | G65: 43.561
B66: 45 | F66: 42.524 | G66: 42.508
B67: 46 | F67: 42.661 | G67: 42.758
B68: 47 | F68: 42.627 | G68: 42.51
B69: 48 | F69: 42.892 | G69: 42.714
B70: 49 | F70: 42.841 | G70: 42.776
B71: 50 | F71: 42.833 | G71: 42.62
B72: 51 | F72: 42.991 | G72: 42.732
B73: 52 | F73: 42.853 | G73: 42.575
B74: 53 | F74: 43.049 | G74: 42.681
B75: 54 | F75: 43.018 | G75: 42.773
B76: 55 | F76: 43.262
B77: 56 | F77: 42.749
B78: 57
B79: 58
B80: 59
B81: 60
B82: 61
B83: 62
B84: 63
