Workbook

Sheet Общие результаты
A1: Серия мини марафонов "Большие Гонки 2019", 12-й этап, 21.09.19
A2: Конфигурация № 11R
A4: Место в гонке | B4: Команда | C4: № в гонке | D4: Квала | F4: Гонка | I4: Лучший круг в гонке
D5: Время | E5: Место | F5: Круги | G5: Время/от лидера | H5: От места выше | I5: Время | J5: На круге
A6: 1 | B6: Deus Team | C6: 13 | D6: 41.264 | E6: 3 | F6: 250 | G6: 3:00:17 | H6: - | I6: 40.733 | J6: 14
A7: 2 | B7: Vpered ta Vgoru | C7: 10 | D7: 41.2965 | E7: 4 | F7: 250 | G7: =H7 -> 7.791 | H7: =12.791-5 -> 7.791 | I7: 40.654 | J7: 119
A8: 3 | B8: Hurricane RT Ukraine | C8: 1 | D8: 41.244 | E8: 2 | F8: 250 | G8: =G7+H8 -> 13.172 | H8: 5.381 | I8: 40.681 | J8: 191
A9: 4 | B9: NFS Kyiv Legends | C9: 8 | D9: 41.225 | E9: 1 | F9: 250 | G9: =G8+H9 -> 28.358 | H9: 15.186 | I9: 40.81 | J9: 56
A10: 5 | B10: K44 | C10: 2 | D10: 41.3655 | E10: 7 | F10: 250 | G10: =G9+H10 -> 32.113 | H10: 3.755 | I10: 40.497 | J10: 131
A11: 6 | B11: Kart Freedom | C11: 11 | D11: 41.3395 | E11: 5 | F11: 249 | G11: 1 круг | H11: =0.565+11 -> 11.565 | I11: 40.761 | J11: 110
A12: 7 | B12: MST | C12: 5 | D12: 41.3395 | E12: 5 | F12: 249 | G12: 1 круг | H12: 24.9 | I12: 40.856 | J12: 160
A13: 8 | B13: Kart Freedom Sport | C13: 4 | D13: 41.5765 | E13: 10 | F13: 249 | G13: 1 круг | H13: =14.135+5 -> 19.135 | I13: 40.59 | J13: 118
A14: 9 | B14: 50 Grams | C14: 15 | D14: 41.387 | E14: 8 | F14: 248 | G14: 2 круга | H14: 1 круг | I14: 40.902 | J14: 70
A15: 10 | B15: Ingul RT | C15: 9 | D15: 41.4585 | E15: 9 | F15: 248 | G15: 2 круга | H15: 10.255 | I15: 40.8 | J15: 12
A16: 11 | B16: Buro11 | C16: 3 | D16: 41.7335 | E16: 11 | F16: 247 | G16: 3 круга | H16: 1 круг | I16: 40.799 | J16: 166
A17: 12 | B17: Jaguar | C17: 6 | D17: 42.0775 | E17: 13 | F17: 246 | G17: 4 круга | H17: 1 круг | I17: 40.881 | J17: 145
A18: 13 | B18: Ingul kart Academy | C18: 14 | D18: 42.132 | E18: 14 | F18: 246 | G18: 4 круга | H18: 9.216 | I18: 41.108 | J18: 50
A19: 14 | B19: Kart Freedom Junior | C19: 12 | D19: 41.9785 | E19: 12 | F19: 243 | G19: 7 кругов | H19: 3 круга | I19: 41.08 | J19: 20
A20: 15 | B20: RC racing | C20: 7 | D20: 42.727 | E20: 15 | F20: 238 | G20: 12 кругов | H20: 6 кругов | I20: 41.821 | J20: 237

Sheet Регистрация 
A1: Серия мини марафонов "Большие Гонки 2019", 12-й этап, 21.09.19
A3: Регистрационная форма
AF4: 4ч
A5: № в гонке | B5: Команда | C5: Пилот | D5: № | E5: Вес | F5: Бонус | G5: Квалификация | Z5: 3ч | AK5: 2 ел
G6: карт | H6: Время | I6: бонус | J6: Итого | K6: Среднее | L6: Место | M6: 3 | N6: бонусы за вес | Z6: 2 | AA6: 1 | AB6: кол | AC6: бон | AD6: 1 | AE6: 2 | AF6: бон | AG6: уч | AH6: кол> | AI6: 2 уч | AJ6: 3 уч | AK6: 1из2 | AL6: 2из2 3из3
A7: 1 | B7: Hurricane RT Ukraine | C7: Стоцкий Андрей | D7: 1-1 | E7: 65.3 | F7: =IF(M6=3,AC7,AF6) -> 0 | G7: 2 | H7: 41.338 | I7: =IF(E7<84.9,0,IF(E7<87.4,0.1,IF(E7<89.9,0.15,IF(E7<92.4,0.2,IF(E7<94.9,0.25,IF(E7<97.4,0.3,IF(E7<99.9,0.35,0.4))))))) -> 0 | J7: =H7-I7 -> 41.338 | K7: =AVERAGE(J7:J8) -> 41.244 | L7: =RANK(K7,K7:K51,1) -> 2 | M7: кв | N7: 0.05 | O7: 0.1 | P7: 0.15 | Q7: 0.2 | R7: 0.25 | S7: 0.3 | T7: 0.35 | U7: =N7*8 -> 0.4 | Z7: =AVERAGE(E7:E8) -> 54.65 | AA7: =IF(E7>84.9,E7,E8) -> 44 | AB7: =COUNTIF(E7:E9,">84.9") -> 0 | AC7: =IF(AB7=1,AD7,AE7) -> 0 | AD7: =IF(AA7<84.9,0,IF(AA7<87.4,9,IF(AA7<89.9,13.5,IF(AA7<92.4,18,IF(AA7<94.9,22.5,IF(AA7<97.4,27,IF(AA7<99.9,31.5,36))))))) -> 0 | AE7: =IF(Z7<84.9,0,IF(Z7<87.4,18,IF(Z7<89.9,27,IF(Z7<92.4,36,IF(Z7<94.9,45,IF(Z7<97.4,54,IF(Z7<99.9,63,72))))))) -> 0 | AF7: =IF(AG7=2,AI7,AJ7) -> 0 | AG7: =COUNTIF(E7:E9,">1") -> 2 | AH7: =COUNTIF(E7:E9,">84.9") -> 0 | AI7: =IF(AH7=1,AK7,AL7) -> 0 | AK7: =IF(AA7<84.9,0,IF(AA7<87.4,9,IF(AA7<89.9,13.5,IF(AA7<92.4,18,IF(AA7<94.9,22.5,IF(AA7<97.4,27,IF(AA7<99.9,31.5,36))))))) -> 0
C8: Мифтахутдинов Ильяс | D8: 1-2 | E8: 44 | G8: 3 | H8: 41.15 | I8: =IF(E8<84.9,0,IF(E8<87.4,0.1,IF(E8<89.9,0.15,IF(E8<92.4,0.2,IF(E8<94.9,0.25,IF(E8<97.4,0.3,IF(E8<99.9,0.35,0.4))))))) -> 0 | J8: =H8-I8 -> 41.15 | M8: 3 часа | N8: =1.5*3 -> 4.5 | O8: =1.5*3*2 -> 9 | P8: =1.5*3*3 -> 13.5 | Q8: =1.5*3*4 -> 18 | R8: =1.5*3*5 -> 22.5 | S8: =1.5*3*6 -> 27 | T8: =1.5*3*7 -> 31.5 | U8: =1.5*3*8 -> 36 | V8: 1 пилот | AI8: =IF(AH8=1,AK8,AL8) -> 0
D9: 1-3 | I9: =IF(E9<84.9,0,IF(E9<87.4,0.1,IF(E9<89.9,0.15,IF(E9<92.4,0.2,IF(E9<94.9,0.25,IF(E9<97.4,0.3,IF(E9<99.9,0.35,0.4))))))) -> 0 | J9: =H9-I9 -> 0 | N9: =3*3 -> 9 | O9: =3*3*2 -> 18 | P9: =3*3*3 -> 27 | Q9: =3*3*4 -> 36 | R9: =3*3*5 -> 45 | S9: =3*3*6 -> 54 | T9: =3*3*7 -> 63 | U9: =3*3*8 -> 72 | V9: 2 пилота | AI9: =IF(AH9=1,AK9,AL9) -> 0
A10: 2 | B10: K44 | C10: Наум | D10: 2-1 | E10: 81 | F10: =IF(M6=3,AC10,AF9) -> 0 | G10: 4 | H10: 41.03 | I10: =IF(E10<84.9,0,IF(E10<87.4,0.1,IF(E10<89.9,0.15,IF(E10<92.4,0.2,IF(E10<94.9,0.25,IF(E10<97.4,0.3,IF(E10<99.9,0.35,0.4))))))) -> 0 | J10: =H10-I10 -> 41.03 | K10: =AVERAGE(J10:J11) -> 41.3655 | L10: =RANK(K10,K7:K51,1) -> 7 | M10: вес | N10: 82.5 | O10: 85 | P10: 87.5 | Q10: 90 | R10: 92.5 | S10: 95 | T10: 97.5 | U10: 100 | Z10: =AVERAGE(E10:E11) -> 75 | AA10: =IF(E10>84.9,E10,E11) -> 69 | AB10: =COUNTIF(E10:E12,">84.9") -> 0 | AC10: =IF(AB10=1,AD10,AE10) -> 0 | AD10: =IF(AA10<84.9,0,IF(AA10<87.4,9,IF(AA10<89.9,13.5,IF(AA10<92.4,18,IF(AA10<94.9,22.5,IF(AA10<97.4,27,IF(AA10<99.9,31.5,36))))))) -> 0 | AE10: =IF(Z10<84.9,0,IF(Z10<87.4,18,IF(Z10<89.9,27,IF(Z10<92.4,36,IF(Z10<94.9,45,IF(Z10<97.4,54,IF(Z10<99.9,63,72))))))) -> 0 | AF10: =IF(AG10=2,AI10,AJ10) -> 0 | AG10: =COUNTIF(E10:E12,">1") -> 2 | AH10: =COUNTIF(E10:E12,">84.9") -> 0 | AI10: =IF(AH10=1,AK10,AL10) -> 0
C11: Фортуна Таня | D11: 2-2 | E11: 69 | G11: 3 | H11: 41.701 | I11: =IF(E11<84.9,0,IF(E11<87.4,0.1,IF(E11<89.9,0.15,IF(E11<92.4,0.2,IF(E11<94.9,0.25,IF(E11<97.4,0.3,IF(E11<99.9,0.35,0.4))))))) -> 0 | J11: =H11-I11 -> 41.701 | M11: 4 часа | N11: =1.5*4 -> 6 | O11: =1.5*4*2 -> 12 | P11: =1.5*4*3 -> 18 | Q11: =1.5*4*4 -> 24 | R11: =1.5*4*5 -> 30 | S11: =1.5*4*6 -> 36 | T11: =1.5*4*7 -> 42 | U11: =1.5*4*8 -> 48 | V11: 1 пилот | W11: 2 участника в команде | AI11: =IF(AH11=1,AK11,AL11) -> 0
D12: 2-3 | I12: =IF(E12<84.9,0,IF(E12<87.4,0.1,IF(E12<89.9,0.15,IF(E12<92.4,0.2,IF(E12<94.9,0.25,IF(E12<97.4,0.3,IF(E12<99.9,0.35,0.4))))))) -> 0 | J12: =H12-I12 -> 0 | N12: =3*4 -> 12 | O12: =3*4*2 -> 24 | P12: =3*4*3 -> 36 | Q12: =3*4*4 -> 48 | R12: =3*4*5 -> 60 | S12: =3*4*6 -> 72 | T12: =3*4*7 -> 84 | U12: =3*4*8 -> 96 | V12: 2 пилота | AI12: =IF(AH12=1,AK12,AL12) -> 0
A13: 3 | B13: Buro 11 | C13: Резанко Оля | D13: 3-1 | E13: 75 | F13: =IF(M6=3,AC13,AF12) -> 0 | G13: 5 | H13: 41.774 | I13: =IF(E13<84.9,0,IF(E13<87.4,0.1,IF(E13<89.9,0.15,IF(E13<92.4,0.2,IF(E13<94.9,0.25,IF(E13<97.4,0.3,IF(E13<99.9,0.35,0.4))))))) -> 0 | J13: =H13-I13 -> 41.774 | K13: =AVERAGE(J13:J14) -> 41.7335 | L13: =RANK(K13,K7:K51,1) -> 11 | N13: =1*4 -> 4 | O13: =1*4*2 -> 8 | P13: =1*4*3 -> 12 | Q13: =1*4*4 -> 16 | R13: =1*4*5 -> 20 | S13: =1*4*6 -> 24 | T13: =1*4*7 -> 28 | U13: =1*4*8 -> 32 | V13: 1 пилот | W13: 3 участника в команде | Z13: =AVERAGE(E13:E14) -> 74.15 | AA13: =IF(E13>84.9,E13,E14) -> 73.3 | AB13: =COUNTIF(E13:E15,">84.9") -> 0 | AC13: =IF(AB13=1,AD13,AE13) -> 0 | AD13: =IF(AA13<84.9,0,IF(AA13<87.4,9,IF(AA13<89.9,13.5,IF(AA13<92.4,18,IF(AA13<94.9,22.5,IF(AA13<97.4,27,IF(AA13<99.9,31.5,36))))))) -> 0 | AE13: =IF(Z13<84.9,0,IF(Z13<87.4,18,IF(Z13<89.9,27,IF(Z13<92.4,36,IF(Z13<94.9,45,IF(Z13<97.4,54,IF(Z13<99.9,63,72))))))) -> 0 | AF13: =IF(AG13=2,AI13,AJ13) -> 0 | AG13: =COUNTIF(E13:E15,">1") -> 2 | AH13: =COUNTIF(E13:E15,">84.9") -> 0 | AI13: =IF(AH13=1,AK13,AL13) -> 0
C14: Якусик Дима | D14: 3-2 | E14: 73.3 | G14: 4 | H14: 41.693 | I14: =IF(E14<84.9,0,IF(E14<87.4,0.1,IF(E14<89.9,0.15,IF(E14<92.4,0.2,IF(E14<94.9,0.25,IF(E14<97.4,0.3,IF(E14<99.9,0.35,0.4))))))) -> 0 | J14: =H14-I14 -> 41.693 | N14: =2*4 -> 8 | O14: =2*4*2 -> 16 | P14: =2*4*3 -> 24 | Q14: =2*4*4 -> 32 | R14: =2*4*5 -> 40 | S14: =2*4*6 -> 48 | T14: =2*4*7 -> 56 | U14: =2*4*8 -> 64 | V14: 2 пилота | AI14: =IF(AH14=1,AK14,AL14) -> 0
D15: 3-3 | I15: =IF(E15<84.9,0,IF(E15<87.4,0.1,IF(E15<89.9,0.15,IF(E15<92.4,0.2,IF(E15<94.9,0.25,IF(E15<97.4,0.3,IF(E15<99.9,0.35,0.4))))))) -> 0 | J15: =H15-I15 -> 0 | N15: =3*4 -> 12 | O15: =3*4*2 -> 24 | P15: =3*4*3 -> 36 | Q15: =3*4*4 -> 48 | R15: =3*4*5 -> 60 | S15: =3*4*6 -> 72 | T15: =3*4*7 -> 84 | U15: =3*4*8 -> 96 | V15: 3 пилота | AI15: =IF(AH15=1,AK15,AL15) -> 0
A16: 4 | B16: Kart Freedom Sport | C16: Медведева Дарья | D16: 4-1 | E16: 54.5 | F16: =IF(M6=3,AC16,AF15) -> 27 | G16: 5 | H16: 41.664 | I16: =IF(E16<84.9,0,IF(E16<87.4,0.1,IF(E16<89.9,0.15,IF(E16<92.4,0.2,IF(E16<94.9,0.25,IF(E16<97.4,0.3,IF(E16<99.9,0.35,0.4))))))) -> 0 | J16: =H16-I16 -> 41.664 | K16: =AVERAGE(J16:J17) -> 41.5765 | L16: =RANK(K16,K7:K51,1) -> 10 | Z16: =AVERAGE(E16:E17) -> 75.5 | AA16: =IF(E16>84.9,E16,E17) -> 96.5 | AB16: =COUNTIF(E16:E18,">84.9") -> 1 | AC16: =IF(AB16=1,AD16,AE16) -> 27 | AD16: =IF(AA16<84.9,0,IF(AA16<87.4,9,IF(AA16<89.9,13.5,IF(AA16<92.4,18,IF(AA16<94.9,22.5,IF(AA16<97.4,27,IF(AA16<99.9,31.5,36))))))) -> 27 | AE16: =IF(Z16<84.9,0,IF(Z16<87.4,18,IF(Z16<89.9,27,IF(Z16<92.4,36,IF(Z16<94.9,45,IF(Z16<97.4,54,IF(Z16<99.9,63,72))))))) -> 0 | AF16: =IF(AG16=2,AI16,AJ16) -> 0 | AG16: =COUNTIF(E16:E18,">1") -> 2 | AH16: =COUNTIF(E16:E18,">84.9") -> 1 | AI16: =IF(AH16=1,AK16,AL16) -> 0
C17: Загорулько Иван | D17: 4-2 | E17: 96.5 | G17: 6 | H17: 41.789 | I17: =IF(E17<84.9,0,IF(E17<87.4,0.1,IF(E17<89.9,0.15,IF(E17<92.4,0.2,IF(E17<94.9,0.25,IF(E17<97.4,0.3,IF(E17<99.9,0.35,0.4))))))) -> 0.3 | J17: =H17-I17 -> 41.489 | AF17: =IF(AG17=2,AI17,AJ17) -> 0 | AG17: =COUNTIF(E17:E19,">1") -> 2 | AH17: =COUNTIF(E17:E19,">84.9") -> 2 | AI17: =IF(AH17=1,AK17,AL17) -> 0
D18: 4-3 | I18: =IF(E18<84.9,0,IF(E18<87.4,0.1,IF(E18<89.9,0.15,IF(E18<92.4,0.2,IF(E18<94.9,0.25,IF(E18<97.4,0.3,IF(E18<99.9,0.35,0.4))))))) -> 0 | J18: =H18-I18 -> 0 | AF18: =IF(AG18=2,AI18,AJ18) -> 0 | AG18: =COUNTIF(E18:E20,">1") -> 2 | AH18: =COUNTIF(E18:E20,">84.9") -> 1 | AI18: =IF(AH18=1,AK18,AL18) -> 0
A19: 5 | B19: MST | C19: Тыщенко Миша | D19: 5-1 | E19: 87.5 | F19: =IF(M6=3,AC19,AF18) -> 13.5 | G19: 7 | H19: 41.137 | I19: =IF(E19<84.9,0,IF(E19<87.4,0.1,IF(E19<89.9,0.15,IF(E19<92.4,0.2,IF(E19<94.9,0.25,IF(E19<97.4,0.3,IF(E19<99.9,0.35,0.4))))))) -> 0.15 | J19: =H19-I19 -> 40.987 | K19: =AVERAGE(J19:J20) -> 41.3395 | L19: =RANK(K19,K7:K51,1) -> 5 | Z19: =AVERAGE(E19:E20) -> 79.65 | AA19: =IF(E19>84.9,E19,E20) -> 87.5 | AB19: =COUNTIF(E19:E21,">84.9") -> 1 | AC19: =IF(AB19=1,AD19,AE19) -> 13.5 | AD19: =IF(AA19<84.9,0,IF(AA19<87.4,9,IF(AA19<89.9,13.5,IF(AA19<92.4,18,IF(AA19<94.9,22.5,IF(AA19<97.4,27,IF(AA19<99.9,31.5,36))))))) -> 13.5 | AE19: =IF(Z19<84.9,0,IF(Z19<87.4,18,IF(Z19<89.9,27,IF(Z19<92.4,36,IF(Z19<94.9,45,IF(Z19<97.4,54,IF(Z19<99.9,63,72))))))) -> 0 | AF19: =IF(AG19=2,AI19,AJ19) -> 0 | AG19: =COUNTIF(E19:E21,">1") -> 2 | AH19: =COUNTIF(E19:E21,">84.9") -> 1 | AI19: =IF(AH19=1,AK19,AL19) -> 0
C20: Гаврилюк Олег | D20: 5-2 | E20: 71.8 | G20: 6 | H20: 41.692 | I20: =IF(E20<84.9,0,IF(E20<87.4,0.1,IF(E20<89.9,0.15,IF(E20<92.4,0.2,IF(E20<94.9,0.25,IF(E20<97.4,0.3,IF(E20<99.9,0.35,0.4))))))) -> 0 | J20: =H20-I20 -> 41.692 | AF20: =IF(AG20=2,AI20,AJ20) -> 0 | AG20: =COUNTIF(E20:E22,">1") -> 2 | AH20: =COUNTIF(E20:E22,">84.9") -> 0 | AI20: =IF(AH20=1,AK20,AL20) -> 0
D21: 5-3 | I21: =IF(E21<84.9,0,IF(E21<87.4,0.1,IF(E21<89.9,0.15,IF(E21<92.4,0.2,IF(E21<94.9,0.25,IF(E21<97.4,0.3,IF(E21<99.9,0.35,0.4))))))) -> 0 | J21: =H21-I21 -> 0 | AF21: =IF(AG21=2,AI21,AJ21) -> 0 | AG21: =COUNTIF(E21:E23,">1") -> 2 | AH21: =COUNTIF(E21:E23,">84.9") -> 0 | AI21: =IF(AH21=1,AK21,AL21) -> 0
A22: 6 | B22: Jaguar | C22: Лихошерст Леша | D22: 6-1 | E22: 71.3 | F22: =IF(M6=3,AC22,AF21) -> 0 | G22: 7 | H22: 41.319 | I22: =IF(E22<84.9,0,IF(E22<87.4,0.1,IF(E22<89.9,0.15,IF(E22<92.4,0.2,IF(E22<94.9,0.25,IF(E22<97.4,0.3,IF(E22<99.9,0.35,0.4))))))) -> 0 | J22: =H22-I22 -> 41.319 | K22: =AVERAGE(J22:J23) -> 42.0775 | L22: =RANK(K22,K7:K51,1) -> 13 | Z22: =AVERAGE(E22:E23) -> 74.6 | AA22: =IF(E22>84.9,E22,E23) -> 77.9 | AB22: =COUNTIF(E22:E24,">84.9") -> 0 | AC22: =IF(AB22=1,AD22,AE22) -> 0 | AD22: =IF(AA22<84.9,0,IF(AA22<87.4,9,IF(AA22<89.9,13.5,IF(AA22<92.4,18,IF(AA22<94.9,22.5,IF(AA22<97.4,27,IF(AA22<99.9,31.5,36))))))) -> 0 | AE22: =IF(Z22<84.9,0,IF(Z22<87.4,18,IF(Z22<89.9,27,IF(Z22<92.4,36,IF(Z22<94.9,45,IF(Z22<97.4,54,IF(Z22<99.9,63,72))))))) -> 0 | AF22: =IF(AG22=2,AI22,AJ22) -> 0 | AG22: =COUNTIF(E22:E24,">1") -> 2 | AH22: =COUNTIF(E22:E24,">84.9") -> 0 | AI22: =IF(AH22=1,AK22,AL22) -> 0
C23: Старовой Андрей | D23: 6-2 | E23: 77.9 | G23: 9 | H23: 42.836 | I23: =IF(E23<84.9,0,IF(E23<87.4,0.1,IF(E23<89.9,0.15,IF(E23<92.4,0.2,IF(E23<94.9,0.25,IF(E23<97.4,0.3,IF(E23<99.9,0.35,0.4))))))) -> 0 | J23: =H23-I23 -> 42.836 | AF23: =IF(AG23=2,AI23,AJ23) -> 0 | AG23: =COUNTIF(E23:E25,">1") -> 2 | AH23: =COUNTIF(E23:E25,">84.9") -> 1 | AI23: =IF(AH23=1,AK23,AL23) -> 0
D24: 6-3 | I24: =IF(E24<84.9,0,IF(E24<87.4,0.1,IF(E24<89.9,0.15,IF(E24<92.4,0.2,IF(E24<94.9,0.25,IF(E24<97.4,0.3,IF(E24<99.9,0.35,0.4))))))) -> 0 | J24: =H24-I24 -> 0 | AF24: =IF(AG24=2,AI24,AJ24) -> 0 | AG24: =COUNTIF(E24:E26,">1") -> 2 | AH24: =COUNTIF(E24:E26,">84.9") -> 2 | AI24: =IF(AH24=1,AK24,AL24) -> 0
A25: 7 | B25: RC racing | C25: Чуб Дмитрий | D25: 7-1 | E25: 86.2 | F25: =IF(M6=3,AC25,AF24) -> 27 | G25: 10 | H25: 42.318 | I25: =IF(E25<84.9,0,IF(E25<87.4,0.1,IF(E25<89.9,0.15,IF(E25<92.4,0.2,IF(E25<94.9,0.25,IF(E25<97.4,0.3,IF(E25<99.9,0.35,0.4))))))) -> 0.1 | J25: =H25-I25 -> 42.218 | K25: =AVERAGE(J25,J27) -> 42.727 | L25: =RANK(K25,K7:K54,1) -> 15 | Z25: =AVERAGE(E25:E26) -> 88.9 | AA25: =IF(E25>84.9,E25,E26) -> 86.2 | AB25: =COUNTIF(E25:E27,">84.9") -> 2 | AC25: =IF(AB25=1,AD25,AE25) -> 27 | AD25: =IF(AA25<84.9,0,IF(AA25<87.4,9,IF(AA25<89.9,13.5,IF(AA25<92.4,18,IF(AA25<94.9,22.5,IF(AA25<97.4,27,IF(AA25<99.9,31.5,36))))))) -> 9 | AE25: =IF(Z25<84.9,0,IF(Z25<87.4,18,IF(Z25<89.9,27,IF(Z25<92.4,36,IF(Z25<94.9,45,IF(Z25<97.4,54,IF(Z25<99.9,63,72))))))) -> 27 | AF25: =IF(AG25=2,AI25,AJ25) -> 0 | AG25: =COUNTIF(E25:E27,">1") -> 3 | AH25: =COUNTIF(E25:E27,">84.9") -> 2 | AI25: =IF(AH25=1,AK25,AL25) -> 0
C26: Макаров Михаил | D26: 7-2 | E26: 91.6 | I26: =IF(E26<84.9,0,IF(E26<87.4,0.1,IF(E26<89.9,0.15,IF(E26<92.4,0.2,IF(E26<94.9,0.25,IF(E26<97.4,0.3,IF(E26<99.9,0.35,0.4))))))) -> 0.2 | J26: =H26-I26 -> -0.2 | AF26: =IF(AG26=2,AI26,AJ26) -> 0 | AG26: =COUNTIF(E26:E28,">1") -> 3 | AH26: =COUNTIF(E26:E28,">84.9") -> 1 | AI26: =IF(AH26=1,AK26,AL26) -> 0
C27: Голубок Алексей | D27: 7-3 | E27: 45 | G27: 9 | H27: 43.236 | I27: =IF(E27<84.9,0,IF(E27<87.4,0.1,IF(E27<89.9,0.15,IF(E27<92.4,0.2,IF(E27<94.9,0.25,IF(E27<97.4,0.3,IF(E27<99.9,0.35,0.4))))))) -> 0 | J27: =H27-I27 -> 43.236 | AF27: =IF(AG27=2,AI27,AJ27) -> 0 | AG27: =COUNTIF(E27:E29,">1") -> 3 | AH27: =COUNTIF(E27:E29,">84.9") -> 0 | AI27: =IF(AH27=1,AK27,AL27) -> 0
A28: 8 | B28: NFS Kyiv Legends | C28: Ткаченко Кирилл | D28: 8-1 | E28: 75 | F28: =IF(M6=3,AC28,AF27) -> 0 | G28: 10 | H28: 41.556 | I28: =IF(E28<84.9,0,IF(E28<87.4,0.1,IF(E28<89.9,0.15,IF(E28<92.4,0.2,IF(E28<94.9,0.25,IF(E28<97.4,0.3,IF(E28<99.9,0.35,0.4))))))) -> 0 | J28: =H28-I28 -> 41.556 | K28: =AVERAGE(J28:J29) -> 41.225 | L28: =RANK(K28,K7:K51,1) -> 1 | Z28: =AVERAGE(E28:E29) -> 77.65 | AA28: =IF(E28>84.9,E28,E29) -> 80.3 | AB28: =COUNTIF(E28:E30,">84.9") -> 0 | AC28: =IF(AB28=1,AD28,AE28) -> 0 | AD28: =IF(AA28<84.9,0,IF(AA28<87.4,9,IF(AA28<89.9,13.5,IF(AA28<92.4,18,IF(AA28<94.9,22.5,IF(AA28<97.4,27,IF(AA28<99.9,31.5,36))))))) -> 0 | AE28: =IF(Z28<84.9,0,IF(Z28<87.4,18,IF(Z28<89.9,27,IF(Z28<92.4,36,IF(Z28<94.9,45,IF(Z28<97.4,54,IF(Z28<99.9,63,72))))))) -> 0 | AF28: =IF(AG28=2,AI28,AJ28) -> 0 | AG28: =COUNTIF(E28:E30,">1") -> 2 | AH28: =COUNTIF(E28:E30,">84.9") -> 0 | AI28: =IF(AH28=1,AK28,AL28) -> 0
C29: Петушков Андрей | D29: 8-2 | E29: 80.3 | G29: 12 | H29: 40.894 | I29: =IF(E29<84.9,0,IF(E29<87.4,0.1,IF(E29<89.9,0.15,IF(E29<92.4,0.2,IF(E29<94.9,0.25,IF(E29<97.4,0.3,IF(E29<99.9,0.35,0.4))))))) -> 0 | J29: =H29-I29 -> 40.894 | AF29: =IF(AG29=2,AI29,AJ29) -> 0 | AG29: =COUNTIF(E29:E31,">1") -> 2 | AH29: =COUNTIF(E29:E31,">84.9") -> 0 | AI29: =IF(AH29=1,AK29,AL29) -> 0
D30: 8-3 | I30: =IF(E30<84.9,0,IF(E30<87.4,0.1,IF(E30<89.9,0.15,IF(E30<92.4,0.2,IF(E30<94.9,0.25,IF(E30<97.4,0.3,IF(E30<99.9,0.35,0.4))))))) -> 0 | J30: =H30-I30 -> 0 | AF30: =IF(AG30=2,AI30,AJ30) -> 0 | AG30: =COUNTIF(E30:E32,">1") -> 2 | AH30: =COUNTIF(E30:E32,">84.9") -> 0 | AI30: =IF(AH30=1,AK30,AL30) -> 0
A31: 9 | B31: Ingul Rt | C31: Кублицкий Виктор | D31: 9-1 | E31: 63 | F31: =IF(M6=3,AC31,AF30) -> 0 | G31: 13 | H31: 41.552 | I31: =IF(E31<84.9,0,IF(E31<87.4,0.1,IF(E31<89.9,0.15,IF(E31<92.4,0.2,IF(E31<94.9,0.25,IF(E31<97.4,0.3,IF(E31<99.9,0.35,0.4))))))) -> 0 | J31: =H31-I31 -> 41.552 | K31: =AVERAGE(J31:J32) -> 41.4585 | L31: =RANK(K31,K7:K51,1) -> 9 | Z31: =AVERAGE(E31:E32) -> 63 | AA31: =IF(E31>84.9,E31,E32) -> 63 | AB31: =COUNTIF(E31:E33,">84.9") -> 0 | AC31: =IF(AB31=1,AD31,AE31) -> 0 | AD31: =IF(AA31<84.9,0,IF(AA31<87.4,9,IF(AA31<89.9,13.5,IF(AA31<92.4,18,IF(AA31<94.9,22.5,IF(AA31<97.4,27,IF(AA31<99.9,31.5,36))))))) -> 0 | AE31: =IF(Z31<84.9,0,IF(Z31<87.4,18,IF(Z31<89.9,27,IF(Z31<92.4,36,IF(Z31<94.9,45,IF(Z31<97.4,54,IF(Z31<99.9,63,72))))))) -> 0 | AF31: =IF(AG31=2,AI31,AJ31) -> 0 | AG31: =COUNTIF(E31:E33,">1") -> 2 | AH31: =COUNTIF(E31:E33,">84.9") -> 0 | AI31: =IF(AH31=1,AK31,AL31) -> 0
C32: Геронимус Костя | D32: 9-2 | E32: 63 | G32: 14 | H32: 41.365 | I32: =IF(E32<84.9,0,IF(E32<87.4,0.1,IF(E32<89.9,0.15,IF(E32<92.4,0.2,IF(E32<94.9,0.25,IF(E32<97.4,0.3,IF(E32<99.9,0.35,0.4))))))) -> 0 | J32: =H32-I32 -> 41.365 | AF32: =IF(AG32=2,AI32,AJ32) -> 0 | AG32: =COUNTIF(E32:E34,">1") -> 2 | AH32: =COUNTIF(E32:E34,">84.9") -> 0 | AI32: =IF(AH32=1,AK32,AL32) -> 0
D33: 9-3 | I33: =IF(E33<84.9,0,IF(E33<87.4,0.1,IF(E33<89.9,0.15,IF(E33<92.4,0.2,IF(E33<94.9,0.25,IF(E33<97.4,0.3,IF(E33<99.9,0.35,0.4))))))) -> 0 | J33: =H33-I33 -> 0 | AF33: =IF(AG33=2,AI33,AJ33) -> 0 | AG33: =COUNTIF(E33:E35,">1") -> 2 | AH33: =COUNTIF(E33:E35,">84.9") -> 0 | AI33: =IF(AH33=1,AK33,AL33) -> 0
A34: 10 | B34: Vpered ta Vgory | C34: Манило Денис | D34: 10-1 | E34: 83.4 | F34: =IF(M6=3,AC34,AF33) -> 0 | G34: 16 | H34: 41.304 | I34: =IF(E34<84.9,0,IF(E34<87.4,0.1,IF(E34<89.9,0.15,IF(E34<92.4,0.2,IF(E34<94.9,0.25,IF(E34<97.4,0.3,IF(E34<99.9,0.35,0.4))))))) -> 0 | J34: =H34-I34 -> 41.304 | K34: =AVERAGE(J34:J35) -> 41.2965 | L34: =RANK(K34,K7:K51,1) -> 4 | Z34: =AVERAGE(E34:E35) -> 82.2 | AA34: =IF(E34>84.9,E34,E35) -> 81 | AB34: =COUNTIF(E34:E36,">84.9") -> 0 | AC34: =IF(AB34=1,AD34,AE34) -> 0 | AD34: =IF(AA34<84.9,0,IF(AA34<87.4,9,IF(AA34<89.9,13.5,IF(AA34<92.4,18,IF(AA34<94.9,22.5,IF(AA34<97.4,27,IF(AA34<99.9,31.5,36))))))) -> 0 | AE34: =IF(Z34<84.9,0,IF(Z34<87.4,18,IF(Z34<89.9,27,IF(Z34<92.4,36,IF(Z34<94.9,45,IF(Z34<97.4,54,IF(Z34<99.9,63,72))))))) -> 0 | AF34: =IF(AG34=2,AI34,AJ34) -> 0 | AG34: =COUNTIF(E34:E36,">1") -> 2 | AH34: =COUNTIF(E34:E36,">84.9") -> 0 | AI34: =IF(AH34=1,AK34,AL34) -> 0
C35: Лантушенко Игорь | D35: 10.2 | E35: 81 | G35: 15 | H35: 41.289 | I35: =IF(E35<84.9,0,IF(E35<87.4,0.1,IF(E35<89.9,0.15,IF(E35<92.4,0.2,IF(E35<94.9,0.25,IF(E35<97.4,0.3,IF(E35<99.9,0.35,0.4))))))) -> 0 | J35: =H35-I35 -> 41.289 | AF35: =IF(AG35=2,AI35,AJ35) -> 0 | AG35: =COUNTIF(E35:E37,">1") -> 2 | AH35: =COUNTIF(E35:E37,">84.9") -> 0 | AI35: =IF(AH35=1,AK35,AL35) -> 0
D36: 10-3 | I36: =IF(E36<84.9,0,IF(E36<87.4,0.1,IF(E36<89.9,0.15,IF(E36<92.4,0.2,IF(E36<94.9,0.25,IF(E36<97.4,0.3,IF(E36<99.9,0.35,0.4))))))) -> 0 | J36: =H36-I36 -> 0 | AF36: =IF(AG36=2,AI36,AJ36) -> 0 | AG36: =COUNTIF(E36:E38,">1") -> 2 | AH36: =COUNTIF(E36:E38,">84.9") -> 0 | AI36: =IF(AH36=1,AK36,AL36) -> 0
A37: 11 | B37: Kart Freedom | C37: Бахмацкий Олег | D37: 11-1 | E37: 82.5 | F37: =IF(M6=3,AC37,AF36) -> 0 | G37: 17 | H37: 41.466 | I37: =IF(E37<84.9,0,IF(E37<87.4,0.1,IF(E37<89.9,0.15,IF(E37<92.4,0.2,IF(E37<94.9,0.25,IF(E37<97.4,0.3,IF(E37<99.9,0.35,0.4))))))) -> 0 | J37: =H37-I37 -> 41.466 | K37: =AVERAGE(J37:J38) -> 41.3395 | L37: =RANK(K37,K7:K51,1) -> 5 | Z37: =AVERAGE(E37:E38) -> 82.45 | AA37: =IF(E37>84.9,E37,E38) -> 82.4 | AB37: =COUNTIF(E37:E39,">84.9") -> 0 | AC37: =IF(AB37=1,AD37,AE37) -> 0 | AD37: =IF(AA37<84.9,0,IF(AA37<87.4,9,IF(AA37<89.9,13.5,IF(AA37<92.4,18,IF(AA37<94.9,22.5,IF(AA37<97.4,27,IF(AA37<99.9,31.5,36))))))) -> 0 | AE37: =IF(Z37<84.9,0,IF(Z37<87.4,18,IF(Z37<89.9,27,IF(Z37<92.4,36,IF(Z37<94.9,45,IF(Z37<97.4,54,IF(Z37<99.9,63,72))))))) -> 0 | AF37: =IF(AG37=2,AI37,AJ37) -> 0 | AG37: =COUNTIF(E37:E39,">1") -> 2 | AH37: =COUNTIF(E37:E39,">84.9") -> 0 | AI37: =IF(AH37=1,AK37,AL37) -> 0
C38: Паненко Женя | D38: 11-2 | E38: 82.4 | G38: 18 | H38: 41.213 | I38: =IF(E38<84.9,0,IF(E38<87.4,0.1,IF(E38<89.9,0.15,IF(E38<92.4,0.2,IF(E38<94.9,0.25,IF(E38<97.4,0.3,IF(E38<99.9,0.35,0.4))))))) -> 0 | J38: =H38-I38 -> 41.213 | AF38: =IF(AG38=2,AI38,AJ38) -> 0 | AG38: =COUNTIF(E38:E40,">1") -> 2 | AH38: =COUNTIF(E38:E40,">84.9") -> 0 | AI38: =IF(AH38=1,AK38,AL38) -> 0
D39: 11-3 | I39: =IF(E39<84.9,0,IF(E39<87.4,0.1,IF(E39<89.9,0.15,IF(E39<92.4,0.2,IF(E39<94.9,0.25,IF(E39<97.4,0.3,IF(E39<99.9,0.35,0.4))))))) -> 0 | J39: =H39-I39 -> 0 | AF39: =IF(AG39=2,AI39,AJ39) -> 0 | AG39: =COUNTIF(E39:E41,">1") -> 2 | AH39: =COUNTIF(E39:E41,">84.9") -> 0 | AI39: =IF(AH39=1,AK39,AL39) -> 0
A40: 12 | B40: Kart Freedom Junior | C40: Юрченко Вова | D40: 12-1 | E40: 73.5 | F40: =IF(M6=3,AC40,AF39) -> 0 | G40: 17 | H40: 41.345 | I40: =IF(E40<84.9,0,IF(E40<87.4,0.1,IF(E40<89.9,0.15,IF(E40<92.4,0.2,IF(E40<94.9,0.25,IF(E40<97.4,0.3,IF(E40<99.9,0.35,0.4))))))) -> 0 | J40: =H40-I40 -> 41.345 | K40: =AVERAGE(J40:J41) -> 41.9785 | L40: =RANK(K40,K7:K51,1) -> 12 | Z40: =AVERAGE(E40:E41) -> 74.15 | AA40: =IF(E40>84.9,E40,E41) -> 74.8 | AB40: =COUNTIF(E40:E42,">84.9") -> 0 | AC40: =IF(AB40=1,AD40,AE40) -> 0 | AD40: =IF(AA40<84.9,0,IF(AA40<87.4,9,IF(AA40<89.9,13.5,IF(AA40<92.4,18,IF(AA40<94.9,22.5,IF(AA40<97.4,27,IF(AA40<99.9,31.5,36))))))) -> 0 | AE40: =IF(Z40<84.9,0,IF(Z40<87.4,18,IF(Z40<89.9,27,IF(Z40<92.4,36,IF(Z40<94.9,45,IF(Z40<97.4,54,IF(Z40<99.9,63,72))))))) -> 0 | AF40: =IF(AG40=2,AI40,AJ40) -> 0 | AG40: =COUNTIF(E40:E42,">1") -> 2 | AH40: =COUNTIF(E40:E42,">84.9") -> 0 | AI40: =IF(AH40=1,AK40,AL40) -> 0
C41: Поляруш Александр | D41: 12-2 | E41: 74.8 | G41: 21 | H41: 42.612 | I41: =IF(E41<84.9,0,IF(E41<87.4,0.1,IF(E41<89.9,0.15,IF(E41<92.4,0.2,IF(E41<94.9,0.25,IF(E41<97.4,0.3,IF(E41<99.9,0.35,0.4))))))) -> 0 | J41: =H41-I41 -> 42.612 | AF41: =IF(AG41=2,AI41,AJ41) -> 0 | AG41: =COUNTIF(E41:E43,">1") -> 2 | AH41: =COUNTIF(E41:E43,">84.9") -> 0 | AI41: =IF(AH41=1,AK41,AL41) -> 0
D42: 12-3 | I42: =IF(E42<84.9,0,IF(E42<87.4,0.1,IF(E42<89.9,0.15,IF(E42<92.4,0.2,IF(E42<94.9,0.25,IF(E42<97.4,0.3,IF(E42<99.9,0.35,0.4))))))) -> 0 | J42: =H42-I42 -> 0 | AF42: =IF(AG42=2,AI42,AJ42) -> 0 | AG42: =COUNTIF(E42:E44,">1") -> 2 | AH42: =COUNTIF(E42:E44,">84.9") -> 1 | AI42: =IF(AH42=1,AK42,AL42) -> 0
A43: 13 | B43: Deus Team | C43: Пикулин Павел | D43: 13-1 | E43: 76 | F43: =IF(M6=3,AC43,AF42) -> 22.5 | G43: 44 | H43: 41.507 | I43: =IF(E43<84.9,0,IF(E43<87.4,0.1,IF(E43<89.9,0.15,IF(E43<92.4,0.2,IF(E43<94.9,0.25,IF(E43<97.4,0.3,IF(E43<99.9,0.35,0.4))))))) -> 0 | J43: =H43-I43 -> 41.507 | K43: =AVERAGE(J43:J44) -> 41.264 | L43: =RANK(K43,K7:K51,1) -> 3 | Z43: =AVERAGE(E43:E44) -> 84.25 | AA43: =IF(E43>84.9,E43,E44) -> 92.5 | AB43: =COUNTIF(E43:E45,">84.9") -> 1 | AC43: =IF(AB43=1,AD43,AE43) -> 22.5 | AD43: =IF(AA43<84.9,0,IF(AA43<87.4,9,IF(AA43<89.9,13.5,IF(AA43<92.4,18,IF(AA43<94.9,22.5,IF(AA43<97.4,27,IF(AA43<99.9,31.5,36))))))) -> 22.5 | AE43: =IF(Z43<84.9,0,IF(Z43<87.4,18,IF(Z43<89.9,27,IF(Z43<92.4,36,IF(Z43<94.9,45,IF(Z43<97.4,54,IF(Z43<99.9,63,72))))))) -> 0 | AF43: =IF(AG43=2,AI43,AJ43) -> 0 | AG43: =COUNTIF(E43:E45,">1") -> 2 | AH43: =COUNTIF(E43:E45,">84.9") -> 1 | AI43: =IF(AH43=1,AK43,AL43) -> 0
C44: Терещенко Андрей | D44: 13-2 | E44: 92.5 | G44: 69 | H44: 41.271 | I44: =IF(E44<84.9,0,IF(E44<87.4,0.1,IF(E44<89.9,0.15,IF(E44<92.4,0.2,IF(E44<94.9,0.25,IF(E44<97.4,0.3,IF(E44<99.9,0.35,0.4))))))) -> 0.25 | J44: =H44-I44 -> 41.021 | AF44: =IF(AG44=2,AI44,AJ44) -> 0 | AG44: =COUNTIF(E44:E46,">1") -> 2 | AH44: =COUNTIF(E44:E46,">84.9") -> 1 | AI44: =IF(AH44=1,AK44,AL44) -> 0
D45: 13-3 | I45: =IF(E45<84.9,0,IF(E45<87.4,0.1,IF(E45<89.9,0.15,IF(E45<92.4,0.2,IF(E45<94.9,0.25,IF(E45<97.4,0.3,IF(E45<99.9,0.35,0.4))))))) -> 0 | J45: =H45-I45 -> 0 | AF45: =IF(AG45=2,AI45,AJ45) -> 0 | AG45: =COUNTIF(E45:E47,">1") -> 2 | AH45: =COUNTIF(E45:E47,">84.9") -> 0 | AI45: =IF(AH45=1,AK45,AL45) -> 0
A46: 14 | B46: Ingul kart Academy | C46: Демьяненко Дмитрий | D46: 14-1 | E46: 79 | F46: =IF(M6=3,AC46,AF45) -> 0 | G46: 1 | H46: 41.871 | I46: =IF(E46<84.9,0,IF(E46<87.4,0.1,IF(E46<89.9,0.15,IF(E46<92.4,0.2,IF(E46<94.9,0.25,IF(E46<97.4,0.3,IF(E46<99.9,0.35,0.4))))))) -> 0 | J46: =H46-I46 -> 41.871 | K46: =AVERAGE(J46:J47) -> 42.132 | L46: =RANK(K46,K7:K51,1) -> 14 | Z46: =AVERAGE(E46:E47) -> 81.6 | AA46: =IF(E46>84.9,E46,E47) -> 84.2 | AB46: =COUNTIF(E46:E48,">84.9") -> 0 | AC46: =IF(AB46=1,AD46,AE46) -> 0 | AD46: =IF(AA46<84.9,0,IF(AA46<87.4,9,IF(AA46<89.9,13.5,IF(AA46<92.4,18,IF(AA46<94.9,22.5,IF(AA46<97.4,27,IF(AA46<99.9,31.5,36))))))) -> 0 | AE46: =IF(Z46<84.9,0,IF(Z46<87.4,18,IF(Z46<89.9,27,IF(Z46<92.4,36,IF(Z46<94.9,45,IF(Z46<97.4,54,IF(Z46<99.9,63,72))))))) -> 0 | AF46: =IF(AG46=2,AI46,AJ46) -> 0 | AG46: =COUNTIF(E46:E48,">1") -> 2 | AH46: =COUNTIF(E46:E48,">84.9") -> 0 | AI46: =IF(AH46=1,AK46,AL46) -> 0
C47: Гладышев Степа | D47: 14-2 | E47: 84.2 | G47: 69 | H47: 42.393 | I47: =IF(E47<84.9,0,IF(E47<87.4,0.1,IF(E47<89.9,0.15,IF(E47<92.4,0.2,IF(E47<94.9,0.25,IF(E47<97.4,0.3,IF(E47<99.9,0.35,0.4))))))) -> 0 | J47: =H47-I47 -> 42.393 | AF47: =IF(AG47=2,AI47,AJ47) -> 0 | AG47: =COUNTIF(E47:E49,">1") -> 2 | AH47: =COUNTIF(E47:E49,">84.9") -> 1 | AI47: =IF(AH47=1,AK47,AL47) -> 0
D48: 14-3 | I48: =IF(E48<84.9,0,IF(E48<87.4,0.1,IF(E48<89.9,0.15,IF(E48<92.4,0.2,IF(E48<94.9,0.25,IF(E48<97.4,0.3,IF(E48<99.9,0.35,0.4))))))) -> 0 | J48: =H48-I48 -> 0 | AF48: =IF(AG48=2,AI48,AJ48) -> 0 | AG48: =COUNTIF(E48:E50,">1") -> 2 | AH48: =COUNTIF(E48:E50,">84.9") -> 1 | AI48: =IF(AH48=1,AK48,AL48) -> 0
A49: 15 | B49: 50 Grams | C49: Шиленко Саша | D49: 15-1 | E49: 85.1 | F49: =IF(M6=3,AC49,AF48) -> 9 | G49: 1 | H49: 41.473 | I49: =IF(E49<84.9,0,IF(E49<87.4,0.1,IF(E49<89.9,0.15,IF(E49<92.4,0.2,IF(E49<94.9,0.25,IF(E49<97.4,0.3,IF(E49<99.9,0.35,0.4))))))) -> 0.1 | J49: =H49-I49 -> 41.373 | K49: =AVERAGE(J49:J50) -> 41.387 | L49: =RANK(K49,K7:K51,1) -> 8 | Z49: =AVERAGE(E49:E50) -> 80.1 | AA49: =IF(E49>84.9,E49,E50) -> 85.1 | AB49: =COUNTIF(E49:E51,">84.9") -> 1 | AC49: =IF(AB49=1,AD49,AE49) -> 9 | AD49: =IF(AA49<84.9,0,IF(AA49<87.4,9,IF(AA49<89.9,13.5,IF(AA49<92.4,18,IF(AA49<94.9,22.5,IF(AA49<97.4,27,IF(AA49<99.9,31.5,36))))))) -> 9 | AE49: =IF(Z49<84.9,0,IF(Z49<87.4,18,IF(Z49<89.9,27,IF(Z49<92.4,36,IF(Z49<94.9,45,IF(Z49<97.4,54,IF(Z49<99.9,63,72))))))) -> 0 | AF49: =IF(AG49=2,AI49,AJ49) -> 0 | AG49: =COUNTIF(E49:E51,">1") -> 2 | AH49: =COUNTIF(E49:E51,">84.9") -> 1 | AI49: =IF(AH49=1,AK49,AL49) -> 0
C50: Сомок Денис | D50: 15-2 | E50: 75.1 | G50: 2 | H50: 41.401 | I50: =IF(E50<84.9,0,IF(E50<87.4,0.1,IF(E50<89.9,0.15,IF(E50<92.4,0.2,IF(E50<94.9,0.25,IF(E50<97.4,0.3,IF(E50<99.9,0.35,0.4))))))) -> 0 | J50: =H50-I50 -> 41.401
D51: 15-3 | I51: =IF(E51<84.9,0,IF(E51<87.4,0.1,IF(E51<89.9,0.15,IF(E51<92.4,0.2,IF(E51<94.9,0.25,IF(E51<97.4,0.3,IF(E51<99.9,0.35,0.4))))))) -> 0 | J51: =H51-I51 -> 0
Z52: =AVERAGE(#REF!) -> #REF! | AA52: =IF(#REF!>84.9,#REF!,#REF!) -> #REF! | AB52: =COUNTIF(#REF!,">84.9") -> #REF! | AC52: =IF(AB52=1,AD52,AE52) -> #REF! | AD52: =IF(AA52<84.9,0,IF(AA52<87.4,9,IF(AA52<89.9,13.5,IF(AA52<92.4,18,IF(AA52<94.9,22.5,IF(AA52<97.4,27,IF(AA52<99.9,31.5,36))))))) -> #REF! | AE52: =IF(Z52<84.9,0,IF(Z52<87.4,18,IF(Z52<89.9,27,IF(Z52<92.4,36,IF(Z52<94.9,45,IF(Z52<97.4,54,IF(Z52<99.9,63,72))))))) -> #REF!
Z55: =AVERAGE(#REF!) -> #REF! | AA55: =IF(#REF!>84.9,#REF!,#REF!) -> #REF! | AB55: =COUNTIF(#REF!,">84.9") -> #REF! | AC55: =IF(AB55=1,AD55,AE55) -> #REF! | AD55: =IF(AA55<84.9,0,IF(AA55<87.4,9,IF(AA55<89.9,13.5,IF(AA55<92.4,18,IF(AA55<94.9,22.5,IF(AA55<97.4,27,IF(AA55<99.9,31.5,36))))))) -> #REF! | AE55: =IF(Z55<84.9,0,IF(Z55<87.4,18,IF(Z55<89.9,27,IF(Z55<92.4,36,IF(Z55<94.9,45,IF(Z55<97.4,54,IF(Z55<99.9,63,72))))))) -> #REF!

Sheet Deus Team
A2: Чемпионат мини марафон "Большие Гонки", 12-й этап
A4: Deus Team
A6: Обяза-тельные | B6: Пилот | C6: карт | D6: Круг | E6: кругов на отрезке | F6: Статистика по кругам | J6: Общее время гонки | K6: Время на трассе
F7: Лучший круг | G7: Среднее на отрезке | I7: стабильность | K7: отрезок | L7: всего у пилота | M7: Питы | N7: Штрафы/ бонусы (сек)
A8: 1 | B8: Пикулин Паша | C8: 21 | D8: =COUNTA(C19:C83) -> 31 | E8: =COUNTA(C19:C83) -> 31 | F8: =MIN(C19:C82) -> 40.733 | G8: =AVERAGE(C19:C85) -> 41.165774 | I8: =G8-F8 -> 0.43277419 | J8: 0.01528331 | K8: =J8 -> 0.01528331 | L8: =K8 -> 0.01528331 | M8: 137.653
A9: 2 | B9: Пикулин Паша | C9: 14 | D9: =COUNTA(D19:D83)+D8+1 -> 94 | E9: =COUNTA(D19:D83)+1 -> 63 | F9: =MIN(D19:D82) -> 40.803 | G9: =AVERAGE(D19:D84) -> 41.20671 | I9: =G9-F9 -> 0.40370968 | J9: 0.046429097 | K9: =J9-J8 -> 0.031145787 | L9: =K9+L8 -> 0.046429097 | M9: 138.122
A10: 3 | B10: Терещенко Андрей | C10: 5 | D10: =COUNTA(E19:E83)+D9+1 -> 114 | E10: =COUNTA(E19:E83)+1 -> 20 | F10: =MIN(E19:E84) -> 41.451 | G10: =AVERAGE(E19:E85) -> 41.822947 | I10: =G10-F10 -> 0.37194737 | J10: 0.057229687 | K10: =J10-J9 -> 0.01080059 | L10: =K10 -> 0.01080059 | M10: 115.264 | N10: -22.5 | O10: бонус за вес
A11: 4 | B11: Терещенко Андрей | C11: 69 | D11: =COUNTA(F19:F83)+D10+1 -> 149 | E11: =COUNTA(F19:F83)+1 -> 35 | F11: =MIN(F19:F84) -> 41.08 | G11: =AVERAGE(F19:F84) -> 41.428235 | I11: =G11-F11 -> 0.34823529 | J11: 0.074865081 | K11: =J11-J10 -> 0.017635394 | L11: =K11+L10 -> 0.028435984 | M11: 138.265
A12: 5 | B12: Терещенко Андрей | C12: 16 | D12: =COUNTA(G19:G83)+D11+1 -> 203 | E12: =COUNTA(G19:G83)+1 -> 54 | F12: =MIN(G19:G84) -> 41.141 | G12: =AVERAGE(G19:G884) -> 41.421094 | I12: =G12-F12 -> 0.28009434 | J12: 0.10188593 | K12: =J12-J11 -> 0.027020845 | L12: =K12+L11 -> 0.055456829 | M12: 163.064 | N12: +20+5 | O12: разворот 1+подбивание 12
A13: Финиш | B13: Пикулин Паша | C13: 14 | D13: =COUNTA(H19:H83)+D12+1 -> 250 | E13: =COUNTA(H19:H83)+1 -> 47 | F13: =MIN(H19:H84) -> 40.85 | G13: =AVERAGE(H19:H84) -> 41.100304 | I13: =G13-F13 -> 0.25030435 | J13: ='Общие результаты'!G6 -> 3:00:17 | K13: =J13-J12 -> 0.023310833 | L13: =K13+L9 -> 0.069739931 | N13: +5 | O13: лимит
F14: =AVERAGE(F8,F9,F13) -> 40.795333 | G14: =AVERAGE(C19:D80,H19:H70) -> 41.162367 | H14: Паша | I14: =AVERAGE(I8,I9,I13) -> 0.36226274
F15: =AVERAGE(F9,F11,F10) -> 41.111333 | G15: =AVERAGE(E19:G79) -> 41.495415 | H15: Андрей | I15: =AVERAGE(I9,I11,I10) -> 0.37463078
F16: =AVERAGE(F8:F13) -> 41.009667 | G16: =AVERAGE(C19:H85) -> 41.306461 | I16: =AVERAGE(I8:I13) -> 0.3478442
C18: =B8 -> Пикулин Паша | D18: =B9 -> Пикулин Паша | E18: =B10 -> Терещенко Андрей | F18: =B11 -> Терещенко Андрей | G18: =B12 -> Терещенко Андрей | H18: =B13 -> Пикулин Паша
B19: 1 | C19: 44.151 | D19: 42.96 | E19: 43.472 | F19: 43.408 | G19: 44.283 | H19: 42.397
B20: 2 | C20: 41.728 | D20: 40.963 | E20: 41.895 | F20: 41.409 | G20: 41.632 | H20: 40.867
B21: 3 | C21: 41.669 | D21: 40.99 | E21: 41.646 | F21: 41.628 | G21: 41.568 | H21: 41.486
B22: 4 | C22: 41.466 | D22: 41.017 | E22: 41.876 | F22: 41.343 | G22: 41.331 | H22: 41.153
B23: 5 | C23: 41.419 | D23: 40.877 | E23: 41.889 | F23: 41.244 | G23: 41.412 | H23: 41
B24: 6 | C24: 41.174 | D24: 41.215 | E24: 41.48 | F24: 41.395 | G24: 41.223 | H24: 41.367
B25: 7 | C25: 41.149 | D25: 40.958 | E25: 41.616 | F25: 41.325 | G25: 41.627 | H25: 40.89
B26: 8 | C26: 41.02 | D26: 40.902 | E26: 41.766 | F26: 41.399 | G26: 41.548 | H26: 40.947
B27: 9 | C27: 40.951 | D27: 41.496 | E27: 41.863 | F27: 41.26 | G27: 41.378 | H27: 40.85
B28: 10 | C28: 41.006 | D28: 40.918 | E28: 41.806 | F28: 41.475 | G28: 41.22 | H28: 40.91
B29: 11 | C29: 40.973 | D29: 40.937 | E29: 42.759 | F29: 41.318 | G29: 41.204 | H29: 40.893
B30: 12 | C30: 40.936 | D30: 40.988 | E30: 41.908 | F30: 41.778 | G30: 41.268 | H30: 41.219
... B37: 19 | C37: 40.918 | D37: 41.135 | E37: 41.508 | F37: 41.351 | G37: 41.193 | H37: 41.165
B38: 20 | C38: 41.097 | D38: 40.892 | F38: 41.206 | G38: 41.293 | H38: 41.252
B39: 21 | C39: 40.843 | D39: 40.884 | F39: 41.39 | G39: 41.371 | H39: 41.305
B40: 22 | C40: 40.954 | D40: 40.894 | F40: 41.276 | G40: 41.556 | H40: 41.093
B41: 23 | C41: 40.969 | D41: 41.01 | F41: 41.412 | G41: 41.391 | H41: 41.563
B42: 24 | C42: 40.934 | D42: 41.012 | F42: 41.224 | G42: 41.498 | H42: 41.121
B43: 25 | C43: 40.831 | D43: 41.219 | F43: 41.182 | G43: 41.244 | H43: 41.045
B44: 26 | C44: 41.094 | D44: 41.318 | F44: 41.202 | G44: 41.237 | H44: 41.079
B45: 27 | C45: 41.024 | D45: 40.924 | F45: 41.255 | G45: 41.317 | H45: 40.947
B46: 28 | C46: 40.89 | D46: 41.724 | F46: 41.319 | G46: 41.266 | H46: 41.096
B47: 29 | C47: 41.145 | D47: 42.398 | F47: 41.423 | G47: 41.174 | H47: 41.086
B48: 30 | C48: 41.05 | D48: 40.98 | F48: 41.451 | G48: 41.367 | H48: 41.135
B49: 31 | C49: 40.992 | D49: 41.059 | F49: 41.602 | G49: 41.43 | H49: 41.033
B50: 32 | D50: 41.879 | F50: 41.457 | G50: 41.501 | H50: 41.038
B51: 33 | D51: 40.865 | F51: 41.311 | G51: 41.249 | H51: 41.024
B52: 34 | D52: 41.191 | F52: 41.414 | G52: 41.431 | H52: 40.962
B53: 35 | D53: 41.145 | G53: 41.435 | H53: 41.037
B54: 36 | D54: 40.85 | G54: 41.356 | H54: 41.029
B55: 37 | D55: 41.041 | G55: 41.427 | H55: 41.093
B56: 38 | D56: 41.261 | G56: 41.359 | H56: 41.424
B57: 39 | D57: 41.139 | G57: 41.257 | H57: 41.045
B58: 40 | D58: 40.877 | G58: 41.29 | H58: 40.925
B59: 41 | D59: 40.836 | G59: 41.251 | H59: 41.028
B60: 42 | D60: 40.949 | G60: 41.54 | H60: 40.995
B61: 43 | D61: 41.175 | G61: 41.287 | H61: 40.935
B62: 44 | D62: 41.103 | G62: 41.376 | H62: 40.906
B63: 45 | D63: 41.022 | G63: 41.6 | H63: 41.084
B64: 46 | D64: 41.907 | G64: 41.141 | H64: 40.981
B65: 47 | D65: 41.168 | G65: 41.477
B66: 48 | D66: 40.988 | G66: 41.306
B67: 49 | D67: 44.418 | G67: 41.3
B68: 50 | D68: 41.586 | G68: 41.145
B69: 51 | D69: 40.803 | G69: 41.478
B70: 52 | D70: 41.102 | G70: 41.452
B71: 53 | D71: 41.263 | G71: 41.3
B72: 54 | D72: 41.282
B73: 55 | D73: 40.988
B74: 56 | D74: 41.14
B75: 57 | D75: 41.161
B76: 58 | D76: 41.832
B77: 59 | D77: 41.14
B78: 60 | D78: 41.32
B79: 61 | D79: 40.969
B80: 62 | D80: 41.12
B81: 63

Sheet Vpered ta Vgoru
A2: Чемпионат мини марафон "Большие Гонки", 12-й этап
A4: Vpered ta Vgoru
A6: Обяза-тельные | B6: Пилот | C6: карт | D6: Круг | E6: кругов на отрезке | F6: Статистика по кругам | J6: Общее время гонки | K6: Время на трассе
F7: Лучший круг | G7: Среднее на отрезке | I7: стабильность | K7: отрезок | L7: всего у пилота | M7: Питы | N7: Штрафы/ бонусы (сек)
A8: 1 | B8: Лантушенко Игорь | C8: 14 | D8: =COUNTA(C19:C83) -> 25 | E8: =COUNTA(C19:C83) -> 25 | F8: =MIN(C19:C82) -> 40.738 | G8: =AVERAGE(C19:C85) -> 41.27688 | I8: =G8-F8 -> 0.53888 | J8: 0.012464062 | K8: =J8 -> 0.012464062 | L8: =K8 -> 0.012464062 | M8: 138.344
A9: 2 | B9: Манило Денис | C9: 18 | D9: =COUNTA(D19:D83)+D8+1 -> 77 | E9: =COUNTA(D19:D83)+1 -> 52 | F9: =MIN(D19:D82) -> 41.085 | G9: =AVERAGE(D19:D84) -> 41.470353 | I9: =G9-F9 -> 0.38535294 | J9: 0.038547419 | K9: =J9-J8 -> 0.026083356 | L9: =K9 -> 0.026083356 | M9: 138.751
A10: 3 | B10: Лантушенко Игорь | C10: 15 | D10: =COUNTA(E19:E83)+D9+1 -> 140 | E10: =COUNTA(E19:E83)+1 -> 63 | F10: =MIN(E19:E84) -> 40.654 | G10: =AVERAGE(E19:E85) -> 41.114952 | I10: =G10-F10 -> 0.46095161 | J10: 0.069161991 | K10: =J10-J9 -> 0.030614572 | L10: =K10+L8 -> 0.043078634 | M10: 137.634
A11: 4 | B11: Манило Денис | C11: 44 | D11: =COUNTA(F19:F83)+D10+1 -> 160 | E11: =COUNTA(F19:F83)+1 -> 20 | F11: =MIN(F19:F84) -> 41.433 | G11: =AVERAGE(F19:F84) -> 41.867053 | I11: =G11-F11 -> 0.43405263 | J11: 0.079964919 | K11: =J11-J10 -> 0.010802928 | L11: =K11+L9 -> 0.036886285 | M11: 137.944
A12: 5 | B12: Лантушенко Игорь | C12: 69 | D12: =COUNTA(G19:G83)+D11+1 -> 199 | E12: =COUNTA(G19:G83)+1 -> 39 | F12: =MIN(G19:G84) -> 40.969 | G12: =AVERAGE(G19:G884) -> 41.297421 | I12: =G12-F12 -> 0.32842105 | J12: 0.099729039 | K12: =J12-J11 -> 0.01976412 | L12: =K12+L10 -> 0.062842755 | M12: 138.041
A13: Финиш | B13: Манило Денис | C13: 12 | D13: =COUNTA(H19:H83)+D12+1 -> 250 | E13: =COUNTA(H19:H83)+1 -> 51 | F13: =MIN(H19:H84) -> 41.105 | G13: =AVERAGE(H19:H84) -> 41.44154 | I13: =G13-F13 -> 0.33654 | J13: ='Общие результаты'!G6 -> 3:00:17 | K13: =J13-J12 -> 0.02546772 | L13: =K13+L11 -> 0.062354005
F14: =AVERAGE(F8,F10,F12) -> 40.787 | G14: =AVERAGE(C19:C85,E19:E85,G19:G85) -> 41.202808 | H14: Игорь | I14: =AVERAGE(I8,I10,I12) -> 0.44275089
F15: =AVERAGE(F9,F11,F13) -> 41.207667 | G15: =AVERAGE(D19:D85,F19:F85,H19:H85) -> 41.521158 | H15: Денис | I15: =AVERAGE(I9,I11,I13) -> 0.38531519
F16: =AVERAGE(F8:F13) -> 40.997333 | G16: =AVERAGE(C19:H85) -> 41.358735 | I16: =AVERAGE(I8:I13) -> 0.41403304
C18: =B8 -> Лантушенко Игорь | D18: =B9 -> Манило Денис | E18: =B10 -> Лантушенко Игорь | F18: =B11 -> Манило Денис | G18: =B12 -> Лантушенко Игорь | H18: =B13 -> Манило Денис
B19: 1 | C19: 46.843 | D19: 45.3 | E19: 42.882 | F19: 44.058 | G19: 42.508 | H19: 43.438
B20: 2 | C20: 42.038 | D20: 41.949 | E20: 41.174 | F20: 42.09 | G20: 41.589 | H20: 41.767
B21: 3 | C21: 41.578 | D21: 41.559 | E21: 42.379 | F21: 42.004 | G21: 41.404 | H21: 41.508
B22: 4 | C22: 41.409 | D22: 41.558 | E22: 41.125 | F22: 42.39 | G22: 41.66 | H22: 41.668
B23: 5 | C23: 41.518 | D23: 41.493 | E23: 41.392 | F23: 41.854 | G23: 41.209 | H23: 41.51
B24: 6 | C24: 41.422 | D24: 41.398 | E24: 41.479 | F24: 41.791 | G24: 41.127 | H24: 41.421
B25: 7 | C25: 41.052 | D25: 41.5 | E25: 41.101 | F25: 41.621 | G25: 41.484 | H25: 41.359
B26: 8 | C26: 40.97 | D26: 41.325 | E26: 41.441 | F26: 41.568 | G26: 41.03 | H26: 41.425
B27: 9 | C27: 40.885 | D27: 41.365 | E27: 41.966 | F27: 42.099 | G27: 41.484 | H27: 41.761
B28: 10 | C28: 40.814 | D28: 41.365 | E28: 41.955 | F28: 42.039 | G28: 41.582 | H28: 41.876
B29: 11 | C29: 40.738 | D29: 41.419 | E29: 40.767 | F29: 41.674 | G29: 41.132 | H29: 41.738
B30: 12 | C30: 40.799 | D30: 41.19 | E30: 41.107 | F30: 41.529 | G30: 41.21 | H30: 41.278
... B37: 19 | C37: 41.004 | D37: 41.258 | E37: 40.781 | F37: 41.46 | G37: 41.13 | H37: 41.341
B38: 20 | C38: 40.885 | D38: 41.291 | E38: 41.296 | G38: 41.355 | H38: 41.32
B39: 21 | C39: 40.927 | D39: 42.144 | E39: 40.867 | G39: 41.201 | H39: 41.143
B40: 22 | C40: 40.831 | D40: 41.566 | E40: 41.441 | G40: 41.667 | H40: 41.305
B41: 23 | C41: 40.877 | D41: 41.314 | E41: 40.87 | G41: 41.346 | H41: 41.221
B42: 24 | C42: 40.858 | D42: 41.471 | E42: 40.87 | G42: 41.201 | H42: 41.26
B43: 25 | C43: 40.82 | D43: 41.167 | E43: 40.982 | G43: 41.292 | H43: 41.275
B44: 26 | D44: 41.467 | E44: 40.931 | G44: 41.083 | H44: 41.239
B45: 27 | D45: 41.376 | E45: 40.833 | G45: 41.094 | H45: 41.26
B46: 28 | D46: 41.3 | E46: 40.954 | G46: 41.223 | H46: 41.346
B47: 29 | D47: 41.354 | E47: 40.787 | G47: 41.045 | H47: 41.187
B48: 30 | D48: 41.716 | E48: 40.806 | G48: 41.179 | H48: 42.021
B49: 31 | D49: 41.299 | E49: 41.378 | G49: 41.345 | H49: 41.404
B50: 32 | D50: 41.28 | E50: 40.71 | G50: 41.138 | H50: 41.84
B51: 33 | D51: 41.257 | E51: 40.73 | G51: 41.063 | H51: 41.265
B52: 34 | D52: 41.363 | E52: 40.803 | G52: 41.138 | H52: 41.238
B53: 35 | D53: 41.371 | E53: 40.973 | G53: 40.969 | H53: 41.564
B54: 36 | D54: 41.245 | E54: 40.848 | G54: 41.393 | H54: 42.276
B55: 37 | D55: 41.286 | E55: 41.181 | G55: 41.259 | H55: 41.607
B56: 38 | D56: 41.199 | E56: 41.595 | G56: 41.074 | H56: 41.277
B57: 39 | D57: 41.286 | E57: 40.883 | H57: 41.34
B58: 40 | D58: 41.332 | E58: 40.778 | H58: 41.533
B59: 41 | D59: 41.231 | E59: 40.856 | H59: 41.324
B60: 42 | D60: 41.298 | E60: 40.654 | H60: 41.105
B61: 43 | D61: 41.7 | E61: 41.375 | H61: 41.26
B62: 44 | D62: 41.584 | E62: 41.41 | H62: 41.22
B63: 45 | D63: 41.362 | E63: 42.213 | H63: 41.157
B64: 46 | D64: 41.434 | E64: 41.181 | H64: 41.189
B65: 47 | D65: 41.233 | E65: 40.978 | H65: 41.139
B66: 48 | D66: 41.289 | E66: 41.004 | H66: 41.31
B67: 49 | D67: 41.085 | E67: 40.907 | H67: 41.165
B68: 50 | D68: 41.389 | E68: 40.743 | H68: 41.2
B69: 51 | D69: 41.191 | E69: 40.851
B70: 52 | E70: 41.556
B71: 53 | E71: 40.922
B72: 54 | E72: 40.851
B73: 55 | E73: 40.766
B74: 56 | E74: 40.949
B75: 57 | E75: 40.775
B76: 58 | E76: 41.03
B77: 59 | E77: 41.022
B78: 60 | E78: 41.814
B79: 61 | E79: 41.042
B80: 62 | E80: 40.86
B81: 63

Sheet Hurricane RT Ukraine
A2: Чемпионат мини марафон "Большие Гонки", 12-й этап
A4: Hurricane RT Ukraine
A6: Обяза-тельные | B6: Пилот | C6: карт | D6: Круг | E6: кругов на отрезке | F6: Статистика по кругам | J6: Общее время гонки | K6: Время на трассе
F7: Лучший круг | G7: Среднее на отрезке | I7: стабильность | K7: отрезок | L7: всего у пилота | M7: Питы | N7: Штрафы/ бонусы (сек)
A8: 1 | B8: Стоцкий Андрей | C8: 1 | D8: =COUNTA(C19:C83) -> 31 | E8: =COUNTA(C19:C83) -> 31 | F8: =MIN(C19:C82) -> 40.789 | G8: =AVERAGE(C19:C85) -> 41.254032 | I8: =G8-F8 -> 0.46503226 | J8: 0.015313785 | K8: =J8 -> 0.015313785 | L8: =K8 -> 0.015313785 | M8: 137.449
A9: 2 | B9: Мифтахутдинов Ильяс | C9: 16 | D9: =COUNTA(D19:D83)+D8+1 -> 84 | E9: =COUNTA(D19:D83)+1 -> 53 | F9: =MIN(D19:D82) -> 40.895 | G9: =AVERAGE(D19:D84) -> 41.233615 | I9: =G9-F9 -> 0.33861538 | J9: 0.041706285 | K9: =J9-J8 -> 0.0263925 | L9: =K9 -> 0.0263925 | M9: 139.180
A10: 3 | B10: Стоцкий Андрей | C10: 1 | D10: =COUNTA(E19:E83)+D9+1 -> 141 | E10: =COUNTA(E19:E83)+1 -> 57 | F10: =MIN(E19:E84) -> 40.872 | G10: =AVERAGE(E19:E85) -> 41.274071 | I10: =G10-F10 -> 0.40207143 | J10: 0.070067234 | K10: =J10-J9 -> 0.028360949 | L10: =K10+L8 -> 0.043674734 | M10: 140.752
A11: 4 | B11: Мифтахутдинов Ильяс | C11: 12 | D11: =COUNTA(F19:F83)+D10+1 -> 198 | E11: =COUNTA(F19:F83)+1 -> 57 | F11: =MIN(F19:F84) -> 40.681 | G11: =AVERAGE(F19:F84) -> 41.471214 | I11: =G11-F11 -> 0.79021429 | J11: 0.098590301 | K11: =J11-J10 -> 0.028523067 | L11: =K11+L9 -> 0.054915567 | M11: 158.440 | N11: +20 | O11: заезд под флаг
A12: 5 | B12: Стоцкий Андрей | C12: 15 | D12: =COUNTA(G19:G83)+D11+1 -> 228 | E12: =COUNTA(G19:G83)+1 -> 30 | F12: =MIN(G19:G84) -> 40.746 | G12: =AVERAGE(G19:G884) -> 41.092655 | I12: =G12-F12 -> 0.34665517 | J12: 0.11418924 | K12: =J12-J11 -> 0.015598935 | L12: =K12+L10 -> 0.059273669 | M12: 136.381
A13: Финиш | B13: Мифтахутдинов Ильяс | C13: 7 | D13: =COUNTA(H19:H83)+D12+1 -> 250 | E13: =COUNTA(H19:H83)+1 -> 22 | F13: =MIN(H19:H84) -> 40.99 | G13: =AVERAGE(H19:H84) -> 41.440429 | I13: =G13-F13 -> 0.45042857 | J13: ='Общие результаты'!G6 -> 3:00:17 | K13: =J13-J12 -> 0.011007523 | L13: =K13+L11 -> 0.06592309
F14: =AVERAGE(F8,F10,F12) -> 40.802333 | G14: =AVERAGE(C19:C85,E19:E85,G19:G85) -> 41.223362 | H14: Андрей | I14: =AVERAGE(I8,I10,I12) -> 0.40458629
F15: =AVERAGE(F9,F11,F13) -> 40.855333 | G15: =AVERAGE(D19:D85,F19:F85,H19:H85) -> 41.370426 | H15: Ильяс | I15: =AVERAGE(I9,I11,I13) -> 0.52641941
F16: =AVERAGE(F8:F13) -> 40.828833 | G16: =AVERAGE(C19:H85) -> 41.300796 | I16: =AVERAGE(I8:I13) -> 0.46550285
C18: =B8 -> Стоцкий Андрей | D18: =B9 -> Мифтахутдинов Ильяс | E18: =B10 -> Стоцкий Андрей | F18: =B11 -> Мифтахутдинов Ильяс | G18: =B12 -> Стоцкий Андрей | H18: =B13 -> Мифтахутдинов Ильяс
B19: 1 | C19: 45.822 | D19: 42.864 | E19: 42.43 | F19: 41.883 | G19: 43.487 | H19: 42.639
B20: 2 | C20: 41.861 | D20: 41.515 | E20: 41.284 | F20: 41.172 | G20: 41.282 | H20: 42.001
B21: 3 | C21: 41.64 | D21: 41.44 | E21: 41.189 | F21: 41.078 | G21: 41.245 | H21: 41.565
B22: 4 | C22: 41.267 | D22: 41.419 | E22: 41.506 | F22: 40.846 | G22: 41.242 | H22: 41.611
B23: 5 | C23: 41.259 | D23: 41.229 | E23: 41.231 | F23: 40.69 | G23: 40.985 | H23: 41.483
B24: 6 | C24: 41.023 | D24: 41.253 | E24: 41.116 | F24: 40.862 | G24: 41.052 | H24: 41.929
B25: 7 | C25: 41.153 | D25: 40.936 | E25: 41.13 | F25: 41.202 | G25: 41.039 | H25: 41.227
B26: 8 | C26: 41.186 | D26: 41.019 | E26: 41.775 | F26: 42.576 | G26: 41.172 | H26: 41.397
B27: 9 | C27: 41.01 | D27: 40.895 | E27: 41.137 | F27: 41.186 | G27: 40.908 | H27: 41.397
B28: 10 | C28: 40.964 | D28: 41.106 | E28: 41.358 | F28: 41.297 | G28: 41.177 | H28: 41.199
B29: 11 | C29: 40.929 | D29: 42.301 | E29: 40.969 | F29: 63.772 | G29: 40.765 | H29: 41.159
B30: 12 | C30: 40.789 | D30: 41.443 | E30: 41.223 | F30: 40.785 | G30: 40.946 | H30: 41.333
... B39: 21 | C39: 41.065 | D39: 41.097 | E39: 42.444 | F39: 40.715 | G39: 40.891 | H39: 41.34
B40: 22 | C40: 40.834 | D40: 41.133 | E40: 41.493 | F40: 40.704 | G40: 40.762
B41: 23 | C41: 41.025 | D41: 41.028 | E41: 41.041 | F41: 41.376 | G41: 40.903
B42: 24 | C42: 41.198 | D42: 41.989 | E42: 41.505 | F42: 40.938 | G42: 41.17
B43: 25 | C43: 40.89 | D43: 41.113 | E43: 41.46 | F43: 40.93 | G43: 41.143
B44: 26 | C44: 41.14 | D44: 41.048 | E44: 41.162 | F44: 40.769 | G44: 40.802
B45: 27 | C45: 41.23 | D45: 40.935 | E45: 41.169 | F45: 40.987 | G45: 40.803
B46: 28 | C46: 40.986 | D46: 40.979 | E46: 41.212 | F46: 40.847 | G46: 41.512
B47: 29 | C47: 41.189 | D47: 40.949 | E47: 41.477 | F47: 40.946 | G47: 40.909
B48: 30 | C48: 41.09 | D48: 41.01 | E48: 40.898 | F48: 40.939
B49: 31 | C49: 41.047 | D49: 41.466 | E49: 40.941 | F49: 40.986
B50: 32 | D50: 41.274 | E50: 40.994 | F50: 41.073
B51: 33 | D51: 41.092 | E51: 41.112 | F51: 40.854
B52: 34 | D52: 41.072 | E52: 41.06 | F52: 41.044
B53: 35 | D53: 41.11 | E53: 41.452 | F53: 41.022
B54: 36 | D54: 41.449 | E54: 41.207 | F54: 41.004
B55: 37 | D55: 40.938 | E55: 40.984 | F55: 40.908
B56: 38 | D56: 40.945 | E56: 41.033 | F56: 40.836
B57: 39 | D57: 41.121 | E57: 40.872 | F57: 40.99
B58: 40 | D58: 41.255 | E58: 41.046 | F58: 40.786
B59: 41 | D59: 41.206 | E59: 41.256 | F59: 40.95
B60: 42 | D60: 41.144 | E60: 41.066 | F60: 40.93
B61: 43 | D61: 41.348 | E61: 41.046 | F61: 40.931
... B70: 52 | D70: 41.164 | E70: 41.835 | F70: 41.236
B71: 53 | E71: 41.327 | F71: 40.91
B72: 54 | E72: 41.254 | F72: 41.336
B73: 55 | E73: 41.219 | F73: 41.084
B74: 56 | E74: 41.136 | F74: 41.661
B75: 57
B76: 58
B77: 59
B78: 60
B79: 61
B80: 62
B81: 63

Sheet  NFS Kyiv Legends
A2: Чемпионат мини марафон "Большие Гонки", 12-й этап
A4: NFS Kyiv Legends
A6: Обяза-тельные | B6: Пилот | C6: карт | D6: Круг | E6: кругов на отрезке | F6: Статистика по кругам | J6: Общее время гонки | K6: Время на трассе
F7: Лучший круг | G7: Среднее на отрезке | I7: стабильность | K7: отрезок | L7: всего у пилота | M7: Питы | N7: Штрафы/ бонусы (сек)
A8: 1 | B8: Петушков Андрей | C8: 9 | D8: =COUNTA(C19:C83) -> 21 | E8: =COUNTA(C19:C83) -> 21 | F8: =MIN(C19:C82) -> 40.918 | G8: =AVERAGE(C19:C85) -> 41.557238 | I8: =G8-F8 -> 0.6392381 | J8: 0.010603958 | K8: =J8 -> 0.010603958 | L8: =K8 -> 0.010603958 | M8: 139.962
A9: 2 | B9: Ткаченко Кирилл | C9: 13 | D9: =COUNTA(D19:D83)+D8+1 -> 43 | E9: =COUNTA(D19:D83)+1 -> 22 | F9: =MIN(D19:D82) -> 41.225 | G9: =AVERAGE(D19:D84) -> 41.691476 | I9: =G9-F9 -> 0.46647619 | J9: 0.022353877 | K9: =J9-J8 -> 0.011749919 | L9: =K9 -> 0.011749919 | M9: 137.534
A10: 3 | B10: Петушков Андрей | C10: 69 | D10: =COUNTA(E19:E83)+D9+1 -> 93 | E10: =COUNTA(E19:E83)+1 -> 50 | F10: =MIN(E19:E84) -> 40.81 | G10: =AVERAGE(E19:E85) -> 41.237755 | I10: =G10-F10 -> 0.4277551 | J10: 0.046853889 | K10: =J10-J9 -> 0.024500012 | L10: =K10+L8 -> 0.03510397 | M10: 136.262
A11: 4 | B11: Ткаченко Кирилл | C11: 2 | D11: =COUNTA(F19:F83)+D10+1 -> 147 | E11: =COUNTA(F19:F83)+1 -> 54 | F11: =MIN(F19:F84) -> 41.149 | G11: =AVERAGE(F19:F84) -> 41.637774 | I11: =G11-F11 -> 0.48877358 | J11: 0.073984028 | K11: =J11-J10 -> 0.027130139 | L11: =K11+L9 -> 0.038880058 | M11: 138.505
A12: 5 | B12: Ткаченко Кирилл | C12: 7 | D12: =COUNTA(G19:G83)+D11+1 -> 201 | E12: =COUNTA(G19:G83)+1 -> 54 | F12: =MIN(G19:G84) -> 40.937 | G12: =AVERAGE(G19:G884) -> 41.321755 | I12: =G12-F12 -> 0.38475472 | J12: 0.10093861 | K12: =J12-J11 -> 0.026954583 | L12: =K12+L11 -> 0.065834641 | M12: 137.070
A13: Финиш | B13: Петушков Андрей | C13: 69 | D13: =COUNTA(H19:H83)+D12+1 -> 251 | E13: =COUNTA(H19:H83)+1 -> 50 | F13: =MIN(H19:H84) -> 40.812 | G13: =AVERAGE(H19:H84) -> 41.45549 | I13: =G13-F13 -> 0.6434898 | J13: ='Общие результаты'!G6 -> 3:00:17 | K13: =J13-J12 -> 0.024258148 | L13: =K13+L10 -> 0.059362118
F14: =AVERAGE(F8,F10,F13) -> 40.846667 | G14: =AVERAGE(C19:C85,E19:E85,H19:H85) -> 41.38379 | H14: Андрей | I14: =AVERAGE(I8,I10,I13) -> 0.570161
F15: =AVERAGE(F9,F11,F12) -> 41.103667 | G15: =AVERAGE(D19:D85,F19:G85) -> 41.514772 | H15: Кирилл | I15: =AVERAGE(I9,I11,I12) -> 0.44666816
F16: =AVERAGE(F8:F13) -> 40.975167 | G16: =AVERAGE(C19:H85) -> 41.451411 | I16: =AVERAGE(I8:I13) -> 0.50841458
C18: =B8 -> Петушков Андрей | D18: =B9 -> Ткаченко Кирилл | E18: =B10 -> Петушков Андрей | F18: =B11 -> Ткаченко Кирилл | G18: =B12 -> Ткаченко Кирилл | H18: =B13 -> Петушков Андрей
B19: 1 | C19: 44.329 | D19: 45.254 | E19: 42.323 | F19: 44.253 | G19: 42.957 | H19: 42.162
B20: 2 | C20: 42.639 | D20: 42.267 | E20: 41.506 | F20: 42.106 | G20: 41.383 | H20: 41.146
B21: 3 | C21: 41.865 | D21: 42.046 | E21: 41.243 | F21: 41.898 | G21: 41.519 | H21: 41.612
B22: 4 | C22: 41.497 | D22: 41.66 | E22: 41.471 | F22: 41.383 | G22: 41.338 | H22: 41.255
B23: 5 | C23: 41.385 | D23: 41.652 | E23: 41.208 | F23: 42.301 | G23: 41.242 | H23: 41.223
B24: 6 | C24: 41.303 | D24: 41.58 | E24: 40.925 | F24: 41.424 | G24: 41.304 | H24: 41.154
B25: 7 | C25: 41.197 | D25: 41.436 | E25: 40.87 | F25: 41.306 | G25: 41.261 | H25: 41.329
B26: 8 | C26: 41.874 | D26: 41.476 | E26: 41.999 | F26: 42.039 | G26: 41.284 | H26: 41.071
B27: 9 | C27: 41.068 | D27: 41.631 | E27: 41.277 | F27: 42.066 | G27: 41.527 | H27: 41.256
B28: 10 | C28: 41.165 | D28: 41.285 | E28: 41.336 | F28: 41.496 | G28: 41.163 | H28: 41.04
B29: 11 | C29: 40.918 | D29: 41.44 | E29: 40.987 | F29: 41.452 | G29: 41.221 | H29: 41.028
B30: 12 | C30: 41.094 | D30: 41.225 | E30: 40.81 | F30: 41.271 | G30: 42.271 | H30: 40.969
... B39: 21 | C39: 41.497 | D39: 41.374 | E39: 41.165 | F39: 41.149 | G39: 41.112 | H39: 40.905
B40: 22 | E40: 41.158 | F40: 41.272 | G40: 41.227 | H40: 40.812
B41: 23 | E41: 41.159 | F41: 41.484 | G41: 41.28 | H41: 40.917
B42: 24 | E42: 41.02 | F42: 42.052 | G42: 41.311 | H42: 42.429
B43: 25 | E43: 40.867 | F43: 41.247 | G43: 41.193 | H43: 41.62
B44: 26 | E44: 40.982 | F44: 41.158 | G44: 41.153 | H44: 41.626
B45: 27 | E45: 41.079 | F45: 41.292 | G45: 41.389 | H45: 43.417
B46: 28 | E46: 41.088 | F46: 41.22 | G46: 41.33 | H46: 43.085
B47: 29 | E47: 41.178 | F47: 41.249 | G47: 41.443 | H47: 41.704
B48: 30 | E48: 41.046 | F48: 41.836 | G48: 41.659 | H48: 42.668
B49: 31 | E49: 41.629 | F49: 41.704 | G49: 41.219 | H49: 44.634
B50: 32 | E50: 41.192 | F50: 41.185 | G50: 41.012 | H50: 41.586
B51: 33 | E51: 41.044 | F51: 41.464 | G51: 41.063 | H51: 41.354
... B67: 49 | E67: 40.989 | F67: 41.678 | G67: 41.338 | H67: 41.064
B68: 50 | F68: 41.451 | G68: 41.072
B69: 51 | F69: 41.384 | G69: 41.04
B70: 52 | F70: 41.511 | G70: 41.018
B71: 53 | F71: 41.41 | G71: 42.084
B72: 54
B73: 55
B74: 56
B75: 57
B76: 58
B77: 59
B78: 60
B79: 61
B80: 62
B81: 63

Sheet  K44
A2: Чемпионат мини марафон "Большие Гонки", 12-й этап
A4: K44
A6: Обяза-тельные | B6: Пилот | C6: карт | D6: Круг | E6: кругов на отрезке | F6: Статистика по кругам | J6: Общее время гонки | K6: Время на трассе
F7: Лучший круг | G7: Среднее на отрезке | I7: стабильность | K7: отрезок | L7: всего у пилота | M7: Питы | N7: Штрафы/ бонусы (сек)
A8: 1 | B8: Наум | C8: 2 | D8: =COUNTA(C19:C83) -> 37 | E8: =COUNTA(C19:C83) -> 37 | F8: =MIN(C19:C82) -> 40.853 | G8: =AVERAGE(C19:C85) -> 41.467865 | I8: =G8-F8 -> 0.61486486 | J8: 0.018282604 | K8: =J8 -> 0.018282604 | L8: =K8 -> 0.018282604 | M8: 137.522
A9: 2 | B9: Фортуна Таня | C9: 10 | D9: =COUNTA(D19:D83)+D8+1 -> 77 | E9: =COUNTA(D19:D83)+1 -> 40 | F9: =MIN(D19:D82) -> 41.208 | G9: =AVERAGE(D19:D84) -> 41.589333 | I9: =G9-F9 -> 0.38133333 | J9: 0.038666551 | K9: =J9-J8 -> 0.020383947 | L9: =K9 -> 0.020383947 | M9: 142.696
A10: 3 | B10: Наум | C10: 12 | D10: =COUNTA(E19:E83)+D9+1 -> 139 | E10: =COUNTA(E19:E83)+1 -> 62 | F10: =MIN(E19:E84) -> 40.497 | G10: =AVERAGE(E19:E85) -> 40.961459 | I10: =G10-F10 -> 0.46445902 | J10: 0.069230035 | K10: =J10-J9 -> 0.030563484 | L10: =K10+L8 -> 0.048846088 | M10: 137.256
A11: 4 | B11: Фортуна Таня | C11: 13 | D11: =COUNTA(F19:F83)+D10+1 -> 160 | E11: =COUNTA(F19:F83)+1 -> 21 | F11: =MIN(F19:F84) -> 41.445 | G11: =AVERAGE(F19:F84) -> 41.9103 | I11: =G11-F11 -> 0.4653 | J11: 0.080527639 | K11: =J11-J10 -> 0.011297604 | L11: =K11+L9 -> 0.031681551 | M11: 138.572
A12: 5 | B12: Фортуна Таня | C12: 21 | D12: =COUNTA(G19:G83)+D11+1 -> 209 | E12: =COUNTA(G19:G83)+1 -> 49 | F12: =MIN(G19:G84) -> 41.063 | G12: =AVERAGE(G19:G884) -> 41.421771 | I12: =G12-F12 -> 0.35877083 | J12: 0.10513517 | K12: =J12-J11 -> 0.024607535 | L12: =K12+L11 -> 0.056289086 | M12: 137.807
A13: Финиш | B13: Наум | C13: 10 | D13: =COUNTA(H19:H83)+D12+1 -> 250 | E13: =COUNTA(H19:H83)+1 -> 41 | F13: =MIN(H19:H84) -> 40.861 | G13: =AVERAGE(H19:H84) -> 41.804 | I13: =G13-F13 -> 0.943 | J13: ='Общие результаты'!G6 -> 3:00:17 | K13: =J13-J12 -> 0.020061586 | L13: =K13+L10 -> 0.068907674
F14: =AVERAGE(F8,F10,F13) -> 40.737 | G14: =AVERAGE(C19:C85,E19:E85,H19:H85) -> 41.341449 | H14: Наум | I14: =AVERAGE(I8,I10,I13) -> 0.67410796
F15: =AVERAGE(F9,F11,F12) -> 41.238667 | G15: =AVERAGE(D19:D85,F19:G85) -> 41.574159 | H15: Таня | I15: =AVERAGE(I9,I11,I12) -> 0.40180139
F16: =AVERAGE(F8:F13) -> 40.987833 | G16: =AVERAGE(C19:H85) -> 41.443082 | I16: =AVERAGE(I8:I13) -> 0.53795467
C18: =B8 -> Наум | D18: =B9 -> Фортуна Таня | E18: =B10 -> Наум | F18: =B11 -> Фортуна Таня | G18: =B12 -> Фортуна Таня | H18: =B13 -> Наум
B19: 1 | C19: 48.275 | D19: 43.748 | E19: 43.671 | F19: 43.576 | G19: 42.882 | H19: 42.975
B20: 2 | C20: 43.285 | D20: 42.005 | E20: 41.343 | F20: 41.902 | G20: 41.248 | H20: 42.067
B21: 3 | C21: 42.34 | D21: 41.392 | E21: 41.069 | F21: 41.861 | G21: 41.26 | H21: 41.682
B22: 4 | C22: 42.115 | D22: 42.217 | E22: 41.532 | F22: 41.863 | G22: 41.182 | H22: 41.687
B23: 5 | C23: 41.72 | D23: 41.449 | E23: 41.127 | F23: 41.658 | G23: 41.336 | H23: 41.423
B24: 6 | C24: 41.342 | D24: 41.429 | E24: 41.009 | F24: 41.96 | G24: 41.063 | H24: 41.29
B25: 7 | C25: 41.108 | D25: 41.324 | E25: 40.957 | F25: 41.856 | G25: 41.3 | H25: 41.149
B26: 8 | C26: 41.172 | D26: 41.314 | E26: 40.925 | F26: 42.514 | G26: 41.295 | H26: 40.98
B27: 9 | C27: 41.136 | D27: 41.382 | E27: 40.869 | F27: 41.706 | G27: 41.145 | H27: 41.134
B28: 10 | C28: 41.166 | D28: 41.25 | E28: 40.9 | F28: 41.562 | G28: 41.167 | H28: 41.746
B29: 11 | C29: 40.853 | D29: 41.259 | E29: 40.968 | F29: 41.725 | G29: 41.219 | H29: 41.398
B30: 12 | C30: 41.046 | D30: 41.712 | E30: 40.915 | F30: 41.743 | G30: 41.197 | H30: 41.292
... B38: 20 | C38: 41.059 | D38: 41.419 | E38: 40.69 | F38: 41.71 | G38: 41.282 | H38: 42.16
B39: 21 | C39: 41.231 | D39: 41.36 | E39: 40.775 | G39: 41.223 | H39: 42.332
B40: 22 | C40: 41.032 | D40: 41.265 | E40: 40.972 | G40: 41.246 | H40: 45.079
B41: 23 | C41: 41.109 | D41: 41.352 | E41: 40.821 | G41: 41.244 | H41: 41.599
B42: 24 | C42: 41.044 | D42: 41.83 | E42: 41.022 | G42: 41.315 | H42: 42.63
B43: 25 | C43: 41.696 | D43: 41.353 | E43: 40.875 | G43: 41.156 | H43: 41.327
B44: 26 | C44: 41.204 | D44: 41.448 | E44: 40.877 | G44: 41.93 | H44: 42.269
B45: 27 | C45: 41.109 | D45: 41.448 | E45: 40.581 | G45: 41.344 | H45: 41.437
B46: 28 | C46: 41.213 | D46: 41.445 | E46: 40.956 | G46: 41.601 | H46: 41.675
B47: 29 | C47: 41.347 | D47: 41.208 | E47: 40.81 | G47: 41.294 | H47: 43.944
B48: 30 | C48: 41.059 | D48: 41.414 | E48: 40.871 | G48: 41.159 | H48: 41.898
B49: 31 | C49: 41.066 | D49: 41.491 | E49: 40.731 | G49: 41.159 | H49: 41.375
B50: 32 | C50: 41.287 | D50: 41.216 | E50: 40.776 | G50: 41.207 | H50: 41.467
... B55: 37 | C55: 41.092 | D55: 41.83 | E55: 40.725 | G55: 41.181 | H55: 40.939
B56: 38 | D56: 41.334 | E56: 41.032 | G56: 41.318 | H56: 40.977
B57: 39 | D57: 41.317 | E57: 40.8 | G57: 41.138 | H57: 41.344
B58: 40 | E58: 41.1 | G58: 41.923 | H58: 41.48
B59: 41 | E59: 40.7 | G59: 42.142
B60: 42 | E60: 40.836 | G60: 41.515
B61: 43 | E61: 40.618 | G61: 41.24
B62: 44 | E62: 41.201 | G62: 41.208
B63: 45 | E63: 40.716 | G63: 41.259
B64: 46 | E64: 40.755 | G64: 41.198
B65: 47 | E65: 41.28 | G65: 41.711
B66: 48 | E66: 40.845 | G66: 41.774
B67: 49 | E67: 41.396
B68: 50 | E68: 40.824
B69: 51 | E69: 41.349
B70: 52 | E70: 40.824
B71: 53 | E71: 40.497
B72: 54 | E72: 41.085
B73: 55 | E73: 40.701
B74: 56 | E74: 41.137
B75: 57 | E75: 40.893
B76: 58 | E76: 40.655
B77: 59 | E77: 40.972
B78: 60 | E78: 40.904
B79: 61 | E79: 40.678
B80: 62
B81: 63

Sheet Kart Freedom
A2: Чемпионат мини марафон "Большие Гонки", 12-й этап
A4: Kart Freedom
A6: Обяза-тельные | B6: Пилот | C6: карт | D6: Круг | E6: кругов на отрезке | F6: Статистика по кругам | J6: Общее время гонки | K6: Время на трассе
F7: Лучший круг | G7: Среднее на отрезке | I7: стабильность | K7: отрезок | L7: всего у пилота | M7: Питы | N7: Штрафы/ бонусы (сек)
A8: 1 | B8: Бахмацкий Олег | C8: 16 | D8: =COUNTA(C19:C83) -> 25 | E8: =COUNTA(C19:C83) -> 25 | F8: =MIN(C19:C82) -> 40.896 | G8: =AVERAGE(C19:C85) -> 41.48092 | I8: =G8-F8 -> 0.58492 | J8: 0.012532812 | K8: =J8 -> 0.012532812 | L8: =K8 -> 0.012532812 | M8: 137.649
A9: 2 | B9: Бахмацкий Олег | C9: 3 | D9: =COUNTA(D19:D83)+D8+1 -> 50 | E9: =COUNTA(D19:D83)+1 -> 25 | F9: =MIN(D19:D82) -> 41.058 | G9: =AVERAGE(D19:D84) -> 41.59475 | I9: =G9-F9 -> 0.53675 | J9: 0.025673252 | K9: =J9-J8 -> 0.01314044 | L9: =K9+L8 -> 0.025673252 | M9: 137.839
A10: 3 | B10: Паненко Женя | C10: 17 | D10: =COUNTA(E19:E83)+D9+1 -> 91 | E10: =COUNTA(E19:E83)+1 -> 41 | F10: =MIN(E19:E84) -> 40.933 | G10: =AVERAGE(E19:E85) -> 41.400775 | I10: =G10-F10 -> 0.467775 | J10: 0.046476597 | K10: =J10-J9 -> 0.020803345 | L10: =K10 -> 0.020803345 | M10: 139.854
A11: 4 | B11: Бахмацкий Олег | C11: 21 | D11: =COUNTA(F19:F83)+D10+1 -> 154 | E11: =COUNTA(F19:F83)+1 -> 63 | F11: =MIN(F19:F84) -> 40.761 | G11: =AVERAGE(F19:F84) -> 41.141726 | I11: =G11-F11 -> 0.38072581 | J11: 0.077578067 | K11: =J11-J10 -> 0.03110147 | L11: =K11+L9 -> 0.056774722 | M11: 137.579
A12: 5 | B12: Паненко Женя | C12: 9 | D12: =COUNTA(G19:G83)+D11+1 -> 200 | E12: =COUNTA(G19:G83)+1 -> 46 | F12: =MIN(G19:G84) -> 41.308 | G12: =AVERAGE(G19:G884) -> 41.730556 | I12: =G12-F12 -> 0.42255556 | J12: 0.1009087 | K12: =J12-J11 -> 0.023330637 | L12: =K12+L10 -> 0.044133981 | M12: 137.646
A13: Финиш | B13: Паненко Женя | C13: 1 | D13: =COUNTA(H19:H83)+D12+1 -> 250 | E13: =COUNTA(H19:H83)+1 -> 50 | F13: =MIN(H19:H84) -> 40.878 | G13: =AVERAGE(H19:H84) -> 41.538878 | I13: =G13-F13 -> 0.66087755 | J13: ='Общие результаты'!G6 -> 3:00:17 | K13: =J13-J12 -> 0.024288056 | L13: =K13+L12 -> 0.068422037
F14: =AVERAGE(F8,F9,F12) -> 41.087333 | G14: =AVERAGE(C19:D76,F19:F80) -> 41.316072 | H14: Олег | I14: =AVERAGE(I8,I9,I12) -> 0.51474185
F15: =AVERAGE(F10,F12,F13) -> 41.039667 | G15: =AVERAGE(E19:E69,G19:H77) -> 41.562022 | H15: Женя | I15: =AVERAGE(I10,I12,I13) -> 0.51706937
F16: =AVERAGE(F8:F13) -> 40.972333 | G16: =AVERAGE(C19:H85) -> 41.450592 | I16: =AVERAGE(I8:I13) -> 0.50893399
C18: =B8 -> Бахмацкий Олег | D18: =B9 -> Бахмацкий Олег | E18: =B10 -> Паненко Женя | F18: =B11 -> Бахмацкий Олег | G18: =B12 -> Паненко Женя | H18: =B13 -> Паненко Женя
B19: 1 | C19: 47.28 | D19: 43.949 | E19: 44.202 | F19: 42.898 | G19: 43.94 | H19: 41.187
B20: 2 | C20: 42.306 | D20: 41.678 | E20: 42.022 | F20: 41.308 | G20: 41.99 | H20: 41.375
B21: 3 | C21: 41.735 | D21: 41.471 | E21: 41.44 | F21: 41.248 | G21: 41.522 | H21: 42.208
B22: 4 | C22: 41.536 | D22: 41.255 | E22: 41.268 | F22: 41.13 | G22: 41.752 | H22: 41.47
B23: 5 | C23: 41.582 | D23: 41.417 | E23: 41.218 | F23: 41.244 | G23: 41.564 | H23: 41.427
B24: 6 | C24: 41.373 | D24: 41.324 | E24: 41.773 | F24: 41.12 | G24: 41.692 | H24: 41.133
B25: 7 | C25: 41.281 | D25: 41.226 | E25: 41.205 | F25: 41.019 | G25: 41.381 | H25: 41.304
B26: 8 | C26: 41.058 | D26: 41.57 | E26: 41.026 | F26: 41.121 | G26: 41.364 | H26: 41.96
B27: 9 | C27: 41.134 | D27: 41.404 | E27: 41.18 | F27: 41.191 | G27: 41.531 | H27: 41.286
B28: 10 | C28: 41.154 | D28: 41.444 | E28: 41.224 | F28: 41.189 | G28: 42.025 | H28: 41.347
B29: 11 | C29: 41.035 | D29: 41.089 | E29: 41.249 | F29: 41.32 | G29: 41.537 | H29: 41.454
B30: 12 | C30: 41.042 | D30: 41.247 | E30: 41.182 | F30: 41.082 | G30: 41.485 | H30: 41.305
... B42: 24 | C42: 41.179 | D42: 41.383 | E42: 41.29 | F42: 40.913 | G42: 41.714 | H42: 41.49
B43: 25 | C43: 41.132 | E43: 41.081 | F43: 40.902 | G43: 41.308 | H43: 41.423
B44: 26 | E44: 41.028 | F44: 40.878 | G44: 41.34 | H44: 41.693
B45: 27 | E45: 41.018 | F45: 40.883 | G45: 41.597 | H45: 41.295
B46: 28 | E46: 41.209 | F46: 40.762 | G46: 41.555 | H46: 41.443
B47: 29 | E47: 41.242 | F47: 40.909 | G47: 41.729 | H47: 41.643
B48: 30 | E48: 41.497 | F48: 40.995 | G48: 41.609 | H48: 41.793
B49: 31 | E49: 41.174 | F49: 40.884 | G49: 41.663 | H49: 45.056
B50: 32 | E50: 41.188 | F50: 40.858 | G50: 41.629 | H50: 41.796
B51: 33 | E51: 41.194 | F51: 40.812 | G51: 41.655 | H51: 41.53
B52: 34 | E52: 41.541 | F52: 41.181 | G52: 41.604 | H52: 41.396
B53: 35 | E53: 42.103 | F53: 41.155 | G53: 41.43 | H53: 41.982
B54: 36 | E54: 42.216 | F54: 41.12 | G54: 41.663 | H54: 41.559
B55: 37 | E55: 41.726 | F55: 41.269 | G55: 41.351 | H55: 41.394
... B58: 40 | E58: 40.933 | F58: 40.999 | G58: 41.79 | H58: 41.251
B59: 41 | F59: 40.979 | G59: 41.546 | H59: 41.548
B60: 42 | F60: 41.068 | G60: 41.781 | H60: 41.199
B61: 43 | F61: 41.288 | G61: 42.02 | H61: 40.878
B62: 44 | F62: 41.304 | G62: 41.736 | H62: 40.924
B63: 45 | F63: 41.124 | G63: 42.04 | H63: 41
B64: 46 | F64: 40.895 | H64: 41.095
B65: 47 | F65: 41.026 | H65: 41.297
B66: 48 | F66: 40.976 | H66: 41.332
B67: 49 | F67: 40.94 | H67: 41.282
B68: 50 | F68: 41.02
B69: 51 | F69: 41.024
B70: 52 | F70: 41.02
B71: 53 | F71: 40.977
B72: 54 | F72: 41.655
B73: 55 | F73: 41.079
B74: 56 | F74: 41.693
B75: 57 | F75: 41.173
B76: 58 | F76: 41.142
B77: 59 | F77: 41.05
B78: 60 | F78: 41.66
B79: 61 | F79: 41.147
B80: 62 | F80: 40.905
B81: 63

Sheet MST
A2: Чемпионат мини марафон "Большие Гонки", 12-й этап
A4: MST
A6: Обяза-тельные | B6: Пилот | C6: карт | D6: Круг | E6: кругов на отрезке | F6: Статистика по кругам | J6: Общее время гонки | K6: Время на трассе
F7: Лучший круг | G7: Среднее на отрезке | I7: стабильность | K7: отрезок | L7: всего у пилота | M7: Питы | N7: Штрафы/ бонусы (сек)
A8: 1 | B8: Гаврилюк Олег | C8: 5 | D8: =COUNTA(C19:C83) -> 33 | E8: =COUNTA(C19:C83) -> 33 | F8: =MIN(C19:C82) -> 41.183 | G8: =AVERAGE(C19:C85) -> 41.675424 | I8: =G8-F8 -> 0.49242424 | J8: 0.016447072 | K8: =J8 -> 0.016447072 | L8: =K8 -> 0.016447072 | M8: 126.031 | N8: -13.5 | O8: бонус за вес
A9: 2 | B9: Тыщенко Миша | C9: 7 | D9: =COUNTA(D19:D83)+D8+1 -> 80 | E9: =COUNTA(D19:D83)+1 -> 47 | F9: =MIN(D19:D82) -> 41.093 | G9: =AVERAGE(D19:D84) -> 41.488804 | I9: =G9-F9 -> 0.39580435 | J9: 0.039995891 | K9: =J9-J8 -> 0.023548819 | L9: =K9 -> 0.023548819 | M9: 138.203
A10: 3 | B10: Гаврилюк Олег | C10: 18 | D10: =COUNTA(E19:E83)+D9+1 -> 103 | E10: =COUNTA(E19:E83)+1 -> 23 | F10: =MIN(E19:E84) -> 41.152 | G10: =AVERAGE(E19:E85) -> 41.763636 | I10: =G10-F10 -> 0.61163636 | J10: 0.052226481 | K10: =J10-J9 -> 0.01223059 | L10: =K10+L8 -> 0.028677662 | M10: 138.702
A11: 4 | B11: Тыщенко Миша | C11: 16 | D11: =COUNTA(F19:F83)+D10+1 -> 139 | E11: =COUNTA(F19:F83)+1 -> 36 | F11: =MIN(F19:F84) -> 40.995 | G11: =AVERAGE(F19:F84) -> 41.532457 | I11: =G11-F11 -> 0.53745714 | J11: 0.070642836 | K11: =J11-J10 -> 0.018416354 | L11: =K11+L9 -> 0.041965174 | M11: 136.822
A12: 5 | B12: Гаврилюк Олег | C12: 17 | D12: =COUNTA(G19:G83)+D11+1 -> 194 | E12: =COUNTA(G19:G83)+1 -> 55 | F12: =MIN(G19:G84) -> 40.856 | G12: =AVERAGE(G19:G884) -> 41.371463 | I12: =G12-F12 -> 0.51546296 | J12: 0.098106736 | K12: =J12-J11 -> 0.0274639 | L12: =K12+L10 -> 0.056141562 | M12: 139.738
A13: Финиш | B13: Тыщенко Миша | C13: 44 | D13: =COUNTA(H19:H83)+D12+1 -> 249 | E13: =COUNTA(H19:H83)+1 -> 55 | F13: =MIN(H19:H84) -> 41.423 | G13: =AVERAGE(H19:H84) -> 41.986815 | I13: =G13-F13 -> 0.56381481 | J13: ='Общие результаты'!G6 -> 3:00:17 | K13: =J13-J12 -> 0.027090023 | L13: =K13+L11 -> 0.069055197
F14: =AVERAGE(F8,F10,F12) -> 41.063667 | G14: =AVERAGE(C19:C85,E19:E85,G19:G85) -> 41.542642 | H14: Олег | I14: =AVERAGE(I8,I10,I12) -> 0.53984119
F15: =AVERAGE(F9,F11,F13) -> 41.170333 | G15: =AVERAGE(D19:D85,F19:F85,H19:H85) -> 41.699326 | H15: Миша | I15: =AVERAGE(I9,I11,I13) -> 0.49902544
F16: =AVERAGE(F8:F13) -> 41.117 | G16: =AVERAGE(C19:H85) -> 41.629332 | I16: =AVERAGE(I8:I13) -> 0.51943331
C18: =B8 -> Гаврилюк Олег | D18: =B9 -> Тыщенко Миша | E18: =B10 -> Гаврилюк Олег | F18: =B11 -> Тыщенко Миша | G18: =B12 -> Гаврилюк Олег | H18: =B13 -> Тыщенко Миша
B19: 1 | C19: 45.265 | D19: 42.696 | E19: 43.191 | F19: 43.483 | G19: 43.627 | H19: 44.325
B20: 2 | C20: 42.039 | D20: 41.696 | E20: 42.385 | F20: 43.965 | G20: 42.732 | H20: 42.462
B21: 3 | C21: 41.749 | D21: 41.681 | E21: 41.942 | F21: 41.646 | G21: 41.136 | H21: 42.167
B22: 4 | C22: 41.693 | D22: 41.328 | E22: 41.663 | F22: 41.389 | G22: 41.124 | H22: 42.035
B23: 5 | C23: 41.88 | D23: 41.483 | E23: 42.698 | F23: 42.484 | G23: 41.51 | H23: 41.837
B24: 6 | C24: 42.209 | D24: 41.466 | E24: 42.556 | F24: 41.737 | G24: 41.582 | H24: 41.677
B25: 7 | C25: 41.514 | D25: 41.184 | E25: 41.696 | F25: 41.284 | G25: 41.405 | H25: 41.748
B26: 8 | C26: 41.355 | D26: 41.326 | E26: 41.549 | F26: 41.191 | G26: 41.408 | H26: 43.11
B27: 9 | C27: 41.45 | D27: 41.446 | E27: 41.636 | F27: 41.183 | G27: 41.311 | H27: 41.825
B28: 10 | C28: 41.849 | D28: 41.226 | E28: 41.576 | F28: 41.17 | G28: 41.181 | H28: 41.73
B29: 11 | C29: 41.724 | D29: 41.406 | E29: 41.287 | F29: 41.165 | G29: 41.279 | H29: 41.423
B30: 12 | C30: 41.423 | D30: 42.753 | E30: 42.273 | F30: 41.279 | G30: 41.095 | H30: 41.689
... B40: 22 | C40: 41.424 | D40: 41.745 | E40: 41.396 | F40: 42.326 | G40: 41.006 | H40: 41.652
B41: 23 | C41: 41.308 | D41: 41.275 | F41: 40.995 | G41: 41.249 | H41: 41.506
B42: 24 | C42: 41.379 | D42: 41.254 | F42: 41.205 | G42: 40.914 | H42: 41.674
B43: 25 | C43: 41.311 | D43: 41.195 | F43: 41.255 | G43: 41.104 | H43: 42.208
B44: 26 | C44: 41.413 | D44: 41.18 | F44: 41.145 | G44: 41.064 | H44: 42.031
B45: 27 | C45: 41.344 | D45: 41.124 | F45: 41.46 | G45: 41.157 | H45: 41.813
B46: 28 | C46: 41.183 | D46: 41.234 | F46: 41.43 | G46: 41.039 | H46: 42.301
B47: 29 | C47: 41.341 | D47: 41.093 | F47: 41.434 | G47: 41.112 | H47: 41.694
B48: 30 | C48: 41.312 | D48: 41.398 | F48: 41.132 | G48: 41.246 | H48: 41.74
B49: 31 | C49: 41.217 | D49: 41.239 | F49: 41.676 | G49: 41.192 | H49: 41.691
B50: 32 | C50: 41.765 | D50: 41.5 | F50: 41.452 | G50: 41.65 | H50: 41.776
B51: 33 | C51: 41.708 | D51: 41.58 | F51: 41.594 | G51: 41.282 | H51: 42.495
B52: 34 | D52: 41.633 | F52: 41.625 | G52: 41.184 | H52: 41.946
B53: 35 | D53: 41.953 | F53: 41.486 | G53: 41.119 | H53: 43.105
B54: 36 | D54: 41.911 | G54: 41.575 | H54: 42.077
B55: 37 | D55: 41.326 | G55: 41.561 | H55: 42.118
B56: 38 | D56: 41.352 | G56: 41.36 | H56: 42.033
B57: 39 | D57: 41.368 | G57: 41.512 | H57: 42.027
B58: 40 | D58: 41.26 | G58: 41.395 | H58: 41.759
B59: 41 | D59: 41.365 | G59: 41.16 | H59: 41.738
B60: 42 | D60: 41.628 | G60: 41.487 | H60: 41.991
B61: 43 | D61: 41.307 | G61: 41.177 | H61: 41.895
B62: 44 | D62: 42.451 | G62: 41.391 | H62: 41.887
B63: 45 | D63: 41.46 | G63: 41.328 | H63: 42.506
B64: 46 | D64: 41.378 | G64: 41.336 | H64: 41.91
B65: 47 | G65: 42.069 | H65: 41.905
B66: 48 | G66: 41.856 | H66: 42.116
B67: 49 | G67: 41.404 | H67: 42.489
B68: 50 | G68: 42.065 | H68: 42.208
B69: 51 | G69: 41.201 | H69: 42.256
B70: 52 | G70: 41.46 | H70: 42.249
B71: 53 | G71: 41.562 | H71: 41.861
B72: 54 | G72: 41.462 | H72: 42.294
B73: 55
B74: 56
B75: 57
B76: 58
B77: 59
B78: 60
B79: 61
B80: 62
B81: 63

Sheet Kart Freedom Sport
A2: Чемпионат мини марафон "Большие Гонки", 12-й этап
A4: Kart Freedom Sport
A6: Обяза-тельные | B6: Пилот | C6: карт | D6: Круг | E6: кругов на отрезке | F6: Статистика по кругам | J6: Общее время гонки | K6: Время на трассе
F7: Лучший круг | G7: Среднее на отрезке | I7: стабильность | K7: отрезок | L7: всего у пилота | M7: Питы | N7: Штрафы/ бонусы (сек)
A8: 1 | B8: Медведева Даша | C8: 4 | D8: =COUNTA(C19:C83) -> 36 | E8: =COUNTA(C19:C83) -> 36 | F8: =MIN(C19:C82) -> 40.913 | G8: =AVERAGE(C19:C85) -> 41.629222 | I8: =G8-F8 -> 0.71622222 | J8: 0.017908623 | K8: =J8 -> 0.017908623 | L8: =K8 -> 0.017908623 | M8: 113.895 | N8: -27 | O8: бонус
A9: 2 | B9: Загорулько Иван | C9: 1 | D9: =COUNTA(D19:D83)+D8+1 -> 80 | E9: =COUNTA(D19:D83)+1 -> 44 | F9: =MIN(D19:D82) -> 41.55 | G9: =AVERAGE(D19:D84) -> 42.051698 | I9: =G9-F9 -> 0.50169767 | J9: 0.040147257 | K9: =J9-J8 -> 0.022238634 | L9: =K9 -> 0.022238634 | M9: 141.225
A10: 3 | B10: Медведева Даша | C10: 10 | D10: =COUNTA(E19:E83)+D9+1 -> 140 | E10: =COUNTA(E19:E83)+1 -> 60 | F10: =MIN(E19:E84) -> 40.59 | G10: =AVERAGE(E19:E85) -> 41.300153 | I10: =G10-F10 -> 0.71015254 | J10: 0.069960764 | K10: =J10-J9 -> 0.029813507 | L10: =K10+L8 -> 0.04772213 | M10: 147.833 | N10: +10 | O10: место в равных
A11: 4 | B11: Медведева Даша | C11: 15 | D11: =COUNTA(F19:F83)+D10+1 -> 184 | E11: =COUNTA(F19:F83)+1 -> 44 | F11: =MIN(F19:F84) -> 40.599 | G11: =AVERAGE(F19:F84) -> 40.993302 | I11: =G11-F11 -> 0.39430233 | J11: 0.092076042 | K11: =J11-J10 -> 0.022115278 | L11: =K11+L10 -> 0.069837407 | M11: 138.273
A12: 5 | B12: Загорулько Иван | C12: 4 | D12: =COUNTA(G19:G83)+D11+1 -> 227 | E12: =COUNTA(G19:G83)+1 -> 43 | F12: =MIN(G19:G84) -> 41.516 | G12: =AVERAGE(G19:G884) -> 42.012595 | I12: =G12-F12 -> 0.49659524 | J12: 0.11411186 | K12: =J12-J11 -> 0.022035822 | L12: =K12+L9 -> 0.044274456 | M12: 139.152
A13: Финиш | B13: Загорулько Иван | C13: 9 | D13: =COUNTA(H19:H83)+D12+1 -> 249 | E13: =COUNTA(H19:H83)+1 -> 22 | F13: =MIN(H19:H84) -> 42.206 | G13: =AVERAGE(H19:H84) -> 42.800286 | I13: =G13-F13 -> 0.59428571 | J13: ='Общие результаты'!G6 -> 3:00:17 | K13: =J13-J12 -> 0.011084896 | L13: =K13+L12 -> 0.055359352 | N13: +5 | O13: лимит
F14: =AVERAGE(F8,F10,F11) -> 40.700667 | G14: =AVERAGE(C19:C83,E19:F84) -> 41.290384 | H14: Даша | I14: =AVERAGE(I8,I10,I11) -> 0.60689236
F15: =AVERAGE(F9,F12,F13) -> 41.757333 | G15: =AVERAGE(D19:D84,G19:H84) -> 42.184509 | H15: Иван | I15: =AVERAGE(I9,I12,I13) -> 0.53085954
F16: =AVERAGE(F8:F13) -> 41.229 | G16: =AVERAGE(C19:H85) -> 41.678816 | I16: =AVERAGE(I8:I13) -> 0.56887595
C18: =B8 -> Медведева Даша | D18: =B9 -> Загорулько Иван | E18: =B10 -> Медведева Даша | F18: =B11 -> Медведева Даша | G18: =B12 -> Загорулько Иван | H18: =B13 -> Загорулько Иван
B19: 1 | C19: 46.997 | D19: 43.19 | E19: 42.775 | F19: 41.757 | G19: 43.408 | H19: 45.907
B20: 2 | C20: 43.352 | D20: 42.154 | E20: 42.354 | F20: 40.943 | G20: 42.84 | H20: 42.557
B21: 3 | C21: 42.679 | D21: 42.494 | E21: 42.152 | F21: 40.904 | G21: 41.851 | H21: 42.69
B22: 4 | C22: 42.807 | D22: 43.035 | E22: 41.493 | F22: 41.036 | G22: 41.89 | H22: 42.447
B23: 5 | C23: 43.038 | D23: 42.881 | E23: 41.65 | F23: 41.511 | G23: 42.155 | H23: 42.842
B24: 6 | C24: 41.577 | D24: 42.022 | E24: 41.262 | F24: 40.8 | G24: 42.588 | H24: 42.499
B25: 7 | C25: 41.539 | D25: 42.159 | E25: 41.329 | F25: 41.108 | G25: 42.194 | H25: 42.371
B26: 8 | C26: 41.275 | D26: 43.43 | E26: 41.189 | F26: 40.846 | G26: 42.193 | H26: 42.268
B27: 9 | C27: 41.201 | D27: 42.107 | E27: 41.42 | F27: 40.804 | G27: 42.395 | H27: 42.705
B28: 10 | C28: 41.31 | D28: 41.955 | E28: 41.278 | F28: 40.893 | G28: 42.641 | H28: 42.66
B29: 11 | C29: 41.111 | D29: 42.01 | E29: 41.061 | F29: 40.931 | G29: 41.963 | H29: 42.785
B30: 12 | C30: 41.274 | D30: 42.393 | E30: 41.103 | F30: 41.371 | G30: 42.133 | H30: 42.51
... B39: 21 | C39: 41.219 | D39: 41.69 | E39: 41.273 | F39: 41.022 | G39: 41.995 | H39: 43.236
B40: 22 | C40: 41.419 | D40: 41.704 | E40: 41.9 | F40: 40.631 | G40: 41.74
B41: 23 | C41: 41.316 | D41: 41.583 | E41: 41.645 | F41: 40.921 | G41: 41.564
B42: 24 | C42: 41.243 | D42: 41.634 | E42: 41.148 | F42: 40.614 | G42: 41.947
B43: 25 | C43: 41.171 | D43: 41.737 | E43: 41.163 | F43: 40.942 | G43: 42.292
B44: 26 | C44: 41.05 | D44: 41.573 | E44: 41.106 | F44: 41.213 | G44: 42.098
B45: 27 | C45: 41.317 | D45: 41.815 | E45: 41.897 | F45: 40.843 | G45: 41.873
B46: 28 | C46: 40.913 | D46: 41.876 | E46: 41.098 | F46: 40.785 | G46: 42.361
B47: 29 | C47: 41.101 | D47: 41.796 | E47: 40.994 | F47: 40.856 | G47: 42.088
B48: 30 | C48: 41.039 | D48: 41.787 | E48: 40.898 | F48: 41.48 | G48: 41.746
B49: 31 | C49: 41.064 | D49: 41.994 | E49: 40.878 | F49: 41.148 | G49: 41.7
B50: 32 | C50: 41.806 | D50: 41.93 | E50: 41.119 | F50: 41.081 | G50: 41.982
B51: 33 | C51: 42.098 | D51: 42.105 | E51: 40.836 | F51: 40.736 | G51: 41.871
... B54: 36 | C54: 41.267 | D54: 41.729 | E54: 40.657 | F54: 41.354 | G54: 41.888
B55: 37 | D55: 42.15 | E55: 40.59 | F55: 40.693 | G55: 41.813
B56: 38 | D56: 41.981 | E56: 41.085 | F56: 41.134 | G56: 41.756
B57: 39 | D57: 41.585 | E57: 40.832 | F57: 41.144 | G57: 41.571
B58: 40 | D58: 41.713 | E58: 40.719 | F58: 40.779 | G58: 41.637
B59: 41 | D59: 41.784 | E59: 40.786 | F59: 41.121 | G59: 42.377
B60: 42 | D60: 41.708 | E60: 41.145 | F60: 41.231 | G60: 41.63
B61: 43 | D61: 41.884 | E61: 41.002 | F61: 40.947
B62: 44 | E62: 40.768
B63: 45 | E63: 40.968
B64: 46 | E64: 41.337
B65: 47 | E65: 41.172
B66: 48 | E66: 41.336
B67: 49 | E67: 41.093
B68: 50 | E68: 41.173
B69: 51 | E69: 44.708
B70: 52 | E70: 41.231
B71: 53 | E71: 41.011
B72: 54 | E72: 41.135
B73: 55 | E73: 41.01
... B77: 59 | E77: 41.019
B78: 60
B79: 61
B80: 62
B81: 63

Sheet 50 Grams
A2: Чемпионат мини марафон "Большие Гонки", 12-й этап
A4: 50 Grams
A6: Обяза-тельные | B6: Пилот | C6: карт | D6: Круг | E6: кругов на отрезке | F6: Статистика по кругам | J6: Общее время гонки | K6: Время на трассе
F7: Лучший круг | G7: Среднее на отрезке | I7: стабильность | K7: отрезок | L7: всего у пилота | M7: Питы | N7: Штрафы/ бонусы (сек)
A8: 1 | B8: Шиленко Саша | C8: 69 | D8: =COUNTA(C19:C83) -> 35 | E8: =COUNTA(C19:C83) -> 35 | F8: =MIN(C19:C82) -> 40.987 | G8: =AVERAGE(C19:C85) -> 41.760114 | I8: =G8-F8 -> 0.77311429 | J8: 0.017462917 | K8: =J8 -> 0.017462917 | L8: =K8 -> 0.017462917 | M8: 135.726 | N8: -9+5 | O8: бонус за вес+разворот 7
A9: 2 | B9: Сомок Денис | C9: 21 | D9: =COUNTA(D19:D83)+D8+1 -> 83 | E9: =COUNTA(D19:D83)+1 -> 48 | F9: =MIN(D19:D82) -> 40.902 | G9: =AVERAGE(D19:D84) -> 41.347426 | I9: =G9-F9 -> 0.44542553 | J9: 0.041528449 | K9: =J9-J8 -> 0.024065532 | L9: =K9 -> 0.024065532 | M9: 149.952
A10: 3 | B10: Шиленко Саша | C10: 9 | D10: =COUNTA(E19:E83)+D9+1 -> 106 | E10: =COUNTA(E19:E83)+1 -> 23 | F10: =MIN(E19:E84) -> 41.512 | G10: =AVERAGE(E19:E85) -> 42.000727 | I10: =G10-F10 -> 0.48872727 | J10: 0.053955463 | K10: =J10-J9 -> 0.012427014 | L10: =K10+L8 -> 0.029889931 | M10: 139.097
A11: 4 | B11: Сомок Денис | C11: 17 | D11: =COUNTA(F19:F83)+D10+1 -> 136 | E11: =COUNTA(F19:F83)+1 -> 30 | F11: =MIN(F19:F84) -> 41.124 | G11: =AVERAGE(F19:F84) -> 41.561172 | I11: =G11-F11 -> 0.43717241 | J11: 0.069511748 | K11: =J11-J10 -> 0.015556285 | L11: =K11+L9 -> 0.039621817 | M11: 138.216
A12: 5 | B12: Шиленко Саша | C12: 3 | D12: =COUNTA(G19:G83)+D11+1 -> 194 | E12: =COUNTA(G19:G83)+1 -> 58 | F12: =MIN(G19:G84) -> 41.11 | G12: =AVERAGE(G19:G884) -> 41.569439 | I12: =G12-F12 -> 0.4594386 | J12: 0.098535683 | K12: =J12-J11 -> 0.029023935 | L12: =K12+L10 -> 0.058913866 | M12: 139.812
A13: Финиш | B13: Сомок Денис | C13: 13 | D13: =COUNTA(H19:H83)+D12+1 -> 248 | E13: =COUNTA(H19:H83)+1 -> 54 | F13: =MIN(H19:H84) -> 41.372 | G13: =AVERAGE(H19:H84) -> 41.842226 | I13: =G13-F13 -> 0.47022642 | J13: ='Общие результаты'!G6 -> 3:00:17 | K13: =J13-J12 -> 0.026661076 | L13: =K13+L11 -> 0.066282894
F14: =AVERAGE(F8,F10,F12) -> 41.203 | G14: =AVERAGE(C19:C85,E19:E85,G19:G85) -> 41.711211 | H14: Саша | I14: =AVERAGE(I8,I10,I12) -> 0.57376005
F15: =AVERAGE(F9,F11,F13) -> 41.132667 | G15: =AVERAGE(D19:D85,F19:F85,H19:H85) -> 41.598767 | H15: Денис | I15: =AVERAGE(I9,I11,I13) -> 0.45094145
F16: =AVERAGE(F8:F13) -> 41.167833 | G16: =AVERAGE(C19:H85) -> 41.651519 | I16: =AVERAGE(I8:I13) -> 0.51235075
C18: =B8 -> Шиленко Саша | D18: =B9 -> Сомок Денис | E18: =B10 -> Шиленко Саша | F18: =B11 -> Сомок Денис | G18: =B12 -> Шиленко Саша | H18: =B13 -> Сомок Денис
B19: 1 | C19: 47.705 | D19: 43.906 | E19: 44.178 | F19: 44.318 | G19: 43.381 | H19: 44.763
B20: 2 | C20: 43.484 | D20: 41.446 | E20: 42.097 | F20: 41.786 | G20: 41.483 | H20: 42.471
B21: 3 | C21: 43.123 | D21: 41.101 | E21: 41.996 | F21: 41.765 | G21: 41.454 | H21: 42.079
B22: 4 | C22: 42.137 | D22: 40.955 | E22: 41.912 | F22: 41.464 | G22: 41.319 | H22: 42.128
B23: 5 | C23: 43.16 | D23: 41.807 | E23: 41.846 | F23: 41.651 | G23: 41.36 | H23: 42.014
B24: 6 | C24: 41.673 | D24: 41.705 | E24: 41.81 | F24: 41.237 | G24: 41.37 | H24: 41.981
B25: 7 | C25: 41.445 | D25: 42.384 | E25: 41.797 | F25: 41.312 | G25: 41.7 | H25: 41.838
B26: 8 | C26: 41.41 | D26: 41.203 | E26: 42.711 | F26: 41.357 | G26: 42.661 | H26: 41.711
B27: 9 | C27: 41.136 | D27: 41.284 | E27: 41.904 | F27: 41.149 | G27: 41.535 | H27: 41.917
B28: 10 | C28: 41.295 | D28: 41.342 | E28: 41.596 | F28: 41.427 | G28: 41.471 | H28: 41.72
B29: 11 | C29: 41.135 | D29: 41.214 | E29: 42.994 | F29: 41.223 | G29: 41.428 | H29: 41.75
B30: 12 | C30: 41.179 | D30: 41.191 | E30: 41.735 | F30: 41.124 | G30: 41.43 | H30: 41.564
... B40: 22 | C40: 42.394 | D40: 40.991 | E40: 41.856 | F40: 42.393 | G40: 41.24 | H40: 41.443
B41: 23 | C41: 41.573 | D41: 41.021 | F41: 41.414 | G41: 41.312 | H41: 41.598
B42: 24 | C42: 41.234 | D42: 41.054 | F42: 41.483 | G42: 41.431 | H42: 41.685
B43: 25 | C43: 41.002 | D43: 40.997 | F43: 41.392 | G43: 41.487 | H43: 41.643
B44: 26 | C44: 41.503 | D44: 41.12 | F44: 41.886 | G44: 41.295 | H44: 41.372
B45: 27 | C45: 41.409 | D45: 41.108 | F45: 42.219 | G45: 41.11 | H45: 42.117
B46: 28 | C46: 41.368 | D46: 41.126 | F46: 41.559 | G46: 41.357 | H46: 41.696
B47: 29 | C47: 42.888 | D47: 41.16 | F47: 41.398 | G47: 41.296 | H47: 42.38
B48: 30 | C48: 41.489 | D48: 41.136 | G48: 41.308 | H48: 41.745
B49: 31 | C49: 41.438 | D49: 41.056 | G49: 41.232 | H49: 41.861
B50: 32 | C50: 41.378 | D50: 41.05 | G50: 41.168 | H50: 41.68
B51: 33 | C51: 41.342 | D51: 40.969 | G51: 41.528 | H51: 42.506
B52: 34 | C52: 41.078 | D52: 40.902 | G52: 41.646 | H52: 41.824
B53: 35 | C53: 41.272 | D53: 40.965 | G53: 41.555 | H53: 41.762
B54: 36 | D54: 42.027 | G54: 41.623 | H54: 41.572
B55: 37 | D55: 41.397 | G55: 41.544 | H55: 41.547
B56: 38 | D56: 42.59 | G56: 41.176 | H56: 41.622
B57: 39 | D57: 41.244 | G57: 42.057 | H57: 41.99
B58: 40 | D58: 41.157 | G58: 41.444 | H58: 41.675
B59: 41 | D59: 41.534 | G59: 41.463 | H59: 41.754
B60: 42 | D60: 41.122 | G60: 41.874 | H60: 42.186
B61: 43 | D61: 41.19 | G61: 41.583 | H61: 42.031
B62: 44 | D62: 41.083 | G62: 41.561 | H62: 41.529
B63: 45 | D63: 41.058 | G63: 41.611 | H63: 41.597
B64: 46 | D64: 41.08 | G64: 41.337 | H64: 41.655
B65: 47 | D65: 41.134 | G65: 41.297 | H65: 41.578
B66: 48 | G66: 41.73 | H66: 41.641
B67: 49 | G67: 42.307 | H67: 42.204
B68: 50 | G68: 41.393 | H68: 41.75
B69: 51 | G69: 41.583 | H69: 41.556
B70: 52 | G70: 41.414 | H70: 41.378
B71: 53 | G71: 41.405 | H71: 41.527
B72: 54 | G72: 41.404
B73: 55 | G73: 41.716
B74: 56 | G74: 42.11
B75: 57 | G75: 42.041
B76: 58
B77: 59
B78: 60
B79: 61
B80: 62
B81: 63

Sheet  Ingul RT 
A2: Чемпионат мини марафон "Большие Гонки", 12-й этап
A4: Ingul RT
A6: Обяза-тельные | B6: Пилот | C6: карт | D6: Круг | E6: кругов на отрезке | F6: Статистика по кругам | J6: Общее время гонки | K6: Время на трассе
F7: Лучший круг | G7: Среднее на отрезке | I7: стабильность | K7: отрезок | L7: всего у пилота | M7: Питы | N7: Штрафы/ бонусы (сек)
A8: 1 | B8: Кублицкий Виктор | C8: 10 | D8: =COUNTA(C19:C83) -> 32 | E8: =COUNTA(C19:C83) -> 32 | F8: =MIN(C19:C82) -> 40.8 | G8: =AVERAGE(C19:C85) -> 41.526719 | I8: =G8-F8 -> 0.72671875 | J8: 0.015924699 | K8: =J8 -> 0.015924699 | L8: =K8 -> 0.015924699 | M8: 138.942
A9: 2 | B9: Геронимус Костя | C9: 44 | D9: =COUNTA(D19:D83)+D8+1 -> 76 | E9: =COUNTA(D19:D83)+1 -> 44 | F9: =MIN(D19:D82) -> 41.538 | G9: =AVERAGE(D19:D84) -> 42.104465 | I9: =G9-F9 -> 0.56646512 | J9: 0.038489954 | K9: =J9-J8 -> 0.022565255 | L9: =K9 -> 0.022565255 | M9: 139.152
A10: 3 | B10: Кублицкий Виктор | C10: 13 | D10: =COUNTA(E19:E83)+D9+1 -> 125 | E10: =COUNTA(E19:E83)+1 -> 49 | F10: =MIN(E19:E84) -> 40.969 | G10: =AVERAGE(E19:E85) -> 41.366229 | I10: =G10-F10 -> 0.39722917 | J10: 0.063086331 | K10: =J10-J9 -> 0.024596377 | L10: =K10+L8 -> 0.040521076 | M10: 139.643
A11: 4 | B11: Геронимус Костя | C11: 4 | D11: =COUNTA(F19:F83)+D10+1 -> 154 | E11: =COUNTA(F19:F83)+1 -> 29 | F11: =MIN(F19:F84) -> 41.003 | G11: =AVERAGE(F19:F84) -> 41.824929 | I11: =G11-F11 -> 0.82192857 | J11: 0.078239664 | K11: =J11-J10 -> 0.015153333 | L11: =K11+L9 -> 0.037718588 | M11: 138.416
A12: 5 | B12: Геронимус Костя | C12: 14 | D12: =COUNTA(G19:G83)+D11+1 -> 197 | E12: =COUNTA(G19:G83)+1 -> 43 | F12: =MIN(G19:G84) -> 41.154 | G12: =AVERAGE(G19:G884) -> 41.595714 | I12: =G12-F12 -> 0.44171429 | J12: 0.10054046 | K12: =J12-J11 -> 0.022300799 | L12: =K12+L11 -> 0.060019387 | M12: 138.151
A13: Финиш | B13: Кублицкий Виктор | C13: 2 | D13: =COUNTA(H19:H83)+D12+1 -> 247 | E13: =COUNTA(H19:H83)+1 -> 50 | F13: =MIN(H19:H84) -> 41.425 | G13: =AVERAGE(H19:H84) -> 41.958959 | I13: =G13-F13 -> 0.53395918 | J13: ='Общие результаты'!G6 -> 3:00:17 | K13: =J13-J12 -> 0.024656296 | L13: =K13+L10 -> 0.065177373
F14: =AVERAGE(F8,F10,F13) -> 41.064667 | G14: =AVERAGE(C19:C85,E19:E85,H19:H85) -> 41.631186 | H14: Виктор | I14: =AVERAGE(I8,I10,I13) -> 0.5526357
F15: =AVERAGE(F9,F11,F12) -> 41.231667 | G15: =AVERAGE(D19:D85,F19:G85) -> 41.846106 | H15: Костя | I15: =AVERAGE(I9,I11,I12) -> 0.61003599
F16: =AVERAGE(F8:F13) -> 41.148167 | G16: =AVERAGE(C19:H85) -> 41.731541 | I16: =AVERAGE(I8:I13) -> 0.58133585
C18: =B8 -> Кублицкий Виктор | D18: =B9 -> Геронимус Костя | E18: =B10 -> Кублицкий Виктор | F18: =B11 -> Геронимус Костя | G18: =B12 -> Геронимус Костя | H18: =B13 -> Кублицкий Виктор
B19: 1 | C19: 47.374 | D19: 44.048 | E19: 43.305 | F19: 44.621 | G19: 43.609 | H19: 43.414
B20: 2 | C20: 43.418 | D20: 42.238 | E20: 41.746 | F20: 41.905 | G20: 41.189 | H20: 42.089
B21: 3 | C21: 42.848 | D21: 42.649 | E21: 41.632 | F21: 43.251 | G21: 41.475 | H21: 41.802
B22: 4 | C22: 42.347 | D22: 41.736 | E22: 41.501 | F22: 42.587 | G22: 41.426 | H22: 41.68
B23: 5 | C23: 41.805 | D23: 41.941 | E23: 41.874 | F23: 41.542 | G23: 41.291 | H23: 41.571
B24: 6 | C24: 41.354 | D24: 41.763 | E24: 41.578 | F24: 41.584 | G24: 41.154 | H24: 41.497
B25: 7 | C25: 41.165 | D25: 41.988 | E25: 41.479 | F25: 41.447 | G25: 41.564 | H25: 43.158
B26: 8 | C26: 41.178 | D26: 41.798 | E26: 41.38 | F26: 41.572 | G26: 41.31 | H26: 41.764
B27: 9 | C27: 41.133 | D27: 42.11 | E27: 41.365 | F27: 41.772 | G27: 41.909 | H27: 41.624
B28: 10 | C28: 41.068 | D28: 42.784 | E28: 41.352 | F28: 41.736 | G28: 41.229 | H28: 42.036
B29: 11 | C29: 41.03 | D29: 41.755 | E29: 41.712 | F29: 41.836 | G29: 41.274 | H29: 41.517
B30: 12 | C30: 40.8 | D30: 41.769 | E30: 41.293 | F30: 41.762 | G30: 41.442 | H30: 41.518
... B46: 28 | C46: 40.938 | D46: 41.758 | E46: 41.245 | F46: 41.368 | G46: 41.366 | H46: 41.801
B47: 29 | C47: 40.906 | D47: 41.82 | E47: 41.279 | G47: 41.394 | H47: 41.783
B48: 30 | C48: 41.211 | D48: 41.647 | E48: 41.238 | G48: 41.17 | H48: 42.309
B49: 31 | C49: 41.01 | D49: 41.805 | E49: 41.386 | G49: 41.297 | H49: 41.796
B50: 32 | C50: 41.329 | D50: 41.538 | E50: 41.142 | G50: 41.413 | H50: 41.72
B51: 33 | D51: 42.424 | E51: 41.057 | G51: 41.879 | H51: 43.021
B52: 34 | D52: 42.262 | E52: 41.082 | G52: 42.191 | H52: 42.639
B53: 35 | D53: 41.99 | E53: 41.301 | G53: 41.491 | H53: 41.942
B54: 36 | D54: 42.068 | E54: 41.301 | G54: 41.679 | H54: 42.257
B55: 37 | D55: 42.023 | E55: 41.177 | G55: 42.399 | H55: 41.866
B56: 38 | D56: 41.824 | E56: 41.191 | G56: 41.632 | H56: 41.919
B57: 39 | D57: 41.928 | E57: 41.136 | G57: 41.444 | H57: 41.988
B58: 40 | D58: 42.033 | E58: 41.243 | G58: 41.445 | H58: 41.736
B59: 41 | D59: 42.312 | E59: 41.341 | G59: 41.934 | H59: 41.75
B60: 42 | D60: 42.19 | E60: 41.343 | G60: 41.963 | H60: 42.739
B61: 43 | D61: 42.282 | E61: 41.333 | H61: 41.91
B62: 44 | E62: 41.413 | H62: 41.678
B63: 45 | E63: 41.48 | H63: 42.021
B64: 46 | E64: 41.53 | H64: 42.12
B65: 47 | E65: 41.45 | H65: 42.293
B66: 48 | E66: 41.427 | H66: 42.069
B67: 49 | H67: 42.306
B68: 50
B69: 51
B70: 52
B71: 53
B72: 54
B73: 55
B74: 56
B75: 57
B76: 58
B77: 59
B78: 60
B79: 61
... B81: 63

Sheet  Buro11 
A2: Чемпионат мини марафон "Большие Гонки", 12-й этап
A4: Buro11
A6: Обяза-тельные | B6: Пилот | C6: карт | D6: Круг | E6: кругов на отрезке | F6: Статистика по кругам | J6: Общее время гонки | K6: Время на трассе
F7: Лучший круг | G7: Среднее на отрезке | I7: стабильность | K7: отрезок | L7: всего у пилота | M7: Питы | N7: Штрафы/ бонусы (сек)
A8: 1 | B8: Якусик Дима | C8: 3 | D8: =COUNTA(C19:C83) -> 20 | E8: =COUNTA(C19:C83) -> 20 | F8: =MIN(C19:C82) -> 41.167 | G8: =AVERAGE(C19:C85) -> 42.2822 | I8: =G8-F8 -> 1.1152 | J8: 0.010341227 | K8: =J8 -> 0.010341227 | L8: =K8 -> 0.010341227 | M8: 144.230 | N8: +5 | O8: лимит
A9: 2 | B9: Резанко Оля | C9: 12 | D9: =COUNTA(D19:D83)+D8+1 -> 45 | E9: =COUNTA(D19:D83)+1 -> 25 | F9: =MIN(D19:D82) -> 41.264 | G9: =AVERAGE(D19:D84) -> 41.8775 | I9: =G9-F9 -> 0.6135 | J9: 0.023629965 | K9: =J9-J8 -> 0.013288738 | L9: =K9 -> 0.013288738 | M9: 137.729
A10: 3 | B10: Якусик Дима | C10: 2 | D10: =COUNTA(E19:E83)+D9+1 -> 80 | E10: =COUNTA(E19:E83)+1 -> 35 | F10: =MIN(E19:E84) -> 41.161 | G10: =AVERAGE(E19:E85) -> 41.808971 | I10: =G10-F10 -> 0.64797059 | J10: 0.041689282 | K10: =J10-J9 -> 0.018059317 | L10: =K10+L8 -> 0.028400544 | M10: 139.257
A11: 4 | B11: Резанко Оля | C11: 7 | D11: =COUNTA(F19:F83)+D10+1 -> 136 | E11: =COUNTA(F19:F83)+1 -> 56 | F11: =MIN(F19:F84) -> 41.059 | G11: =AVERAGE(F19:F84) -> 41.576182 | I11: =G11-F11 -> 0.51718182 | J11: 0.069772326 | K11: =J11-J10 -> 0.028083044 | L11: =K11+L9 -> 0.041371782 | M11: 143.800 | N11: +5 | O11: разворот 7
A12: 5 | B12: Якусик Дима | C12: 6 | D12: =COUNTA(G19:G83)+D11+1 -> 194 | E12: =COUNTA(G19:G83)+1 -> 58 | F12: =MIN(G19:G84) -> 40.799 | G12: =AVERAGE(G19:G884) -> 41.277526 | I12: =G12-F12 -> 0.47852632 | J12: 0.098683021 | K12: =J12-J11 -> 0.028910694 | L12: =K12+L10 -> 0.057311238 | M12: 139.890
A13: Финиш | B13: Резанко Оля | C13: 5 | D13: =COUNTA(H19:H83)+D12+1 -> 247 | E13: =COUNTA(H19:H83)+1 -> 53 | F13: =MIN(H19:H84) -> 41.849 | G13: =AVERAGE(H19:H84) -> 42.408346 | I13: =G13-F13 -> 0.55934615 | J13: ='Общие результаты'!G6 -> 3:00:17 | K13: =J13-J12 -> 0.026513738 | L13: =K13+L11 -> 0.067885521
F14: =AVERAGE(F8,F10,F12) -> 41.042333 | G14: =AVERAGE(C19:C85,E19:E85,G19:G85) -> 41.621333 | H14: Дима | I14: =AVERAGE(I8,I10,I12) -> 0.7472323
F15: =AVERAGE(F9,F11,F13) -> 41.390667 | G15: =AVERAGE(D19:D85,F19:F85,H19:H85) -> 41.96171 | H15: Оля | I15: =AVERAGE(I9,I11,I13) -> 0.56334266
F16: =AVERAGE(F8:F13) -> 41.2165 | G16: =AVERAGE(C19:H85) -> 41.805587 | I16: =AVERAGE(I8:I13) -> 0.65528748
C18: =B8 -> Якусик Дима | D18: =B9 -> Резанко Оля | E18: =B10 -> Якусик Дима | F18: =B11 -> Резанко Оля | G18: =B12 -> Якусик Дима | H18: =B13 -> Резанко Оля
B19: 1 | C19: 47.856 | D19: 44.288 | E19: 43.811 | F19: 43.279 | G19: 43.434 | H19: 43.694
B20: 2 | C20: 43.542 | D20: 42.442 | E20: 41.848 | F20: 42.1 | G20: 41.887 | H20: 43.17
B21: 3 | C21: 43.217 | D21: 41.955 | E21: 41.786 | F21: 41.749 | G21: 41.664 | H21: 42.612
B22: 4 | C22: 44.36 | D22: 41.851 | E22: 42.853 | F22: 41.713 | G22: 41.395 | H22: 42.526
B23: 5 | C23: 42.531 | D23: 41.934 | E23: 42.032 | F23: 41.658 | G23: 41.424 | H23: 41.916
B24: 6 | C24: 42.764 | D24: 41.65 | E24: 42.092 | F24: 41.586 | G24: 41.182 | H24: 42.055
B25: 7 | C25: 41.734 | D25: 41.832 | E25: 41.606 | F25: 41.477 | G25: 41.235 | H25: 41.849
B26: 8 | C26: 41.688 | D26: 42.697 | E26: 41.583 | F26: 41.335 | G26: 41.278 | H26: 42.103
B27: 9 | C27: 41.726 | D27: 41.497 | E27: 41.586 | F27: 41.193 | G27: 41.67 | H27: 41.996
B28: 10 | C28: 41.612 | D28: 41.286 | E28: 41.421 | F28: 41.351 | G28: 41.202 | H28: 43.851
B29: 11 | C29: 41.705 | D29: 41.48 | E29: 41.604 | F29: 42.214 | G29: 41.271 | H29: 42.054
B30: 12 | C30: 42.158 | D30: 41.783 | E30: 41.668 | F30: 41.253 | G30: 41.342 | H30: 42.172
... B38: 20 | C38: 41.431 | D38: 41.664 | E38: 41.57 | F38: 41.609 | G38: 41.825 | H38: 42.157
B39: 21 | D39: 43.074 | E39: 41.59 | F39: 41.524 | G39: 40.977 | H39: 42.022
B40: 22 | D40: 41.412 | E40: 41.161 | F40: 41.567 | G40: 41.04 | H40: 42.307
B41: 23 | D41: 41.673 | E41: 41.727 | F41: 41.423 | G41: 40.952 | H41: 42.795
B42: 24 | D42: 41.752 | E42: 41.534 | F42: 41.41 | G42: 41.139 | H42: 42.68
B43: 25 | E43: 43.285 | F43: 41.442 | G43: 40.959 | H43: 42.316
B44: 26 | E44: 41.4 | F44: 41.251 | G44: 40.994 | H44: 42.273
B45: 27 | E45: 41.373 | F45: 41.378 | G45: 40.905 | H45: 42.199
B46: 28 | E46: 41.369 | F46: 41.874 | G46: 40.932 | H46: 42.202
B47: 29 | E47: 42.054 | F47: 41.344 | G47: 40.799 | H47: 42.152
B48: 30 | E48: 41.713 | F48: 41.059 | G48: 40.929 | H48: 42.777
B49: 31 | E49: 41.63 | F49: 41.099 | G49: 40.989 | H49: 42.102
B50: 32 | E50: 41.617 | F50: 41.373 | G50: 41.092 | H50: 42.293
B51: 33 | E51: 41.882 | F51: 41.229 | G51: 41.351 | H51: 42.287
B52: 34 | E52: 41.66 | F52: 41.282 | G52: 41.198 | H52: 42.076
B53: 35 | F53: 41.939 | G53: 41.262 | H53: 42.56
B54: 36 | F54: 41.909 | G54: 41.283 | H54: 42.182
B55: 37 | F55: 42.174 | G55: 41.109 | H55: 41.91
B56: 38 | F56: 41.379 | G56: 40.881 | H56: 42.164
B57: 39 | F57: 41.648 | G57: 41.068 | H57: 42.444
B58: 40 | F58: 41.456 | G58: 41.133 | H58: 42.277
B59: 41 | F59: 41.328 | G59: 41.155 | H59: 42.433
B60: 42 | F60: 41.615 | G60: 41.217 | H60: 42.4
B61: 43 | F61: 41.363 | G61: 41.283 | H61: 42.9
B62: 44 | F62: 41.655 | G62: 41.439 | H62: 42.72
B63: 45 | F63: 41.46 | G63: 41.286 | H63: 42.332
B64: 46 | F64: 41.525 | G64: 41.219 | H64: 42.394
... B70: 52 | F70: 41.588 | G70: 41.619 | H70: 43.044
B71: 53 | F71: 41.662 | G71: 41.293
B72: 54 | F72: 41.629 | G72: 41.34
B73: 55 | F73: 41.723 | G73: 41.404
B74: 56 | G74: 41.038
B75: 57 | G75: 41.252
B76: 58
B77: 59
B78: 60
B79: 61
B80: 62
B81: 63

Sheet  Jaguar
A2: Чемпионат мини марафон "Большие Гонки", 12-й этап
A4: Jaguar
A6: Обяза-тельные | B6: Пилот | C6: карт | D6: Круг | E6: кругов на отрезке | F6: Статистика по кругам | J6: Общее время гонки | K6: Время на трассе
F7: Лучший круг | G7: Среднее на отрезке | I7: стабильность | K7: отрезок | L7: всего у пилота | M7: Питы | N7: Штрафы/ бонусы (сек)
A8: 1 | B8: Старовой Андрей | C8: 6 | D8: =COUNTA(C19:C83) -> 20 | E8: =COUNTA(C19:C83) -> 20 | F8: =MIN(C19:C82) -> 41.629 | G8: =AVERAGE(C19:C85) -> 42.5544 | I8: =G8-F8 -> 0.9254 | J8: 0.010447326 | K8: =J8 -> 0.010447326 | L8: =K8 -> 0.010447326 | M8: 143.174
A9: 2 | B9: Лихошерст Алексей | C9: 15 | D9: =COUNTA(D19:D83)+D8+1 -> 44 | E9: =COUNTA(D19:D83)+1 -> 24 | F9: =MIN(D19:D82) -> 40.917 | G9: =AVERAGE(D19:D84) -> 41.45687 | I9: =G9-F9 -> 0.53986957 | J9: 0.023106713 | K9: =J9-J8 -> 0.012659387 | L9: =K9 -> 0.012659387 | M9: 140.057
A10: 3 | B10: Старовой Андрей | C10: 4 | D10: =COUNTA(E19:E83)+D9+1 -> 102 | E10: =COUNTA(E19:E83)+1 -> 58 | F10: =MIN(E19:E84) -> 41.384 | G10: =AVERAGE(E19:E85) -> 42.312281 | I10: =G10-F10 -> 0.9282807 | J10: 0.052651794 | K10: =J10-J9 -> 0.029545081 | L10: =K10+L8 -> 0.039992407 | M10: 138.750
A11: 4 | B11: Лихошерст Алексей | C11: 14 | D11: =COUNTA(F19:F83)+D10+1 -> 146 | E11: =COUNTA(F19:F83)+1 -> 44 | F11: =MIN(F19:F84) -> 40.881 | G11: =AVERAGE(F19:F84) -> 41.298837 | I11: =G11-F11 -> 0.41783721 | J11: 0.074784688 | K11: =J11-J10 -> 0.022132894 | L11: =K11+L9 -> 0.03479228 | M11: 139.042
A12: 5 | B12: Старовой Андрей | C12: 1 | D12: =COUNTA(G19:G83)+D11+1 -> 194 | E12: =COUNTA(G19:G83)+1 -> 48 | F12: =MIN(G19:G84) -> 41.875 | G12: =AVERAGE(G19:G884) -> 42.589213 | I12: =G12-F12 -> 0.71421277 | J12: 0.099595949 | K12: =J12-J11 -> 0.024811262 | L12: =K12+L10 -> 0.064803669 | M12: 141.417
A13: Финиш | B13: Лихошерст Алексей | C13: 3 | D13: =COUNTA(H19:H83)+D12+1 -> 246 | E13: =COUNTA(H19:H83)+1 -> 52 | F13: =MIN(H19:H84) -> 41.126 | G13: =AVERAGE(H19:H84) -> 41.476373 | I13: =G13-F13 -> 0.35037255 | J13: ='Общие результаты'!G6 -> 3:00:17 | K13: =J13-J12 -> 0.02560081 | L13: =K13+L11 -> 0.06039309
F14: =AVERAGE(F8,F10,F12) -> 41.629333 | G14: =AVERAGE(C19:C85,E19:E85,G19:G85) -> 42.456298 | H14: Андрей | I14: =AVERAGE(I8,I10,I12) -> 0.85596449
F15: =AVERAGE(F9,F11,F13) -> 40.974667 | G15: =AVERAGE(D19:D85,F19:F85,H19:H85) -> 41.407291 | H15: Алексей | I15: =AVERAGE(I9,I11,I13) -> 0.43602644
F16: =AVERAGE(F8:F13) -> 41.302 | G16: =AVERAGE(C19:H85) -> 41.947029 | I16: =AVERAGE(I8:I13) -> 0.64599547
C18: =B8 -> Старовой Андрей | D18: =B9 -> Лихошерст Алексей | E18: =B10 -> Старовой Андрей | F18: =B11 -> Лихошерст Алексей | G18: =B12 -> Старовой Андрей | H18: =B13 -> Лихошерст Алексей
B19: 1 | C19: 47.825 | D19: 46.051 | E19: 44.507 | F19: 45.126 | G19: 45.236 | H19: 43.708
B20: 2 | C20: 44.236 | D20: 41.971 | E20: 42.203 | F20: 41.673 | G20: 42.469 | H20: 41.78
B21: 3 | C21: 42.94 | D21: 41.5 | E21: 41.959 | F21: 41.248 | G21: 42.667 | H21: 41.472
B22: 4 | C22: 43.643 | D22: 41.428 | E22: 42.681 | F22: 41.108 | G22: 42.282 | H22: 41.476
B23: 5 | C23: 42.594 | D23: 41.292 | E23: 42.324 | F23: 41.221 | G23: 42.408 | H23: 41.933
B24: 6 | C24: 42.918 | D24: 41.219 | E24: 42.105 | F24: 41.108 | G24: 42.363 | H24: 41.262
B25: 7 | C25: 41.94 | D25: 41.492 | E25: 43.114 | F25: 41.519 | G25: 42.823 | H25: 41.205
B26: 8 | C26: 41.734 | D26: 41.067 | E26: 41.903 | F26: 40.98 | G26: 42.192 | H26: 41.126
B27: 9 | C27: 41.695 | D27: 41.334 | E27: 41.952 | F27: 41.74 | G27: 42.033 | H27: 42.188
B28: 10 | C28: 41.779 | D28: 41.053 | E28: 42.18 | F28: 41.405 | G28: 42.196 | H28: 41.25
B29: 11 | C29: 41.629 | D29: 41.248 | E29: 41.828 | F29: 41.181 | G29: 42.188 | H29: 41.355
B30: 12 | C30: 42.911 | D30: 41.143 | E30: 41.899 | F30: 41.136 | G30: 43.03 | H30: 41.154
... B38: 20 | C38: 41.73 | D38: 41.698 | E38: 42.2 | F38: 41.158 | G38: 42.246 | H38: 41.599
B39: 21 | D39: 41.192 | E39: 42.206 | F39: 41.023 | G39: 42.445 | H39: 41.313
B40: 22 | D40: 41.035 | E40: 41.8 | F40: 41.12 | G40: 43.518 | H40: 41.658
B41: 23 | D41: 41.123 | E41: 42.55 | F41: 41.354 | G41: 42.3 | H41: 41.33
B42: 24 | E42: 41.384 | F42: 41.008 | G42: 42.719 | H42: 41.238
B43: 25 | E43: 41.684 | F43: 41.029 | G43: 42.455 | H43: 41.44
B44: 26 | E44: 42.842 | F44: 41.854 | G44: 42.5 | H44: 41.374
B45: 27 | E45: 41.945 | F45: 41.222 | G45: 42.223 | H45: 41.381
B46: 28 | E46: 41.937 | F46: 41.316 | G46: 42.197 | H46: 41.276
B47: 29 | E47: 41.972 | F47: 41.206 | G47: 42.094 | H47: 41.514
B48: 30 | E48: 42.04 | F48: 41.221 | G48: 43.163 | H48: 42.298
B49: 31 | E49: 42.376 | F49: 41.192 | G49: 42.149 | H49: 41.243
B50: 32 | E50: 42.232 | F50: 41.078 | G50: 42.511 | H50: 41.425
B51: 33 | E51: 42.253 | F51: 41.111 | G51: 42.503 | H51: 41.404
B52: 34 | E52: 42.091 | F52: 41.16 | G52: 42.321 | H52: 41.322
B53: 35 | E53: 42.089 | F53: 41.24 | G53: 42.37 | H53: 41.352
... B61: 43 | E61: 42.08 | F61: 41.221 | G61: 42.6 | H61: 41.614
B62: 44 | E62: 42.353 | G62: 43.693 | H62: 41.399
B63: 45 | E63: 42.278 | G63: 43.63 | H63: 41.821
B64: 46 | E64: 42.643 | G64: 43.527 | H64: 41.361
B65: 47 | E65: 42.698 | G65: 42.522 | H65: 41.268
B66: 48 | E66: 42.378 | H66: 41.466
B67: 49 | E67: 42.392 | H67: 41.497
B68: 50 | E68: 42.049 | H68: 41.295
B69: 51 | E69: 42.377 | H69: 41.431
B70: 52 | E70: 42.457
B71: 53 | E71: 43.279
B72: 54 | E72: 42.453
B73: 55 | E73: 42.676
B74: 56 | E74: 42.22
B75: 57 | E75: 42.321
B76: 58
B77: 59
B78: 60
B79: 61
B80: 62
B81: 63

Sheet Ingul kart Academy
A2: Чемпионат мини марафон "Большие Гонки", 12-й этап
A4: Ingul kart Academy
A6: Обяза-тельные | B6: Пилот | C6: карт | D6: Круг | E6: кругов на отрезке | F6: Статистика по кругам | J6: Общее время гонки | K6: Время на трассе
F7: Лучший круг | G7: Среднее на отрезке | I7: стабильность | K7: отрезок | L7: всего у пилота | M7: Питы | N7: Штрафы/ бонусы (сек)
A8: 1 | B8: Гладышев Степан | C8: 44 | D8: =COUNTA(C19:C83) -> 25 | E8: =COUNTA(C19:C83) -> 25 | F8: =MIN(C19:C82) -> 41.578 | G8: =AVERAGE(C19:C85) -> 42.39384 | I8: =G8-F8 -> 0.81584 | J8: 0.012861852 | K8: =J8 -> 0.012861852 | L8: =K8 -> 0.012861852 | M8: 141.993
A9: 2 | B9: Демьяненко Дмитрий | C9: 6 | D9: =COUNTA(D19:D83)+D8+1 -> 77 | E9: =COUNTA(D19:D83)+1 -> 52 | F9: =MIN(D19:D82) -> 41.108 | G9: =AVERAGE(D19:D84) -> 41.563353 | I9: =G9-F9 -> 0.45535294 | J9: 0.039023819 | K9: =J9-J8 -> 0.026161968 | L9: =K9 -> 0.026161968 | M9: 139.544
A10: 3 | B10: Гладышев Степан | C10: 3 | D10: =COUNTA(E19:E83)+D9+1 -> 125 | E10: =COUNTA(E19:E83)+1 -> 48 | F10: =MIN(E19:E84) -> 41.443 | G10: =AVERAGE(E19:E85) -> 42.165489 | I10: =G10-F10 -> 0.72248936 | J10: 0.063580081 | K10: =J10-J9 -> 0.024556262 | L10: =K10+L8 -> 0.037418113 | M10: 139.392
A11: 4 | B11: Демьяненко Дмитрий | C11: 9 | D11: =COUNTA(F19:F83)+D10+1 -> 145 | E11: =COUNTA(F19:F83)+1 -> 20 | F11: =MIN(F19:F84) -> 41.622 | G11: =AVERAGE(F19:F84) -> 42.264737 | I11: =G11-F11 -> 0.64273684 | J11: 0.074498634 | K11: =J11-J10 -> 0.010918553 | L11: =K11+L9 -> 0.037080521 | M11: 140.254
A12: 5 | B12: Гладышев Степан | C12: 10 | D12: =COUNTA(G19:G83)+D11+1 -> 196 | E12: =COUNTA(G19:G83)+1 -> 51 | F12: =MIN(G19:G84) -> 41.181 | G12: =AVERAGE(G19:G884) -> 42.2996 | I12: =G12-F12 -> 1.1186 | J12: 0.10061519 | K12: =J12-J11 -> 0.026116551 | L12: =K12+L10 -> 0.063534664 | M12: 139.348
A13: Финиш | B13: Демьяненко Дмитрий | C13: 6 | D13: =COUNTA(H19:H83)+D12+1 -> 246 | E13: =COUNTA(H19:H83)+1 -> 50 | F13: =MIN(H19:H84) -> 41.163 | G13: =AVERAGE(H19:H84) -> 41.565633 | I13: =G13-F13 -> 0.40263265 | J13: ='Общие результаты'!G6 -> 3:00:17 | K13: =J13-J12 -> 0.024581574 | L13: =K13+L11 -> 0.061662095
F14: =AVERAGE(F8,F10,F12) -> 41.400667 | G14: =AVERAGE(C19:C85,E19:E85,G19:G85) -> 42.267246 | H14: Степан | I14: =AVERAGE(I8,I10,I12) -> 0.88564312
F15: =AVERAGE(F9,F11,F13) -> 41.297667 | G15: =AVERAGE(D19:D85,F19:F85,H19:H85) -> 41.676277 | H15: Дима | I15: =AVERAGE(I9,I11,I13) -> 0.50024081
F16: =AVERAGE(F8:F13) -> 41.349167 | G16: =AVERAGE(C19:H85) -> 41.97544 | I16: =AVERAGE(I8:I13) -> 0.69294197
C18: =B8 -> Гладышев Степан | D18: =B9 -> Демьяненко Дмитрий | E18: =B10 -> Гладышев Степан | F18: =B11 -> Демьяненко Дмитрий | G18: =B12 -> Гладышев Степан | H18: =B13 -> Демьяненко Дмитрий
B19: 1 | C19: 46.844 | D19: 44.4 | E19: 45.064 | F19: 43.622 | G19: 45.892 | H19: 43.972
B20: 2 | C20: 43.905 | D20: 42.468 | E20: 42.949 | F20: 43.578 | G20: 42.177 | H20: 41.807
B21: 3 | C21: 43.288 | D21: 42.114 | E21: 42.005 | F21: 42.708 | G21: 41.181 | H21: 41.784
B22: 4 | C22: 43.373 | D22: 41.953 | E22: 42.632 | F22: 42.542 | G22: 42.997 | H22: 42.052
B23: 5 | C23: 42.523 | D23: 42.004 | E23: 42.472 | F23: 41.893 | G23: 41.86 | H23: 41.778
B24: 6 | C24: 42.423 | D24: 41.558 | E24: 42.28 | F24: 42.502 | G24: 41.836 | H24: 42.658
B25: 7 | C25: 41.986 | D25: 41.917 | E25: 41.759 | F25: 43.126 | G25: 41.711 | H25: 41.163
B26: 8 | C26: 41.674 | D26: 41.365 | E26: 41.84 | F26: 41.894 | G26: 41.826 | H26: 41.58
B27: 9 | C27: 41.703 | D27: 41.629 | E27: 41.941 | F27: 41.961 | G27: 41.836 | H27: 41.684
B28: 10 | C28: 41.69 | D28: 41.399 | E28: 41.841 | F28: 41.89 | G28: 43.984 | H28: 41.891
B29: 11 | C29: 41.641 | D29: 41.352 | E29: 41.875 | F29: 41.753 | G29: 41.703 | H29: 41.415
B30: 12 | C30: 43.619 | D30: 41.404 | E30: 41.993 | F30: 41.622 | G30: 42.177 | H30: 41.324
... B37: 19 | C37: 41.939 | D37: 41.626 | E37: 41.661 | F37: 41.838 | G37: 41.782 | H37: 41.4
B38: 20 | C38: 41.749 | D38: 41.65 | E38: 41.778 | G38: 42.561 | H38: 41.632
B39: 21 | C39: 42.042 | D39: 41.355 | E39: 41.809 | G39: 42.616 | H39: 41.504
B40: 22 | C40: 42.371 | D40: 41.619 | E40: 42.073 | G40: 41.968 | H40: 41.24
B41: 23 | C41: 42.127 | D41: 41.482 | E41: 41.889 | G41: 41.987 | H41: 41.5
B42: 24 | C42: 42.075 | D42: 41.108 | E42: 43.022 | G42: 42.15 | H42: 41.225
B43: 25 | C43: 42.104 | D43: 41.649 | E43: 42.322 | G43: 43.536 | H43: 41.379
B44: 26 | D44: 41.46 | E44: 42.167 | G44: 42.089 | H44: 41.323
B45: 27 | D45: 41.449 | E45: 42.292 | G45: 42.945 | H45: 41.5
B46: 28 | D46: 41.296 | E46: 41.926 | G46: 41.993 | H46: 41.647
B47: 29 | D47: 41.542 | E47: 41.79 | G47: 42.19 | H47: 41.454
B48: 30 | D48: 41.343 | E48: 41.681 | G48: 41.909 | H48: 41.608
B49: 31 | D49: 41.455 | E49: 41.681 | G49: 43.097 | H49: 41.438
B50: 32 | D50: 41.461 | E50: 41.966 | G50: 42 | H50: 41.293
B51: 33 | D51: 41.522 | E51: 41.971 | G51: 41.966 | H51: 41.484
B52: 34 | D52: 41.33 | E52: 42.51 | G52: 41.879 | H52: 41.281
B53: 35 | D53: 41.457 | E53: 41.443 | G53: 41.691 | H53: 41.619
B54: 36 | D54: 41.316 | E54: 41.483 | G54: 41.481 | H54: 41.524
B55: 37 | D55: 41.531 | E55: 41.978 | G55: 41.464 | H55: 41.27
... B65: 47 | D65: 41.272 | E65: 42.516 | G65: 42.303 | H65: 41.271
B66: 48 | D66: 41.328 | G66: 42.97 | H66: 41.975
B67: 49 | D67: 41.241 | G67: 42.112 | H67: 41.445
B68: 50 | D68: 41.467 | G68: 42.978
B69: 51 | D69: 41.428
B70: 52
B71: 53
B72: 54
B73: 55
B74: 56
B75: 57
B76: 58
B77: 59
B78: 60
B79: 61
B80: 62
B81: 63

Sheet  Kart Freedom Junior
A2: Чемпионат мини марафон "Большие Гонки", 12-й этап
A4: Kart Freedom Junior
A6: Обяза-тельные | B6: Пилот | C6: карт | D6: Круг | E6: кругов на отрезке | F6: Статистика по кругам | J6: Общее время гонки | K6: Время на трассе
F7: Лучший круг | G7: Среднее на отрезке | I7: стабильность | K7: отрезок | L7: всего у пилота | M7: Питы | N7: Штрафы/ бонусы (сек)
A8: 1 | B8: Юрченко Вова | C8: 17 | D8: =COUNTA(C19:C83) -> 41 | E8: =COUNTA(C19:C83) -> 41 | F8: =MIN(C19:C82) -> 41.08 | G8: =AVERAGE(C19:C85) -> 41.748829 | I8: =G8-F8 -> 0.66882927 | J8: 0.020367037 | K8: =J8 -> 0.020367037 | L8: =K8 -> 0.020367037 | M8: 139.994
A9: 2 | B9: Юрченко Вова | C9: 5 | D9: =COUNTA(D19:D83)+D8+1 -> 82 | E9: =COUNTA(D19:D83)+1 -> 41 | F9: =MIN(D19:D82) -> 41.356 | G9: =AVERAGE(D19:D84) -> 41.7646 | I9: =G9-F9 -> 0.4086 | J9: 0.041329456 | K9: =J9-J8 -> 0.020962419 | L9: =K9+L8 -> 0.041329456 | M9: 139.588
A10: 3 | B10: Поляруш Саша | C10: 6 | D10: =COUNTA(E19:E83)+D9+1 -> 128 | E10: =COUNTA(E19:E83)+1 -> 46 | F10: =MIN(E19:E84) -> 41.729 | G10: =AVERAGE(E19:E85) -> 42.584 | I10: =G10-F10 -> 0.855 | J10: 0.065122951 | K10: =J10-J9 -> 0.023793495 | L10: =K10 -> 0.023793495 | M10: 139.828
A11: 4 | B11: Юрченко Вова | C11: 5 | D11: =COUNTA(F19:F83)+D10+1 -> 149 | E11: =COUNTA(F19:F83)+1 -> 21 | F11: =MIN(F19:F84) -> 41.591 | G11: =AVERAGE(F19:F84) -> 42.23725 | I11: =G11-F11 -> 0.64625 | J11: 0.076520243 | K11: =J11-J10 -> 0.011397292 | L11: =K11+L9 -> 0.052726748 | M11: 145.338 | N11: +5 | O11: подбивание
A12: 5 | B12: Поляруш Саша | C12: 2 | D12: =COUNTA(G19:G83)+D11+1 -> 191 | E12: =COUNTA(G19:G83)+1 -> 42 | F12: =MIN(G19:G84) -> 42.366 | G12: =AVERAGE(G19:G884) -> 43.123195 | I12: =G12-F12 -> 0.75719512 | J12: 0.098667396 | K12: =J12-J11 -> 0.022147153 | L12: =K12+L10 -> 0.045940648 | M12: 140.928
A13: Финиш | B13: Поляруш Саша | C13: 17 | D13: =COUNTA(H20:H83)+D12+1 -> 243 | E13: =COUNTA(H20:H83)+1 -> 52 | F13: =MIN(H20:H84) -> 41.869 | G13: =AVERAGE(H20:H84) -> 42.655118 | I13: =G13-F13 -> 0.78611765 | J13: ='Общие результаты'!G6 -> 3:00:17 | K13: =J13-J12 -> 0.026529363 | L13: =K13+L12 -> 0.072470012
F14: =AVERAGE(F8,F9,F11) -> 41.342333 | G14: =AVERAGE(C19:D85,F19:F85) -> 41.851792 | H14: Вова | I14: =AVERAGE(I8,I9,I11) -> 0.57455976
F15: =AVERAGE(F10,F12,F13) -> 41.988 | G15: =AVERAGE(E19:E85,G19:H85) -> 42.780109 | H15: Саша | I15: =AVERAGE(I10,I12,I13) -> 0.79943759
F16: =AVERAGE(F8:F13) -> 41.665167 | G16: =AVERAGE(C19:H85) -> 42.387808 | I16: =AVERAGE(I8:I13) -> 0.68699867
C18: =B8 -> Юрченко Вова | D18: =B9 -> Юрченко Вова | E18: =B10 -> Поляруш Саша | F18: =B11 -> Юрченко Вова | G18: =B12 -> Поляруш Саша | H18: =B13 -> Поляруш Саша
B19: 1 | C19: 47.604 | D19: 43.327 | E19: 43.987 | F19: 43.857 | G19: 43.924 | H19: 43.913
B20: 2 | C20: 43.982 | D20: 41.673 | E20: 42.656 | F20: 42.898 | G20: 43.152 | H20: 44.239
B21: 3 | C21: 43.485 | D21: 41.495 | E21: 42.637 | F21: 43.182 | G21: 43.787 | H21: 43.524
B22: 4 | C22: 42.921 | D22: 41.427 | E22: 42.462 | F22: 42.873 | G22: 42.765 | H22: 42.763
B23: 5 | C23: 41.787 | D23: 41.514 | E23: 43.26 | F23: 41.854 | G23: 42.411 | H23: 43.228
B24: 6 | C24: 41.755 | D24: 41.804 | E24: 43.972 | F24: 41.591 | G24: 43.134 | H24: 42.359
B25: 7 | C25: 41.315 | D25: 41.356 | E25: 43.448 | F25: 41.619 | G25: 43.143 | H25: 42.737
B26: 8 | C26: 41.322 | D26: 41.512 | E26: 43.586 | F26: 42.241 | G26: 42.366 | H26: 42.742
B27: 9 | C27: 41.269 | D27: 41.496 | E27: 43.614 | F27: 41.905 | G27: 43.028 | H27: 42.459
B28: 10 | C28: 41.173 | D28: 41.59 | E28: 42.924 | F28: 41.92 | G28: 42.76 | H28: 42.98
B29: 11 | C29: 41.353 | D29: 41.614 | E29: 42.994 | F29: 41.69 | G29: 42.834 | H29: 42.616
B30: 12 | C30: 41.145 | D30: 42.243 | E30: 42.359 | F30: 41.621 | G30: 42.646 | H30: 42.358
... B38: 20 | C38: 41.08 | D38: 41.702 | E38: 42.508 | F38: 42.259 | G38: 43.4 | H38: 42.125
B39: 21 | C39: 41.433 | D39: 41.656 | E39: 41.872 | G39: 42.906 | H39: 42.303
B40: 22 | C40: 41.63 | D40: 41.796 | E40: 41.917 | G40: 42.45 | H40: 42.993
B41: 23 | C41: 41.665 | D41: 41.675 | E41: 42.277 | G41: 42.932 | H41: 42.522
B42: 24 | C42: 41.559 | D42: 41.541 | E42: 42.158 | G42: 42.817 | H42: 42.429
B43: 25 | C43: 41.531 | D43: 41.413 | E43: 42.945 | G43: 42.488 | H43: 42.389
B44: 26 | C44: 41.399 | D44: 41.732 | E44: 42.873 | G44: 42.75 | H44: 42.238
B45: 27 | C45: 41.118 | D45: 41.483 | E45: 42.499 | G45: 43.311 | H45: 43.619
B46: 28 | C46: 41.322 | D46: 41.858 | E46: 43.071 | G46: 43.566 | H46: 42.29
B47: 29 | C47: 43.062 | D47: 41.586 | E47: 42.283 | G47: 42.979 | H47: 42.787
B48: 30 | C48: 41.987 | D48: 41.587 | E48: 42.343 | G48: 43.507 | H48: 43.067
B49: 31 | C49: 41.614 | D49: 41.529 | E49: 41.895 | G49: 43.078 | H49: 43.494
B50: 32 | C50: 41.501 | D50: 41.707 | E50: 42.079 | G50: 43.275 | H50: 42.407
... B58: 40 | C58: 41.366 | D58: 41.588 | E58: 41.729 | G58: 43.535 | H58: 42.229
B59: 41 | C59: 41.462 | E59: 42.37 | G59: 43.774 | H59: 43.052
B60: 42 | E60: 42.072 | H60: 42.02
B61: 43 | E61: 42.795 | H61: 42.355
B62: 44 | E62: 42.055 | H62: 42.328
B63: 45 | E63: 42.472 | H63: 41.929
B64: 46 | H64: 43.396
B65: 47 | H65: 43.03
B66: 48 | H66: 43.294
B67: 49 | H67: 42.326
B68: 50 | H68: 41.892
B69: 51 | H69: 42.043
B70: 52 | H70: 42.51
B71: 53
B72: 54
B73: 55
B74: 56
B75: 57
B76: 58
B77: 59
B78: 60
B79: 61
B80: 62
B81: 63

Sheet RC racing 
A2: Чемпионат мини марафон "Большие Гонки", 12-й этап
A4: RC racing
A6: Обяза-тельные | B6: Пилот | C6: карт | D6: Круг | E6: кругов на отрезке | F6: Статистика по кругам | J6: Общее время гонки | K6: Время на трассе
F7: Лучший круг | G7: Среднее на отрезке | I7: стабильность | K7: отрезок | L7: всего у пилота | M7: Питы | N7: Штрафы/ бонусы (сек)
A8: 1 | B8: Макаров Михаил | C8: 7 | D8: =COUNTA(C20:C84) -> 29 | E8: =COUNTA(C20:C84) -> 29 | F8: =MIN(C20:C83) -> 42.758 | G8: =AVERAGE(C20:C86) -> 43.959138 | I8: =G8-F8 -> 1.2011379 | J8: 0.015053125 | K8: =J8 -> 0.015053125 | L8: =K8 -> 0.015053125 | M8: 114.823
A9: 2 | B9: Голубок Алексей | C9: 9 | D9: =COUNTA(D20:D84)+D8+1 -> 75 | E9: =COUNTA(D20:D84)+1 -> 46 | F9: =MIN(D20:D83) -> 42.31 | G9: =AVERAGE(D20:D85) -> 43.446133 | I9: =G9-F9 -> 1.1361333 | J9: 0.039319479 | K9: =J9-J8 -> 0.024266354 | L9: =K9 -> 0.024266354 | M9: 148.283 | N9: -27+10+24 | O9: бонус+неправильный заезд на пит
A10: 3 | B10: Чуб Дмитрий | C10: 44 | D10: =COUNTA(E20:E84)+D9+1 -> 110 | E10: =COUNTA(E20:E84)+1 -> 35 | F10: =MIN(E20:E85) -> 42.166 | G10: =AVERAGE(E20:E86) -> 43.0095 | I10: =G10-F10 -> 0.8435 | J10: 0.057931539 | K10: =J10-J9 -> 0.01861206 | L10: =K10 -> 0.01861206 | M10: 140.414
A11: 4 | B11: Макаров Михаил | C11: 18 | D11: =COUNTA(F20:F84)+D10+1 -> 152 | E11: =COUNTA(F20:F84)+1 -> 42 | F11: =MIN(F20:F85) -> 42.469 | G11: =AVERAGE(F20:F85) -> 43.747122 | I11: =G11-F11 -> 1.278122 | J11: 0.080329896 | K11: =J11-J10 -> 0.022398356 | L11: =K11+L8 -> 0.037451481 | M11: 141.118
A12: 5 | B12: Голубок Алексей | C12: 5 | D12: =COUNTA(G20:G84)+D11+1 -> 186 | E12: =COUNTA(G20:G84)+1 -> 34 | F12: =MIN(G20:G85) -> 41.947 | G12: =AVERAGE(G20:G885) -> 42.802333 | I12: =G12-F12 -> 0.85533333 | J12: 0.098292153 | K12: =J12-J11 -> 0.017962257 | L12: =K12+L9 -> 0.042228611 | M12: 138.363
A13: Финиш | B13: Чуб Дмитрий | C13: 18 | D13: =COUNTA(H20:H84)+D12+1 -> 237 | E13: =COUNTA(H20:H84)+1 -> 51 | F13: =MIN(H20:H85) -> 41.821 | G13: =AVERAGE(H20:H85) -> 44.38258 | I13: =G13-F13 -> 2.56158 | J13: ='Общие результаты'!G6 -> 3:00:17 | K13: =J13-J12 -> 0.026904606 | L13: =K13+L10 -> 0.045516667
F14: =AVERAGE(F8,F11) -> 42.6135 | G14: =AVERAGE(C20:C82,F20:F82) -> 43.834957 | H14: Михаил | I14: =AVERAGE(I8,I11) -> 1.2396299
F15: =AVERAGE(F9,F12) -> 42.1285 | G15: =AVERAGE(D20:D82,G20:G82) -> 43.173756 | H15: Алексей | I15: =AVERAGE(I9,I12) -> 0.99573333
F16: =AVERAGE(F10,F13) -> 41.9935 | G16: =AVERAGE(E20:E82,H20:H82) -> 43.82681 | H16: Дмитрий | I16: =AVERAGE(I10,I13) -> 1.70254
F17: =AVERAGE(F8:F13) -> 42.245167 | G17: =AVERAGE(C20:H86) -> 43.609707 | I17: =AVERAGE(I8:I13) -> 1.3126344
C19: =B8 -> Макаров Михаил | D19: =B9 -> Голубок Алексей | E19: =B10 -> Чуб Дмитрий | F19: =B11 -> Макаров Михаил | G19: =B12 -> Голубок Алексей | H19: =B13 -> Чуб Дмитрий
B20: 1 | C20: 47.05 | D20: 45.869 | E20: 44.889 | F20: 45.696 | G20: 44.02 | H20: 45.814
B21: 2 | C21: 45.299 | D21: 43.462 | E21: 44.15 | F21: 44.98 | G21: 43.248 | H21: 45.081
B22: 3 | C22: 43.308 | D22: 43.689 | E22: 43.564 | F22: 44.737 | G22: 42.114 | H22: 42.636
B23: 4 | C23: 43.494 | D23: 43.657 | E23: 42.963 | F23: 43.56 | G23: 42.468 | H23: 42.412
B24: 5 | C24: 43.333 | D24: 43.008 | E24: 43.187 | F24: 43.402 | G24: 42.383 | H24: 42.813
B25: 6 | C25: 43.409 | D25: 43.223 | E25: 43.311 | F25: 43.251 | G25: 42.253 | H25: 42.554
B26: 7 | C26: 43.355 | D26: 42.919 | E26: 44.531 | F26: 43.383 | G26: 42.271 | H26: 42.637
B27: 8 | C27: 42.758 | D27: 42.578 | E27: 42.588 | F27: 43.274 | G27: 42.279 | H27: 42.273
B28: 9 | C28: 43.006 | D28: 43.254 | E28: 43.013 | F28: 44.251 | G28: 42.979 | H28: 43.608
B29: 10 | C29: 43.111 | D29: 43.704 | E29: 43.289 | F29: 43.313 | G29: 42.395 | H29: 42.396
B30: 11 | C30: 43.409 | D30: 42.31 | E30: 43.408 | F30: 43.111 | G30: 42.464 | H30: 42.213
B31: 12 | C31: 42.896 | D31: 44.189 | E31: 42.384 | F31: 43.312 | G31: 42.512 | H31: 43.443
... B48: 29 | C48: 43.531 | D48: 43.515 | E48: 42.567 | F48: 43.823 | G48: 42.351 | H48: 42.302
B49: 30 | D49: 43.317 | E49: 42.741 | F49: 43.172 | G49: 43.327 | H49: 42.62
B50: 31 | D50: 42.772 | E50: 42.762 | F50: 43.3 | G50: 42.722 | H50: 44.275
B51: 32 | D51: 42.686 | E51: 43.126 | F51: 44.398 | G51: 42.745 | H51: 43.439
B52: 33 | D52: 42.887 | E52: 42.229 | F52: 43.194 | G52: 43.176 | H52: 42.574
B53: 34 | D53: 43.159 | E53: 42.166 | F53: 44.033 | H53: 42.029
B54: 35 | D54: 43.196 | F54: 42.743 | H54: 42.247
B55: 36 | D55: 45.083 | F55: 43.138 | H55: 42.778
B56: 37 | D56: 43.384 | F56: 43.981 | H56: 42.196
B57: 38 | D57: 43.042 | F57: 42.826 | H57: 43.641
B58: 39 | D58: 43.381 | F58: 43.516 | H58: 42.12
B59: 40 | D59: 42.641 | F59: 43.433 | H59: 42.667
B60: 41 | D60: 46.372 | F60: 42.469 | H60: 42.77
B61: 42 | D61: 44.587 | H61: 124.601
B62: 43 | D62: 44.177 | H62: 44.702
B63: 44 | D63: 43.261 | H63: 43.315
B64: 45 | D64: 42.94 | H64: 42.754
B65: 46 | H65: 42.463
B66: 47 | H66: 42.191
B67: 48 | H67: 42.03
B68: 49 | H68: 41.821
B69: 50 | H69: 41.984
B70: 51
B71: 52
B72: 53
B73: 54
B74: 55
B75: 56
B76: 57
B77: 58
B78: 59
B79: 60
B80: 61
B81: 62
B82: 63
