Workbook

Sheet Общие результаты
A1: Серия мини марафонов "Большие Гонки 2019", 11-й этап, 07.09.19
A2: Конфигурация №4
A4: Место в гонке | B4: Команда | C4: № в гонке | D4: Квала | F4: Гонка | I4: Лучший круг в гонке
D5: Время | E5: Место | F5: Круги | G5: Время/от лидера | H5: От места выше | I5: Время | J5: На круге
A6: 1 | B6: Kart Freedom | C6: 6 | D6: 42.225 | E6: 5 | F6: 243 | G6: 3:00:12 | H6: --- | I6: 41.99
A7: 2 | B7: NFS Kozaks | C7: 18 | D7: 42.0545 | E7: 1 | F7: 242 | G7: 1 круг | H7: 48 | I7: 41.97
A8: 3 | B8: Vpered ta vgory | C8: 13 | D8: 42.144 | E8: 2 | F8: 242 | G8: 1 круг | H8: 12.48 | I8: 42.13
A9: 4 | B9: Hurricane Racing | C9: 16 | D9: 42.6635 | E9: 16 | F9: 242 | G9: 1 круг | H9: 2 | I9: 41.89
A10: 5 | B10: Ingulkart RT | C10: 7 | D10: 42.172 | E10: 3 | F10: 242 | G10: 1 круг | H10: 1 | I10: 42.12
A11: 6 | B11: MST | C11: 1 | D11: 42.6815 | E11: 17 | F11: 242 | G11: 1 круг | H11: 15 | I11: 42
A12: 7 | B12: E-k Motorsport | C12: 5 | D12: 42.628 | E12: 14 | F12: 242 | G12: 1 круг | H12: 3 | I12: 41.97
A13: 8 | B13: NFS Kyiv Legengs | C13: 2 | D13: 42.2225 | E13: 4 | F13: 242 | G13: 1 круга | H13: 3 | I13: 42.08
A14: 9 | B14: NSJ | C14: 15 | D14: 42.641 | E14: 15 | F14: 241 | G14: 2 круга | H14: 3 | I14: 41.93
A15: 10 | B15: G.A.T | C15: 10 | D15: 42.4495 | E15: 9 | F15: 241 | G15: 2 круга | H15: 28 | I15: 42.14
A16: 11 | B16: K44 | C16: 3 | D16: 42.392 | E16: 7 | F16: 240 | G16: 3 круга | H16: 12 | I16: 42.1
A17: 12 | B17: Flash | C17: 12 | D17: 42.237 | E17: 6 | F17: 240 | G17: 3 круга | H17: 6.5 | I17: 42.05
A18: 13 | B18: F1UA | C18: 17 | D18: 42.555 | E18: 11 | F18: 240 | G18: 3 круга | H18: 17.5 | I18: 42.09
... A22: 17 | B22: 50 gramms | C22: 9 | D22: 42.447 | E22: 8 | F22: 238 | G22: 5 кругов | H22: 34 | I22: 42.04
A23: 18 | B23: Petrovich | C23: 11 | D23: 42.8565 | E23: 18 | F23: 235 | G23: 8 кругов | H23: 3 круга | I23: 42.93

Sheet Регистрация
A1: Серия мини марафонов "Большие Гонки 2019", 11-й этап, 07.09.19
A3: Регистрационная форма
AF4: 4ч
A5: № в гонке | B5: Команда | C5: Пилот | D5: № | E5: Вес | F5: Бонус | G5: Квалификация | Z5: 3ч | AJ5: 2 ел | AL5: 3чел
G6: карт | H6: Время | I6: бонус | J6: Итого | K6: Среднее | L6: Место | M6: 3 | N6: бонусы за вес | Z6: 2 | AA6: 1 | AB6: кол | AC6: бон | AD6: 1 | AE6: 2 | AF6: бон | AG6: уч | AH6: 2 уч | AI6: 3 уч | AJ6: 1из2 | AK6: 2из2/3v3 | AL6: 1из3 | AM6: 2из3
A7: 1 | B7: MST | C7: Петушков Андрей | D7: 1-1 | E7: 79.2 | F7: =IF(M6=3,AC7,AF7) -> 0 | G7: 16 | H7: 42.47 | I7: =IF(E7<84.9,0,IF(E7<87.4,0.1,IF(E7<89.9,0.15,IF(E7<92.4,0.2,IF(E7<94.9,0.25,IF(E7<97.4,0.3,IF(E7<99.9,0.35,0.4))))))) -> 0 | J7: =H7-I7 -> 42.47 | K7: =AVERAGE(J7:J8) -> 42.6815 | L7: =RANK(K7,K7:K63,1) -> 17 | M7: кв | N7: 0.05 | O7: 0.1 | P7: 0.15 | Q7: 0.2 | R7: 0.25 | S7: 0.3 | T7: 0.35 | U7: =N7*8 -> 0.4 | Z7: =AVERAGE(E7:E9) -> 81.55 | AA7: =IF(E7>84.9,E7,E8) -> 83.9 | AB7: =COUNTIF(E7:E9,">84.9") -> 0 | AC7: =IF(AB7=1,AD7,AE7) -> 0 | AD7: =IF(AA7<84.9,0,IF(AA7<87.4,9,IF(AA7<89.9,13.5,IF(AA7<92.4,18,IF(AA7<94.9,22.5,IF(AA7<97.4,27,IF(AA7<99.9,31.5,36))))))) -> 0 | AE7: =IF(Z7<84.9,0,IF(Z7<87.4,18,IF(Z7<89.9,27,IF(Z7<92.4,36,IF(Z7<94.9,45,IF(Z7<97.4,54,IF(Z7<99.9,63,72))))))) -> 0 | AF7: =IF(AG7=2,AH7,AI7) -> 0 | AG7: =COUNTIF(E7:E9,">1") -> 2 | AH7: =IF(AB7=1,AJ7,AK7) -> 0 | AI7: =IF(AB7=1,AL7,IF(AB7=2,AM7,AK7)) -> 0 | AJ7: =IF(AA7<84.9,0,IF(AA7<87.4,12,IF(AA7<89.9,18,IF(AA7<92.4,24,IF(AA7<94.9,30,IF(AA7<97.4,36,IF(AA7<99.9,42,48))))))) -> 0 | AK7: =IF(AA7<84.9,0,IF(AA7<87.4,24,IF(AA7<89.9,36,IF(AA7<92.4,48,IF(AA7<94.9,60,IF(AA7<97.4,72,IF(AA7<99.9,84,96))))))) -> 0 | AL7: =IF(AA7<84.9,0,IF(AA7<87.4,8,IF(AA7<89.9,12,IF(AA7<92.4,16,IF(AA7<94.9,20,IF(AA7<97.4,24,IF(AA7<99.9,28,32))))))) -> 0 | AM7: =IF(AO7<84.9,0,IF(AO7<87.4,16,IF(AO7<89.9,24,IF(AO7<92.4,32,IF(AO7<94.9,40,IF(AO7<97.4,48,IF(AO7<99.9,56,64))))))) -> 0 | AO7: =(SUM(E7:E9)-MIN(E7:E9))/2 -> 41.95
C8: Шутка Виталий | D8: 1-2 | E8: 83.9 | G8: 1 | H8: 42.893 | I8: =IF(E8<84.9,0,IF(E8<87.4,0.1,IF(E8<89.9,0.15,IF(E8<92.4,0.2,IF(E8<94.9,0.25,IF(E8<97.4,0.3,IF(E8<99.9,0.35,0.4))))))) -> 0 | J8: =H8-I8 -> 42.893 | M8: 3 часа | N8: =1.5*3 -> 4.5 | O8: =1.5*3*2 -> 9 | P8: =1.5*3*3 -> 13.5 | Q8: =1.5*3*4 -> 18 | R8: =1.5*3*5 -> 22.5 | S8: =1.5*3*6 -> 27 | T8: =1.5*3*7 -> 31.5 | U8: =1.5*3*8 -> 36 | V8: 1 пилот
D9: 1-3 | I9: =IF(E9<84.9,0,IF(E9<87.4,0.1,IF(E9<89.9,0.15,IF(E9<92.4,0.2,IF(E9<94.9,0.25,IF(E9<97.4,0.3,IF(E9<99.9,0.35,0.4))))))) -> 0 | J9: =H9-I9 -> 0 | N9: =3*3 -> 9 | O9: =3*3*2 -> 18 | P9: =3*3*3 -> 27 | Q9: =3*3*4 -> 36 | R9: =3*3*5 -> 45 | S9: =3*3*6 -> 54 | T9: =3*3*7 -> 63 | U9: =3*3*8 -> 72 | V9: 2 пилота
A10: 2 | B10: NFS kiev Legengs | C10: Ткаченко Кирилл | D10: 2-1 | E10: 75.6 | F10: =IF(M6=3,AC10,AF10) -> 0 | G10: 3 | H10: 41.958 | I10: =IF(E10<84.9,0,IF(E10<87.4,0.1,IF(E10<89.9,0.15,IF(E10<92.4,0.2,IF(E10<94.9,0.25,IF(E10<97.4,0.3,IF(E10<99.9,0.35,0.4))))))) -> 0 | J10: =H10-I10 -> 41.958 | K10: =AVERAGE(J10:J11) -> 42.2225 | L10: =RANK(K10,K7:K63,1) -> 4 | M10: вес | N10: 82.5 | O10: 85 | P10: 87.5 | Q10: 90 | R10: 92.5 | S10: 95 | T10: 97.5 | U10: 100 | Z10: =AVERAGE(E10:E12) -> 74.3 | AA10: =IF(E10>84.9,E10,E11) -> 73 | AB10: =COUNTIF(E10:E12,">84.9") -> 0 | AC10: =IF(AB10=1,AD10,AE10) -> 0 | AD10: =IF(AA10<84.9,0,IF(AA10<87.4,9,IF(AA10<89.9,13.5,IF(AA10<92.4,18,IF(AA10<94.9,22.5,IF(AA10<97.4,27,IF(AA10<99.9,31.5,36))))))) -> 0 | AE10: =IF(Z10<84.9,0,IF(Z10<87.4,18,IF(Z10<89.9,27,IF(Z10<92.4,36,IF(Z10<94.9,45,IF(Z10<97.4,54,IF(Z10<99.9,63,72))))))) -> 0 | AF10: =IF(AG10=2,AH10,AI10) -> 0 | AG10: =COUNTIF(E10:E12,">1") -> 2 | AH10: =IF(AB10=1,AJ10,AK10) -> 0 | AI10: =IF(AB10=1,AL10,IF(AB10=2,AM10,AK10)) -> 0 | AJ10: =IF(AA10<84.9,0,IF(AA10<87.4,12,IF(AA10<89.9,18,IF(AA10<92.4,24,IF(AA10<94.9,30,IF(AA10<97.4,36,IF(AA10<99.9,42,48))))))) -> 0 | AK10: =IF(AA10<84.9,0,IF(AA10<87.4,24,IF(AA10<89.9,36,IF(AA10<92.4,48,IF(AA10<94.9,60,IF(AA10<97.4,72,IF(AA10<99.9,84,96))))))) -> 0 | AL10: =IF(AA10<84.9,0,IF(AA10<87.4,8,IF(AA10<89.9,12,IF(AA10<92.4,16,IF(AA10<94.9,20,IF(AA10<97.4,24,IF(AA10<99.9,28,32))))))) -> 0 | AM10: =IF(AO10<84.9,0,IF(AO10<87.4,16,IF(AO10<89.9,24,IF(AO10<92.4,32,IF(AO10<94.9,40,IF(AO10<97.4,48,IF(AO10<99.9,56,64))))))) -> 0 | AO10: =(SUM(E10:E12)-MIN(E10:E12))/2 -> 37.8
C11: Резанко Оля | D11: 2-2 | E11: 73 | G11: 16 | H11: 42.487 | I11: =IF(E11<84.9,0,IF(E11<87.4,0.1,IF(E11<89.9,0.15,IF(E11<92.4,0.2,IF(E11<94.9,0.25,IF(E11<97.4,0.3,IF(E11<99.9,0.35,0.4))))))) -> 0 | J11: =H11-I11 -> 42.487 | M11: 4 часа | N11: =1.5*4 -> 6 | O11: =1.5*4*2 -> 12 | P11: =1.5*4*3 -> 18 | Q11: =1.5*4*4 -> 24 | R11: =1.5*4*5 -> 30 | S11: =1.5*4*6 -> 36 | T11: =1.5*4*7 -> 42 | U11: =1.5*4*8 -> 48 | V11: 1 пилот | W11: 2 участника в команде
D12: 2-3 | I12: =IF(E12<84.9,0,IF(E12<87.4,0.1,IF(E12<89.9,0.15,IF(E12<92.4,0.2,IF(E12<94.9,0.25,IF(E12<97.4,0.3,IF(E12<99.9,0.35,0.4))))))) -> 0 | J12: =H12-I12 -> 0 | N12: =3*4 -> 12 | O12: =3*4*2 -> 24 | P12: =3*4*3 -> 36 | Q12: =3*4*4 -> 48 | R12: =3*4*5 -> 60 | S12: =3*4*6 -> 72 | T12: =3*4*7 -> 84 | U12: =3*4*8 -> 96 | V12: 2 пилота
A13: 3 | B13: K44 | C13: Шендрик Влад | D13: 3-1 | E13: 63.3 | F13: =IF(M6=3,AC13,AF13) -> 0 | G13: 3 | H13: 42.244 | I13: =IF(E13<84.9,0,IF(E13<87.4,0.1,IF(E13<89.9,0.15,IF(E13<92.4,0.2,IF(E13<94.9,0.25,IF(E13<97.4,0.3,IF(E13<99.9,0.35,0.4))))))) -> 0 | J13: =H13-I13 -> 42.244 | K13: =AVERAGE(J13:J14) -> 42.392 | L13: =RANK(K13,K7:K63,1) -> 7 | N13: =1*4 -> 4 | O13: =1*4*2 -> 8 | P13: =1*4*3 -> 12 | Q13: =1*4*4 -> 16 | R13: =1*4*5 -> 20 | S13: =1*4*6 -> 24 | T13: =1*4*7 -> 28 | U13: =1*4*8 -> 32 | V13: 1 пилот | W13: 3 участника в команде | Z13: =AVERAGE(E13:E15) -> 66.8 | AA13: =IF(E13>84.9,E13,E14) -> 70.3 | AB13: =COUNTIF(E13:E15,">84.9") -> 0 | AC13: =IF(AB13=1,AD13,AE13) -> 0 | AD13: =IF(AA13<84.9,0,IF(AA13<87.4,9,IF(AA13<89.9,13.5,IF(AA13<92.4,18,IF(AA13<94.9,22.5,IF(AA13<97.4,27,IF(AA13<99.9,31.5,36))))))) -> 0 | AE13: =IF(Z13<84.9,0,IF(Z13<87.4,18,IF(Z13<89.9,27,IF(Z13<92.4,36,IF(Z13<94.9,45,IF(Z13<97.4,54,IF(Z13<99.9,63,72))))))) -> 0 | AF13: =IF(AG13=2,AH13,AI13) -> 0 | AG13: =COUNTIF(E13:E15,">1") -> 2 | AH13: =IF(AB13=1,AJ13,AK13) -> 0 | AI13: =IF(AB13=1,AL13,IF(AB13=2,AM13,AK13)) -> 0 | AJ13: =IF(AA13<84.9,0,IF(AA13<87.4,12,IF(AA13<89.9,18,IF(AA13<92.4,24,IF(AA13<94.9,30,IF(AA13<97.4,36,IF(AA13<99.9,42,48))))))) -> 0 | AK13: =IF(AA13<84.9,0,IF(AA13<87.4,24,IF(AA13<89.9,36,IF(AA13<92.4,48,IF(AA13<94.9,60,IF(AA13<97.4,72,IF(AA13<99.9,84,96))))))) -> 0 | AL13: =IF(AA13<84.9,0,IF(AA13<87.4,8,IF(AA13<89.9,12,IF(AA13<92.4,16,IF(AA13<94.9,20,IF(AA13<97.4,24,IF(AA13<99.9,28,32))))))) -> 0 | AM13: =IF(AO13<84.9,0,IF(AO13<87.4,16,IF(AO13<89.9,24,IF(AO13<92.4,32,IF(AO13<94.9,40,IF(AO13<97.4,48,IF(AO13<99.9,56,64))))))) -> 0 | AO13: =(SUM(E13:E15)-MIN(E13:E15))/2 -> 35.15
C14: Гаврилюк Олег | D14: 3-2 | E14: 70.3 | G14: 4 | H14: 42.54 | I14: =IF(E14<84.9,0,IF(E14<87.4,0.1,IF(E14<89.9,0.15,IF(E14<92.4,0.2,IF(E14<94.9,0.25,IF(E14<97.4,0.3,IF(E14<99.9,0.35,0.4))))))) -> 0 | J14: =H14-I14 -> 42.54 | N14: =2*4 -> 8 | O14: =2*4*2 -> 16 | P14: =2*4*3 -> 24 | Q14: =2*4*4 -> 32 | R14: =2*4*5 -> 40 | S14: =2*4*6 -> 48 | T14: =2*4*7 -> 56 | U14: =2*4*8 -> 64 | V14: 2 пилота
D15: 3-3 | I15: =IF(E15<84.9,0,IF(E15<87.4,0.1,IF(E15<89.9,0.15,IF(E15<92.4,0.2,IF(E15<94.9,0.25,IF(E15<97.4,0.3,IF(E15<99.9,0.35,0.4))))))) -> 0 | J15: =H15-I15 -> 0 | N15: =3*4 -> 12 | O15: =3*4*2 -> 24 | P15: =3*4*3 -> 36 | Q15: =3*4*4 -> 48 | R15: =3*4*5 -> 60 | S15: =3*4*6 -> 72 | T15: =3*4*7 -> 84 | U15: =3*4*8 -> 96 | V15: 3 пилота
A16: 4 | B16: Bizol | C16: Гладышев Степан | D16: 4-1 | E16: 84.3 | F16: =IF(M6=3,AC16,AF16) -> 0 | G16: 4 | H16: 42.561 | I16: =IF(E16<84.9,0,IF(E16<87.4,0.1,IF(E16<89.9,0.15,IF(E16<92.4,0.2,IF(E16<94.9,0.25,IF(E16<97.4,0.3,IF(E16<99.9,0.35,0.4))))))) -> 0 | J16: =H16-I16 -> 42.561 | K16: =AVERAGE(J16:J17) -> 42.5875 | L16: =RANK(K16,K7:K63,1) -> 13 | Z16: =AVERAGE(E16:E18) -> 82.05 | AA16: =IF(E16>84.9,E16,E17) -> 79.8 | AB16: =COUNTIF(E16:E18,">84.9") -> 0 | AC16: =IF(AB16=1,AD16,AE16) -> 0 | AD16: =IF(AA16<84.9,0,IF(AA16<87.4,9,IF(AA16<89.9,13.5,IF(AA16<92.4,18,IF(AA16<94.9,22.5,IF(AA16<97.4,27,IF(AA16<99.9,31.5,36))))))) -> 0 | AE16: =IF(Z16<84.9,0,IF(Z16<87.4,18,IF(Z16<89.9,27,IF(Z16<92.4,36,IF(Z16<94.9,45,IF(Z16<97.4,54,IF(Z16<99.9,63,72))))))) -> 0 | AF16: =IF(AG16=2,AH16,AI16) -> 0 | AG16: =COUNTIF(E16:E18,">1") -> 2 | AH16: =IF(AB16=1,AJ16,AK16) -> 0 | AI16: =IF(AB16=1,AL16,IF(AB16=2,AM16,AK16)) -> 0 | AJ16: =IF(AA16<84.9,0,IF(AA16<87.4,12,IF(AA16<89.9,18,IF(AA16<92.4,24,IF(AA16<94.9,30,IF(AA16<97.4,36,IF(AA16<99.9,42,48))))))) -> 0 | AK16: =IF(AA16<84.9,0,IF(AA16<87.4,24,IF(AA16<89.9,36,IF(AA16<92.4,48,IF(AA16<94.9,60,IF(AA16<97.4,72,IF(AA16<99.9,84,96))))))) -> 0 | AL16: =IF(AA16<84.9,0,IF(AA16<87.4,8,IF(AA16<89.9,12,IF(AA16<92.4,16,IF(AA16<94.9,20,IF(AA16<97.4,24,IF(AA16<99.9,28,32))))))) -> 0 | AM16: =IF(AO16<84.9,0,IF(AO16<87.4,16,IF(AO16<89.9,24,IF(AO16<92.4,32,IF(AO16<94.9,40,IF(AO16<97.4,48,IF(AO16<99.9,56,64))))))) -> 0 | AO16: =(SUM(E16:E18)-MIN(E16:E18))/2 -> 42.15
C17: Танана Александр | D17: 4-2 | E17: 79.8 | G17: 5 | H17: 42.614 | I17: =IF(E17<84.9,0,IF(E17<87.4,0.1,IF(E17<89.9,0.15,IF(E17<92.4,0.2,IF(E17<94.9,0.25,IF(E17<97.4,0.3,IF(E17<99.9,0.35,0.4))))))) -> 0 | J17: =H17-I17 -> 42.614
D18: 4-3 | I18: =IF(E18<84.9,0,IF(E18<87.4,0.1,IF(E18<89.9,0.15,IF(E18<92.4,0.2,IF(E18<94.9,0.25,IF(E18<97.4,0.3,IF(E18<99.9,0.35,0.4))))))) -> 0 | J18: =H18-I18 -> 0
A19: 5 | B19: E-k Motorsport | C19: Коруз Вадим | D19: 5-1 | E19: 74.1 | F19: =IF(M6=3,AC19,AF19) -> 0 | G19: 6 | H19: 42.696 | I19: =IF(E19<84.9,0,IF(E19<87.4,0.1,IF(E19<89.9,0.15,IF(E19<92.4,0.2,IF(E19<94.9,0.25,IF(E19<97.4,0.3,IF(E19<99.9,0.35,0.4))))))) -> 0 | J19: =H19-I19 -> 42.696 | K19: =AVERAGE(J19:J20) -> 42.628 | L19: =RANK(K19,K7:K63,1) -> 14 | Z19: =AVERAGE(E19:E21) -> 77.55 | AA19: =IF(E19>84.9,E19,E20) -> 81 | AB19: =COUNTIF(E19:E21,">84.9") -> 0 | AC19: =IF(AB19=1,AD19,AE19) -> 0 | AD19: =IF(AA19<84.9,0,IF(AA19<87.4,9,IF(AA19<89.9,13.5,IF(AA19<92.4,18,IF(AA19<94.9,22.5,IF(AA19<97.4,27,IF(AA19<99.9,31.5,36))))))) -> 0 | AE19: =IF(Z19<84.9,0,IF(Z19<87.4,18,IF(Z19<89.9,27,IF(Z19<92.4,36,IF(Z19<94.9,45,IF(Z19<97.4,54,IF(Z19<99.9,63,72))))))) -> 0 | AF19: =IF(AG19=2,AH19,AI19) -> 0 | AG19: =COUNTIF(E19:E21,">1") -> 2 | AH19: =IF(AB19=1,AJ19,AK19) -> 0 | AI19: =IF(AB19=1,AL19,IF(AB19=2,AM19,AK19)) -> 0 | AJ19: =IF(AA19<84.9,0,IF(AA19<87.4,12,IF(AA19<89.9,18,IF(AA19<92.4,24,IF(AA19<94.9,30,IF(AA19<97.4,36,IF(AA19<99.9,42,48))))))) -> 0 | AK19: =IF(AA19<84.9,0,IF(AA19<87.4,24,IF(AA19<89.9,36,IF(AA19<92.4,48,IF(AA19<94.9,60,IF(AA19<97.4,72,IF(AA19<99.9,84,96))))))) -> 0 | AL19: =IF(AA19<84.9,0,IF(AA19<87.4,8,IF(AA19<89.9,12,IF(AA19<92.4,16,IF(AA19<94.9,20,IF(AA19<97.4,24,IF(AA19<99.9,28,32))))))) -> 0 | AM19: =IF(AO19<84.9,0,IF(AO19<87.4,16,IF(AO19<89.9,24,IF(AO19<92.4,32,IF(AO19<94.9,40,IF(AO19<97.4,48,IF(AO19<99.9,56,64))))))) -> 0 | AO19: =(SUM(E19:E21)-MIN(E19:E21))/2 -> 40.5
C20: Шиленко Саша | D20: 5-2 | E20: 81 | G20: 5 | H20: 42.56 | I20: =IF(E20<84.9,0,IF(E20<87.4,0.1,IF(E20<89.9,0.15,IF(E20<92.4,0.2,IF(E20<94.9,0.25,IF(E20<97.4,0.3,IF(E20<99.9,0.35,0.4))))))) -> 0 | J20: =H20-I20 -> 42.56
D21: 5-3 | I21: =IF(E21<84.9,0,IF(E21<87.4,0.1,IF(E21<89.9,0.15,IF(E21<92.4,0.2,IF(E21<94.9,0.25,IF(E21<97.4,0.3,IF(E21<99.9,0.35,0.4))))))) -> 0 | J21: =H21-I21 -> 0
A22: 6 | B22: Kart Freedom | C22: Терещенко Андрей | D22: 6-1 | E22: 91.8 | F22: =IF(M6=3,AC22,AF22) -> 18 | G22: 7 | H22: 42.44 | I22: =IF(E22<84.9,0,IF(E22<87.4,0.1,IF(E22<89.9,0.15,IF(E22<92.4,0.2,IF(E22<94.9,0.25,IF(E22<97.4,0.3,IF(E22<99.9,0.35,0.4))))))) -> 0.2 | J22: =H22-I22 -> 42.24 | K22: =AVERAGE(J22:J23) -> 42.225 | L22: =RANK(K22,K7:K63,1) -> 5 | Z22: =AVERAGE(E22:E24) -> 87.55 | AA22: =IF(E22>84.9,E22,E23) -> 91.8 | AB22: =COUNTIF(E22:E24,">84.9") -> 1 | AC22: =IF(AB22=1,AD22,AE22) -> 18 | AD22: =IF(AA22<84.9,0,IF(AA22<87.4,9,IF(AA22<89.9,13.5,IF(AA22<92.4,18,IF(AA22<94.9,22.5,IF(AA22<97.4,27,IF(AA22<99.9,31.5,36))))))) -> 18 | AE22: =IF(Z22<84.9,0,IF(Z22<87.4,18,IF(Z22<89.9,27,IF(Z22<92.4,36,IF(Z22<94.9,45,IF(Z22<97.4,54,IF(Z22<99.9,63,72))))))) -> 27 | AF22: =IF(AG22=2,AH22,AI22) -> 24 | AG22: =COUNTIF(E22:E24,">1") -> 2 | AH22: =IF(AB22=1,AJ22,AK22) -> 24 | AI22: =IF(AB22=1,AL22,IF(AB22=2,AM22,AK22)) -> 16 | AJ22: =IF(AA22<84.9,0,IF(AA22<87.4,12,IF(AA22<89.9,18,IF(AA22<92.4,24,IF(AA22<94.9,30,IF(AA22<97.4,36,IF(AA22<99.9,42,48))))))) -> 24 | AK22: =IF(AA22<84.9,0,IF(AA22<87.4,24,IF(AA22<89.9,36,IF(AA22<92.4,48,IF(AA22<94.9,60,IF(AA22<97.4,72,IF(AA22<99.9,84,96))))))) -> 48 | AL22: =IF(AA22<84.9,0,IF(AA22<87.4,8,IF(AA22<89.9,12,IF(AA22<92.4,16,IF(AA22<94.9,20,IF(AA22<97.4,24,IF(AA22<99.9,28,32))))))) -> 16 | AM22: =IF(AO22<84.9,0,IF(AO22<87.4,16,IF(AO22<89.9,24,IF(AO22<92.4,32,IF(AO22<94.9,40,IF(AO22<97.4,48,IF(AO22<99.9,56,64))))))) -> 0 | AO22: =(SUM(E22:E24)-MIN(E22:E24))/2 -> 45.9
C23: Бахмацкий Олег | D23: 6-2 | E23: 83.3 | G23: 6 | H23: 42.21 | I23: =IF(E23<84.9,0,IF(E23<87.4,0.1,IF(E23<89.9,0.15,IF(E23<92.4,0.2,IF(E23<94.9,0.25,IF(E23<97.4,0.3,IF(E23<99.9,0.35,0.4))))))) -> 0 | J23: =H23-I23 -> 42.21
D24: 6-3 | I24: =IF(E24<84.9,0,IF(E24<87.4,0.1,IF(E24<89.9,0.15,IF(E24<92.4,0.2,IF(E24<94.9,0.25,IF(E24<97.4,0.3,IF(E24<99.9,0.35,0.4))))))) -> 0 | J24: =H24-I24 -> 0
A25: 7 | B25: Ingul kart RT | C25: Геронимус Макс | D25: 7-1 | E25: 70.1 | F25: =IF(M6=3,AC25,AF25) -> 0 | G25: 7 | H25: 42.182 | I25: =IF(E25<84.9,0,IF(E25<87.4,0.1,IF(E25<89.9,0.15,IF(E25<92.4,0.2,IF(E25<94.9,0.25,IF(E25<97.4,0.3,IF(E25<99.9,0.35,0.4))))))) -> 0 | J25: =H25-I25 -> 42.182 | K25: =AVERAGE(J25:J26) -> 42.172 | L25: =RANK(K25,K7:K63,1) -> 3 | Z25: =AVERAGE(E25:E27) -> 66.7 | AA25: =IF(E25>84.9,E25,E26) -> 63.3 | AB25: =COUNTIF(E25:E27,">84.9") -> 0 | AC25: =IF(AB25=1,AD25,AE25) -> 0 | AD25: =IF(AA25<84.9,0,IF(AA25<87.4,9,IF(AA25<89.9,13.5,IF(AA25<92.4,18,IF(AA25<94.9,22.5,IF(AA25<97.4,27,IF(AA25<99.9,31.5,36))))))) -> 0 | AE25: =IF(Z25<84.9,0,IF(Z25<87.4,18,IF(Z25<89.9,27,IF(Z25<92.4,36,IF(Z25<94.9,45,IF(Z25<97.4,54,IF(Z25<99.9,63,72))))))) -> 0 | AF25: =IF(AG25=2,AH25,AI25) -> 0 | AG25: =COUNTIF(E25:E27,">1") -> 2 | AH25: =IF(AB25=1,AJ25,AK25) -> 0 | AI25: =IF(AB25=1,AL25,IF(AB25=2,AM25,AK25)) -> 0 | AJ25: =IF(AA25<84.9,0,IF(AA25<87.4,12,IF(AA25<89.9,18,IF(AA25<92.4,24,IF(AA25<94.9,30,IF(AA25<97.4,36,IF(AA25<99.9,42,48))))))) -> 0 | AK25: =IF(AA25<84.9,0,IF(AA25<87.4,24,IF(AA25<89.9,36,IF(AA25<92.4,48,IF(AA25<94.9,60,IF(AA25<97.4,72,IF(AA25<99.9,84,96))))))) -> 0 | AL25: =IF(AA25<84.9,0,IF(AA25<87.4,8,IF(AA25<89.9,12,IF(AA25<92.4,16,IF(AA25<94.9,20,IF(AA25<97.4,24,IF(AA25<99.9,28,32))))))) -> 0 | AM25: =IF(AO25<84.9,0,IF(AO25<87.4,16,IF(AO25<89.9,24,IF(AO25<92.4,32,IF(AO25<94.9,40,IF(AO25<97.4,48,IF(AO25<99.9,56,64))))))) -> 0 | AO25: =(SUM(E25:E27)-MIN(E25:E27))/2 -> 35.05
C26: Кублицкий Виктор | D26: 7-2 | E26: 63.3 | G26: 8 | H26: 42.162 | I26: =IF(E26<84.9,0,IF(E26<87.4,0.1,IF(E26<89.9,0.15,IF(E26<92.4,0.2,IF(E26<94.9,0.25,IF(E26<97.4,0.3,IF(E26<99.9,0.35,0.4))))))) -> 0 | J26: =H26-I26 -> 42.162
D27: 7-3 | I27: =IF(E27<84.9,0,IF(E27<87.4,0.1,IF(E27<89.9,0.15,IF(E27<92.4,0.2,IF(E27<94.9,0.25,IF(E27<97.4,0.3,IF(E27<99.9,0.35,0.4))))))) -> 0 | J27: =H27-I27 -> 0
A28: 8 | B28: Line_X | C28: Булавинов Андрей | D28: 8-1 | E28: 72.8 | F28: =IF(M6=3,AC28,AF28) -> 0 | G28: 8 | H28: 42.491 | I28: =IF(E28<84.9,0,IF(E28<87.4,0.1,IF(E28<89.9,0.15,IF(E28<92.4,0.2,IF(E28<94.9,0.25,IF(E28<97.4,0.3,IF(E28<99.9,0.35,0.4))))))) -> 0 | J28: =H28-I28 -> 42.491 | K28: =AVERAGE(J28:J29) -> 42.5665 | L28: =RANK(K28,K7:K63,1) -> 12 | Z28: =AVERAGE(E28:E30) -> 58.4 | AA28: =IF(E28>84.9,E28,E29) -> 44 | AB28: =COUNTIF(E28:E30,">84.9") -> 0 | AC28: =IF(AB28=1,AD28,AE28) -> 0 | AD28: =IF(AA28<84.9,0,IF(AA28<87.4,9,IF(AA28<89.9,13.5,IF(AA28<92.4,18,IF(AA28<94.9,22.5,IF(AA28<97.4,27,IF(AA28<99.9,31.5,36))))))) -> 0 | AE28: =IF(Z28<84.9,0,IF(Z28<87.4,18,IF(Z28<89.9,27,IF(Z28<92.4,36,IF(Z28<94.9,45,IF(Z28<97.4,54,IF(Z28<99.9,63,72))))))) -> 0 | AF28: =IF(AG28=2,AH28,AI28) -> 0 | AG28: =COUNTIF(E28:E30,">1") -> 2 | AH28: =IF(AB28=1,AJ28,AK28) -> 0 | AI28: =IF(AB28=1,AL28,IF(AB28=2,AM28,AK28)) -> 0 | AJ28: =IF(AA28<84.9,0,IF(AA28<87.4,12,IF(AA28<89.9,18,IF(AA28<92.4,24,IF(AA28<94.9,30,IF(AA28<97.4,36,IF(AA28<99.9,42,48))))))) -> 0 | AK28: =IF(AA28<84.9,0,IF(AA28<87.4,24,IF(AA28<89.9,36,IF(AA28<92.4,48,IF(AA28<94.9,60,IF(AA28<97.4,72,IF(AA28<99.9,84,96))))))) -> 0 | AL28: =IF(AA28<84.9,0,IF(AA28<87.4,8,IF(AA28<89.9,12,IF(AA28<92.4,16,IF(AA28<94.9,20,IF(AA28<97.4,24,IF(AA28<99.9,28,32))))))) -> 0 | AM28: =IF(AO28<84.9,0,IF(AO28<87.4,16,IF(AO28<89.9,24,IF(AO28<92.4,32,IF(AO28<94.9,40,IF(AO28<97.4,48,IF(AO28<99.9,56,64))))))) -> 0 | AO28: =(SUM(E28:E30)-MIN(E28:E30))/2 -> 36.4
C29: Черников Леша | D29: 8-2 | E29: 44 | G29: 9 | H29: 42.642 | I29: =IF(E29<84.9,0,IF(E29<87.4,0.1,IF(E29<89.9,0.15,IF(E29<92.4,0.2,IF(E29<94.9,0.25,IF(E29<97.4,0.3,IF(E29<99.9,0.35,0.4))))))) -> 0 | J29: =H29-I29 -> 42.642
D30: 8-3 | I30: =IF(E30<84.9,0,IF(E30<87.4,0.1,IF(E30<89.9,0.15,IF(E30<92.4,0.2,IF(E30<94.9,0.25,IF(E30<97.4,0.3,IF(E30<99.9,0.35,0.4))))))) -> 0 | J30: =H30-I30 -> 0
A31: 9 | B31: 50 gramms | C31: Сомок Денис | D31: 9-1 | E31: 73.6 | F31: =IF(M6=3,AC31,AF31) -> 0 | G31: 10 | H31: 42.238 | I31: =IF(E31<84.9,0,IF(E31<87.4,0.1,IF(E31<89.9,0.15,IF(E31<92.4,0.2,IF(E31<94.9,0.25,IF(E31<97.4,0.3,IF(E31<99.9,0.35,0.4))))))) -> 0 | J31: =H31-I31 -> 42.238 | K31: =AVERAGE(J31:J32) -> 42.447 | L31: =RANK(K31,K7:K63,1) -> 8 | Z31: =AVERAGE(E31:E33) -> 72.75 | AA31: =IF(E31>84.9,E31,E32) -> 71.9 | AB31: =COUNTIF(E31:E33,">84.9") -> 0 | AC31: =IF(AB31=1,AD31,AE31) -> 0 | AD31: =IF(AA31<84.9,0,IF(AA31<87.4,9,IF(AA31<89.9,13.5,IF(AA31<92.4,18,IF(AA31<94.9,22.5,IF(AA31<97.4,27,IF(AA31<99.9,31.5,36))))))) -> 0 | AE31: =IF(Z31<84.9,0,IF(Z31<87.4,18,IF(Z31<89.9,27,IF(Z31<92.4,36,IF(Z31<94.9,45,IF(Z31<97.4,54,IF(Z31<99.9,63,72))))))) -> 0 | AF31: =IF(AG31=2,AH31,AI31) -> 0 | AG31: =COUNTIF(E31:E33,">1") -> 2 | AH31: =IF(AB31=1,AJ31,AK31) -> 0 | AI31: =IF(AB31=1,AL31,IF(AB31=2,AM31,AK31)) -> 0 | AJ31: =IF(AA31<84.9,0,IF(AA31<87.4,12,IF(AA31<89.9,18,IF(AA31<92.4,24,IF(AA31<94.9,30,IF(AA31<97.4,36,IF(AA31<99.9,42,48))))))) -> 0 | AK31: =IF(AA31<84.9,0,IF(AA31<87.4,24,IF(AA31<89.9,36,IF(AA31<92.4,48,IF(AA31<94.9,60,IF(AA31<97.4,72,IF(AA31<99.9,84,96))))))) -> 0 | AL31: =IF(AA31<84.9,0,IF(AA31<87.4,8,IF(AA31<89.9,12,IF(AA31<92.4,16,IF(AA31<94.9,20,IF(AA31<97.4,24,IF(AA31<99.9,28,32))))))) -> 0 | AM31: =IF(AO31<84.9,0,IF(AO31<87.4,16,IF(AO31<89.9,24,IF(AO31<92.4,32,IF(AO31<94.9,40,IF(AO31<97.4,48,IF(AO31<99.9,56,64))))))) -> 0 | AO31: =(SUM(E31:E33)-MIN(E31:E33))/2 -> 36.8
C32: Морозенко Сергей | D32: 9-2 | E32: 71.9 | G32: 9 | H32: 42.656 | I32: =IF(E32<84.9,0,IF(E32<87.4,0.1,IF(E32<89.9,0.15,IF(E32<92.4,0.2,IF(E32<94.9,0.25,IF(E32<97.4,0.3,IF(E32<99.9,0.35,0.4))))))) -> 0 | J32: =H32-I32 -> 42.656
D33: 9-3 | I33: =IF(E33<84.9,0,IF(E33<87.4,0.1,IF(E33<89.9,0.15,IF(E33<92.4,0.2,IF(E33<94.9,0.25,IF(E33<97.4,0.3,IF(E33<99.9,0.35,0.4))))))) -> 0 | J33: =H33-I33 -> 0
A34: 10 | B34: G.A.T | C34: Геронимус Костя | D34: 10-1 | E34: 61.4 | F34: =IF(M6=3,AC34,AF34) -> 0 | G34: 11 | H34: 42.639 | I34: =IF(E34<84.9,0,IF(E34<87.4,0.1,IF(E34<89.9,0.15,IF(E34<92.4,0.2,IF(E34<94.9,0.25,IF(E34<97.4,0.3,IF(E34<99.9,0.35,0.4))))))) -> 0 | J34: =H34-I34 -> 42.639 | K34: =AVERAGE(J34:J35) -> 42.4495 | L34: =RANK(K34,K7:K63,1) -> 9 | Z34: =AVERAGE(E34:E36) -> 62.7 | AA34: =IF(E34>84.9,E34,E35) -> 64 | AB34: =COUNTIF(E34:E36,">84.9") -> 0 | AC34: =IF(AB34=1,AD34,AE34) -> 0 | AD34: =IF(AA34<84.9,0,IF(AA34<87.4,9,IF(AA34<89.9,13.5,IF(AA34<92.4,18,IF(AA34<94.9,22.5,IF(AA34<97.4,27,IF(AA34<99.9,31.5,36))))))) -> 0 | AE34: =IF(Z34<84.9,0,IF(Z34<87.4,18,IF(Z34<89.9,27,IF(Z34<92.4,36,IF(Z34<94.9,45,IF(Z34<97.4,54,IF(Z34<99.9,63,72))))))) -> 0 | AF34: =IF(AG34=2,AH34,AI34) -> 0 | AG34: =COUNTIF(E34:E36,">1") -> 2 | AH34: =IF(AB34=1,AJ34,AK34) -> 0 | AI34: =IF(AB34=1,AL34,IF(AB34=2,AM34,AK34)) -> 0 | AJ34: =IF(AA34<84.9,0,IF(AA34<87.4,12,IF(AA34<89.9,18,IF(AA34<92.4,24,IF(AA34<94.9,30,IF(AA34<97.4,36,IF(AA34<99.9,42,48))))))) -> 0 | AK34: =IF(AA34<84.9,0,IF(AA34<87.4,24,IF(AA34<89.9,36,IF(AA34<92.4,48,IF(AA34<94.9,60,IF(AA34<97.4,72,IF(AA34<99.9,84,96))))))) -> 0 | AL34: =IF(AA34<84.9,0,IF(AA34<87.4,8,IF(AA34<89.9,12,IF(AA34<92.4,16,IF(AA34<94.9,20,IF(AA34<97.4,24,IF(AA34<99.9,28,32))))))) -> 0 | AM34: =IF(AO34<84.9,0,IF(AO34<87.4,16,IF(AO34<89.9,24,IF(AO34<92.4,32,IF(AO34<94.9,40,IF(AO34<97.4,48,IF(AO34<99.9,56,64))))))) -> 0 | AO34: =(SUM(E34:E36)-MIN(E34:E36))/2 -> 32
C35: Любина Елена | D35: 10.2 | E35: 64 | G35: 33 | H35: 42.26 | I35: =IF(E35<84.9,0,IF(E35<87.4,0.1,IF(E35<89.9,0.15,IF(E35<92.4,0.2,IF(E35<94.9,0.25,IF(E35<97.4,0.3,IF(E35<99.9,0.35,0.4))))))) -> 0 | J35: =H35-I35 -> 42.26
D36: 10-3 | I36: =IF(E36<84.9,0,IF(E36<87.4,0.1,IF(E36<89.9,0.15,IF(E36<92.4,0.2,IF(E36<94.9,0.25,IF(E36<97.4,0.3,IF(E36<99.9,0.35,0.4))))))) -> 0 | J36: =H36-I36 -> 0
A37: 11 | B37: Petrovich | C37: Сосин Миша | D37: 11-1 | E37: 67 | F37: =IF(M6=3,AC37,AF37) -> 0 | G37: 12 | H37: 42.798 | I37: =IF(E37<84.9,0,IF(E37<87.4,0.1,IF(E37<89.9,0.15,IF(E37<92.4,0.2,IF(E37<94.9,0.25,IF(E37<97.4,0.3,IF(E37<99.9,0.35,0.4))))))) -> 0 | J37: =H37-I37 -> 42.798 | K37: =AVERAGE(J37:J38) -> 42.8565 | L37: =RANK(K37,K7:K63,1) -> 18 | Z37: =AVERAGE(E37:E39) -> 75.3 | AA37: =IF(E37>84.9,E37,E38) -> 83.6 | AB37: =COUNTIF(E37:E39,">84.9") -> 0 | AC37: =IF(AB37=1,AD37,AE37) -> 0 | AD37: =IF(AA37<84.9,0,IF(AA37<87.4,9,IF(AA37<89.9,13.5,IF(AA37<92.4,18,IF(AA37<94.9,22.5,IF(AA37<97.4,27,IF(AA37<99.9,31.5,36))))))) -> 0 | AE37: =IF(Z37<84.9,0,IF(Z37<87.4,18,IF(Z37<89.9,27,IF(Z37<92.4,36,IF(Z37<94.9,45,IF(Z37<97.4,54,IF(Z37<99.9,63,72))))))) -> 0 | AF37: =IF(AG37=2,AH37,AI37) -> 0 | AG37: =COUNTIF(E37:E39,">1") -> 2 | AH37: =IF(AB37=1,AJ37,AK37) -> 0 | AI37: =IF(AB37=1,AL37,IF(AB37=2,AM37,AK37)) -> 0 | AJ37: =IF(AA37<84.9,0,IF(AA37<87.4,12,IF(AA37<89.9,18,IF(AA37<92.4,24,IF(AA37<94.9,30,IF(AA37<97.4,36,IF(AA37<99.9,42,48))))))) -> 0 | AK37: =IF(AA37<84.9,0,IF(AA37<87.4,24,IF(AA37<89.9,36,IF(AA37<92.4,48,IF(AA37<94.9,60,IF(AA37<97.4,72,IF(AA37<99.9,84,96))))))) -> 0 | AL37: =IF(AA37<84.9,0,IF(AA37<87.4,8,IF(AA37<89.9,12,IF(AA37<92.4,16,IF(AA37<94.9,20,IF(AA37<97.4,24,IF(AA37<99.9,28,32))))))) -> 0 | AM37: =IF(AO37<84.9,0,IF(AO37<87.4,16,IF(AO37<89.9,24,IF(AO37<92.4,32,IF(AO37<94.9,40,IF(AO37<97.4,48,IF(AO37<99.9,56,64))))))) -> 0 | AO37: =(SUM(E37:E39)-MIN(E37:E39))/2 -> 41.8
C38: Гетьманцев Даниил | D38: 11-2 | E38: 83.6 | G38: 11 | H38: 42.915 | I38: =IF(E38<84.9,0,IF(E38<87.4,0.1,IF(E38<89.9,0.15,IF(E38<92.4,0.2,IF(E38<94.9,0.25,IF(E38<97.4,0.3,IF(E38<99.9,0.35,0.4))))))) -> 0 | J38: =H38-I38 -> 42.915
D39: 11-3 | I39: =IF(E39<84.9,0,IF(E39<87.4,0.1,IF(E39<89.9,0.15,IF(E39<92.4,0.2,IF(E39<94.9,0.25,IF(E39<97.4,0.3,IF(E39<99.9,0.35,0.4))))))) -> 0 | J39: =H39-I39 -> 0
A40: 12 | B40: Flash | C40: Загорулько Иван | D40: 12-1 | E40: 95.7 | F40: =IF(M6=3,AC40,AF40) -> 27 | G40: 13 | H40: 42.585 | I40: =IF(E40<84.9,0,IF(E40<87.4,0.1,IF(E40<89.9,0.15,IF(E40<92.4,0.2,IF(E40<94.9,0.25,IF(E40<97.4,0.3,IF(E40<99.9,0.35,0.4))))))) -> 0.3 | J40: =H40-I40 -> 42.285 | K40: =AVERAGE(J40:J41) -> 42.237 | L40: =RANK(K40,K7:K63,1) -> 6 | Z40: =AVERAGE(E40:E42) -> 83.4 | AA40: =IF(E40>84.9,E40,E41) -> 95.7 | AB40: =COUNTIF(E40:E42,">84.9") -> 1 | AC40: =IF(AB40=1,AD40,AE40) -> 27 | AD40: =IF(AA40<84.9,0,IF(AA40<87.4,9,IF(AA40<89.9,13.5,IF(AA40<92.4,18,IF(AA40<94.9,22.5,IF(AA40<97.4,27,IF(AA40<99.9,31.5,36))))))) -> 27 | AE40: =IF(Z40<84.9,0,IF(Z40<87.4,18,IF(Z40<89.9,27,IF(Z40<92.4,36,IF(Z40<94.9,45,IF(Z40<97.4,54,IF(Z40<99.9,63,72))))))) -> 0 | AF40: =IF(AG40=2,AH40,AI40) -> 36 | AG40: =COUNTIF(E40:E42,">1") -> 2 | AH40: =IF(AB40=1,AJ40,AK40) -> 36 | AI40: =IF(AB40=1,AL40,IF(AB40=2,AM40,AK40)) -> 24 | AJ40: =IF(AA40<84.9,0,IF(AA40<87.4,12,IF(AA40<89.9,18,IF(AA40<92.4,24,IF(AA40<94.9,30,IF(AA40<97.4,36,IF(AA40<99.9,42,48))))))) -> 36 | AK40: =IF(AA40<84.9,0,IF(AA40<87.4,24,IF(AA40<89.9,36,IF(AA40<92.4,48,IF(AA40<94.9,60,IF(AA40<97.4,72,IF(AA40<99.9,84,96))))))) -> 72 | AL40: =IF(AA40<84.9,0,IF(AA40<87.4,8,IF(AA40<89.9,12,IF(AA40<92.4,16,IF(AA40<94.9,20,IF(AA40<97.4,24,IF(AA40<99.9,28,32))))))) -> 24 | AM40: =IF(AO40<84.9,0,IF(AO40<87.4,16,IF(AO40<89.9,24,IF(AO40<92.4,32,IF(AO40<94.9,40,IF(AO40<97.4,48,IF(AO40<99.9,56,64))))))) -> 0 | AO40: =(SUM(E40:E42)-MIN(E40:E42))/2 -> 47.85
C41: Лихошерст Леша | D41: 12-2 | E41: 71.1 | G41: 12 | H41: 42.189 | I41: =IF(E41<84.9,0,IF(E41<87.4,0.1,IF(E41<89.9,0.15,IF(E41<92.4,0.2,IF(E41<94.9,0.25,IF(E41<97.4,0.3,IF(E41<99.9,0.35,0.4))))))) -> 0 | J41: =H41-I41 -> 42.189
...

Sheet KartFreedom
A2: Чемпионат мини марафон "Большие Гонки", 11-й этап
A4: KartFreedom
A6: Обяза-тельные | B6: Пилот | C6: карт | D6: Круг | E6: кругов на отрезке | F6: Статистика по кругам | J6: Общее время гонки | K6: Время на трассе
F7: Лучший круг | G7: Среднее на отрезке | H7: Кругов в 0,1 от лучшего | I7: стабильность | K7: отрезок | L7: всего у пилота | M7: Питы | N7: Штрафы/ бонусы (сек)
A8: 1 | B8: Бахмацкий Олег | C8: 10 | D8: =COUNTA(C19:C83) -> 43 | E8: =COUNTA(C19:C83) -> 43 | F8: =MIN(C19:C82) -> 42.08 | G8: =AVERAGE(C19:C85) -> 42.413953 | I8: =G8-F8 -> 0.33395349 | J8: 0.021174641 | K8: =J8 -> 0.021174641 | L8: =K8 -> 0.021174641 | M8: 2:22.30 | N8: +5 | O8: лимит
A9: 2 | B9: Бахмацкий Олег | C9: 44 | D9: =COUNTA(D19:D83)+D8+1 -> 81 | E9: =COUNTA(D19:D83)+1 -> 38 | F9: =MIN(D19:D82) -> 42.33 | G9: =AVERAGE(D19:D84) -> 42.582432 | I9: =G9-F9 -> 0.25243243 | J9: 0.041057303 | K9: =J9-J8 -> 0.019882662 | L9: =K9+L8 -> 0.041057303 | M9: 2:16.76
A10: 3 | B10: Терещенко Андрей | C10: 7 | D10: =COUNTA(E19:E83)+D9+1 -> 104 | E10: =COUNTA(E19:E83)+1 -> 23 | F10: =MIN(E19:E84) -> 42.59 | G10: =AVERAGE(E19:E85) -> 42.780909 | I10: =G10-F10 -> 0.19090909 | J10: 0.053532199 | K10: =J10-J9 -> 0.012474896 | L10: =K10 -> 0.012474896 | M10: 1:54.15 | N10: -22.5 | O10: Бонус
A11: 4 | B11: Терещенко Андрей | C11: 13 | D11: =COUNTA(F19:F83)+D10+1+5 -> 152 | E11: =COUNTA(F19:F83)+1+4 -> 47 | F11: =MIN(F19:F84) -> 42.27 | G11: =AVERAGE(F19:F84) -> 42.432619 | I11: =G11-F11 -> 0.16261905 | J11: 0.077944965 | K11: =J11-J10 -> 0.024412766 | L11: =K11+L10 -> 0.036887662 | M11: 2:47.22 | O11: пит 2 минуты
A12: 5 | B12: Бахмацкий Олег | C12: 9 | D12: =COUNTA(G19:G83)+D11+1 -> 194 | E12: =COUNTA(G19:G83)+1 -> 42 | F12: =MIN(G19:G84) -> 41.99 | G12: =AVERAGE(G19:G884) -> 42.335122 | I12: =G12-F12 -> 0.34512195 | J12: 0.099972801 | K12: =J12-J11 -> 0.022027836 | L12: =K12+L9 -> 0.063085139 | M12: 2:17.60
A13: Финиш | B13: Терещенко Андрей | C13: 12 | D13: =COUNTA(H19:H83)+D12+1 -> 243 | E13: =COUNTA(H19:H83)+1 -> 49 | F13: =MIN(H19:H84) -> 42.16 | G13: =AVERAGE(H19:H84) -> 42.436667 | I13: =G13-F13 -> 0.27666667 | J13: ='Общие результаты'!G6 -> 3:00:12 | K13: =J13-J12 -> 0.025166088 | L13: =K13+L11 -> 0.06205375 | N13: +5 | O13: фишка на 5 пите
F14: =AVERAGE(F8,F9,F12) -> 42.133333 | G14: =AVERAGE(G8,G9,G12) -> 42.443836 | H14: Олег | I14: =AVERAGE(I8,I9,I12) -> 0.31050262
F15: =AVERAGE(F10,F11,F13) -> 42.34 | G15: =AVERAGE(G10,G11,G13) -> 42.550065 | H15: Андрей | I15: =AVERAGE(I10,I11,I13) -> 0.21006494
F16: =AVERAGE(F8:F13) -> 42.236667 | G16: =AVERAGE(C19:H88) -> 42.469528 | I16: =AVERAGE(I8:I13) -> 0.26028378
C18: =B8 -> Бахмацкий Олег | D18: =B9 -> Бахмацкий Олег | E18: =B10 -> Терещенко Андрей | F18: =B11 -> Терещенко Андрей | G18: =B12 -> Бахмацкий Олег | H18: =B13 -> Терещенко Андрей
B19: 1 | C19: 45.43 | D19: 42.53 | E19: 42.96 | F19: 42.39 | G19: 42.68 | H19: 42.65
B20: 2 | C20: 43.26 | D20: 42.63 | E20: 42.73 | F20: 42.28 | G20: 42.63 | H20: 42.59
B21: 3 | C21: 42.93 | D21: 42.7 | E21: 42.71 | F21: 42.3 | G21: 42.34 | H21: 42.29
B22: 4 | C22: 42.41 | D22: 42.59 | E22: 42.96 | F22: 42.28 | G22: 42.16 | H22: 42.72
B23: 5 | C23: 42.5 | D23: 42.43 | E23: 42.83 | F23: 42.35 | G23: 42.82 | H23: 42.38
B24: 6 | C24: 42.31 | D24: 42.69 | E24: 42.96 | F24: 42.28 | G24: 42.18 | H24: 42.48
B25: 7 | C25: 42.19 | D25: 42.39 | E25: 42.75 | F25: 42.71 | G25: 42.31 | H25: 42.34
B26: 8 | C26: 42.34 | D26: 42.49 | E26: 42.71 | F26: 42.5 | G26: 42.3 | H26: 42.54
B27: 9 | C27: 42.24 | D27: 42.48 | E27: 42.62 | F27: 42.39 | G27: 42.17 | H27: 42.33
B28: 10 | C28: 42.29 | D28: 42.45 | E28: 42.73 | F28: 42.43 | G28: 42.56 | H28: 42.72
B29: 11 | C29: 42.48 | D29: 42.55 | E29: 42.61 | F29: 42.4 | G29: 42.36 | H29: 42.36
B30: 12 | C30: 42.4 | D30: 42.66 | E30: 42.79 | F30: 42.46 | G30: 42.21 | H30: 42.42
... B36: 18 | C36: 42.21 | D36: 42.58 | E36: 42.69 | F36: 42.43 | G36: 42.45 | H36: 42.25
B37: 19 | C37: 42.19 | D37: 42.43 | E37: 42.86 | G37: 42.31 | H37: 42.39
B38: 20 | C38: 42.27 | D38: 42.57 | E38: 42.84 | G38: 42.28 | H38: 42.4
B39: 21 | C39: 42.32 | D39: 42.56 | E39: 42.59 | G39: 42.16 | H39: 42.39
B40: 22 | C40: 42.42 | D40: 42.36 | E40: 43.49 | F40: 42.38 | G40: 42.03 | H40: 42.22
B41: 23 | C41: 42.23 | D41: 42.53 | F41: 42.42 | G41: 42.18 | H41: 42.35
B42: 24 | C42: 42.25 | D42: 42.43 | F42: 42.45 | G42: 42.13 | H42: 42.34
B43: 25 | C43: 42.2 | D43: 42.56 | F43: 42.46 | G43: 42.27 | H43: 42.23
B44: 26 | C44: 42.13 | D44: 42.63 | F44: 42.42 | G44: 42.35 | H44: 42.57
B45: 27 | C45: 42.38 | D45: 42.79 | F45: 42.35 | G45: 42.1 | H45: 43.17
B46: 28 | C46: 42.26 | D46: 42.59 | F46: 42.41 | G46: 43.31 | H46: 42.33
B47: 29 | C47: 42.15 | D47: 42.47 | F47: 42.55 | G47: 42.72 | H47: 42.34
B48: 30 | C48: 42.19 | D48: 42.81 | F48: 42.51 | G48: 42.33 | H48: 42.66
B49: 31 | C49: 42.23 | D49: 42.56 | F49: 42.52 | G49: 42.39 | H49: 42.38
...

Sheet NFS Kozaks
A2: Чемпионат мини марафон "Большие Гонки", 11-й этап
A4: NFS Kozaks
A6: Обяза-тельные | B6: Пилот | C6: карт | D6: Круг | E6: кругов на отрезке | F6: Статистика по кругам | J6: Общее время гонки | K6: Время на трассе
F7: Лучший круг | G7: Среднее на отрезке | H7: Кругов в 0,1 от лучшего | I7: стабильность | K7: отрезок | L7: всего у пилота | M7: Питы | N7: Штрафы/ бонусы (сек)
A8: 1 | B8: Наум | C8: 1 | D8: =COUNTA(C19:C83) -> 21 | E8: =COUNTA(C19:C83) -> 21 | F8: =MIN(C19:C82) -> 42.35 | G8: =AVERAGE(C19:C85) -> 42.832857 | I8: =G8-F8 -> 0.48285714 | J8: 0.010448924 | K8: =J8 -> 0.010448924 | L8: =K8 -> 0.010448924 | M8: 2:09.89 | N8: -9 | O8: бонус
A9: 2 | B9: Наум | C9: 15 | D9: =COUNTA(D19:D83)+D8+1 -> 41 | E9: =COUNTA(D19:D83)+1 -> 20 | F9: =MIN(D19:D82) -> 42.21 | G9: =AVERAGE(D19:D84) -> 42.537895 | I9: =G9-F9 -> 0.32789474 | J9: 0.021305683 | K9: =J9-J8 -> 0.010856759 | L9: =K9+L8 -> 0.021305683 | M9: 2:20.93
A10: 3 | B10: Тыщенко Миша | C10: 13 | D10: =COUNTA(E19:E83)+D9+1 -> 100 | E10: =COUNTA(E19:E83)+1 -> 59 | F10: =MIN(E19:E84) -> 41.97 | G10: =AVERAGE(E19:E85) -> 42.376207 | I10: =G10-F10 -> 0.4062069 | J10: 0.051394155 | K10: =J10-J9 -> 0.030088472 | L10: =K10 -> 0.030088472 | M10: 2:18.84
A11: 4 | B11: Наум | C11: 6 | D11: =COUNTA(F19:F83)+D10+1+4 -> 140 | E11: =COUNTA(F19:F83)+1+4 -> 40 | F11: =MIN(F19:F84) -> 42.49 | G11: =AVERAGE(F19:F84) -> 42.770571 | I11: =G11-F11 -> 0.28057143 | J11: 0.072303565 | K11: =J11-J10 -> 0.02090941 | L11: =K11+L9 -> 0.042215093 | M11: 2:49.73 | O11: пит 2 минуты
A12: 5 | B12: Тыщенко Миша | C12: 44 | D12: =COUNTA(G19:G83)+D11+1 -> 192 | E12: =COUNTA(G19:G83)+1 -> 52 | F12: =MIN(G19:G84) -> 42.46 | G12: =AVERAGE(G19:G884) -> 42.882157 | I12: =G12-F12 -> 0.42215686 | J12: 0.099576701 | K12: =J12-J11 -> 0.027273137 | L12: =K12+L10 -> 0.057361609 | M12: 2:18.56
A13: Финиш | B13: Наум | C13: 8 | D13: =COUNTA(H19:H83)+D12+1 -> 242 | E13: =COUNTA(H19:H83)+1 -> 50 | F13: =MIN(H19:H84) -> 42.03 | G13: =AVERAGE(H19:H84) -> 42.358571 | I13: =G13-F13 -> 0.32857143 | J13: ='Общие результаты'!G6 -> 3:00:12 | K13: =J13-J12 -> 0.025562187 | L13: =K13+L11 -> 0.06777728 | N13: +5 | O13: от судьи против 14
F14: =AVERAGE(F8,F9,F11,F13) -> 42.27 | G14: =AVERAGE(G8,G9,G11,G13) -> 42.624974 | H14: Наум | I14: =AVERAGE(I8,I9,I11,I13) -> 0.35497368
F15: =AVERAGE(F10,F12) -> 42.215 | G15: =AVERAGE(G10,G12) -> 42.629182 | H15: Миша | I15: =AVERAGE(I10,I12) -> 0.41418188
F16: =AVERAGE(F8:F13) -> 42.251667 | G16: =AVERAGE(C19:H88) -> 42.596824 | I16: =AVERAGE(I8:I13) -> 0.37470975
C18: =B8 -> Наум | D18: =B9 -> Наум | E18: =B10 -> Тыщенко Миша | F18: =B11 -> Наум | G18: =B12 -> Тыщенко Миша | H18: =B13 -> Наум
B19: 1 | C19: 45.54 | D19: 42.61 | E19: 43.04 | F19: 42.94 | G19: 43.01 | H19: 44.78
B20: 2 | C20: 43.05 | D20: 42.71 | E20: 42.88 | F20: 42.78 | G20: 42.93 | H20: 42.77
B21: 3 | C21: 43.14 | D21: 42.66 | E21: 42.4 | F21: 42.71 | G21: 43.6 | H21: 42.64
B22: 4 | C22: 42.57 | D22: 42.35 | E22: 42.5 | F22: 42.53 | G22: 42.65 | H22: 42.4
B23: 5 | C23: 42.52 | D23: 42.4 | E23: 43.34 | F23: 42.64 | G23: 42.53 | H23: 42.17
B24: 6 | C24: 42.46 | D24: 42.44 | E24: 43.18 | F24: 42.62 | G24: 43.05 | H24: 42.51
B25: 7 | C25: 42.47 | D25: 42.46 | E25: 42.32 | F25: 42.59 | G25: 42.65 | H25: 42.35
B26: 8 | C26: 42.46 | D26: 42.51 | E26: 42.23 | F26: 42.89 | G26: 42.55 | H26: 42.56
B27: 9 | C27: 42.4 | D27: 42.21 | E27: 42.2 | F27: 43.01 | G27: 42.78 | H27: 42.15
B28: 10 | C28: 42.41 | D28: 42.42 | E28: 42.1 | F28: 42.52 | G28: 43.29 | H28: 42.21
B29: 11 | C29: 42.35 | D29: 42.62 | E29: 42.18 | F29: 43.09 | G29: 42.57 | H29: 42.17
B30: 12 | C30: 42.76 | D30: 42.6 | E30: 42.05 | F30: 43.08 | G30: 42.83 | H30: 42.21
... B37: 19 | C37: 42.64 | D37: 43.44 | E37: 42.05 | F37: 43.01 | G37: 42.69 | H37: 42.4
B38: 20 | C38: 42.37 | E38: 41.97 | F38: 42.59 | G38: 42.83 | H38: 42.19
B39: 21 | C39: 44.6 | E39: 42.02 | F39: 42.69 | G39: 42.57 | H39: 42.35
B40: 22 | E40: 42.35 | F40: 42.94 | G40: 42.7 | H40: 42.12
B41: 23 | E41: 42.37 | G41: 42.59 | H41: 42.17
B42: 24 | E42: 42.67 | G42: 42.84 | H42: 42.08
B43: 25 | E43: 42.76 | G43: 42.79 | H43: 42.37
B44: 26 | E44: 42.19 | G44: 42.87 | H44: 42.26
B45: 27 | E45: 42.37 | F45: 42.61 | G45: 43.66 | H45: 42.19
B46: 28 | E46: 42.37 | F46: 42.77 | G46: 42.9 | H46: 42.57
B47: 29 | E47: 42.28 | F47: 42.61 | G47: 42.74 | H47: 42.14
B48: 30 | E48: 42.2 | F48: 42.67 | G48: 42.59 | H48: 42.32
B49: 31 | E49: 42.14 | F49: 43.01 | G49: 42.79 | H49: 42.1
B50: 32 | E50: 42.11 | F50: 42.57 | G50: 42.96 | H50: 42.2
...

Sheet Vpered Ta Vgory
A2: Чемпионат мини марафон "Большие Гонки", 11-й этап
A4: Vpered Ta Vgory
A6: Обяза-тельные | B6: Пилот | C6: карт | D6: Круг | E6: кругов на отрезке | F6: Статистика по кругам | J6: Общее время гонки | K6: Время на трассе
F7: Лучший круг | G7: Среднее на отрезке | H7: Кругов в 0,1 от лучшего | I7: стабильность | K7: отрезок | L7: всего у пилота | M7: Питы | N7: Штрафы/ бонусы (сек)
A8: 1 | B8: Лысенский Денис | C8: 18 | D8: =COUNTA(C19:C83) -> 22 | E8: =COUNTA(C19:C83) -> 22 | F8: =MIN(C19:C82) -> 42.38 | G8: =AVERAGE(C19:C85) -> 42.862273 | I8: =G8-F8 -> 0.48227273 | J8: 0.010949363 | K8: =J8 -> 0.010949363 | L8: =K8 -> 0.010949363 | M8: 2:17.41
A9: 2 | B9: Манило Денис | C9: 8 | D9: =COUNTA(D19:D83)+D8+1 -> 43 | E9: =COUNTA(D19:D83)+1 -> 21 | F9: =MIN(D19:D82) -> 42.33 | G9: =AVERAGE(D19:D84) -> 42.6145 | I9: =G9-F9 -> 0.2845 | J9: 0.022410359 | K9: =J9-J8 -> 0.011460995 | L9: =K9 -> 0.011460995 | M9: 2:07.96 | O9: 10 секунд недодержали
A10: 3 | B10: Лысенский Денис | C10: 10 | D10: =COUNTA(E19:E83)+D9+1 -> 95 | E10: =COUNTA(E19:E83)+1 -> 52 | F10: =MIN(E19:E84) -> 42.27 | G10: =AVERAGE(E19:E85) -> 42.558627 | I10: =G10-F10 -> 0.28862745 | J10: 0.049016019 | K10: =J10-J9 -> 0.02660566 | L10: =K10+L8 -> 0.037555023 | M10: 2:16.14
A11: 4 | B11: Манило Денис | C11: 9 | D11: =COUNTA(F19:F83)+D10+1+5 -> 151 | E11: =COUNTA(F19:F83)+1+5 -> 56 | F11: =MIN(F19:F84) -> 42.13 | G11: =AVERAGE(F19:F84) -> 42.4206 | I11: =G11-F11 -> 0.2906 | J11: 0.077598241 | K11: =J11-J10 -> 0.028582222 | L11: =K11+L9 -> 0.040043218 | M11: 2:50.66
A12: 5 | B12: Лысенский Денис | C12: 21 | D12: =COUNTA(G19:G83)+D11+1 -> 181 | E12: =COUNTA(G19:G83)+1 -> 30 | F12: =MIN(G19:G84) -> 42.5 | G12: =AVERAGE(G19:G884) -> 42.76 | I12: =G12-F12 -> 0.26 | J12: 0.093912037 | K12: =J12-J11 -> 0.016313796 | L12: =K12+L10 -> 0.053868819 | M12: 3:57.11
A13: Финиш | B13: Манило Денис | C13: 17 | D13: =COUNTA(H19:H83)+D12+1+2 -> 242 | E13: =COUNTA(H19:H83)+1 -> 59 | F13: =MIN(H19:H84) -> 42.39 | G13: =AVERAGE(H19:H84) -> 42.642069 | I13: =G13-F13 -> 0.25206897 | J13: ='Общие результаты'!G6 -> 3:00:12 | K13: =J13-J12 -> 0.031226852 | L13: =K13+L11 -> 0.071270069 | N13: +15+10-100 | O13: лимит+недодержали-поломка
F14: =AVERAGE(F8,F10,F12) -> 42.383333 | G14: =AVERAGE(G8,G10,G12) -> 42.726967 | H14: Дио | I14: =AVERAGE(I8,I10,I12) -> 0.34363339
F15: =AVERAGE(F9,F11,F13) -> 42.283333 | G15: =AVERAGE(G9,G11,G13) -> 42.559056 | H15: Денис | I15: =AVERAGE(I9,I11,I13) -> 0.27572299
F16: =AVERAGE(F8:F13) -> 42.333333 | G16: =AVERAGE(C19:H88) -> 42.608957 | I16: =AVERAGE(I8:I13) -> 0.30967819
C18: =B8 -> Лысенский Денис | D18: =B9 -> Манило Денис | E18: =B10 -> Лысенский Денис | F18: =B11 -> Манило Денис | G18: =B12 -> Лысенский Денис | H18: =B13 -> Манило Денис
B19: 1 | C19: 46.42 | D19: 42.84 | E19: 42.41 | F19: 42.31 | G19: 42.85 | H19: 42.97
B20: 2 | C20: 42.89 | D20: 42.7 | E20: 42.56 | F20: 42.43 | G20: 42.75 | H20: 42.84
B21: 3 | C21: 42.73 | D21: 42.62 | E21: 42.45 | F21: 42.79 | G21: 42.78 | H21: 42.8
B22: 4 | C22: 42.66 | D22: 42.49 | E22: 42.45 | F22: 42.41 | G22: 42.69 | H22: 42.67
B23: 5 | C23: 42.49 | D23: 42.46 | E23: 42.33 | F23: 42.26 | G23: 42.69 | H23: 42.84
B24: 6 | C24: 42.5 | D24: 42.59 | E24: 42.92 | F24: 42.18 | G24: 42.8 | H24: 42.69
B25: 7 | C25: 42.64 | D25: 42.65 | E25: 42.47 | F25: 42.27 | G25: 42.56 | H25: 42.61
B26: 8 | C26: 42.52 | D26: 42.42 | E26: 42.69 | F26: 42.17 | G26: 42.73 | H26: 42.51
B27: 9 | C27: 42.38 | D27: 43.1 | E27: 42.41 | F27: 42.38 | G27: 42.65 | H27: 42.72
B28: 10 | C28: 42.54 | D28: 42.41 | E28: 42.69 | F28: 42.29 | G28: 42.8 | H28: 42.67
B29: 11 | C29: 42.51 | D29: 42.55 | E29: 42.6 | F29: 42.28 | G29: 42.93 | H29: 42.59
B30: 12 | C30: 43.57 | D30: 42.5 | E30: 42.73 | F30: 42.13 | G30: 42.82 | H30: 42.76
... B38: 20 | C38: 42.64 | D38: 43.35 | E38: 42.42 | F38: 42.21 | G38: 42.76 | H38: 42.63
B39: 21 | C39: 42.88 | E39: 42.41 | F39: 42.4 | G39: 42.6 | H39: 42.62
B40: 22 | C40: 43.7 | E40: 42.45 | F40: 42.7 | G40: 42.8 | H40: 42.6
B41: 23 | E41: 44.32 | F41: 42.33 | G41: 42.59 | H41: 42.63
B42: 24 | E42: 42.38 | F42: 42.36 | G42: 42.5 | H42: 42.85
B43: 25 | E43: 42.44 | F43: 42.15 | G43: 42.68 | H43: 42.79
B44: 26 | E44: 42.38 | F44: 42.44 | G44: 43.22 | H44: 42.78
B45: 27 | E45: 42.38 | F45: 42.26 | G45: 42.59 | H45: 42.64
B46: 28 | E46: 42.41 | G46: 42.67 | H46: 42.68
B47: 29 | E47: 42.56 | G47: 43.41 | H47: 42.66
B48: 30 | E48: 42.6 | H48: 42.49
B49: 31 | E49: 42.62 | H49: 42.48
B50: 32 | E50: 42.49 | F50: 42.31 | H50: 42.39
B51: 33 | E51: 42.46 | F51: 42.25 | H51: 42.42
...

Sheet Hurricane RT Ukraine
A2: Чемпионат мини марафон "Большие Гонки", 11-й этап
A4: Hurricane RT Ukraine
A6: Обяза-тельные | B6: Пилот | C6: карт | D6: Круг | E6: кругов на отрезке | F6: Статистика по кругам | J6: Общее время гонки | K6: Время на трассе
F7: Лучший круг | G7: Среднее на отрезке | H7: Кругов в 0,1 от лучшего | I7: стабильность | K7: отрезок | L7: всего у пилота | M7: Питы | N7: Штрафы/ бонусы (сек)
A8: 1 | B8: Стоцкий Андрей | C8: 44 | D8: =COUNTA(C19:C83) -> 36 | E8: =COUNTA(C19:C83) -> 36 | F8: =MIN(C19:C82) -> 42.45 | G8: =AVERAGE(C19:C85) -> 43.114444 | I8: =G8-F8 -> 0.66444444 | J8: 0.018066366 | K8: =J8 -> 0.018066366 | L8: =K8 -> 0.018066366 | M8: 2:17.02
A9: 2 | B9: Стоцкий Андрей | C9: 12 | D9: =COUNTA(D19:D83)+D8+1 -> 97 | E9: =COUNTA(D19:D83)+1 -> 61 | F9: =MIN(D19:D82) -> 41.89 | G9: =AVERAGE(D19:D84) -> 42.225167 | I9: =G9-F9 -> 0.33516667 | J9: 0.048971644 | K9: =J9-J8 -> 0.030905278 | L9: =K9+L8 -> 0.048971644 | M9: 2:09.16 | N9: -9 | O9: бонус
A10: 3 | B10: Голубченко Саша | C10: 17 | D10: =COUNTA(E19:E83)+D9+1+4 -> 153 | E10: =COUNTA(E19:E83)+1+4 -> 56 | F10: =MIN(E19:E84) -> 42.5 | G10: =AVERAGE(E19:E85) -> 42.84549 | I10: =G10-F10 -> 0.3454902 | J10: 0.077763611 | K10: =J10-J9 -> 0.028791968 | L10: =K10 -> 0.028791968 | M10: 3:07.71 | N10: +20 | O10: заезд под флагом
A11: 4 | B11: Стоцкий Андрей | C11: 33 | D11: =COUNTA(F19:F83)+D10+1 -> 190 | E11: =COUNTA(F19:F83)+1 -> 37 | F11: =MIN(F19:F84) -> 41.98 | G11: =AVERAGE(F19:F84) -> 42.261389 | I11: =G11-F11 -> 0.28138889 | J11: 0.097537512 | K11: =J11-J10 -> 0.0197739 | L11: =K11+L9 -> 0.068745544 | M11: 2:17.65
A12: 5 | B12: Голубченко Саша | C12: 3 | D12: =COUNTA(G19:G83)+D11+1 -> 222 | E12: =COUNTA(G19:G83)+1 -> 32 | F12: =MIN(G19:G84) -> 42.41 | G12: =AVERAGE(G19:G884) -> 42.648065 | I12: =G12-F12 -> 0.23806452 | J12: 0.11442597 | K12: =J12-J11 -> 0.016888461 | L12: =K12+L10 -> 0.045680428 | M12: 2:17.36
A13: Финиш | B13: Голубченко Саша | C13: 2 | D13: =COUNTA(H19:H83)+D12+1 -> 242 | E13: =COUNTA(H19:H83)+1 -> 20 | F13: =MIN(H19:H84) -> 42.2 | G13: =AVERAGE(H19:H84) -> 42.565263 | I13: =G13-F13 -> 0.36526316 | J13: ='Общие результаты'!G6 -> 3:00:12 | K13: =J13-J12 -> 0.010712917 | L13: =K13+L12 -> 0.056393345 | N13: +5 | O13: фишка 4 -й пит
F14: =AVERAGE(F8,F9,F11) -> 42.106667 | G14: =AVERAGE(G8,G9,G11) -> 42.533667 | H14: Андрей | I14: =AVERAGE(I8,I9,I11) -> 0.427
F15: =AVERAGE(F10,F12,F13) -> 42.37 | G15: =AVERAGE(G10,G12,G13) -> 42.686273 | H15: Саша | I15: =AVERAGE(I10,I12,I13) -> 0.31627262
F16: =AVERAGE(F8:F13) -> 42.238333 | G16: =AVERAGE(C19:H88) -> 42.58794 | I16: =AVERAGE(I8:I13) -> 0.37163631
C18: =B8 -> Стоцкий Андрей | D18: =B9 -> Стоцкий Андрей | E18: =B10 -> Голубченко Саша | F18: =B11 -> Стоцкий Андрей | G18: =B12 -> Голубченко Саша | H18: =B13 -> Голубченко Саша
B19: 1 | C19: 46.56 | D19: 42.6 | E19: 42.74 | F19: 42.57 | G19: 42.81 | H19: 42.68
B20: 2 | C20: 43.23 | D20: 42.38 | E20: 42.99 | F20: 42.6 | G20: 42.54 | H20: 42.76
B21: 3 | C21: 42.77 | D21: 42.34 | E21: 42.96 | F21: 42.42 | G21: 42.59 | H21: 42.45
B22: 4 | C22: 44.28 | D22: 42.36 | E22: 42.91 | F22: 42.22 | G22: 42.79 | H22: 42.76
B23: 5 | C23: 43.43 | D23: 42.77 | E23: 42.66 | F23: 42.11 | G23: 42.69 | H23: 42.65
B24: 6 | C24: 42.51 | D24: 42.17 | E24: 42.79 | F24: 42.06 | G24: 42.7 | H24: 42.45
B25: 7 | C25: 45.23 | D25: 41.99 | E25: 42.75 | F25: 42.49 | G25: 42.78 | H25: 42.64
B26: 8 | C26: 44.76 | D26: 42 | E26: 42.86 | F26: 42.7 | G26: 42.65 | H26: 42.37
B27: 9 | C27: 43.51 | D27: 42.38 | E27: 42.94 | F27: 42.08 | G27: 42.84 | H27: 42.77
B28: 10 | C28: 42.7 | D28: 42.26 | E28: 42.71 | F28: 42.11 | G28: 42.7 | H28: 42.5
B29: 11 | C29: 42.57 | D29: 42.37 | E29: 42.59 | F29: 42.3 | G29: 42.52 | H29: 42.55
B30: 12 | C30: 42.48 | D30: 42.14 | E30: 42.5 | F30: 42.28 | G30: 42.5 | H30: 42.5
... B37: 19 | C37: 42.72 | D37: 42.2 | E37: 42.95 | F37: 42.22 | G37: 42.58 | H37: 42.52
B38: 20 | C38: 42.67 | D38: 42.01 | E38: 42.57 | F38: 42.21 | G38: 42.87
B39: 21 | C39: 42.83 | D39: 42.4 | E39: 42.98 | F39: 42.05 | G39: 42.6
B40: 22 | C40: 43.24 | D40: 42.08 | E40: 42.95 | F40: 42.09 | G40: 42.46
B41: 23 | C41: 42.55 | D41: 42.04 | E41: 42.84 | F41: 42.24 | G41: 42.68
B42: 24 | C42: 42.72 | D42: 42.46 | E42: 42.63 | F42: 42.13 | G42: 42.63
B43: 25 | C43: 42.66 | D43: 42.02 | E43: 42.98 | F43: 42.03 | G43: 42.56
B44: 26 | C44: 43.36 | D44: 42.29 | E44: 43.29 | F44: 42.06 | G44: 42.65
B45: 27 | C45: 43.86 | D45: 42.27 | E45: 42.64 | F45: 42.02 | G45: 42.62
B46: 28 | C46: 42.74 | D46: 42.13 | F46: 43.07 | G46: 42.53
B47: 29 | C47: 42.8 | D47: 42.16 | F47: 42.26 | G47: 42.46
B48: 30 | C48: 42.68 | D48: 42.29 | F48: 42.09 | G48: 42.47
B49: 31 | C49: 42.68 | D49: 42.15 | F49: 42.3 | G49: 43.29
B50: 32 | C50: 42.81 | D50: 42.06 | E50: 42.77 | F50: 42.34
...

Sheet Ingul Kart Rt
A2: Чемпионат мини марафон "Большие Гонки", 11-й этап
A4: Ingul Kart Rt
A6: Обяза-тельные | B6: Пилот | C6: карт | D6: Круг | E6: кругов на отрезке | F6: Статистика по кругам | J6: Общее время гонки | K6: Время на трассе
F7: Лучший круг | G7: Среднее на отрезке | H7: Кругов в 0,1 от лучшего | I7: стабильность | K7: отрезок | L7: всего у пилота | M7: Питы | N7: Штрафы/ бонусы (сек)
A8: 1 | B8: Кублицкий Виктор | C8: 11 | D8: =COUNTA(C19:C83) -> 36 | E8: =COUNTA(C19:C83) -> 36 | F8: =MIN(C19:C82) -> 42.31 | G8: =AVERAGE(C19:C85) -> 42.617222 | I8: =G8-F8 -> 0.30722222 | J8: 0.017809583 | K8: =J8 -> 0.017809583 | L8: =K8 -> 0.017809583 | M8: 2:21.71 | O8: передержали на 3 сек, но заехали 4-ми на пит
A9: 2 | B9: Геронимус Макс | C9: 16 | D9: =COUNTA(D19:D83)+D8+1 -> 63 | E9: =COUNTA(D19:D83)+1 -> 27 | F9: =MIN(D19:D82) -> 42.41 | G9: =AVERAGE(D19:D84) -> 42.864615 | I9: =G9-F9 -> 0.45461538 | J9: 0.03234941 | K9: =J9-J8 -> 0.014539826 | L9: =K9 -> 0.014539826 | M9: 2:22.91 | O9: передержали на 5 сек
A10: 3 | B10: Кублицкий Виктор | C10: 9 | D10: =COUNTA(E19:E83)+D9+1 -> 83 | E10: =COUNTA(E19:E83)+1 -> 20 | F10: =MIN(E19:E84) -> 42.12 | G10: =AVERAGE(E19:E85) -> 42.425263 | I10: =G10-F10 -> 0.30526316 | J10: 0.043335231 | K10: =J10-J9 -> 0.010985822 | L10: =K10+L8 -> 0.028795405 | M10: 2:17.78
A11: 4 | B11: Геронимус Макс | C11: 44 | D11: =COUNTA(F19:F83)+D10+1+5 -> 137 | E11: =COUNTA(F19:F83)+1+5 -> 54 | F11: =MIN(F19:F84) -> 42.43 | G11: =AVERAGE(F19:F84) -> 42.898125 | I11: =G11-F11 -> 0.468125 | J11: 0.071245787 | K11: =J11-J10 -> 0.027910556 | L11: =K11+L9 -> 0.042450382 | M11: 2:17.80
A12: 5 | B12: Кублицкий Виктор | C12: 8 | D12: =COUNTA(G19:G83)+D11+1 -> 192 | E12: =COUNTA(G19:G83)+1 -> 55 | F12: =MIN(G19:G84) -> 42.12 | G12: =AVERAGE(G19:G884) -> 42.384815 | I12: =G12-F12 -> 0.26481481 | J12: 0.099337488 | K12: =J12-J11 -> 0.028091701 | L12: =K12+L10 -> 0.056887106 | M12: 2:50.23 | O12: пит 2 минуты
A13: Финиш | B13: Геронимус Макс | C13: 6 | D13: =COUNTA(H19:H83)+D12+1 -> 242 | E13: =COUNTA(H19:H83)+1 -> 50 | F13: =MIN(H19:H84) -> 42.39 | G13: =AVERAGE(H19:H84) -> 42.726327 | I13: =G13-F13 -> 0.33632653 | J13: ='Общие результаты'!G6 -> 3:00:12 | K13: =J13-J12 -> 0.0258014 | L13: =K13+L11 -> 0.068251782 | N13: -8 | O13: вернули за пит 1 и 2
F14: =AVERAGE(F8,F10,F12) -> 42.183333 | G14: =AVERAGE(G8,G10,G12) -> 42.475767 | H14: Виктор | I14: =AVERAGE(I8,I10,I12) -> 0.2924334
F15: =AVERAGE(F9,F11,F13) -> 42.41 | G15: =AVERAGE(G9,G11,G13) -> 42.829689 | H15: Макс | I15: =AVERAGE(I9,I11,I13) -> 0.41968897
F16: =AVERAGE(F8:F13) -> 42.296667 | G16: =AVERAGE(C19:H88) -> 42.656293 | I16: =AVERAGE(I8:I13) -> 0.35606119
C18: =B8 -> Кублицкий Виктор | D18: =B9 -> Геронимус Макс | E18: =B10 -> Кублицкий Виктор | F18: =B11 -> Геронимус Макс | G18: =B12 -> Кублицкий Виктор | H18: =B13 -> Геронимус Макс
B19: 1 | C19: 44.74 | D19: 42.9 | E19: 42.3 | F19: 42.98 | G19: 42.47 | H19: 42.86
B20: 2 | C20: 42.94 | D20: 42.81 | E20: 42.57 | F20: 43.38 | G20: 42.41 | H20: 42.76
B21: 3 | C21: 42.53 | D21: 42.73 | E21: 42.32 | F21: 42.55 | G21: 42.57 | H21: 43.2
B22: 4 | C22: 42.47 | D22: 42.61 | E22: 42.35 | F22: 42.54 | G22: 42.33 | H22: 42.82
B23: 5 | C23: 42.47 | D23: 42.66 | E23: 42.52 | F23: 42.85 | G23: 42.49 | H23: 42.53
B24: 6 | C24: 42.43 | D24: 42.66 | E24: 42.17 | F24: 42.73 | G24: 42.18 | H24: 42.45
B25: 7 | C25: 42.54 | D25: 44.73 | E25: 42.54 | F25: 42.57 | G25: 42.75 | H25: 42.42
B26: 8 | C26: 42.49 | D26: 42.94 | E26: 42.33 | F26: 44.29 | G26: 42.44 | H26: 42.47
B27: 9 | C27: 42.33 | D27: 42.7 | E27: 42.33 | F27: 43.4 | G27: 42.43 | H27: 44.32
B28: 10 | C28: 42.45 | D28: 42.7 | E28: 42.57 | F28: 43.1 | G28: 42.27 | H28: 42.74
B29: 11 | C29: 42.31 | D29: 42.51 | E29: 42.18 | F29: 42.57 | G29: 42.38 | H29: 42.52
B30: 12 | C30: 42.36 | D30: 43.53 | E30: 42.34 | F30: 42.88 | G30: 42.47 | H30: 42.93
... B37: 19 | C37: 42.35 | D37: 42.56 | E37: 43.82 | F37: 42.72 | G37: 42.42 | H37: 42.78
B38: 20 | C38: 42.95 | D38: 42.73 | F38: 42.67 | G38: 42.45 | H38: 42.53
B39: 21 | C39: 42.54 | D39: 42.56 | F39: 42.43 | G39: 42.33 | H39: 42.66
B40: 22 | C40: 42.41 | D40: 42.44 | F40: 42.64 | G40: 42.5 | H40: 42.74
B41: 23 | C41: 42.43 | D41: 42.79 | F41: 42.74 | G41: 42.39 | H41: 42.63
B42: 24 | C42: 42.4 | D42: 42.57 | F42: 42.67 | G42: 42.38 | H42: 42.61
B43: 25 | C43: 42.44 | D43: 42.56 | F43: 43.47 | G43: 42.15 | H43: 42.54
B44: 26 | C44: 42.59 | D44: 44.59 | F44: 42.91 | G44: 42.12 | H44: 42.47
B45: 27 | C45: 42.54 | F45: 42.6 | G45: 42.38 | H45: 42.92
B46: 28 | C46: 42.34 | F46: 42.62 | G46: 42.44 | H46: 42.84
B47: 29 | C47: 42.45 | F47: 42.45 | G47: 42.45 | H47: 42.9
B48: 30 | C48: 42.6 | F48: 42.68 | G48: 42.14 | H48: 42.74
B49: 31 | C49: 42.52 | F49: 42.75 | G49: 42.12 | H49: 42.54
B50: 32 | C50: 42.71 | F50: 42.78 | G50: 42.36 | H50: 42.64
...

Sheet Mst
A2: Чемпионат мини марафон "Большие Гонки", 11-й этап
A4: Mst
A6: Обяза-тельные | B6: Пилот | C6: карт | D6: Круг | E6: кругов на отрезке | F6: Статистика по кругам | J6: Общее время гонки | K6: Время на трассе
F7: Лучший круг | G7: Среднее на отрезке | H7: Кругов в 0,1 от лучшего | I7: стабильность | K7: отрезок | L7: всего у пилота | M7: Питы | N7: Штрафы/ бонусы (сек)
A8: 1 | B8: Шутка Виталий | C8: 3 | D8: =COUNTA(C19:C83) -> 38 | E8: =COUNTA(C19:C83) -> 38 | F8: =MIN(C19:C82) -> 42.43 | G8: =AVERAGE(C19:C85) -> 43.044737 | I8: =G8-F8 -> 0.61473684 | J8: 0.019032512 | K8: =J8 -> 0.019032512 | L8: =K8 -> 0.019032512 | M8: 2:18.75
A9: 2 | B9: Петушков Андрей | C9: 21 | D9: =COUNTA(D19:D83)+D8+1 -> 97 | E9: =COUNTA(D19:D83)+1 -> 59 | F9: =MIN(D19:D82) -> 42.26 | G9: =AVERAGE(D19:D84) -> 42.601897 | I9: =G9-F9 -> 0.34189655 | J9: 0.049239595 | K9: =J9-J8 -> 0.030207083 | L9: =K9 -> 0.030207083 | M9: 2:22:15 | O9: +5 сек передержали
A10: 3 | B10: Шутка Виталий | C10: 16 | D10: =COUNTA(E19:E83)+D9+1+5 -> 140 | E10: =COUNTA(E19:E83)+1+4 -> 42 | F10: =MIN(E19:E84) -> 42.53 | G10: =AVERAGE(E19:E85) -> 43.028378 | I10: =G10-F10 -> 0.49837838 | J10: 0.071298877 | K10: =J10-J9 -> 0.022059282 | L10: =K10+L8 -> 0.041091794 | M10: 2:19.15
A11: 4 | B11: Петушков Андрей | C11: 11 | D11: =COUNTA(F19:F83)+D10+1 -> 160 | E11: =COUNTA(F19:F83)+1 -> 20 | F11: =MIN(F19:F84) -> 42.36 | G11: =AVERAGE(F19:F84) -> 42.601053 | I11: =G11-F11 -> 0.24105263 | J11: 0.082268611 | K11: =J11-J10 -> 0.010969734 | L11: =K11+L9 -> 0.041176817 | M11: 2:47.51 | O11: Пит стоп 2 минуты
A12: 5 | B12: Петушков Андрей | C12: 13 | D12: =COUNTA(G19:G83)+D11+1 -> 204 | E12: =COUNTA(G19:G83)+1 -> 44 | F12: =MIN(G19:G84) -> 42 | G12: =AVERAGE(G19:G884) -> 42.257907 | I12: =G12-F12 -> 0.25790698 | J12: 0.10522836 | K12: =J12-J11 -> 0.022959745 | L12: =K12+L11 -> 0.064136563 | M12: 2:22.01 | N12: +5 | O12: сбили фишку
A13: Финиш | B13: Шутка Виталий | C13: 9 | D13: =COUNTA(H19:H83)+D12+1 -> 242 | E13: =COUNTA(H19:H83)+1 -> 38 | F13: =MIN(H19:H84) -> 42.32 | G13: =AVERAGE(H19:H84) -> 42.703784 | I13: =G13-F13 -> 0.38378378 | J13: ='Общие результаты'!G6 -> 3:00:12 | K13: =J13-J12 -> 0.019910532 | L13: =K13+L10 -> 0.061002326 | N13: -5 | O13: компенсация за пит 2
F14: =AVERAGE(F8,F10,F13) -> 42.426667 | G14: =AVERAGE(G8,G10,G13) -> 42.925633 | H14: Виталий | I14: =AVERAGE(I8,I10,I13) -> 0.49896633
F15: =AVERAGE(F9,F11,F12) -> 42.206667 | G15: =AVERAGE(G9,G11,G12) -> 42.486952 | H15: Андрей | I15: =AVERAGE(I9,I11,I12) -> 0.28028539
F16: =AVERAGE(F8:F13) -> 42.316667 | G16: =AVERAGE(C19:H88) -> 42.694871 | I16: =AVERAGE(I8:I13) -> 0.38962586
C18: =B8 -> Шутка Виталий | D18: =B9 -> Петушков Андрей | E18: =B10 -> Шутка Виталий | F18: =B11 -> Петушков Андрей | G18: =B12 -> Петушков Андрей | H18: =B13 -> Шутка Виталий
B19: 1 | C19: 45.33 | D19: 42.62 | E19: 45.19 | F19: 42.91 | G19: 42.5 | H19: 42.74
B20: 2 | C20: 43.36 | D20: 42.7 | E20: 44.67 | F20: 42.79 | G20: 42.4 | H20: 42.67
B21: 3 | C21: 42.79 | D21: 42.38 | E21: 43.1 | F21: 42.62 | G21: 42.13 | H21: 42.6
B22: 4 | C22: 44.05 | D22: 42.65 | E22: 43.36 | F22: 42.42 | G22: 42.2 | H22: 42.53
B23: 5 | C23: 43.88 | D23: 42.41 | E23: 43.12 | F23: 42.66 | G23: 42.24 | H23: 42.47
B24: 6 | C24: 42.6 | D24: 42.62 | E24: 42.94 | F24: 42.56 | G24: 42.17 | H24: 42.53
B25: 7 | C25: 44.96 | D25: 42.53 | E25: 42.91 | F25: 42.6 | G25: 42.36 | H25: 42.7
B26: 8 | C26: 42.96 | D26: 42.51 | E26: 42.6 | F26: 42.66 | G26: 42.09 | H26: 42.5
B27: 9 | C27: 42.87 | D27: 42.67 | E27: 42.77 | F27: 42.74 | G27: 42.13 | H27: 42.58
B28: 10 | C28: 42.54 | D28: 42.59 | E28: 42.84 | F28: 42.57 | G28: 42.23 | H28: 42.38
B29: 11 | C29: 42.44 | D29: 42.68 | E29: 42.78 | F29: 42.63 | G29: 42.2 | H29: 42.59
B30: 12 | C30: 42.54 | D30: 42.57 | E30: 42.75 | F30: 42.38 | G30: 42.25 | H30: 42.68
... B37: 19 | C37: 42.6 | D37: 42.77 | E37: 42.66 | F37: 43.01 | G37: 42.04 | H37: 43.03
B38: 20 | C38: 42.78 | D38: 42.66 | E38: 42.9 | G38: 42.14 | H38: 43.17
B39: 21 | C39: 42.7 | D39: 42.54 | E39: 42.7 | G39: 42 | H39: 42.98
B40: 22 | C40: 42.78 | D40: 42.26 | E40: 42.67 | G40: 42.25 | H40: 42.57
B41: 23 | C41: 43.15 | D41: 42.65 | E41: 42.74 | G41: 42.4 | H41: 42.54
B42: 24 | C42: 42.63 | D42: 42.53 | E42: 43.32 | G42: 42.16 | H42: 42.77
B43: 25 | C43: 42.77 | D43: 42.42 | E43: 43.33 | G43: 42.3 | H43: 42.52
B44: 26 | C44: 42.82 | D44: 42.57 | E44: 42.53 | G44: 42.2 | H44: 42.5
B45: 27 | C45: 42.78 | D45: 42.72 | G45: 42.07 | H45: 42.56
B46: 28 | C46: 42.71 | D46: 42.59 | G46: 42.21 | H46: 42.46
B47: 29 | C47: 43.24 | D47: 42.63 | G47: 42.43 | H47: 42.54
B48: 30 | C48: 42.68 | D48: 42.74 | G48: 42.21 | H48: 42.58
B49: 31 | C49: 42.75 | D49: 42.8 | E49: 42.87 | G49: 42.14 | H49: 42.32
B50: 32 | C50: 43.02 | D50: 42.52 | E50: 43.07 | G50: 42.39 | H50: 42.74
...

Sheet E-k Motorsport
A2: Чемпионат мини марафон "Большие Гонки", 11-й этап
A4: E-k Motorsport
A6: Обяза-тельные | B6: Пилот | C6: карт | D6: Круг | E6: кругов на отрезке | F6: Статистика по кругам | J6: Общее время гонки | K6: Время на трассе
F7: Лучший круг | G7: Среднее на отрезке | H7: Кругов в 0,1 от лучшего | I7: стабильность | K7: отрезок | L7: всего у пилота | M7: Питы | N7: Штрафы/ бонусы (сек)
A8: 1 | B8: Шиленко Саша | C8: 9 | D8: =COUNTA(C19:C83) -> 35 | E8: =COUNTA(C19:C83) -> 35 | F8: =MIN(C19:C82) -> 41.97 | G8: =AVERAGE(C19:C85) -> 42.928857 | I8: =G8-F8 -> 0.95885714 | J8: 0.017485972 | K8: =J8 -> 0.017485972 | L8: =K8 -> 0.017485972 | M8: 2:18.56
A9: 2 | B9: Коруз Вадим | C9: 7 | D9: =COUNTA(D19:D83)+D8+1 -> 79 | E9: =COUNTA(D19:D83)+1 -> 44 | F9: =MIN(D19:D82) -> 42.37 | G9: =AVERAGE(D19:D84) -> 42.789302 | I9: =G9-F9 -> 0.41930233 | J9: 0.040392512 | K9: =J9-J8 -> 0.022906539 | L9: =K9 -> 0.022906539 | M9: 2:18.13
A10: 3 | B10: Шиленко Саша | C10: 2 | D10: =COUNTA(E19:E83)+D9+1+5 -> 137 | E10: =COUNTA(E19:E83)+1+4 -> 57 | F10: =MIN(E19:E84) -> 42.28 | G10: =AVERAGE(E19:E85) -> 42.551154 | I10: =G10-F10 -> 0.27115385 | J10: 0.070061019 | K10: =J10-J9 -> 0.029668507 | L10: =K10+L8 -> 0.047154479 | M10: 2:19.52
A11: 4 | B11: Коруз Вадим | C11: 7 | D11: =COUNTA(F19:F83)+D10+1 -> 194 | E11: =COUNTA(F19:F83)+1 -> 57 | F11: =MIN(F19:F84) -> 42.32 | G11: =AVERAGE(F19:F84) -> 42.687321 | I11: =G11-F11 -> 0.36732143 | J11: 0.099372025 | K11: =J11-J10 -> 0.029311007 | L11: =K11+L9 -> 0.052217546 | M11: 2:47.53 | O11: пит 2 минуты
A12: 5 | B12: Шиленко Саша | C12: 33 | D12: =COUNTA(G19:G83)+D11+1 -> 215 | E12: =COUNTA(G19:G83)+1 -> 21 | F12: =MIN(G19:G84) -> 42.31 | G12: =AVERAGE(G19:G884) -> 42.8705 | I12: =G12-F12 -> 0.5605 | J12: 0.11121103 | K12: =J12-J11 -> 0.011839005 | L12: =K12+L10 -> 0.058993484 | M12: 2:18.82
A13: Финиш | B13: Коруз Вадим | C13: 10 | D13: =COUNTA(H19:H83)+D12+1+1 -> 242 | E13: =COUNTA(H19:H83)+1 -> 26 | F13: =MIN(H19:H84) -> 42.34 | G13: =AVERAGE(H19:H84) -> 42.622 | I13: =G13-F13 -> 0.282 | J13: ='Общие результаты'!G6 -> 3:00:12 | K13: =J13-J12 -> 0.013927859 | L13: =K13+L11 -> 0.066145405 | N13: +5 | O13: от судьи против 1
F14: =AVERAGE(F8,F10,F12) -> 42.186667 | G14: =AVERAGE(G8,G10,G12) -> 42.783504 | H14: Саша | I14: =AVERAGE(I8,I10,I12) -> 0.596837
F15: =AVERAGE(F9,F11,F13) -> 42.343333 | G15: =AVERAGE(G9,G11,G13) -> 42.699541 | H15: Вадим | I15: =AVERAGE(I9,I11,I13) -> 0.35620792
F16: =AVERAGE(F8:F13) -> 42.265 | G16: =AVERAGE(C19:H88) -> 42.721039 | I16: =AVERAGE(I8:I13) -> 0.47652246
C18: =B8 -> Шиленко Саша | D18: =B9 -> Коруз Вадим | E18: =B10 -> Шиленко Саша | F18: =B11 -> Коруз Вадим | G18: =B12 -> Шиленко Саша | H18: =B13 -> Коруз Вадим
B19: 1 | C19: 47.26 | D19: 43.07 | E19: 42.57 | F19: 42.9 | G19: 43.09 | H19: 42.53
B20: 2 | C20: 56.25 | D20: 42.97 | E20: 42.53 | F20: 42.82 | G20: 42.61 | H20: 42.49
B21: 3 | C21: 42.84 | D21: 42.76 | E21: 42.67 | F21: 43.24 | G21: 43.93 | H21: 44.55
B22: 4 | C22: 42.38 | D22: 43.38 | E22: 42.37 | F22: 42.67 | G22: 43.29 | H22: 42.39
B23: 5 | C23: 42.38 | D23: 42.85 | E23: 42.51 | F23: 42.67 | G23: 42.58 | H23: 42.36
B24: 6 | C24: 42.2 | D24: 42.88 | E24: 42.4 | F24: 42.58 | G24: 42.32 | H24: 42.53
B25: 7 | C25: 42.3 | D25: 43.6 | E25: 42.54 | F25: 42.71 | G25: 42.48 | H25: 42.36
B26: 8 | C26: 42.19 | D26: 42.53 | E26: 42.67 | F26: 42.72 | G26: 42.36 | H26: 43.29
B27: 9 | C27: 42.72 | D27: 42.58 | E27: 42.42 | F27: 42.63 | G27: 44.49 | H27: 42.65
B28: 10 | C28: 42.15 | D28: 43.19 | E28: 42.28 | F28: 43.03 | G28: 42.74 | H28: 42.84
B29: 11 | C29: 41.97 | D29: 42.66 | E29: 42.32 | F29: 42.74 | G29: 42.31 | H29: 42.56
B30: 12 | C30: 42.5 | D30: 42.72 | E30: 42.44 | F30: 42.71 | G30: 42.49 | H30: 42.34
... B38: 20 | C38: 42.32 | D38: 43.09 | E38: 42.63 | F38: 42.57 | G38: 45.02 | H38: 42.62
B39: 21 | C39: 42.26 | D39: 42.8 | E39: 42.52 | F39: 42.43 | H39: 42.37
B40: 22 | C40: 42.54 | D40: 43.48 | E40: 42.54 | F40: 42.43 | H40: 42.35
B41: 23 | C41: 42.21 | D41: 42.72 | E41: 42.68 | F41: 42.55 | H41: 42.5
B42: 24 | C42: 42.74 | D42: 42.69 | E42: 42.37 | F42: 42.49 | H42: 42.38
B43: 25 | C43: 42.26 | D43: 42.37 | E43: 42.5 | F43: 42.53 | H43: 42.35
B44: 26 | C44: 42.68 | D44: 42.64 | E44: 42.65 | F44: 42.65
B45: 27 | C45: 42.42 | D45: 42.57 | E45: 42.48 | F45: 43.22
B46: 28 | C46: 42.05 | D46: 42.42 | E46: 42.32 | F46: 42.42
B47: 29 | C47: 42.37 | D47: 42.83 | E47: 42.48 | F47: 42.86
B48: 30 | C48: 42.08 | D48: 42.68 | E48: 42.63 | F48: 42.6
B49: 31 | C49: 42.27 | D49: 42.58 | E49: 43.2 | F49: 42.49
B50: 32 | C50: 42.2 | D50: 42.44 | E50: 42.74 | F50: 42.32
B51: 33 | C51: 42.34 | D51: 42.75 | E51: 42.46 | F51: 42.65
...

Sheet Nfs Kyiv Legends
A2: Чемпионат мини марафон "Большие Гонки", 11-й этап
A4: Nfs Kyiv Legends
A6: Обяза-тельные | B6: Пилот | C6: карт | D6: Круг | E6: кругов на отрезке | F6: Статистика по кругам | J6: Общее время гонки | K6: Время на трассе
