Workbook

Sheet Общие результаты
A1: Серия мини марафонов "Большие Гонки 2019", 11-й этап, 07.09.19
A2: Конфигурация №4
A4: Место в гонке | B4: Команда | C4: № в гонке | D4: Квала | F4: Гонка | I4: Лучший круг в гонке
D5: Время | E5: Место | F5: Круги | G5: Время/от лидера | H5: От места выше | I5: Время | J5: На круге
A6: 1 | B6: Kart Freedom | C6: 6 | D6: 42.225 | E6: 5 | F6: 243 | G6: 3:00:12 | H6: --- | I6: 41.99
A7: 2 | B7: NFS Kozaks | C7: 18 | D7: 42.0545 | E7: 1 | F7: 242 | G7: 1 круг | H7: 48 | I7: 41.97
A8: 3 | B8: Vpered ta vgory | C8: 13 | D8: 42.144 | E8: 2 | F8: 242 | G8: 1 круг | H8: 12.48 | I8: 42.13
A9: 4 | B9: Hurricane Racing | C9: 16 | D9: 42.6635 | E9: 16 | F9: 242 | G9: 1 круг | H9: 2 | I9: 41.89
A10: 5 | B10: Ingulkart RT | C10: 7 | D10: 42.172 | E10: 3 | F10: 242 | G10: 1 круг | H10: 1 | I10: 42.12
A11: 6 | B11: MST | C11: 1 | D11: 42.6815 | E11: 17 | F11: 242 | G11: 1 круг | H11: 15 | I11: 42
A12: 7 | B12: E-k Motorsport | C12: 5 | D12: 42.628 | E12: 14 | F12: 242 | G12: 1 круг | H12: 3 | I12: 41.97
A13: 8 | B13: NFS Kyiv Legengs | C13: 2 | D13: 42.2225 | E13: 4 | F13: 242 | G13: 1 круга | H13: 3 | I13: 42.08
A14: 9 | B14: NSJ | C14: 15 | D14: 42.641 | E14: 15 | F14: 241 | G14: 2 круга | H14: 3 | I14: 41.93
A15: 10 | B15: G.A.T | C15: 10 | D15: 42.4495 | E15: 9 | F15: 241 | G15: 2 круга | H15: 28 | I15: 42.14
A16: 11 | B16: K44 | C16: 3 | D16: 42.392 | E16: 7 | F16: 240 | G16: 3 круга | H16: 12 | I16: 42.1
A17: 12 | B17: Flash | C17: 12 | D17: 42.237 | E17: 6 | F17: 240 | G17: 3 круга | H17: 6.5 | I17: 42.05
A18: 13 | B18: F1UA | C18: 17 | D18: 42.555 | E18: 11 | F18: 240 | G18: 3 круга | H18: 17.5 | I18: 42.09
... A22: 17 | B22: 50 gramms | C22: 9 | D22: 42.447 | E22: 8 | F22: 238 | G22: 5 кругов | H22: 34 | I22: 42.04
A23: 18 | B23: Petrovich | C23: 11 | D23: 42.8565 | E23: 18 | F23: 235 | G23: 8 кругов | H23: 3 круга | I23: 42.93

Sheet Регистрация
A1: Серия мини марафонов "Большие Гонки 2019", 11-й этап, 07.09.19
A3: Регистрационная форма
AF4: 4ч
A5: № в гонке | B5: Команда | C5: Пилот | D5: № | E5: Вес | F5: Бонус | G5: Квалификация | Z5: 3ч | AJ5: 2 ел | AL5: 3чел
G6: карт | H6: Время | I6: бонус | J6: Итого | K6: Среднее | L6: Место | M6: 3 | N6: бонусы за вес | Z6: 2 | AA6: 1 | AB6: кол | AC6: бон | AD6: 1 | AE6: 2 | AF6: бон | AG6: уч | AH6: 2 уч | AI6: 3 уч | AJ6: 1из2 | AK6: 2из2/3v3 | AL6: 1из3 | AM6: 2из3
A7: 1 | B7: MST | C7: Петушков Андрей | D7: 1-1 | E7: 79.2 | F7: =IF(M6=3,AC7,AF7) -> 0 | G7: 16 | H7: 42.47 | I7: =IF(E7<84.9,0,IF(E7<87.4,0.1,IF(E7<89.9,0.15,IF(E7<92.4,0.2,IF(E7<94.9,0.25,IF(E7<97.4,0.3,IF(E7<99.9,0.35,0.4))))))) -> 0 | J7: =H7-I7 -> 42.47 | K7: =AVERAGE(J7:J8) -> 42.6815 | L7: =RANK(K7,K7:K63,1) -> 17 | M7: кв | N7: 0.05 | O7: 0.1 | P7: 0.15 | Q7: 0.2 | R7: 0.25 | S7: 0.3 | T7: 0.35 | U7: =N7*8 -> 0.4 | Z7: =AVERAGE(E7:E9) -> 81.55 | AA7: =IF(E7>84.9,E7,E8) -> 83.9 | AB7: =COUNTIF(E7:E9,">84.9") -> 0 | AC7: =IF(AB7=1,AD7,AE7) -> 0 | AD7: =IF(AA7<84.9,0,IF(AA7<87.4,9,IF(AA7<89.9,13.5,IF(AA7<92.4,18,IF(AA7<94.9,22.5,IF(AA7<97.4,27,IF(AA7<99.9,31.5,36))))))) -> 0 | AE7: =IF(Z7<84.9,0,IF(Z7<87.4,18,IF(Z7<89.9,27,IF(Z7<92.4,36,IF(Z7<94.9,45,IF(Z7<97.4,54,IF(Z7<99.9,63,72))))))) -> 0 | AF7: =IF(AG7=2,AH7,AI7) -> 0 | AG7: =COUNTIF(E7:E9,">1") -> 2 | AH7: =IF(AB7=1,AJ7,AK7) -> 0 | AI7: =IF(AB7=1,AL7,IF(AB7=2,AM7,AK7)) -> 0 | AJ7: =IF(AA7<84.9,0,IF(AA7<87.4,12,IF(AA7<89.9,18,IF(AA7<92.4,24,IF(AA7<94.9,30,IF(AA7<97.4,36,IF(AA7<99.9,42,48))))))) -> 0 | AK7: =IF(AA7<84.9,0,IF(AA7<87.4,24,IF(AA7<89.9,36,IF(AA7<92.4,48,IF(AA7<94.9,60,IF(AA7<97.4,72,IF(AA7<99.9,84,96))))))) -> 0 | AL7: =IF(AA7<84.9,0,IF(AA7<87.4,8,IF(AA7<89.9,12,IF(AA7<92.4,16,IF(AA7<94.9,20,IF(AA7<97.4,24,IF(AA7<99.9,28,32))))))) -> 0 | AM7: =IF(AO7<84.9,0,IF(AO7<87.4,16,IF(AO7<89.9,24,IF(AO7<92.4,32,IF(AO7<94.9,40,IF(AO7<97.4,48,IF(AO7<99.9,56,64))))))) -> 0 | AO7: =(SUM(E7:E9)-MIN(E7:E9))/2 -> 41.95
C8: Шутка Виталий | D8: 1-2 | E8: 83.9 | G8: 1 | H8: 42.893 | I8: =IF(E8<84.9,0,IF(E8<87.4,0.1,IF(E8<89.9,0.15,IF(E8<92.4,0.2,IF(E8<94.9,0.25,IF(E8<97.4,0.3,IF(E8<99.9,0.35,0.4))))))) -> 0 | J8: =H8-I8 -> 42.893 | M8: 3 часа | N8: =1.5*3 -> 4.5 | O8: =1.5*3*2 -> 9 | P8: =1.5*3*3 -> 13.5 | Q8: =1.5*3*4 -> 18 | R8: =1.5*3*5 -> 22.5 | S8: =1.5*3*6 -> 27 | T8: =1.5*3*7 -> 31.5 | U8: =1.5*3*8 -> 36 | V8: 1 пилот
D9: 1-3 | I9: =IF(E9<84.9,0,IF(E9<87.4,0.1,IF(E9<89.9,0.15,IF(E9<92.4,0.2,IF(E9<94.9,0.25,IF(E9<97.4,0.3,IF(E9<99.9,0.35,0.4))))))) -> 0 | J9: =H9-I9 -> 0 | N9: =3*3 -> 9 | O9: =3*3*2 -> 18 | P9: =3*3*3 -> 27 | Q9: =3*3*4 -> 36 | R9: =3*3*5 -> 45 | S9: =3*3*6 -> 54 | T9: =3*3*7 -> 63 | U9: =3*3*8 -> 72 | V9: 2 пилота
A10: 2 | B10: NFS kiev Legengs | C10: Ткаченко Кирилл | D10: 2-1 | E10: 75.6 | F10: =IF(M6=3,AC10,AF10) -> 0 | G10: 3 | H10: 41.958 | I10: =IF(E10<84.9,0,IF(E10<87.4,0.1,IF(E10<89.9,0.15,IF(E10<92.4,0.2,IF(E10<94.9,0.25,IF(E10<97.4,0.3,IF(E10<99.9,0.35,0.4))))))) -> 0 | J10: =H10-I10 -> 41.958 | K10: =AVERAGE(J10:J11) -> 42.2225 | L10: =RANK(K10,K7:K63,1) -> 4 | M10: вес | N10: 82.5 | O10: 85 | P10: 87.5 | Q10: 90 | R10: 92.5 | S10: 95 | T10: 97.5 | U10: 100 | Z10: =AVERAGE(E10:E12) -> 74.3 | AA10: =IF(E10>84.9,E10,E11) -> 73 | AB10: =COUNTIF(E10:E12,">84.9") -> 0 | AC10: =IF(AB10=1,AD10,AE10) -> 0 | AD10: =IF(AA10<84.9,0,IF(AA10<87.4,9,IF(AA10<89.9,13.5,IF(AA10<92.4,18,IF(AA10<94.9,22.5,IF(AA10<97.4,27,IF(AA10<99.9,31.5,36))))))) -> 0 | AE10: =IF(Z10<84.9,0,IF(Z10<87.4,18,IF(Z10<89.9,27,IF(Z10<92.4,36,IF(Z10<94.9,45,IF(Z10<97.4,54,IF(Z10<99.9,63,72))))))) -> 0 | AF10: =IF(AG10=2,AH10,AI10) -> 0 | AG10: =COUNTIF(E10:E12,">1") -> 2 | AH10: =IF(AB10=1,AJ10,AK10) -> 0 | AI10: =IF(AB10=1,AL10,IF(AB10=2,AM10,AK10)) -> 0 | AJ10: =IF(AA10<84.9,0,IF(AA10<87.4,12,IF(AA10<89.9,18,IF(AA10<92.4,24,IF(AA10<94.9,30,IF(AA10<97.4,36,IF(AA10<99.9,42,48))))))) -> 0 | AK10: =IF(AA10<84.9,0,IF(AA10<87.4,24,IF(AA10<89.9,36,IF(AA10<92.4,48,IF(AA10<94.9,60,IF(AA10<97.4,72,IF(AA10<99.9,84,96))))))) -> 0 | AL10: =IF(AA10<84.9,0,IF(AA10<87.4,8,IF(AA10<89.9,12,IF(AA10<92.4,16,IF(AA10<94.9,20,IF(AA10<97.4,24,IF(AA10<99.9,28,32))))))) -> 0 | AM10: =IF(AO10<84.9,0,IF(AO10<87.4,16,IF(AO10<89.9,24,IF(AO10<92.4,32,IF(AO10<94.9,40,IF(AO10<97.4,48,IF(AO10<99.9,56,64))))))) -> 0 | AO10: =(SUM(E10:E12)-MIN(E10:E12))/2 -> 37.8
C11: Резанко Оля | D11: 2-2 | E11: 73 | G11: 16 | H11: 42.487 | I11: =IF(E11<84.9,0,IF(E11<87.4,0.1,IF(E11<89.9,0.15,IF(E11<92.4,0.2,IF(E11<94.9,0.25,IF(E11<97.4,0.3,IF(E11<99.9,0.35,0.4))))))) -> 0 | J11: =H11-I11 -> 42.487 | M11: 4 часа | N11: =1.5*4 -> 6 | O11: =1.5*4*2 -> 12 | P11: =1.5*4*3 -> 18 | Q11: =1.5*4*4 -> 24 | R11: =1.5*4*5 -> 30 | S11: =1.5*4*6 -> 36 | T11: =1.5*4*7 -> 42 | U11: =1.5*4*8 -> 48 | V11: 1 пилот | W11: 2 участника в команде
D12: 2-3 | I12: =IF(E12<84.9,0,IF(E12<87.4,0.1,IF(E12<89.9,0.15,IF(E12<92.4,0.2,IF(E12<94.9,0.25,IF(E12<97.4,0.3,IF(E12<99.9,0.35,0.4))))))) -> 0 | J12: =H12-I12 -> 0 | N12: =3*4 -> 12 | O12: =3*4*2 -> 24 | P12: =3*4*3 -> 36 | Q12: =3*4*4 -> 48 | R12: =3*4*5 -> 60 | S12: =3*4*6 -> 72 | T12: =3*4*7 -> 84 | U12: =3*4*8 -> 96 | V12: 2 пилота
A13: 3 | B13: K44 | C13: Шендрик Влад | D13: 3-1 | E13: 63.3 | F13: =IF(M6=3,AC13,AF13) -> 0 | G13: 3 | H13: 42.244 | I13: =IF(E13<84.9,0,IF(E13<87.4,0.1,IF(E13<89.9,0.15,IF(E13<92.4,0.2,IF(E13<94.9,0.25,IF(E13<97.4,0.3,IF(E13<99.9,0.35,0.4))))))) -> 0 | J13: =H13-I13 -> 42.244 | K13: =AVERAGE(J13:J14) -> 42.392 | L13: =RANK(K13,K7:K63,1) -> 7 | N13: =1*4 -> 4 | O13: =1*4*2 -> 8 | P13: =1*4*3 -> 12 | Q13: =1*4*4 -> 16 | R13: =1*4*5 -> 20 | S13: =1*4*6 -> 24 | T13: =1*4*7 -> 28 | U13: =1*4*8 -> 32 | V13: 1 пилот | W13: 3 участника в команде | Z13: =AVERAGE(E13:E15) -> 66.8 | AA13: =IF(E13>84.9,E13,E14) -> 70.3 | AB13: =COUNTIF(E13:E15,">84.9") -> 0 | AC13: =IF(AB13=1,AD13,AE13) -> 0 | AD13: =IF(AA13<84.9,0,IF(AA13<87.4,9,IF(AA13<89.9,13.5,IF(AA13<92.4,18,IF(AA13<94.9,22.5,IF(AA13<97.4,27,IF(AA13<99.9,31.5,36))))))) -> 0 | AE13: =IF(Z13<84.9,0,IF(Z13<87.4,18,IF(Z13<89.9,27,IF(Z13<92.4,36,IF(Z13<94.9,45,IF(Z13<97.4,54,IF(Z13<99.9,63,72))))))) -> 0 | AF13: =IF(AG13=2,AH13,AI13) -> 0 | AG13: =COUNTIF(E13:E15,">1") -> 2 | AH13: =IF(AB13=1,AJ13,AK13) -> 0 | AI13: =IF(AB13=1,AL13,IF(AB13=2,AM13,AK13)) -> 0 | AJ13: =IF(AA13<84.9,0,IF(AA13<87.4,12,IF(AA13<89.9,18,IF(AA13<92.4,24,IF(AA13<94.9,30,IF(AA13<97.4,36,IF(AA13<99.9,42,48))))))) -> 0 | AK13: =IF(AA13<84.9,0,IF(AA13<87.4,24,IF(AA13<89.9,36,IF(AA13<92.4,48,IF(AA13<94.9,60,IF(AA13<97.4,72,IF(AA13<99.9,84,96))))))) -> 0 | AL13: =IF(AA13<84.9,0,IF(AA13<87.4,8,IF(AA13<89.9,12,IF(AA13<92.4,16,IF(AA13<94.9,20,IF(AA13<97.4,24,IF(AA13<99.9,28,32))))))) -> 0 | AM13: =IF(AO13<84.9,0,IF(AO13<87.4,16,IF(AO13<89.9,24,IF(AO13<92.4,32,IF(AO13<94.9,40,IF(AO13<97.4,48,IF(AO13<99.9,56,64))))))) -> 0 | AO13: =(SUM(E13:E15)-MIN(E13:E15))/2 -> 35.15
C14: Гаврилюк Олег | D14: 3-2 | E14: 70.3 | G14: 4 | H14: 42.54 | I14: =IF(E14<84.9,0,IF(E14<87.4,0.1,IF(E14<89.9,0.15,IF(E14<92.4,0.2,IF(E14<94.9,0.25,IF(E14<97.4,0.3,IF(E14<99.9,0.35,0.4))))))) -> 0 | J14: =H14-I14 -> 42.54 | N14: =2*4 -> 8 | O14: =2*4*2 -> 16 | P14: =2*4*3 -> 24 | Q14: =2*4*4 -> 32 | R14: =2*4*5 -> 40 | S14: =2*4*6 -> 48 | T14: =2*4*7 -> 56 | U14: =2*4*8 -> 64 | V14: 2 пилота
D15: 3-3 | I15: =IF(E15<84.9,0,IF(E15<87.4,0.1,IF(E15<89.9,0.15,IF(E15<92.4,0.2,IF(E15<94.9,0.25,IF(E15<97.4,0.3,IF(E15<99.9,0.35,0.4))))))) -> 0 | J15: =H15-I15 -> 0 | N15: =3*4 -> 12 | O15: =3*4*2 -> 24 | P15: =3*4*3 -> 36 | Q15: =3*4*4 -> 48 | R15: =3*4*5 -> 60 | S15: =3*4*6 -> 72 | T15: =3*4*7 -> 84 | U15: =3*4*8 -> 96 | V15: 3 пилота
A16: 4 | B16: Bizol | C16: Гладышев Степан | D16: 4-1 | E16: 84.3 | F16: =IF(M6=3,AC16,AF16) -> 0 | G16: 4 | H16: 42.561 | I16: =IF(E16<84.9,0,IF(E16<87.4,0.1,IF(E16<89.9,0.15,IF(E16<92.4,0.2,IF(E16<94.9,0.25,IF(E16<97.4,0.3,IF(E16<99.9,0.35,0.4))))))) -> 0 | J16: =H16-I16 -> 42.561 | K16: =AVERAGE(J16:J17) -> 42.5875 | L16: =RANK(K16,K7:K63,1) -> 13 | Z16: =AVERAGE(E16:E18) -> 82.05 | AA16: =IF(E16>84.9,E16,E17) -> 79.8 | AB16: =COUNTIF(E16:E18,">84.9") -> 0 | AC16: =IF(AB16=1,AD16,AE16) -> 0 | AD16: =IF(AA16<84.9,0,IF(AA16<87.4,9,IF(AA16<89.9,13.5,IF(AA16<92.4,18,IF(AA16<94.9,22.5,IF(AA16<97.4,27,IF(AA16<99.9,31.5,36))))))) -> 0 | AE16: =IF(Z16<84.9,0,IF(Z16<87.4,18,IF(Z16<89.9,27,IF(Z16<92.4,36,IF(Z16<94.9,45,IF(Z16<97.4,54,IF(Z16<99.9,63,72))))))) -> 0 | AF16: =IF(AG16=2,AH16,AI16) -> 0 | AG16: =COUNTIF(E16:E18,">1") -> 2 | AH16: =IF(AB16=1,AJ16,AK16) -> 0 | AI16: =IF(AB16=1,AL16,IF(AB16=2,AM16,AK16)) -> 0 | AJ16: =IF(AA16<84.9,0,IF(AA16<87.4,12,IF(AA16<89.9,18,IF(AA16<92.4,24,IF(AA16<94.9,30,IF(AA16<97.4,36,IF(AA16<99.9,42,48))))))) -> 0 | AK16: =IF(AA16<84.9,0,IF(AA16<87.4,24,IF(AA16<89.9,36,IF(AA16<92.4,48,IF(AA16<94.9,60,IF(AA16<97.4,72,IF(AA16<99.9,84,96))))))) -> 0 | AL16: =IF(AA16<84.9,0,IF(AA16<87.4,8,IF(AA16<89.9,12,IF(AA16<92.4,16,IF(AA16<94.9,20,IF(AA16<97.4,24,IF(AA16<99.9,28,32))))))) -> 0 | AM16: =IF(AO16<84.9,0,IF(AO16<87.4,16,IF(AO16<89.9,24,IF(AO16<92.4,32,IF(AO16<94.9,40,IF(AO16<97.4,48,IF(AO16<99.9,56,64))))))) -> 0 | AO16: =(SUM(E16:E18)-MIN(E16:E18))/2 -> 42.15
C17: Танана Александр | D17: 4-2 | E17: 79.8 | G17: 5 | H17: 42.614 | I17: =IF(E17<84.9,0,IF(E17<87.4,0.1,IF(E17<89.9,0.15,IF(E17<92.4,0.2,IF(E17<94.9,0.25,IF(E17<97.4,0.3,IF(E17<99.9,0.35,0.4))))))) -> 0 | J17: =H17-I17 -> 42.614
D18: 4-3 | I18: =IF(E18<84.9,0,IF(E18<87.4,0.1,IF(E18<89.9,0.15,IF(E18<92.4,0.2,IF(E18<94.9,0.25,IF(E18<97.4,0.3,IF(E18<99.9,0.35,0.4))))))) -> 0 | J18: =H18-I18 -> 0
A19: 5 | B19: E-k Motorsport | C19: Коруз Вадим | D19: 5-1 | E19: 74.1 | F19: =IF(M6=3,AC19,AF19) -> 0 | G19: 6 | H19: 42.696 | I19: =IF(E19<84.9,0,IF(E19<87.4,0.1,IF(E19<89.9,0.15,IF(E19<92.4,0.2,IF(E19<94.9,0.25,IF(E19<97.4,0.3,IF(E19<99.9,0.35,0.4))))))) -> 0 | J19: =H19-I19 -> 42.696 | K19: =AVERAGE(J19:J20) -> 42.628 | L19: =RANK(K19,K7:K63,1) -> 14 | Z19: =AVERAGE(E19:E21) -> 77.55 | AA19: =IF(E19>84.9,E19,E20) -> 81 | AB19: =COUNTIF(E19:E21,">84.9") -> 0 | AC19: =IF(AB19=1,AD19,AE19) -> 0 | AD19: =IF(AA19<84.9,0,IF(AA19<87.4,9,IF(AA19<89.9,13.5,IF(AA19<92.4,18,IF(AA19<94.9,22.5,IF(AA19<97.4,27,IF(AA19<99.9,31.5,36))))))) -> 0 | AE19: =IF(Z19<84.9,0,IF(Z19<87.4,18,IF(Z19<89.9,27,IF(Z19<92.4,36,IF(Z19<94.9,45,IF(Z19<97.4,54,IF(Z19<99.9,63,72))))))) -> 0 | AF19: =IF(AG19=2,AH19,AI19) -> 0 | AG19: =COUNTIF(E19:E21,">1") -> 2 | AH19: =IF(AB19=1,AJ19,AK19) -> 0 | AI19: =IF(AB19=1,AL19,IF(AB19=2,AM19,AK19)) -> 0 | AJ19: =IF(AA19<84.9,0,IF(AA19<87.4,12,IF(AA19<89.9,18,IF(AA19<92.4,24,IF(AA19<94.9,30,IF(AA19<97.4,36,IF(AA19<99.9,42,48))))))) -> 0 | AK19: =IF(AA19<84.9,0,IF(AA19<87.4,24,IF(AA19<89.9,36,IF(AA19<92.4,48,IF(AA19<94.9,60,IF(AA19<97.4,72,IF(AA19<99.9,84,96))))))) -> 0 | AL19: =IF(AA19<84.9,0,IF(AA19<87.4,8,IF(AA19<89.9,12,IF(AA19<92.4,16,IF(AA19<94.9,20,IF(AA19<97.4,24,IF(AA19<99.9,28,32))))))) -> 0 | AM19: =IF(AO19<84.9,0,IF(AO19<87.4,16,IF(AO19<89.9,24,IF(AO19<92.4,32,IF(AO19<94.9,40,IF(AO19<97.4,48,IF(AO19<99.9,56,64))))))) -> 0 | AO19: =(SUM(E19:E21)-MIN(E19:E21))/2 -> 40.5
C20: Шиленко Саша | D20: 5-2 | E20: 81 | G20: 5 | H20: 42.56 | I20: =IF(E20<84.9,0,IF(E20<87.4,0.1,IF(E20<89.9,0.15,IF(E20<92.4,0.2,IF(E20<94.9,0.25,IF(E20<97.4,0.3,IF(E20<99.9,0.35,0.4))))))) -> 0 | J20: =H20-I20 -> 42.56
D21: 5-3 | I21: =IF(E21<84.9,0,IF(E21<87.4,0.1,IF(E21<89.9,0.15,IF(E21<92.4,0.2,IF(E21<94.9,0.25,IF(E21<97.4,0.3,IF(E21<99.9,0.35,0.4))))))) -> 0 | J21: =H21-I21 -> 0
A22: 6 | B22: Kart Freedom | C22: Терещенко Андрей | D22: 6-1 | E22: 91.8 | F22: =IF(M6=3,AC22,AF22) -> 18 | G22: 7 | H22: 42.44 | I22: =IF(E22<84.9,0,IF(E22<87.4,0.1,IF(E22<89.9,0.15,IF(E22<92.4,0.2,IF(E22<94.9,0.25,IF(E22<97.4,0.3,IF(E22<99.9,0.35,0.4))))))) -> 0.2 | J22: =H22-I22 -> 42.24 | K22: =AVERAGE(J22:J23) -> 42.225 | L22: =RANK(K22,K7:K63,1) -> 5 | Z22: =AVERAGE(E22:E24) -> 87.55 | AA22: =IF(E22>84.9,E22,E23) -> 91.8 | AB22: =COUNTIF(E22:E24,">84.9") -> 1 | AC22: =IF(AB22=1,AD22,AE22) -> 18 | AD22: =IF(AA22<84.9,0,IF(AA22<87.4,9,IF(AA22<89.9,13.5,IF(AA22<92.4,18,IF(AA22<94.9,22.5,IF(AA22<97.4,27,IF(AA22<99.9,31.5,36))))))) -> 18 | AE22: =IF(Z22<84.9,0,IF(Z22<87.4,18,IF(Z22<89.9,27,IF(Z22<92.4,36,IF(Z22<94.9,45,IF(Z22<97.4,54,IF(Z22<99.9,63,72))))))) -> 27 | AF22: =IF(AG22=2,AH22,AI22) -> 24 | AG22: =COUNTIF(E22:E24,">1") -> 2 | AH22: =IF(AB22=1,AJ22,AK22) -> 24 | AI22: =IF(AB22=1,AL22,IF(AB22=2,AM22,AK22)) -> 16 | AJ22: =IF(AA22<84.9,0,IF(AA22<87.4,12,IF(AA22<89.9,18,IF(AA22<92.4,24,IF(AA22<94.9,30,IF(AA22<97.4,36,IF(AA22<99.9,42,48))))))) -> 24 | AK22: =IF(AA22<84.9,0,IF(AA22<87.4,24,IF(AA22<89.9,36,IF(AA22<92.4,48,IF(AA22<94.9,60,IF(AA22<97.4,72,IF(AA22<99.9,84,96))))))) -> 48 | AL22: =IF(AA22<84.9,0,IF(AA22<87.4,8,IF(AA22<89.9,12,IF(AA22<92.4,16,IF(AA22<94.9,20,IF(AA22<97.4,24,IF(AA22<99.9,28,32))))))) -> 16 | AM22: =IF(AO22<84.9,0,IF(AO22<87.4,16,IF(AO22<89.9,24,IF(AO22<92.4,32,IF(AO22<94.9,40,IF(AO22<97.4,48,IF(AO22<99.9,56,64))))))) -> 0 | AO22: =(SUM(E22:E24)-MIN(E22:E24))/2 -> 45.9
C23: Бахмацкий Олег | D23: 6-2 | E23: 83.3 | G23: 6 | H23: 42.21 | I23: =IF(E23<84.9,0,IF(E23<87.4,0.1,IF(E23<89.9,0.15,IF(E23<92.4,0.2,IF(E23<94.9,0.25,IF(E23<97.4,0.3,IF(E23<99.9,0.35,0.4))))))) -> 0 | J23: =H23-I23 -> 42.21
D24: 6-3 | I24: =IF(E24<84.9,0,IF(E24<87.4,0.1,IF(E24<89.9,0.15,IF(E24<92.4,0.2,IF(E24<94.9,0.25,IF(E24<97.4,0.3,IF(E24<99.9,0.35,0.4))))))) -> 0 | J24: =H24-I24 -> 0
A25: 7 | B25: Ingul kart RT | C25: Геронимус Макс | D25: 7-1 | E25: 70.1 | F25: =IF(M6=3,AC25,AF25) -> 0 | G25: 7 | H25: 42.182 | I25: =IF(E25<84.9,0,IF(E25<87.4,0.1,IF(E25<89.9,0.15,IF(E25<92.4,0.2,IF(E25<94.9,0.25,IF(E25<97.4,0.3,IF(E25<99.9,0.35,0.4))))))) -> 0 | J25: =H25-I25 -> 42.182 | K25: =AVERAGE(J25:J26) -> 42.172 | L25: =RANK(K25,K7:K63,1) -> 3 | Z25: =AVERAGE(E25:E27) -> 66.7 | AA25: =IF(E25>84.9,E25,E26) -> 63.3 | AB25: =COUNTIF(E25:E27,">84.9") -> 0 | AC25: =IF(AB25=1,AD25,AE25) -> 0 | AD25: =IF(AA25<84.9,0,IF(AA25<87.4,9,IF(AA25<89.9,13.5,IF(AA25<92.4,18,IF(AA25<94.9,22.5,IF(AA25<97.4,27,IF(AA25<99.9,31.5,36))))))) -> 0 | AE25: =IF(Z25<84.9,0,IF(Z25<87.4,18,IF(Z25<89.9,27,IF(Z25<92.4,36,IF(Z25<94.9,45,IF(Z25<97.4,54,IF(Z25<99.9,63,72))))))) -> 0 | AF25: =IF(AG25=2,AH25,AI25) -> 0 | AG25: =COUNTIF(E25:E27,">1") -> 2 | AH25: =IF(AB25=1,AJ25,AK25) -> 0 | AI25: =IF(AB25=1,AL25,IF(AB25=2,AM25,AK25)) -> 0 | AJ25: =IF(AA25<84.9,0,IF(AA25<87.4,12,IF(AA25<89.9,18,IF(AA25<92.4,24,IF(AA25<94.9,30,IF(AA25<97.4,36,IF(AA25<99.9,42,48))))))) -> 0 | AK25: =IF(AA25<84.9,0,IF(AA25<87.4,24,IF(AA25<89.9,36,IF(AA25<92.4,48,IF(AA25<94.9,60,IF(AA25<97.4,72,IF(AA25<99.9,84,96))))))) -> 0 | AL25: =IF(AA25<84.9,0,IF(AA25<87.4,8,IF(AA25<89.9,12,IF(AA25<92.4,16,IF(AA25<94.9,20,IF(AA25<97.4,24,IF(AA25<99.9,28,32))))))) -> 0 | AM25: =IF(AO25<84.9,0,IF(AO25<87.4,16,IF(AO25<89.9,24,IF(AO25<92.4,32,IF(AO25<94.9,40,IF(AO25<97.4,48,IF(AO25<99.9,56,64))))))) -> 0 | AO25: =(SUM(E25:E27)-MIN(E25:E27))/2 -> 35.05
C26: Кублицкий Виктор | D26: 7-2 | E26: 63.3 | G26: 8 | H26: 42.162 | I26: =IF(E26<84.9,0,IF(E26<87.4,0.1,IF(E26<89.9,0.15,IF(E26<92.4,0.2,IF(E26<94.9,0.25,IF(E26<97.4,0.3,IF(E26<99.9,0.35,0.4))))))) -> 0 | J26: =H26-I26 -> 42.162
D27: 7-3 | I27: =IF(E27<84.9,0,IF(E27<87.4,0.1,IF(E27<89.9,0.15,IF(E27<92.4,0.2,IF(E27<94.9,0.25,IF(E27<97.4,0.3,IF(E27<99.9,0.35,0.4))))))) -> 0 | J27: =H27-I27 -> 0
A28: 8 | B28: Line_X | C28: Булавинов Андрей | D28: 8-1 | E28: 72.8 | F28: =IF(M6=3,AC28,AF28) -> 0 | G28: 8 | H28: 42.491 | I28: =IF(E28<84.9,0,IF(E28<87.4,0.1,IF(E28<89.9,0.15,IF(E28<92.4,0.2,IF(E28<94.9,0.25,IF(E28<97.4,0.3,IF(E28<99.9,0.35,0.4))))))) -> 0 | J28: =H28-I28 -> 42.491 | K28: =AVERAGE(J28:J29) -> 42.5665 | L28: =RANK(K28,K7:K63,1) -> 12 | Z28: =AVERAGE(E28:E30) -> 58.4 | AA28: =IF(E28>84.9,E28,E29) -> 44 | AB28: =COUNTIF(E28:E30,">84.9") -> 0 | AC28: =IF(AB28=1,AD28,AE28) -> 0 | AD28: =IF(AA28<84.9,0,IF(AA28<87.4,9,IF(AA28<89.9,13.5,IF(AA28<92.4,18,IF(AA28<94.9,22.5,IF(AA28<97.4,27,IF(AA28<99.9,31.5,36))))))) -> 0 | AE28: =IF(Z28<84.9,0,IF(Z28<87.4,18,IF(Z28<89.9,27,IF(Z28<92.4,36,IF(Z28<94.9,45,IF(Z28<97.4,54,IF(Z28<99.9,63,72))))))) -> 0 | AF28: =IF(AG28=2,AH28,AI28) -> 0 | AG28: =COUNTIF(E28:E30,">1") -> 2 | AH28: =IF(AB28=1,AJ28,AK28) -> 0 | AI28: =IF(AB28=1,AL28,IF(AB28=2,AM28,AK28)) -> 0 | AJ28: =IF(AA28<84.9,0,IF(AA28<87.4,12,IF(AA28<89.9,18,IF(AA28<92.4,24,IF(AA28<94.9,30,IF(AA28<97.4,36,IF(AA28<99.9,42,48))))))) -> 0 | AK28: =IF(AA28<84.9,0,IF(AA28<87.4,24,IF(AA28<89.9,36,IF(AA28<92.4,48,IF(AA28<94.9,60,IF(AA28<97.4,72,IF(AA28<99.9,84,96))))))) -> 0 | AL28: =IF(AA28<84.9,0,IF(AA28<87.4,8,IF(AA28<89.9,12,IF(AA28<92.4,16,IF(AA28<94.9,20,IF(AA28<97.4,24,IF(AA28<99.9,28,32))))))) -> 0 | AM28: =IF(AO28<84.9,0,IF(AO28<87.4,16,IF(AO28<89.9,24,IF(AO28<92.4,32,IF(AO28<94.9,40,IF(AO28<97.4,48,IF(AO28<99.9,56,64))))))) -> 0 | AO28: =(SUM(E28:E30)-MIN(E28:E30))/2 -> 36.4
C29: Черников Леша | D29: 8-2 | E29: 44 | G29: 9 | H29: 42.642 | I29: =IF(E29<84.9,0,IF(E29<87.4,0.1,IF(E29<89.9,0.15,IF(E29<92.4,0.2,IF(E29<94.9,0.25,IF(E29<97.4,0.3,IF(E29<99.9,0.35,0.4))))))) -> 0 | J29: =H29-I29 -> 42.642
D30: 8-3 | I30: =IF(E30<84.9,0,IF(E30<87.4,0.1,IF(E30<89.9,0.15,IF(E30<92.4,0.2,IF(E30<94.9,0.25,IF(E30<97.4,0.3,IF(E30<99.9,0.35,0.4))))))) -> 0 | J30: =H30-I30 -> 0
A31: 9 | B31: 50 gramms | C31: Сомок Денис | D31: 9-1 | E31: 73.6 | F31: =IF(M6=3,AC31,AF31) -> 0 | G31: 10 | H31: 42.238 | I31: =IF(E31<84.9,0,IF(E31<87.4,0.1,IF(E31<89.9,0.15,IF(E31<92.4,0.2,IF(E31<94.9,0.25,IF(E31<97.4,0.3,IF(E31<99.9,0.35,0.4))))))) -> 0 | J31: =H31-I31 -> 42.238 | K31: =AVERAGE(J31:J32) -> 42.447 | L31: =RANK(K31,K7:K63,1) -> 8 | Z31: =AVERAGE(E31:E33) -> 72.75 | AA31: =IF(E31>84.9,E31,E32) -> 71.9 | AB31: =COUNTIF(E31:E33,">84.9") -> 0 | AC31: =IF(AB31=1,AD31,AE31) -> 0 | AD31: =IF(AA31<84.9,0,IF(AA31<87.4,9,IF(AA31<89.9,13.5,IF(AA31<92.4,18,IF(AA31<94.9,22.5,IF(AA31<97.4,27,IF(AA31<99.9,31.5,36))))))) -> 0 | AE31: =IF(Z31<84.9,0,IF(Z31<87.4,18,IF(Z31<89.9,27,IF(Z31<92.4,36,IF(Z31<94.9,45,IF(Z31<97.4,54,IF(Z31<99.9,63,72))))))) -> 0 | AF31: =IF(AG31=2,AH31,AI31) -> 0 | AG31: =COUNTIF(E31:E33,">1") -> 2 | AH31: =IF(AB31=1,AJ31,AK31) -> 0 | AI31: =IF(AB31=1,AL31,IF(AB31=2,AM31,AK31)) -> 0 | AJ31: =IF(AA31<84.9,0,IF(AA31<87.4,12,IF(AA31<89.9,18,IF(AA31<92.4,24,IF(AA31<94.9,30,IF(AA31<97.4,36,IF(AA31<99.9,42,48))))))) -> 0 | AK31: =IF(AA31<84.9,0,IF(AA31<87.4,24,IF(AA31<89.9,36,IF(AA31<92.4,48,IF(AA31<94.9,60,IF(AA31<97.4,72,IF(AA31<99.9,84,96))))))) -> 0 | AL31: =IF(AA31<84.9,0,IF(AA31<87.4,8,IF(AA31<89.9,12,IF(AA31<92.4,16,IF(AA31<94.9,20,IF(AA31<97.4,24,IF(AA31<99.9,28,32))))))) -> 0 | AM31: =IF(AO31<84.9,0,IF(AO31<87.4,16,IF(AO31<89.9,24,IF(AO31<92.4,32,IF(AO31<94.9,40,IF(AO31<97.4,48,IF(AO31<99.9,56,64))))))) -> 0 | AO31: =(SUM(E31:E33)-MIN(E31:E33))/2 -> 36.8
C32: Морозенко Сергей | D32: 9-2 | E32: 71.9 | G32: 9 | H32: 42.656 | I32: =IF(E32<84.9,0,IF(E32<87.4,0.1,IF(E32<89.9,0.15,IF(E32<92.4,0.2,IF(E32<94.9,0.25,IF(E32<97.4,0.3,IF(E32<99.9,0.35,0.4))))))) -> 0 | J32: =H32-I32 -> 42.656
D33: 9-3 | I33: =IF(E33<84.9,0,IF(E33<87.4,0.1,IF(E33<89.9,0.15,IF(E33<92.4,0.2,IF(E33<94.9,0.25,IF(E33<97.4,0.3,IF(E33<99.9,0.35,0.4))))))) -> 0 | J33: =H33-I33 -> 0
A34: 10 | B34: G.A.T | C34: Геронимус Костя | D34: 10-1 | E34: 61.4 | F34: =IF(M6=3,AC34,AF34) -> 0 | G34: 11 | H34: 42.639 | I34: =IF(E34<84.9,0,IF(E34<87.4,0.1,IF(E34<89.9,0.15,IF(E34<92.4,0.2,IF(E34<94.9,0.25,IF(E34<97.4,0.3,IF(E34<99.9,0.35,0.4))))))) -> 0 | J34: =H34-I34 -> 42.639 | K34: =AVERAGE(J34:J35) -> 42.4495 | L34: =RANK(K34,K7:K63,1) -> 9 | Z34: =AVERAGE(E34:E36) -> 62.7 | AA34: =IF(E34>84.9,E34,E35) -> 64 | AB34: =COUNTIF(E34:E36,">84.9") -> 0 | AC34: =IF(AB34=1,AD34,AE34) -> 0 | AD34: =IF(AA34<84.9,0,IF(AA34<87.4,9,IF(AA34<89.9,13.5,IF(AA34<92.4,18,IF(AA34<94.9,22.5,IF(AA34<97.4,27,IF(AA34<99.9,31.5,36))))))) -> 0 | AE34: =IF(Z34<84.9,0,IF(Z34<87.4,18,IF(Z34<89.9,27,IF(Z34<92.4,36,IF(Z34<94.9,45,IF(Z34<97.4,54,IF(Z34<99.9,63,72))))))) -> 0 | AF34: =IF(AG34=2,AH34,AI34) -> 0 | AG34: =COUNTIF(E34:E36,">1") -> 2 | AH34: =IF(AB34=1,AJ34,AK34) -> 0 | AI34: =IF(AB34=1,AL34,IF(AB34=2,AM34,AK34)) -> 0 | AJ34: =IF(AA34<84.9,0,IF(AA34<87.4,12,IF(AA34<89.9,18,IF(AA34<92.4,24,IF(AA34<94.9,30,IF(AA34<97.4,36,IF(AA34<99.9,42,48))))))) -> 0 | AK34: =IF(AA34<84.9,0,IF(AA34<87.4,24,IF(AA34<89.9,36,IF(AA34<92.4,48,IF(AA34<94.9,60,IF(AA34<97.4,72,IF(AA34<99.9,84,96))))))) -> 0 | AL34: =IF(AA34<84.9,0,IF(AA34<87.4,8,IF(AA34<89.9,12,IF(AA34<92.4,16,IF(AA34<94.9,20,IF(AA34<97.4,24,IF(AA34<99.9,28,32))))))) -> 0 | AM34: =IF(AO34<84.9,0,IF(AO34<87.4,16,IF(AO34<89.9,24,IF(AO34<92.4,32,IF(AO34<94.9,40,IF(AO34<97.4,48,IF(AO34<99.9,56,64))))))) -> 0 | AO34: =(SUM(E34:E36)-MIN(E34:E36))/2 -> 32
C35: Любина Елена | D35: 10.2 | E35: 64 | G35: 33 | H35: 42.26 | I35: =IF(E35<84.9,0,IF(E35<87.4,0.1,IF(E35<89.9,0.15,IF(E35<92.4,0.2,IF(E35<94.9,0.25,IF(E35<97.4,0.3,IF(E35<99.9,0.35,0.4))))))) -> 0 | J35: =H35-I35 -> 42.26
D36: 10-3 | I36: =IF(E36<84.9,0,IF(E36<87.4,0.1,IF(E36<89.9,0.15,IF(E36<92.4,0.2,IF(E36<94.9,0.25,IF(E36<97.4,0.3,IF(E36<99.9,0.35,0.4))))))) -> 0 | J36: =H36-I36 -> 0
A37: 11 | B37: Petrovich | C37: Сосин Миша | D37: 11-1 | E37: 67 | F37: =IF(M6=3,AC37,AF37) -> 0 | G37: 12 | H37: 42.798 | I37: =IF(E37<84.9,0,IF(E37<87.4,0.1,IF(E37<89.9,0.15,IF(E37<92.4,0.2,IF(E37<94.9,0.25,IF(E37<97.4,0.3,IF(E37<99.9,0.35,0.4))))))) -> 0 | J37: =H37-I37 -> 42.798 | K37: =AVERAGE(J37:J38) -> 42.8565 | L37: =RANK(K37,K7:K63,1) -> 18 | Z37: =AVERAGE(E37:E39) -> 75.3 | AA37: =IF(E37>84.9,E37,E38) -> 83.6 | AB37: =COUNTIF(E37:E39,">84.9") -> 0 | AC37: =IF(AB37=1,AD37,AE37) -> 0 | AD37: =IF(AA37<84.9,0,IF(AA37<87.4,9,IF(AA37<89.9,13.5,IF(AA37<92.4,18,IF(AA37<94.9,22.5,IF(AA37<97.4,27,IF(AA37<99.9,31.5,36))))))) -> 0 | AE37: =IF(Z37<84.9,0,IF(Z37<87.4,18,IF(Z37<89.9,27,IF(Z37<92.4,36,IF(Z37<94.9,45,IF(Z37<97.4,54,IF(Z37<99.9,63,72))))))) -> 0 | AF37: =IF(AG37=2,AH37,AI37) -> 0 | AG37: =COUNTIF(E37:E39,">1") -> 2 | AH37: =IF(AB37=1,AJ37,AK37) -> 0 | AI37: =IF(AB37=1,AL37,IF(AB37=2,AM37,AK37)) -> 0 | AJ37: =IF(AA37<84.9,0,IF(AA37<87.4,12,IF(AA37<89.9,18,IF(AA37<92.4,24,IF(AA37<94.9,30,IF(AA37<97.4,36,IF(AA37<99.9,42,48))))))) -> 0 | AK37: =IF(AA37<84.9,0,IF(AA37<87.4,24,IF(AA37<89.9,36,IF(AA37<92.4,48,IF(AA37<94.9,60,IF(AA37<97.4,72,IF(AA37<99.9,84,96))))))) -> 0 | AL37: =IF(AA37<84.9,0,IF(AA37<87.4,8,IF(AA37<89.9,12,IF(AA37<92.4,16,IF(AA37<94.9,20,IF(AA37<97.4,24,IF(AA37<99.9,28,32))))))) -> 0 | AM37: =IF(AO37<84.9,0,IF(AO37<87.4,16,IF(AO37<89.9,24,IF(AO37<92.4,32,IF(AO37<94.9,40,IF(AO37<97.4,48,IF(AO37<99.9,56,64))))))) -> 0 | AO37: =(SUM(E37:E39)-MIN(E37:E39))/2 -> 41.8
C38: Гетьманцев Даниил | D38: 11-2 | E38: 83.6 | G38: 11 | H38: 42.915 | I38: =IF(E38<84.9,0,IF(E38<87.4,0.1,IF(E38<89.9,0.15,IF(E38<92.4,0.2,IF(E38<94.9,0.25,IF(E38<97.4,0.3,IF(E38<99.9,0.35,0.4))))))) -> 0 | J38: =H38-I38 -> 42.915
D39: 11-3 | I39: =IF(E39<84.9,0,IF(E39<87.4,0.1,IF(E39<89.9,0.15,IF(E39<92.4,0.2,IF(E39<94.9,0.25,IF(E39<97.4,0.3,IF(E39<99.9,0.35,0.4))))))) -> 0 | J39: =H39-I39 -> 0
A40: 12 | B40: Flash | C40: Загорулько Иван | D40: 12-1 | E40: 95.7 | F40: =IF(M6=3,AC40,AF40) -> 27 | G40: 13 | H40: 42.585 | I40: =IF(E40<84.9,0,IF(E40<87.4,0.1,IF(E40<89.9,0.15,IF(E40<92.4,0.2,IF(E40<94.9,0.25,IF(E40<97.4,0.3,IF(E40<99.9,0.35,0.4))))))) -> 0.3 | J40: =H40-I40 -> 42.285 | K40: =AVERAGE(J40:J41) -> 42.237 | L40: =RANK(K40,K7:K63,1) -> 6 | Z40: =AVERAGE(E40:E42) -> 83.4 | AA40: =IF(E40>84.9,E40,E41) -> 95.7 | AB40: =COUNTIF(E40:E42,">84.9") -> 1 | AC40: =IF(AB40=1,AD40,AE40) -> 27 | AD40: =IF(AA40<84.9,0,IF(AA40<87.4,9,IF(AA40<89.9,13.5,IF(AA40<92.4,18,IF(AA40<94.9,22.5,IF(AA40<97.4,27,IF(AA40<99.9,31.5,36))))))) -> 27 | AE40: =IF(Z40<84.9,0,IF(Z40<87.4,18,IF(Z40<89.9,27,IF(Z40<92.4,36,IF(Z40<94.9,45,IF(Z40<97.4,54,IF(Z40<99.9,63,72))))))) -> 0 | AF40: =IF(AG40=2,AH40,AI40) -> 36 | AG40: =COUNTIF(E40:E42,">1") -> 2 | AH40: =IF(AB40=1,AJ40,AK40) -> 36 | AI40: =IF(AB40=1,AL40,IF(AB40=2,AM40,AK40)) -> 24 | AJ40: =IF(AA40<84.9,0,IF(AA40<87.4,12,IF(AA40<89.9,18,IF(AA40<92.4,24,IF(AA40<94.9,30,IF(AA40<97.4,36,IF(AA40<99.9,42,48))))))) -> 36 | AK40: =IF(AA40<84.9,0,IF(AA40<87.4,24,IF(AA40<89.9,36,IF(AA40<92.4,48,IF(AA40<94.9,60,IF(AA40<97.4,72,IF(AA40<99.9,84,96))))))) -> 72 | AL40: =IF(AA40<84.9,0,IF(AA40<87.4,8,IF(AA40<89.9,12,IF(AA40<92.4,16,IF(AA40<94.9,20,IF(AA40<97.4,24,IF(AA40<99.9,28,32))))))) -> 24 | AM40: =IF(AO40<84.9,0,IF(AO40<87.4,16,IF(AO40<89.9,24,IF(AO40<92.4,32,IF(AO40<94.9,40,IF(AO40<97.4,48,IF(AO40<99.9,56,64))))))) -> 0 | AO40: =(SUM(E40:E42)-MIN(E40:E42))/2 -> 47.85
C41: Лихошерст Леша | D41: 12-2 | E41: 71.1 | G41: 12 | H41: 42.189 | I41: =IF(E41<84.9,0,IF(E41<87.4,0.1,IF(E41<89.9,0.15,IF(E41<92.4,0.2,IF(E41<94.9,0.25,IF(E41<97.4,0.3,IF(E41<99.9,0.35,0.4))))))) -> 0 | J41: =H41-I41 -> 42.189
D42: 12-3 | I42: =IF(E42<84.9,0,IF(E42<87.4,0.1,IF(E42<89.9,0.15,IF(E42<92.4,0.2,IF(E42<94.9,0.25,IF(E42<97.4,0.3,IF(E42<99.9,0.35,0.4))))))) -> 0 | J42: =H42-I42 -> 0
A43: 13 | B43: Vpered ta vgory | C43: Манило Денис | D43: 13-1 | F43: =IF(M6=3,AC43,AF43) -> 0 | G43: 14 | H43: 42.279 | I43: =IF(E43<84.9,0,IF(E43<87.4,0.1,IF(E43<89.9,0.15,IF(E43<92.4,0.2,IF(E43<94.9,0.25,IF(E43<97.4,0.3,IF(E43<99.9,0.35,0.4))))))) -> 0 | J43: =H43-I43 -> 42.279 | K43: =AVERAGE(J43:J44) -> 42.144 | L43: =RANK(K43,K7:K63,1) -> 2 | Z43: =AVERAGE(E43:E45) -> 81.2 | AA43: =IF(E43>84.9,E43,E44) -> 81.2 | AB43: =COUNTIF(E43:E45,">84.9") -> 0 | AC43: =IF(AB43=1,AD43,AE43) -> 0 | AD43: =IF(AA43<84.9,0,IF(AA43<87.4,9,IF(AA43<89.9,13.5,IF(AA43<92.4,18,IF(AA43<94.9,22.5,IF(AA43<97.4,27,IF(AA43<99.9,31.5,36))))))) -> 0 | AE43: =IF(Z43<84.9,0,IF(Z43<87.4,18,IF(Z43<89.9,27,IF(Z43<92.4,36,IF(Z43<94.9,45,IF(Z43<97.4,54,IF(Z43<99.9,63,72))))))) -> 0 | AF43: =IF(AG43=2,AH43,AI43) -> 0 | AG43: =COUNTIF(E43:E45,">1") -> 1 | AH43: =IF(AB43=1,AJ43,AK43) -> 0 | AI43: =IF(AB43=1,AL43,IF(AB43=2,AM43,AK43)) -> 0 | AJ43: =IF(AA43<84.9,0,IF(AA43<87.4,12,IF(AA43<89.9,18,IF(AA43<92.4,24,IF(AA43<94.9,30,IF(AA43<97.4,36,IF(AA43<99.9,42,48))))))) -> 0 | AK43: =IF(AA43<84.9,0,IF(AA43<87.4,24,IF(AA43<89.9,36,IF(AA43<92.4,48,IF(AA43<94.9,60,IF(AA43<97.4,72,IF(AA43<99.9,84,96))))))) -> 0 | AL43: =IF(AA43<84.9,0,IF(AA43<87.4,8,IF(AA43<89.9,12,IF(AA43<92.4,16,IF(AA43<94.9,20,IF(AA43<97.4,24,IF(AA43<99.9,28,32))))))) -> 0 | AM43: =IF(AO43<84.9,0,IF(AO43<87.4,16,IF(AO43<89.9,24,IF(AO43<92.4,32,IF(AO43<94.9,40,IF(AO43<97.4,48,IF(AO43<99.9,56,64))))))) -> 0 | AO43: =(SUM(E43:E45)-MIN(E43:E45))/2 -> 0
C44: Лысенский Денис | D44: 13-2 | E44: 81.2 | G44: 13 | H44: 42.009 | I44: =IF(E44<84.9,0,IF(E44<87.4,0.1,IF(E44<89.9,0.15,IF(E44<92.4,0.2,IF(E44<94.9,0.25,IF(E44<97.4,0.3,IF(E44<99.9,0.35,0.4))))))) -> 0 | J44: =H44-I44 -> 42.009
D45: 13-3 | I45: =IF(E45<84.9,0,IF(E45<87.4,0.1,IF(E45<89.9,0.15,IF(E45<92.4,0.2,IF(E45<94.9,0.25,IF(E45<97.4,0.3,IF(E45<99.9,0.35,0.4))))))) -> 0 | J45: =H45-I45 -> 0
A46: 14 | B46: Ingul kart Academy | C46: Сивак Максим | D46: 14-1 | E46: 85.8 | F46: =IF(M6=3,AC46,AF46) -> 9 | G46: 14 | H46: 42.419 | I46: =IF(E46<84.9,0,IF(E46<87.4,0.1,IF(E46<89.9,0.15,IF(E46<92.4,0.2,IF(E46<94.9,0.25,IF(E46<97.4,0.3,IF(E46<99.9,0.35,0.4))))))) -> 0.1 | J46: =H46-I46 -> 42.319 | K46: =AVERAGE(J46:J47) -> 42.535 | L46: =RANK(K46,K7:K63,1) -> 10 | Z46: =AVERAGE(E46:E48) -> 82.85 | AA46: =IF(E46>84.9,E46,E47) -> 85.8 | AB46: =COUNTIF(E46:E48,">84.9") -> 1 | AC46: =IF(AB46=1,AD46,AE46) -> 9 | AD46: =IF(AA46<84.9,0,IF(AA46<87.4,9,IF(AA46<89.9,13.5,IF(AA46<92.4,18,IF(AA46<94.9,22.5,IF(AA46<97.4,27,IF(AA46<99.9,31.5,36))))))) -> 9 | AE46: =IF(Z46<84.9,0,IF(Z46<87.4,18,IF(Z46<89.9,27,IF(Z46<92.4,36,IF(Z46<94.9,45,IF(Z46<97.4,54,IF(Z46<99.9,63,72))))))) -> 0 | AF46: =IF(AG46=2,AH46,AI46) -> 12 | AG46: =COUNTIF(E46:E48,">1") -> 2 | AH46: =IF(AB46=1,AJ46,AK46) -> 12 | AI46: =IF(AB46=1,AL46,IF(AB46=2,AM46,AK46)) -> 8 | AJ46: =IF(AA46<84.9,0,IF(AA46<87.4,12,IF(AA46<89.9,18,IF(AA46<92.4,24,IF(AA46<94.9,30,IF(AA46<97.4,36,IF(AA46<99.9,42,48))))))) -> 12 | AK46: =IF(AA46<84.9,0,IF(AA46<87.4,24,IF(AA46<89.9,36,IF(AA46<92.4,48,IF(AA46<94.9,60,IF(AA46<97.4,72,IF(AA46<99.9,84,96))))))) -> 24 | AL46: =IF(AA46<84.9,0,IF(AA46<87.4,8,IF(AA46<89.9,12,IF(AA46<92.4,16,IF(AA46<94.9,20,IF(AA46<97.4,24,IF(AA46<99.9,28,32))))))) -> 8 | AM46: =IF(AO46<84.9,0,IF(AO46<87.4,16,IF(AO46<89.9,24,IF(AO46<92.4,32,IF(AO46<94.9,40,IF(AO46<97.4,48,IF(AO46<99.9,56,64))))))) -> 0 | AO46: =(SUM(E46:E48)-MIN(E46:E48))/2 -> 42.9
C47: Демьяненко Дмитрий | D47: 14-2 | E47: 79.9 | G47: 15 | H47: 42.751 | I47: =IF(E47<84.9,0,IF(E47<87.4,0.1,IF(E47<89.9,0.15,IF(E47<92.4,0.2,IF(E47<94.9,0.25,IF(E47<97.4,0.3,IF(E47<99.9,0.35,0.4))))))) -> 0 | J47: =H47-I47 -> 42.751
D48: 14-3 | I48: =IF(E48<84.9,0,IF(E48<87.4,0.1,IF(E48<89.9,0.15,IF(E48<92.4,0.2,IF(E48<94.9,0.25,IF(E48<97.4,0.3,IF(E48<99.9,0.35,0.4))))))) -> 0 | J48: =H48-I48 -> 0
A49: 15 | B49: NSJ | C49: Мифтахутдинов Ильяс | D49: 15-1 | E49: 42.5 | F49: =IF(M6=3,AC49,AF49) -> 0 | G49: 17 | H49: 42.651 | I49: =IF(E49<84.9,0,IF(E49<87.4,0.1,IF(E49<89.9,0.15,IF(E49<92.4,0.2,IF(E49<94.9,0.25,IF(E49<97.4,0.3,IF(E49<99.9,0.35,0.4))))))) -> 0 | J49: =H49-I49 -> 42.651 | K49: =AVERAGE(J49:J50) -> 42.641 | L49: =RANK(K49,K7:K63,1) -> 15 | Z49: =AVERAGE(E49:E51) -> 61.5 | AA49: =IF(E49>84.9,E49,E50) -> 80.5 | AB49: =COUNTIF(E49:E51,">84.9") -> 0 | AC49: =IF(AB49=1,AD49,AE49) -> 0 | AD49: =IF(AA49<84.9,0,IF(AA49<87.4,9,IF(AA49<89.9,13.5,IF(AA49<92.4,18,IF(AA49<94.9,22.5,IF(AA49<97.4,27,IF(AA49<99.9,31.5,36))))))) -> 0 | AE49: =IF(Z49<84.9,0,IF(Z49<87.4,18,IF(Z49<89.9,27,IF(Z49<92.4,36,IF(Z49<94.9,45,IF(Z49<97.4,54,IF(Z49<99.9,63,72))))))) -> 0 | AF49: =IF(AG49=2,AH49,AI49) -> 0 | AG49: =COUNTIF(E49:E51,">1") -> 2 | AH49: =IF(AB49=1,AJ49,AK49) -> 0 | AI49: =IF(AB49=1,AL49,IF(AB49=2,AM49,AK49)) -> 0 | AJ49: =IF(AA49<84.9,0,IF(AA49<87.4,12,IF(AA49<89.9,18,IF(AA49<92.4,24,IF(AA49<94.9,30,IF(AA49<97.4,36,IF(AA49<99.9,42,48))))))) -> 0 | AK49: =IF(AA49<84.9,0,IF(AA49<87.4,24,IF(AA49<89.9,36,IF(AA49<92.4,48,IF(AA49<94.9,60,IF(AA49<97.4,72,IF(AA49<99.9,84,96))))))) -> 0 | AL49: =IF(AA49<84.9,0,IF(AA49<87.4,8,IF(AA49<89.9,12,IF(AA49<92.4,16,IF(AA49<94.9,20,IF(AA49<97.4,24,IF(AA49<99.9,28,32))))))) -> 0 | AM49: =IF(AO49<84.9,0,IF(AO49<87.4,16,IF(AO49<89.9,24,IF(AO49<92.4,32,IF(AO49<94.9,40,IF(AO49<97.4,48,IF(AO49<99.9,56,64))))))) -> 0 | AO49: =(SUM(E49:E51)-MIN(E49:E51))/2 -> 40.25
C50: Лантушенко Игорь | D50: 15-2 | E50: 80.5 | G50: 15 | H50: 42.631 | I50: =IF(E50<84.9,0,IF(E50<87.4,0.1,IF(E50<89.9,0.15,IF(E50<92.4,0.2,IF(E50<94.9,0.25,IF(E50<97.4,0.3,IF(E50<99.9,0.35,0.4))))))) -> 0 | J50: =H50-I50 -> 42.631
D51: 15-3 | I51: =IF(E51<84.9,0,IF(E51<87.4,0.1,IF(E51<89.9,0.15,IF(E51<92.4,0.2,IF(E51<94.9,0.25,IF(E51<97.4,0.3,IF(E51<99.9,0.35,0.4))))))) -> 0 | J51: =H51-I51 -> 0
A52: 16 | B52: Hurricane Racing | C52: Стоцкий Андрей | D52: 16-1 | E52: 64.2 | F52: =IF(M6=3,AC52,AF51) -> 9 | G52: 17 | H52: 42.695 | I52: =IF(E52<84.9,0,IF(E52<87.4,0.1,IF(E52<89.9,0.15,IF(E52<92.4,0.2,IF(E52<94.9,0.25,IF(E52<97.4,0.3,IF(E52<99.9,0.35,0.4))))))) -> 0 | J52: =H52-I52 -> 42.695 | K52: =AVERAGE(J52:J53) -> 42.6635 | L52: =RANK(K52,K7:K63,1) -> 16 | Z52: =AVERAGE(E52:E54) -> 75.25 | AA52: =IF(E52>84.9,E52,E53) -> 86.3 | AB52: =COUNTIF(E52:E54,">84.9") -> 1 | AC52: =IF(AB52=1,AD52,AE52) -> 9 | AD52: =IF(AA52<84.9,0,IF(AA52<87.4,9,IF(AA52<89.9,13.5,IF(AA52<92.4,18,IF(AA52<94.9,22.5,IF(AA52<97.4,27,IF(AA52<99.9,31.5,36))))))) -> 9 | AE52: =IF(Z52<84.9,0,IF(Z52<87.4,18,IF(Z52<89.9,27,IF(Z52<92.4,36,IF(Z52<94.9,45,IF(Z52<97.4,54,IF(Z52<99.9,63,72))))))) -> 0 | AF52: =IF(AG52=2,AH52,AI52) -> 12 | AG52: =COUNTIF(E52:E54,">1") -> 2 | AH52: =IF(AB52=1,AJ52,AK52) -> 12 | AI52: =IF(AB52=1,AL52,IF(AB52=2,AM52,AK52)) -> 8 | AJ52: =IF(AA52<84.9,0,IF(AA52<87.4,12,IF(AA52<89.9,18,IF(AA52<92.4,24,IF(AA52<94.9,30,IF(AA52<97.4,36,IF(AA52<99.9,42,48))))))) -> 12 | AK52: =IF(AA52<84.9,0,IF(AA52<87.4,24,IF(AA52<89.9,36,IF(AA52<92.4,48,IF(AA52<94.9,60,IF(AA52<97.4,72,IF(AA52<99.9,84,96))))))) -> 24 | AL52: =IF(AA52<84.9,0,IF(AA52<87.4,8,IF(AA52<89.9,12,IF(AA52<92.4,16,IF(AA52<94.9,20,IF(AA52<97.4,24,IF(AA52<99.9,28,32))))))) -> 8 | AM52: =IF(AO52<84.9,0,IF(AO52<87.4,16,IF(AO52<89.9,24,IF(AO52<92.4,32,IF(AO52<94.9,40,IF(AO52<97.4,48,IF(AO52<99.9,56,64))))))) -> 0 | AO52: =(SUM(E52:E54)-MIN(E52:E54))/2 -> 43.15
C53: Голубченко Саша | D53: 16-2 | E53: 86.3 | G53: 18 | H53: 42.732 | I53: =IF(E53<84.9,0,IF(E53<87.4,0.1,IF(E53<89.9,0.15,IF(E53<92.4,0.2,IF(E53<94.9,0.25,IF(E53<97.4,0.3,IF(E53<99.9,0.35,0.4))))))) -> 0.1 | J53: =H53-I53 -> 42.632
D54: 16-3 | I54: =IF(E54<84.9,0,IF(E54<87.4,0.1,IF(E54<89.9,0.15,IF(E54<92.4,0.2,IF(E54<94.9,0.25,IF(E54<97.4,0.3,IF(E54<99.9,0.35,0.4))))))) -> 0 | J54: =H54-I54 -> 0
A55: 17 | B55: F1UA | C55: Якусик Дима | D55: 17-1 | E55: 73.5 | F55: =IF(M6=3,AC55,AF55) -> 36 | G55: 21 | H55: 42.518 | I55: =IF(E55<84.9,0,IF(E55<87.4,0.1,IF(E55<89.9,0.15,IF(E55<92.4,0.2,IF(E55<94.9,0.25,IF(E55<97.4,0.3,IF(E55<99.9,0.35,0.4))))))) -> 0 | J55: =H55-I55 -> 42.518 | K55: =AVERAGE(J55:J56) -> 42.555 | L55: =RANK(K55,K7:K63,1) -> 11 | Z55: =AVERAGE(E55:E57) -> 86.95 | AA55: =IF(E55>84.9,E55,E56) -> 100.4 | AB55: =COUNTIF(E55:E57,">84.9") -> 1 | AC55: =IF(AB55=1,AD55,AE55) -> 36 | AD55: =IF(AA55<84.9,0,IF(AA55<87.4,9,IF(AA55<89.9,13.5,IF(AA55<92.4,18,IF(AA55<94.9,22.5,IF(AA55<97.4,27,IF(AA55<99.9,31.5,36))))))) -> 36 | AE55: =IF(Z55<84.9,0,IF(Z55<87.4,18,IF(Z55<89.9,27,IF(Z55<92.4,36,IF(Z55<94.9,45,IF(Z55<97.4,54,IF(Z55<99.9,63,72))))))) -> 18 | AF55: =IF(AG55=2,AH55,AI55) -> 48 | AG55: =COUNTIF(E55:E57,">1") -> 2 | AH55: =IF(AB55=1,AJ55,AK55) -> 48 | AI55: =IF(AB55=1,AL55,IF(AB55=2,AM55,AK55)) -> 32 | AJ55: =IF(AA55<84.9,0,IF(AA55<87.4,12,IF(AA55<89.9,18,IF(AA55<92.4,24,IF(AA55<94.9,30,IF(AA55<97.4,36,IF(AA55<99.9,42,48))))))) -> 48 | AK55: =IF(AA55<84.9,0,IF(AA55<87.4,24,IF(AA55<89.9,36,IF(AA55<92.4,48,IF(AA55<94.9,60,IF(AA55<97.4,72,IF(AA55<99.9,84,96))))))) -> 96 | AL55: =IF(AA55<84.9,0,IF(AA55<87.4,8,IF(AA55<89.9,12,IF(AA55<92.4,16,IF(AA55<94.9,20,IF(AA55<97.4,24,IF(AA55<99.9,28,32))))))) -> 32 | AM55: =IF(AO55<84.9,0,IF(AO55<87.4,16,IF(AO55<89.9,24,IF(AO55<92.4,32,IF(AO55<94.9,40,IF(AO55<97.4,48,IF(AO55<99.9,56,64))))))) -> 0 | AO55: =(SUM(E55:E57)-MIN(E55:E57))/2 -> 50.2
C56: Закалюк Женя | D56: 17-2 | E56: 100.4 | G56: 18 | H56: 42.992 | I56: =IF(E56<84.9,0,IF(E56<87.4,0.1,IF(E56<89.9,0.15,IF(E56<92.4,0.2,IF(E56<94.9,0.25,IF(E56<97.4,0.3,IF(E56<99.9,0.35,0.4))))))) -> 0.4 | J56: =H56-I56 -> 42.592
D57: 17-3 | I57: =IF(E57<84.9,0,IF(E57<87.4,0.1,IF(E57<89.9,0.15,IF(E57<92.4,0.2,IF(E57<94.9,0.25,IF(E57<97.4,0.3,IF(E57<99.9,0.35,0.4))))))) -> 0 | J57: =H57-I57 -> 0
A58: 18 | B58: Kozaks | C58: Тыщенко Миша | D58: 18-1 | E58: 86.3 | F58: =IF(M6=3,AC58,AF58) -> 9 | G58: 33 | H58: 42.065 | I58: =IF(E58<84.9,0,IF(E58<87.4,0.1,IF(E58<89.9,0.15,IF(E58<92.4,0.2,IF(E58<94.9,0.25,IF(E58<97.4,0.3,IF(E58<99.9,0.35,0.4))))))) -> 0.1 | J58: =H58-I58 -> 41.965 | K58: =AVERAGE(J58:J59) -> 42.0545 | L58: =RANK(K58,K7:K63,1) -> 1 | Z58: =AVERAGE(E58:E60) -> 82.85 | AA58: =IF(E58>84.9,E58,E59) -> 86.3 | AB58: =COUNTIF(E58:E60,">84.9") -> 1 | AC58: =IF(AB58=1,AD58,AE58) -> 9 | AD58: =IF(AA58<84.9,0,IF(AA58<87.4,9,IF(AA58<89.9,13.5,IF(AA58<92.4,18,IF(AA58<94.9,22.5,IF(AA58<97.4,27,IF(AA58<99.9,31.5,36))))))) -> 9 | AE58: =IF(Z58<84.9,0,IF(Z58<87.4,18,IF(Z58<89.9,27,IF(Z58<92.4,36,IF(Z58<94.9,45,IF(Z58<97.4,54,IF(Z58<99.9,63,72))))))) -> 0 | AF58: =IF(AG58=2,AH58,AI58) -> 12 | AG58: =COUNTIF(E58:E60,">1") -> 2 | AH58: =IF(AB58=1,AJ58,AK58) -> 12 | AI58: =IF(AB58=1,AL58,IF(AB58=2,AM58,AK58)) -> 8 | AJ58: =IF(AA58<84.9,0,IF(AA58<87.4,12,IF(AA58<89.9,18,IF(AA58<92.4,24,IF(AA58<94.9,30,IF(AA58<97.4,36,IF(AA58<99.9,42,48))))))) -> 12 | AK58: =IF(AA58<84.9,0,IF(AA58<87.4,24,IF(AA58<89.9,36,IF(AA58<92.4,48,IF(AA58<94.9,60,IF(AA58<97.4,72,IF(AA58<99.9,84,96))))))) -> 24 | AL58: =IF(AA58<84.9,0,IF(AA58<87.4,8,IF(AA58<89.9,12,IF(AA58<92.4,16,IF(AA58<94.9,20,IF(AA58<97.4,24,IF(AA58<99.9,28,32))))))) -> 8 | AM58: =IF(AO58<84.9,0,IF(AO58<87.4,16,IF(AO58<89.9,24,IF(AO58<92.4,32,IF(AO58<94.9,40,IF(AO58<97.4,48,IF(AO58<99.9,56,64))))))) -> 0 | AO58: =(SUM(E58:E60)-MIN(E58:E60))/2 -> 43.15
C59: Наум | D59: 18-2 | E59: 79.4 | G59: 44 | H59: 42.144 | I59: =IF(E59<84.9,0,IF(E59<87.4,0.1,IF(E59<89.9,0.15,IF(E59<92.4,0.2,IF(E59<94.9,0.25,IF(E59<97.4,0.3,IF(E59<99.9,0.35,0.4))))))) -> 0 | J59: =H59-I59 -> 42.144
D60: 18-3 | I60: =IF(E60<84.9,0,IF(E60<87.4,0.1,IF(E60<89.9,0.15,IF(E60<92.4,0.2,IF(E60<94.9,0.25,IF(E60<97.4,0.3,IF(E60<99.9,0.35,0.4))))))) -> 0 | J60: =H60-I60 -> 0
A61: 19 | B61: Вuro 11 | C61: Якусик Саша | D61: 19-1 | E61: 74.3 | F61: =IF(M6=3,AC61,AF61) -> 0 | G61: 44 | H61: 42.787 | I61: =IF(E61<84.9,0,IF(E61<87.4,0.1,IF(E61<89.9,0.15,IF(E61<92.4,0.2,IF(E61<94.9,0.25,IF(E61<97.4,0.3,IF(E61<99.9,0.35,0.4))))))) -> 0 | J61: =H61-I61 -> 42.787 | K61: =AVERAGE(J61:J62) -> 43.194 | L61: =RANK(K61,K7:K63,1) -> 19 | Z61: =AVERAGE(E61:E63) -> 78.6 | AA61: =IF(E61>84.9,E61,E62) -> 82.9 | AB61: =COUNTIF(E61:E63,">84.9") -> 0 | AC61: =IF(AB61=1,AD61,AE61) -> 0 | AD61: =IF(AA61<84.9,0,IF(AA61<87.4,9,IF(AA61<89.9,13.5,IF(AA61<92.4,18,IF(AA61<94.9,22.5,IF(AA61<97.4,27,IF(AA61<99.9,31.5,36))))))) -> 0 | AE61: =IF(Z61<84.9,0,IF(Z61<87.4,18,IF(Z61<89.9,27,IF(Z61<92.4,36,IF(Z61<94.9,45,IF(Z61<97.4,54,IF(Z61<99.9,63,72))))))) -> 0 | AF61: =IF(AG61=2,AH61,AI61) -> 0 | AG61: =COUNTIF(E61:E63,">1") -> 2 | AH61: =IF(AB61=1,AJ61,AK61) -> 0 | AI61: =IF(AB61=1,AL61,IF(AB61=2,AM61,AK61)) -> 0 | AJ61: =IF(AA61<84.9,0,IF(AA61<87.4,12,IF(AA61<89.9,18,IF(AA61<92.4,24,IF(AA61<94.9,30,IF(AA61<97.4,36,IF(AA61<99.9,42,48))))))) -> 0 | AK61: =IF(AA61<84.9,0,IF(AA61<87.4,24,IF(AA61<89.9,36,IF(AA61<92.4,48,IF(AA61<94.9,60,IF(AA61<97.4,72,IF(AA61<99.9,84,96))))))) -> 0 | AL61: =IF(AA61<84.9,0,IF(AA61<87.4,8,IF(AA61<89.9,12,IF(AA61<92.4,16,IF(AA61<94.9,20,IF(AA61<97.4,24,IF(AA61<99.9,28,32))))))) -> 0 | AM61: =IF(AO61<84.9,0,IF(AO61<87.4,16,IF(AO61<89.9,24,IF(AO61<92.4,32,IF(AO61<94.9,40,IF(AO61<97.4,48,IF(AO61<99.9,56,64))))))) -> 0 | AO61: =(SUM(E61:E63)-MIN(E61:E63))/2 -> 41.45
C62: Карлюк Марина | D62: 19-2 | E62: 82.9 | G62: 69 | H62: 43.601 | I62: =IF(E62<84.9,0,IF(E62<87.4,0.1,IF(E62<89.9,0.15,IF(E62<92.4,0.2,IF(E62<94.9,0.25,IF(E62<97.4,0.3,IF(E62<99.9,0.35,0.4))))))) -> 0 | J62: =H62-I62 -> 43.601
D63: 19-3 | I63: =IF(E63<84.9,0,IF(E63<87.4,0.1,IF(E63<89.9,0.15,IF(E63<92.4,0.2,IF(E63<94.9,0.25,IF(E63<97.4,0.3,IF(E63<99.9,0.35,0.4))))))) -> 0 | J63: =H63-I63 -> 0
AG68: =COUNTIF(E68:E70,">1") -> 0
AG69: =COUNTIF(E69:E71,">1") -> 0
AG70: =COUNTIF(E70:E72,">1") -> 0
AG71: =COUNTIF(E71:E73,">1") -> 0
AG72: =COUNTIF(E72:E74,">1") -> 0
AG73: =COUNTIF(E73:E75,">1") -> 0
AG74: =COUNTIF(E74:E76,">1") -> 0
AG75: =COUNTIF(E75:E77,">1") -> 0
AG76: =COUNTIF(E76:E78,">1") -> 0
AG77: =COUNTIF(E77:E79,">1") -> 0
AG78: =COUNTIF(E78:E80,">1") -> 0
AG79: =COUNTIF(E79:E81,">1") -> 0
... AG84: =COUNTIF(E84:E86,">1") -> 0

Sheet KartFreedom
A2: Чемпионат мини марафон "Большие Гонки", 11-й этап
A4: KartFreedom
A6: Обяза-тельные | B6: Пилот | C6: карт | D6: Круг | E6: кругов на отрезке | F6: Статистика по кругам | J6: Общее время гонки | K6: Время на трассе
F7: Лучший круг | G7: Среднее на отрезке | H7: Кругов в 0,1 от лучшего | I7: стабильность | K7: отрезок | L7: всего у пилота | M7: Питы | N7: Штрафы/ бонусы (сек)
A8: 1 | B8: Бахмацкий Олег | C8: 10 | D8: =COUNTA(C19:C83) -> 43 | E8: =COUNTA(C19:C83) -> 43 | F8: =MIN(C19:C82) -> 42.08 | G8: =AVERAGE(C19:C85) -> 42.413953 | I8: =G8-F8 -> 0.33395349 | J8: 0.021174641 | K8: =J8 -> 0.021174641 | L8: =K8 -> 0.021174641 | M8: 2:22.30 | N8: +5 | O8: лимит
A9: 2 | B9: Бахмацкий Олег | C9: 44 | D9: =COUNTA(D19:D83)+D8+1 -> 81 | E9: =COUNTA(D19:D83)+1 -> 38 | F9: =MIN(D19:D82) -> 42.33 | G9: =AVERAGE(D19:D84) -> 42.582432 | I9: =G9-F9 -> 0.25243243 | J9: 0.041057303 | K9: =J9-J8 -> 0.019882662 | L9: =K9+L8 -> 0.041057303 | M9: 2:16.76
A10: 3 | B10: Терещенко Андрей | C10: 7 | D10: =COUNTA(E19:E83)+D9+1 -> 104 | E10: =COUNTA(E19:E83)+1 -> 23 | F10: =MIN(E19:E84) -> 42.59 | G10: =AVERAGE(E19:E85) -> 42.780909 | I10: =G10-F10 -> 0.19090909 | J10: 0.053532199 | K10: =J10-J9 -> 0.012474896 | L10: =K10 -> 0.012474896 | M10: 1:54.15 | N10: -22.5 | O10: Бонус
A11: 4 | B11: Терещенко Андрей | C11: 13 | D11: =COUNTA(F19:F83)+D10+1+5 -> 152 | E11: =COUNTA(F19:F83)+1+4 -> 47 | F11: =MIN(F19:F84) -> 42.27 | G11: =AVERAGE(F19:F84) -> 42.432619 | I11: =G11-F11 -> 0.16261905 | J11: 0.077944965 | K11: =J11-J10 -> 0.024412766 | L11: =K11+L10 -> 0.036887662 | M11: 2:47.22 | O11: пит 2 минуты
A12: 5 | B12: Бахмацкий Олег | C12: 9 | D12: =COUNTA(G19:G83)+D11+1 -> 194 | E12: =COUNTA(G19:G83)+1 -> 42 | F12: =MIN(G19:G84) -> 41.99 | G12: =AVERAGE(G19:G884) -> 42.335122 | I12: =G12-F12 -> 0.34512195 | J12: 0.099972801 | K12: =J12-J11 -> 0.022027836 | L12: =K12+L9 -> 0.063085139 | M12: 2:17.60
A13: Финиш | B13: Терещенко Андрей | C13: 12 | D13: =COUNTA(H19:H83)+D12+1 -> 243 | E13: =COUNTA(H19:H83)+1 -> 49 | F13: =MIN(H19:H84) -> 42.16 | G13: =AVERAGE(H19:H84) -> 42.436667 | I13: =G13-F13 -> 0.27666667 | J13: ='Общие результаты'!G6 -> 3:00:12 | K13: =J13-J12 -> 0.025166088 | L13: =K13+L11 -> 0.06205375 | N13: +5 | O13: фишка на 5 пите
F14: =AVERAGE(F8,F9,F12) -> 42.133333 | G14: =AVERAGE(G8,G9,G12) -> 42.443836 | H14: Олег | I14: =AVERAGE(I8,I9,I12) -> 0.31050262
F15: =AVERAGE(F10,F11,F13) -> 42.34 | G15: =AVERAGE(G10,G11,G13) -> 42.550065 | H15: Андрей | I15: =AVERAGE(I10,I11,I13) -> 0.21006494
F16: =AVERAGE(F8:F13) -> 42.236667 | G16: =AVERAGE(C19:H88) -> 42.469528 | I16: =AVERAGE(I8:I13) -> 0.26028378
C18: =B8 -> Бахмацкий Олег | D18: =B9 -> Бахмацкий Олег | E18: =B10 -> Терещенко Андрей | F18: =B11 -> Терещенко Андрей | G18: =B12 -> Бахмацкий Олег | H18: =B13 -> Терещенко Андрей
B19: 1 | C19: 45.43 | D19: 42.53 | E19: 42.96 | F19: 42.39 | G19: 42.68 | H19: 42.65
B20: 2 | C20: 43.26 | D20: 42.63 | E20: 42.73 | F20: 42.28 | G20: 42.63 | H20: 42.59
B21: 3 | C21: 42.93 | D21: 42.7 | E21: 42.71 | F21: 42.3 | G21: 42.34 | H21: 42.29
B22: 4 | C22: 42.41 | D22: 42.59 | E22: 42.96 | F22: 42.28 | G22: 42.16 | H22: 42.72
B23: 5 | C23: 42.5 | D23: 42.43 | E23: 42.83 | F23: 42.35 | G23: 42.82 | H23: 42.38
B24: 6 | C24: 42.31 | D24: 42.69 | E24: 42.96 | F24: 42.28 | G24: 42.18 | H24: 42.48
B25: 7 | C25: 42.19 | D25: 42.39 | E25: 42.75 | F25: 42.71 | G25: 42.31 | H25: 42.34
B26: 8 | C26: 42.34 | D26: 42.49 | E26: 42.71 | F26: 42.5 | G26: 42.3 | H26: 42.54
B27: 9 | C27: 42.24 | D27: 42.48 | E27: 42.62 | F27: 42.39 | G27: 42.17 | H27: 42.33
B28: 10 | C28: 42.29 | D28: 42.45 | E28: 42.73 | F28: 42.43 | G28: 42.56 | H28: 42.72
B29: 11 | C29: 42.48 | D29: 42.55 | E29: 42.61 | F29: 42.4 | G29: 42.36 | H29: 42.36
B30: 12 | C30: 42.4 | D30: 42.66 | E30: 42.79 | F30: 42.46 | G30: 42.21 | H30: 42.42
... B36: 18 | C36: 42.21 | D36: 42.58 | E36: 42.69 | F36: 42.43 | G36: 42.45 | H36: 42.25
B37: 19 | C37: 42.19 | D37: 42.43 | E37: 42.86 | G37: 42.31 | H37: 42.39
B38: 20 | C38: 42.27 | D38: 42.57 | E38: 42.84 | G38: 42.28 | H38: 42.4
B39: 21 | C39: 42.32 | D39: 42.56 | E39: 42.59 | G39: 42.16 | H39: 42.39
B40: 22 | C40: 42.42 | D40: 42.36 | E40: 43.49 | F40: 42.38 | G40: 42.03 | H40: 42.22
B41: 23 | C41: 42.23 | D41: 42.53 | F41: 42.42 | G41: 42.18 | H41: 42.35
B42: 24 | C42: 42.25 | D42: 42.43 | F42: 42.45 | G42: 42.13 | H42: 42.34
B43: 25 | C43: 42.2 | D43: 42.56 | F43: 42.46 | G43: 42.27 | H43: 42.23
B44: 26 | C44: 42.13 | D44: 42.63 | F44: 42.42 | G44: 42.35 | H44: 42.57
B45: 27 | C45: 42.38 | D45: 42.79 | F45: 42.35 | G45: 42.1 | H45: 43.17
B46: 28 | C46: 42.26 | D46: 42.59 | F46: 42.41 | G46: 43.31 | H46: 42.33
B47: 29 | C47: 42.15 | D47: 42.47 | F47: 42.55 | G47: 42.72 | H47: 42.34
B48: 30 | C48: 42.19 | D48: 42.81 | F48: 42.51 | G48: 42.33 | H48: 42.66
B49: 31 | C49: 42.23 | D49: 42.56 | F49: 42.52 | G49: 42.39 | H49: 42.38
B50: 32 | C50: 42.32 | D50: 42.47 | F50: 42.35 | G50: 42.19 | H50: 42.61
B51: 33 | C51: 42.35 | D51: 42.39 | F51: 42.43 | G51: 42.34 | H51: 42.31
B52: 34 | C52: 42.23 | D52: 42.69 | F52: 42.41 | G52: 42.06 | H52: 42.16
... B55: 37 | C55: 42.08 | D55: 43.67 | F55: 42.4 | G55: 42.03 | H55: 42.31
B56: 38 | C56: 42.29 | F56: 42.36 | G56: 42.47 | H56: 42.86
B57: 39 | C57: 42.34 | F57: 42.35 | G57: 41.99 | H57: 42.52
B58: 40 | C58: 42.34 | F58: 42.74 | G58: 42.05 | H58: 42.31
B59: 41 | C59: 42.21 | F59: 42.45 | G59: 42.97 | H59: 42.19
B60: 42 | C60: 42.43 | F60: 42.55 | H60: 42.38
B61: 43 | C61: 43.16 | F61: 42.38 | H61: 42.42
B62: 44 | F62: 42.44 | H62: 42.33
B63: 45 | F63: 42.84 | H63: 42.41
B64: 46 | H64: 42.44
B65: 47 | H65: 42.47
B66: 48 | H66: 42.37
B67: 49
B68: 50
B69: 51
B70: 52
B71: 53
B72: 54
B73: 55
B74: 56
B75: 57
B76: 58
B77: 59
B78: 60
... B81: 63

Sheet NFS Kozaks
A2: Чемпионат мини марафон "Большие Гонки", 11-й этап
A4: NFS Kozaks
A6: Обяза-тельные | B6: Пилот | C6: карт | D6: Круг | E6: кругов на отрезке | F6: Статистика по кругам | J6: Общее время гонки | K6: Время на трассе
F7: Лучший круг | G7: Среднее на отрезке | H7: Кругов в 0,1 от лучшего | I7: стабильность | K7: отрезок | L7: всего у пилота | M7: Питы | N7: Штрафы/ бонусы (сек)
A8: 1 | B8: Наум | C8: 1 | D8: =COUNTA(C19:C83) -> 21 | E8: =COUNTA(C19:C83) -> 21 | F8: =MIN(C19:C82) -> 42.35 | G8: =AVERAGE(C19:C85) -> 42.832857 | I8: =G8-F8 -> 0.48285714 | J8: 0.010448924 | K8: =J8 -> 0.010448924 | L8: =K8 -> 0.010448924 | M8: 2:09.89 | N8: -9 | O8: бонус
A9: 2 | B9: Наум | C9: 15 | D9: =COUNTA(D19:D83)+D8+1 -> 41 | E9: =COUNTA(D19:D83)+1 -> 20 | F9: =MIN(D19:D82) -> 42.21 | G9: =AVERAGE(D19:D84) -> 42.537895 | I9: =G9-F9 -> 0.32789474 | J9: 0.021305683 | K9: =J9-J8 -> 0.010856759 | L9: =K9+L8 -> 0.021305683 | M9: 2:20.93
A10: 3 | B10: Тыщенко Миша | C10: 13 | D10: =COUNTA(E19:E83)+D9+1 -> 100 | E10: =COUNTA(E19:E83)+1 -> 59 | F10: =MIN(E19:E84) -> 41.97 | G10: =AVERAGE(E19:E85) -> 42.376207 | I10: =G10-F10 -> 0.4062069 | J10: 0.051394155 | K10: =J10-J9 -> 0.030088472 | L10: =K10 -> 0.030088472 | M10: 2:18.84
A11: 4 | B11: Наум | C11: 6 | D11: =COUNTA(F19:F83)+D10+1+4 -> 140 | E11: =COUNTA(F19:F83)+1+4 -> 40 | F11: =MIN(F19:F84) -> 42.49 | G11: =AVERAGE(F19:F84) -> 42.770571 | I11: =G11-F11 -> 0.28057143 | J11: 0.072303565 | K11: =J11-J10 -> 0.02090941 | L11: =K11+L9 -> 0.042215093 | M11: 2:49.73 | O11: пит 2 минуты
A12: 5 | B12: Тыщенко Миша | C12: 44 | D12: =COUNTA(G19:G83)+D11+1 -> 192 | E12: =COUNTA(G19:G83)+1 -> 52 | F12: =MIN(G19:G84) -> 42.46 | G12: =AVERAGE(G19:G884) -> 42.882157 | I12: =G12-F12 -> 0.42215686 | J12: 0.099576701 | K12: =J12-J11 -> 0.027273137 | L12: =K12+L10 -> 0.057361609 | M12: 2:18.56
A13: Финиш | B13: Наум | C13: 8 | D13: =COUNTA(H19:H83)+D12+1 -> 242 | E13: =COUNTA(H19:H83)+1 -> 50 | F13: =MIN(H19:H84) -> 42.03 | G13: =AVERAGE(H19:H84) -> 42.358571 | I13: =G13-F13 -> 0.32857143 | J13: ='Общие результаты'!G6 -> 3:00:12 | K13: =J13-J12 -> 0.025562187 | L13: =K13+L11 -> 0.06777728 | N13: +5 | O13: от судьи против 14
F14: =AVERAGE(F8,F9,F11,F13) -> 42.27 | G14: =AVERAGE(G8,G9,G11,G13) -> 42.624974 | H14: Наум | I14: =AVERAGE(I8,I9,I11,I13) -> 0.35497368
F15: =AVERAGE(F10,F12) -> 42.215 | G15: =AVERAGE(G10,G12) -> 42.629182 | H15: Миша | I15: =AVERAGE(I10,I12) -> 0.41418188
F16: =AVERAGE(F8:F13) -> 42.251667 | G16: =AVERAGE(C19:H88) -> 42.596824 | I16: =AVERAGE(I8:I13) -> 0.37470975
C18: =B8 -> Наум | D18: =B9 -> Наум | E18: =B10 -> Тыщенко Миша | F18: =B11 -> Наум | G18: =B12 -> Тыщенко Миша | H18: =B13 -> Наум
B19: 1 | C19: 45.54 | D19: 42.61 | E19: 43.04 | F19: 42.94 | G19: 43.01 | H19: 44.78
B20: 2 | C20: 43.05 | D20: 42.71 | E20: 42.88 | F20: 42.78 | G20: 42.93 | H20: 42.77
B21: 3 | C21: 43.14 | D21: 42.66 | E21: 42.4 | F21: 42.71 | G21: 43.6 | H21: 42.64
B22: 4 | C22: 42.57 | D22: 42.35 | E22: 42.5 | F22: 42.53 | G22: 42.65 | H22: 42.4
B23: 5 | C23: 42.52 | D23: 42.4 | E23: 43.34 | F23: 42.64 | G23: 42.53 | H23: 42.17
B24: 6 | C24: 42.46 | D24: 42.44 | E24: 43.18 | F24: 42.62 | G24: 43.05 | H24: 42.51
B25: 7 | C25: 42.47 | D25: 42.46 | E25: 42.32 | F25: 42.59 | G25: 42.65 | H25: 42.35
B26: 8 | C26: 42.46 | D26: 42.51 | E26: 42.23 | F26: 42.89 | G26: 42.55 | H26: 42.56
B27: 9 | C27: 42.4 | D27: 42.21 | E27: 42.2 | F27: 43.01 | G27: 42.78 | H27: 42.15
B28: 10 | C28: 42.41 | D28: 42.42 | E28: 42.1 | F28: 42.52 | G28: 43.29 | H28: 42.21
B29: 11 | C29: 42.35 | D29: 42.62 | E29: 42.18 | F29: 43.09 | G29: 42.57 | H29: 42.17
B30: 12 | C30: 42.76 | D30: 42.6 | E30: 42.05 | F30: 43.08 | G30: 42.83 | H30: 42.21
... B37: 19 | C37: 42.64 | D37: 43.44 | E37: 42.05 | F37: 43.01 | G37: 42.69 | H37: 42.4
B38: 20 | C38: 42.37 | E38: 41.97 | F38: 42.59 | G38: 42.83 | H38: 42.19
B39: 21 | C39: 44.6 | E39: 42.02 | F39: 42.69 | G39: 42.57 | H39: 42.35
B40: 22 | E40: 42.35 | F40: 42.94 | G40: 42.7 | H40: 42.12
B41: 23 | E41: 42.37 | G41: 42.59 | H41: 42.17
B42: 24 | E42: 42.67 | G42: 42.84 | H42: 42.08
B43: 25 | E43: 42.76 | G43: 42.79 | H43: 42.37
B44: 26 | E44: 42.19 | G44: 42.87 | H44: 42.26
B45: 27 | E45: 42.37 | F45: 42.61 | G45: 43.66 | H45: 42.19
B46: 28 | E46: 42.37 | F46: 42.77 | G46: 42.9 | H46: 42.57
B47: 29 | E47: 42.28 | F47: 42.61 | G47: 42.74 | H47: 42.14
B48: 30 | E48: 42.2 | F48: 42.67 | G48: 42.59 | H48: 42.32
B49: 31 | E49: 42.14 | F49: 43.01 | G49: 42.79 | H49: 42.1
B50: 32 | E50: 42.11 | F50: 42.57 | G50: 42.96 | H50: 42.2
B51: 33 | E51: 42.14 | F51: 42.5 | G51: 42.83 | H51: 42.31
B52: 34 | E52: 42.05 | F52: 42.52 | G52: 42.78 | H52: 43
B53: 35 | E53: 41.97 | F53: 42.59 | G53: 42.93 | H53: 42.39
B54: 36 | E54: 42.05 | F54: 42.65 | G54: 42.9 | H54: 42.47
B55: 37 | E55: 42.11 | F55: 42.9 | G55: 42.97 | H55: 42.11
B56: 38 | E56: 42.1 | F56: 43.15 | G56: 43 | H56: 42.03
B57: 39 | E57: 41.97 | F57: 44.02 | G57: 42.86 | H57: 42.08
B58: 40 | E58: 42.01 | G58: 42.71 | H58: 42.3
B59: 41 | E59: 42.01 | G59: 43.34 | H59: 42.51
B60: 42 | E60: 42.22 | G60: 43.23 | H60: 42.33
B61: 43 | E61: 42.14 | G61: 42.89 | H61: 42.2
B62: 44 | E62: 42.07 | G62: 43.03 | H62: 42.15
B63: 45 | E63: 42.58 | G63: 42.94 | H63: 42.18
B64: 46 | E64: 42.3 | G64: 42.83 | H64: 42.41
B65: 47 | E65: 42.21 | G65: 42.8 | H65: 42.18
B66: 48 | E66: 42.43 | G66: 42.97 | H66: 42.05
B67: 49 | E67: 42.13 | G67: 43.13 | H67: 42.22
B68: 50 | E68: 42.01 | G68: 43.35
B69: 51 | E69: 42.13 | G69: 43.96
B70: 52 | E70: 42.45
B71: 53 | E71: 43.89
B72: 54 | E72: 43
B73: 55 | E73: 42.12
B74: 56 | E74: 42.4
B75: 57 | E75: 42.24
B76: 58 | E76: 44.6
B77: 59
B78: 60
B79: 61
B80: 62
B81: 63

Sheet Vpered Ta Vgory
A2: Чемпионат мини марафон "Большие Гонки", 11-й этап
A4: Vpered Ta Vgory
A6: Обяза-тельные | B6: Пилот | C6: карт | D6: Круг | E6: кругов на отрезке | F6: Статистика по кругам | J6: Общее время гонки | K6: Время на трассе
F7: Лучший круг | G7: Среднее на отрезке | H7: Кругов в 0,1 от лучшего | I7: стабильность | K7: отрезок | L7: всего у пилота | M7: Питы | N7: Штрафы/ бонусы (сек)
A8: 1 | B8: Лысенский Денис | C8: 18 | D8: =COUNTA(C19:C83) -> 22 | E8: =COUNTA(C19:C83) -> 22 | F8: =MIN(C19:C82) -> 42.38 | G8: =AVERAGE(C19:C85) -> 42.862273 | I8: =G8-F8 -> 0.48227273 | J8: 0.010949363 | K8: =J8 -> 0.010949363 | L8: =K8 -> 0.010949363 | M8: 2:17.41
A9: 2 | B9: Манило Денис | C9: 8 | D9: =COUNTA(D19:D83)+D8+1 -> 43 | E9: =COUNTA(D19:D83)+1 -> 21 | F9: =MIN(D19:D82) -> 42.33 | G9: =AVERAGE(D19:D84) -> 42.6145 | I9: =G9-F9 -> 0.2845 | J9: 0.022410359 | K9: =J9-J8 -> 0.011460995 | L9: =K9 -> 0.011460995 | M9: 2:07.96 | O9: 10 секунд недодержали
A10: 3 | B10: Лысенский Денис | C10: 10 | D10: =COUNTA(E19:E83)+D9+1 -> 95 | E10: =COUNTA(E19:E83)+1 -> 52 | F10: =MIN(E19:E84) -> 42.27 | G10: =AVERAGE(E19:E85) -> 42.558627 | I10: =G10-F10 -> 0.28862745 | J10: 0.049016019 | K10: =J10-J9 -> 0.02660566 | L10: =K10+L8 -> 0.037555023 | M10: 2:16.14
A11: 4 | B11: Манило Денис | C11: 9 | D11: =COUNTA(F19:F83)+D10+1+5 -> 151 | E11: =COUNTA(F19:F83)+1+5 -> 56 | F11: =MIN(F19:F84) -> 42.13 | G11: =AVERAGE(F19:F84) -> 42.4206 | I11: =G11-F11 -> 0.2906 | J11: 0.077598241 | K11: =J11-J10 -> 0.028582222 | L11: =K11+L9 -> 0.040043218 | M11: 2:50.66
A12: 5 | B12: Лысенский Денис | C12: 21 | D12: =COUNTA(G19:G83)+D11+1 -> 181 | E12: =COUNTA(G19:G83)+1 -> 30 | F12: =MIN(G19:G84) -> 42.5 | G12: =AVERAGE(G19:G884) -> 42.76 | I12: =G12-F12 -> 0.26 | J12: 0.093912037 | K12: =J12-J11 -> 0.016313796 | L12: =K12+L10 -> 0.053868819 | M12: 3:57.11
A13: Финиш | B13: Манило Денис | C13: 17 | D13: =COUNTA(H19:H83)+D12+1+2 -> 242 | E13: =COUNTA(H19:H83)+1 -> 59 | F13: =MIN(H19:H84) -> 42.39 | G13: =AVERAGE(H19:H84) -> 42.642069 | I13: =G13-F13 -> 0.25206897 | J13: ='Общие результаты'!G6 -> 3:00:12 | K13: =J13-J12 -> 0.031226852 | L13: =K13+L11 -> 0.071270069 | N13: +15+10-100 | O13: лимит+недодержали-поломка
F14: =AVERAGE(F8,F10,F12) -> 42.383333 | G14: =AVERAGE(G8,G10,G12) -> 42.726967 | H14: Дио | I14: =AVERAGE(I8,I10,I12) -> 0.34363339
F15: =AVERAGE(F9,F11,F13) -> 42.283333 | G15: =AVERAGE(G9,G11,G13) -> 42.559056 | H15: Денис | I15: =AVERAGE(I9,I11,I13) -> 0.27572299
F16: =AVERAGE(F8:F13) -> 42.333333 | G16: =AVERAGE(C19:H88) -> 42.608957 | I16: =AVERAGE(I8:I13) -> 0.30967819
C18: =B8 -> Лысенский Денис | D18: =B9 -> Манило Денис | E18: =B10 -> Лысенский Денис | F18: =B11 -> Манило Денис | G18: =B12 -> Лысенский Денис | H18: =B13 -> Манило Денис
B19: 1 | C19: 46.42 | D19: 42.84 | E19: 42.41 | F19: 42.31 | G19: 42.85 | H19: 42.97
B20: 2 | C20: 42.89 | D20: 42.7 | E20: 42.56 | F20: 42.43 | G20: 42.75 | H20: 42.84
B21: 3 | C21: 42.73 | D21: 42.62 | E21: 42.45 | F21: 42.79 | G21: 42.78 | H21: 42.8
B22: 4 | C22: 42.66 | D22: 42.49 | E22: 42.45 | F22: 42.41 | G22: 42.69 | H22: 42.67
B23: 5 | C23: 42.49 | D23: 42.46 | E23: 42.33 | F23: 42.26 | G23: 42.69 | H23: 42.84
B24: 6 | C24: 42.5 | D24: 42.59 | E24: 42.92 | F24: 42.18 | G24: 42.8 | H24: 42.69
B25: 7 | C25: 42.64 | D25: 42.65 | E25: 42.47 | F25: 42.27 | G25: 42.56 | H25: 42.61
B26: 8 | C26: 42.52 | D26: 42.42 | E26: 42.69 | F26: 42.17 | G26: 42.73 | H26: 42.51
B27: 9 | C27: 42.38 | D27: 43.1 | E27: 42.41 | F27: 42.38 | G27: 42.65 | H27: 42.72
B28: 10 | C28: 42.54 | D28: 42.41 | E28: 42.69 | F28: 42.29 | G28: 42.8 | H28: 42.67
B29: 11 | C29: 42.51 | D29: 42.55 | E29: 42.6 | F29: 42.28 | G29: 42.93 | H29: 42.59
B30: 12 | C30: 43.57 | D30: 42.5 | E30: 42.73 | F30: 42.13 | G30: 42.82 | H30: 42.76
... B38: 20 | C38: 42.64 | D38: 43.35 | E38: 42.42 | F38: 42.21 | G38: 42.76 | H38: 42.63
B39: 21 | C39: 42.88 | E39: 42.41 | F39: 42.4 | G39: 42.6 | H39: 42.62
B40: 22 | C40: 43.7 | E40: 42.45 | F40: 42.7 | G40: 42.8 | H40: 42.6
B41: 23 | E41: 44.32 | F41: 42.33 | G41: 42.59 | H41: 42.63
B42: 24 | E42: 42.38 | F42: 42.36 | G42: 42.5 | H42: 42.85
B43: 25 | E43: 42.44 | F43: 42.15 | G43: 42.68 | H43: 42.79
B44: 26 | E44: 42.38 | F44: 42.44 | G44: 43.22 | H44: 42.78
B45: 27 | E45: 42.38 | F45: 42.26 | G45: 42.59 | H45: 42.64
B46: 28 | E46: 42.41 | G46: 42.67 | H46: 42.68
B47: 29 | E47: 42.56 | G47: 43.41 | H47: 42.66
B48: 30 | E48: 42.6 | H48: 42.49
B49: 31 | E49: 42.62 | H49: 42.48
B50: 32 | E50: 42.49 | F50: 42.31 | H50: 42.39
B51: 33 | E51: 42.46 | F51: 42.25 | H51: 42.42
B52: 34 | E52: 42.33 | F52: 42.7 | H52: 42.54
B53: 35 | E53: 42.63 | F53: 42.77 | H53: 42.6
B54: 36 | E54: 42.62 | F54: 42.72 | H54: 42.73
B55: 37 | E55: 42.46 | F55: 42.37 | H55: 43.35
B56: 38 | E56: 42.49 | F56: 42.44 | H56: 42.72
B57: 39 | E57: 43.03 | F57: 42.29 | H57: 42.58
B58: 40 | E58: 42.32 | F58: 42.48 | H58: 42.53 | O58: =123+112 -> 235
B59: 41 | E59: 42.27 | F59: 42.38 | H59: 42.59
B60: 42 | E60: 43.03 | F60: 42.31 | H60: 42.62
B61: 43 | E61: 42.37 | F61: 42.27 | H61: 42.62
B62: 44 | E62: 42.52 | F62: 42.49 | H62: 42.55
B63: 45 | E63: 42.39 | F63: 42.44 | H63: 42.55
B64: 46 | E64: 42.49 | F64: 42.26 | H64: 42.4
B65: 47 | E65: 42.54 | F65: 42.24 | H65: 42.56
B66: 48 | E66: 42.51 | F66: 42.32 | H66: 42.63
B67: 49 | E67: 42.39 | F67: 42.42 | H67: 42.72
B68: 50 | E68: 42.35 | F68: 42.35 | H68: 42.56
B69: 51 | E69: 43.13 | F69: 42.34 | H69: 42.62
B70: 52 | F70: 42.42 | H70: 42.63
B71: 53 | F71: 42.34 | H71: 42.56
B72: 54 | F72: 43.83 | H72: 42.59
B73: 55 | H73: 42.46
B74: 56 | H74: 42.47
B75: 57 | H75: 42.61
B76: 58 | H76: 42.98
B77: 59
B78: 60
B79: 61
B80: 62
B81: 63

Sheet Hurricane RT Ukraine
A2: Чемпионат мини марафон "Большие Гонки", 11-й этап
A4: Hurricane RT Ukraine
A6: Обяза-тельные | B6: Пилот | C6: карт | D6: Круг | E6: кругов на отрезке | F6: Статистика по кругам | J6: Общее время гонки | K6: Время на трассе
F7: Лучший круг | G7: Среднее на отрезке | H7: Кругов в 0,1 от лучшего | I7: стабильность | K7: отрезок | L7: всего у пилота | M7: Питы | N7: Штрафы/ бонусы (сек)
A8: 1 | B8: Стоцкий Андрей | C8: 44 | D8: =COUNTA(C19:C83) -> 36 | E8: =COUNTA(C19:C83) -> 36 | F8: =MIN(C19:C82) -> 42.45 | G8: =AVERAGE(C19:C85) -> 43.114444 | I8: =G8-F8 -> 0.66444444 | J8: 0.018066366 | K8: =J8 -> 0.018066366 | L8: =K8 -> 0.018066366 | M8: 2:17.02
A9: 2 | B9: Стоцкий Андрей | C9: 12 | D9: =COUNTA(D19:D83)+D8+1 -> 97 | E9: =COUNTA(D19:D83)+1 -> 61 | F9: =MIN(D19:D82) -> 41.89 | G9: =AVERAGE(D19:D84) -> 42.225167 | I9: =G9-F9 -> 0.33516667 | J9: 0.048971644 | K9: =J9-J8 -> 0.030905278 | L9: =K9+L8 -> 0.048971644 | M9: 2:09.16 | N9: -9 | O9: бонус
A10: 3 | B10: Голубченко Саша | C10: 17 | D10: =COUNTA(E19:E83)+D9+1+4 -> 153 | E10: =COUNTA(E19:E83)+1+4 -> 56 | F10: =MIN(E19:E84) -> 42.5 | G10: =AVERAGE(E19:E85) -> 42.84549 | I10: =G10-F10 -> 0.3454902 | J10: 0.077763611 | K10: =J10-J9 -> 0.028791968 | L10: =K10 -> 0.028791968 | M10: 3:07.71 | N10: +20 | O10: заезд под флагом
A11: 4 | B11: Стоцкий Андрей | C11: 33 | D11: =COUNTA(F19:F83)+D10+1 -> 190 | E11: =COUNTA(F19:F83)+1 -> 37 | F11: =MIN(F19:F84) -> 41.98 | G11: =AVERAGE(F19:F84) -> 42.261389 | I11: =G11-F11 -> 0.28138889 | J11: 0.097537512 | K11: =J11-J10 -> 0.0197739 | L11: =K11+L9 -> 0.068745544 | M11: 2:17.65
A12: 5 | B12: Голубченко Саша | C12: 3 | D12: =COUNTA(G19:G83)+D11+1 -> 222 | E12: =COUNTA(G19:G83)+1 -> 32 | F12: =MIN(G19:G84) -> 42.41 | G12: =AVERAGE(G19:G884) -> 42.648065 | I12: =G12-F12 -> 0.23806452 | J12: 0.11442597 | K12: =J12-J11 -> 0.016888461 | L12: =K12+L10 -> 0.045680428 | M12: 2:17.36
A13: Финиш | B13: Голубченко Саша | C13: 2 | D13: =COUNTA(H19:H83)+D12+1 -> 242 | E13: =COUNTA(H19:H83)+1 -> 20 | F13: =MIN(H19:H84) -> 42.2 | G13: =AVERAGE(H19:H84) -> 42.565263 | I13: =G13-F13 -> 0.36526316 | J13: ='Общие результаты'!G6 -> 3:00:12 | K13: =J13-J12 -> 0.010712917 | L13: =K13+L12 -> 0.056393345 | N13: +5 | O13: фишка 4 -й пит
F14: =AVERAGE(F8,F9,F11) -> 42.106667 | G14: =AVERAGE(G8,G9,G11) -> 42.533667 | H14: Андрей | I14: =AVERAGE(I8,I9,I11) -> 0.427
F15: =AVERAGE(F10,F12,F13) -> 42.37 | G15: =AVERAGE(G10,G12,G13) -> 42.686273 | H15: Саша | I15: =AVERAGE(I10,I12,I13) -> 0.31627262
F16: =AVERAGE(F8:F13) -> 42.238333 | G16: =AVERAGE(C19:H88) -> 42.58794 | I16: =AVERAGE(I8:I13) -> 0.37163631
C18: =B8 -> Стоцкий Андрей | D18: =B9 -> Стоцкий Андрей | E18: =B10 -> Голубченко Саша | F18: =B11 -> Стоцкий Андрей | G18: =B12 -> Голубченко Саша | H18: =B13 -> Голубченко Саша
B19: 1 | C19: 46.56 | D19: 42.6 | E19: 42.74 | F19: 42.57 | G19: 42.81 | H19: 42.68
B20: 2 | C20: 43.23 | D20: 42.38 | E20: 42.99 | F20: 42.6 | G20: 42.54 | H20: 42.76
B21: 3 | C21: 42.77 | D21: 42.34 | E21: 42.96 | F21: 42.42 | G21: 42.59 | H21: 42.45
B22: 4 | C22: 44.28 | D22: 42.36 | E22: 42.91 | F22: 42.22 | G22: 42.79 | H22: 42.76
B23: 5 | C23: 43.43 | D23: 42.77 | E23: 42.66 | F23: 42.11 | G23: 42.69 | H23: 42.65
B24: 6 | C24: 42.51 | D24: 42.17 | E24: 42.79 | F24: 42.06 | G24: 42.7 | H24: 42.45
B25: 7 | C25: 45.23 | D25: 41.99 | E25: 42.75 | F25: 42.49 | G25: 42.78 | H25: 42.64
B26: 8 | C26: 44.76 | D26: 42 | E26: 42.86 | F26: 42.7 | G26: 42.65 | H26: 42.37
B27: 9 | C27: 43.51 | D27: 42.38 | E27: 42.94 | F27: 42.08 | G27: 42.84 | H27: 42.77
B28: 10 | C28: 42.7 | D28: 42.26 | E28: 42.71 | F28: 42.11 | G28: 42.7 | H28: 42.5
B29: 11 | C29: 42.57 | D29: 42.37 | E29: 42.59 | F29: 42.3 | G29: 42.52 | H29: 42.55
B30: 12 | C30: 42.48 | D30: 42.14 | E30: 42.5 | F30: 42.28 | G30: 42.5 | H30: 42.5
... B37: 19 | C37: 42.72 | D37: 42.2 | E37: 42.95 | F37: 42.22 | G37: 42.58 | H37: 42.52
B38: 20 | C38: 42.67 | D38: 42.01 | E38: 42.57 | F38: 42.21 | G38: 42.87
B39: 21 | C39: 42.83 | D39: 42.4 | E39: 42.98 | F39: 42.05 | G39: 42.6
B40: 22 | C40: 43.24 | D40: 42.08 | E40: 42.95 | F40: 42.09 | G40: 42.46
B41: 23 | C41: 42.55 | D41: 42.04 | E41: 42.84 | F41: 42.24 | G41: 42.68
B42: 24 | C42: 42.72 | D42: 42.46 | E42: 42.63 | F42: 42.13 | G42: 42.63
B43: 25 | C43: 42.66 | D43: 42.02 | E43: 42.98 | F43: 42.03 | G43: 42.56
B44: 26 | C44: 43.36 | D44: 42.29 | E44: 43.29 | F44: 42.06 | G44: 42.65
B45: 27 | C45: 43.86 | D45: 42.27 | E45: 42.64 | F45: 42.02 | G45: 42.62
B46: 28 | C46: 42.74 | D46: 42.13 | F46: 43.07 | G46: 42.53
B47: 29 | C47: 42.8 | D47: 42.16 | F47: 42.26 | G47: 42.46
B48: 30 | C48: 42.68 | D48: 42.29 | F48: 42.09 | G48: 42.47
B49: 31 | C49: 42.68 | D49: 42.15 | F49: 42.3 | G49: 43.29
B50: 32 | C50: 42.81 | D50: 42.06 | E50: 42.77 | F50: 42.34
B51: 33 | C51: 43.02 | D51: 42.32 | E51: 43.32 | F51: 42.21
B52: 34 | C52: 42.76 | D52: 42.13 | E52: 42.84 | F52: 42.22
B53: 35 | C53: 42.58 | D53: 42.15 | E53: 42.74 | F53: 42.16
B54: 36 | C54: 43.8 | D54: 42.13 | E54: 42.83 | F54: 42.86
B55: 37 | D55: 42.03 | E55: 42.7
B56: 38 | D56: 42.06 | E56: 43.47
B57: 39 | D57: 42.21 | E57: 42.73
B58: 40 | D58: 42.12 | E58: 42.84
B59: 41 | D59: 42.09 | E59: 42.97
B60: 42 | D60: 42.23 | E60: 43.31
B61: 43 | D61: 42.23 | E61: 43.22
B62: 44 | D62: 42.01 | E62: 43.17
B63: 45 | D63: 42.02 | E63: 42.78
B64: 46 | D64: 42.16 | E64: 42.71
B65: 47 | D65: 42.14 | E65: 42.92
B66: 48 | D66: 42.28 | E66: 42.67
... B73: 55 | D73: 42.14 | E73: 43.54
B74: 56 | D74: 42.12
B75: 57 | D75: 42.32
B76: 58 | D76: 42.35
B77: 59 | D77: 42.46
B78: 60 | D78: 43.01
B79: 61
B80: 62
B81: 63

Sheet Ingul Kart Rt
A2: Чемпионат мини марафон "Большие Гонки", 11-й этап
A4: Ingul Kart Rt
A6: Обяза-тельные | B6: Пилот | C6: карт | D6: Круг | E6: кругов на отрезке | F6: Статистика по кругам | J6: Общее время гонки | K6: Время на трассе
F7: Лучший круг | G7: Среднее на отрезке | H7: Кругов в 0,1 от лучшего | I7: стабильность | K7: отрезок | L7: всего у пилота | M7: Питы | N7: Штрафы/ бонусы (сек)
A8: 1 | B8: Кублицкий Виктор | C8: 11 | D8: =COUNTA(C19:C83) -> 36 | E8: =COUNTA(C19:C83) -> 36 | F8: =MIN(C19:C82) -> 42.31 | G8: =AVERAGE(C19:C85) -> 42.617222 | I8: =G8-F8 -> 0.30722222 | J8: 0.017809583 | K8: =J8 -> 0.017809583 | L8: =K8 -> 0.017809583 | M8: 2:21.71 | O8: передержали на 3 сек, но заехали 4-ми на пит
A9: 2 | B9: Геронимус Макс | C9: 16 | D9: =COUNTA(D19:D83)+D8+1 -> 63 | E9: =COUNTA(D19:D83)+1 -> 27 | F9: =MIN(D19:D82) -> 42.41 | G9: =AVERAGE(D19:D84) -> 42.864615 | I9: =G9-F9 -> 0.45461538 | J9: 0.03234941 | K9: =J9-J8 -> 0.014539826 | L9: =K9 -> 0.014539826 | M9: 2:22.91 | O9: передержали на 5 сек
A10: 3 | B10: Кублицкий Виктор | C10: 9 | D10: =COUNTA(E19:E83)+D9+1 -> 83 | E10: =COUNTA(E19:E83)+1 -> 20 | F10: =MIN(E19:E84) -> 42.12 | G10: =AVERAGE(E19:E85) -> 42.425263 | I10: =G10-F10 -> 0.30526316 | J10: 0.043335231 | K10: =J10-J9 -> 0.010985822 | L10: =K10+L8 -> 0.028795405 | M10: 2:17.78
A11: 4 | B11: Геронимус Макс | C11: 44 | D11: =COUNTA(F19:F83)+D10+1+5 -> 137 | E11: =COUNTA(F19:F83)+1+5 -> 54 | F11: =MIN(F19:F84) -> 42.43 | G11: =AVERAGE(F19:F84) -> 42.898125 | I11: =G11-F11 -> 0.468125 | J11: 0.071245787 | K11: =J11-J10 -> 0.027910556 | L11: =K11+L9 -> 0.042450382 | M11: 2:17.80
A12: 5 | B12: Кублицкий Виктор | C12: 8 | D12: =COUNTA(G19:G83)+D11+1 -> 192 | E12: =COUNTA(G19:G83)+1 -> 55 | F12: =MIN(G19:G84) -> 42.12 | G12: =AVERAGE(G19:G884) -> 42.384815 | I12: =G12-F12 -> 0.26481481 | J12: 0.099337488 | K12: =J12-J11 -> 0.028091701 | L12: =K12+L10 -> 0.056887106 | M12: 2:50.23 | O12: пит 2 минуты
A13: Финиш | B13: Геронимус Макс | C13: 6 | D13: =COUNTA(H19:H83)+D12+1 -> 242 | E13: =COUNTA(H19:H83)+1 -> 50 | F13: =MIN(H19:H84) -> 42.39 | G13: =AVERAGE(H19:H84) -> 42.726327 | I13: =G13-F13 -> 0.33632653 | J13: ='Общие результаты'!G6 -> 3:00:12 | K13: =J13-J12 -> 0.0258014 | L13: =K13+L11 -> 0.068251782 | N13: -8 | O13: вернули за пит 1 и 2
F14: =AVERAGE(F8,F10,F12) -> 42.183333 | G14: =AVERAGE(G8,G10,G12) -> 42.475767 | H14: Виктор | I14: =AVERAGE(I8,I10,I12) -> 0.2924334
F15: =AVERAGE(F9,F11,F13) -> 42.41 | G15: =AVERAGE(G9,G11,G13) -> 42.829689 | H15: Макс | I15: =AVERAGE(I9,I11,I13) -> 0.41968897
F16: =AVERAGE(F8:F13) -> 42.296667 | G16: =AVERAGE(C19:H88) -> 42.656293 | I16: =AVERAGE(I8:I13) -> 0.35606119
C18: =B8 -> Кублицкий Виктор | D18: =B9 -> Геронимус Макс | E18: =B10 -> Кублицкий Виктор | F18: =B11 -> Геронимус Макс | G18: =B12 -> Кублицкий Виктор | H18: =B13 -> Геронимус Макс
B19: 1 | C19: 44.74 | D19: 42.9 | E19: 42.3 | F19: 42.98 | G19: 42.47 | H19: 42.86
B20: 2 | C20: 42.94 | D20: 42.81 | E20: 42.57 | F20: 43.38 | G20: 42.41 | H20: 42.76
B21: 3 | C21: 42.53 | D21: 42.73 | E21: 42.32 | F21: 42.55 | G21: 42.57 | H21: 43.2
B22: 4 | C22: 42.47 | D22: 42.61 | E22: 42.35 | F22: 42.54 | G22: 42.33 | H22: 42.82
B23: 5 | C23: 42.47 | D23: 42.66 | E23: 42.52 | F23: 42.85 | G23: 42.49 | H23: 42.53
B24: 6 | C24: 42.43 | D24: 42.66 | E24: 42.17 | F24: 42.73 | G24: 42.18 | H24: 42.45
B25: 7 | C25: 42.54 | D25: 44.73 | E25: 42.54 | F25: 42.57 | G25: 42.75 | H25: 42.42
B26: 8 | C26: 42.49 | D26: 42.94 | E26: 42.33 | F26: 44.29 | G26: 42.44 | H26: 42.47
B27: 9 | C27: 42.33 | D27: 42.7 | E27: 42.33 | F27: 43.4 | G27: 42.43 | H27: 44.32
B28: 10 | C28: 42.45 | D28: 42.7 | E28: 42.57 | F28: 43.1 | G28: 42.27 | H28: 42.74
B29: 11 | C29: 42.31 | D29: 42.51 | E29: 42.18 | F29: 42.57 | G29: 42.38 | H29: 42.52
B30: 12 | C30: 42.36 | D30: 43.53 | E30: 42.34 | F30: 42.88 | G30: 42.47 | H30: 42.93
... B37: 19 | C37: 42.35 | D37: 42.56 | E37: 43.82 | F37: 42.72 | G37: 42.42 | H37: 42.78
B38: 20 | C38: 42.95 | D38: 42.73 | F38: 42.67 | G38: 42.45 | H38: 42.53
B39: 21 | C39: 42.54 | D39: 42.56 | F39: 42.43 | G39: 42.33 | H39: 42.66
B40: 22 | C40: 42.41 | D40: 42.44 | F40: 42.64 | G40: 42.5 | H40: 42.74
B41: 23 | C41: 42.43 | D41: 42.79 | F41: 42.74 | G41: 42.39 | H41: 42.63
B42: 24 | C42: 42.4 | D42: 42.57 | F42: 42.67 | G42: 42.38 | H42: 42.61
B43: 25 | C43: 42.44 | D43: 42.56 | F43: 43.47 | G43: 42.15 | H43: 42.54
B44: 26 | C44: 42.59 | D44: 44.59 | F44: 42.91 | G44: 42.12 | H44: 42.47
B45: 27 | C45: 42.54 | F45: 42.6 | G45: 42.38 | H45: 42.92
B46: 28 | C46: 42.34 | F46: 42.62 | G46: 42.44 | H46: 42.84
B47: 29 | C47: 42.45 | F47: 42.45 | G47: 42.45 | H47: 42.9
B48: 30 | C48: 42.6 | F48: 42.68 | G48: 42.14 | H48: 42.74
B49: 31 | C49: 42.52 | F49: 42.75 | G49: 42.12 | H49: 42.54
B50: 32 | C50: 42.71 | F50: 42.78 | G50: 42.36 | H50: 42.64
B51: 33 | C51: 42.92 | F51: 42.6 | G51: 42.38 | H51: 42.86
B52: 34 | C52: 42.74 | F52: 42.84 | G52: 42.23 | H52: 42.79
B53: 35 | C53: 42.48 | F53: 42.7 | G53: 42.35 | H53: 42.72
B54: 36 | C54: 43.94 | F54: 43.02 | G54: 42.5 | H54: 42.78
B55: 37 | F55: 42.64 | G55: 42.24 | H55: 42.97
B56: 38 | F56: 43.02 | G56: 42.32 | H56: 42.68
B57: 39 | G57: 42.35 | H57: 42.99
B58: 40 | G58: 42.3 | H58: 42.53
B59: 41 | G59: 42.33 | H59: 42.39
B60: 42 | F60: 43.13 | G60: 42.3 | H60: 42.45
B61: 43 | F61: 42.94 | G61: 42.31 | H61: 42.59
B62: 44 | F62: 42.9 | G62: 42.4 | H62: 42.59
B63: 45 | F63: 43.16 | G63: 42.16 | H63: 42.51
B64: 46 | F64: 43.5 | G64: 42.42 | H64: 42.48
B65: 47 | F65: 42.71 | G65: 42.15 | H65: 43.54
B66: 48 | F66: 42.83 | G66: 42.38 | H66: 42.68
B67: 49 | F67: 42.65 | G67: 42.13 | H67: 42.42
B68: 50 | F68: 42.87 | G68: 42.67
B69: 51 | F69: 44.01 | G69: 42.36
B70: 52 | G70: 42.33
B71: 53 | G71: 42.35
B72: 54 | G72: 43.52
B73: 55
B74: 56
B75: 57
B76: 58
B77: 59
B78: 60
B79: 61
B80: 62
B81: 63

Sheet Mst
A2: Чемпионат мини марафон "Большие Гонки", 11-й этап
A4: Mst
A6: Обяза-тельные | B6: Пилот | C6: карт | D6: Круг | E6: кругов на отрезке | F6: Статистика по кругам | J6: Общее время гонки | K6: Время на трассе
F7: Лучший круг | G7: Среднее на отрезке | H7: Кругов в 0,1 от лучшего | I7: стабильность | K7: отрезок | L7: всего у пилота | M7: Питы | N7: Штрафы/ бонусы (сек)
A8: 1 | B8: Шутка Виталий | C8: 3 | D8: =COUNTA(C19:C83) -> 38 | E8: =COUNTA(C19:C83) -> 38 | F8: =MIN(C19:C82) -> 42.43 | G8: =AVERAGE(C19:C85) -> 43.044737 | I8: =G8-F8 -> 0.61473684 | J8: 0.019032512 | K8: =J8 -> 0.019032512 | L8: =K8 -> 0.019032512 | M8: 2:18.75
A9: 2 | B9: Петушков Андрей | C9: 21 | D9: =COUNTA(D19:D83)+D8+1 -> 97 | E9: =COUNTA(D19:D83)+1 -> 59 | F9: =MIN(D19:D82) -> 42.26 | G9: =AVERAGE(D19:D84) -> 42.601897 | I9: =G9-F9 -> 0.34189655 | J9: 0.049239595 | K9: =J9-J8 -> 0.030207083 | L9: =K9 -> 0.030207083 | M9: 2:22:15 | O9: +5 сек передержали
A10: 3 | B10: Шутка Виталий | C10: 16 | D10: =COUNTA(E19:E83)+D9+1+5 -> 140 | E10: =COUNTA(E19:E83)+1+4 -> 42 | F10: =MIN(E19:E84) -> 42.53 | G10: =AVERAGE(E19:E85) -> 43.028378 | I10: =G10-F10 -> 0.49837838 | J10: 0.071298877 | K10: =J10-J9 -> 0.022059282 | L10: =K10+L8 -> 0.041091794 | M10: 2:19.15
A11: 4 | B11: Петушков Андрей | C11: 11 | D11: =COUNTA(F19:F83)+D10+1 -> 160 | E11: =COUNTA(F19:F83)+1 -> 20 | F11: =MIN(F19:F84) -> 42.36 | G11: =AVERAGE(F19:F84) -> 42.601053 | I11: =G11-F11 -> 0.24105263 | J11: 0.082268611 | K11: =J11-J10 -> 0.010969734 | L11: =K11+L9 -> 0.041176817 | M11: 2:47.51 | O11: Пит стоп 2 минуты
A12: 5 | B12: Петушков Андрей | C12: 13 | D12: =COUNTA(G19:G83)+D11+1 -> 204 | E12: =COUNTA(G19:G83)+1 -> 44 | F12: =MIN(G19:G84) -> 42 | G12: =AVERAGE(G19:G884) -> 42.257907 | I12: =G12-F12 -> 0.25790698 | J12: 0.10522836 | K12: =J12-J11 -> 0.022959745 | L12: =K12+L11 -> 0.064136563 | M12: 2:22.01 | N12: +5 | O12: сбили фишку
A13: Финиш | B13: Шутка Виталий | C13: 9 | D13: =COUNTA(H19:H83)+D12+1 -> 242 | E13: =COUNTA(H19:H83)+1 -> 38 | F13: =MIN(H19:H84) -> 42.32 | G13: =AVERAGE(H19:H84) -> 42.703784 | I13: =G13-F13 -> 0.38378378 | J13: ='Общие результаты'!G6 -> 3:00:12 | K13: =J13-J12 -> 0.019910532 | L13: =K13+L10 -> 0.061002326 | N13: -5 | O13: компенсация за пит 2
F14: =AVERAGE(F8,F10,F13) -> 42.426667 | G14: =AVERAGE(G8,G10,G13) -> 42.925633 | H14: Виталий | I14: =AVERAGE(I8,I10,I13) -> 0.49896633
F15: =AVERAGE(F9,F11,F12) -> 42.206667 | G15: =AVERAGE(G9,G11,G12) -> 42.486952 | H15: Андрей | I15: =AVERAGE(I9,I11,I12) -> 0.28028539
F16: =AVERAGE(F8:F13) -> 42.316667 | G16: =AVERAGE(C19:H88) -> 42.694871 | I16: =AVERAGE(I8:I13) -> 0.38962586
C18: =B8 -> Шутка Виталий | D18: =B9 -> Петушков Андрей | E18: =B10 -> Шутка Виталий | F18: =B11 -> Петушков Андрей | G18: =B12 -> Петушков Андрей | H18: =B13 -> Шутка Виталий
B19: 1 | C19: 45.33 | D19: 42.62 | E19: 45.19 | F19: 42.91 | G19: 42.5 | H19: 42.74
B20: 2 | C20: 43.36 | D20: 42.7 | E20: 44.67 | F20: 42.79 | G20: 42.4 | H20: 42.67
B21: 3 | C21: 42.79 | D21: 42.38 | E21: 43.1 | F21: 42.62 | G21: 42.13 | H21: 42.6
B22: 4 | C22: 44.05 | D22: 42.65 | E22: 43.36 | F22: 42.42 | G22: 42.2 | H22: 42.53
B23: 5 | C23: 43.88 | D23: 42.41 | E23: 43.12 | F23: 42.66 | G23: 42.24 | H23: 42.47
B24: 6 | C24: 42.6 | D24: 42.62 | E24: 42.94 | F24: 42.56 | G24: 42.17 | H24: 42.53
B25: 7 | C25: 44.96 | D25: 42.53 | E25: 42.91 | F25: 42.6 | G25: 42.36 | H25: 42.7
B26: 8 | C26: 42.96 | D26: 42.51 | E26: 42.6 | F26: 42.66 | G26: 42.09 | H26: 42.5
B27: 9 | C27: 42.87 | D27: 42.67 | E27: 42.77 | F27: 42.74 | G27: 42.13 | H27: 42.58
B28: 10 | C28: 42.54 | D28: 42.59 | E28: 42.84 | F28: 42.57 | G28: 42.23 | H28: 42.38
B29: 11 | C29: 42.44 | D29: 42.68 | E29: 42.78 | F29: 42.63 | G29: 42.2 | H29: 42.59
B30: 12 | C30: 42.54 | D30: 42.57 | E30: 42.75 | F30: 42.38 | G30: 42.25 | H30: 42.68
... B37: 19 | C37: 42.6 | D37: 42.77 | E37: 42.66 | F37: 43.01 | G37: 42.04 | H37: 43.03
B38: 20 | C38: 42.78 | D38: 42.66 | E38: 42.9 | G38: 42.14 | H38: 43.17
B39: 21 | C39: 42.7 | D39: 42.54 | E39: 42.7 | G39: 42 | H39: 42.98
B40: 22 | C40: 42.78 | D40: 42.26 | E40: 42.67 | G40: 42.25 | H40: 42.57
B41: 23 | C41: 43.15 | D41: 42.65 | E41: 42.74 | G41: 42.4 | H41: 42.54
B42: 24 | C42: 42.63 | D42: 42.53 | E42: 43.32 | G42: 42.16 | H42: 42.77
B43: 25 | C43: 42.77 | D43: 42.42 | E43: 43.33 | G43: 42.3 | H43: 42.52
B44: 26 | C44: 42.82 | D44: 42.57 | E44: 42.53 | G44: 42.2 | H44: 42.5
B45: 27 | C45: 42.78 | D45: 42.72 | G45: 42.07 | H45: 42.56
B46: 28 | C46: 42.71 | D46: 42.59 | G46: 42.21 | H46: 42.46
B47: 29 | C47: 43.24 | D47: 42.63 | G47: 42.43 | H47: 42.54
B48: 30 | C48: 42.68 | D48: 42.74 | G48: 42.21 | H48: 42.58
B49: 31 | C49: 42.75 | D49: 42.8 | E49: 42.87 | G49: 42.14 | H49: 42.32
B50: 32 | C50: 43.02 | D50: 42.52 | E50: 43.07 | G50: 42.39 | H50: 42.74
B51: 33 | C51: 42.79 | D51: 42.48 | E51: 42.9 | G51: 42.28 | H51: 42.58
B52: 34 | C52: 42.97 | D52: 42.69 | E52: 42.85 | G52: 42.25 | H52: 42.58
B53: 35 | C53: 43.34 | D53: 42.57 | E53: 43.46 | G53: 42.32 | H53: 42.55
B54: 36 | C54: 43.37 | D54: 42.63 | E54: 42.71 | G54: 42.16 | H54: 42.5
B55: 37 | C55: 43.06 | D55: 42.55 | E55: 42.78 | G55: 42.05 | H55: 42.59
B56: 38 | C56: 44.32 | D56: 42.53 | E56: 42.89 | G56: 42.23
B57: 39 | D57: 42.66 | E57: 42.82 | G57: 42.49
B58: 40 | D58: 42.41 | E58: 42.84 | G58: 42.32
B59: 41 | D59: 42.51 | E59: 44.08 | G59: 42.54
B60: 42 | D60: 42.54 | G60: 42.23
B61: 43 | D61: 42.5 | G61: 42.98
B62: 44 | D62: 43.13
B63: 45 | D63: 42.55
B64: 46 | D64: 42.28
B65: 47 | D65: 42.58
B66: 48 | D66: 42.64
B67: 49 | D67: 42.59
B68: 50 | D68: 42.31
B69: 51 | D69: 42.46
B70: 52 | D70: 42.54
B71: 53 | D71: 42.62
B72: 54 | D72: 42.61
B73: 55 | D73: 42.51
... B76: 58 | D76: 43.38
B77: 59
B78: 60
B79: 61
B80: 62
B81: 63

Sheet E-k Motorsport
A2: Чемпионат мини марафон "Большие Гонки", 11-й этап
A4: E-k Motorsport
A6: Обяза-тельные | B6: Пилот | C6: карт | D6: Круг | E6: кругов на отрезке | F6: Статистика по кругам | J6: Общее время гонки | K6: Время на трассе
F7: Лучший круг | G7: Среднее на отрезке | H7: Кругов в 0,1 от лучшего | I7: стабильность | K7: отрезок | L7: всего у пилота | M7: Питы | N7: Штрафы/ бонусы (сек)
A8: 1 | B8: Шиленко Саша | C8: 9 | D8: =COUNTA(C19:C83) -> 35 | E8: =COUNTA(C19:C83) -> 35 | F8: =MIN(C19:C82) -> 41.97 | G8: =AVERAGE(C19:C85) -> 42.928857 | I8: =G8-F8 -> 0.95885714 | J8: 0.017485972 | K8: =J8 -> 0.017485972 | L8: =K8 -> 0.017485972 | M8: 2:18.56
A9: 2 | B9: Коруз Вадим | C9: 7 | D9: =COUNTA(D19:D83)+D8+1 -> 79 | E9: =COUNTA(D19:D83)+1 -> 44 | F9: =MIN(D19:D82) -> 42.37 | G9: =AVERAGE(D19:D84) -> 42.789302 | I9: =G9-F9 -> 0.41930233 | J9: 0.040392512 | K9: =J9-J8 -> 0.022906539 | L9: =K9 -> 0.022906539 | M9: 2:18.13
A10: 3 | B10: Шиленко Саша | C10: 2 | D10: =COUNTA(E19:E83)+D9+1+5 -> 137 | E10: =COUNTA(E19:E83)+1+4 -> 57 | F10: =MIN(E19:E84) -> 42.28 | G10: =AVERAGE(E19:E85) -> 42.551154 | I10: =G10-F10 -> 0.27115385 | J10: 0.070061019 | K10: =J10-J9 -> 0.029668507 | L10: =K10+L8 -> 0.047154479 | M10: 2:19.52
A11: 4 | B11: Коруз Вадим | C11: 7 | D11: =COUNTA(F19:F83)+D10+1 -> 194 | E11: =COUNTA(F19:F83)+1 -> 57 | F11: =MIN(F19:F84) -> 42.32 | G11: =AVERAGE(F19:F84) -> 42.687321 | I11: =G11-F11 -> 0.36732143 | J11: 0.099372025 | K11: =J11-J10 -> 0.029311007 | L11: =K11+L9 -> 0.052217546 | M11: 2:47.53 | O11: пит 2 минуты
A12: 5 | B12: Шиленко Саша | C12: 33 | D12: =COUNTA(G19:G83)+D11+1 -> 215 | E12: =COUNTA(G19:G83)+1 -> 21 | F12: =MIN(G19:G84) -> 42.31 | G12: =AVERAGE(G19:G884) -> 42.8705 | I12: =G12-F12 -> 0.5605 | J12: 0.11121103 | K12: =J12-J11 -> 0.011839005 | L12: =K12+L10 -> 0.058993484 | M12: 2:18.82
A13: Финиш | B13: Коруз Вадим | C13: 10 | D13: =COUNTA(H19:H83)+D12+1+1 -> 242 | E13: =COUNTA(H19:H83)+1 -> 26 | F13: =MIN(H19:H84) -> 42.34 | G13: =AVERAGE(H19:H84) -> 42.622 | I13: =G13-F13 -> 0.282 | J13: ='Общие результаты'!G6 -> 3:00:12 | K13: =J13-J12 -> 0.013927859 | L13: =K13+L11 -> 0.066145405 | N13: +5 | O13: от судьи против 1
F14: =AVERAGE(F8,F10,F12) -> 42.186667 | G14: =AVERAGE(G8,G10,G12) -> 42.783504 | H14: Саша | I14: =AVERAGE(I8,I10,I12) -> 0.596837
F15: =AVERAGE(F9,F11,F13) -> 42.343333 | G15: =AVERAGE(G9,G11,G13) -> 42.699541 | H15: Вадим | I15: =AVERAGE(I9,I11,I13) -> 0.35620792
F16: =AVERAGE(F8:F13) -> 42.265 | G16: =AVERAGE(C19:H88) -> 42.721039 | I16: =AVERAGE(I8:I13) -> 0.47652246
C18: =B8 -> Шиленко Саша | D18: =B9 -> Коруз Вадим | E18: =B10 -> Шиленко Саша | F18: =B11 -> Коруз Вадим | G18: =B12 -> Шиленко Саша | H18: =B13 -> Коруз Вадим
B19: 1 | C19: 47.26 | D19: 43.07 | E19: 42.57 | F19: 42.9 | G19: 43.09 | H19: 42.53
B20: 2 | C20: 56.25 | D20: 42.97 | E20: 42.53 | F20: 42.82 | G20: 42.61 | H20: 42.49
B21: 3 | C21: 42.84 | D21: 42.76 | E21: 42.67 | F21: 43.24 | G21: 43.93 | H21: 44.55
B22: 4 | C22: 42.38 | D22: 43.38 | E22: 42.37 | F22: 42.67 | G22: 43.29 | H22: 42.39
B23: 5 | C23: 42.38 | D23: 42.85 | E23: 42.51 | F23: 42.67 | G23: 42.58 | H23: 42.36
B24: 6 | C24: 42.2 | D24: 42.88 | E24: 42.4 | F24: 42.58 | G24: 42.32 | H24: 42.53
B25: 7 | C25: 42.3 | D25: 43.6 | E25: 42.54 | F25: 42.71 | G25: 42.48 | H25: 42.36
B26: 8 | C26: 42.19 | D26: 42.53 | E26: 42.67 | F26: 42.72 | G26: 42.36 | H26: 43.29
B27: 9 | C27: 42.72 | D27: 42.58 | E27: 42.42 | F27: 42.63 | G27: 44.49 | H27: 42.65
B28: 10 | C28: 42.15 | D28: 43.19 | E28: 42.28 | F28: 43.03 | G28: 42.74 | H28: 42.84
B29: 11 | C29: 41.97 | D29: 42.66 | E29: 42.32 | F29: 42.74 | G29: 42.31 | H29: 42.56
B30: 12 | C30: 42.5 | D30: 42.72 | E30: 42.44 | F30: 42.71 | G30: 42.49 | H30: 42.34
... B38: 20 | C38: 42.32 | D38: 43.09 | E38: 42.63 | F38: 42.57 | G38: 45.02 | H38: 42.62
B39: 21 | C39: 42.26 | D39: 42.8 | E39: 42.52 | F39: 42.43 | H39: 42.37
B40: 22 | C40: 42.54 | D40: 43.48 | E40: 42.54 | F40: 42.43 | H40: 42.35
B41: 23 | C41: 42.21 | D41: 42.72 | E41: 42.68 | F41: 42.55 | H41: 42.5
B42: 24 | C42: 42.74 | D42: 42.69 | E42: 42.37 | F42: 42.49 | H42: 42.38
B43: 25 | C43: 42.26 | D43: 42.37 | E43: 42.5 | F43: 42.53 | H43: 42.35
B44: 26 | C44: 42.68 | D44: 42.64 | E44: 42.65 | F44: 42.65
B45: 27 | C45: 42.42 | D45: 42.57 | E45: 42.48 | F45: 43.22
B46: 28 | C46: 42.05 | D46: 42.42 | E46: 42.32 | F46: 42.42
B47: 29 | C47: 42.37 | D47: 42.83 | E47: 42.48 | F47: 42.86
B48: 30 | C48: 42.08 | D48: 42.68 | E48: 42.63 | F48: 42.6
B49: 31 | C49: 42.27 | D49: 42.58 | E49: 43.2 | F49: 42.49
B50: 32 | C50: 42.2 | D50: 42.44 | E50: 42.74 | F50: 42.32
B51: 33 | C51: 42.34 | D51: 42.75 | E51: 42.46 | F51: 42.65
B52: 34 | C52: 42.39 | D52: 42.68 | E52: 42.36 | F52: 42.55
B53: 35 | C53: 43.52 | D53: 42.6 | E53: 42.5 | F53: 42.47
B54: 36 | D54: 42.51 | E54: 42.47 | F54: 42.48
B55: 37 | D55: 42.66 | E55: 42.45 | F55: 42.58
B56: 38 | D56: 42.37 | E56: 42.54 | F56: 42.68
B57: 39 | D57: 42.67 | E57: 42.55 | F57: 42.66
B58: 40 | D58: 42.64 | E58: 42.5 | F58: 42.91
B59: 41 | D59: 42.64 | E59: 42.58 | F59: 42.66
B60: 42 | D60: 42.48 | E60: 42.44 | F60: 42.61
B61: 43 | D61: 43.69 | E61: 42.28 | F61: 42.47
B62: 44 | E62: 42.4 | F62: 42.8
B63: 45 | F63: 42.44
B64: 46 | F64: 42.83
B65: 47 | F65: 42.71
B66: 48 | F66: 43.42
B67: 49 | E67: 42.5 | F67: 42.65
B68: 50 | E68: 42.58 | F68: 42.59
B69: 51 | E69: 42.77 | F69: 42.32
B70: 52 | E70: 42.65 | F70: 43.44
B71: 53 | E71: 42.58 | F71: 42.63
B72: 54 | E72: 42.63 | F72: 42.7
B73: 55 | E73: 42.47 | F73: 42.55
B74: 56 | E74: 44 | F74: 43.31
B75: 57
B76: 58
B77: 59
B78: 60
B79: 61
B80: 62
B81: 63

Sheet Nfs Kyiv Legends
A2: Чемпионат мини марафон "Большие Гонки", 11-й этап
A4: Nfs Kyiv Legends
A6: Обяза-тельные | B6: Пилот | C6: карт | D6: Круг | E6: кругов на отрезке | F6: Статистика по кругам | J6: Общее время гонки | K6: Время на трассе
F7: Лучший круг | G7: Среднее на отрезке | H7: Кругов в 0,1 от лучшего | I7: стабильность | K7: отрезок | L7: всего у пилота | M7: Питы | N7: Штрафы/ бонусы (сек)
A8: 1 | B8: Ткаченко Кирилл | C8: 4 | D8: =COUNTA(C19:C83) -> 33 | E8: =COUNTA(C19:C83) -> 33 | F8: =MIN(C19:C82) -> 42.21 | G8: =AVERAGE(C19:C85) -> 42.718788 | I8: =G8-F8 -> 0.50878788 | J8: 0.016372477 | K8: =J8 -> 0.016372477 | L8: =K8 -> 0.016372477 | M8: 2:18.65
A9: 2 | B9: Резанко Оля | C9: 18 | D9: =COUNTA(D19:D83)+D8+1 -> 63 | E9: =COUNTA(D19:D83)+1 -> 30 | F9: =MIN(D19:D82) -> 42.51 | G9: =AVERAGE(D19:D84) -> 42.972414 | I9: =G9-F9 -> 0.46241379 | J9: 0.032403519 | K9: =J9-J8 -> 0.016031042 | L9: =K9 -> 0.016031042 | M9: 2:50.40 | O9: передержали на 32 сек
A10: 3 | B10: Ткаченко Кирилл | C10: 6 | D10: =COUNTA(E19:E83)+D9+1 -> 94 | E10: =COUNTA(E19:E83)+1 -> 31 | F10: =MIN(E19:E84) -> 42.39 | G10: =AVERAGE(E19:E85) -> 42.609667 | I10: =G10-F10 -> 0.21966667 | J10: 0.049136979 | K10: =J10-J9 -> 0.016733461 | L10: =K10+L8 -> 0.033105938 | M10: 2:16.99
A11: 4 | B11: Резанко Оля | C11: 33 | D11: =COUNTA(F19:F83)+D10+1+5 -> 148 | E11: =COUNTA(F19:F83)+1+4 -> 53 | F11: =MIN(F19:F84) -> 42.29 | G11: =AVERAGE(F19:F84) -> 42.683542 | I11: =G11-F11 -> 0.39354167 | J11: 0.076918056 | K11: =J11-J10 -> 0.027781076 | L11: =K11+L9 -> 0.043812118 | M11: 2:54.97 | N11: +5 | O11: от судьи штраф против 17
A12: 5 | B12: Ткаченко Кирилл | C12: 1 | D12: =COUNTA(G19:G83)+D11+1 -> 203 | E12: =COUNTA(G19:G83)+1 -> 55 | F12: =MIN(G19:G84) -> 42.41 | G12: =AVERAGE(G19:G884) -> 42.761296 | I12: =G12-F12 -> 0.3512963 | J12: 0.10567655 | K12: =J12-J11 -> 0.028758495 | L12: =K12+L10 -> 0.061864433 | M12: 2:23.67 | N12: +5 | O12: фишка
A13: Финиш | B13: Резанко Оля | C13: 11 | D13: =COUNTA(H19:H83)+D12+1+3+1 -> 242 | E13: =COUNTA(H19:H83)+1 -> 35 | F13: =MIN(H19:H84) -> 42.08 | G13: =AVERAGE(H19:H84) -> 45.437059 | I13: =G13-F13 -> 3.3570588 | J13: ='Общие результаты'!G6 -> 3:00:12 | K13: =J13-J12 -> 0.019462338 | L13: =K13+L11 -> 0.063274456 | N13: -95-32 | O13: поломка+компенсация пит 2
F14: =AVERAGE(F8,F10,F12) -> 42.336667 | G14: =AVERAGE(G8,G10,G12) -> 42.696584 | H14: Кирилл | I14: =AVERAGE(I8,I10,I12) -> 0.35991695
F15: =AVERAGE(F9,F11,F13) -> 42.293333 | G15: =AVERAGE(G9,G11,G13) -> 43.697671 | H15: Оля | I15: =AVERAGE(I9,I11,I13) -> 1.4043381
F16: =AVERAGE(F8:F13) -> 42.315 | G16: =AVERAGE(C19:H88) -> 43.144693 | I16: =AVERAGE(I8:I13) -> 0.88212752
C18: =B8 -> Ткаченко Кирилл | D18: =B9 -> Резанко Оля | E18: =B10 -> Ткаченко Кирилл | F18: =B11 -> Резанко Оля | G18: =B12 -> Ткаченко Кирилл | H18: =B13 -> Резанко Оля
B19: 1 | C19: 45.38 | D19: 42.99 | E19: 42.61 | F19: 42.9 | G19: 42.79 | H19: 43.19
B20: 2 | C20: 43.43 | D20: 42.78 | E20: 42.58 | F20: 42.73 | G20: 42.99 | H20: 42.84
B21: 3 | C21: 44.19 | D21: 43.12 | E21: 42.73 | F21: 42.99 | G21: 42.7 | H21: 42.81
B22: 4 | C22: 42.7 | D22: 42.64 | E22: 42.61 | F22: 42.29 | G22: 42.78 | H22: 43.16
B23: 5 | C23: 42.46 | D23: 42.86 | E23: 42.62 | F23: 42.47 | G23: 42.64 | H23: 42.77
B24: 6 | C24: 42.3 | D24: 42.72 | E24: 42.45 | F24: 42.45 | G24: 42.64 | H24: 43.01
B25: 7 | C25: 42.35 | D25: 42.82 | E25: 42.4 | F25: 42.54 | G25: 42.62 | H25: 42.68
B26: 8 | C26: 42.37 | D26: 43.02 | E26: 42.71 | F26: 42.64 | G26: 42.41 | H26: 42.98
B27: 9 | C27: 42.39 | D27: 42.82 | E27: 42.47 | F27: 43.1 | G27: 42.65 | H27: 42.83
B28: 10 | C28: 42.41 | D28: 43.05 | E28: 42.44 | F28: 42.92 | G28: 42.81 | H28: 42.43
B29: 11 | C29: 42.3 | D29: 44.86 | E29: 42.55 | F29: 42.61 | G29: 42.64 | H29: 42.62
B30: 12 | C30: 42.35 | D30: 42.77 | E30: 42.49 | F30: 42.61 | G30: 42.59 | H30: 42.67
... B44: 26 | C44: 42.21 | D44: 42.62 | E44: 42.39 | F44: 42.69 | G44: 42.63 | H44: 42.41
B45: 27 | C45: 42.46 | D45: 43.6 | E45: 42.53 | G45: 42.63 | H45: 43.34
B46: 28 | C46: 42.4 | D46: 42.68 | E46: 42.58 | G46: 42.8 | H46: 42.08
B47: 29 | C47: 42.47 | D47: 44.26 | E47: 42.52 | G47: 42.75 | H47: 42.33
B48: 30 | C48: 42.44 | E48: 43.65 | G48: 42.92 | H48: 42.29
B49: 31 | C49: 42.42 | F49: 42.67 | G49: 42.99 | H49: 42.47
B50: 32 | C50: 42.32 | F50: 42.51 | G50: 43.08 | H50: 42.22
B51: 33 | C51: 44.64 | F51: 42.73 | G51: 42.59 | H51: 42.13
B52: 34 | F52: 42.81 | G52: 42.68 | H52: 42.09
B53: 35 | F53: 42.48 | G53: 42.69
B54: 36 | F54: 42.38 | G54: 42.74
B55: 37 | F55: 42.44 | G55: 42.79
B56: 38 | F56: 42.44 | G56: 42.61
B57: 39 | F57: 42.52 | G57: 42.67
B58: 40 | F58: 42.6 | G58: 42.73
B59: 41 | F59: 42.53 | G59: 42.65
B60: 42 | F60: 42.39 | G60: 42.48
B61: 43 | F61: 42.67 | G61: 42.89
B62: 44 | F62: 43.62 | G62: 42.64
B63: 45 | F63: 42.56 | G63: 42.74
B64: 46 | F64: 42.59 | G64: 43.11
... B70: 52 | F70: 44.3 | G70: 42.66
B71: 53 | G71: 42.73
B72: 54 | G72: 43.64
B73: 55
B74: 56
B75: 57
B76: 58
B77: 59
B78: 60
B79: 61
B80: 62
B81: 63

Sheet Nsj
A2: Чемпионат мини марафон "Большие Гонки", 11-й этап
A4: Nsj
A6: Обяза-тельные | B6: Пилот | C6: карт | D6: Круг | E6: кругов на отрезке | F6: Статистика по кругам | J6: Общее время гонки | K6: Время на трассе
F7: Лучший круг | G7: Среднее на отрезке | H7: Кругов в 0,1 от лучшего | I7: стабильность | K7: отрезок | L7: всего у пилота | M7: Питы | N7: Штрафы/ бонусы (сек)
A8: 1 | B8: Лантушенко Игорь | C8: 33 | D8: =COUNTA(C19:C83) -> 38 | E8: =COUNTA(C19:C83) -> 38 | F8: =MIN(C19:C82) -> 41.93 | G8: =AVERAGE(C19:C85) -> 42.561842 | I8: =G8-F8 -> 0.63184211 | J8: 0.018813634 | K8: =J8 -> 0.018813634 | L8: =K8 -> 0.018813634 | M8: 1:52.22
A9: 2 | B9: Мифтахутдинов Ильяс | C9: 2 | D9: =COUNTA(D19:D83)+D8+1 -> 78 | E9: =COUNTA(D19:D83)+1 -> 40 | F9: =MIN(D19:D82) -> 42.65 | G9: =AVERAGE(D19:D84) -> 42.983333 | I9: =G9-F9 -> 0.33333333 | J9: 0.039521736 | K9: =J9-J8 -> 0.020708102 | L9: =K9 -> 0.020708102 | M9: 2:23.46 | N9: +5 сек | O9: линия
A10: 3 | B10: Лантушенко Игорь | C10: 1 | D10: =COUNTA(E19:E83)+D9+1 -> 97 | E10: =COUNTA(E19:E83)+1 -> 19 | F10: =MIN(E19:E84) -> 42.61 | G10: =AVERAGE(E19:E85) -> 43.016111 | I10: =G10-F10 -> 0.40611111 | J10: 0.050164225 | K10: =J10-J9 -> 0.010642488 | L10: =K10+L8 -> 0.029456123 | M10: 2:17.77
A11: 4 | B11: Мифтахутдинов Ильяс | C11: 10 | D11: =COUNTA(F19:F83)+D10+1+5 -> 155 | E11: =COUNTA(F19:F83)+1+4 -> 57 | F11: =MIN(F19:F84) -> 42.35 | G11: =AVERAGE(F19:F84) -> 42.661731 | I11: =G11-F11 -> 0.31173077 | J11: 0.079873009 | K11: =J11-J10 -> 0.029708785 | L11: =K11+L9 -> 0.050416887 | M11: 3:11.51 | N11: +24 | O11: недодержали на первом пите ; пит 2 минуты
A12: 5 | B12: Лантушенко Игорь | C12: 69 | D12: =COUNTA(G19:G83)+D11+1 -> 215 | E12: =COUNTA(G19:G83)+1 -> 60 | F12: =MIN(G19:G84) -> 42.34 | G12: =AVERAGE(G19:G884) -> 42.650678 | I12: =G12-F12 -> 0.31067797 | J12: 0.11124741 | K12: =J12-J11 -> 0.031374398 | L12: =K12+L10 -> 0.060830521 | M12: 2:19.09
A13: Финиш | B13: Мифтахутдинов Ильяс | C13: 7 | D13: =COUNTA(H19:H83)+D12+1 -> 241 | E13: =COUNTA(H19:H83)+1 -> 26 | F13: =MIN(H19:H84) -> 42.4 | G13: =AVERAGE(H19:H84) -> 42.7352 | I13: =G13-F13 -> 0.3352 | J13: ='Общие результаты'!G6 -> 3:00:12 | K13: =J13-J12 -> 0.013891481 | L13: =K13+L11 -> 0.064308368 | N13: +5 | O13: лимит
F14: =AVERAGE(F8,F10,F12) -> 42.293333 | G14: =AVERAGE(G8,G10,G12) -> 42.742877 | H14: Игорь | I14: =AVERAGE(I8,I10,I12) -> 0.44954373
F15: =AVERAGE(F9,F11,F13) -> 42.466667 | G15: =AVERAGE(G9,G11,G13) -> 42.793421 | H15: Ильяс | I15: =AVERAGE(I9,I11,I13) -> 0.3267547
F16: =AVERAGE(F8:F13) -> 42.38 | G16: =AVERAGE(C19:H88) -> 42.732338 | I16: =AVERAGE(I8:I13) -> 0.38814921
C18: =B8 -> Лантушенко Игорь | D18: =B9 -> Мифтахутдинов Ильяс | E18: =B10 -> Лантушенко Игорь | F18: =B11 -> Мифтахутдинов Ильяс | G18: =B12 -> Лантушенко Игорь | H18: =B13 -> Мифтахутдинов Ильяс
B19: 1 | C19: 45.62 | D19: 43.1 | E19: 42.83 | F19: 42.76 | G19: 42.41 | H19: 42.87
B20: 2 | C20: 42.89 | D20: 43.03 | E20: 43.21 | F20: 42.66 | G20: 42.63 | H20: 42.7
B21: 3 | C21: 43.46 | D21: 43.25 | E21: 42.97 | F21: 42.61 | G21: 42.64 | H21: 44.18
B22: 4 | C22: 44.61 | D22: 43.67 | E22: 42.88 | F22: 42.65 | G22: 42.65 | H22: 43.03
B23: 5 | C23: 43.18 | D23: 43.37 | E23: 43.46 | F23: 42.64 | G23: 42.5 | H23: 43.2
B24: 6 | C24: 42.17 | D24: 42.84 | E24: 42.85 | F24: 42.59 | G24: 42.46 | H24: 42.49
B25: 7 | C25: 42.46 | D25: 42.95 | E25: 42.61 | F25: 42.61 | G25: 42.54 | H25: 42.64
B26: 8 | C26: 42.23 | D26: 42.79 | E26: 42.8 | F26: 42.44 | G26: 42.64 | H26: 42.83
B27: 9 | C27: 42.08 | D27: 42.84 | E27: 43.01 | F27: 43.21 | G27: 42.48 | H27: 43.03
B28: 10 | C28: 42.17 | D28: 42.73 | E28: 42.84 | F28: 42.43 | G28: 42.47 | H28: 42.65
B29: 11 | C29: 42.9 | D29: 42.89 | E29: 42.75 | F29: 42.35 | G29: 42.39 | H29: 42.63
B30: 12 | C30: 42.13 | D30: 42.96 | E30: 43 | F30: 42.56 | G30: 42.45 | H30: 42.58
... B36: 18 | C36: 42.34 | D36: 42.73 | E36: 43.88 | F36: 43.04 | G36: 42.57 | H36: 42.56
B37: 19 | C37: 42.25 | D37: 42.78 | F37: 42.72 | G37: 42.58 | H37: 42.42
B38: 20 | C38: 42.22 | D38: 43.03 | F38: 42.54 | G38: 42.49 | H38: 42.79
B39: 21 | C39: 42.06 | D39: 42.86 | F39: 42.43 | G39: 42.52 | H39: 42.5
B40: 22 | C40: 42.25 | D40: 42.88 | F40: 42.44 | G40: 42.48 | H40: 42.47
B41: 23 | C41: 42.01 | D41: 42.76 | F41: 42.71 | G41: 42.56 | H41: 42.77
B42: 24 | C42: 42.37 | D42: 42.78 | F42: 42.4 | G42: 42.49 | H42: 42.6
B43: 25 | C43: 42.12 | D43: 43.99 | G43: 42.46 | H43: 42.55
B44: 26 | C44: 42.27 | D44: 44.16 | G44: 42.5
B45: 27 | C45: 42.22 | D45: 42.97 | G45: 42.52
B46: 28 | C46: 42.86 | D46: 42.81 | G46: 42.59
B47: 29 | C47: 42.34 | D47: 42.88 | F47: 42.61 | G47: 42.5
B48: 30 | C48: 42.18 | D48: 42.82 | F48: 42.42 | G48: 42.6
B49: 31 | C49: 42.32 | D49: 42.89 | F49: 42.45 | G49: 42.46
B50: 32 | C50: 42.14 | D50: 42.79 | F50: 42.66 | G50: 42.52
B51: 33 | C51: 42.61 | D51: 42.79 | F51: 42.45 | G51: 42.41
B52: 34 | C52: 42.25 | D52: 42.79 | F52: 42.36 | G52: 42.51
B53: 35 | C53: 42.26 | D53: 42.91 | F53: 42.39 | G53: 42.43
B54: 36 | C54: 42.41 | D54: 42.85 | F54: 42.74 | G54: 42.77
B55: 37 | C55: 42.18 | D55: 42.84 | F55: 42.63 | G55: 42.51
B56: 38 | C56: 43.42 | D56: 42.9 | F56: 42.58 | G56: 42.48
B57: 39 | D57: 43.83 | F57: 42.65 | G57: 43.56
B58: 40 | F58: 42.63 | G58: 42.68
B59: 41 | F59: 43.31 | G59: 42.34
B60: 42 | F60: 43.52 | G60: 42.88
B61: 43 | F61: 42.57 | G61: 42.62
B62: 44 | F62: 42.93 | G62: 42.68
B63: 45 | F63: 43.02 | G63: 42.43
B64: 46 | F64: 42.37 | G64: 42.75
B65: 47 | F65: 42.47 | G65: 42.91
B66: 48 | F66: 42.65 | G66: 42.84
B67: 49 | F67: 43.03 | G67: 42.92
B68: 50 | F68: 42.57 | G68: 42.71
B69: 51 | F69: 42.79 | G69: 42.59
... B74: 56 | F74: 43.41 | G74: 42.52
B75: 57 | G75: 42.55
B76: 58 | G76: 43.78
B77: 59 | G77: 45.59
B78: 60
B79: 61
B80: 62
B81: 63

Sheet G A T
A2: Чемпионат мини марафон "Большие Гонки", 11-й этап
A4: G A T
A6: Обяза-тельные | B6: Пилот | C6: карт | D6: Круг | E6: кругов на отрезке | F6: Статистика по кругам | J6: Общее время гонки | K6: Время на трассе
F7: Лучший круг | G7: Среднее на отрезке | H7: Кругов в 0,1 от лучшего | I7: стабильность | K7: отрезок | L7: всего у пилота | M7: Питы | N7: Штрафы/ бонусы (сек)
A8: 1 | B8: Геронимус Костя | C8: 14 | D8: =COUNTA(C19:C83) -> 38 | E8: =COUNTA(C19:C83) -> 38 | F8: =MIN(C19:C82) -> 42.4 | G8: =AVERAGE(C19:C85) -> 43.157368 | I8: =G8-F8 -> 0.75736842 | J8: 0.01908235 | K8: =J8 -> 0.01908235 | L8: =K8 -> 0.01908235 | M8: 2:22.80 | O8: 5 сек передержали на пите
A9: 2 | B9: Любина Елена | C9: 15 | D9: =COUNTA(D19:D83)+D8+1 -> 93 | E9: =COUNTA(D19:D83)+1 -> 55 | F9: =MIN(D19:D82) -> 42.331 | G9: =AVERAGE(D19:D84) -> 45.74687 | I9: =G9-F9 -> 3.4158704 | J9: 0.049316736 | K9: =J9-J8 -> 0.030234387 | L9: =K9 -> 0.030234387 | M9: 2:17.43
A10: 3 | B10: Геронимус Костя | C10: 12 | D10: =COUNTA(E19:E83)+D9+1 -> 147 | E10: =COUNTA(E19:E83)+1 -> 54 | F10: =MIN(E19:E84) -> 42.25 | G10: =AVERAGE(E19:E85) -> 42.6 | I10: =G10-F10 -> 0.35 | J10: 0.079493368 | K10: =J10-J9 -> 0.030176632 | L10: =K10+L8 -> 0.049258981 | M10: 1:42.27 | N10: -152 | O10: поломка | P10: выдано 139
A11: 4 | B11: Любина Елена | C11: 17 | D11: =COUNTA(F19:F83)+D10+1+5 -> 181 | E11: =COUNTA(F19:F83)+1+4 -> 33 | F11: =MIN(F19:F84) -> 42.14 | G11: =AVERAGE(F19:F84) -> 42.473929 | I11: =G11-F11 -> 0.33392857 | J11: 0.094452245 | K11: =J11-J10 -> 0.014958877 | L11: =K11+L9 -> 0.045193264 | M11: 1:48.20
A12: 5 | B12: Геронимус Костя | D12: =COUNTA(G19:G83)+D11+1 -> 201 | E12: =COUNTA(G19:G83)+1 -> 20 | F12: =MIN(G19:G84) -> 42.63 | G12: =AVERAGE(G19:G884) -> 43.188947 | I12: =G12-F12 -> 0.55894737 | J12: 0.10519346 | K12: =J12-J11 -> 0.010741215 | L12: =K12+L10 -> 0.060000197 | M12: 1:35.27
A13: Финиш | B13: Любина Елена | C13: 14 | D13: =COUNTA(H19:H83)+D12+1 -> 241 | E13: =COUNTA(H19:H83)+1 -> 40 | F13: =MIN(H19:H84) -> 42.23 | G13: =AVERAGE(H19:H84) -> 42.634872 | I13: =G13-F13 -> 0.40487179 | J13: ='Общие результаты'!G6 -> 3:00:12 | K13: =J13-J12 -> 0.019945428 | L13: =K13+L11 -> 0.065138692 | O13: +5сек линия на 2 пите
F14: =AVERAGE(F8,F10,F12) -> 42.426667 | G14: =AVERAGE(G8,G10,G12) -> 42.982105 | H14: Костя | I14: =AVERAGE(I8,I10,I12) -> 0.5554386
F15: =AVERAGE(F9,F11,F13) -> 42.233667 | G15: =AVERAGE(G9,G11,G13) -> 43.618557 | H15: Лена | I15: =AVERAGE(I9,I11,I13) -> 1.3848902
F16: =AVERAGE(F8:F13) -> 42.330167 | G16: =AVERAGE(C19:H88) -> 43.466368 | I16: =AVERAGE(I8:I13) -> 0.97016442
C18: =B8 -> Геронимус Костя | D18: =B9 -> Любина Елена | E18: =B10 -> Геронимус Костя | F18: =B11 -> Любина Елена | G18: =B12 -> Геронимус Костя | H18: =B13 -> Любина Елена
B19: 1 | C19: 46.15 | D19: 42.66 | E19: 44.02 | F19: 42.52 | G19: 43.03 | H19: 42.98
B20: 2 | C20: 43.09 | D20: 42.87 | E20: 43.75 | F20: 42.5 | G20: 42.87 | H20: 42.84
B21: 3 | C21: 43.54 | D21: 42.41 | E21: 42.9 | F21: 42.54 | G21: 43.15 | H21: 42.68
B22: 4 | C22: 43.99 | D22: 42.52 | E22: 42.51 | F22: 42.3 | G22: 42.88 | H22: 42.51
B23: 5 | C23: 43.16 | D23: 42.61 | E23: 42.33 | F23: 42.31 | G23: 42.99 | H23: 43.17
B24: 6 | C24: 42.6 | D24: 42.42 | E24: 42.35 | F24: 42.63 | G24: 43.03 | H24: 42.54
B25: 7 | C25: 45.86 | D25: 42.45 | E25: 42.43 | F25: 42.35 | G25: 42.71 | H25: 43.34
B26: 8 | C26: 43.85 | D26: 42.54 | E26: 42.72 | F26: 42.51 | G26: 43.09 | H26: 42.62
B27: 9 | C27: 43.19 | D27: 43 | E27: 42.45 | F27: 42.43 | G27: 43.2 | H27: 42.66
B28: 10 | C28: 43.64 | D28: 42.34 | E28: 42.7 | F28: 42.47 | G28: 43.09 | H28: 42.89
B29: 11 | C29: 42.58 | D29: 42.331 | E29: 42.51 | F29: 42.77 | G29: 44.22 | H29: 42.49
B30: 12 | C30: 42.42 | D30: 42.52 | E30: 42.7 | F30: 43.13 | G30: 44.81 | H30: 42.61
... B37: 19 | C37: 42.84 | D37: 43.54 | E37: 43.11 | F37: 42.46 | G37: 44.06 | H37: 42.34
B38: 20 | C38: 42.66 | D38: 43.7 | E38: 42.53 | F38: 42.56 | H38: 42.24
B39: 21 | C39: 42.5 | D39: 42.99 | E39: 42.7 | F39: 42.4 | H39: 42.38
B40: 22 | C40: 42.72 | D40: 43.09 | E40: 42.55 | F40: 42.14 | H40: 42.65
B41: 23 | C41: 42.72 | D41: 43.05 | E41: 42.63 | F41: 42.25 | H41: 42.29
B42: 24 | C42: 43.5 | D42: 42.99 | E42: 42.6 | F42: 42.36 | H42: 42.49
B43: 25 | C43: 42.63 | D43: 43.31 | E43: 42.43 | F43: 42.21 | H43: 42.89
B44: 26 | C44: 43.53 | D44: 43.04 | E44: 42.53 | F44: 42.37 | H44: 42.34
B45: 27 | C45: 44.51 | D45: 43.13 | F45: 42.42 | H45: 42.35
B46: 28 | C46: 43.18 | D46: 43.01 | F46: 43.97 | H46: 42.46
B47: 29 | C47: 42.54 | D47: 42.91 | H47: 42.4
B48: 30 | C48: 42.47 | D48: 43.01 | H48: 42.44
B49: 31 | C49: 42.65 | D49: 43.1 | E49: 42.67 | H49: 42.42
B50: 32 | C50: 42.63 | D50: 42.87 | E50: 42.25 | H50: 42.41
B51: 33 | C51: 43.43 | D51: 42.92 | E51: 42.63 | H51: 42.23
B52: 34 | C52: 42.76 | D52: 43 | E52: 43.16 | H52: 42.54
B53: 35 | C53: 42.4 | D53: 42.83 | E53: 42.97 | H53: 42.43
B54: 36 | C54: 42.7 | D54: 42.91 | E54: 42.52 | H54: 42.81
B55: 37 | C55: 43.06 | D55: 42.87 | E55: 42.37 | H55: 44.25
B56: 38 | C56: 44.07 | D56: 42.82 | E56: 42.61 | H56: 42.86
B57: 39 | D57: 42.89 | E57: 42.37 | H57: 42.57
B58: 40 | D58: 42.85 | E58: 42.3
B59: 41 | D59: 43.12 | E59: 42.49
B60: 42 | D60: 43 | E60: 42.56
B61: 43 | D61: 43.64 | E61: 42.36
B62: 44 | D62: 42.59 | E62: 42.28
B63: 45 | D63: 42.79 | E63: 42.41
B64: 46 | D64: 42.81 | E64: 42.51
B65: 47 | D65: 42.85 | E65: 42.26
B66: 48 | D66: 42.86 | E66: 42.5
B67: 49 | D67: 43.02 | E67: 42.39
B68: 50 | D68: 43.4 | E68: 42.39
B69: 51 | D69: 42.94 | E69: 42.45
... B72: 54 | D72: 45.05 | E72: 42.5
B73: 55 | E73: 42.34
B74: 56 | E74: 42.56
B75: 57 | E75: 43.38
B76: 58
B77: 59
B78: 60
B79: 61
B80: 62
B81: 63

Sheet K44
A2: Чемпионат мини марафон "Большие Гонки", 11-й этап
A4: K44
A6: Обяза-тельные | B6: Пилот | C6: карт | D6: Круг | E6: кругов на отрезке | F6: Статистика по кругам | J6: Общее время гонки | K6: Время на трассе
F7: Лучший круг | G7: Среднее на отрезке | H7: Кругов в 0,1 от лучшего | I7: стабильность | K7: отрезок | L7: всего у пилота | M7: Питы | N7: Штрафы/ бонусы (сек)
A8: 1 | B8: Шендрик Влад | C8: 5 | D8: =COUNTA(C19:C83) -> 24 | E8: =COUNTA(C19:C83) -> 24 | F8: =MIN(C19:C82) -> 42.27 | G8: =AVERAGE(C19:C85) -> 43.003333 | I8: =G8-F8 -> 0.73333333 | J8: 0.012017604 | K8: =J8 -> 0.012017604 | L8: =K8 -> 0.012017604 | M8: 2:18.49 | S8: *
A9: 2 | B9: Шендрик Влад | C9: 1 | D9: =COUNTA(D19:D83)+D8+1 -> 65 | E9: =COUNTA(D19:D83)+1 -> 41 | F9: =MIN(D19:D82) -> 42.4 | G9: =AVERAGE(D19:D84) -> 42.9015 | I9: =G9-F9 -> 0.5015 | J9: 0.03398485 | K9: =J9-J8 -> 0.021967245 | L9: =K9+L8 -> 0.03398485 | M9: 2:36.61 | O9: передержали на 18 сек на пите поломка
A10: 3 | B10: Гаврилюк Олег | C10: 18 | D10: =COUNTA(E19:E83)+D9+1+5 -> 106 | E10: =COUNTA(E19:E83)+1+4 -> 40 | F10: =MIN(E19:E84) -> 42.1 | G10: =AVERAGE(E19:E85) -> 42.867143 | I10: =G10-F10 -> 0.76714286 | J10: 0.053187535 | K10: =J10-J9 -> 0.019202685 | L10: =K10 -> 0.019202685 | M10: 2:17.33
A11: 4 | B11: Гаврилюк Олег | C11: 1 | D11: =COUNTA(F19:F83)+D10+1 -> 135 | E11: =COUNTA(F19:F83)+1 -> 29 | F11: =MIN(F19:F84) -> 42.85 | G11: =AVERAGE(F19:F84) -> 43.358214 | I11: =G11-F11 -> 0.50821429 | J11: 0.07134147 | K11: =J11-J10 -> 0.018153935 | L11: =K11+L10 -> 0.03735662 | M11: 2:19.91
A12: 5 | B12: Шендрик Влад | C12: 3 | D12: =COUNTA(G19:G83)+D11+1 -> 182 | E12: =COUNTA(G19:G83)+1 -> 47 | F12: =MIN(G19:G84) -> 42.37 | G12: =AVERAGE(G19:G884) -> 42.641522 | I12: =G12-F12 -> 0.27152174 | J12: 0.095668808 | K12: =J12-J11 -> 0.024327338 | L12: =K12+L9 -> 0.058312188 | M12: 1:59.59 | N12: -18 | O12: вернули
A13: Финиш | B13: Гаврилюк Олег | C13: 5 | D13: =COUNTA(H19:H83)+D12+1 -> 240 | E13: =COUNTA(H19:H83)+1 -> 58 | F13: =MIN(H19:H84) -> 42.52 | G13: =AVERAGE(H19:H84) -> 42.960877 | I13: =G13-F13 -> 0.44087719 | J13: ='Общие результаты'!G6 -> 3:00:12 | K13: =J13-J12 -> 0.029470081 | L13: =K13+L11 -> 0.066826701 | N13: +30 | O13: 1 пит должен быть 2 минуты (как у всех)
F14: =AVERAGE(F8,F9,F12) -> 42.346667 | G14: =AVERAGE(G8,G9,G12) -> 42.848785 | H14: Влад | I14: =AVERAGE(I8,I9,I12) -> 0.50211836
F15: =AVERAGE(F10,F11,F13) -> 42.49 | G15: =AVERAGE(G10,G11,G13) -> 43.062078 | H15: Олег | I15: =AVERAGE(I10,I11,I13) -> 0.57207811
F16: =AVERAGE(F8:F13) -> 42.418333 | G16: =AVERAGE(C19:H88) -> 42.925217 | I16: =AVERAGE(I8:I13) -> 0.53709823
C18: =B8 -> Шендрик Влад | D18: =B9 -> Шендрик Влад | E18: =B10 -> Гаврилюк Олег | F18: =B11 -> Гаврилюк Олег | G18: =B12 -> Шендрик Влад | H18: =B13 -> Гаврилюк Олег
B19: 1 | C19: 45.71 | D19: 43.27 | E19: 43.46 | F19: 43.62 | G19: 42.86 | H19: 43.14
B20: 2 | C20: 43.22 | D20: 42.93 | E20: 43.26 | F20: 43.19 | G20: 42.8 | H20: 43.36
B21: 3 | C21: 43.55 | D21: 42.88 | E21: 42.83 | F21: 43.52 | G21: 42.84 | H21: 42.9
B22: 4 | C22: 44.92 | D22: 42.5 | E22: 42.99 | F22: 43.12 | G22: 42.57 | H22: 43.06
B23: 5 | C23: 42.68 | D23: 43.48 | E23: 43.06 | F23: 43.27 | G23: 42.58 | H23: 43.22
B24: 6 | C24: 42.48 | D24: 42.77 | E24: 44.5 | F24: 43.05 | G24: 42.91 | H24: 42.98
B25: 7 | C25: 42.59 | D25: 42.79 | E25: 42.1 | F25: 43.4 | G25: 42.7 | H25: 43.12
B26: 8 | C26: 42.43 | D26: 45.01 | E26: 42.76 | F26: 43.7 | G26: 42.75 | H26: 43.05
B27: 9 | C27: 42.27 | D27: 43.02 | E27: 42.87 | F27: 42.85 | G27: 42.7 | H27: 43.32
B28: 10 | C28: 42.41 | D28: 42.75 | E28: 42.64 | F28: 43.19 | G28: 42.93 | H28: 42.78
B29: 11 | C29: 44.16 | D29: 42.86 | E29: 42.87 | F29: 43.31 | G29: 43.08 | H29: 42.99
B30: 12 | C30: 42.41 | D30: 42.8 | E30: 42.69 | F30: 43.16 | G30: 42.55 | H30: 42.65
... B36: 18 | C36: 42.61 | D36: 42.95 | E36: 42.69 | F36: 43.2 | G36: 42.63 | H36: 42.97
B37: 19 | C37: 42.57 | D37: 42.52 | E37: 42.55 | G37: 42.45 | H37: 43.91
B38: 20 | C38: 42.47 | D38: 42.51 | E38: 42.72 | G38: 42.52 | H38: 42.86
B39: 21 | C39: 42.38 | D39: 42.63 | E39: 42.71 | G39: 43.39 | H39: 43.03
B40: 22 | C40: 42.37 | D40: 42.99 | E40: 42.75 | G40: 42.62 | H40: 43.5
B41: 23 | C41: 42.57 | D41: 42.8 | E41: 42.71 | F41: 44.43 | G41: 42.4 | H41: 42.73
B42: 24 | C42: 43.8 | D42: 42.73 | E42: 42.8 | F42: 43.02 | G42: 42.42 | H42: 43.1
B43: 25 | D43: 42.79 | E43: 42.79 | F43: 43.29 | G43: 42.37 | H43: 42.52
B44: 26 | D44: 42.66 | E44: 42.69 | F44: 43.44 | G44: 42.54 | H44: 42.84
B45: 27 | D45: 42.58 | E45: 42.76 | F45: 43.6 | G45: 42.43 | H45: 42.96
B46: 28 | D46: 42.55 | E46: 42.77 | F46: 43.01 | G46: 42.38 | H46: 42.73
B47: 29 | D47: 42.97 | E47: 42.96 | F47: 43.3 | G47: 42.49 | H47: 42.73
B48: 30 | D48: 43.72 | E48: 42.87 | F48: 43.23 | G48: 42.51 | H48: 42.71
B49: 31 | D49: 43.13 | E49: 42.93 | F49: 43.61 | G49: 42.49 | H49: 43.29
B50: 32 | D50: 42.83 | E50: 42.78 | F50: 43.96 | G50: 42.37 | H50: 42.81
B51: 33 | D51: 42.49 | E51: 42.77 | G51: 42.53 | H51: 43.09
B52: 34 | D52: 42.7 | E52: 42.79 | G52: 42.45 | H52: 42.87
B53: 35 | D53: 42.53 | E53: 43.82 | G53: 43.21 | H53: 42.72
B54: 36 | D54: 43.03 | G54: 42.38 | H54: 42.85
B55: 37 | D55: 42.4 | G55: 42.54 | H55: 42.64
B56: 38 | D56: 42.62 | G56: 42.46 | H56: 42.59
B57: 39 | D57: 43.11 | G57: 42.54 | H57: 42.67
B58: 40 | D58: 43.84 | G58: 42.5 | H58: 42.98
B59: 41 | G59: 42.59 | H59: 42.75
B60: 42 | G60: 42.88 | H60: 42.85
B61: 43 | G61: 42.57 | H61: 42.83
B62: 44 | G62: 42.53 | H62: 42.79
B63: 45 | G63: 42.6 | H63: 43.18
B64: 46 | G64: 43.4 | H64: 42.83
B65: 47 | H65: 42.91
B66: 48 | H66: 42.76
B67: 49 | H67: 42.8
B68: 50 | H68: 42.63
B69: 51 | H69: 42.82
B70: 52 | H70: 42.91
B71: 53 | H71: 42.99
B72: 54 | H72: 43.83
B73: 55 | H73: 42.87
B74: 56 | H74: 42.82
B75: 57 | H75: 43.28
B76: 58
B77: 59
B78: 60
B79: 61
B80: 62
B81: 63

Sheet Flash UA
A2: Чемпионат мини марафон "Большие Гонки", 11-й этап
A4: Flash UA
A6: Обяза-тельные | B6: Пилот | C6: карт | D6: Круг | E6: кругов на отрезке | F6: Статистика по кругам | J6: Общее время гонки | K6: Время на трассе
F7: Лучший круг | G7: Среднее на отрезке | H7: Кругов в 0,1 от лучшего | I7: стабильность | K7: отрезок | L7: всего у пилота | M7: Питы | N7: Штрафы/ бонусы (сек)
A8: 1 | B8: Лихошерст Алексей | C8: 17 | D8: =COUNTA(C19:C83) -> 21 | E8: =COUNTA(C19:C83) -> 21 | F8: =MIN(C19:C82) -> 42.38 | G8: =AVERAGE(C19:C85) -> 43.200952 | I8: =G8-F8 -> 0.82095238 | J8: 0.010567176 | K8: =J8 -> 0.010567176 | L8: =K8 -> 0.010567176 | M8: 2:08.79 | N8: -27 | O8: бонус
A9: 2 | B9: Лихошерст Алексей | C9: 6 | D9: =COUNTA(D19:D83)+D8+1 -> 42 | E9: =COUNTA(D19:D83)+1 -> 21 | F9: =MIN(D19:D82) -> 42.51 | G9: =AVERAGE(D19:D84) -> 43.3355 | I9: =G9-F9 -> 0.8255 | J9: 0.022090162 | K9: =J9-J8 -> 0.011522986 | L9: =K9+L8 -> 0.022090162 | M9: 2:01.60
A10: 3 | B10: Загорулько Иван | C10: 69 | D10: =COUNTA(E19:E83)+D9+1 -> 102 | E10: =COUNTA(E19:E83)+1 -> 60 | F10: =MIN(E19:E84) -> 42.62 | G10: =AVERAGE(E19:E85) -> 43.162712 | I10: =G10-F10 -> 0.54271186 | J10: 0.052981539 | K10: =J10-J9 -> 0.030891377 | L10: =K10 -> 0.030891377 | M10: 2:20.89
A11: 4 | B11: Загорулько Иван | C11: 15/69 | D11: =COUNTA(F19:F83)+D10+1+4 -> 148 | E11: =COUNTA(F19:F83)+1+3 -> 45 | F11: =MIN(F19:F84) -> 42.69 | G11: =AVERAGE(F19:F84) -> 44.903415 | I11: =G11-F11 -> 2.2134146 | J11: 0.077910567 | K11: =J11-J10 -> 0.024929028 | L11: =K11+L10 -> 0.055820405 | M11: 2:47.98 | O11: пит 2 минуты
A12: 5 | B12: Лихошерст Алексей | C12: 4 | D12: =COUNTA(G19:G83)+D11+1 -> 202 | E12: =COUNTA(G19:G83)+1 -> 54 | F12: =MIN(G19:G84) -> 42.18 | G12: =AVERAGE(G19:G884) -> 42.628868 | I12: =G12-F12 -> 0.44886792 | J12: 0.10600766 | K12: =J12-J11 -> 0.028097095 | L12: =K12+L9 -> 0.050187257 | M12: 2:01.05 | N12: -17 | O12: компенсация поломка
A13: Финиш | B13: Лихошерст Алексей | C13: 13 | D13: =COUNTA(H19:H83)+D12+1 -> 240 | E13: =COUNTA(H19:H83)+1 -> 38 | F13: =MIN(H19:H84) -> 42.05 | G13: =AVERAGE(H19:H84) -> 42.360541 | I13: =G13-F13 -> 0.31054054 | J13: ='Общие результаты'!G6 -> 3:00:12 | K13: =J13-J12 -> 0.019131227 | L13: =K13+L12 -> 0.069318484 | N13: -30+5+5 | O13: остаток поломка +5сек фишка на 4 пите и + 5 сек фишка при заезде на пит после поломки
F14: =AVERAGE(F8,F10,F12) -> 42.393333 | G14: =AVERAGE(G8,G10,G12) -> 42.997511 | H14: Леша | I14: =AVERAGE(I8,I10,I12) -> 0.60417739
F15: =AVERAGE(F9,F11,F13) -> 42.416667 | G15: =AVERAGE(G9,G11,G13) -> 43.533152 | H15: Ваня | I15: =AVERAGE(I9,I11,I13) -> 1.1164851
F16: =AVERAGE(F8:F13) -> 42.405 | G16: =AVERAGE(C19:H88) -> 43.239134 | I16: =AVERAGE(I8:I13) -> 0.86033122
C18: =B8 -> Лихошерст Алексей | D18: =B9 -> Лихошерст Алексей | E18: =B10 -> Загорулько Иван | F18: =B11 -> Загорулько Иван | G18: =B12 -> Лихошерст Алексей | H18: =B13 -> Лихошерст Алексей
B19: 1 | C19: 45.52 | D19: 43.75 | E19: 43.25 | F19: 45.71 | G19: 42.87 | H19: 42.49
B20: 2 | C20: 43.28 | D20: 45.26 | E20: 43.2 | F20: 45.36 | G20: 42.8 | H20: 42.27
B21: 3 | C21: 43.73 | D21: 44.49 | E21: 43.31 | F21: 46.2 | G21: 42.8 | H21: 42.38
B22: 4 | C22: 43.39 | D22: 44.21 | E22: 43.1 | F22: 44.74 | G22: 42.81 | H22: 42.17
B23: 5 | C23: 42.61 | D23: 42.86 | E23: 43.17 | F23: 46.36 | G23: 43.57 | H23: 42.35
B24: 6 | C24: 42.42 | D24: 42.68 | E24: 43.39 | F24: 44.93 | G24: 42.8 | H24: 43.1
B25: 7 | C25: 43.94 | D25: 42.77 | E25: 43.64 | F25: 46.85 | G25: 42.4 | H25: 42.05
B26: 8 | C26: 42.45 | D26: 42.96 | E26: 43.17 | F26: 90.88 | G26: 42.42 | H26: 42.1
B27: 9 | C27: 42.38 | D27: 42.75 | E27: 43.17 | F27: 43.83 | G27: 42.36 | H27: 42.45
B28: 10 | C28: 42.53 | D28: 42.99 | E28: 45.1 | F28: 43.76 | G28: 42.58 | H28: 42.4
B29: 11 | C29: 43.25 | D29: 45.33 | E29: 43.58 | F29: 43.22 | G29: 42.53 | H29: 42.55
B30: 12 | C30: 42.51 | D30: 42.92 | E30: 43.54 | F30: 44.39 | G30: 42.55 | H30: 42.62
... B35: 17 | C35: 42.81 | D35: 42.68 | E35: 43.08 | F35: 43.35 | G35: 42.47 | H35: 42.27
B36: 18 | C36: 43.14 | D36: 42.79 | E36: 43.24 | G36: 42.63 | H36: 42.62
B37: 19 | C37: 42.68 | D37: 42.9 | E37: 42.81 | G37: 42.72 | H37: 42.24
B38: 20 | C38: 42.7 | D38: 44.41 | E38: 42.89 | G38: 42.52 | H38: 42.42
B39: 21 | C39: 45.37 | E39: 42.81 | G39: 42.49 | H39: 42.35
B40: 22 | E40: 42.77 | F40: 43.54 | G40: 42.74 | H40: 42.53
B41: 23 | E41: 42.99 | F41: 43.2 | G41: 42.65 | H41: 42.31
B42: 24 | E42: 43.16 | F42: 43.18 | G42: 42.54 | H42: 42.26
B43: 25 | E43: 43.03 | F43: 43.09 | G43: 42.41 | H43: 42.41
B44: 26 | E44: 43.41 | F44: 43.21 | G44: 42.42 | H44: 42.28
B45: 27 | E45: 42.97 | F45: 42.92 | G45: 43.06 | H45: 42.25
B46: 28 | E46: 43.15 | F46: 43.12 | G46: 42.7 | H46: 42.1
B47: 29 | E47: 43.32 | F47: 43.5 | G47: 42.68 | H47: 42.12
B48: 30 | E48: 42.97 | F48: 43.16 | G48: 42.54 | H48: 42.22
B49: 31 | E49: 42.87 | F49: 43.38 | G49: 42.6 | H49: 42.81
B50: 32 | E50: 43.04 | F50: 43.06 | G50: 42.62 | H50: 42.46
B51: 33 | E51: 43.34 | F51: 43.4 | G51: 42.68 | H51: 42.06
... B55: 37 | E55: 42.88 | F55: 42.96 | G55: 42.56 | H55: 42.24
B56: 38 | E56: 42.91 | F56: 42.9 | G56: 42.66
B57: 39 | E57: 43.12 | F57: 43.11 | G57: 42.66
B58: 40 | E58: 42.9 | F58: 43.08 | G58: 42.65
B59: 41 | E59: 42.89 | F59: 43.86 | G59: 42.48
B60: 42 | E60: 43.04 | F60: 43.53 | G60: 42.43
B61: 43 | E61: 43.71 | F61: 42.98 | G61: 42.49
B62: 44 | E62: 42.62 | F62: 42.69 | G62: 42.57
B63: 45 | E63: 42.92 | F63: 43.93 | G63: 42.47
B64: 46 | E64: 42.86 | G64: 42.78
B65: 47 | E65: 43.17 | G65: 42.18
B66: 48 | E66: 42.92 | G66: 42.73
B67: 49 | E67: 43.23 | G67: 42.38
B68: 50 | E68: 42.94 | G68: 42.38
B69: 51 | E69: 42.96 | G69: 42.44
B70: 52 | E70: 42.95 | G70: 42.61
B71: 53 | E71: 43.5 | G71: 43.52
B72: 54 | E72: 43.07
B73: 55 | E73: 43.1
B74: 56 | E74: 42.8
B75: 57 | E75: 43.24
B76: 58 | E76: 43.44
B77: 59 | E77: 44.42
B78: 60
B79: 61
B80: 62
B81: 63

Sheet F1 Ua
A2: Чемпионат мини марафон "Большие Гонки", 11-й этап
A4: F1 Ua
A6: Обяза-тельные | B6: Пилот | C6: карт | D6: Круг | E6: кругов на отрезке | F6: Статистика по кругам | J6: Общее время гонки | K6: Время на трассе
F7: Лучший круг | G7: Среднее на отрезке | H7: Кругов в 0,1 от лучшего | I7: стабильность | K7: отрезок | L7: всего у пилота | M7: Питы | N7: Штрафы/ бонусы (сек)
A8: 1 | B8: Якусик Дима | C8: 69 | D8: =COUNTA(C19:C83) -> 42 | E8: =COUNTA(C19:C83) -> 42 | F8: =MIN(C19:C82) -> 42.09 | G8: =AVERAGE(C19:C85) -> 42.610476 | I8: =G8-F8 -> 0.52047619 | J8: 0.020812998 | K8: =J8 -> 0.020812998 | L8: =K8 -> 0.020812998 | M8: 2:19.48
A9: 2 | B9: Закалюк Женя | C9: 14 | D9: =COUNTA(D19:D83)+D8+1 -> 65 | E9: =COUNTA(D19:D83)+1 -> 23 | F9: =MIN(D19:D82) -> 42.9 | G9: =AVERAGE(D19:D84) -> 43.830455 | I9: =G9-F9 -> 0.93045455 | J9: 0.033580174 | K9: =J9-J8 -> 0.012767176 | L9: =K9 -> 0.012767176 | M9: 2:20.86
A10: 3 | B10: Якусик Дима | C10: 4 | D10: =COUNTA(E19:E83)+D9+1 -> 100 | E10: =COUNTA(E19:E83)+1 -> 35 | F10: =MIN(E19:E84) -> 42.23 | G10: =AVERAGE(E19:E85) -> 42.521471 | I10: =G10-F10 -> 0.29147059 | J10: 0.051942755 | K10: =J10-J9 -> 0.018362581 | L10: =K10+L8 -> 0.039175579 | M10: 2:20.17
A11: 4 | B11: Закалюк Женя | C11: 21 | D11: =COUNTA(F19:F83)+D10+1+5 -> 140 | E11: =COUNTA(F19:F83)+1+4 -> 39 | F11: =MIN(F19:F84) -> 43.17 | G11: =AVERAGE(F19:F84) -> 43.605588 | I11: =G11-F11 -> 0.43558824 | J11: 0.073267488 | K11: =J11-J10 -> 0.021324734 | L11: =K11+L9 -> 0.03409191 | M11: 2:12.59 | N11: -36-43 | O11: бонус+поломка
A12: 5 | B12: Якусик Дима | C12: 16 | D12: =COUNTA(G19:G83)+D11+1 -> 194 | E12: =COUNTA(G19:G83)+1 -> 54 | F12: =MIN(G19:G84) -> 42.23 | G12: =AVERAGE(G19:G884) -> 43.415094 | I12: =G12-F12 -> 1.1850943 | J12: 0.10142649 | K12: =J12-J11 -> 0.028159005 | L12: =K12+L10 -> 0.067334583 | M12: 1:39.56
A13: Финиш | B13: Закалюк Женя | C13: 44 | D13: =COUNTA(H19:H83)+D12+1 -> 240 | E13: =COUNTA(H19:H83)+1 -> 46 | F13: =MIN(H19:H84) -> 43.41 | G13: =AVERAGE(H19:H84) -> 43.869333 | I13: =G13-F13 -> 0.45933333 | J13: ='Общие результаты'!G6 -> 3:00:12 | K13: =J13-J12 -> 0.023712396 | L13: =K13+L11 -> 0.057804306 | N13: +5+5 | O13: линия на 2-м пите+фишка
F14: =AVERAGE(F8,F10,F12) -> 42.183333 | G14: =AVERAGE(G8,G10,G12) -> 42.849014 | H14: Дима | I14: =AVERAGE(I8,I10,I12) -> 0.66568037
F15: =AVERAGE(F9,F11,F13) -> 43.16 | G15: =AVERAGE(G9,G11,G13) -> 43.768459 | H15: Женя | I15: =AVERAGE(I9,I11,I13) -> 0.6084587
F16: =AVERAGE(F8:F13) -> 42.671667 | G16: =AVERAGE(C19:H88) -> 43.292826 | I16: =AVERAGE(I8:I13) -> 0.63706954
C18: =B8 -> Якусик Дима | D18: =B9 -> Закалюк Женя | E18: =B10 -> Якусик Дима | F18: =B11 -> Закалюк Женя | G18: =B12 -> Якусик Дима | H18: =B13 -> Закалюк Женя
B19: 1 | C19: 44.96 | D19: 45.28 | E19: 42.61 | F19: 43.74 | G19: 42.65 | H19: 44.1
B20: 2 | C20: 43.16 | D20: 49.25 | E20: 42.99 | F20: 43.61 | G20: 43.27 | H20: 43.83
B21: 3 | C21: 43.22 | D21: 43.27 | E21: 42.9 | F21: 43.26 | G21: 43.36 | H21: 44.1
B22: 4 | C22: 44.03 | D22: 43.17 | E22: 42.34 | F22: 43.77 | G22: 44.11 | H22: 43.53
B23: 5 | C23: 42.2 | D23: 43.23 | E23: 42.42 | F23: 43.43 | G23: 86.64 | H23: 43.66
B24: 6 | C24: 42.32 | D24: 43.41 | E24: 42.5 | F24: 43.45 | G24: 42.66 | H24: 43.64
B25: 7 | C25: 43.03 | D25: 43.21 | E25: 42.42 | F25: 43.56 | G25: 42.71 | H25: 43.82
B26: 8 | C26: 42.38 | D26: 43.34 | E26: 42.31 | F26: 43.17 | G26: 42.65 | H26: 43.6
B27: 9 | C27: 42.38 | D27: 43.01 | E27: 42.3 | F27: 43.52 | G27: 42.56 | H27: 43.56
B28: 10 | C28: 42.13 | D28: 43.24 | E28: 42.27 | F28: 43.46 | G28: 42.68 | H28: 43.55
B29: 11 | C29: 42.17 | D29: 42.9 | E29: 42.24 | F29: 43.42 | G29: 42.51 | H29: 43.61
B30: 12 | C30: 42.14 | D30: 43.68 | E30: 42.31 | F30: 43.35 | G30: 42.6 | H30: 43.62
... B38: 20 | C38: 42.61 | D38: 44.06 | E38: 42.51 | F38: 43.51 | G38: 42.43 | H38: 43.6
B39: 21 | C39: 43.5 | D39: 44.81 | E39: 42.38 | G39: 42.53 | H39: 43.64
B40: 22 | C40: 42.62 | D40: 44.29 | E40: 42.65 | G40: 42.65 | H40: 43.64
B41: 23 | C41: 42.47 | E41: 42.31 | G41: 42.31 | H41: 43.41
B42: 24 | C42: 42.52 | E42: 42.33 | G42: 42.4 | H42: 43.63
B43: 25 | C43: 42.37 | E43: 42.5 | F43: 44.13 | G43: 42.56 | H43: 43.83
B44: 26 | C44: 42.27 | E44: 42.97 | F44: 43.32 | G44: 42.37 | H44: 43.47
B45: 27 | C45: 42.3 | E45: 42.78 | F45: 43.46 | G45: 42.39 | H45: 44.97
B46: 28 | C46: 43.37 | E46: 42.39 | F46: 43.88 | G46: 42.92 | H46: 44.72
B47: 29 | C47: 42.41 | E47: 42.48 | F47: 45.71 | G47: 42.38 | H47: 45.4
B48: 30 | C48: 42.14 | E48: 42.33 | F48: 43.41 | G48: 42.29 | H48: 43.92
B49: 31 | C49: 42.47 | E49: 42.32 | F49: 43.53 | G49: 42.43 | H49: 43.6
B50: 32 | C50: 42.25 | E50: 42.29 | F50: 43.78 | G50: 42.45 | H50: 43.7
B51: 33 | C51: 42.71 | E51: 42.41 | F51: 43.77 | G51: 42.45 | H51: 43.99
B52: 34 | C52: 42.25 | E52: 44.53 | F52: 43.34 | G52: 42.54 | H52: 43.96
B53: 35 | C53: 42.32 | F53: 43.64 | G53: 42.24 | H53: 43.74
B54: 36 | C54: 42.53 | F54: 43.53 | G54: 42.82 | H54: 44.33
B55: 37 | C55: 42.21 | F55: 43.4 | G55: 42.45 | H55: 43.54
B56: 38 | C56: 42.41 | F56: 44.01 | G56: 42.4 | H56: 43.59
B57: 39 | C57: 42.37 | G57: 42.23 | H57: 43.65
B58: 40 | C58: 42.29 | G58: 42.79 | H58: 43.63
B59: 41 | C59: 42.37 | G59: 42.42 | H59: 43.63
B60: 42 | C60: 44.6 | G60: 42.68 | H60: 43.79
B61: 43 | G61: 42.36 | H61: 44.23
B62: 44 | G62: 42.31 | H62: 43.43
B63: 45 | G63: 42.31 | H63: 43.62
B64: 46 | G64: 42.64
B65: 47 | G65: 42.5
B66: 48 | G66: 42.52
B67: 49 | G67: 42.77
B68: 50 | G68: 42.67
B69: 51 | G69: 42.6
B70: 52 | G70: 42.69
B71: 53 | G71: 43.18
B72: 54
B73: 55
B74: 56
B75: 57
B76: 58
B77: 59
B78: 60
B79: 61
B80: 62
B81: 63

Sheet Ingul Kart Academy
A2: Чемпионат мини марафон "Большие Гонки", 11-й этап
A4: Ingul Kart Academy
A6: Обяза-тельные | B6: Пилот | C6: карт | D6: Круг | E6: кругов на отрезке | F6: Статистика по кругам | J6: Общее время гонки | K6: Время на трассе
F7: Лучший круг | G7: Среднее на отрезке | H7: Кругов в 0,1 от лучшего | I7: стабильность | K7: отрезок | L7: всего у пилота | M7: Питы | N7: Штрафы/ бонусы (сек)
A8: 1 | B8: Сивак Максим | C8: 21 | D8: =COUNTA(C19:C83) -> 37 | E8: =COUNTA(C19:C83) -> 37 | F8: =MIN(C19:C82) -> 42.63 | G8: =AVERAGE(C19:C85) -> 43.393514 | I8: =G8-F8 -> 0.76351351 | J8: 0.018667604 | K8: =J8 -> 0.018667604 | L8: =K8 -> 0.018667604 | M8: 2:27.09 | O8: передержали на 6 сек
A9: 2 | B9: Демьяненко Дмитрий | C9: 11 | D9: =COUNTA(D19:D83)+D8+1 -> 77 | E9: =COUNTA(D19:D83)+1 -> 40 | F9: =MIN(D19:D82) -> 42.62 | G9: =AVERAGE(D19:D84) -> 43.01359 | I9: =G9-F9 -> 0.39358974 | J9: 0.039776169 | K9: =J9-J8 -> 0.021108565 | L9: =K9 -> 0.021108565 | M9: 2:22.70 | O9: передержали на 4 сек
A10: 3 | B10: Сивак Максим | C10: 3 | D10: =COUNTA(E19:E83)+D9+1+5 -> 136 | E10: =COUNTA(E19:E83)+1+4 -> 58 | F10: =MIN(E19:E84) -> 42.57 | G10: =AVERAGE(E19:E85) -> 42.945094 | I10: =G10-F10 -> 0.37509434 | J10: 0.070285521 | K10: =J10-J9 -> 0.030509352 | L10: =K10+L8 -> 0.049176956 | M10: 2:23.95 | O10: сами задержались, на пите провели 1.5 мин
A11: 4 | B11: Демьяненко Дмитрий | C11: 2 | D11: =COUNTA(F19:F83)+D10+1 -> 182 | E11: =COUNTA(F19:F83)+1 -> 46 | F11: =MIN(F19:F84) -> 42.55 | G11: =AVERAGE(F19:F84) -> 43.024222 | I11: =G11-F11 -> 0.47422222 | J11: 0.094330127 | K11: =J11-J10 -> 0.024044606 | L11: =K11+L9 -> 0.045153171 | M11: 1:59.52 | N11: -9-10 | O11: бонус+передержали на 1 и 2 пите
A12: 5 | B12: Сивак Максим | C12: 10 | D12: =COUNTA(G19:G83)+D11+1 -> 206 | E12: =COUNTA(G19:G83)+1 -> 24 | F12: =MIN(G19:G84) -> 42.59 | G12: =AVERAGE(G19:G884) -> 43.048261 | I12: =G12-F12 -> 0.45826087 | J12: 0.10718572 | K12: =J12-J11 -> 0.01285559 | L12: =K12+L10 -> 0.062032546 | M12: 2:52.90 | N12: +5 | O12: фишка
A13: Финиш | B13: Демьяненко Дмитрий | C13: 21 | D13: =COUNTA(H19:H83)+D12+1 -> 240 | E13: =COUNTA(H19:H83)+1 -> 34 | F13: =MIN(H19:H84) -> 42.59 | G13: =AVERAGE(H19:H84) -> 43.005758 | I13: =G13-F13 -> 0.41575758 | J13: ='Общие результаты'!G6 -> 3:00:12 | K13: =J13-J12 -> 0.017953171 | L13: =K13+L11 -> 0.063106343
F14: =AVERAGE(F8,F10,F12) -> 42.596667 | G14: =AVERAGE(G8,G10,G12) -> 43.128956 | H14: Максим | I14: =AVERAGE(I8,I10,I12) -> 0.53228957
F15: =AVERAGE(F9,F11,F13) -> 42.586667 | G15: =AVERAGE(G9,G11,G13) -> 43.014523 | H15: Дима | I15: =AVERAGE(I9,I11,I13) -> 0.42785651
F16: =AVERAGE(F8:F13) -> 42.591667 | G16: =AVERAGE(C19:H88) -> 43.063348 | I16: =AVERAGE(I8:I13) -> 0.48007304
C18: =B8 -> Сивак Максим | D18: =B9 -> Демьяненко Дмитрий | E18: =B10 -> Сивак Максим | F18: =B11 -> Демьяненко Дмитрий | G18: =B12 -> Сивак Максим | H18: =B13 -> Демьяненко Дмитрий
B19: 1 | C19: 46.1 | D19: 43.42 | E19: 42.75 | F19: 43.03 | G19: 43.1 | H19: 43.11
B20: 2 | C20: 43.24 | D20: 43.21 | E20: 42.73 | F20: 43.96 | G20: 42.79 | H20: 42.88
B21: 3 | C21: 43.44 | D21: 43.5 | E21: 43.06 | F21: 42.89 | G21: 42.9 | H21: 43.63
B22: 4 | C22: 44.3 | D22: 43.53 | E22: 42.79 | F22: 43.16 | G22: 43.16 | H22: 43.51
B23: 5 | C23: 42.87 | D23: 43.07 | E23: 42.92 | F23: 44.42 | G23: 42.78 | H23: 43.03
B24: 6 | C24: 42.83 | D24: 43.01 | E24: 42.89 | F24: 42.73 | G24: 42.98 | H24: 42.93
B25: 7 | C25: 46.97 | D25: 43.02 | E25: 42.89 | F25: 42.77 | G25: 42.59 | H25: 42.75
B26: 8 | C26: 43.95 | D26: 42.68 | E26: 42.84 | F26: 43.06 | G26: 42.98 | H26: 42.79
B27: 9 | C27: 43.17 | D27: 42.63 | E27: 42.97 | F27: 42.77 | G27: 42.76 | H27: 42.71
B28: 10 | C28: 43 | D28: 43.05 | E28: 42.66 | F28: 42.77 | G28: 42.83 | H28: 42.89
B29: 11 | C29: 42.73 | D29: 42.81 | E29: 42.79 | F29: 42.84 | G29: 43.65 | H29: 43.56
B30: 12 | C30: 42.63 | D30: 42.75 | E30: 42.79 | F30: 42.9 | G30: 43.64 | H30: 43.15
... B41: 23 | C41: 43.02 | D41: 42.75 | E41: 42.84 | F41: 42.86 | G41: 44.57 | H41: 42.76
B42: 24 | C42: 42.78 | D42: 43.07 | E42: 42.84 | F42: 43.5 | H42: 42.98
B43: 25 | C43: 43.03 | D43: 42.9 | E43: 42.86 | F43: 42.84 | H43: 42.75
B44: 26 | C44: 42.86 | D44: 42.78 | E44: 42.89 | F44: 42.63 | H44: 43.07
B45: 27 | C45: 43.03 | D45: 43.01 | E45: 42.86 | F45: 42.77 | H45: 43.67
B46: 28 | C46: 43.54 | D46: 42.8 | E46: 42.68 | F46: 42.89 | H46: 42.84
B47: 29 | C47: 42.83 | D47: 43.01 | E47: 42.94 | F47: 42.6 | H47: 42.8
B48: 30 | C48: 42.7 | D48: 42.71 | E48: 42.98 | F48: 42.74 | H48: 42.83
B49: 31 | C49: 43 | D49: 42.95 | E49: 43.45 | F49: 43.03 | H49: 42.89
B50: 32 | C50: 43.61 | D50: 43.13 | E50: 42.8 | F50: 42.86 | H50: 42.92
B51: 33 | C51: 42.83 | D51: 42.71 | E51: 42.88 | F51: 42.85 | H51: 43.58
B52: 34 | C52: 42.77 | D52: 42.92 | E52: 42.75 | F52: 42.99
B53: 35 | C53: 44.63 | D53: 43.12 | E53: 42.67 | F53: 42.8
B54: 36 | C54: 43.11 | D54: 42.8 | E54: 42.8 | F54: 42.91
B55: 37 | C55: 47.6 | D55: 42.72 | E55: 42.57 | F55: 42.8
B56: 38 | D56: 43.24 | E56: 44.36 | F56: 42.91
B57: 39 | D57: 44.68 | E57: 43.44 | F57: 43.01
B58: 40 | E58: 43.01 | F58: 43.13
B59: 41 | E59: 42.77 | F59: 43.39
B60: 42 | E60: 42.58 | F60: 43.1
B61: 43 | E61: 42.94 | F61: 42.93
B62: 44 | E62: 42.62 | F62: 43
B63: 45 | E63: 43.15 | F63: 44.18
B64: 46
B65: 47
B66: 48
B67: 49
B68: 50 | E68: 42.82
B69: 51 | E69: 43.19
B70: 52 | E70: 43.78
B71: 53 | E71: 42.72
B72: 54 | E72: 43.07
B73: 55 | E73: 42.71
B74: 56 | E74: 42.8
B75: 57 | E75: 43.85
B76: 58
B77: 59
B78: 60
B79: 61
B80: 62
B81: 63

Sheet Bizol
A2: Чемпионат мини марафон "Большие Гонки", 11-й этап
A4: Bizol
A6: Обяза-тельные | B6: Пилот | C6: карт | D6: Круг | E6: кругов на отрезке | F6: Статистика по кругам | J6: Общее время гонки | K6: Время на трассе
F7: Лучший круг | G7: Среднее на отрезке | H7: Кругов в 0,1 от лучшего | I7: стабильность | K7: отрезок | L7: всего у пилота | M7: Питы | N7: Штрафы/ бонусы (сек)
A8: 1 | B8: Гладышев Степан | C8: 7 | D8: =COUNTA(C19:C83) -> 32 | E8: =COUNTA(C19:C83) -> 32 | F8: =MIN(C19:C82) -> 42.76 | G8: =AVERAGE(C19:C85) -> 43.556875 | I8: =G8-F8 -> 0.796875 | J8: 0.016242234 | K8: =J8 -> 0.016242234 | L8: =K8 -> 0.016242234 | M8: 2:22.07
A9: 2 | B9: Танана Александр | C9: 17 | D9: =COUNTA(D19:D83)+D8+1 -> 84 | E9: =COUNTA(D19:D83)+1 -> 52 | F9: =MIN(D19:D82) -> 42.52 | G9: =AVERAGE(D19:D84) -> 42.98 | I9: =G9-F9 -> 0.46 | J9: 0.043242951 | K9: =J9-J8 -> 0.027000718 | L9: =K9 -> 0.027000718 | M9: 2:18.89
A10: 3 | B10: Гладышев Степан | C10: 5 | D10: =COUNTA(E19:E83)+D9+1+3 -> 134 | E10: =COUNTA(E19:E83)+1+3 -> 50 | F10: =MIN(E19:E84) -> 42.75 | G10: =AVERAGE(E19:E85) -> 43.465652 | I10: =G10-F10 -> 0.71565217 | J10: 0.06999875 | K10: =J10-J9 -> 0.026755799 | L10: =K10+L8 -> 0.042998032 | M10: 2:25.13 | N10: +5 | O10: от судьи против 5
A11: 4 | B11: Танана Александр | C11: 18 | D11: =COUNTA(F19:F83)+D10+1 -> 182 | E11: =COUNTA(F19:F83)+1 -> 48 | F11: =MIN(F19:F84) -> 42.47 | G11: =AVERAGE(F19:F84) -> 42.825957 | I11: =G11-F11 -> 0.35595745 | J11: 0.094976829 | K11: =J11-J10 -> 0.024978079 | L11: =K11+L9 -> 0.051978796 | M11: 2:35.61 | O11: недодержали 12 сек (норм 2:47-2:49)
A12: 5 | B12: Гладышев Степан | C12: 2 | D12: =COUNTA(G19:G83)+D11+1 -> 212 | E12: =COUNTA(G19:G83)+1 -> 30 | F12: =MIN(G19:G84) -> 42.4 | G12: =AVERAGE(G19:G884) -> 42.845517 | I12: =G12-F12 -> 0.44551724 | J12: 0.11116105 | K12: =J12-J11 -> 0.016184225 | L12: =K12+L10 -> 0.059182257 | M12: 1:48.97 | O12: недодержали 30 сек
A13: Финиш | B13: Танана Александр | C13: 4 | D13: =COUNTA(H19:H83)+D12+1 -> 239 | E13: =COUNTA(H19:H83)+1 -> 27 | F13: =MIN(H19:H84) -> 42.44 | G13: =AVERAGE(H19:H84) -> 42.791154 | I13: =G13-F13 -> 0.35115385 | J13: ='Общие результаты'!G6 -> 3:00:12 | K13: =J13-J12 -> 0.013977836 | L13: =K13+L11 -> 0.065956632 | N13: +12+30+5 | O13: недодержали + фишка на 4 пите
F14: =AVERAGE(F8,F10,F12) -> 42.636667 | G14: =AVERAGE(G8,G10,G12) -> 43.289348 | H14: Степан | I14: =AVERAGE(I8,I10,I12) -> 0.65268147
F15: =AVERAGE(F9,F11,F13) -> 42.476667 | G15: =AVERAGE(G9,G11,G13) -> 42.865704 | H15: Александр | I15: =AVERAGE(I9,I11,I13) -> 0.3890371
F16: =AVERAGE(F8:F13) -> 42.556667 | G16: =AVERAGE(C19:H88) -> 43.087143 | I16: =AVERAGE(I8:I13) -> 0.52085928
C18: =B8 -> Гладышев Степан | D18: =B9 -> Танана Александр | E18: =B10 -> Гладышев Степан | F18: =B11 -> Танана Александр | G18: =B12 -> Гладышев Степан | H18: =B13 -> Танана Александр
B19: 1 | C19: 45.51 | D19: 43.4 | E19: 43.57 | F19: 43.39 | G19: 43.34 | H19: 42.63
B20: 2 | C20: 46.7 | D20: 43.61 | E20: 43.46 | F20: 43.79 | G20: 42.97 | H20: 42.65
B21: 3 | C21: 43.34 | D21: 43.07 | E21: 43.9 | F21: 43 | G21: 42.94 | H21: 43
B22: 4 | C22: 44.26 | D22: 42.96 | E22: 43.23 | F22: 42.78 | G22: 42.91 | H22: 42.76
B23: 5 | C23: 43.29 | D23: 43.25 | E23: 43.39 | F23: 42.97 | G23: 42.95 | H23: 42.85
B24: 6 | C24: 43.03 | D24: 42.99 | E24: 43.57 | F24: 42.75 | G24: 42.68 | H24: 42.78
B25: 7 | C25: 43.01 | D25: 42.94 | E25: 44.5 | F25: 42.93 | G25: 42.89 | H25: 42.96
B26: 8 | C26: 43.91 | D26: 43.47 | E26: 43.02 | F26: 42.94 | G26: 42.88 | H26: 42.89
B27: 9 | C27: 44.7 | D27: 42.95 | E27: 43.34 | F27: 42.67 | G27: 42.86 | H27: 42.59
B28: 10 | C28: 43.01 | D28: 43.02 | E28: 43.45 | F28: 42.76 | G28: 42.77 | H28: 42.88
B29: 11 | C29: 43.06 | D29: 42.78 | E29: 43.56 | F29: 42.68 | G29: 42.7 | H29: 43.48
B30: 12 | C30: 42.81 | D30: 42.84 | E30: 43.01 | F30: 42.55 | G30: 42.72 | H30: 43.03
... B44: 26 | C44: 43.11 | D44: 42.9 | E44: 43.33 | F44: 42.91 | G44: 42.83 | H44: 42.44
B45: 27 | C45: 43.3 | D45: 43.18 | E45: 43.15 | F45: 42.52 | G45: 42.92
B46: 28 | C46: 43.26 | D46: 42.65 | E46: 42.93 | F46: 42.74 | G46: 42.91
B47: 29 | C47: 43.12 | D47: 42.82 | E47: 43.19 | F47: 42.61 | G47: 44.35
B48: 30 | C48: 43.53 | D48: 42.67 | E48: 43.18 | F48: 42.81
B49: 31 | C49: 43.39 | D49: 42.84 | E49: 42.75 | F49: 42.56 | K49: 6
B50: 32 | C50: 47.13 | D50: 42.96 | E50: 43.05 | F50: 42.72
B51: 33 | D51: 43.12 | E51: 43.16 | F51: 42.47
B52: 34 | D52: 42.84 | E52: 43.46 | F52: 42.57
B53: 35 | D53: 42.7 | E53: 43.13 | F53: 42.96
B54: 36 | D54: 42.77 | E54: 43.38 | F54: 42.99
B55: 37 | D55: 42.98 | E55: 43.26 | F55: 42.55
B56: 38 | D56: 43.29 | E56: 43.37 | F56: 42.55
B57: 39 | D57: 43.7 | F57: 42.71
B58: 40 | D58: 42.89 | F58: 43.93
B59: 41 | D59: 42.87 | F59: 42.74
B60: 42 | D60: 42.72 | F60: 42.88
B61: 43 | D61: 42.9 | E61: 43.19 | F61: 42.68
B62: 44 | D62: 42.62 | E62: 43.07 | F62: 42.85
B63: 45 | D63: 42.88 | E63: 43.27 | F63: 42.78
B64: 46 | D64: 42.88 | E64: 43.31 | F64: 42.72
B65: 47 | D65: 42.89 | E65: 43.32 | F65: 43.89
B66: 48 | D66: 43.19 | E66: 43.45
B67: 49 | D67: 43.54 | E67: 43.21
B68: 50 | D68: 42.52 | E68: 45.49
B69: 51 | D69: 44.05
B70: 52
B71: 53
B72: 54
B73: 55
B74: 56
B75: 57
B76: 58
B77: 59
B78: 60
B79: 61
B80: 62
B81: 63

Sheet Line_x
A2: Чемпионат мини марафон "Большие Гонки", 11-й этап
A4: Line_x
A6: Обяза-тельные | B6: Пилот | C6: карт | D6: Круг | E6: кругов на отрезке | F6: Статистика по кругам | J6: Общее время гонки | K6: Время на трассе
F7: Лучший круг | G7: Среднее на отрезке | H7: Кругов в 0,1 от лучшего | I7: стабильность | K7: отрезок | L7: всего у пилота | M7: Питы | N7: Штрафы/ бонусы (сек)
A8: 1 | B8: Черников Леша | C8: 12 | D8: =COUNTA(C19:C83) -> 35 | E8: =COUNTA(C19:C83) -> 35 | F8: =MIN(C19:C82) -> 42.51 | G8: =AVERAGE(C19:C85) -> 43.326571 | I8: =G8-F8 -> 0.81657143 | J8: 0.017644062 | K8: =J8 -> 0.017644062 | L8: =K8 -> 0.017644062 | M8: 2:18.52
A9: 2 | B9: Булавинов Андрей | C9: 4 | D9: =COUNTA(D19:D83)+D8+1 -> 62 | E9: =COUNTA(D19:D83)+1 -> 27 | F9: =MIN(D19:D82) -> 42.52 | G9: =AVERAGE(D19:D84) -> 43.08 | I9: =G9-F9 -> 0.56 | J9: 0.032222095 | K9: =J9-J8 -> 0.014578032 | L9: =K9 -> 0.014578032 | M9: 2:33.78 | O9: передержали на 17 сек
A10: 3 | B10: Черников Леша | C10: 8 | D10: =COUNTA(E19:E83)+D9+1 -> 125 | E10: =COUNTA(E19:E83)+1 -> 63 | F10: =MIN(E19:E84) -> 42.34 | G10: =AVERAGE(E19:E89) -> 42.840441 | I10: =G10-F10 -> 0.50044118 | J10: 0.070193437 | K10: =J10-J9 -> 0.037971343 | L10: =K10+L8 -> 0.055615405 | M10: 2:19.06
A11: 4 | B11: Булавинов Андрей | C11: 14 | D11: =COUNTA(F19:F83)+D10+1 -> 182 | E11: =COUNTA(F19:F83)+1 -> 57 | F11: =MIN(F19:F84) -> 42.4 | G11: =AVERAGE(F19:F84) -> 43.086786 | I11: =G11-F11 -> 0.68678571 | J11: 0.099736655 | K11: =J11-J10 -> 0.029543218 | L11: =K11+L9 -> 0.04412125 | M11: 2:50.52 | O11: пит 2 минуты
A12: 5 | B12: Черников Леша | C12: 7 | D12: =COUNTA(G19:G83)+D11+1 -> 201 | E12: =COUNTA(G19:G83)+1 -> 19 | F12: =MIN(G19:G84) -> 42.96 | G12: =AVERAGE(G19:G884) -> 43.637222 | I12: =G12-F12 -> 0.67722222 | J12: 0.11082385 | K12: =J12-J11 -> 0.011087199 | L12: =K12+L10 -> 0.066702604 | M12: 2:19.71
A13: Финиш | B13: Булавинов Андрей | C13: 1 | D13: =COUNTA(H19:H83)+D12+1 -> 228 | E13: =COUNTA(H19:H83)+1 -> 27 | F13: =MIN(H19:H84) -> 42.9 | G13: =AVERAGE(H19:H84) -> 43.284231 | I13: =G13-F13 -> 0.38423077 | J13: ='Общие результаты'!G6 -> 3:00:12 | K13: =J13-J12 -> 0.014315035 | L13: =K13+L11 -> 0.058436285 | N13: -17 | O13: компенсация за пит 2
F14: =AVERAGE(F8,F10,F12) -> 42.603333 | G14: =AVERAGE(G8,G10,G12) -> 43.268078 | H14: Леша | I14: =AVERAGE(I8,I10,I12) -> 0.66474494
F15: =AVERAGE(F9,F11,F13) -> 42.606667 | G15: =AVERAGE(G9,G11,G13) -> 43.150339 | H15: Андрей | I15: =AVERAGE(I9,I11,I13) -> 0.54367216
F16: =AVERAGE(F8:F13) -> 42.605 | G16: =AVERAGE(C19:H89) -> 43.115197 | I16: =AVERAGE(I8:I13) -> 0.60420855
C18: =B8 -> Черников Леша | D18: =B9 -> Булавинов Андрей | E18: =B10 -> Черников Леша | F18: =B11 -> Булавинов Андрей | G18: =B12 -> Черников Леша | H18: =B13 -> Булавинов Андрей
B19: 1 | C19: 48.23 | D19: 43.15 | E19: 43.12 | F19: 43.86 | G19: 43.54 | H19: 43.56
B20: 2 | C20: 44.35 | D20: 43.36 | E20: 43.28 | F20: 43.47 | G20: 43.31 | H20: 43.07
B21: 3 | C21: 43.45 | D21: 43.29 | E21: 42.62 | F21: 43.48 | G21: 43.37 | H21: 44
B22: 4 | C22: 43.6 | D22: 43.11 | E22: 42.68 | F22: 43.23 | G22: 43.45 | H22: 43.23
B23: 5 | C23: 42.88 | D23: 43.2 | E23: 42.61 | F23: 43.51 | G23: 43.6 | H23: 43.22
B24: 6 | C24: 42.81 | D24: 43.04 | E24: 42.78 | F24: 43.24 | G24: 43.56 | H24: 44.46
B25: 7 | C25: 43.65 | D25: 43.04 | E25: 43.01 | F25: 43.22 | G25: 43.18 | H25: 43.38
B26: 8 | C26: 44.79 | D26: 42.96 | E26: 42.86 | F26: 43.02 | G26: 43.78 | H26: 43.33
B27: 9 | C27: 44.49 | D27: 43.17 | E27: 42.58 | F27: 43.24 | G27: 43.63 | H27: 43.86
B28: 10 | C28: 43.05 | D28: 43.01 | E28: 42.75 | F28: 43.31 | G28: 43.8 | H28: 43
B29: 11 | C29: 42.95 | D29: 43.27 | E29: 42.7 | F29: 43.08 | G29: 44.68 | H29: 43.08
B30: 12 | C30: 42.9 | D30: 42.9 | E30: 42.86 | F30: 43.31 | G30: 43.33 | H30: 43.1
... B36: 18 | C36: 42.77 | D36: 42.81 | E36: 42.54 | F36: 42.72 | G36: 45.06 | H36: 42.92
B37: 19 | C37: 42.51 | D37: 42.83 | E37: 42.44 | F37: 43.03 | H37: 43.14
B38: 20 | C38: 42.64 | D38: 42.52 | E38: 42.53 | F38: 42.91 | H38: 43.22
B39: 21 | C39: 42.87 | D39: 42.86 | E39: 42.73 | F39: 42.86 | H39: 43.06
B40: 22 | C40: 43.23 | D40: 43.01 | E40: 42.78 | F40: 43.29 | H40: 43.18
B41: 23 | C41: 42.72 | D41: 42.79 | E41: 42.47 | F41: 42.92 | H41: 43.12
B42: 24 | C42: 42.72 | D42: 43.85 | E42: 42.61 | F42: 43.19 | H42: 43.34
B43: 25 | C43: 43.08 | D43: 42.71 | E43: 43 | F43: 42.77 | H43: 43.15
B44: 26 | C44: 42.79 | D44: 44.77 | E44: 42.52 | F44: 43.73 | H44: 42.91
B45: 27 | C45: 43.06 | E45: 42.72 | F45: 43.25
B46: 28 | C46: 42.83 | E46: 42.68 | F46: 43.85
B47: 29 | C47: 43 | E47: 42.57 | F47: 43.49
B48: 30 | C48: 42.51 | E48: 42.51 | F48: 42.64
B49: 31 | C49: 42.82 | E49: 43.01 | F49: 42.94
B50: 32 | C50: 43.15 | E50: 42.78 | F50: 42.91
B51: 33 | C51: 42.89 | E51: 42.64 | F51: 42.9
B52: 34 | C52: 42.87 | E52: 42.84 | F52: 42.94
B53: 35 | C53: 45.8 | E53: 42.49 | F53: 43.18
B54: 36 | E54: 42.68 | F54: 43.02
B55: 37 | E55: 42.78 | F55: 42.93
B56: 38 | E56: 42.9 | F56: 42.94
B57: 39 | E57: 43.04 | F57: 43.02
B58: 40 | E58: 42.83 | F58: 42.87
B59: 41 | E59: 42.44 | F59: 42.92
B60: 42 | E60: 42.84 | F60: 42.76
B61: 43 | E61: 42.6 | F61: 43.08
B62: 44 | E62: 42.91 | F62: 43.14
B63: 45 | E63: 42.58 | F63: 43.75
B64: 46 | E64: 42.34 | F64: 43.3
B65: 47 | E65: 43.99 | F65: 42.82
... B74: 56 | E74: 42.73 | F74: 44.13
B75: 57 | E75: 42.84
B76: 58 | E76: 42.94
B77: 59 | E77: 43.78
B78: 60 | E78: 42.53
B79: 61
B80: 62
B81: 63
E82: 42.47
E83: 43.38
E84: 43.07
E85: 43.93
E86: 44.08
E87: 42.73
E88: 42.79
E89: 44.23

Sheet 50 grams
A2: Чемпионат мини марафон "Большие Гонки", 11-й этап
A4: 50 grams
A6: Обяза-тельные | B6: Пилот | C6: карт | D6: Круг | E6: кругов на отрезке | F6: Статистика по кругам | J6: Общее время гонки | K6: Время на трассе
F7: Лучший круг | G7: Среднее на отрезке | H7: Кругов в 0,1 от лучшего | I7: стабильность | K7: отрезок | L7: всего у пилота | M7: Питы | N7: Штрафы/ бонусы (сек)
A8: 1 | B8: Сомок Денис | C8: 13 | D8: =COUNTA(C19:C83) -> 39 | E8: =COUNTA(C19:C83) -> 39 | F8: =MIN(C19:C82) -> 42.04 | G8: =AVERAGE(C19:C85) -> 44.259231 | I8: =G8-F8 -> 2.2192308 | J8: 0.020054028 | K8: =J8 -> 0.020054028 | L8: =K8 -> 0.020054028 | M8: 2:19.14
A9: 2 | B9: Морозенко Сергей | C9: 3 | D9: =COUNTA(D19:D83)+D8+1 -> 68 | E9: =COUNTA(D19:D83)+1 -> 29 | F9: =MIN(D19:D82) -> 42.63 | G9: =AVERAGE(D19:D84) -> 43.057143 | I9: =G9-F9 -> 0.42714286 | J9: 0.035605069 | K9: =J9-J8 -> 0.015551042 | L9: =K9 -> 0.015551042 | M9: 2:19.71
A10: 3 | B10: Сомок Денис | C10: 14 | D10: =COUNTA(E19:E83)+D9+1 -> 102 | E10: =COUNTA(E19:E83)+1 -> 34 | F10: =MIN(E19:E84) -> 42.47 | G10: =AVERAGE(E19:E85) -> 42.79697 | I10: =G10-F10 -> 0.3269697 | J10: 0.053577269 | K10: =J10-J9 -> 0.017972199 | L10: =K10+L8 -> 0.038026227 | M10: 2:18.20
A11: 4 | B11: Морозенко Сергей | C11: 4 | D11: =COUNTA(F19:F83)+D10+1+4 -> 146 | E11: =COUNTA(F19:F83)+1+4 -> 44 | F11: =MIN(F19:F84) -> 42.86 | G11: =AVERAGE(F19:F84) -> 43.158205 | I11: =G11-F11 -> 0.29820513 | J11: 0.077149259 | K11: =J11-J10 -> 0.023571991 | L11: =K11+L9 -> 0.039123032 | M11: 2:49.28 | O11: пит 2 минуты
A12: 5 | B12: Сомок Денис | C12: 6 | D12: =COUNTA(G19:G83)+D11+1 -> 184 | E12: =COUNTA(G19:G83)+1 -> 38 | F12: =MIN(G19:G84) -> 42.51 | G12: =AVERAGE(G19:G884) -> 42.83973 | I12: =G12-F12 -> 0.32972973 | J12: 0.097459086 | K12: =J12-J11 -> 0.020309826 | L12: =K12+L10 -> 0.058336053 | M12: 2:20.47
A13: Финиш | B13: Морозенко Сергей | C13: 18 | D13: =COUNTA(H19:H83)+D12+1 -> 238 | E13: =COUNTA(H19:H83)+1 -> 54 | F13: =MIN(H19:H84) -> 42.78 | G13: =AVERAGE(H19:H84) -> 43.103962 | I13: =G13-F13 -> 0.32396226 | J13: ='Общие результаты'!G6 -> 3:00:12 | K13: =J13-J12 -> 0.027679803 | L13: =K13+L11 -> 0.066802836 | N13: +5+5 | O13: +5 сек фишка на 4 пите +5 сек линия на 5 пите
F14: =AVERAGE(F8,F10,F12) -> 42.34 | G14: =AVERAGE(G8,G10,G12) -> 43.298643 | H14: Денис | I14: =AVERAGE(I8,I10,I12) -> 0.9586434
F15: =AVERAGE(F9,F11,F13) -> 42.756667 | G15: =AVERAGE(G9,G11,G13) -> 43.106437 | H15: Сергей | I15: =AVERAGE(I9,I11,I13) -> 0.34977008
F16: =AVERAGE(F8:F13) -> 42.548333 | G16: =AVERAGE(C19:H88) -> 43.217293 | I16: =AVERAGE(I8:I13) -> 0.65420674
C18: =B8 -> Сомок Денис | D18: =B9 -> Морозенко Сергей | E18: =B10 -> Сомок Денис | F18: =B11 -> Морозенко Сергей | G18: =B12 -> Сомок Денис | H18: =B13 -> Морозенко Сергей
B19: 1 | C19: 45.76 | D19: 42.93 | E19: 42.74 | F19: 43.5 | G19: 42.72 | H19: 43.16
B20: 2 | C20: 43.23 | D20: 42.73 | E20: 43.45 | F20: 43.89 | G20: 42.76 | H20: 42.99
B21: 3 | C21: 44.99 | D21: 42.93 | E21: 42.59 | F21: 43.12 | G21: 42.67 | H21: 42.96
B22: 4 | C22: 44.92 | D22: 43.01 | E22: 42.81 | F22: 42.93 | G22: 42.9 | H22: 43.02
B23: 5 | C23: 44.04 | D23: 42.84 | E23: 42.76 | F23: 43.15 | G23: 43.39 | H23: 43.75
B24: 6 | C24: 42.58 | D24: 42.95 | E24: 42.6 | F24: 43.01 | G24: 43.42 | H24: 42.97
B25: 7 | C25: 44.74 | D25: 42.92 | E25: 42.77 | F25: 42.94 | G25: 42.79 | H25: 44.11
B26: 8 | C26: 43.07 | D26: 43.01 | E26: 42.61 | F26: 43.12 | G26: 42.68 | H26: 43.13
B27: 9 | C27: 43.31 | D27: 43.01 | E27: 42.57 | F27: 43.06 | G27: 42.8 | H27: 43.53
B28: 10 | C28: 42.73 | D28: 42.77 | E28: 42.92 | F28: 42.97 | G28: 42.69 | H28: 43.05
B29: 11 | C29: 42.36 | D29: 42.8 | E29: 42.82 | F29: 43.01 | G29: 42.82 | H29: 42.86
B30: 12 | C30: 42.21 | D30: 43.66 | E30: 43.01 | F30: 43.04 | G30: 42.64 | H30: 43.19
... B35: 17 | C35: 42.04 | D35: 43.26 | E35: 42.5 | F35: 43.05 | G35: 42.81 | H35: 42.9
B36: 18 | C36: 42.35 | D36: 42.91 | E36: 42.83 | G36: 42.6 | H36: 43.79
B37: 19 | C37: 42.2 | D37: 43.1 | E37: 42.59 | G37: 42.58 | H37: 42.78
B38: 20 | C38: 42.22 | D38: 42.98 | E38: 42.6 | G38: 42.69 | H38: 42.94
B39: 21 | C39: 42.98 | D39: 42.88 | E39: 42.61 | G39: 42.88 | H39: 42.99
B40: 22 | C40: 42.31 | D40: 43 | E40: 42.75 | F40: 43.01 | G40: 42.86 | H40: 43.14
B41: 23 | C41: 42.18 | D41: 42.84 | E41: 42.47 | F41: 43.06 | G41: 44.13 | H41: 42.98
B42: 24 | C42: 42.13 | D42: 43.07 | E42: 42.51 | F42: 42.88 | G42: 42.75 | H42: 43
B43: 25 | C43: 42.26 | D43: 43.07 | E43: 42.8 | F43: 43.01 | G43: 42.71 | H43: 43.15
B44: 26 | C44: 42.49 | D44: 42.9 | E44: 42.88 | F44: 42.9 | G44: 42.74 | H44: 43.1
B45: 27 | C45: 42.31 | D45: 43.12 | E45: 42.69 | F45: 42.86 | G45: 42.73 | H45: 42.86
B46: 28 | C46: 42.31 | D46: 44.18 | E46: 42.6 | F46: 42.97 | G46: 42.83 | H46: 43.02
B47: 29 | C47: 42.54 | E47: 43.57 | F47: 43.07 | G47: 42.51 | H47: 43
B48: 30 | C48: 42.36 | E48: 42.9 | F48: 44.17 | G48: 42.78 | H48: 42.95
B49: 31 | C49: 42.25 | E49: 42.64 | F49: 42.91 | G49: 42.68 | H49: 42.87
B50: 32 | C50: 42.44 | E50: 42.68 | F50: 42.89 | G50: 43.34 | H50: 43.36
B51: 33 | C51: 42.8 | E51: 44.42 | F51: 43.14 | G51: 42.82 | H51: 42.9
B52: 34 | C52: 42.3 | F52: 42.97 | G52: 42.72 | H52: 43.12
B53: 35 | C53: 42.57 | F53: 43.08 | G53: 42.59 | H53: 42.95
B54: 36 | C54: 42.38 | F54: 42.93 | G54: 42.65 | H54: 42.96
B55: 37 | C55: 42.35 | F55: 42.96 | G55: 43.82 | H55: 42.87
B56: 38 | C56: 43.17 | F56: 43.42 | H56: 43.18
B57: 39 | C57: 100.34 | F57: 43.48 | H57: 43.42
B58: 40 | F58: 42.87 | H58: 43.13
B59: 41 | F59: 43.34 | H59: 43.17
B60: 42 | F60: 43.64 | H60: 43.15
B61: 43 | F61: 44.05 | H61: 42.86
B62: 44 | H62: 42.79
B63: 45 | H63: 42.8
B64: 46 | H64: 43.11
B65: 47 | H65: 43.22
B66: 48 | H66: 43.22
B67: 49 | H67: 43.19
B68: 50 | H68: 43.06
B69: 51 | H69: 43.09
B70: 52 | H70: 43.3
B71: 53 | H71: 43.1
B72: 54
B73: 55
B74: 56
B75: 57
B76: 58
B77: 59
B78: 60
B79: 61
B80: 62
B81: 63

Sheet Petrovich
A2: Чемпионат мини марафон "Большие Гонки", 11-й этап
A4: Petrovich
A6: Обяза-тельные | B6: Пилот | C6: карт | D6: Круг | E6: кругов на отрезке | F6: Статистика по кругам | J6: Общее время гонки | K6: Время на трассе
F7: Лучший круг | G7: Среднее на отрезке | H7: Кругов в 0,1 от лучшего | I7: стабильность | K7: отрезок | L7: всего у пилота | M7: Питы | N7: Штрафы/ бонусы (сек)
A8: 1 | B8: Гетьманцев Даниил | C8: 16 | D8: =COUNTA(C19:C83) -> 34 | E8: =COUNTA(C19:C83) -> 34 | F8: =MIN(C19:C82) -> 43.08 | G8: =AVERAGE(C19:C85) -> 43.816471 | I8: =G8-F8 -> 0.73647059 | J8: 0.017356389 | K8: =J8 -> 0.017356389 | L8: =K8 -> 0.017356389 | M8: 2:19.77
A9: 2 | B9: Сосин Миша | C9: 5 | D9: =COUNTA(D19:D83)+D8+1 -> 78 | E9: =COUNTA(D19:D83)+1 -> 44 | F9: =MIN(D19:D82) -> 43.27 | G9: =AVERAGE(D19:D84) -> 44.026047 | I9: =G9-F9 -> 0.75604651 | J9: 0.040887315 | K9: =J9-J8 -> 0.023530926 | L9: =K9 -> 0.023530926 | M9: 2:20.57
A10: 3 | B10: Гетьманцев Даниил | C10: 11 | D10: =COUNTA(E19:E83)+D9+1+4 -> 133 | E10: =COUNTA(E19:E83)+1+4 -> 55 | F10: =MIN(E19:E84) -> 42.93 | G10: =AVERAGE(E19:E85) -> 43.5482 | I10: =G10-F10 -> 0.6182 | J10: 0.070242153 | K10: =J10-J9 -> 0.029354838 | L10: =K10+L8 -> 0.046711227 | M10: 2:24.97 | O10: передержали на 5 сек
A11: 4 | B11: Сосин Миша | C11: 5 | D11: =COUNTA(F19:F83)+D10+1 -> 179 | E11: =COUNTA(F19:F83)+1 -> 46 | F11: =MIN(F19:F84) -> 43 | G11: =AVERAGE(F19:F84) -> 43.984667 | I11: =G11-F11 -> 0.98466667 | J11: 0.094815694 | K11: =J11-J10 -> 0.024573542 | L11: =K11+L9 -> 0.048104468 | M11: 2:49.10 | O11: пит 2 минуты
A12: 5 | B12: Гетьманцев Даниил | C12: 21 | D12: =COUNTA(G19:G83)+D11+1 -> 197 | E12: =COUNTA(G19:G83)+1 -> 18 | F12: =MIN(G19:G84) -> 43.36 | G12: =AVERAGE(G19:G884) -> 43.775294 | I12: =G12-F12 -> 0.41529412 | J12: 0.10538013 | K12: =J12-J11 -> 0.010564433 | L12: =K12+L10 -> 0.05727566 | M12: 2:18.41
A13: Финиш | B13: Сосин Миша | C13: 16 | D13: =COUNTA(H19:H83)+D12+1 -> 234 | E13: =COUNTA(H19:H83)+1 -> 37 | F13: =MIN(H19:H84) -> 43.16 | G13: =AVERAGE(H19:H84) -> 43.942222 | I13: =G13-F13 -> 0.78222222 | J13: ='Общие результаты'!G6 -> 3:00:12 | K13: =J13-J12 -> 0.019758762 | L13: =K13+L11 -> 0.067863229 | N13: +5 | O13: +5 сек фишка на 4 пите + 5 сек линия на 4 пите-компенсация пит 3
F14: =AVERAGE(F8,F10,F12) -> 43.123333 | G14: =AVERAGE(G8,G10,G12) -> 43.713322 | H14: Даниил | I14: =AVERAGE(I8,I10,I12) -> 0.58998824
F15: =AVERAGE(F9,F11,F13) -> 43.143333 | G15: =AVERAGE(G9,G11,G13) -> 43.984312 | H15: Миша | I15: =AVERAGE(I9,I11,I13) -> 0.84097847
F16: =AVERAGE(F8:F13) -> 43.133333 | G16: =AVERAGE(C19:H88) -> 43.847556 | I16: =AVERAGE(I8:I13) -> 0.71548335
C18: =B8 -> Гетьманцев Даниил | D18: =B9 -> Сосин Миша | E18: =B10 -> Гетьманцев Даниил | F18: =B11 -> Сосин Миша | G18: =B12 -> Гетьманцев Даниил | H18: =B13 -> Сосин Миша
B19: 1 | C19: 47.38 | D19: 44.6 | E19: 43.2 | F19: 43.25 | G19: 44.47 | H19: 44.05
B20: 2 | C20: 44.4 | D20: 43.81 | E20: 43.43 | F20: 47.71 | G20: 43.58 | H20: 44.25
B21: 3 | C21: 43.79 | D21: 43.9 | E21: 43.49 | F21: 43.45 | G21: 43.88 | H21: 44.2
B22: 4 | C22: 45.36 | D22: 43.57 | E22: 43.2 | F22: 43.95 | G22: 43.65 | H22: 44.21
B23: 5 | C23: 43.19 | D23: 43.8 | E23: 43.76 | F23: 43.39 | G23: 43.52 | H23: 43.55
B24: 6 | C24: 44.14 | D24: 43.51 | E24: 43.1 | F24: 43.43 | G24: 44.3 | H24: 43.77
B25: 7 | C25: 43.42 | D25: 43.7 | E25: 43.65 | F25: 43.96 | G25: 44.03 | H25: 43.33
B26: 8 | C26: 43.31 | D26: 43.76 | E26: 43.85 | F26: 43.95 | G26: 43.5 | H26: 43.52
B27: 9 | C27: 45 | D27: 43.51 | E27: 43.42 | F27: 43.69 | G27: 43.6 | H27: 43.57
B28: 10 | C28: 43.35 | D28: 43.53 | E28: 43.98 | F28: 43.57 | G28: 43.55 | H28: 44.03
B29: 11 | C29: 43.32 | D29: 43.53 | E29: 43.17 | F29: 43.89 | G29: 43.69 | H29: 44.22
B30: 12 | C30: 43.34 | D30: 44.99 | E30: 43.07 | F30: 44.28 | G30: 43.42 | H30: 43.72
... B35: 17 | C35: 43.12 | D35: 44.01 | E35: 43.92 | F35: 44.46 | G35: 44.81 | H35: 43.58
B36: 18 | C36: 43.45 | D36: 43.61 | E36: 43.49 | F36: 43.54 | H36: 43.62
B37: 19 | C37: 43.62 | D37: 43.32 | E37: 46.5 | F37: 44.05 | H37: 44.24
B38: 20 | C38: 43.23 | D38: 43.35 | E38: 43.42 | F38: 45.46 | H38: 45.08
B39: 21 | C39: 43.14 | D39: 47.85 | E39: 43.19 | F39: 43.28 | H39: 43.7
B40: 22 | C40: 43.24 | D40: 43.62 | E40: 43.32 | F40: 44.06 | H40: 43.56
B41: 23 | C41: 43.32 | D41: 43.49 | E41: 43.49 | F41: 44.25 | H41: 43.88
B42: 24 | C42: 43.08 | D42: 43.61 | E42: 43.6 | F42: 43.6 | H42: 43.72
B43: 25 | C43: 43.51 | D43: 44.06 | E43: 44.43 | F43: 44.1 | H43: 43.8
B44: 26 | C44: 44.35 | D44: 44.35 | E44: 43.23 | F44: 43.64 | H44: 43.16
B45: 27 | C45: 43.52 | D45: 43.71 | E45: 43.08 | F45: 44.21 | H45: 43.49
B46: 28 | C46: 43.5 | D46: 43.77 | E46: 43.17 | F46: 43.82 | H46: 43.48
B47: 29 | C47: 43.11 | D47: 43.5 | E47: 43.28 | F47: 43.71 | H47: 43.48
... B52: 34 | C52: 45.64 | D52: 43.53 | E52: 43.82 | F52: 44.52 | H52: 43.8
B53: 35 | D53: 43.56 | E53: 43.43 | F53: 43.96 | H53: 44.6
B54: 36 | D54: 45.22 | E54: 43.36 | F54: 44.5 | H54: 44.4
B55: 37 | D55: 43.48 | E55: 43.39 | F55: 43.72
B56: 38 | D56: 44.84 | E56: 43.26 | F56: 43
B57: 39 | D57: 45.53 | E57: 43.02 | F57: 43.34
B58: 40 | D58: 43.66 | E58: 43.23 | F58: 43.4
B59: 41 | D59: 43.68 | E59: 43.82 | F59: 43.45
B60: 42 | D60: 44.13 | E60: 43.43 | F60: 44.71
B61: 43 | D61: 46.09 | F61: 43.45
B62: 44 | F62: 43.45
B63: 45 | F63: 45.58
B64: 46
B65: 47 | E65: 43.38
B66: 48 | E66: 43.21
B67: 49 | E67: 43.18
B68: 50 | E68: 44.6
B69: 51 | E69: 44.23
B70: 52 | E70: 43.03
B71: 53 | E71: 43.4
B72: 54 | E72: 45.24
B73: 55
B74: 56
B75: 57
B76: 58
B77: 59
B78: 60
B79: 61
B80: 62
B81: 63
