Workbook

Sheet Рейтинг
A1: Таблица рейтинга Лиги Чемпионов, 3-й сезон 2019
A3: Мес-то | B3: Пилот | C3: 1 | D3: 43705 | E3: 2 | F3: 43642 | G3: 3 | H3: 43649 | I3: 4 | J3: 43656 | K3: 5 | L3: 43663 | M3: 6 | N3: 43600 | O3: 7 | P3: 43677 | Q3: 8 | R3: 43390 | S3: 9 | T3: 43326 | U3: 10 | V3: 43698
C4: Очки | D4: Рейтинг | E4: Очки | F4: Рейтинг | G4: Очки | H4: Рейтинг | I4: Очки | J4: Рейтинг | K4: Очки | L4: Рейтинг | M4: Очки | N4: Рейтинг | O4: Очки | P4: Рейтинг | Q4: Очки | R4: Рейтинг | S4: Очки | T4: Рейтинг | U4: Очки | V4: Рейтинг
A5: =A4+1 -> 1 | B5: Стоцкий Андрей / Stotskiy Andriy | C5: 53.5 | D5: =C5/3*10 -> 178.33333 | E5: 27.7 | F5: =IF(E5>0,IF(D5>0,(D5*C$3+E5*10/3)/E$3,E5*10/3*(1-0.1*C$3)),IF(D5>10,D5*0.9,D5)) -> 135.33333 | G5: 44.9 | H5: =IF(G5>0,IF(F5>0,(F5*E$3+G5*10/3)/G$3,G5*10/3*(1-0.1*E$3)),IF(F5>10,F5*0.9,F5)) -> 140.11111 | I5: 50.3 | J5: =IF(I5>0,IF(H5>0,(H5*G$3+I5*10/3)/I$3,I5*10/3*(1-0.1*G$3)),IF(H5>10,H5*0.9,H5)) -> 147 | K5: 52.6 | L5: =IF(K5>0,IF(J5>0,(J5*I$3+K5*10/3)/K$3,K5*10/3*(1-0.1*I$3)),IF(J5>10,J5*0.9,J5)) -> 152.66667 | M5: 48.5 | N5: =IF(M5>0,IF(L5>0,(L5*K$3+M5*10/3)/M$3,M5*10/3*(1-0.1*K$3)),IF(L5>10,L5*0.9,L5)) -> 154.16667 | O5: 44.8 | P5: =IF(O5>0,IF(N5>0,(N5*M$3+O5*10/3)/O$3,O5*10/3*(1-0.1*M$3)),IF(N5>10,N5*0.9,N5)) -> 153.47619 | Q5: 41.5 | R5: =IF(Q5>0,IF(P5>0,(P5*O$3+Q5*10/3)/Q$3,Q5*10/3*(1-0.1*O$3)),IF(P5>10,P5*0.9,P5)) -> 151.58333 | S5: 49.7 | T5: =IF(S5>0,IF(R5>0,(R5*Q$3+S5*10/3)/S$3,S5*10/3*(1-0.1*Q$3)),IF(R5>10,R5*0.9,R5)) -> 153.14815 | U5: 41.2 | V5: =IF(U5>0,IF(T5>0,(T5*S$3+U5*10/3)/U$3,U5*10/3*(1-0.1*S$3)),IF(T5>10,T5*0.9,T5)) -> 151.56667
A6: =A5+1 -> 2 | B6: Наум / Vintoniv Ivan | C6: 47.3 | D6: =C6/3*10 -> 157.66667 | E6: 50.8 | F6: =IF(E6>0,IF(D6>0,(D6*C$3+E6*10/3)/E$3,E6*10/3*(1-0.1*C$3)),IF(D6>10,D6*0.9,D6)) -> 163.5 | G6: 48.9 | H6: =IF(G6>0,IF(F6>0,(F6*E$3+G6*10/3)/G$3,G6*10/3*(1-0.1*E$3)),IF(F6>10,F6*0.9,F6)) -> 163.33333 | J6: =IF(I6>0,IF(H6>0,(H6*G$3+I6*10/3)/I$3,I6*10/3*(1-0.1*G$3)),IF(H6>10,H6*0.9,H6)) -> 147 | K6: 39.4 | L6: =IF(K6>0,IF(J6>0,(J6*I$3+K6*10/3)/K$3,K6*10/3*(1-0.1*I$3)),IF(J6>10,J6*0.9,J6)) -> 143.86667 | M6: 44 | N6: =IF(M6>0,IF(L6>0,(L6*K$3+M6*10/3)/M$3,M6*10/3*(1-0.1*K$3)),IF(L6>10,L6*0.9,L6)) -> 144.33333 | O6: 46.9 | P6: =IF(O6>0,IF(N6>0,(N6*M$3+O6*10/3)/O$3,O6*10/3*(1-0.1*M$3)),IF(N6>10,N6*0.9,N6)) -> 146.04762 | Q6: 40.5 | R6: =IF(Q6>0,IF(P6>0,(P6*O$3+Q6*10/3)/Q$3,Q6*10/3*(1-0.1*O$3)),IF(P6>10,P6*0.9,P6)) -> 144.66667 | S6: 59.2 | T6: =IF(S6>0,IF(R6>0,(R6*Q$3+S6*10/3)/S$3,S6*10/3*(1-0.1*Q$3)),IF(R6>10,R6*0.9,R6)) -> 150.51852 | U6: 41.9 | V6: =IF(U6>0,IF(T6>0,(T6*S$3+U6*10/3)/U$3,U6*10/3*(1-0.1*S$3)),IF(T6>10,T6*0.9,T6)) -> 149.43333
A7: =A6+1 -> 3 | B7: Петушков Андрей/Petuskov Andrey | C7: 45.8 | D7: =C7/3*10 -> 152.66667 | E7: 46 | F7: =IF(E7>0,IF(D7>0,(D7*C$3+E7*10/3)/E$3,E7*10/3*(1-0.1*C$3)),IF(D7>10,D7*0.9,D7)) -> 153 | H7: =IF(G7>0,IF(F7>0,(F7*E$3+G7*10/3)/G$3,G7*10/3*(1-0.1*E$3)),IF(F7>10,F7*0.9,F7)) -> 137.7 | J7: =IF(I7>0,IF(H7>0,(H7*G$3+I7*10/3)/I$3,I7*10/3*(1-0.1*G$3)),IF(H7>10,H7*0.9,H7)) -> 123.93 | K7: 36.9 | L7: =IF(K7>0,IF(J7>0,(J7*I$3+K7*10/3)/K$3,K7*10/3*(1-0.1*I$3)),IF(J7>10,J7*0.9,J7)) -> 123.744 | M7: 48.1 | N7: =IF(M7>0,IF(L7>0,(L7*K$3+M7*10/3)/M$3,M7*10/3*(1-0.1*K$3)),IF(L7>10,L7*0.9,L7)) -> 129.84222 | O7: 42.5 | P7: =IF(O7>0,IF(N7>0,(N7*M$3+O7*10/3)/O$3,O7*10/3*(1-0.1*M$3)),IF(N7>10,N7*0.9,N7)) -> 131.53143 | Q7: 34.5 | R7: =IF(Q7>0,IF(P7>0,(P7*O$3+Q7*10/3)/Q$3,Q7*10/3*(1-0.1*O$3)),IF(P7>10,P7*0.9,P7)) -> 129.465 | S7: 37.7 | T7: =IF(S7>0,IF(R7>0,(R7*Q$3+S7*10/3)/S$3,S7*10/3*(1-0.1*Q$3)),IF(R7>10,R7*0.9,R7)) -> 129.04296 | U7: 46.3 | V7: =IF(U7>0,IF(T7>0,(T7*S$3+U7*10/3)/U$3,U7*10/3*(1-0.1*S$3)),IF(T7>10,T7*0.9,T7)) -> 131.572
A8: =A7+1 -> 4 | B8: Паламарчук Саша/Palamarchuk Aleksandr | C8: 45.7 | D8: =C8/3*10 -> 152.33333 | E8: 54.1 | F8: =IF(E8>0,IF(D8>0,(D8*C$3+E8*10/3)/E$3,E8*10/3*(1-0.1*C$3)),IF(D8>10,D8*0.9,D8)) -> 166.33333 | G8: 53.6 | H8: =IF(G8>0,IF(F8>0,(F8*E$3+G8*10/3)/G$3,G8*10/3*(1-0.1*E$3)),IF(F8>10,F8*0.9,F8)) -> 170.44444 | I8: 55.1 | J8: =IF(I8>0,IF(H8>0,(H8*G$3+I8*10/3)/I$3,I8*10/3*(1-0.1*G$3)),IF(H8>10,H8*0.9,H8)) -> 173.75 | K8: 47.5 | L8: =IF(K8>0,IF(J8>0,(J8*I$3+K8*10/3)/K$3,K8*10/3*(1-0.1*I$3)),IF(J8>10,J8*0.9,J8)) -> 170.66667 | M8: 43.1 | N8: =IF(M8>0,IF(L8>0,(L8*K$3+M8*10/3)/M$3,M8*10/3*(1-0.1*K$3)),IF(L8>10,L8*0.9,L8)) -> 166.16667 | P8: =IF(O8>0,IF(N8>0,(N8*M$3+O8*10/3)/O$3,O8*10/3*(1-0.1*M$3)),IF(N8>10,N8*0.9,N8)) -> 149.55 | Q8: 52.5 | R8: =IF(Q8>0,IF(P8>0,(P8*O$3+Q8*10/3)/Q$3,Q8*10/3*(1-0.1*O$3)),IF(P8>10,P8*0.9,P8)) -> 152.73125 | T8: =IF(S8>0,IF(R8>0,(R8*Q$3+S8*10/3)/S$3,S8*10/3*(1-0.1*Q$3)),IF(R8>10,R8*0.9,R8)) -> 137.45812 | V8: =IF(U8>0,IF(T8>0,(T8*S$3+U8*10/3)/U$3,U8*10/3*(1-0.1*S$3)),IF(T8>10,T8*0.9,T8)) -> 123.71231
A9: =A8+1 -> 5 | B9: Якусик Дима/Yakusik Dmitriy | C9: 45 | D9: =C9/3*10 -> 150 | E9: 52.8 | F9: =IF(E9>0,IF(D9>0,(D9*C$3+E9*10/3)/E$3,E9*10/3*(1-0.1*C$3)),IF(D9>10,D9*0.9,D9)) -> 163 | G9: 50.9 | H9: =IF(G9>0,IF(F9>0,(F9*E$3+G9*10/3)/G$3,G9*10/3*(1-0.1*E$3)),IF(F9>10,F9*0.9,F9)) -> 165.22222 | J9: =IF(I9>0,IF(H9>0,(H9*G$3+I9*10/3)/I$3,I9*10/3*(1-0.1*G$3)),IF(H9>10,H9*0.9,H9)) -> 148.7 | K9: 44.4 | L9: =IF(K9>0,IF(J9>0,(J9*I$3+K9*10/3)/K$3,K9*10/3*(1-0.1*I$3)),IF(J9>10,J9*0.9,J9)) -> 148.56 | N9: =IF(M9>0,IF(L9>0,(L9*K$3+M9*10/3)/M$3,M9*10/3*(1-0.1*K$3)),IF(L9>10,L9*0.9,L9)) -> 133.704 | P9: =IF(O9>0,IF(N9>0,(N9*M$3+O9*10/3)/O$3,O9*10/3*(1-0.1*M$3)),IF(N9>10,N9*0.9,N9)) -> 120.3336 | Q9: 50.1 | R9: =IF(Q9>0,IF(P9>0,(P9*O$3+Q9*10/3)/Q$3,Q9*10/3*(1-0.1*O$3)),IF(P9>10,P9*0.9,P9)) -> 126.1669 | T9: =IF(S9>0,IF(R9>0,(R9*Q$3+S9*10/3)/S$3,S9*10/3*(1-0.1*Q$3)),IF(R9>10,R9*0.9,R9)) -> 113.55021 | U9: 46.7 | V9: =IF(U9>0,IF(T9>0,(T9*S$3+U9*10/3)/U$3,U9*10/3*(1-0.1*S$3)),IF(T9>10,T9*0.9,T9)) -> 117.76186
A10: =A9+1 -> 6 | B10: Гаврилюк Олег / Gavriliuk Oleg | C10: 40.7 | D10: =C10/3*10 -> 135.66667 | F10: =IF(E10>0,IF(D10>0,(D10*C$3+E10*10/3)/E$3,E10*10/3*(1-0.1*C$3)),IF(D10>10,D10*0.9,D10)) -> 122.1 | H10: =IF(G10>0,IF(F10>0,(F10*E$3+G10*10/3)/G$3,G10*10/3*(1-0.1*E$3)),IF(F10>10,F10*0.9,F10)) -> 109.89 | I10: 40.8 | J10: =IF(I10>0,IF(H10>0,(H10*G$3+I10*10/3)/I$3,I10*10/3*(1-0.1*G$3)),IF(H10>10,H10*0.9,H10)) -> 116.4175 | K10: 42.3 | L10: =IF(K10>0,IF(J10>0,(J10*I$3+K10*10/3)/K$3,K10*10/3*(1-0.1*I$3)),IF(J10>10,J10*0.9,J10)) -> 121.334 | M10: 43.3 | N10: =IF(M10>0,IF(L10>0,(L10*K$3+M10*10/3)/M$3,M10*10/3*(1-0.1*K$3)),IF(L10>10,L10*0.9,L10)) -> 125.16722 | O10: 41.5 | P10: =IF(O10>0,IF(N10>0,(N10*M$3+O10*10/3)/O$3,O10*10/3*(1-0.1*M$3)),IF(N10>10,N10*0.9,N10)) -> 127.0481 | R10: =IF(Q10>0,IF(P10>0,(P10*O$3+Q10*10/3)/Q$3,Q10*10/3*(1-0.1*O$3)),IF(P10>10,P10*0.9,P10)) -> 114.34329 | S10: 35.6 | T10: =IF(S10>0,IF(R10>0,(R10*Q$3+S10*10/3)/S$3,S10*10/3*(1-0.1*Q$3)),IF(R10>10,R10*0.9,R10)) -> 114.82366 | U10: 32.3 | V10: =IF(U10>0,IF(T10>0,(T10*S$3+U10*10/3)/U$3,U10*10/3*(1-0.1*S$3)),IF(T10>10,T10*0.9,T10)) -> 114.10796
A11: =A10+1 -> 7 | B11: Якусик Саша/Yakusik Aleks | C11: 37.6 | D11: =C11/3*10 -> 125.33333 | E11: 40.9 | F11: =IF(E11>0,IF(D11>0,(D11*C$3+E11*10/3)/E$3,E11*10/3*(1-0.1*C$3)),IF(D11>10,D11*0.9,D11)) -> 130.83333 | H11: =IF(G11>0,IF(F11>0,(F11*E$3+G11*10/3)/G$3,G11*10/3*(1-0.1*E$3)),IF(F11>10,F11*0.9,F11)) -> 117.75 | I11: 37 | J11: =IF(I11>0,IF(H11>0,(H11*G$3+I11*10/3)/I$3,I11*10/3*(1-0.1*G$3)),IF(H11>10,H11*0.9,H11)) -> 119.14583 | L11: =IF(K11>0,IF(J11>0,(J11*I$3+K11*10/3)/K$3,K11*10/3*(1-0.1*I$3)),IF(J11>10,J11*0.9,J11)) -> 107.23125 | M11: 45.2 | N11: =IF(M11>0,IF(L11>0,(L11*K$3+M11*10/3)/M$3,M11*10/3*(1-0.1*K$3)),IF(L11>10,L11*0.9,L11)) -> 114.47049 | P11: =IF(O11>0,IF(N11>0,(N11*M$3+O11*10/3)/O$3,O11*10/3*(1-0.1*M$3)),IF(N11>10,N11*0.9,N11)) -> 103.02344 | Q11: 43 | R11: =IF(Q11>0,IF(P11>0,(P11*O$3+Q11*10/3)/Q$3,Q11*10/3*(1-0.1*O$3)),IF(P11>10,P11*0.9,P11)) -> 108.06217 | S11: 42.2 | T11: =IF(S11>0,IF(R11>0,(R11*Q$3+S11*10/3)/S$3,S11*10/3*(1-0.1*Q$3)),IF(R11>10,R11*0.9,R11)) -> 111.6849 | U11: 42.5 | V11: =IF(U11>0,IF(T11>0,(T11*S$3+U11*10/3)/U$3,U11*10/3*(1-0.1*S$3)),IF(T11>10,T11*0.9,T11)) -> 114.68307
A12: =A11+1 -> 8 | B12: Шиленко Александр/ Shylenko Aleksandr | C12: 36.2 | D12: =C12/3*10 -> 120.66667 | F12: =IF(E12>0,IF(D12>0,(D12*C$3+E12*10/3)/E$3,E12*10/3*(1-0.1*C$3)),IF(D12>10,D12*0.9,D12)) -> 108.6 | H12: =IF(G12>0,IF(F12>0,(F12*E$3+G12*10/3)/G$3,G12*10/3*(1-0.1*E$3)),IF(F12>10,F12*0.9,F12)) -> 97.74 | I12: 40.5 | J12: =IF(I12>0,IF(H12>0,(H12*G$3+I12*10/3)/I$3,I12*10/3*(1-0.1*G$3)),IF(H12>10,H12*0.9,H12)) -> 107.055 | K12: 21.8 | L12: =IF(K12>0,IF(J12>0,(J12*I$3+K12*10/3)/K$3,K12*10/3*(1-0.1*I$3)),IF(J12>10,J12*0.9,J12)) -> 100.17733 | M12: 48 | N12: =IF(M12>0,IF(L12>0,(L12*K$3+M12*10/3)/M$3,M12*10/3*(1-0.1*K$3)),IF(L12>10,L12*0.9,L12)) -> 110.14778 | O12: 38 | P12: =IF(O12>0,IF(N12>0,(N12*M$3+O12*10/3)/O$3,O12*10/3*(1-0.1*M$3)),IF(N12>10,N12*0.9,N12)) -> 112.50762 | Q12: 35.9 | R12: =IF(Q12>0,IF(P12>0,(P12*O$3+Q12*10/3)/Q$3,Q12*10/3*(1-0.1*O$3)),IF(P12>10,P12*0.9,P12)) -> 113.4025 | S12: 35.2 | T12: =IF(S12>0,IF(R12>0,(R12*Q$3+S12*10/3)/S$3,S12*10/3*(1-0.1*Q$3)),IF(R12>10,R12*0.9,R12)) -> 113.83926 | U12: 46.2 | V12: =IF(U12>0,IF(T12>0,(T12*S$3+U12*10/3)/U$3,U12*10/3*(1-0.1*S$3)),IF(T12>10,T12*0.9,T12)) -> 117.85533
A13: =A12+1 -> 9 | B13: Резанко Оля/Rezanko Olga | C13: 34.1 | D13: =C13/3*10 -> 113.66667 | E13: 53.5 | F13: =IF(E13>0,IF(D13>0,(D13*C$3+E13*10/3)/E$3,E13*10/3*(1-0.1*C$3)),IF(D13>10,D13*0.9,D13)) -> 146 | H13: =IF(G13>0,IF(F13>0,(F13*E$3+G13*10/3)/G$3,G13*10/3*(1-0.1*E$3)),IF(F13>10,F13*0.9,F13)) -> 131.4 | J13: =IF(I13>0,IF(H13>0,(H13*G$3+I13*10/3)/I$3,I13*10/3*(1-0.1*G$3)),IF(H13>10,H13*0.9,H13)) -> 118.26 | L13: =IF(K13>0,IF(J13>0,(J13*I$3+K13*10/3)/K$3,K13*10/3*(1-0.1*I$3)),IF(J13>10,J13*0.9,J13)) -> 106.434 | N13: =IF(M13>0,IF(L13>0,(L13*K$3+M13*10/3)/M$3,M13*10/3*(1-0.1*K$3)),IF(L13>10,L13*0.9,L13)) -> 95.7906 | P13: =IF(O13>0,IF(N13>0,(N13*M$3+O13*10/3)/O$3,O13*10/3*(1-0.1*M$3)),IF(N13>10,N13*0.9,N13)) -> 86.21154 | Q13: 46 | R13: =IF(Q13>0,IF(P13>0,(P13*O$3+Q13*10/3)/Q$3,Q13*10/3*(1-0.1*O$3)),IF(P13>10,P13*0.9,P13)) -> 94.601764 | T13: =IF(S13>0,IF(R13>0,(R13*Q$3+S13*10/3)/S$3,S13*10/3*(1-0.1*Q$3)),IF(R13>10,R13*0.9,R13)) -> 85.141588 | U13: 37.3 | V13: =IF(U13>0,IF(T13>0,(T13*S$3+U13*10/3)/U$3,U13*10/3*(1-0.1*S$3)),IF(T13>10,T13*0.9,T13)) -> 89.060762
A14: =A13+1 -> 10 | B14: Ткачеко Антон/Tkachenko Anton | C14: 32.4 | D14: =C14/3*10 -> 108 | F14: =IF(E14>0,IF(D14>0,(D14*C$3+E14*10/3)/E$3,E14*10/3*(1-0.1*C$3)),IF(D14>10,D14*0.9,D14)) -> 97.2 | G14: 34.8 | H14: =IF(G14>0,IF(F14>0,(F14*E$3+G14*10/3)/G$3,G14*10/3*(1-0.1*E$3)),IF(F14>10,F14*0.9,F14)) -> 103.46667 | I14: 25.5 | J14: =IF(I14>0,IF(H14>0,(H14*G$3+I14*10/3)/I$3,I14*10/3*(1-0.1*G$3)),IF(H14>10,H14*0.9,H14)) -> 98.85 | K14: 37.6 | L14: =IF(K14>0,IF(J14>0,(J14*I$3+K14*10/3)/K$3,K14*10/3*(1-0.1*I$3)),IF(J14>10,J14*0.9,J14)) -> 104.14667 | N14: =IF(M14>0,IF(L14>0,(L14*K$3+M14*10/3)/M$3,M14*10/3*(1-0.1*K$3)),IF(L14>10,L14*0.9,L14)) -> 93.732 | O14: 14.7 | P14: =IF(O14>0,IF(N14>0,(N14*M$3+O14*10/3)/O$3,O14*10/3*(1-0.1*M$3)),IF(N14>10,N14*0.9,N14)) -> 87.341714 | Q14: 33 | R14: =IF(Q14>0,IF(P14>0,(P14*O$3+Q14*10/3)/Q$3,Q14*10/3*(1-0.1*O$3)),IF(P14>10,P14*0.9,P14)) -> 90.174 | S14: 38.7 | T14: =IF(S14>0,IF(R14>0,(R14*Q$3+S14*10/3)/S$3,S14*10/3*(1-0.1*Q$3)),IF(R14>10,R14*0.9,R14)) -> 94.488 | U14: 41.9 | V14: =IF(U14>0,IF(T14>0,(T14*S$3+U14*10/3)/U$3,U14*10/3*(1-0.1*S$3)),IF(T14>10,T14*0.9,T14)) -> 99.005867
A15: =A14+1 -> 11 | B15: Тыщенко Миша/Tishenko Misha | C15: 32.1 | D15: =C15/3*10 -> 107 | F15: =IF(E15>0,IF(D15>0,(D15*C$3+E15*10/3)/E$3,E15*10/3*(1-0.1*C$3)),IF(D15>10,D15*0.9,D15)) -> 96.3 | G15: 40.7 | H15: =IF(G15>0,IF(F15>0,(F15*E$3+G15*10/3)/G$3,G15*10/3*(1-0.1*E$3)),IF(F15>10,F15*0.9,F15)) -> 109.42222 | I15: 50.2 | J15: =IF(I15>0,IF(H15>0,(H15*G$3+I15*10/3)/I$3,I15*10/3*(1-0.1*G$3)),IF(H15>10,H15*0.9,H15)) -> 123.9 | L15: =IF(K15>0,IF(J15>0,(J15*I$3+K15*10/3)/K$3,K15*10/3*(1-0.1*I$3)),IF(J15>10,J15*0.9,J15)) -> 111.51 | N15: =IF(M15>0,IF(L15>0,(L15*K$3+M15*10/3)/M$3,M15*10/3*(1-0.1*K$3)),IF(L15>10,L15*0.9,L15)) -> 100.359 | O15: 28.5 | P15: =IF(O15>0,IF(N15>0,(N15*M$3+O15*10/3)/O$3,O15*10/3*(1-0.1*M$3)),IF(N15>10,N15*0.9,N15)) -> 99.593429 | Q15: 10.2 | R15: =IF(Q15>0,IF(P15>0,(P15*O$3+Q15*10/3)/Q$3,Q15*10/3*(1-0.1*O$3)),IF(P15>10,P15*0.9,P15)) -> 91.39425 | S15: 31.7 | T15: =IF(S15>0,IF(R15>0,(R15*Q$3+S15*10/3)/S$3,S15*10/3*(1-0.1*Q$3)),IF(R15>10,R15*0.9,R15)) -> 92.980074 | U15: 11 | V15: =IF(U15>0,IF(T15>0,(T15*S$3+U15*10/3)/U$3,U15*10/3*(1-0.1*S$3)),IF(T15>10,T15*0.9,T15)) -> 87.348733
A16: =A15+1 -> 12 | B16: Кочмарев Юра/ Kochmarev Ura | C16: 27.3 | D16: =C16/3*10 -> 91 | F16: =IF(E16>0,IF(D16>0,(D16*C$3+E16*10/3)/E$3,E16*10/3*(1-0.1*C$3)),IF(D16>10,D16*0.9,D16)) -> 81.9 | G16: 35.7 | H16: =IF(G16>0,IF(F16>0,(F16*E$3+G16*10/3)/G$3,G16*10/3*(1-0.1*E$3)),IF(F16>10,F16*0.9,F16)) -> 94.266667 | J16: =IF(I16>0,IF(H16>0,(H16*G$3+I16*10/3)/I$3,I16*10/3*(1-0.1*G$3)),IF(H16>10,H16*0.9,H16)) -> 84.84 | L16: =IF(K16>0,IF(J16>0,(J16*I$3+K16*10/3)/K$3,K16*10/3*(1-0.1*I$3)),IF(J16>10,J16*0.9,J16)) -> 76.356 | M16: 28.3 | N16: =IF(M16>0,IF(L16>0,(L16*K$3+M16*10/3)/M$3,M16*10/3*(1-0.1*K$3)),IF(L16>10,L16*0.9,L16)) -> 79.352222 | O16: 40 | P16: =IF(O16>0,IF(N16>0,(N16*M$3+O16*10/3)/O$3,O16*10/3*(1-0.1*M$3)),IF(N16>10,N16*0.9,N16)) -> 87.06381 | Q16: 34.4 | R16: =IF(Q16>0,IF(P16>0,(P16*O$3+Q16*10/3)/Q$3,Q16*10/3*(1-0.1*O$3)),IF(P16>10,P16*0.9,P16)) -> 90.514167 | S16: 25.9 | T16: =IF(S16>0,IF(R16>0,(R16*Q$3+S16*10/3)/S$3,S16*10/3*(1-0.1*Q$3)),IF(R16>10,R16*0.9,R16)) -> 90.04963 | V16: =IF(U16>0,IF(T16>0,(T16*S$3+U16*10/3)/U$3,U16*10/3*(1-0.1*S$3)),IF(T16>10,T16*0.9,T16)) -> 81.044667
A17: =A16+1 -> 13 | B17: Сомок Денис/Somok Denis | C17: 27 | D17: =C17/3*10 -> 90 | E17: 17.3 | F17: =IF(E17>0,IF(D17>0,(D17*C$3+E17*10/3)/E$3,E17*10/3*(1-0.1*C$3)),IF(D17>10,D17*0.9,D17)) -> 73.833333 | G17: 30.5 | H17: =IF(G17>0,IF(F17>0,(F17*E$3+G17*10/3)/G$3,G17*10/3*(1-0.1*E$3)),IF(F17>10,F17*0.9,F17)) -> 83.111111 | I17: 32.5 | J17: =IF(I17>0,IF(H17>0,(H17*G$3+I17*10/3)/I$3,I17*10/3*(1-0.1*G$3)),IF(H17>10,H17*0.9,H17)) -> 89.416667 | K17: 22 | L17: =IF(K17>0,IF(J17>0,(J17*I$3+K17*10/3)/K$3,K17*10/3*(1-0.1*I$3)),IF(J17>10,J17*0.9,J17)) -> 86.2 | M17: 40.5 | N17: =IF(M17>0,IF(L17>0,(L17*K$3+M17*10/3)/M$3,M17*10/3*(1-0.1*K$3)),IF(L17>10,L17*0.9,L17)) -> 94.333333 | O17: 30.8 | P17: =IF(O17>0,IF(N17>0,(N17*M$3+O17*10/3)/O$3,O17*10/3*(1-0.1*M$3)),IF(N17>10,N17*0.9,N17)) -> 95.52381 | Q17: 19.2 | R17: =IF(Q17>0,IF(P17>0,(P17*O$3+Q17*10/3)/Q$3,Q17*10/3*(1-0.1*O$3)),IF(P17>10,P17*0.9,P17)) -> 91.583333 | T17: =IF(S17>0,IF(R17>0,(R17*Q$3+S17*10/3)/S$3,S17*10/3*(1-0.1*Q$3)),IF(R17>10,R17*0.9,R17)) -> 82.425 | U17: 27.5 | V17: =IF(U17>0,IF(T17>0,(T17*S$3+U17*10/3)/U$3,U17*10/3*(1-0.1*S$3)),IF(T17>10,T17*0.9,T17)) -> 83.349167
A18: =A17+1 -> 14 | B18: Мифтахутдинов Ильяс/ Miftafutdiv Ilyas | C18: 26.3 | D18: =C18/3*10 -> 87.666667 | E18: 14.7 | F18: =IF(E18>0,IF(D18>0,(D18*C$3+E18*10/3)/E$3,E18*10/3*(1-0.1*C$3)),IF(D18>10,D18*0.9,D18)) -> 68.333333 | H18: =IF(G18>0,IF(F18>0,(F18*E$3+G18*10/3)/G$3,G18*10/3*(1-0.1*E$3)),IF(F18>10,F18*0.9,F18)) -> 61.5 | I18: 22.5 | J18: =IF(I18>0,IF(H18>0,(H18*G$3+I18*10/3)/I$3,I18*10/3*(1-0.1*G$3)),IF(H18>10,H18*0.9,H18)) -> 64.875 | K18: 26.7 | L18: =IF(K18>0,IF(J18>0,(J18*I$3+K18*10/3)/K$3,K18*10/3*(1-0.1*I$3)),IF(J18>10,J18*0.9,J18)) -> 69.7 | M18: 30.4 | N18: =IF(M18>0,IF(L18>0,(L18*K$3+M18*10/3)/M$3,M18*10/3*(1-0.1*K$3)),IF(L18>10,L18*0.9,L18)) -> 74.972222 | O18: 17 | P18: =IF(O18>0,IF(N18>0,(N18*M$3+O18*10/3)/O$3,O18*10/3*(1-0.1*M$3)),IF(N18>10,N18*0.9,N18)) -> 72.357143 | Q18: 26.4 | R18: =IF(Q18>0,IF(P18>0,(P18*O$3+Q18*10/3)/Q$3,Q18*10/3*(1-0.1*O$3)),IF(P18>10,P18*0.9,P18)) -> 74.3125 | S18: 32.3 | T18: =IF(S18>0,IF(R18>0,(R18*Q$3+S18*10/3)/S$3,S18*10/3*(1-0.1*Q$3)),IF(R18>10,R18*0.9,R18)) -> 78.018519 | U18: 23 | V18: =IF(U18>0,IF(T18>0,(T18*S$3+U18*10/3)/U$3,U18*10/3*(1-0.1*S$3)),IF(T18>10,T18*0.9,T18)) -> 77.883333
A19: =A18+1 -> 15 | B19: Фортуна Татьяна / Fortuna Tetiana | C19: 22.7 | D19: =C19/3*10 -> 75.666667 | F19: =IF(E19>0,IF(D19>0,(D19*C$3+E19*10/3)/E$3,E19*10/3*(1-0.1*C$3)),IF(D19>10,D19*0.9,D19)) -> 68.1 | H19: =IF(G19>0,IF(F19>0,(F19*E$3+G19*10/3)/G$3,G19*10/3*(1-0.1*E$3)),IF(F19>10,F19*0.9,F19)) -> 61.29 | I19: 28.8 | J19: =IF(I19>0,IF(H19>0,(H19*G$3+I19*10/3)/I$3,I19*10/3*(1-0.1*G$3)),IF(H19>10,H19*0.9,H19)) -> 69.9675 | K19: 9.8 | L19: =IF(K19>0,IF(J19>0,(J19*I$3+K19*10/3)/K$3,K19*10/3*(1-0.1*I$3)),IF(J19>10,J19*0.9,J19)) -> 62.507333 | M19: 33 | N19: =IF(M19>0,IF(L19>0,(L19*K$3+M19*10/3)/M$3,M19*10/3*(1-0.1*K$3)),IF(L19>10,L19*0.9,L19)) -> 70.422778 | O19: 33.9 | P19: =IF(O19>0,IF(N19>0,(N19*M$3+O19*10/3)/O$3,O19*10/3*(1-0.1*M$3)),IF(N19>10,N19*0.9,N19)) -> 76.505238 | R19: =IF(Q19>0,IF(P19>0,(P19*O$3+Q19*10/3)/Q$3,Q19*10/3*(1-0.1*O$3)),IF(P19>10,P19*0.9,P19)) -> 68.854714 | T19: =IF(S19>0,IF(R19>0,(R19*Q$3+S19*10/3)/S$3,S19*10/3*(1-0.1*Q$3)),IF(R19>10,R19*0.9,R19)) -> 61.969243 | U19: 39 | V19: =IF(U19>0,IF(T19>0,(T19*S$3+U19*10/3)/U$3,U19*10/3*(1-0.1*S$3)),IF(T19>10,T19*0.9,T19)) -> 68.772319
A20: =A19+1 -> 16 | B20: Закалюк Женя/Zakaliuk Eugen | C20: 18 | D20: =C20/3*10 -> 60 | E20: 18.5 | F20: =IF(E20>0,IF(D20>0,(D20*C$3+E20*10/3)/E$3,E20*10/3*(1-0.1*C$3)),IF(D20>10,D20*0.9,D20)) -> 60.833333 | H20: =IF(G20>0,IF(F20>0,(F20*E$3+G20*10/3)/G$3,G20*10/3*(1-0.1*E$3)),IF(F20>10,F20*0.9,F20)) -> 54.75 | I20: 41.2 | J20: =IF(I20>0,IF(H20>0,(H20*G$3+I20*10/3)/I$3,I20*10/3*(1-0.1*G$3)),IF(H20>10,H20*0.9,H20)) -> 75.395833 | L20: =IF(K20>0,IF(J20>0,(J20*I$3+K20*10/3)/K$3,K20*10/3*(1-0.1*I$3)),IF(J20>10,J20*0.9,J20)) -> 67.85625 | N20: =IF(M20>0,IF(L20>0,(L20*K$3+M20*10/3)/M$3,M20*10/3*(1-0.1*K$3)),IF(L20>10,L20*0.9,L20)) -> 61.070625 | O20: 36 | P20: =IF(O20>0,IF(N20>0,(N20*M$3+O20*10/3)/O$3,O20*10/3*(1-0.1*M$3)),IF(N20>10,N20*0.9,N20)) -> 69.489107 | Q20: 31.9 | R20: =IF(Q20>0,IF(P20>0,(P20*O$3+Q20*10/3)/Q$3,Q20*10/3*(1-0.1*O$3)),IF(P20>10,P20*0.9,P20)) -> 74.094635 | T20: =IF(S20>0,IF(R20>0,(R20*Q$3+S20*10/3)/S$3,S20*10/3*(1-0.1*Q$3)),IF(R20>10,R20*0.9,R20)) -> 66.685172 | U20: 4.6 | V20: =IF(U20>0,IF(T20>0,(T20*S$3+U20*10/3)/U$3,U20*10/3*(1-0.1*S$3)),IF(T20>10,T20*0.9,T20)) -> 61.549988
A21: =A20+1 -> 17 | B21: Гобади Авеста/Ghobadi Avesta | C21: 17.9 | D21: =C21/3*10 -> 59.666667 | E21: 31.5 | F21: =IF(E21>0,IF(D21>0,(D21*C$3+E21*10/3)/E$3,E21*10/3*(1-0.1*C$3)),IF(D21>10,D21*0.9,D21)) -> 82.333333 | H21: =IF(G21>0,IF(F21>0,(F21*E$3+G21*10/3)/G$3,G21*10/3*(1-0.1*E$3)),IF(F21>10,F21*0.9,F21)) -> 74.1 | J21: =IF(I21>0,IF(H21>0,(H21*G$3+I21*10/3)/I$3,I21*10/3*(1-0.1*G$3)),IF(H21>10,H21*0.9,H21)) -> 66.69 | K21: 40.5 | L21: =IF(K21>0,IF(J21>0,(J21*I$3+K21*10/3)/K$3,K21*10/3*(1-0.1*I$3)),IF(J21>10,J21*0.9,J21)) -> 80.352 | N21: =IF(M21>0,IF(L21>0,(L21*K$3+M21*10/3)/M$3,M21*10/3*(1-0.1*K$3)),IF(L21>10,L21*0.9,L21)) -> 72.3168 | O21: 39.9 | P21: =IF(O21>0,IF(N21>0,(N21*M$3+O21*10/3)/O$3,O21*10/3*(1-0.1*M$3)),IF(N21>10,N21*0.9,N21)) -> 80.985829 | R21: =IF(Q21>0,IF(P21>0,(P21*O$3+Q21*10/3)/Q$3,Q21*10/3*(1-0.1*O$3)),IF(P21>10,P21*0.9,P21)) -> 72.887246 | T21: =IF(S21>0,IF(R21>0,(R21*Q$3+S21*10/3)/S$3,S21*10/3*(1-0.1*Q$3)),IF(R21>10,R21*0.9,R21)) -> 65.598521 | V21: =IF(U21>0,IF(T21>0,(T21*S$3+U21*10/3)/U$3,U21*10/3*(1-0.1*S$3)),IF(T21>10,T21*0.9,T21)) -> 59.038669
A22: =A21+1 -> 18 | B22: Муляр Андрей/Mular Andrew | C22: 16 | D22: =C22/3*10 -> 53.333333 | F22: =IF(E22>0,IF(D22>0,(D22*C$3+E22*10/3)/E$3,E22*10/3*(1-0.1*C$3)),IF(D22>10,D22*0.9,D22)) -> 48 | H22: =IF(G22>0,IF(F22>0,(F22*E$3+G22*10/3)/G$3,G22*10/3*(1-0.1*E$3)),IF(F22>10,F22*0.9,F22)) -> 43.2 | J22: =IF(I22>0,IF(H22>0,(H22*G$3+I22*10/3)/I$3,I22*10/3*(1-0.1*G$3)),IF(H22>10,H22*0.9,H22)) -> 38.88 | K22: 27.2 | L22: =IF(K22>0,IF(J22>0,(J22*I$3+K22*10/3)/K$3,K22*10/3*(1-0.1*I$3)),IF(J22>10,J22*0.9,J22)) -> 49.237333 | M22: 18.5 | N22: =IF(M22>0,IF(L22>0,(L22*K$3+M22*10/3)/M$3,M22*10/3*(1-0.1*K$3)),IF(L22>10,L22*0.9,L22)) -> 51.308889 | O22: 15.4 | P22: =IF(O22>0,IF(N22>0,(N22*M$3+O22*10/3)/O$3,O22*10/3*(1-0.1*M$3)),IF(N22>10,N22*0.9,N22)) -> 51.312381 | Q22: 20.8 | R22: =IF(Q22>0,IF(P22>0,(P22*O$3+Q22*10/3)/Q$3,Q22*10/3*(1-0.1*O$3)),IF(P22>10,P22*0.9,P22)) -> 53.565 | S22: 28.9 | T22: =IF(S22>0,IF(R22>0,(R22*Q$3+S22*10/3)/S$3,S22*10/3*(1-0.1*Q$3)),IF(R22>10,R22*0.9,R22)) -> 58.317037 | U22: 13.5 | V22: =IF(U22>0,IF(T22>0,(T22*S$3+U22*10/3)/U$3,U22*10/3*(1-0.1*S$3)),IF(T22>10,T22*0.9,T22)) -> 56.985333
A23: =A22+1 -> 19 | B23: Родин Артем/Rodin Artem | C23: 15 | D23: =C23/3*10 -> 50 | F23: =IF(E23>0,IF(D23>0,(D23*C$3+E23*10/3)/E$3,E23*10/3*(1-0.1*C$3)),IF(D23>10,D23*0.9,D23)) -> 45 | G23: 36 | H23: =IF(G23>0,IF(F23>0,(F23*E$3+G23*10/3)/G$3,G23*10/3*(1-0.1*E$3)),IF(F23>10,F23*0.9,F23)) -> 70 | I23: 28.1 | J23: =IF(I23>0,IF(H23>0,(H23*G$3+I23*10/3)/I$3,I23*10/3*(1-0.1*G$3)),IF(H23>10,H23*0.9,H23)) -> 75.916667 | K23: 36.4 | L23: =IF(K23>0,IF(J23>0,(J23*I$3+K23*10/3)/K$3,K23*10/3*(1-0.1*I$3)),IF(J23>10,J23*0.9,J23)) -> 85 | N23: =IF(M23>0,IF(L23>0,(L23*K$3+M23*10/3)/M$3,M23*10/3*(1-0.1*K$3)),IF(L23>10,L23*0.9,L23)) -> 76.5 | P23: =IF(O23>0,IF(N23>0,(N23*M$3+O23*10/3)/O$3,O23*10/3*(1-0.1*M$3)),IF(N23>10,N23*0.9,N23)) -> 68.85 | R23: =IF(Q23>0,IF(P23>0,(P23*O$3+Q23*10/3)/Q$3,Q23*10/3*(1-0.1*O$3)),IF(P23>10,P23*0.9,P23)) -> 61.965 | T23: =IF(S23>0,IF(R23>0,(R23*Q$3+S23*10/3)/S$3,S23*10/3*(1-0.1*Q$3)),IF(R23>10,R23*0.9,R23)) -> 55.7685 | V23: =IF(U23>0,IF(T23>0,(T23*S$3+U23*10/3)/U$3,U23*10/3*(1-0.1*S$3)),IF(T23>10,T23*0.9,T23)) -> 50.19165
A24: =A23+1 -> 20 | D24: =C24/3*10 -> 0 | E24: 38.5 | F24: =IF(E24>0,IF(D24>0,(D24*C$3+E24*10/3)/E$3,E24*10/3*(1-0.1*C$3)),IF(D24>10,D24*0.9,D24)) -> 115.5 | H24: =IF(G24>0,IF(F24>0,(F24*E$3+G24*10/3)/G$3,G24*10/3*(1-0.1*E$3)),IF(F24>10,F24*0.9,F24)) -> 103.95 | J24: =IF(I24>0,IF(H24>0,(H24*G$3+I24*10/3)/I$3,I24*10/3*(1-0.1*G$3)),IF(H24>10,H24*0.9,H24)) -> 93.555 | K24: 38 | L24: =IF(K24>0,IF(J24>0,(J24*I$3+K24*10/3)/K$3,K24*10/3*(1-0.1*I$3)),IF(J24>10,J24*0.9,J24)) -> 100.17733 | N24: =IF(M24>0,IF(L24>0,(L24*K$3+M24*10/3)/M$3,M24*10/3*(1-0.1*K$3)),IF(L24>10,L24*0.9,L24)) -> 90.1596 | P24: =IF(O24>0,IF(N24>0,(N24*M$3+O24*10/3)/O$3,O24*10/3*(1-0.1*M$3)),IF(N24>10,N24*0.9,N24)) -> 81.14364 | R24: =IF(Q24>0,IF(P24>0,(P24*O$3+Q24*10/3)/Q$3,Q24*10/3*(1-0.1*O$3)),IF(P24>10,P24*0.9,P24)) -> 73.029276 | T24: =IF(S24>0,IF(R24>0,(R24*Q$3+S24*10/3)/S$3,S24*10/3*(1-0.1*Q$3)),IF(R24>10,R24*0.9,R24)) -> 65.726348 | V24: =IF(U24>0,IF(T24>0,(T24*S$3+U24*10/3)/U$3,U24*10/3*(1-0.1*S$3)),IF(T24>10,T24*0.9,T24)) -> 59.153714
A25: =A24+1 -> 21 | D25: =C25/3*10 -> 0 | E25: 27.5 | F25: =IF(E25>0,IF(D25>0,(D25*C$3+E25*10/3)/E$3,E25*10/3*(1-0.1*C$3)),IF(D25>10,D25*0.9,D25)) -> 82.5 | G25: 11.7 | H25: =IF(G25>0,IF(F25>0,(F25*E$3+G25*10/3)/G$3,G25*10/3*(1-0.1*E$3)),IF(F25>10,F25*0.9,F25)) -> 68 | I25: 26.3 | J25: =IF(I25>0,IF(H25>0,(H25*G$3+I25*10/3)/I$3,I25*10/3*(1-0.1*G$3)),IF(H25>10,H25*0.9,H25)) -> 72.916667 | K25: 23.9 | L25: =IF(K25>0,IF(J25>0,(J25*I$3+K25*10/3)/K$3,K25*10/3*(1-0.1*I$3)),IF(J25>10,J25*0.9,J25)) -> 74.266667 | M25: 19 | N25: =IF(M25>0,IF(L25>0,(L25*K$3+M25*10/3)/M$3,M25*10/3*(1-0.1*K$3)),IF(L25>10,L25*0.9,L25)) -> 72.444444 | P25: =IF(O25>0,IF(N25>0,(N25*M$3+O25*10/3)/O$3,O25*10/3*(1-0.1*M$3)),IF(N25>10,N25*0.9,N25)) -> 65.2 | R25: =IF(Q25>0,IF(P25>0,(P25*O$3+Q25*10/3)/Q$3,Q25*10/3*(1-0.1*O$3)),IF(P25>10,P25*0.9,P25)) -> 58.68 | S25: 32.9 | T25: =IF(S25>0,IF(R25>0,(R25*Q$3+S25*10/3)/S$3,S25*10/3*(1-0.1*Q$3)),IF(R25>10,R25*0.9,R25)) -> 64.345185 | U25: 15.5 | V25: =IF(U25>0,IF(T25>0,(T25*S$3+U25*10/3)/U$3,U25*10/3*(1-0.1*S$3)),IF(T25>10,T25*0.9,T25)) -> 63.077333
A26: =A25+1 -> 22 | D26: =C26/3*10 -> 0 | F26: =IF(E26>0,IF(D26>0,(D26*C$3+E26*10/3)/E$3,E26*10/3*(1-0.1*C$3)),IF(D26>10,D26*0.9,D26)) -> 0 | H26: =IF(G26>0,IF(F26>0,(F26*E$3+G26*10/3)/G$3,G26*10/3*(1-0.1*E$3)),IF(F26>10,F26*0.9,F26)) -> 0 | I26: 33.5 | J26: =IF(I26>0,IF(H26>0,(H26*G$3+I26*10/3)/I$3,I26*10/3*(1-0.1*G$3)),IF(H26>10,H26*0.9,H26)) -> 78.166667 | K26: 21.1 | L26: =IF(K26>0,IF(J26>0,(J26*I$3+K26*10/3)/K$3,K26*10/3*(1-0.1*I$3)),IF(J26>10,J26*0.9,J26)) -> 76.6 | N26: =IF(M26>0,IF(L26>0,(L26*K$3+M26*10/3)/M$3,M26*10/3*(1-0.1*K$3)),IF(L26>10,L26*0.9,L26)) -> 68.94 | P26: =IF(O26>0,IF(N26>0,(N26*M$3+O26*10/3)/O$3,O26*10/3*(1-0.1*M$3)),IF(N26>10,N26*0.9,N26)) -> 62.046 | R26: =IF(Q26>0,IF(P26>0,(P26*O$3+Q26*10/3)/Q$3,Q26*10/3*(1-0.1*O$3)),IF(P26>10,P26*0.9,P26)) -> 55.8414 | S26: 35.7 | T26: =IF(S26>0,IF(R26>0,(R26*Q$3+S26*10/3)/S$3,S26*10/3*(1-0.1*Q$3)),IF(R26>10,R26*0.9,R26)) -> 62.859022 | V26: =IF(U26>0,IF(T26>0,(T26*S$3+U26*10/3)/U$3,U26*10/3*(1-0.1*S$3)),IF(T26>10,T26*0.9,T26)) -> 56.57312
A27: =A26+1 -> 23 | D27: =C27/3*10 -> 0 | E27: 21.8 | F27: =IF(E27>0,IF(D27>0,(D27*C$3+E27*10/3)/E$3,E27*10/3*(1-0.1*C$3)),IF(D27>10,D27*0.9,D27)) -> 65.4 | H27: =IF(G27>0,IF(F27>0,(F27*E$3+G27*10/3)/G$3,G27*10/3*(1-0.1*E$3)),IF(F27>10,F27*0.9,F27)) -> 58.86 | J27: =IF(I27>0,IF(H27>0,(H27*G$3+I27*10/3)/I$3,I27*10/3*(1-0.1*G$3)),IF(H27>10,H27*0.9,H27)) -> 52.974 | L27: =IF(K27>0,IF(J27>0,(J27*I$3+K27*10/3)/K$3,K27*10/3*(1-0.1*I$3)),IF(J27>10,J27*0.9,J27)) -> 47.6766 | M27: 30.3 | N27: =IF(M27>0,IF(L27>0,(L27*K$3+M27*10/3)/M$3,M27*10/3*(1-0.1*K$3)),IF(L27>10,L27*0.9,L27)) -> 56.563833 | P27: =IF(O27>0,IF(N27>0,(N27*M$3+O27*10/3)/O$3,O27*10/3*(1-0.1*M$3)),IF(N27>10,N27*0.9,N27)) -> 50.90745 | R27: =IF(Q27>0,IF(P27>0,(P27*O$3+Q27*10/3)/Q$3,Q27*10/3*(1-0.1*O$3)),IF(P27>10,P27*0.9,P27)) -> 45.816705 | T27: =IF(S27>0,IF(R27>0,(R27*Q$3+S27*10/3)/S$3,S27*10/3*(1-0.1*Q$3)),IF(R27>10,R27*0.9,R27)) -> 41.235035 | U27: 28 | V27: =IF(U27>0,IF(T27>0,(T27*S$3+U27*10/3)/U$3,U27*10/3*(1-0.1*S$3)),IF(T27>10,T27*0.9,T27)) -> 46.444864
A28: =A27+1 -> 24 | D28: =C28/3*10 -> 0 | E28: 18.5 | F28: =IF(E28>0,IF(D28>0,(D28*C$3+E28*10/3)/E$3,E28*10/3*(1-0.1*C$3)),IF(D28>10,D28*0.9,D28)) -> 55.5 | H28: =IF(G28>0,IF(F28>0,(F28*E$3+G28*10/3)/G$3,G28*10/3*(1-0.1*E$3)),IF(F28>10,F28*0.9,F28)) -> 49.95 | J28: =IF(I28>0,IF(H28>0,(H28*G$3+I28*10/3)/I$3,I28*10/3*(1-0.1*G$3)),IF(H28>10,H28*0.9,H28)) -> 44.955 | L28: =IF(K28>0,IF(J28>0,(J28*I$3+K28*10/3)/K$3,K28*10/3*(1-0.1*I$3)),IF(J28>10,J28*0.9,J28)) -> 40.4595 | M28: 21.2 | N28: =IF(M28>0,IF(L28>0,(L28*K$3+M28*10/3)/M$3,M28*10/3*(1-0.1*K$3)),IF(L28>10,L28*0.9,L28)) -> 45.494028 | O28: 28 | P28: =IF(O28>0,IF(N28>0,(N28*M$3+O28*10/3)/O$3,O28*10/3*(1-0.1*M$3)),IF(N28>10,N28*0.9,N28)) -> 52.328214 | Q28: 19.5 | R28: =IF(Q28>0,IF(P28>0,(P28*O$3+Q28*10/3)/Q$3,Q28*10/3*(1-0.1*O$3)),IF(P28>10,P28*0.9,P28)) -> 53.912188 | T28: =IF(S28>0,IF(R28>0,(R28*Q$3+S28*10/3)/S$3,S28*10/3*(1-0.1*Q$3)),IF(R28>10,R28*0.9,R28)) -> 48.520969 | U28: 20.2 | V28: =IF(U28>0,IF(T28>0,(T28*S$3+U28*10/3)/U$3,U28*10/3*(1-0.1*S$3)),IF(T28>10,T28*0.9,T28)) -> 50.402205
A29: =A28+1 -> 25 | D29: =C29/3*10 -> 0 | F29: =IF(E29>0,IF(D29>0,(D29*C$3+E29*10/3)/E$3,E29*10/3*(1-0.1*C$3)),IF(D29>10,D29*0.9,D29)) -> 0 | G29: 37.7 | H29: =IF(G29>0,IF(F29>0,(F29*E$3+G29*10/3)/G$3,G29*10/3*(1-0.1*E$3)),IF(F29>10,F29*0.9,F29)) -> 100.53333 | I29: 22 | J29: =IF(I29>0,IF(H29>0,(H29*G$3+I29*10/3)/I$3,I29*10/3*(1-0.1*G$3)),IF(H29>10,H29*0.9,H29)) -> 93.733333 | L29: =IF(K29>0,IF(J29>0,(J29*I$3+K29*10/3)/K$3,K29*10/3*(1-0.1*I$3)),IF(J29>10,J29*0.9,J29)) -> 84.36 | N29: =IF(M29>0,IF(L29>0,(L29*K$3+M29*10/3)/M$3,M29*10/3*(1-0.1*K$3)),IF(L29>10,L29*0.9,L29)) -> 75.924 | P29: =IF(O29>0,IF(N29>0,(N29*M$3+O29*10/3)/O$3,O29*10/3*(1-0.1*M$3)),IF(N29>10,N29*0.9,N29)) -> 68.3316 | R29: =IF(Q29>0,IF(P29>0,(P29*O$3+Q29*10/3)/Q$3,Q29*10/3*(1-0.1*O$3)),IF(P29>10,P29*0.9,P29)) -> 61.49844 | T29: =IF(S29>0,IF(R29>0,(R29*Q$3+S29*10/3)/S$3,S29*10/3*(1-0.1*Q$3)),IF(R29>10,R29*0.9,R29)) -> 55.348596 | V29: =IF(U29>0,IF(T29>0,(T29*S$3+U29*10/3)/U$3,U29*10/3*(1-0.1*S$3)),IF(T29>10,T29*0.9,T29)) -> 49.813736
A30: =A29+1 -> 26 | D30: =C30/3*10 -> 0 | E30: 33.3 | F30: =IF(E30>0,IF(D30>0,(D30*C$3+E30*10/3)/E$3,E30*10/3*(1-0.1*C$3)),IF(D30>10,D30*0.9,D30)) -> 99.9 | H30: =IF(G30>0,IF(F30>0,(F30*E$3+G30*10/3)/G$3,G30*10/3*(1-0.1*E$3)),IF(F30>10,F30*0.9,F30)) -> 89.91 | I30: 30 | J30: =IF(I30>0,IF(H30>0,(H30*G$3+I30*10/3)/I$3,I30*10/3*(1-0.1*G$3)),IF(H30>10,H30*0.9,H30)) -> 92.4325 | L30: =IF(K30>0,IF(J30>0,(J30*I$3+K30*10/3)/K$3,K30*10/3*(1-0.1*I$3)),IF(J30>10,J30*0.9,J30)) -> 83.18925 | N30: =IF(M30>0,IF(L30>0,(L30*K$3+M30*10/3)/M$3,M30*10/3*(1-0.1*K$3)),IF(L30>10,L30*0.9,L30)) -> 74.870325 | P30: =IF(O30>0,IF(N30>0,(N30*M$3+O30*10/3)/O$3,O30*10/3*(1-0.1*M$3)),IF(N30>10,N30*0.9,N30)) -> 67.383293 | R30: =IF(Q30>0,IF(P30>0,(P30*O$3+Q30*10/3)/Q$3,Q30*10/3*(1-0.1*O$3)),IF(P30>10,P30*0.9,P30)) -> 60.644963 | T30: =IF(S30>0,IF(R30>0,(R30*Q$3+S30*10/3)/S$3,S30*10/3*(1-0.1*Q$3)),IF(R30>10,R30*0.9,R30)) -> 54.580467 | V30: =IF(U30>0,IF(T30>0,(T30*S$3+U30*10/3)/U$3,U30*10/3*(1-0.1*S$3)),IF(T30>10,T30*0.9,T30)) -> 49.12242
A31: =A30+1 -> 27 | D31: =C31/3*10 -> 0 | E31: 28.1 | F31: =IF(E31>0,IF(D31>0,(D31*C$3+E31*10/3)/E$3,E31*10/3*(1-0.1*C$3)),IF(D31>10,D31*0.9,D31)) -> 84.3 | G31: 33.1 | H31: =IF(G31>0,IF(F31>0,(F31*E$3+G31*10/3)/G$3,G31*10/3*(1-0.1*E$3)),IF(F31>10,F31*0.9,F31)) -> 92.977778 | J31: =IF(I31>0,IF(H31>0,(H31*G$3+I31*10/3)/I$3,I31*10/3*(1-0.1*G$3)),IF(H31>10,H31*0.9,H31)) -> 83.68 | L31: =IF(K31>0,IF(J31>0,(J31*I$3+K31*10/3)/K$3,K31*10/3*(1-0.1*I$3)),IF(J31>10,J31*0.9,J31)) -> 75.312 | N31: =IF(M31>0,IF(L31>0,(L31*K$3+M31*10/3)/M$3,M31*10/3*(1-0.1*K$3)),IF(L31>10,L31*0.9,L31)) -> 67.7808 | P31: =IF(O31>0,IF(N31>0,(N31*M$3+O31*10/3)/O$3,O31*10/3*(1-0.1*M$3)),IF(N31>10,N31*0.9,N31)) -> 61.00272 | R31: =IF(Q31>0,IF(P31>0,(P31*O$3+Q31*10/3)/Q$3,Q31*10/3*(1-0.1*O$3)),IF(P31>10,P31*0.9,P31)) -> 54.902448 | T31: =IF(S31>0,IF(R31>0,(R31*Q$3+S31*10/3)/S$3,S31*10/3*(1-0.1*Q$3)),IF(R31>10,R31*0.9,R31)) -> 49.412203 | V31: =IF(U31>0,IF(T31>0,(T31*S$3+U31*10/3)/U$3,U31*10/3*(1-0.1*S$3)),IF(T31>10,T31*0.9,T31)) -> 44.470983
A32: =A31+1 -> 28 | D32: =C32/3*10 -> 0 | E32: 15.5 | F32: =IF(E32>0,IF(D32>0,(D32*C$3+E32*10/3)/E$3,E32*10/3*(1-0.1*C$3)),IF(D32>10,D32*0.9,D32)) -> 46.5 | H32: =IF(G32>0,IF(F32>0,(F32*E$3+G32*10/3)/G$3,G32*10/3*(1-0.1*E$3)),IF(F32>10,F32*0.9,F32)) -> 41.85 | J32: =IF(I32>0,IF(H32>0,(H32*G$3+I32*10/3)/I$3,I32*10/3*(1-0.1*G$3)),IF(H32>10,H32*0.9,H32)) -> 37.665 | K32: 20.5 | L32: =IF(K32>0,IF(J32>0,(J32*I$3+K32*10/3)/K$3,K32*10/3*(1-0.1*I$3)),IF(J32>10,J32*0.9,J32)) -> 43.798667 | N32: =IF(M32>0,IF(L32>0,(L32*K$3+M32*10/3)/M$3,M32*10/3*(1-0.1*K$3)),IF(L32>10,L32*0.9,L32)) -> 39.4188 | P32: =IF(O32>0,IF(N32>0,(N32*M$3+O32*10/3)/O$3,O32*10/3*(1-0.1*M$3)),IF(N32>10,N32*0.9,N32)) -> 35.47692 | Q32: 30 | R32: =IF(Q32>0,IF(P32>0,(P32*O$3+Q32*10/3)/Q$3,Q32*10/3*(1-0.1*O$3)),IF(P32>10,P32*0.9,P32)) -> 43.542305 | S32: 23.5 | T32: =IF(S32>0,IF(R32>0,(R32*Q$3+S32*10/3)/S$3,S32*10/3*(1-0.1*Q$3)),IF(R32>10,R32*0.9,R32)) -> 47.407975 | V32: =IF(U32>0,IF(T32>0,(T32*S$3+U32*10/3)/U$3,U32*10/3*(1-0.1*S$3)),IF(T32>10,T32*0.9,T32)) -> 42.667177
A33: =A32+1 -> 29 | D33: =C33/3*10 -> 0 | F33: =IF(E33>0,IF(D33>0,(D33*C$3+E33*10/3)/E$3,E33*10/3*(1-0.1*C$3)),IF(D33>10,D33*0.9,D33)) -> 0 | G33: 23 | H33: =IF(G33>0,IF(F33>0,(F33*E$3+G33*10/3)/G$3,G33*10/3*(1-0.1*E$3)),IF(F33>10,F33*0.9,F33)) -> 61.333333 | J33: =IF(I33>0,IF(H33>0,(H33*G$3+I33*10/3)/I$3,I33*10/3*(1-0.1*G$3)),IF(H33>10,H33*0.9,H33)) -> 55.2 | L33: =IF(K33>0,IF(J33>0,(J33*I$3+K33*10/3)/K$3,K33*10/3*(1-0.1*I$3)),IF(J33>10,J33*0.9,J33)) -> 49.68 | N33: =IF(M33>0,IF(L33>0,(L33*K$3+M33*10/3)/M$3,M33*10/3*(1-0.1*K$3)),IF(L33>10,L33*0.9,L33)) -> 44.712 | O33: 31 | P33: =IF(O33>0,IF(N33>0,(N33*M$3+O33*10/3)/O$3,O33*10/3*(1-0.1*M$3)),IF(N33>10,N33*0.9,N33)) -> 53.086476 | R33: =IF(Q33>0,IF(P33>0,(P33*O$3+Q33*10/3)/Q$3,Q33*10/3*(1-0.1*O$3)),IF(P33>10,P33*0.9,P33)) -> 47.777829 | T33: =IF(S33>0,IF(R33>0,(R33*Q$3+S33*10/3)/S$3,S33*10/3*(1-0.1*Q$3)),IF(R33>10,R33*0.9,R33)) -> 43.000046 | V33: =IF(U33>0,IF(T33>0,(T33*S$3+U33*10/3)/U$3,U33*10/3*(1-0.1*S$3)),IF(T33>10,T33*0.9,T33)) -> 38.700041
A34: =A33+1 -> 30 | D34: =C34/3*10 -> 0 | F34: =IF(E34>0,IF(D34>0,(D34*C$3+E34*10/3)/E$3,E34*10/3*(1-0.1*C$3)),IF(D34>10,D34*0.9,D34)) -> 0 | H34: =IF(G34>0,IF(F34>0,(F34*E$3+G34*10/3)/G$3,G34*10/3*(1-0.1*E$3)),IF(F34>10,F34*0.9,F34)) -> 0 | J34: =IF(I34>0,IF(H34>0,(H34*G$3+I34*10/3)/I$3,I34*10/3*(1-0.1*G$3)),IF(H34>10,H34*0.9,H34)) -> 0 | L34: =IF(K34>0,IF(J34>0,(J34*I$3+K34*10/3)/K$3,K34*10/3*(1-0.1*I$3)),IF(J34>10,J34*0.9,J34)) -> 0 | N34: =IF(M34>0,IF(L34>0,(L34*K$3+M34*10/3)/M$3,M34*10/3*(1-0.1*K$3)),IF(L34>10,L34*0.9,L34)) -> 0 | O34: 38.6 | P34: =IF(O34>0,IF(N34>0,(N34*M$3+O34*10/3)/O$3,O34*10/3*(1-0.1*M$3)),IF(N34>10,N34*0.9,N34)) -> 51.466667 | R34: =IF(Q34>0,IF(P34>0,(P34*O$3+Q34*10/3)/Q$3,Q34*10/3*(1-0.1*O$3)),IF(P34>10,P34*0.9,P34)) -> 46.32 | T34: =IF(S34>0,IF(R34>0,(R34*Q$3+S34*10/3)/S$3,S34*10/3*(1-0.1*Q$3)),IF(R34>10,R34*0.9,R34)) -> 41.688 | V34: =IF(U34>0,IF(T34>0,(T34*S$3+U34*10/3)/U$3,U34*10/3*(1-0.1*S$3)),IF(T34>10,T34*0.9,T34)) -> 37.5192
A35: =A34+1 -> 31 | D35: =C35/3*10 -> 0 | E35: 29.6 | F35: =IF(E35>0,IF(D35>0,(D35*C$3+E35*10/3)/E$3,E35*10/3*(1-0.1*C$3)),IF(D35>10,D35*0.9,D35)) -> 88.8 | H35: =IF(G35>0,IF(F35>0,(F35*E$3+G35*10/3)/G$3,G35*10/3*(1-0.1*E$3)),IF(F35>10,F35*0.9,F35)) -> 79.92 | J35: =IF(I35>0,IF(H35>0,(H35*G$3+I35*10/3)/I$3,I35*10/3*(1-0.1*G$3)),IF(H35>10,H35*0.9,H35)) -> 71.928 | L35: =IF(K35>0,IF(J35>0,(J35*I$3+K35*10/3)/K$3,K35*10/3*(1-0.1*I$3)),IF(J35>10,J35*0.9,J35)) -> 64.7352 | N35: =IF(M35>0,IF(L35>0,(L35*K$3+M35*10/3)/M$3,M35*10/3*(1-0.1*K$3)),IF(L35>10,L35*0.9,L35)) -> 58.26168 | P35: =IF(O35>0,IF(N35>0,(N35*M$3+O35*10/3)/O$3,O35*10/3*(1-0.1*M$3)),IF(N35>10,N35*0.9,N35)) -> 52.435512 | R35: =IF(Q35>0,IF(P35>0,(P35*O$3+Q35*10/3)/Q$3,Q35*10/3*(1-0.1*O$3)),IF(P35>10,P35*0.9,P35)) -> 47.191961 | T35: =IF(S35>0,IF(R35>0,(R35*Q$3+S35*10/3)/S$3,S35*10/3*(1-0.1*Q$3)),IF(R35>10,R35*0.9,R35)) -> 42.472765 | V35: =IF(U35>0,IF(T35>0,(T35*S$3+U35*10/3)/U$3,U35*10/3*(1-0.1*S$3)),IF(T35>10,T35*0.9,T35)) -> 38.225488
A36: =A35+1 -> 32 | D36: =C36/3*10 -> 0 | F36: =IF(E36>0,IF(D36>0,(D36*C$3+E36*10/3)/E$3,E36*10/3*(1-0.1*C$3)),IF(D36>10,D36*0.9,D36)) -> 0 | H36: =IF(G36>0,IF(F36>0,(F36*E$3+G36*10/3)/G$3,G36*10/3*(1-0.1*E$3)),IF(F36>10,F36*0.9,F36)) -> 0 | J36: =IF(I36>0,IF(H36>0,(H36*G$3+I36*10/3)/I$3,I36*10/3*(1-0.1*G$3)),IF(H36>10,H36*0.9,H36)) -> 0 | K36: 26.5 | L36: =IF(K36>0,IF(J36>0,(J36*I$3+K36*10/3)/K$3,K36*10/3*(1-0.1*I$3)),IF(J36>10,J36*0.9,J36)) -> 53 | N36: =IF(M36>0,IF(L36>0,(L36*K$3+M36*10/3)/M$3,M36*10/3*(1-0.1*K$3)),IF(L36>10,L36*0.9,L36)) -> 47.7 | P36: =IF(O36>0,IF(N36>0,(N36*M$3+O36*10/3)/O$3,O36*10/3*(1-0.1*M$3)),IF(N36>10,N36*0.9,N36)) -> 42.93 | R36: =IF(Q36>0,IF(P36>0,(P36*O$3+Q36*10/3)/Q$3,Q36*10/3*(1-0.1*O$3)),IF(P36>10,P36*0.9,P36)) -> 38.637 | T36: =IF(S36>0,IF(R36>0,(R36*Q$3+S36*10/3)/S$3,S36*10/3*(1-0.1*Q$3)),IF(R36>10,R36*0.9,R36)) -> 34.7733 | V36: =IF(U36>0,IF(T36>0,(T36*S$3+U36*10/3)/U$3,U36*10/3*(1-0.1*S$3)),IF(T36>10,T36*0.9,T36)) -> 31.29597
A37: =A36+1 -> 33 | D37: =C37/3*10 -> 0 | E37: 23.3 | F37: =IF(E37>0,IF(D37>0,(D37*C$3+E37*10/3)/E$3,E37*10/3*(1-0.1*C$3)),IF(D37>10,D37*0.9,D37)) -> 69.9 | H37: =IF(G37>0,IF(F37>0,(F37*E$3+G37*10/3)/G$3,G37*10/3*(1-0.1*E$3)),IF(F37>10,F37*0.9,F37)) -> 62.91 | J37: =IF(I37>0,IF(H37>0,(H37*G$3+I37*10/3)/I$3,I37*10/3*(1-0.1*G$3)),IF(H37>10,H37*0.9,H37)) -> 56.619 | L37: =IF(K37>0,IF(J37>0,(J37*I$3+K37*10/3)/K$3,K37*10/3*(1-0.1*I$3)),IF(J37>10,J37*0.9,J37)) -> 50.9571 | N37: =IF(M37>0,IF(L37>0,(L37*K$3+M37*10/3)/M$3,M37*10/3*(1-0.1*K$3)),IF(L37>10,L37*0.9,L37)) -> 45.86139 | P37: =IF(O37>0,IF(N37>0,(N37*M$3+O37*10/3)/O$3,O37*10/3*(1-0.1*M$3)),IF(N37>10,N37*0.9,N37)) -> 41.275251 | R37: =IF(Q37>0,IF(P37>0,(P37*O$3+Q37*10/3)/Q$3,Q37*10/3*(1-0.1*O$3)),IF(P37>10,P37*0.9,P37)) -> 37.147726 | T37: =IF(S37>0,IF(R37>0,(R37*Q$3+S37*10/3)/S$3,S37*10/3*(1-0.1*Q$3)),IF(R37>10,R37*0.9,R37)) -> 33.432953 | V37: =IF(U37>0,IF(T37>0,(T37*S$3+U37*10/3)/U$3,U37*10/3*(1-0.1*S$3)),IF(T37>10,T37*0.9,T37)) -> 30.089658
A38: =A37+1 -> 34 | D38: =C38/3*10 -> 0 | F38: =IF(E38>0,IF(D38>0,(D38*C$3+E38*10/3)/E$3,E38*10/3*(1-0.1*C$3)),IF(D38>10,D38*0.9,D38)) -> 0 | G38: 21 | H38: =IF(G38>0,IF(F38>0,(F38*E$3+G38*10/3)/G$3,G38*10/3*(1-0.1*E$3)),IF(F38>10,F38*0.9,F38)) -> 56 | J38: =IF(I38>0,IF(H38>0,(H38*G$3+I38*10/3)/I$3,I38*10/3*(1-0.1*G$3)),IF(H38>10,H38*0.9,H38)) -> 50.4 | L38: =IF(K38>0,IF(J38>0,(J38*I$3+K38*10/3)/K$3,K38*10/3*(1-0.1*I$3)),IF(J38>10,J38*0.9,J38)) -> 45.36 | N38: =IF(M38>0,IF(L38>0,(L38*K$3+M38*10/3)/M$3,M38*10/3*(1-0.1*K$3)),IF(L38>10,L38*0.9,L38)) -> 40.824 | P38: =IF(O38>0,IF(N38>0,(N38*M$3+O38*10/3)/O$3,O38*10/3*(1-0.1*M$3)),IF(N38>10,N38*0.9,N38)) -> 36.7416 | R38: =IF(Q38>0,IF(P38>0,(P38*O$3+Q38*10/3)/Q$3,Q38*10/3*(1-0.1*O$3)),IF(P38>10,P38*0.9,P38)) -> 33.06744 | T38: =IF(S38>0,IF(R38>0,(R38*Q$3+S38*10/3)/S$3,S38*10/3*(1-0.1*Q$3)),IF(R38>10,R38*0.9,R38)) -> 29.760696 | V38: =IF(U38>0,IF(T38>0,(T38*S$3+U38*10/3)/U$3,U38*10/3*(1-0.1*S$3)),IF(T38>10,T38*0.9,T38)) -> 26.784626
A39: =A38+1 -> 35 | D39: =C39/3*10 -> 0 | F39: =IF(E39>0,IF(D39>0,(D39*C$3+E39*10/3)/E$3,E39*10/3*(1-0.1*C$3)),IF(D39>10,D39*0.9,D39)) -> 0 | H39: =IF(G39>0,IF(F39>0,(F39*E$3+G39*10/3)/G$3,G39*10/3*(1-0.1*E$3)),IF(F39>10,F39*0.9,F39)) -> 0 | J39: =IF(I39>0,IF(H39>0,(H39*G$3+I39*10/3)/I$3,I39*10/3*(1-0.1*G$3)),IF(H39>10,H39*0.9,H39)) -> 0 | L39: =IF(K39>0,IF(J39>0,(J39*I$3+K39*10/3)/K$3,K39*10/3*(1-0.1*I$3)),IF(J39>10,J39*0.9,J39)) -> 0 | N39: =IF(M39>0,IF(L39>0,(L39*K$3+M39*10/3)/M$3,M39*10/3*(1-0.1*K$3)),IF(L39>10,L39*0.9,L39)) -> 0 | P39: =IF(O39>0,IF(N39>0,(N39*M$3+O39*10/3)/O$3,O39*10/3*(1-0.1*M$3)),IF(N39>10,N39*0.9,N39)) -> 0 | R39: =IF(Q39>0,IF(P39>0,(P39*O$3+Q39*10/3)/Q$3,Q39*10/3*(1-0.1*O$3)),IF(P39>10,P39*0.9,P39)) -> 0 | T39: =IF(S39>0,IF(R39>0,(R39*Q$3+S39*10/3)/S$3,S39*10/3*(1-0.1*Q$3)),IF(R39>10,R39*0.9,R39)) -> 0 | V39: =IF(U39>0,IF(T39>0,(T39*S$3+U39*10/3)/U$3,U39*10/3*(1-0.1*S$3)),IF(T39>10,T39*0.9,T39)) -> 0
A40: =A39+1 -> 36 | D40: =C40/3*10 -> 0 | E40: 15.6 | F40: =IF(E40>0,IF(D40>0,(D40*C$3+E40*10/3)/E$3,E40*10/3*(1-0.1*C$3)),IF(D40>10,D40*0.9,D40)) -> 46.8 | H40: =IF(G40>0,IF(F40>0,(F40*E$3+G40*10/3)/G$3,G40*10/3*(1-0.1*E$3)),IF(F40>10,F40*0.9,F40)) -> 42.12 | J40: =IF(I40>0,IF(H40>0,(H40*G$3+I40*10/3)/I$3,I40*10/3*(1-0.1*G$3)),IF(H40>10,H40*0.9,H40)) -> 37.908 | L40: =IF(K40>0,IF(J40>0,(J40*I$3+K40*10/3)/K$3,K40*10/3*(1-0.1*I$3)),IF(J40>10,J40*0.9,J40)) -> 34.1172 | N40: =IF(M40>0,IF(L40>0,(L40*K$3+M40*10/3)/M$3,M40*10/3*(1-0.1*K$3)),IF(L40>10,L40*0.9,L40)) -> 30.70548 | P40: =IF(O40>0,IF(N40>0,(N40*M$3+O40*10/3)/O$3,O40*10/3*(1-0.1*M$3)),IF(N40>10,N40*0.9,N40)) -> 27.634932 | R40: =IF(Q40>0,IF(P40>0,(P40*O$3+Q40*10/3)/Q$3,Q40*10/3*(1-0.1*O$3)),IF(P40>10,P40*0.9,P40)) -> 24.871439 | T40: =IF(S40>0,IF(R40>0,(R40*Q$3+S40*10/3)/S$3,S40*10/3*(1-0.1*Q$3)),IF(R40>10,R40*0.9,R40)) -> 22.384295 | V40: =IF(U40>0,IF(T40>0,(T40*S$3+U40*10/3)/U$3,U40*10/3*(1-0.1*S$3)),IF(T40>10,T40*0.9,T40)) -> 20.145865
A41: =A40+1 -> 37 | D41: =C41/3*10 -> 0 | F41: =IF(E41>0,IF(D41>0,(D41*C$3+E41*10/3)/E$3,E41*10/3*(1-0.1*C$3)),IF(D41>10,D41*0.9,D41)) -> 0 | H41: =IF(G41>0,IF(F41>0,(F41*E$3+G41*10/3)/G$3,G41*10/3*(1-0.1*E$3)),IF(F41>10,F41*0.9,F41)) -> 0 | J41: =IF(I41>0,IF(H41>0,(H41*G$3+I41*10/3)/I$3,I41*10/3*(1-0.1*G$3)),IF(H41>10,H41*0.9,H41)) -> 0 | L41: =IF(K41>0,IF(J41>0,(J41*I$3+K41*10/3)/K$3,K41*10/3*(1-0.1*I$3)),IF(J41>10,J41*0.9,J41)) -> 0 | M41: 16 | N41: =IF(M41>0,IF(L41>0,(L41*K$3+M41*10/3)/M$3,M41*10/3*(1-0.1*K$3)),IF(L41>10,L41*0.9,L41)) -> 26.666667 | P41: =IF(O41>0,IF(N41>0,(N41*M$3+O41*10/3)/O$3,O41*10/3*(1-0.1*M$3)),IF(N41>10,N41*0.9,N41)) -> 24 | R41: =IF(Q41>0,IF(P41>0,(P41*O$3+Q41*10/3)/Q$3,Q41*10/3*(1-0.1*O$3)),IF(P41>10,P41*0.9,P41)) -> 21.6 | T41: =IF(S41>0,IF(R41>0,(R41*Q$3+S41*10/3)/S$3,S41*10/3*(1-0.1*Q$3)),IF(R41>10,R41*0.9,R41)) -> 19.44 | V41: =IF(U41>0,IF(T41>0,(T41*S$3+U41*10/3)/U$3,U41*10/3*(1-0.1*S$3)),IF(T41>10,T41*0.9,T41)) -> 17.496
A42: =A41+1 -> 38 | D42: =C42/3*10 -> 0 | F42: =IF(E42>0,IF(D42>0,(D42*C$3+E42*10/3)/E$3,E42*10/3*(1-0.1*C$3)),IF(D42>10,D42*0.9,D42)) -> 0 | H42: =IF(G42>0,IF(F42>0,(F42*E$3+G42*10/3)/G$3,G42*10/3*(1-0.1*E$3)),IF(F42>10,F42*0.9,F42)) -> 0 | J42: =IF(I42>0,IF(H42>0,(H42*G$3+I42*10/3)/I$3,I42*10/3*(1-0.1*G$3)),IF(H42>10,H42*0.9,H42)) -> 0 | K42: 12 | L42: =IF(K42>0,IF(J42>0,(J42*I$3+K42*10/3)/K$3,K42*10/3*(1-0.1*I$3)),IF(J42>10,J42*0.9,J42)) -> 24 | N42: =IF(M42>0,IF(L42>0,(L42*K$3+M42*10/3)/M$3,M42*10/3*(1-0.1*K$3)),IF(L42>10,L42*0.9,L42)) -> 21.6 | P42: =IF(O42>0,IF(N42>0,(N42*M$3+O42*10/3)/O$3,O42*10/3*(1-0.1*M$3)),IF(N42>10,N42*0.9,N42)) -> 19.44 | R42: =IF(Q42>0,IF(P42>0,(P42*O$3+Q42*10/3)/Q$3,Q42*10/3*(1-0.1*O$3)),IF(P42>10,P42*0.9,P42)) -> 17.496 | T42: =IF(S42>0,IF(R42>0,(R42*Q$3+S42*10/3)/S$3,S42*10/3*(1-0.1*Q$3)),IF(R42>10,R42*0.9,R42)) -> 15.7464 | V42: =IF(U42>0,IF(T42>0,(T42*S$3+U42*10/3)/U$3,U42*10/3*(1-0.1*S$3)),IF(T42>10,T42*0.9,T42)) -> 14.17176
A43: =A42+1 -> 39 | D43: =C43/3*10 -> 0 | F43: =IF(E43>0,IF(D43>0,(D43*C$3+E43*10/3)/E$3,E43*10/3*(1-0.1*C$3)),IF(D43>10,D43*0.9,D43)) -> 0 | H43: =IF(G43>0,IF(F43>0,(F43*E$3+G43*10/3)/G$3,G43*10/3*(1-0.1*E$3)),IF(F43>10,F43*0.9,F43)) -> 0 | J43: =IF(I43>0,IF(H43>0,(H43*G$3+I43*10/3)/I$3,I43*10/3*(1-0.1*G$3)),IF(H43>10,H43*0.9,H43)) -> 0 | L43: =IF(K43>0,IF(J43>0,(J43*I$3+K43*10/3)/K$3,K43*10/3*(1-0.1*I$3)),IF(J43>10,J43*0.9,J43)) -> 0 | N43: =IF(M43>0,IF(L43>0,(L43*K$3+M43*10/3)/M$3,M43*10/3*(1-0.1*K$3)),IF(L43>10,L43*0.9,L43)) -> 0 | P43: =IF(O43>0,IF(N43>0,(N43*M$3+O43*10/3)/O$3,O43*10/3*(1-0.1*M$3)),IF(N43>10,N43*0.9,N43)) -> 0 | R43: =IF(Q43>0,IF(P43>0,(P43*O$3+Q43*10/3)/Q$3,Q43*10/3*(1-0.1*O$3)),IF(P43>10,P43*0.9,P43)) -> 0 | S43: 18 | T43: =IF(S43>0,IF(R43>0,(R43*Q$3+S43*10/3)/S$3,S43*10/3*(1-0.1*Q$3)),IF(R43>10,R43*0.9,R43)) -> 12 | V43: =IF(U43>0,IF(T43>0,(T43*S$3+U43*10/3)/U$3,U43*10/3*(1-0.1*S$3)),IF(T43>10,T43*0.9,T43)) -> 10.8
A44: =A43+1 -> 40 | D44: =C44/3*10 -> 0 | F44: =IF(E44>0,IF(D44>0,(D44*C$3+E44*10/3)/E$3,E44*10/3*(1-0.1*C$3)),IF(D44>10,D44*0.9,D44)) -> 0 | H44: =IF(G44>0,IF(F44>0,(F44*E$3+G44*10/3)/G$3,G44*10/3*(1-0.1*E$3)),IF(F44>10,F44*0.9,F44)) -> 0 | J44: =IF(I44>0,IF(H44>0,(H44*G$3+I44*10/3)/I$3,I44*10/3*(1-0.1*G$3)),IF(H44>10,H44*0.9,H44)) -> 0 | L44: =IF(K44>0,IF(J44>0,(J44*I$3+K44*10/3)/K$3,K44*10/3*(1-0.1*I$3)),IF(J44>10,J44*0.9,J44)) -> 0 | N44: =IF(M44>0,IF(L44>0,(L44*K$3+M44*10/3)/M$3,M44*10/3*(1-0.1*K$3)),IF(L44>10,L44*0.9,L44)) -> 0 | P44: =IF(O44>0,IF(N44>0,(N44*M$3+O44*10/3)/O$3,O44*10/3*(1-0.1*M$3)),IF(N44>10,N44*0.9,N44)) -> 0 | R44: =IF(Q44>0,IF(P44>0,(P44*O$3+Q44*10/3)/Q$3,Q44*10/3*(1-0.1*O$3)),IF(P44>10,P44*0.9,P44)) -> 0 | T44: =IF(S44>0,IF(R44>0,(R44*Q$3+S44*10/3)/S$3,S44*10/3*(1-0.1*Q$3)),IF(R44>10,R44*0.9,R44)) -> 0 | U44: 22.1 | V44: =IF(U44>0,IF(T44>0,(T44*S$3+U44*10/3)/U$3,U44*10/3*(1-0.1*S$3)),IF(T44>10,T44*0.9,T44)) -> 7.3666667
A45: =A44+1 -> 41 | D45: =C45/3*10 -> 0 | F45: =IF(E45>0,IF(D45>0,(D45*C$3+E45*10/3)/E$3,E45*10/3*(1-0.1*C$3)),IF(D45>10,D45*0.9,D45)) -> 0 | H45: =IF(G45>0,IF(F45>0,(F45*E$3+G45*10/3)/G$3,G45*10/3*(1-0.1*E$3)),IF(F45>10,F45*0.9,F45)) -> 0 | J45: =IF(I45>0,IF(H45>0,(H45*G$3+I45*10/3)/I$3,I45*10/3*(1-0.1*G$3)),IF(H45>10,H45*0.9,H45)) -> 0 | L45: =IF(K45>0,IF(J45>0,(J45*I$3+K45*10/3)/K$3,K45*10/3*(1-0.1*I$3)),IF(J45>10,J45*0.9,J45)) -> 0 | N45: =IF(M45>0,IF(L45>0,(L45*K$3+M45*10/3)/M$3,M45*10/3*(1-0.1*K$3)),IF(L45>10,L45*0.9,L45)) -> 0 | O45: 5.5 | P45: =IF(O45>0,IF(N45>0,(N45*M$3+O45*10/3)/O$3,O45*10/3*(1-0.1*M$3)),IF(N45>10,N45*0.9,N45)) -> 7.3333333 | R45: =IF(Q45>0,IF(P45>0,(P45*O$3+Q45*10/3)/Q$3,Q45*10/3*(1-0.1*O$3)),IF(P45>10,P45*0.9,P45)) -> 7.3333333 | T45: =IF(S45>0,IF(R45>0,(R45*Q$3+S45*10/3)/S$3,S45*10/3*(1-0.1*Q$3)),IF(R45>10,R45*0.9,R45)) -> 7.3333333 | V45: =IF(U45>0,IF(T45>0,(T45*S$3+U45*10/3)/U$3,U45*10/3*(1-0.1*S$3)),IF(T45>10,T45*0.9,T45)) -> 7.3333333
A46: =A45+1 -> 42 | D46: =C46/3*10 -> 0 | F46: =IF(E46>0,IF(D46>0,(D46*C$3+E46*10/3)/E$3,E46*10/3*(1-0.1*C$3)),IF(D46>10,D46*0.9,D46)) -> 0 | H46: =IF(G46>0,IF(F46>0,(F46*E$3+G46*10/3)/G$3,G46*10/3*(1-0.1*E$3)),IF(F46>10,F46*0.9,F46)) -> 0 | J46: =IF(I46>0,IF(H46>0,(H46*G$3+I46*10/3)/I$3,I46*10/3*(1-0.1*G$3)),IF(H46>10,H46*0.9,H46)) -> 0 | L46: =IF(K46>0,IF(J46>0,(J46*I$3+K46*10/3)/K$3,K46*10/3*(1-0.1*I$3)),IF(J46>10,J46*0.9,J46)) -> 0 | N46: =IF(M46>0,IF(L46>0,(L46*K$3+M46*10/3)/M$3,M46*10/3*(1-0.1*K$3)),IF(L46>10,L46*0.9,L46)) -> 0 | P46: =IF(O46>0,IF(N46>0,(N46*M$3+O46*10/3)/O$3,O46*10/3*(1-0.1*M$3)),IF(N46>10,N46*0.9,N46)) -> 0 | R46: =IF(Q46>0,IF(P46>0,(P46*O$3+Q46*10/3)/Q$3,Q46*10/3*(1-0.1*O$3)),IF(P46>10,P46*0.9,P46)) -> 0 | T46: =IF(S46>0,IF(R46>0,(R46*Q$3+S46*10/3)/S$3,S46*10/3*(1-0.1*Q$3)),IF(R46>10,R46*0.9,R46)) -> 0 | U46: 16.7 | V46: =IF(U46>0,IF(T46>0,(T46*S$3+U46*10/3)/U$3,U46*10/3*(1-0.1*S$3)),IF(T46>10,T46*0.9,T46)) -> 5.5666667
A47: =A46+1 -> 43 | D47: =C47/3*10 -> 0 | F47: =IF(E47>0,IF(D47>0,(D47*C$3+E47*10/3)/E$3,E47*10/3*(1-0.1*C$3)),IF(D47>10,D47*0.9,D47)) -> 0 | H47: =IF(G47>0,IF(F47>0,(F47*E$3+G47*10/3)/G$3,G47*10/3*(1-0.1*E$3)),IF(F47>10,F47*0.9,F47)) -> 0 | J47: =IF(I47>0,IF(H47>0,(H47*G$3+I47*10/3)/I$3,I47*10/3*(1-0.1*G$3)),IF(H47>10,H47*0.9,H47)) -> 0 | L47: =IF(K47>0,IF(J47>0,(J47*I$3+K47*10/3)/K$3,K47*10/3*(1-0.1*I$3)),IF(J47>10,J47*0.9,J47)) -> 0 | N47: =IF(M47>0,IF(L47>0,(L47*K$3+M47*10/3)/M$3,M47*10/3*(1-0.1*K$3)),IF(L47>10,L47*0.9,L47)) -> 0 | P47: =IF(O47>0,IF(N47>0,(N47*M$3+O47*10/3)/O$3,O47*10/3*(1-0.1*M$3)),IF(N47>10,N47*0.9,N47)) -> 0 | R47: =IF(Q47>0,IF(P47>0,(P47*O$3+Q47*10/3)/Q$3,Q47*10/3*(1-0.1*O$3)),IF(P47>10,P47*0.9,P47)) -> 0 | T47: =IF(S47>0,IF(R47>0,(R47*Q$3+S47*10/3)/S$3,S47*10/3*(1-0.1*Q$3)),IF(R47>10,R47*0.9,R47)) -> 0 | V47: =IF(U47>0,IF(T47>0,(T47*S$3+U47*10/3)/U$3,U47*10/3*(1-0.1*S$3)),IF(T47>10,T47*0.9,T47)) -> 0
A48: =A47+1 -> 44 | D48: =C48/3*10 -> 0 | F48: =IF(E48>0,IF(D48>0,(D48*C$3+E48*10/3)/E$3,E48*10/3*(1-0.1*C$3)),IF(D48>10,D48*0.9,D48)) -> 0 | H48: =IF(G48>0,IF(F48>0,(F48*E$3+G48*10/3)/G$3,G48*10/3*(1-0.1*E$3)),IF(F48>10,F48*0.9,F48)) -> 0 | J48: =IF(I48>0,IF(H48>0,(H48*G$3+I48*10/3)/I$3,I48*10/3*(1-0.1*G$3)),IF(H48>10,H48*0.9,H48)) -> 0 | L48: =IF(K48>0,IF(J48>0,(J48*I$3+K48*10/3)/K$3,K48*10/3*(1-0.1*I$3)),IF(J48>10,J48*0.9,J48)) -> 0 | N48: =IF(M48>0,IF(L48>0,(L48*K$3+M48*10/3)/M$3,M48*10/3*(1-0.1*K$3)),IF(L48>10,L48*0.9,L48)) -> 0 | P48: =IF(O48>0,IF(N48>0,(N48*M$3+O48*10/3)/O$3,O48*10/3*(1-0.1*M$3)),IF(N48>10,N48*0.9,N48)) -> 0 | R48: =IF(Q48>0,IF(P48>0,(P48*O$3+Q48*10/3)/Q$3,Q48*10/3*(1-0.1*O$3)),IF(P48>10,P48*0.9,P48)) -> 0 | T48: =IF(S48>0,IF(R48>0,(R48*Q$3+S48*10/3)/S$3,S48*10/3*(1-0.1*Q$3)),IF(R48>10,R48*0.9,R48)) -> 0 | V48: =IF(U48>0,IF(T48>0,(T48*S$3+U48*10/3)/U$3,U48*10/3*(1-0.1*S$3)),IF(T48>10,T48*0.9,T48)) -> 0
A49: =A48+1 -> 45 | D49: =C49/3*10 -> 0 | F49: =IF(E49>0,IF(D49>0,(D49*C$3+E49*10/3)/E$3,E49*10/3*(1-0.1*C$3)),IF(D49>10,D49*0.9,D49)) -> 0 | H49: =IF(G49>0,IF(F49>0,(F49*E$3+G49*10/3)/G$3,G49*10/3*(1-0.1*E$3)),IF(F49>10,F49*0.9,F49)) -> 0 | J49: =IF(I49>0,IF(H49>0,(H49*G$3+I49*10/3)/I$3,I49*10/3*(1-0.1*G$3)),IF(H49>10,H49*0.9,H49)) -> 0 | L49: =IF(K49>0,IF(J49>0,(J49*I$3+K49*10/3)/K$3,K49*10/3*(1-0.1*I$3)),IF(J49>10,J49*0.9,J49)) -> 0 | N49: =IF(M49>0,IF(L49>0,(L49*K$3+M49*10/3)/M$3,M49*10/3*(1-0.1*K$3)),IF(L49>10,L49*0.9,L49)) -> 0 | P49: =IF(O49>0,IF(N49>0,(N49*M$3+O49*10/3)/O$3,O49*10/3*(1-0.1*M$3)),IF(N49>10,N49*0.9,N49)) -> 0 | R49: =IF(Q49>0,IF(P49>0,(P49*O$3+Q49*10/3)/Q$3,Q49*10/3*(1-0.1*O$3)),IF(P49>10,P49*0.9,P49)) -> 0 | T49: =IF(S49>0,IF(R49>0,(R49*Q$3+S49*10/3)/S$3,S49*10/3*(1-0.1*Q$3)),IF(R49>10,R49*0.9,R49)) -> 0 | V49: =IF(U49>0,IF(T49>0,(T49*S$3+U49*10/3)/U$3,U49*10/3*(1-0.1*S$3)),IF(T49>10,T49*0.9,T49)) -> 0
A50: =A49+1 -> 46 | D50: =C50/3*10 -> 0 | F50: =IF(E50>0,IF(D50>0,(D50*C$3+E50*10/3)/E$3,E50*10/3*(1-0.1*C$3)),IF(D50>10,D50*0.9,D50)) -> 0 | H50: =IF(G50>0,IF(F50>0,(F50*E$3+G50*10/3)/G$3,G50*10/3*(1-0.1*E$3)),IF(F50>10,F50*0.9,F50)) -> 0 | J50: =IF(I50>0,IF(H50>0,(H50*G$3+I50*10/3)/I$3,I50*10/3*(1-0.1*G$3)),IF(H50>10,H50*0.9,H50)) -> 0 | L50: =IF(K50>0,IF(J50>0,(J50*I$3+K50*10/3)/K$3,K50*10/3*(1-0.1*I$3)),IF(J50>10,J50*0.9,J50)) -> 0 | N50: =IF(M50>0,IF(L50>0,(L50*K$3+M50*10/3)/M$3,M50*10/3*(1-0.1*K$3)),IF(L50>10,L50*0.9,L50)) -> 0 | P50: =IF(O50>0,IF(N50>0,(N50*M$3+O50*10/3)/O$3,O50*10/3*(1-0.1*M$3)),IF(N50>10,N50*0.9,N50)) -> 0 | R50: =IF(Q50>0,IF(P50>0,(P50*O$3+Q50*10/3)/Q$3,Q50*10/3*(1-0.1*O$3)),IF(P50>10,P50*0.9,P50)) -> 0 | T50: =IF(S50>0,IF(R50>0,(R50*Q$3+S50*10/3)/S$3,S50*10/3*(1-0.1*Q$3)),IF(R50>10,R50*0.9,R50)) -> 0 | V50: =IF(U50>0,IF(T50>0,(T50*S$3+U50*10/3)/U$3,U50*10/3*(1-0.1*S$3)),IF(T50>10,T50*0.9,T50)) -> 0
A51: 45 | D51: =C51/3*10 -> 0 | F51: =IF(E51>0,IF(D51>0,(D51*C$3+E51*10/3)/E$3,E51*10/3*(1-0.1*C$3)),IF(D51>10,D51*0.9,D51)) -> 0 | H51: =IF(G51>0,IF(F51>0,(F51*E$3+G51*10/3)/G$3,G51*10/3*(1-0.1*E$3)),IF(F51>10,F51*0.9,F51)) -> 0 | J51: =IF(I51>0,IF(H51>0,(H51*G$3+I51*10/3)/I$3,I51*10/3*(1-0.1*G$3)),IF(H51>10,H51*0.9,H51)) -> 0 | L51: =IF(K51>0,IF(J51>0,(J51*I$3+K51*10/3)/K$3,K51*10/3*(1-0.1*I$3)),IF(J51>10,J51*0.9,J51)) -> 0 | N51: =IF(M51>0,IF(L51>0,(L51*K$3+M51*10/3)/M$3,M51*10/3*(1-0.1*K$3)),IF(L51>10,L51*0.9,L51)) -> 0 | P51: =IF(O51>0,IF(N51>0,(N51*M$3+O51*10/3)/O$3,O51*10/3*(1-0.1*M$3)),IF(N51>10,N51*0.9,N51)) -> 0 | R51: =IF(Q51>0,IF(P51>0,(P51*O$3+Q51*10/3)/Q$3,Q51*10/3*(1-0.1*O$3)),IF(P51>10,P51*0.9,P51)) -> 0 | T51: =IF(S51>0,IF(R51>0,(R51*Q$3+S51*10/3)/S$3,S51*10/3*(1-0.1*Q$3)),IF(R51>10,R51*0.9,R51)) -> 0 | V51: =IF(U51>0,IF(T51>0,(T51*S$3+U51*10/3)/U$3,U51*10/3*(1-0.1*S$3)),IF(T51>10,T51*0.9,T51)) -> 0
A52: =A51+1 -> 46 | D52: =C52/3*10 -> 0 | F52: =IF(E52>0,IF(D52>0,(D52*C$3+E52*10/3)/E$3,E52*10/3*(1-0.1*C$3)),IF(D52>10,D52*0.9,D52)) -> 0 | H52: =IF(G52>0,IF(F52>0,(F52*E$3+G52*10/3)/G$3,G52*10/3*(1-0.1*E$3)),IF(F52>10,F52*0.9,F52)) -> 0 | J52: =IF(I52>0,IF(H52>0,(H52*G$3+I52*10/3)/I$3,I52*10/3*(1-0.1*G$3)),IF(H52>10,H52*0.9,H52)) -> 0 | L52: =IF(K52>0,IF(J52>0,(J52*I$3+K52*10/3)/K$3,K52*10/3*(1-0.1*I$3)),IF(J52>10,J52*0.9,J52)) -> 0 | N52: =IF(M52>0,IF(L52>0,(L52*K$3+M52*10/3)/M$3,M52*10/3*(1-0.1*K$3)),IF(L52>10,L52*0.9,L52)) -> 0 | P52: =IF(O52>0,IF(N52>0,(N52*M$3+O52*10/3)/O$3,O52*10/3*(1-0.1*M$3)),IF(N52>10,N52*0.9,N52)) -> 0 | R52: =IF(Q52>0,IF(P52>0,(P52*O$3+Q52*10/3)/Q$3,Q52*10/3*(1-0.1*O$3)),IF(P52>10,P52*0.9,P52)) -> 0 | T52: =IF(S52>0,IF(R52>0,(R52*Q$3+S52*10/3)/S$3,S52*10/3*(1-0.1*Q$3)),IF(R52>10,R52*0.9,R52)) -> 0 | V52: =IF(U52>0,IF(T52>0,(T52*S$3+U52*10/3)/U$3,U52*10/3*(1-0.1*S$3)),IF(T52>10,T52*0.9,T52)) -> 0
A53: =A52+1 -> 47 | D53: =C53/3*10 -> 0 | F53: =IF(E53>0,IF(D53>0,(D53*C$3+E53*10/3)/E$3,E53*10/3*(1-0.1*C$3)),IF(D53>10,D53*0.9,D53)) -> 0 | H53: =IF(G53>0,IF(F53>0,(F53*E$3+G53*10/3)/G$3,G53*10/3*(1-0.1*E$3)),IF(F53>10,F53*0.9,F53)) -> 0 | J53: =IF(I53>0,IF(H53>0,(H53*G$3+I53*10/3)/I$3,I53*10/3*(1-0.1*G$3)),IF(H53>10,H53*0.9,H53)) -> 0 | L53: =IF(K53>0,IF(J53>0,(J53*I$3+K53*10/3)/K$3,K53*10/3*(1-0.1*I$3)),IF(J53>10,J53*0.9,J53)) -> 0 | N53: =IF(M53>0,IF(L53>0,(L53*K$3+M53*10/3)/M$3,M53*10/3*(1-0.1*K$3)),IF(L53>10,L53*0.9,L53)) -> 0 | P53: =IF(O53>0,IF(N53>0,(N53*M$3+O53*10/3)/O$3,O53*10/3*(1-0.1*M$3)),IF(N53>10,N53*0.9,N53)) -> 0 | R53: =IF(Q53>0,IF(P53>0,(P53*O$3+Q53*10/3)/Q$3,Q53*10/3*(1-0.1*O$3)),IF(P53>10,P53*0.9,P53)) -> 0 | T53: =IF(S53>0,IF(R53>0,(R53*Q$3+S53*10/3)/S$3,S53*10/3*(1-0.1*Q$3)),IF(R53>10,R53*0.9,R53)) -> 0 | V53: =IF(U53>0,IF(T53>0,(T53*S$3+U53*10/3)/U$3,U53*10/3*(1-0.1*S$3)),IF(T53>10,T53*0.9,T53)) -> 0
A54: =A53+1 -> 48 | P54: =IF(O54>0,IF(N54>0,(N54*M$3+O54*10/3)/O$3,O54*10/3*(1-0.1*M$3)),IF(N54>10,N54*0.9,N54)) -> 0 | R54: =IF(Q54>0,IF(P54>0,(P54*O$3+Q54*10/3)/Q$3,Q54*10/3*(1-0.1*O$3)),IF(P54>10,P54*0.9,P54)) -> 0 | T54: =IF(S54>0,IF(R54>0,(R54*Q$3+S54*10/3)/S$3,S54*10/3*(1-0.1*Q$3)),IF(R54>10,R54*0.9,R54)) -> 0 | V54: =IF(U54>0,IF(T54>0,(T54*S$3+U54*10/3)/U$3,U54*10/3*(1-0.1*S$3)),IF(T54>10,T54*0.9,T54)) -> 0
A55: =A54+1 -> 49 | T55: =IF(S55>0,IF(R55>0,(R55*Q$3+S55*10/3)/S$3,S55*10/3*(1-0.1*Q$3)),IF(R55>10,R55*0.9,R55)) -> 0 | V55: =IF(U55>0,IF(T55>0,(T55*S$3+U55*10/3)/U$3,U55*10/3*(1-0.1*S$3)),IF(T55>10,T55*0.9,T55)) -> 0
A56: =A55+1 -> 50 | P56: =IF(O56>0,IF(N56>0,(N56*M$3+O56*10/3)/O$3,O56*10/3*(1-0.1*M$3)),IF(N56>10,N56*0.9,N56)) -> 0 | R56: =IF(Q56>0,IF(P56>0,(P56*O$3+Q56*10/3)/Q$3,Q56*10/3*(1-0.1*O$3)),IF(P56>10,P56*0.9,P56)) -> 0 | T56: =IF(S56>0,IF(R56>0,(R56*Q$3+S56*10/3)/S$3,S56*10/3*(1-0.1*Q$3)),IF(R56>10,R56*0.9,R56)) -> 0 | V56: =IF(U56>0,IF(T56>0,(T56*S$3+U56*10/3)/U$3,U56*10/3*(1-0.1*S$3)),IF(T56>10,T56*0.9,T56)) -> 0
A57: =A56+1 -> 51 | T57: =IF(S57>0,IF(R57>0,(R57*Q$3+S57*10/3)/S$3,S57*10/3*(1-0.1*Q$3)),IF(R57>10,R57*0.9,R57)) -> 0 | V57: =IF(U57>0,IF(T57>0,(T57*S$3+U57*10/3)/U$3,U57*10/3*(1-0.1*S$3)),IF(T57>10,T57*0.9,T57)) -> 0
A58: =A57+1 -> 52 | T58: =IF(S58>0,IF(R58>0,(R58*Q$3+S58*10/3)/S$3,S58*10/3*(1-0.1*Q$3)),IF(R58>10,R58*0.9,R58)) -> 0 | V58: =IF(U58>0,IF(T58>0,(T58*S$3+U58*10/3)/U$3,U58*10/3*(1-0.1*S$3)),IF(T58>10,T58*0.9,T58)) -> 0
A59: =A58+1 -> 53 | T59: =IF(S59>0,IF(R59>0,(R59*Q$3+S59*10/3)/S$3,S59*10/3*(1-0.1*Q$3)),IF(R59>10,R59*0.9,R59)) -> 0 | V59: =IF(U59>0,IF(T59>0,(T59*S$3+U59*10/3)/U$3,U59*10/3*(1-0.1*S$3)),IF(T59>10,T59*0.9,T59)) -> 0
A60: 56 | T60: =IF(S60>0,IF(R60>0,(R60*Q$3+S60*10/3)/S$3,S60*10/3*(1-0.1*Q$3)),IF(R60>10,R60*0.9,R60)) -> 0 | V60: =IF(U60>0,IF(T60>0,(T60*S$3+U60*10/3)/U$3,U60*10/3*(1-0.1*S$3)),IF(T60>10,T60*0.9,T60)) -> 0
A61: 57 | T61: =IF(S61>0,IF(R61>0,(R61*Q$3+S61*10/3)/S$3,S61*10/3*(1-0.1*Q$3)),IF(R61>10,R61*0.9,R61)) -> 0 | V61: =IF(U61>0,IF(T61>0,(T61*S$3+U61*10/3)/U$3,U61*10/3*(1-0.1*S$3)),IF(T61>10,T61*0.9,T61)) -> 0
A62: 58 | T62: =IF(S62>0,IF(R62>0,(R62*Q$3+S62*10/3)/S$3,S62*10/3*(1-0.1*Q$3)),IF(R62>10,R62*0.9,R62)) -> 0 | V62: =IF(U62>0,IF(T62>0,(T62*S$3+U62*10/3)/U$3,U62*10/3*(1-0.1*S$3)),IF(T62>10,T62*0.9,T62)) -> 0
A63: 59 | T63: =IF(S63>0,IF(R63>0,(R63*Q$3+S63*10/3)/S$3,S63*10/3*(1-0.1*Q$3)),IF(R63>10,R63*0.9,R63)) -> 0 | V63: =IF(U63>0,IF(T63>0,(T63*S$3+U63*10/3)/U$3,U63*10/3*(1-0.1*S$3)),IF(T63>10,T63*0.9,T63)) -> 0
A64: 60 | T64: =IF(S64>0,IF(R64>0,(R64*Q$3+S64*10/3)/S$3,S64*10/3*(1-0.1*Q$3)),IF(R64>10,R64*0.9,R64)) -> 0 | V64: =IF(U64>0,IF(T64>0,(T64*S$3+U64*10/3)/U$3,U64*10/3*(1-0.1*S$3)),IF(T64>10,T64*0.9,T64)) -> 0
A65: 61 | V65: =IF(U65>0,IF(T65>0,(T65*S$3+U65*10/3)/U$3,U65*10/3*(1-0.1*S$3)),IF(T65>10,T65*0.9,T65)) -> 0
A66: 62 | V66: =IF(U66>0,IF(T66>0,(T66*S$3+U66*10/3)/U$3,U66*10/3*(1-0.1*S$3)),IF(T66>10,T66*0.9,T66)) -> 0
A67: 63 | V67: =IF(U67>0,IF(T67>0,(T67*S$3+U67*10/3)/U$3,U67*10/3*(1-0.1*S$3)),IF(T67>10,T67*0.9,T67)) -> 0
A68: 64 | V68: =IF(U68>0,IF(T68>0,(T68*S$3+U68*10/3)/U$3,U68*10/3*(1-0.1*S$3)),IF(T68>10,T68*0.9,T68)) -> 0
A69: 65 | V69: =IF(U69>0,IF(T69>0,(T69*S$3+U69*10/3)/U$3,U69*10/3*(1-0.1*S$3)),IF(T69>10,T69*0.9,T69)) -> 0
A70: 66
A71: 67 | T71: =IF(S71>0,IF(R71>0,(R71*Q$3+S71*10/3)/S$3,S71*10/3*(1-0.1*Q$3)),IF(R71>10,R71*0.9,R71)) -> 0
A72: 68 | T72: =IF(S72>0,IF(R72>0,(R72*Q$3+S72*10/3)/S$3,S72*10/3*(1-0.1*Q$3)),IF(R72>10,R72*0.9,R72)) -> 0
A73: 69 | P73: =IF(O73>0,IF(N73>0,(N73*M$3+O73*10/3)/O$3,O73*10/3*(1-0.1*M$3)),IF(N73>10,N73*0.9,N73)) -> 0 | T73: =IF(S73>0,IF(R73>0,(R73*Q$3+S73*10/3)/S$3,S73*10/3*(1-0.1*Q$3)),IF(R73>10,R73*0.9,R73)) -> 0
A74: Лига Чемпионов проводится каждую среду в 20.30
A75: К участию приглашаются все желающие, чье время круга не более 3 секунд медленнее рекорда трассы.

Sheet Очки
A2: 6-12 | B2: группа | E2: 13-14 | F2: группа | I2: 15-16 | J2: группа | M2: 17-18 | N2: группа | Q2: 19-20 | R2: группа | U2: 21-22 | V2: группа | Y2: 23-24 | Z2: группа | AC2: 23-24 | AD2: группа | AG2: 28 человек
A3: Место | B3: 1 | E3: Место | F3: 1 | G3: 2 | I3: Место | J3: 1 | K3: 2 | M3: Место | N3: 1 | O3: 2 | Q3: Место | R3: 1 | S3: 2 | U3: Место | V3: 1 | W3: 2 | Y3: Место | Z3: 1 | AA3: 2 | AC3: Место | AD3: 1 | AE3: 2 | AH3: I | AI3: II | AJ3: III
A4: 1 | B4: 16 | E4: 1 | F4: 16 | G4: 12 | I4: 1 | J4: 16 | K4: 11.5 | M4: 1 | N4: 16 | O4: 11 | Q4: 1 | R4: 16 | S4: 10.5 | U4: 1 | V4: 16 | W4: 10 | Y4: 1 | Z4: 16 | AA4: 9.5 | AC4: 1 | AD4: 16 | AE4: 9.5 | AG4: 1 | AH4: 17 | AI4: 11.5 | AJ4: 6.5
A5: 2 | B5: 15 | E5: 2 | F5: 15 | G5: 11 | I5: 2 | J5: 15 | K5: 10.5 | M5: 2 | N5: 15 | O5: 10 | Q5: 2 | R5: 15 | S5: 9.5 | U5: 2 | V5: 15 | W5: 9 | Y5: 2 | Z5: 15 | AA5: 8.5 | AC5: 2 | AD5: 15 | AE5: 8.5 | AG5: 2 | AH5: 16 | AI5: 10.5 | AJ5: 5.5
A6: 3 | B6: 14 | E6: 3 | F6: 14 | G6: 10 | I6: 3 | J6: 14 | K6: 9.5 | M6: 3 | N6: 14 | O6: 9 | Q6: 3 | R6: 14 | S6: 8.5 | U6: 3 | V6: 14 | W6: 8 | Y6: 3 | Z6: 14 | AA6: 7.5 | AC6: 3 | AD6: 14 | AE6: 7.5 | AG6: 3 | AH6: 15 | AI6: 9.5 | AJ6: 4.5
A7: 4 | B7: 13 | E7: 4 | F7: 13 | G7: 9 | I7: 4 | J7: 13 | K7: 8.5 | M7: 4 | N7: 13 | O7: 8 | Q7: 4 | R7: 13 | S7: 7.5 | U7: 4 | V7: 13 | W7: 7 | Y7: 4 | Z7: 13 | AA7: 6.5 | AC7: 4 | AD7: 13 | AE7: 6.5 | AG7: 4 | AH7: 14 | AI7: 8.5 | AJ7: 3.5
A8: 5 | B8: 12 | E8: 5 | F8: 12 | G8: 8 | I8: 5 | J8: 12 | K8: 7.5 | M8: 5 | N8: 12 | O8: 7 | Q8: 5 | R8: 12 | S8: 6.5 | U8: 5 | V8: 12 | W8: 6 | Y8: 5 | Z8: 12 | AA8: 5.5 | AC8: 5 | AD8: 12 | AE8: 5.5 | AG8: 5 | AH8: 13 | AI8: 7.5 | AJ8: 2.5
A9: 6 | B9: 11.5 | E9: 6 | F9: 11.5 | G9: 7.5 | I9: 6 | J9: 11.5 | K9: 7 | M9: 6 | N9: 11.5 | O9: 6.5 | Q9: 6 | R9: 11.5 | S9: 6 | U9: 6 | V9: 11.5 | W9: 5.5 | Y9: 6 | Z9: 11.5 | AA9: 5 | AC9: 6 | AD9: 11.5 | AE9: 5 | AG9: 6 | AH9: 12.5 | AI9: 7 | AJ9: 2
A10: 7 | B10: 11 | E10: 7 | F10: 11 | G10: 7 | I10: 7 | J10: 11 | K10: 6.5 | M10: 7 | N10: 11 | O10: 6 | Q10: 7 | R10: 11 | S10: 5.5 | U10: 7 | V10: 11 | W10: 5 | Y10: 7 | Z10: 11 | AA10: 4.5 | AC10: 7 | AD10: 11 | AE10: 4.5 | AG10: 7 | AH10: 12 | AI10: 6.5 | AJ10: 1.5
A11: 8 | B11: 10.5 | I11: 8 | J11: 10.5 | K11: 6 | M11: 8 | N11: 10.5 | O11: 5.5 | Q11: 8 | R11: 10.5 | S11: 5 | U11: 8 | V11: 10.5 | W11: 4.5 | Y11: 8 | Z11: 10.5 | AA11: 4 | AC11: 8 | AD11: 10.5 | AE11: 4 | AG11: 8 | AH11: 11.5 | AI11: 6 | AJ11: 1
A12: 9 | B12: 10 | M12: 9 | N12: 10 | O12: 5 | Q12: 9 | R12: 10 | S12: 4.5 | U12: 9 | V12: 10 | W12: 4 | Y12: 9 | Z12: 10 | AA12: 3.5 | AC12: 9 | AD12: 10 | AE12: 3.5 | AG12: 9 | AH12: 11 | AI12: 5.5 | AJ12: 0.5
A13: 10 | B13: 9.5 | Q13: 10 | R13: 9.5 | S13: 4 | U13: 10 | V13: 9.5 | W13: 3.5 | Y13: 10 | Z13: 9.5 | AA13: 3 | AC13: 10 | AD13: 9.5 | AE13: 3 | AG13: 10 | AH13: 10.5
A14: 11 | B14: 9 | U14: 11 | V14: 9 | W14: 3 | Y14: 11 | Z14: 9 | AA14: 2.5 | AC14: 11 | AD14: 9 | AE14: 2.5
A15: 12 | B15: 8.5 | Y15: 12 | Z15: 8.5 | AA15: 2 | AC15: 12 | AD15: 8.5 | AE15: 2
A16: 13 | B16: 8 | AC16: 13 | AD16: 8 | AE16: 1.5
B18: Обгоны для 1 группы более 10 человек | P18: ОБГОНЫ
B19: с 13 | C19: с 12 | D19: с 11 | E19: с 10 | F19: с 9 | G19: с 8 | H19: с 7 | I19: с 6 | J19: с 5 | K19: с 4 | L19: с 3 | M19: со 2 | P19: I гр | AA19: II гр | AB19: III гр
A20: 1 | B20: 1.3 | C20: 1.3 | D20: 1.2 | E20: 1.1 | F20: 1 | G20: 0.9 | H20: 0.8 | I20: 0.7 | J20: 0.6 | K20: 0.6 | L20: 0.5 | M20: 0.5 | P20: с 12 | Q20: с 11 | R20: с 10 | S20: с 9 | T20: с 8 | U20: с 7 | V20: с 6 | W20: с 5 | X20: с 4 | Y20: с 3 | Z20: со 2
A21: 2 | B21: 2.6 | C21: 2.5 | D21: 2.3 | E21: 2.1 | F21: 1.9 | G21: 1.7 | H21: 1.5 | I21: 1.3 | J21: =J20+K20 -> 1.2 | K21: =K20+L20 -> 1.1 | L21: =L20+M20 -> 1 | O21: 1.4 | P21: 1.3 | Q21: 1.3 | R21: 1.3 | S21: 1.2 | T21: 1.2 | U21: 1.1 | V21: 1 | W21: 0.9 | X21: 0.8 | Y21: 0.7 | Z21: 0.7 | AA21: 0.7 | AB21: 0.5
A22: 3 | B22: 3.8 | C22: 3.6 | D22: 3.3 | E22: 3 | F22: 2.7 | G22: 2.4 | H22: 2.1 | I22: 1.9 | J22: =J21+L20 -> 1.7 | K22: =K21+M20 -> 1.6 | O22: =O21+P21 -> 2.7 | P22: =P21+Q21 -> 2.6 | Q22: =Q21+R21 -> 2.6 | R22: =R21+S21 -> 2.5 | S22: =S21+T21 -> 2.4 | T22: =T21+U21 -> 2.3 | U22: =U21+V21 -> 2.1 | V22: =V21+W21 -> 1.9 | ... Y22: =Y21+Z21 -> 1.4 | AA22: 1.4 | AB22: 1
A23: 4 | B23: 4.9 | C23: 4.6 | D23: 4.2 | E23: 3.8 | F23: 3.4 | G23: 3 | H23: 2.7 | I23: 2.4 | J23: =J22+M20 -> 2.2 | O23: =O22+Q21 -> 4 | P23: =P22+R21 -> 3.9 | Q23: =Q22+S21 -> 3.8 | R23: =R22+T21 -> 3.7 | S23: =S22+U21 -> 3.5 | T23: =T22+V21 -> 3.3 | U23: =U22+W21 -> 3 | V23: =V22+X21 -> 2.7 | ... X23: =X22+Z21 -> 2.2 | AA23: 2.1 | AB23: 1.5
A24: 5 | B24: 5.9 | C24: 5.5 | D24: =D23+H20 -> 5 | E24: 4.5 | F24: 4 | G24: 3.6 | H24: 3.2 | I24: 2.9 | O24: =O23+R21 -> 5.3 | P24: =P23+S21 -> 5.1 | Q24: =Q23+T21 -> 5 | R24: =R23+U21 -> 4.8 | S24: =S23+V21 -> 4.5 | T24: =T23+W21 -> 4.2 | U24: =U23+X21 -> 3.8 | V24: =V23+Y21 -> 3.4 | W24: =W23+Z21 -> 3.1 | AA24: 2.8 | AB24: 2
A25: 6 | B25: 6.8 | C25: 6.3 | D25: 5.7 | E25: 5.1 | F25: 4.6 | G25: 4.1 | H25: 3.7 | O25: =O24+S21 -> 6.5 | P25: =P24+T21 -> 6.3 | Q25: =Q24+U21 -> 6.1 | R25: =R24+V21 -> 5.8 | S25: =S24+W21 -> 5.4 | T25: =T24+X21 -> 5 | U25: =U24+Y21 -> 4.5 | V25: =V24+Z21 -> 4.1 | AA25: 3.5 | AB25: 2.5
A26: 7 | B26: 7.6 | C26: 7 | D26: 6.3 | E26: 5.7 | F26: 5.1 | G26: 4.6 | O26: =O25+T21 -> 7.7 | P26: =P25+U21 -> 7.4 | Q26: =Q25+V21 -> 7.1 | R26: =R25+W21 -> 6.7 | S26: =S25+X21 -> 6.2 | T26: =T25+Y21 -> 5.7 | U26: =U25+Z21 -> 5.2 | AA26: 4.2 | AB26: 3
A27: 8 | B27: 8.3 | C27: 7.6 | D27: 6.9 | E27: 6.2 | F27: 5.6 | O27: =O26+U21 -> 8.8 | P27: =P26+V21 -> 8.4 | Q27: =Q26+W21 -> 8 | R27: =R26+X21 -> 7.5 | S27: =S26+Y21 -> 6.9 | T27: =T26+Z21 -> 6.4 | AA27: 4.9 | AB27: 3.5
A28: 9 | B28: 8.9 | C28: 8.2 | D28: 7.4 | E28: 6.7 | O28: =O27+V21 -> 9.8 | P28: =P27+W21 -> 9.3 | Q28: =Q27+X21 -> 8.8 | R28: =R27+Y21 -> 8.2 | S28: =S27+Z21 -> 7.6 | AA28: 5.6 | AB28: 4
A29: 10 | B29: 9.5 | C29: 8.7 | D29: 7.9 | O29: =O28+W21 -> 10.7 | P29: =P28+X21 -> 10.1 | Q29: =Q28+Y21 -> 9.5 | R29: =R28+Z21 -> 8.9 | AA29: 6.3 | AB29: 4.5
A30: 11 | B30: 10 | C30: 9.2 | O30: =O29+X21 -> 11.5 | P30: =P29+Y21 -> 10.8 | Q30: =Q29+Z21 -> 10.2 | AA30: 7 | AB30: 5
A31: 12 | B31: 10.5 | O31: =O30+Y21 -> 12.2 | P31: =P30+Z21 -> 11.5 | AA31: 7.7 | AB31: 5.5
O32: =O31+Z21 -> 12.9

Sheet 19.06
A1: Лига III-й сезон 28.08.2019 конфиг 9
A3: Место | B3: Участник | D3: 1 | G3: 2 | J3: 3 | M3: Очки | AA3: =SUM(M3:Z3) -> 0 | AB3: Сумма
C4: Довес | D4: группа | E4: Старт | F4: Финиш | G4: группа | H4: Старт | I4: Финиш | J4: группа | K4: Старт | L4: Финиш | M4: Квала | N4: 1 | R4: 2 | V4: 3
N5: очки | O5: обгоны | P5: время | Q5: штрафы | R5: очки | S5: обгоны | T5: время | U5: штрафы | V5: очки | W5: обгоны | X5: время | Y5: штрафы | Z5: 4
A6: =RANK(AB6,AB$6:OFFSET(AB$6,0,0,COUNTA(B$6:B$44))) -> 1 | B6: Стоцкий Андрей / Stotskiy Andriy | C6: 17.5 | D6: 1 | E6: 7 | F6: 6 | G6: 1 | H6: 9 | I6: 2 | J6: 1 | K6: 10 | L6: 8 | M6: 1 | N6: =OFFSET(Очки!$A$3,F6,D6+QUOTIENT(MAX($C$45-11,0), 2)*4) -> 11.5 | O6: =IF(F6<E6,OFFSET(IF(OR($C$45=11,$C$45=12),Очки!$B$17,Очки!$O$18),2+E6-F6,IF(D6=2,12,13-E6)),0) -> 1.1 | P6: 2 | R6: =OFFSET(Очки!$A$3,I6,G6+QUOTIENT(MAX($C$45-11,0), 2)*4) -> 15 | S6: =IF(I6<H6,OFFSET(IF(OR($C$45=11,$C$45=12),Очки!$B$17,Очки!$O$18),2+H6-I6,IF(G6=2,12,13-H6)),0) -> 6.9 | T6: 2.5 | V6: =OFFSET(Очки!$A$3,L6,J6+QUOTIENT(MAX($C$45-11,0), 2)*4) -> 10.5 | W6: =IF(L6<K6,OFFSET(IF(OR($C$45=11,$C$45=12),Очки!$B$17,Очки!$O$18),2+K6-L6,IF(J6=2,12,13-K6)),0) -> 2.5 | X6: 0.5 | AB6: =SUM(M6:Y6) -> 53.5
A7: =RANK(AB7,AB$6:OFFSET(AB$6,0,0,COUNTA(B$6:B$44))) -> 2 | B7: Наум / Vintoniv Ivan | C7: 2.5 | D7: 1 | E7: 10 | F7: 9 | G7: 2 | H7: 9 | I7: 3 | J7: 1 | K7: 7 | L7: 3 | M7: 2.5 | N7: =OFFSET(Очки!$A$3,F7,D7+QUOTIENT(MAX($C$45-11,0), 2)*4) -> 10 | O7: =IF(F7<E7,OFFSET(IF(OR($C$45=11,$C$45=12),Очки!$B$17,Очки!$O$18),2+E7-F7,IF(D7=2,12,13-E7)),0) -> 1.3 | R7: =OFFSET(Очки!$A$3,I7,G7+QUOTIENT(MAX($C$45-11,0), 2)*4) -> 8.5 | S7: =IF(I7<H7,OFFSET(IF(OR($C$45=11,$C$45=12),Очки!$B$17,Очки!$O$18),2+H7-I7,IF(G7=2,12,13-H7)),0) -> 4.2 | T7: 1 | V7: =OFFSET(Очки!$A$3,L7,J7+QUOTIENT(MAX($C$45-11,0), 2)*4) -> 14 | W7: =IF(L7<K7,OFFSET(IF(OR($C$45=11,$C$45=12),Очки!$B$17,Очки!$O$18),2+K7-L7,IF(J7=2,12,13-K7)),0) -> 3.8 | X7: 2 | AB7: =SUM(M7:Y7) -> 47.3
A8: =RANK(AB8,AB$6:OFFSET(AB$6,0,0,COUNTA(B$6:B$44))) -> 3 | B8: Петушков Андрей/Petuskov Andrey | C8: 2.5 | D8: 1 | E8: 2 | F8: 1 | G8: 1 | H8: 7 | I8: 5 | J8: 1 | K8: 9 | L8: 10 | N8: =OFFSET(Очки!$A$3,F8,D8+QUOTIENT(MAX($C$45-11,0), 2)*4) -> 16 | O8: =IF(F8<E8,OFFSET(IF(OR($C$45=11,$C$45=12),Очки!$B$17,Очки!$O$18),2+E8-F8,IF(D8=2,12,13-E8)),0) -> 0.7 | P8: 1 | R8: =OFFSET(Очки!$A$3,I8,G8+QUOTIENT(MAX($C$45-11,0), 2)*4) -> 12 | S8: =IF(I8<H8,OFFSET(IF(OR($C$45=11,$C$45=12),Очки!$B$17,Очки!$O$18),2+H8-I8,IF(G8=2,12,13-H8)),0) -> 2.1 | T8: 2 | V8: =OFFSET(Очки!$A$3,L8,J8+QUOTIENT(MAX($C$45-11,0), 2)*4) -> 9.5 | W8: =IF(L8<K8,OFFSET(IF(OR($C$45=11,$C$45=12),Очки!$B$17,Очки!$O$18),2+K8-L8,IF(J8=2,12,13-K8)),0) -> 0 | X8: 2.5 | AB8: =SUM(M8:Y8) -> 45.8
A9: =RANK(AB9,AB$6:OFFSET(AB$6,0,0,COUNTA(B$6:B$44))) -> 4 | B9: Паламарчук Саша/Palamarchuk Aleksandr | D9: 1 | E9: 5 | F9: 2 | G9: 1 | H9: 8 | I9: 6 | J9: 1 | K9: 4 | L9: 4 | N9: =OFFSET(Очки!$A$3,F9,D9+QUOTIENT(MAX($C$45-11,0), 2)*4) -> 15 | O9: =IF(F9<E9,OFFSET(IF(OR($C$45=11,$C$45=12),Очки!$B$17,Очки!$O$18),2+E9-F9,IF(D9=2,12,13-E9)),0) -> 2.4 | P9: 1.5 | R9: =OFFSET(Очки!$A$3,I9,G9+QUOTIENT(MAX($C$45-11,0), 2)*4) -> 11.5 | S9: =IF(I9<H9,OFFSET(IF(OR($C$45=11,$C$45=12),Очки!$B$17,Очки!$O$18),2+H9-I9,IF(G9=2,12,13-H9)),0) -> 2.3 | V9: =OFFSET(Очки!$A$3,L9,J9+QUOTIENT(MAX($C$45-11,0), 2)*4) -> 13 | W9: =IF(L9<K9,OFFSET(IF(OR($C$45=11,$C$45=12),Очки!$B$17,Очки!$O$18),2+K9-L9,IF(J9=2,12,13-K9)),0) -> 0 | AB9: =SUM(M9:Y9) -> 45.7
A10: =RANK(AB10,AB$6:OFFSET(AB$6,0,0,COUNTA(B$6:B$44))) -> 5 | B10: Якусик Дима/Yakusik Dmitriy | C10: 7.5 | D10: 1 | E10: 1 | F10: 3 | G10: 1 | H10: 1 | I10: 1 | J10: 1 | K10: 1 | L10: 2 | N10: =OFFSET(Очки!$A$3,F10,D10+QUOTIENT(MAX($C$45-11,0), 2)*4) -> 14 | O10: =IF(F10<E10,OFFSET(IF(OR($C$45=11,$C$45=12),Очки!$B$17,Очки!$O$18),2+E10-F10,IF(D10=2,12,13-E10)),0) -> 0 | R10: =OFFSET(Очки!$A$3,I10,G10+QUOTIENT(MAX($C$45-11,0), 2)*4) -> 16 | S10: =IF(I10<H10,OFFSET(IF(OR($C$45=11,$C$45=12),Очки!$B$17,Очки!$O$18),2+H10-I10,IF(G10=2,12,13-H10)),0) -> 0 | V10: =OFFSET(Очки!$A$3,L10,J10+QUOTIENT(MAX($C$45-11,0), 2)*4) -> 15 | W10: =IF(L10<K10,OFFSET(IF(OR($C$45=11,$C$45=12),Очки!$B$17,Очки!$O$18),2+K10-L10,IF(J10=2,12,13-K10)),0) -> 0 | AB10: =SUM(M10:Y10) -> 45
A11: =RANK(AB11,AB$6:OFFSET(AB$6,0,0,COUNTA(B$6:B$44))) -> 6 | B11: Гаврилюк Олег / Gavriliuk Oleg | C11: 10 | D11: 1 | E11: 4 | F11: 4 | G11: 1 | H11: 5 | I11: 7 | J11: 1 | K11: 2 | L11: 1 | N11: =OFFSET(Очки!$A$3,F11,D11+QUOTIENT(MAX($C$45-11,0), 2)*4) -> 13 | O11: =IF(F11<E11,OFFSET(IF(OR($C$45=11,$C$45=12),Очки!$B$17,Очки!$O$18),2+E11-F11,IF(D11=2,12,13-E11)),0) -> 0 | R11: =OFFSET(Очки!$A$3,I11,G11+QUOTIENT(MAX($C$45-11,0), 2)*4) -> 11 | S11: =IF(I11<H11,OFFSET(IF(OR($C$45=11,$C$45=12),Очки!$B$17,Очки!$O$18),2+H11-I11,IF(G11=2,12,13-H11)),0) -> 0 | V11: =OFFSET(Очки!$A$3,L11,J11+QUOTIENT(MAX($C$45-11,0), 2)*4) -> 16 | W11: =IF(L11<K11,OFFSET(IF(OR($C$45=11,$C$45=12),Очки!$B$17,Очки!$O$18),2+K11-L11,IF(J11=2,12,13-K11)),0) -> 0.7 | AB11: =SUM(M11:Y11) -> 40.7
A12: =RANK(AB12,AB$6:OFFSET(AB$6,0,0,COUNTA(B$6:B$44))) -> 7 | B12: Якусик Саша/Yakusik Aleks | C12: 5 | D12: 2 | E12: 4 | F12: 1 | G12: 1 | H12: 3 | I12: 4 | J12: 1 | K12: 3 | L12: 5 | N12: =OFFSET(Очки!$A$3,F12,D12+QUOTIENT(MAX($C$45-11,0), 2)*4) -> 10.5 | O12: =IF(F12<E12,OFFSET(IF(OR($C$45=11,$C$45=12),Очки!$B$17,Очки!$O$18),2+E12-F12,IF(D12=2,12,13-E12)),0) -> 2.1 | R12: =OFFSET(Очки!$A$3,I12,G12+QUOTIENT(MAX($C$45-11,0), 2)*4) -> 13 | S12: =IF(I12<H12,OFFSET(IF(OR($C$45=11,$C$45=12),Очки!$B$17,Очки!$O$18),2+H12-I12,IF(G12=2,12,13-H12)),0) -> 0 | V12: =OFFSET(Очки!$A$3,L12,J12+QUOTIENT(MAX($C$45-11,0), 2)*4) -> 12 | W12: =IF(L12<K12,OFFSET(IF(OR($C$45=11,$C$45=12),Очки!$B$17,Очки!$O$18),2+K12-L12,IF(J12=2,12,13-K12)),0) -> 0 | AB12: =SUM(M12:Y12) -> 37.6
A13: =RANK(AB13,AB$6:OFFSET(AB$6,0,0,COUNTA(B$6:B$44))) -> 8 | B13: Шиленко Александр/ Shylenko Aleksandr | D13: 1 | E13: 8 | F13: 7 | G13: 1 | H13: 10 | I13: 10 | J13: 1 | K13: 6 | L13: 9 | M13: 1.5 | N13: =OFFSET(Очки!$A$3,F13,D13+QUOTIENT(MAX($C$45-11,0), 2)*4) -> 11 | O13: =IF(F13<E13,OFFSET(IF(OR($C$45=11,$C$45=12),Очки!$B$17,Очки!$O$18),2+E13-F13,IF(D13=2,12,13-E13)),0) -> 1.2 | P13: 2.5 | R13: =OFFSET(Очки!$A$3,I13,G13+QUOTIENT(MAX($C$45-11,0), 2)*4) -> 9.5 | S13: =IF(I13<H13,OFFSET(IF(OR($C$45=11,$C$45=12),Очки!$B$17,Очки!$O$18),2+H13-I13,IF(G13=2,12,13-H13)),0) -> 0 | T13: 0.5 | V13: =OFFSET(Очки!$A$3,L13,J13+QUOTIENT(MAX($C$45-11,0), 2)*4) -> 10 | W13: =IF(L13<K13,OFFSET(IF(OR($C$45=11,$C$45=12),Очки!$B$17,Очки!$O$18),2+K13-L13,IF(J13=2,12,13-K13)),0) -> 0 | AB13: =SUM(M13:Y13) -> 36.2
A14: =RANK(AB14,AB$6:OFFSET(AB$6,0,0,COUNTA(B$6:B$44))) -> 9 | B14: Резанко Оля/Rezanko Olga | D14: 1 | E14: 9 | F14: 10 | G14: 1 | H14: 2 | I14: 3 | J14: 2 | K14: 8 | L14: 5 | M14: 2 | N14: =OFFSET(Очки!$A$3,F14,D14+QUOTIENT(MAX($C$45-11,0), 2)*4) -> 9.5 | O14: =IF(F14<E14,OFFSET(IF(OR($C$45=11,$C$45=12),Очки!$B$17,Очки!$O$18),2+E14-F14,IF(D14=2,12,13-E14)),0) -> 0 | R14: =OFFSET(Очки!$A$3,I14,G14+QUOTIENT(MAX($C$45-11,0), 2)*4) -> 14 | S14: =IF(I14<H14,OFFSET(IF(OR($C$45=11,$C$45=12),Очки!$B$17,Очки!$O$18),2+H14-I14,IF(G14=2,12,13-H14)),0) -> 0 | V14: =OFFSET(Очки!$A$3,L14,J14+QUOTIENT(MAX($C$45-11,0), 2)*4) -> 6.5 | W14: =IF(L14<K14,OFFSET(IF(OR($C$45=11,$C$45=12),Очки!$B$17,Очки!$O$18),2+K14-L14,IF(J14=2,12,13-K14)),0) -> 2.1 | AB14: =SUM(M14:Y14) -> 34.1
A15: =RANK(AB15,AB$6:OFFSET(AB$6,0,0,COUNTA(B$6:B$44))) -> 10 | B15: Ткачеко Антон/Tkachenko Anton | D15: 2 | E15: 8 | F15: 3 | G15: 2 | H15: 7 | I15: 5 | J15: 1 | K15: 5 | L15: 6 | N15: =OFFSET(Очки!$A$3,F15,D15+QUOTIENT(MAX($C$45-11,0), 2)*4) -> 8.5 | O15: =IF(F15<E15,OFFSET(IF(OR($C$45=11,$C$45=12),Очки!$B$17,Очки!$O$18),2+E15-F15,IF(D15=2,12,13-E15)),0) -> 3.5 | R15: =OFFSET(Очки!$A$3,I15,G15+QUOTIENT(MAX($C$45-11,0), 2)*4) -> 6.5 | S15: =IF(I15<H15,OFFSET(IF(OR($C$45=11,$C$45=12),Очки!$B$17,Очки!$O$18),2+H15-I15,IF(G15=2,12,13-H15)),0) -> 1.4 | V15: =OFFSET(Очки!$A$3,L15,J15+QUOTIENT(MAX($C$45-11,0), 2)*4) -> 11.5 | W15: =IF(L15<K15,OFFSET(IF(OR($C$45=11,$C$45=12),Очки!$B$17,Очки!$O$18),2+K15-L15,IF(J15=2,12,13-K15)),0) -> 0 | X15: 1 | AB15: =SUM(M15:Y15) -> 32.4
A16: =RANK(AB16,AB$6:OFFSET(AB$6,0,0,COUNTA(B$6:B$44))) -> 11 | B16: Тыщенко Миша/Tishenko Misha | D16: 1 | E16: 6 | F16: 8 | G16: 2 | H16: 8 | I16: 6 | J16: 1 | K16: 8 | L16: 7 | M16: 0.5 | N16: =OFFSET(Очки!$A$3,F16,D16+QUOTIENT(MAX($C$45-11,0), 2)*4) -> 10.5 | O16: =IF(F16<E16,OFFSET(IF(OR($C$45=11,$C$45=12),Очки!$B$17,Очки!$O$18),2+E16-F16,IF(D16=2,12,13-E16)),0) -> 0 | R16: =OFFSET(Очки!$A$3,I16,G16+QUOTIENT(MAX($C$45-11,0), 2)*4) -> 6 | S16: =IF(I16<H16,OFFSET(IF(OR($C$45=11,$C$45=12),Очки!$B$17,Очки!$O$18),2+H16-I16,IF(G16=2,12,13-H16)),0) -> 1.4 | T16: 1.5 | V16: =OFFSET(Очки!$A$3,L16,J16+QUOTIENT(MAX($C$45-11,0), 2)*4) -> 11 | W16: =IF(L16<K16,OFFSET(IF(OR($C$45=11,$C$45=12),Очки!$B$17,Очки!$O$18),2+K16-L16,IF(J16=2,12,13-K16)),0) -> 1.2 | AB16: =SUM(M16:Y16) -> 32.1
A17: =RANK(AB17,AB$6:OFFSET(AB$6,0,0,COUNTA(B$6:B$44))) -> 12 | B17: Кочмарев Юра/ Kochmarev Ura | D17: 2 | E17: 5 | F17: 4 | G17: 2 | H17: 3 | I17: 2 | J17: 2 | K17: 3 | L17: 1 | N17: =OFFSET(Очки!$A$3,F17,D17+QUOTIENT(MAX($C$45-11,0), 2)*4) -> 7.5 | O17: =IF(F17<E17,OFFSET(IF(OR($C$45=11,$C$45=12),Очки!$B$17,Очки!$O$18),2+E17-F17,IF(D17=2,12,13-E17)),0) -> 0.7 | Q17: -3 | R17: =OFFSET(Очки!$A$3,I17,G17+QUOTIENT(MAX($C$45-11,0), 2)*4) -> 9.5 | S17: =IF(I17<H17,OFFSET(IF(OR($C$45=11,$C$45=12),Очки!$B$17,Очки!$O$18),2+H17-I17,IF(G17=2,12,13-H17)),0) -> 0.7 | V17: =OFFSET(Очки!$A$3,L17,J17+QUOTIENT(MAX($C$45-11,0), 2)*4) -> 10.5 | W17: =IF(L17<K17,OFFSET(IF(OR($C$45=11,$C$45=12),Очки!$B$17,Очки!$O$18),2+K17-L17,IF(J17=2,12,13-K17)),0) -> 1.4 | AB17: =SUM(M17:Y17) -> 27.3
A18: =RANK(AB18,AB$6:OFFSET(AB$6,0,0,COUNTA(B$6:B$44))) -> 13 | B18: Сомок Денис/Somok Denis | C18: 7.5 | D18: 1 | E18: 3 | F18: 5 | G18: 1 | H18: 4 | I18: 9 | J18: 2 | K18: 7 | L18: 8 | N18: =OFFSET(Очки!$A$3,F18,D18+QUOTIENT(MAX($C$45-11,0), 2)*4) -> 12 | O18: =IF(F18<E18,OFFSET(IF(OR($C$45=11,$C$45=12),Очки!$B$17,Очки!$O$18),2+E18-F18,IF(D18=2,12,13-E18)),0) -> 0 | R18: =OFFSET(Очки!$A$3,I18,G18+QUOTIENT(MAX($C$45-11,0), 2)*4) -> 10 | S18: =IF(I18<H18,OFFSET(IF(OR($C$45=11,$C$45=12),Очки!$B$17,Очки!$O$18),2+H18-I18,IF(G18=2,12,13-H18)),0) -> 0 | V18: =OFFSET(Очки!$A$3,L18,J18+QUOTIENT(MAX($C$45-11,0), 2)*4) -> 5 | W18: =IF(L18<K18,OFFSET(IF(OR($C$45=11,$C$45=12),Очки!$B$17,Очки!$O$18),2+K18-L18,IF(J18=2,12,13-K18)),0) -> 0 | AB18: =SUM(M18:Y18) -> 27
A19: =RANK(AB19,AB$6:OFFSET(AB$6,0,0,COUNTA(B$6:B$44))) -> 14 | B19: Мифтахутдинов Ильяс/ Miftafutdiv Ilyas | C19: 20 | D19: 2 | E19: 9 | F19: 6 | G19: 2 | H19: 6 | I19: 7 | J19: 2 | K19: 9 | L19: 3 | N19: =OFFSET(Очки!$A$3,F19,D19+QUOTIENT(MAX($C$45-11,0), 2)*4) -> 6 | O19: =IF(F19<E19,OFFSET(IF(OR($C$45=11,$C$45=12),Очки!$B$17,Очки!$O$18),2+E19-F19,IF(D19=2,12,13-E19)),0) -> 2.1 | R19: =OFFSET(Очки!$A$3,I19,G19+QUOTIENT(MAX($C$45-11,0), 2)*4) -> 5.5 | S19: =IF(I19<H19,OFFSET(IF(OR($C$45=11,$C$45=12),Очки!$B$17,Очки!$O$18),2+H19-I19,IF(G19=2,12,13-H19)),0) -> 0 | V19: =OFFSET(Очки!$A$3,L19,J19+QUOTIENT(MAX($C$45-11,0), 2)*4) -> 8.5 | W19: =IF(L19<K19,OFFSET(IF(OR($C$45=11,$C$45=12),Очки!$B$17,Очки!$O$18),2+K19-L19,IF(J19=2,12,13-K19)),0) -> 4.2 | AB19: =SUM(M19:Y19) -> 26.3
A20: =RANK(AB20,AB$6:OFFSET(AB$6,0,0,COUNTA(B$6:B$44))) -> 15 | B20: Фортуна Татьяна / Fortuna Tetiana | D20: 2 | E20: 7 | F20: 7 | G20: 2 | H20: 5 | I20: 4 | J20: 2 | K20: 4 | L20: 4 | N20: =OFFSET(Очки!$A$3,F20,D20+QUOTIENT(MAX($C$45-11,0), 2)*4) -> 5.5 | O20: =IF(F20<E20,OFFSET(IF(OR($C$45=11,$C$45=12),Очки!$B$17,Очки!$O$18),2+E20-F20,IF(D20=2,12,13-E20)),0) -> 0 | R20: =OFFSET(Очки!$A$3,I20,G20+QUOTIENT(MAX($C$45-11,0), 2)*4) -> 7.5 | S20: =IF(I20<H20,OFFSET(IF(OR($C$45=11,$C$45=12),Очки!$B$17,Очки!$O$18),2+H20-I20,IF(G20=2,12,13-H20)),0) -> 0.7 | V20: =OFFSET(Очки!$A$3,L20,J20+QUOTIENT(MAX($C$45-11,0), 2)*4) -> 7.5 | W20: =IF(L20<K20,OFFSET(IF(OR($C$45=11,$C$45=12),Очки!$B$17,Очки!$O$18),2+K20-L20,IF(J20=2,12,13-K20)),0) -> 0 | X20: 1.5 | AB20: =SUM(M20:Y20) -> 22.7
A21: =RANK(AB21,AB$6:OFFSET(AB$6,0,0,COUNTA(B$6:B$44))) -> 16 | B21: Закалюк Женя/Zakaliuk Eugen | D21: 2 | E21: 1 | F21: 9 | G21: 2 | H21: 1 | I21: 10 | J21: 2 | K21: 1 | L21: 2 | N21: =OFFSET(Очки!$A$3,F21,D21+QUOTIENT(MAX($C$45-11,0), 2)*4) -> 4.5 | O21: =IF(F21<E21,OFFSET(IF(OR($C$45=11,$C$45=12),Очки!$B$17,Очки!$O$18),2+E21-F21,IF(D21=2,12,13-E21)),0) -> 0 | R21: =OFFSET(Очки!$A$3,I21,G21+QUOTIENT(MAX($C$45-11,0), 2)*4) -> 4 | S21: =IF(I21<H21,OFFSET(IF(OR($C$45=11,$C$45=12),Очки!$B$17,Очки!$O$18),2+H21-I21,IF(G21=2,12,13-H21)),0) -> 0 | V21: =OFFSET(Очки!$A$3,L21,J21+QUOTIENT(MAX($C$45-11,0), 2)*4) -> 9.5 | W21: =IF(L21<K21,OFFSET(IF(OR($C$45=11,$C$45=12),Очки!$B$17,Очки!$O$18),2+K21-L21,IF(J21=2,12,13-K21)),0) -> 0 | AB21: =SUM(M21:Y21) -> 18
A22: =RANK(AB22,AB$6:OFFSET(AB$6,0,0,COUNTA(B$6:B$44))) -> 17 | B22: Гобади Авеста/Ghobadi Avesta | C22: 20 | D22: 2 | E22: 6 | F22: 5 | G22: 2 | H22: 2 | I22: 1 | J22: 2 | K22: 5 | L22: 9 | N22: =OFFSET(Очки!$A$3,F22,D22+QUOTIENT(MAX($C$45-11,0), 2)*4) -> 6.5 | O22: =IF(F22<E22,OFFSET(IF(OR($C$45=11,$C$45=12),Очки!$B$17,Очки!$O$18),2+E22-F22,IF(D22=2,12,13-E22)),0) -> 0.7 | Q22: -5 | R22: =OFFSET(Очки!$A$3,I22,G22+QUOTIENT(MAX($C$45-11,0), 2)*4) -> 10.5 | S22: =IF(I22<H22,OFFSET(IF(OR($C$45=11,$C$45=12),Очки!$B$17,Очки!$O$18),2+H22-I22,IF(G22=2,12,13-H22)),0) -> 0.7 | V22: =OFFSET(Очки!$A$3,L22,J22+QUOTIENT(MAX($C$45-11,0), 2)*4) -> 4.5 | W22: =IF(L22<K22,OFFSET(IF(OR($C$45=11,$C$45=12),Очки!$B$17,Очки!$O$18),2+K22-L22,IF(J22=2,12,13-K22)),0) -> 0 | AB22: =SUM(M22:Y22) -> 17.9
A23: =RANK(AB23,AB$6:OFFSET(AB$6,0,0,COUNTA(B$6:B$44))) -> 18 | B23: Муляр Андрей/Mular Andrew | D23: 2 | E23: 3 | F23: 8 | G23: 2 | H23: 4 | I23: 8 | J23: 2 | K23: 2 | L23: 6 | N23: =OFFSET(Очки!$A$3,F23,D23+QUOTIENT(MAX($C$45-11,0), 2)*4) -> 5 | O23: =IF(F23<E23,OFFSET(IF(OR($C$45=11,$C$45=12),Очки!$B$17,Очки!$O$18),2+E23-F23,IF(D23=2,12,13-E23)),0) -> 0 | R23: =OFFSET(Очки!$A$3,I23,G23+QUOTIENT(MAX($C$45-11,0), 2)*4) -> 5 | S23: =IF(I23<H23,OFFSET(IF(OR($C$45=11,$C$45=12),Очки!$B$17,Очки!$O$18),2+H23-I23,IF(G23=2,12,13-H23)),0) -> 0 | V23: =OFFSET(Очки!$A$3,L23,J23+QUOTIENT(MAX($C$45-11,0), 2)*4) -> 6 | W23: =IF(L23<K23,OFFSET(IF(OR($C$45=11,$C$45=12),Очки!$B$17,Очки!$O$18),2+K23-L23,IF(J23=2,12,13-K23)),0) -> 0 | AB23: =SUM(M23:Y23) -> 16
A24: =RANK(AB24,AB$6:OFFSET(AB$6,0,0,COUNTA(B$6:B$44))) -> 19 | B24: Родин Артем/Rodin Artem | D24: 2 | E24: 2 | F24: 2 | G24: 1 | H24: 6 | I24: 8 | J24: 2 | K24: 6 | L24: 7 | N24: =OFFSET(Очки!$A$3,F24,D24+QUOTIENT(MAX($C$45-11,0), 2)*4) -> 9.5 | O24: =IF(F24<E24,OFFSET(IF(OR($C$45=11,$C$45=12),Очки!$B$17,Очки!$O$18),2+E24-F24,IF(D24=2,12,13-E24)),0) -> 0 | P24: 0.5 | R24: =OFFSET(Очки!$A$3,I24,G24+QUOTIENT(MAX($C$45-11,0), 2)*4) -> 10.5 | S24: =IF(I24<H24,OFFSET(IF(OR($C$45=11,$C$45=12),Очки!$B$17,Очки!$O$18),2+H24-I24,IF(G24=2,12,13-H24)),0) -> 0 | U24: -8 | V24: =OFFSET(Очки!$A$3,L24,J24+QUOTIENT(MAX($C$45-11,0), 2)*4) -> 5.5 | W24: =IF(L24<K24,OFFSET(IF(OR($C$45=11,$C$45=12),Очки!$B$17,Очки!$O$18),2+K24-L24,IF(J24=2,12,13-K24)),0) -> 0 | Y24: -3 | AB24: =SUM(M24:Y24) -> 15
A25: =RANK(AB25,AB$6:OFFSET(AB$6,0,0,COUNTA(B$6:B$44))) -> #N/A | N25: =OFFSET(Очки!$A$3,F25,D25+QUOTIENT(MAX($C$45-11,0), 2)*4) -> Место | O25: =IF(F25<E25,OFFSET(IF(OR($C$45=11,$C$45=12),Очки!$B$17,Очки!$O$18),2+E25-F25,IF(D25=2,12,13-E25)),0) -> 0 | R25: =OFFSET(Очки!$A$3,I25,G25+QUOTIENT(MAX($C$45-11,0), 2)*4) -> Место | S25: =IF(I25<H25,OFFSET(IF(OR($C$45=11,$C$45=12),Очки!$B$17,Очки!$O$18),2+H25-I25,IF(G25=2,12,13-H25)),0) -> 0 | V25: =OFFSET(Очки!$A$3,L25,J25+QUOTIENT(MAX($C$45-11,0), 2)*4) -> Место | W25: =IF(L25<K25,OFFSET(IF(OR($C$45=11,$C$45=12),Очки!$B$17,Очки!$O$18),2+K25-L25,IF(J25=2,12,13-K25)),0) -> 0 | AB25: =SUM(M25:Y25) -> 0
A26: =RANK(AB26,AB$6:OFFSET(AB$6,0,0,COUNTA(B$6:B$44))) -> #N/A | N26: =OFFSET(Очки!$A$3,F26,D26+QUOTIENT(MAX($C$45-11,0), 2)*4) -> Место | O26: =IF(F26<E26,OFFSET(IF(OR($C$45=11,$C$45=12),Очки!$B$17,Очки!$O$18),2+E26-F26,IF(D26=2,12,13-E26)),0) -> 0 | R26: =OFFSET(Очки!$A$3,I26,G26+QUOTIENT(MAX($C$45-11,0), 2)*4) -> Место | S26: =IF(I26<H26,OFFSET(IF(OR($C$45=11,$C$45=12),Очки!$B$17,Очки!$O$18),2+H26-I26,IF(G26=2,12,13-H26)),0) -> 0 | V26: =OFFSET(Очки!$A$3,L26,J26+QUOTIENT(MAX($C$45-11,0), 2)*4) -> Место | W26: =IF(L26<K26,OFFSET(IF(OR($C$45=11,$C$45=12),Очки!$B$17,Очки!$O$18),2+K26-L26,IF(J26=2,12,13-K26)),0) -> 0 | AB26: =SUM(M26:Y26) -> 0
A27: =RANK(AB27,AB$6:OFFSET(AB$6,0,0,COUNTA(B$6:B$44))) -> #N/A | N27: =OFFSET(Очки!$A$3,F27,D27+QUOTIENT(MAX($C$45-11,0), 2)*4) -> Место | O27: =IF(F27<E27,OFFSET(IF(OR($C$45=11,$C$45=12),Очки!$B$17,Очки!$O$18),2+E27-F27,IF(D27=2,12,13-E27)),0) -> 0 | R27: =OFFSET(Очки!$A$3,I27,G27+QUOTIENT(MAX($C$45-11,0), 2)*4) -> Место | S27: =IF(I27<H27,OFFSET(IF(OR($C$45=11,$C$45=12),Очки!$B$17,Очки!$O$18),2+H27-I27,IF(G27=2,12,13-H27)),0) -> 0 | V27: =OFFSET(Очки!$A$3,L27,J27+QUOTIENT(MAX($C$45-11,0), 2)*4) -> Место | W27: =IF(L27<K27,OFFSET(IF(OR($C$45=11,$C$45=12),Очки!$B$17,Очки!$O$18),2+K27-L27,IF(J27=2,12,13-K27)),0) -> 0 | AB27: =SUM(M27:Y27) -> 0
A28: =RANK(AB28,AB$6:OFFSET(AB$6,0,0,COUNTA(B$6:B$44))) -> #N/A | N28: =OFFSET(Очки!$A$3,F28,D28+QUOTIENT(MAX($C$45-11,0), 2)*4) -> Место | O28: =IF(F28<E28,OFFSET(IF(OR($C$45=11,$C$45=12),Очки!$B$17,Очки!$O$18),2+E28-F28,IF(D28=2,12,13-E28)),0) -> 0 | R28: =OFFSET(Очки!$A$3,I28,G28+QUOTIENT(MAX($C$45-11,0), 2)*4) -> Место | S28: =IF(I28<H28,OFFSET(IF(OR($C$45=11,$C$45=12),Очки!$B$17,Очки!$O$18),2+H28-I28,IF(G28=2,12,13-H28)),0) -> 0 | V28: =OFFSET(Очки!$A$3,L28,J28+QUOTIENT(MAX($C$45-11,0), 2)*4) -> Место | W28: =IF(L28<K28,OFFSET(IF(OR($C$45=11,$C$45=12),Очки!$B$17,Очки!$O$18),2+K28-L28,IF(J28=2,12,13-K28)),0) -> 0 | AB28: =SUM(M28:Y28) -> 0
A29: =RANK(AB29,AB$6:OFFSET(AB$6,0,0,COUNTA(B$6:B$44))) -> #N/A | N29: =OFFSET(Очки!$A$3,F29,D29+QUOTIENT(MAX($C$45-11,0), 2)*4) -> Место | O29: =IF(F29<E29,OFFSET(IF(OR($C$45=11,$C$45=12),Очки!$B$17,Очки!$O$18),2+E29-F29,IF(D29=2,12,13-E29)),0) -> 0 | R29: =OFFSET(Очки!$A$3,I29,G29+QUOTIENT(MAX($C$45-11,0), 2)*4) -> Место | S29: =IF(I29<H29,OFFSET(IF(OR($C$45=11,$C$45=12),Очки!$B$17,Очки!$O$18),2+H29-I29,IF(G29=2,12,13-H29)),0) -> 0 | V29: =OFFSET(Очки!$A$3,L29,J29+QUOTIENT(MAX($C$45-11,0), 2)*4) -> Место | W29: =IF(L29<K29,OFFSET(IF(OR($C$45=11,$C$45=12),Очки!$B$17,Очки!$O$18),2+K29-L29,IF(J29=2,12,13-K29)),0) -> 0 | AB29: =SUM(M29:Y29) -> 0
A30: =RANK(AB30,AB$6:OFFSET(AB$6,0,0,COUNTA(B$6:B$44))) -> #N/A | N30: =OFFSET(Очки!$A$3,F30,D30+QUOTIENT(MAX($C$45-11,0), 2)*4) -> Место | O30: =IF(F30<E30,OFFSET(IF(OR($C$45=11,$C$45=12),Очки!$B$17,Очки!$O$18),2+E30-F30,IF(D30=2,12,13-E30)),0) -> 0 | R30: =OFFSET(Очки!$A$3,I30,G30+QUOTIENT(MAX($C$45-11,0), 2)*4) -> Место | S30: =IF(I30<H30,OFFSET(IF(OR($C$45=11,$C$45=12),Очки!$B$17,Очки!$O$18),2+H30-I30,IF(G30=2,12,13-H30)),0) -> 0 | V30: =OFFSET(Очки!$A$3,L30,J30+QUOTIENT(MAX($C$45-11,0), 2)*4) -> Место | W30: =IF(L30<K30,OFFSET(IF(OR($C$45=11,$C$45=12),Очки!$B$17,Очки!$O$18),2+K30-L30,IF(J30=2,12,13-K30)),0) -> 0 | AB30: =SUM(M30:Y30) -> 0
A31: =RANK(AB31,AB$6:OFFSET(AB$6,0,0,COUNTA(B$6:B$44))) -> #N/A | N31: =OFFSET(Очки!$A$3,F31,D31+QUOTIENT(MAX($C$45-11,0), 2)*4) -> Место | O31: =IF(F31<E31,OFFSET(IF(OR($C$45=11,$C$45=12),Очки!$B$17,Очки!$O$18),2+E31-F31,IF(D31=2,12,13-E31)),0) -> 0 | R31: =OFFSET(Очки!$A$3,I31,G31+QUOTIENT(MAX($C$45-11,0), 2)*4) -> Место | S31: =IF(I31<H31,OFFSET(IF(OR($C$45=11,$C$45=12),Очки!$B$17,Очки!$O$18),2+H31-I31,IF(G31=2,12,13-H31)),0) -> 0 | V31: =OFFSET(Очки!$A$3,L31,J31+QUOTIENT(MAX($C$45-11,0), 2)*4) -> Место | W31: =IF(L31<K31,OFFSET(IF(OR($C$45=11,$C$45=12),Очки!$B$17,Очки!$O$18),2+K31-L31,IF(J31=2,12,13-K31)),0) -> 0 | AB31: =SUM(M31:Y31) -> 0
A32: =RANK(AB32,AB$6:OFFSET(AB$6,0,0,COUNTA(B$6:B$44))) -> #N/A | N32: =OFFSET(Очки!$A$3,F32,D32+QUOTIENT(MAX($C$45-11,0), 2)*4) -> Место | O32: =IF(F32<E32,OFFSET(IF(OR($C$45=11,$C$45=12),Очки!$B$17,Очки!$O$18),2+E32-F32,IF(D32=2,12,13-E32)),0) -> 0 | R32: =OFFSET(Очки!$A$3,I32,G32+QUOTIENT(MAX($C$45-11,0), 2)*4) -> Место | S32: =IF(I32<H32,OFFSET(IF(OR($C$45=11,$C$45=12),Очки!$B$17,Очки!$O$18),2+H32-I32,IF(G32=2,12,13-H32)),0) -> 0 | V32: =OFFSET(Очки!$A$3,L32,J32+QUOTIENT(MAX($C$45-11,0), 2)*4) -> Место | W32: =IF(L32<K32,OFFSET(IF(OR($C$45=11,$C$45=12),Очки!$B$17,Очки!$O$18),2+K32-L32,IF(J32=2,12,13-K32)),0) -> 0 | AB32: =SUM(M32:Y32) -> 0
A33: =RANK(AB33,AB$6:OFFSET(AB$6,0,0,COUNTA(B$6:B$44))) -> #N/A | N33: =OFFSET(Очки!$A$3,F33,D33+QUOTIENT(MAX($C$45-11,0), 2)*4) -> Место | O33: =IF(F33<E33,OFFSET(IF(OR($C$45=11,$C$45=12),Очки!$B$17,Очки!$O$18),2+E33-F33,IF(D33=2,12,13-E33)),0) -> 0 | R33: =OFFSET(Очки!$A$3,I33,G33+QUOTIENT(MAX($C$45-11,0), 2)*4) -> Место | S33: =IF(I33<H33,OFFSET(IF(OR($C$45=11,$C$45=12),Очки!$B$17,Очки!$O$18),2+H33-I33,IF(G33=2,12,13-H33)),0) -> 0 | V33: =OFFSET(Очки!$A$3,L33,J33+QUOTIENT(MAX($C$45-11,0), 2)*4) -> Место | W33: =IF(L33<K33,OFFSET(IF(OR($C$45=11,$C$45=12),Очки!$B$17,Очки!$O$18),2+K33-L33,IF(J33=2,12,13-K33)),0) -> 0 | AB33: =SUM(M33:Y33) -> 0
A34: =RANK(AB34,AB$6:OFFSET(AB$6,0,0,COUNTA(B$6:B$44))) -> #N/A | N34: =OFFSET(Очки!$A$3,F34,D34+QUOTIENT(MAX($C$45-11,0), 2)*4) -> Место | O34: =IF(F34<E34,OFFSET(IF(OR($C$45=11,$C$45=12),Очки!$B$17,Очки!$O$18),2+E34-F34,IF(D34=2,12,13-E34)),0) -> 0 | R34: =OFFSET(Очки!$A$3,I34,G34+QUOTIENT(MAX($C$45-11,0), 2)*4) -> Место | S34: =IF(I34<H34,OFFSET(IF(OR($C$45=11,$C$45=12),Очки!$B$17,Очки!$O$18),2+H34-I34,IF(G34=2,12,13-H34)),0) -> 0 | V34: =OFFSET(Очки!$A$3,L34,J34+QUOTIENT(MAX($C$45-11,0), 2)*4) -> Место | W34: =IF(L34<K34,OFFSET(IF(OR($C$45=11,$C$45=12),Очки!$B$17,Очки!$O$18),2+K34-L34,IF(J34=2,12,13-K34)),0) -> 0 | AB34: =SUM(M34:Y34) -> 0
A35: =RANK(AB35,AB$6:OFFSET(AB$6,0,0,COUNTA(B$6:B$44))) -> #N/A | N35: =OFFSET(Очки!$A$3,F35,D35+QUOTIENT(MAX($C$45-11,0), 2)*4) -> Место | O35: =IF(F35<E35,OFFSET(IF(OR($C$45=11,$C$45=12),Очки!$B$17,Очки!$O$18),2+E35-F35,IF(D35=2,12,13-E35)),0) -> 0 | R35: =OFFSET(Очки!$A$3,I35,G35+QUOTIENT(MAX($C$45-11,0), 2)*4) -> Место | S35: =IF(I35<H35,OFFSET(IF(OR($C$45=11,$C$45=12),Очки!$B$17,Очки!$O$18),2+H35-I35,IF(G35=2,12,13-H35)),0) -> 0 | V35: =OFFSET(Очки!$A$3,L35,J35+QUOTIENT(MAX($C$45-11,0), 2)*4) -> Место | W35: =IF(L35<K35,OFFSET(IF(OR($C$45=11,$C$45=12),Очки!$B$17,Очки!$O$18),2+K35-L35,IF(J35=2,12,13-K35)),0) -> 0 | AB35: =SUM(M35:Y35) -> 0
A36: =RANK(AB36,AB$6:OFFSET(AB$6,0,0,COUNTA(B$6:B$44))) -> #N/A | N36: =OFFSET(Очки!$A$3,F36,D36+QUOTIENT(MAX($C$45-11,0), 2)*4) -> Место | O36: =IF(F36<E36,OFFSET(IF(OR($C$45=11,$C$45=12),Очки!$B$17,Очки!$O$18),2+E36-F36,IF(D36=2,12,13-E36)),0) -> 0 | R36: =OFFSET(Очки!$A$3,I36,G36+QUOTIENT(MAX($C$45-11,0), 2)*4) -> Место | S36: =IF(I36<H36,OFFSET(IF(OR($C$45=11,$C$45=12),Очки!$B$17,Очки!$O$18),2+H36-I36,IF(G36=2,12,13-H36)),0) -> 0 | V36: =OFFSET(Очки!$A$3,L36,J36+QUOTIENT(MAX($C$45-11,0), 2)*4) -> Место | W36: =IF(L36<K36,OFFSET(IF(OR($C$45=11,$C$45=12),Очки!$B$17,Очки!$O$18),2+K36-L36,IF(J36=2,12,13-K36)),0) -> 0 | AB36: =SUM(M36:Y36) -> 0
... A44: =RANK(AB44,AB$6:OFFSET(AB$6,0,0,COUNTA(B$6:B$44))) -> #N/A | N44: =OFFSET(Очки!$A$3,F44,D44+QUOTIENT(MAX($C$45-11,0), 2)*4) -> Место | O44: =IF(F44<E44,OFFSET(IF(OR($C$45=11,$C$45=12),Очки!$B$17,Очки!$O$18),2+E44-F44,IF(D44=2,12,13-E44)),0) -> 0 | R44: =OFFSET(Очки!$A$3,I44,G44+QUOTIENT(MAX($C$45-11,0), 2)*4) -> Место | S44: =IF(I44<H44,OFFSET(IF(OR($C$45=11,$C$45=12),Очки!$B$17,Очки!$O$18),2+H44-I44,IF(G44=2,12,13-H44)),0) -> 0 | V44: =OFFSET(Очки!$A$3,L44,J44+QUOTIENT(MAX($C$45-11,0), 2)*4) -> Место | W44: =IF(L44<K44,OFFSET(IF(OR($C$45=11,$C$45=12),Очки!$B$17,Очки!$O$18),2+K44-L44,IF(J44=2,12,13-K44)),0) -> 0 | AB44: =SUM(M44:Y44) -> 0
B45: Всего участников | C45: =COUNTA(B6:B44) -> 19

Sheet форма (21)
A1: Лига II-й сезон 25.04.2018 конфиг 4r
A3: Место | B3: Участник | D3: 1 | G3: 2 | J3: 3 | M3: Очки | AA3: =SUM(M3:Z3) -> 0 | AB3: Сумма
C4: Довес | D4: группа | E4: Старт | F4: Финиш | G4: группа | H4: Старт | I4: Финиш | J4: группа | K4: Старт | L4: Финиш | M4: Квала | N4: 1 | R4: 2 | V4: 3
N5: очки | O5: обгоны | P5: время | Q5: штрафы | R5: очки | S5: обгоны | T5: время | U5: штрафы | V5: очки | W5: обгоны | X5: время | Y5: штрафы | Z5: 4
A6: =RANK(AB6,AB$6:OFFSET(AB$6,0,0,COUNTA(B$6:B$33))) -> #REF! | N6: =OFFSET(Очки!$A$3,F6,D6+QUOTIENT(MAX($C$34-11,0), 2)*4) -> Место | O6: =IF(F6<E6,OFFSET(IF(OR($C$34=11,$C$34=12),Очки!$B$17,Очки!$O$18),2+E6-F6,IF(D6=2,12,13-E6)),0) -> 0 | R6: =OFFSET(Очки!$A$3,I6,G6+QUOTIENT(MAX($C$34-11,0), 2)*4) -> Место | S6: =IF(I6<H6,OFFSET(IF(OR($C$34=11,$C$34=12),Очки!$B$17,Очки!$O$18),2+H6-I6,IF(G6=2,12,13-H6)),0) -> 0 | V6: =OFFSET(Очки!$A$3,L6,J6+QUOTIENT(MAX($C$34-11,0), 2)*4) -> Место | W6: =IF(L6<K6,OFFSET(IF(OR($C$34=11,$C$34=12),Очки!$B$17,Очки!$O$18),2+K6-L6,IF(J6=2,12,13-K6)),0) -> 0 | AB6: =SUM(M6:Y6) -> 0
A7: =RANK(AB7,AB$6:OFFSET(AB$6,0,0,COUNTA(B$6:B$33))) -> #REF! | N7: =OFFSET(Очки!$A$3,F7,D7+QUOTIENT(MAX($C$34-11,0), 2)*4) -> Место | O7: =IF(F7<E7,OFFSET(IF(OR($C$34=11,$C$34=12),Очки!$B$17,Очки!$O$18),2+E7-F7,IF(D7=2,12,13-E7)),0) -> 0 | R7: =OFFSET(Очки!$A$3,I7,G7+QUOTIENT(MAX($C$34-11,0), 2)*4) -> Место | S7: =IF(I7<H7,OFFSET(IF(OR($C$34=11,$C$34=12),Очки!$B$17,Очки!$O$18),2+H7-I7,IF(G7=2,12,13-H7)),0) -> 0 | V7: =OFFSET(Очки!$A$3,L7,J7+QUOTIENT(MAX($C$34-11,0), 2)*4) -> Место | W7: =IF(L7<K7,OFFSET(IF(OR($C$34=11,$C$34=12),Очки!$B$17,Очки!$O$18),2+K7-L7,IF(J7=2,12,13-K7)),0) -> 0 | AB7: =SUM(M7:Y7) -> 0
A8: =RANK(AB8,AB$6:OFFSET(AB$6,0,0,COUNTA(B$6:B$33))) -> #REF! | N8: =OFFSET(Очки!$A$3,F8,D8+QUOTIENT(MAX($C$34-11,0), 2)*4) -> Место | O8: =IF(F8<E8,OFFSET(IF(OR($C$34=11,$C$34=12),Очки!$B$17,Очки!$O$18),2+E8-F8,IF(D8=2,12,13-E8)),0) -> 0 | R8: =OFFSET(Очки!$A$3,I8,G8+QUOTIENT(MAX($C$34-11,0), 2)*4) -> Место | S8: =IF(I8<H8,OFFSET(IF(OR($C$34=11,$C$34=12),Очки!$B$17,Очки!$O$18),2+H8-I8,IF(G8=2,12,13-H8)),0) -> 0 | V8: =OFFSET(Очки!$A$3,L8,J8+QUOTIENT(MAX($C$34-11,0), 2)*4) -> Место | W8: =IF(L8<K8,OFFSET(IF(OR($C$34=11,$C$34=12),Очки!$B$17,Очки!$O$18),2+K8-L8,IF(J8=2,12,13-K8)),0) -> 0 | AB8: =SUM(M8:Y8) -> 0
A9: =RANK(AB9,AB$6:OFFSET(AB$6,0,0,COUNTA(B$6:B$33))) -> #REF! | N9: =OFFSET(Очки!$A$3,F9,D9+QUOTIENT(MAX($C$34-11,0), 2)*4) -> Место | O9: =IF(F9<E9,OFFSET(IF(OR($C$34=11,$C$34=12),Очки!$B$17,Очки!$O$18),2+E9-F9,IF(D9=2,12,13-E9)),0) -> 0 | R9: =OFFSET(Очки!$A$3,I9,G9+QUOTIENT(MAX($C$34-11,0), 2)*4) -> Место | S9: =IF(I9<H9,OFFSET(IF(OR($C$34=11,$C$34=12),Очки!$B$17,Очки!$O$18),2+H9-I9,IF(G9=2,12,13-H9)),0) -> 0 | V9: =OFFSET(Очки!$A$3,L9,J9+QUOTIENT(MAX($C$34-11,0), 2)*4) -> Место | W9: =IF(L9<K9,OFFSET(IF(OR($C$34=11,$C$34=12),Очки!$B$17,Очки!$O$18),2+K9-L9,IF(J9=2,12,13-K9)),0) -> 0 | AB9: =SUM(M9:Y9) -> 0
A10: =RANK(AB10,AB$6:OFFSET(AB$6,0,0,COUNTA(B$6:B$33))) -> #REF! | N10: =OFFSET(Очки!$A$3,F10,D10+QUOTIENT(MAX($C$34-11,0), 2)*4) -> Место | O10: =IF(F10<E10,OFFSET(IF(OR($C$34=11,$C$34=12),Очки!$B$17,Очки!$O$18),2+E10-F10,IF(D10=2,12,13-E10)),0) -> 0 | R10: =OFFSET(Очки!$A$3,I10,G10+QUOTIENT(MAX($C$34-11,0), 2)*4) -> Место | S10: =IF(I10<H10,OFFSET(IF(OR($C$34=11,$C$34=12),Очки!$B$17,Очки!$O$18),2+H10-I10,IF(G10=2,12,13-H10)),0) -> 0 | V10: =OFFSET(Очки!$A$3,L10,J10+QUOTIENT(MAX($C$34-11,0), 2)*4) -> Место | W10: =IF(L10<K10,OFFSET(IF(OR($C$34=11,$C$34=12),Очки!$B$17,Очки!$O$18),2+K10-L10,IF(J10=2,12,13-K10)),0) -> 0 | AB10: =SUM(M10:Y10) -> 0
A11: =RANK(AB11,AB$6:OFFSET(AB$6,0,0,COUNTA(B$6:B$33))) -> #REF! | N11: =OFFSET(Очки!$A$3,F11,D11+QUOTIENT(MAX($C$34-11,0), 2)*4) -> Место | O11: =IF(F11<E11,OFFSET(IF(OR($C$34=11,$C$34=12),Очки!$B$17,Очки!$O$18),2+E11-F11,IF(D11=2,12,13-E11)),0) -> 0 | R11: =OFFSET(Очки!$A$3,I11,G11+QUOTIENT(MAX($C$34-11,0), 2)*4) -> Место | S11: =IF(I11<H11,OFFSET(IF(OR($C$34=11,$C$34=12),Очки!$B$17,Очки!$O$18),2+H11-I11,IF(G11=2,12,13-H11)),0) -> 0 | V11: =OFFSET(Очки!$A$3,L11,J11+QUOTIENT(MAX($C$34-11,0), 2)*4) -> Место | W11: =IF(L11<K11,OFFSET(IF(OR($C$34=11,$C$34=12),Очки!$B$17,Очки!$O$18),2+K11-L11,IF(J11=2,12,13-K11)),0) -> 0 | AB11: =SUM(M11:Y11) -> 0
A12: =RANK(AB12,AB$6:OFFSET(AB$6,0,0,COUNTA(B$6:B$33))) -> #REF! | N12: =OFFSET(Очки!$A$3,F12,D12+QUOTIENT(MAX($C$34-11,0), 2)*4) -> Место | O12: =IF(F12<E12,OFFSET(IF(OR($C$34=11,$C$34=12),Очки!$B$17,Очки!$O$18),2+E12-F12,IF(D12=2,12,13-E12)),0) -> 0 | R12: =OFFSET(Очки!$A$3,I12,G12+QUOTIENT(MAX($C$34-11,0), 2)*4) -> Место | S12: =IF(I12<H12,OFFSET(IF(OR($C$34=11,$C$34=12),Очки!$B$17,Очки!$O$18),2+H12-I12,IF(G12=2,12,13-H12)),0) -> 0 | V12: =OFFSET(Очки!$A$3,L12,J12+QUOTIENT(MAX($C$34-11,0), 2)*4) -> Место | W12: =IF(L12<K12,OFFSET(IF(OR($C$34=11,$C$34=12),Очки!$B$17,Очки!$O$18),2+K12-L12,IF(J12=2,12,13-K12)),0) -> 0 | AB12: =SUM(M12:Y12) -> 0
A13: =RANK(AB13,AB$6:OFFSET(AB$6,0,0,COUNTA(B$6:B$33))) -> #REF! | N13: =OFFSET(Очки!$A$3,F13,D13+QUOTIENT(MAX($C$34-11,0), 2)*4) -> Место | O13: =IF(F13<E13,OFFSET(IF(OR($C$34=11,$C$34=12),Очки!$B$17,Очки!$O$18),2+E13-F13,IF(D13=2,12,13-E13)),0) -> 0 | R13: =OFFSET(Очки!$A$3,I13,G13+QUOTIENT(MAX($C$34-11,0), 2)*4) -> Место | S13: =IF(I13<H13,OFFSET(IF(OR($C$34=11,$C$34=12),Очки!$B$17,Очки!$O$18),2+H13-I13,IF(G13=2,12,13-H13)),0) -> 0 | V13: =OFFSET(Очки!$A$3,L13,J13+QUOTIENT(MAX($C$34-11,0), 2)*4) -> Место | W13: =IF(L13<K13,OFFSET(IF(OR($C$34=11,$C$34=12),Очки!$B$17,Очки!$O$18),2+K13-L13,IF(J13=2,12,13-K13)),0) -> 0 | AB13: =SUM(M13:Y13) -> 0
A14: =RANK(AB14,AB$6:OFFSET(AB$6,0,0,COUNTA(B$6:B$33))) -> #REF! | N14: =OFFSET(Очки!$A$3,F14,D14+QUOTIENT(MAX($C$34-11,0), 2)*4) -> Место | O14: =IF(F14<E14,OFFSET(IF(OR($C$34=11,$C$34=12),Очки!$B$17,Очки!$O$18),2+E14-F14,IF(D14=2,12,13-E14)),0) -> 0 | R14: =OFFSET(Очки!$A$3,I14,G14+QUOTIENT(MAX($C$34-11,0), 2)*4) -> Место | S14: =IF(I14<H14,OFFSET(IF(OR($C$34=11,$C$34=12),Очки!$B$17,Очки!$O$18),2+H14-I14,IF(G14=2,12,13-H14)),0) -> 0 | V14: =OFFSET(Очки!$A$3,L14,J14+QUOTIENT(MAX($C$34-11,0), 2)*4) -> Место | W14: =IF(L14<K14,OFFSET(IF(OR($C$34=11,$C$34=12),Очки!$B$17,Очки!$O$18),2+K14-L14,IF(J14=2,12,13-K14)),0) -> 0 | AB14: =SUM(M14:Y14) -> 0
A15: =RANK(AB15,AB$6:OFFSET(AB$6,0,0,COUNTA(B$6:B$33))) -> #REF! | N15: =OFFSET(Очки!$A$3,F15,D15+QUOTIENT(MAX($C$34-11,0), 2)*4) -> Место | O15: =IF(F15<E15,OFFSET(IF(OR($C$34=11,$C$34=12),Очки!$B$17,Очки!$O$18),2+E15-F15,IF(D15=2,12,13-E15)),0) -> 0 | R15: =OFFSET(Очки!$A$3,I15,G15+QUOTIENT(MAX($C$34-11,0), 2)*4) -> Место | S15: =IF(I15<H15,OFFSET(IF(OR($C$34=11,$C$34=12),Очки!$B$17,Очки!$O$18),2+H15-I15,IF(G15=2,12,13-H15)),0) -> 0 | V15: =OFFSET(Очки!$A$3,L15,J15+QUOTIENT(MAX($C$34-11,0), 2)*4) -> Место | W15: =IF(L15<K15,OFFSET(IF(OR($C$34=11,$C$34=12),Очки!$B$17,Очки!$O$18),2+K15-L15,IF(J15=2,12,13-K15)),0) -> 0 | AB15: =SUM(M15:Y15) -> 0
A16: =RANK(AB16,AB$6:OFFSET(AB$6,0,0,COUNTA(B$6:B$33))) -> #REF! | N16: =OFFSET(Очки!$A$3,F16,D16+QUOTIENT(MAX($C$34-11,0), 2)*4) -> Место | O16: =IF(F16<E16,OFFSET(IF(OR($C$34=11,$C$34=12),Очки!$B$17,Очки!$O$18),2+E16-F16,IF(D16=2,12,13-E16)),0) -> 0 | R16: =OFFSET(Очки!$A$3,I16,G16+QUOTIENT(MAX($C$34-11,0), 2)*4) -> Место | S16: =IF(I16<H16,OFFSET(IF(OR($C$34=11,$C$34=12),Очки!$B$17,Очки!$O$18),2+H16-I16,IF(G16=2,12,13-H16)),0) -> 0 | V16: =OFFSET(Очки!$A$3,L16,J16+QUOTIENT(MAX($C$34-11,0), 2)*4) -> Место | W16: =IF(L16<K16,OFFSET(IF(OR($C$34=11,$C$34=12),Очки!$B$17,Очки!$O$18),2+K16-L16,IF(J16=2,12,13-K16)),0) -> 0 | AB16: =SUM(M16:Y16) -> 0
A17: =RANK(AB17,AB$6:OFFSET(AB$6,0,0,COUNTA(B$6:B$33))) -> #REF! | N17: =OFFSET(Очки!$A$3,F17,D17+QUOTIENT(MAX($C$34-11,0), 2)*4) -> Место | O17: =IF(F17<E17,OFFSET(IF(OR($C$34=11,$C$34=12),Очки!$B$17,Очки!$O$18),2+E17-F17,IF(D17=2,12,13-E17)),0) -> 0 | R17: =OFFSET(Очки!$A$3,I17,G17+QUOTIENT(MAX($C$34-11,0), 2)*4) -> Место | S17: =IF(I17<H17,OFFSET(IF(OR($C$34=11,$C$34=12),Очки!$B$17,Очки!$O$18),2+H17-I17,IF(G17=2,12,13-H17)),0) -> 0 | V17: =OFFSET(Очки!$A$3,L17,J17+QUOTIENT(MAX($C$34-11,0), 2)*4) -> Место | W17: =IF(L17<K17,OFFSET(IF(OR($C$34=11,$C$34=12),Очки!$B$17,Очки!$O$18),2+K17-L17,IF(J17=2,12,13-K17)),0) -> 0 | AB17: =SUM(M17:Y17) -> 0
... A33: =RANK(AB33,AB$6:OFFSET(AB$6,0,0,COUNTA(B$6:B$33))) -> #REF! | N33: =OFFSET(Очки!$A$3,F33,D33+QUOTIENT(MAX($C$34-11,0), 2)*4) -> Место | O33: =IF(F33<E33,OFFSET(IF(OR($C$34=11,$C$34=12),Очки!$B$17,Очки!$O$18),2+E33-F33,IF(D33=2,12,13-E33)),0) -> 0 | R33: =OFFSET(Очки!$A$3,I33,G33+QUOTIENT(MAX($C$34-11,0), 2)*4) -> Место | S33: =IF(I33<H33,OFFSET(IF(OR($C$34=11,$C$34=12),Очки!$B$17,Очки!$O$18),2+H33-I33,IF(G33=2,12,13-H33)),0) -> 0 | V33: =OFFSET(Очки!$A$3,L33,J33+QUOTIENT(MAX($C$34-11,0), 2)*4) -> Место | W33: =IF(L33<K33,OFFSET(IF(OR($C$34=11,$C$34=12),Очки!$B$17,Очки!$O$18),2+K33-L33,IF(J33=2,12,13-K33)),0) -> 0 | AB33: =SUM(M33:Y33) -> 0
B34: Всего участников | C34: =COUNTA(B6:B33) -> 0
