Workbook

Sheet Общие результаты
A1: Серия мини марафонов "Большие Гонки 2019", 10-й этап, 24.08.19
A2: Конфигурация № 3R
A4: Место в гонке | B4: Команда | C4: № в гонке | D4: Квала | F4: Гонка | I4: Лучший круг в гонке
D5: Время | E5: Место | F5: Круги | G5: Время/от лидера | H5: От места выше | I5: Время | J5: На круге
A6: 1 | B6: K44 | C6: 20 | D6: 41.775 | E6: 7 | F6: 327 | G6: 4:00:44 | H6: - | I6: 41.56 | J6: 188
A7: 2 | B7: NSJ | C7: 8 | D7: 41.635 | E7: 4 | F7: 327 | G7: 5.74 | H7: =G7 -> 5.74 | I7: 41.67 | J7: 18
A8: 3 | B8: Kart Freedom Rt | C8: 14 | D8: 41.725 | E8: 5 | F8: 327 | G8: 20.41 | H8: =G8-G7 -> 14.67 | I8: 41.53 | J8: 124
A9: 4 | B9: Kozaks | C9: 7 | D9: 41.585 | E9: 2 | F9: 327 | G9: 21.02 | H9: =G9-G8 -> 0.61 | I9: 41.57 | J9: 95
A10: 5 | B10: Vpered ta Vgory | C10: 19 | D10: 41.595 | E10: 3 | F10: 327 | G10: 21.85 | H10: =G10-G9 -> 0.83 | I10: 41.7 | J10: 185
A11: 6 | B11: Kart Freedom | C11: 9 | D11: 41.585 | E11: 1 | F11: 326 | G11: 1 Круг | H11: 29 | I11: 41.74 | J11: 320
A12: 7 | B12: Ingul kart RT | C12: 10 | D12: 41.79 | E12: 8 | F12: 326 | G12: 1 Круг | H12: 4.5 | I12: 41.72 | J12: 70
A13: 8 | B13: E-K Motosport | C13: 15 | D13: 41.775 | E13: 6 | F13: 325 | G13: 2 Круга | H13: 32 | I13: 41.85 | J13: 262
A14: 9 | B14: Fortuna Racing | C14: 11 | D14: 41.875 | E14: 10 | F14: 325 | G14: 2 Круга | H14: 3 | I14: 41.75 | J14: 70
A15: 10 | B15: Battle Master | C15: 4 | D15: 41.895 | E15: 11 | F15: 326 | G15: 2 Круга | H15: 3.5 | I15: 41.74 | J15: 48
A16: 11 | B16: Winni | C16: 3 | D16: 41.83 | E16: 9 | F16: 325 | G16: 2 Круга | H16: 7.5 | I16: 41.73 | J16: 65
A17: 12 | B17: Wasp | C17: 6 | D17: 41.94 | E17: 12 | F17: 324 | G17: 3 Круга | H17: 41 | I17: 41.79 | J17: 13
A18: 13 | B18: G.A.T | C18: 13 | D18: 42.01 | E18: 13 | F18: 324 | G18: 3 Круга | H18: 5 | I18: 41.73 | J18: 89
A19: 14 | B19: Ingul Kart Acadamy | C19: 12 | D19: 42.155 | E19: 16 | F19: 322 | G19: 5 Кругов | H19: 1 круг | I19: 41.94 | J19: 30
A20: 15 | B20: 50grams | C20: 2 | D20: 42.02 | E20: 14 | F20: 322 | G20: 5 Кругов | H20: 10 | I20: 41.96 | J20: 71
A21: 16 | B21: Buro 11 | C21: 17 | D21: 42.37 | E21: 17 | F21: 321 | G21: 6 Кругов | H21: 1 круг | I21: 42.05 | J21: 23
A22: 17 | B22: Kart Freedom JT | C22: 16 | D22: 42.11 | E22: 15 | F22: 321 | G22: 6 Кругов | H22: 2 | I22: 42.12 | J22: 225
A23: 18 | B23: Coachella | C23: 1 | D23: 42.465 | E23: 18 | F23: 319 | G23: 8 Кругов | H23: 1 круг | I23: 41.93 | J23: 38

Sheet Регистрация 
A1: Серия мини марафонов "Большие Гонки 2019", 10-й этап, 24.08.19
A3: Регистрационная форма
AF4: 4ч
A5: № в гонке | B5: Команда | C5: Пилот | D5: № | E5: Вес | F5: Бонус | G5: Квалификация | Z5: 3ч | AJ5: 2 ел | AL5: 3чел
G6: карт | H6: Время | I6: бонус | J6: Итого | K6: Среднее | L6: Место | M6: 4 | N6: бонусы за вес | Z6: 2 | AA6: 1 | AB6: кол | AC6: бон | AD6: 1 | AE6: 2 | AF6: бон | AG6: уч | AH6: 2 уч | AI6: 3 уч | AJ6: 1из2 | AK6: 2из2/3v3 | AL6: 1из3 | AM6: 2из3
A7: 1 | B7: Сoachella | C7: Кочетов Игорь | D7: 1-1 | E7: 69.1 | F7: =IF(M6=3,AC7,AF7) -> 0 | G7: 3 | H7: 42.36 | I7: =IF(E7<84.9,0,IF(E7<87.4,0.1,IF(E7<89.9,0.15,IF(E7<92.4,0.2,IF(E7<94.9,0.25,IF(E7<97.4,0.3,IF(E7<99.9,0.35,0.4))))))) -> 0 | J7: =H7-I7 -> 42.36 | K7: =AVERAGE(J7:J8) -> 42.465 | L7: =RANK(K7,K7:K58,1) -> 18 | M7: кв | N7: 0.05 | O7: 0.1 | P7: 0.15 | Q7: 0.2 | R7: 0.25 | S7: 0.3 | T7: 0.35 | U7: =N7*8 -> 0.4 | Z7: =AVERAGE(E7:E9) -> 71.45 | AA7: =IF(E7>84.9,E7,E8) -> 73.8 | AB7: =COUNTIF(E7:E9,">84.9") -> 0 | AC7: =IF(AB7=1,AD7,AE7) -> 0 | AD7: =IF(AA7<84.9,0,IF(AA7<87.4,9,IF(AA7<89.9,13.5,IF(AA7<92.4,18,IF(AA7<94.9,22.5,IF(AA7<97.4,27,IF(AA7<99.9,31.5,36))))))) -> 0 | AE7: =IF(Z7<84.9,0,IF(Z7<87.4,18,IF(Z7<89.9,27,IF(Z7<92.4,36,IF(Z7<94.9,45,IF(Z7<97.4,54,IF(Z7<99.9,63,72))))))) -> 0 | AF7: =IF(AG7=2,AH7,AI7) -> 0 | AG7: =COUNTIF(E7:E9,">1") -> 2 | AH7: =IF(AB7=1,AJ7,AK7) -> 0 | AI7: =IF(AB7=1,AL7,IF(AB7=2,AM7,AK7)) -> 0 | AJ7: =IF(AA7<84.9,0,IF(AA7<87.4,12,IF(AA7<89.9,18,IF(AA7<92.4,24,IF(AA7<94.9,30,IF(AA7<97.4,36,IF(AA7<99.9,42,48))))))) -> 0 | AK7: =IF(AA7<84.9,0,IF(AA7<87.4,24,IF(AA7<89.9,36,IF(AA7<92.4,48,IF(AA7<94.9,60,IF(AA7<97.4,72,IF(AA7<99.9,84,96))))))) -> 0 | AL7: =IF(AA7<84.9,0,IF(AA7<87.4,8,IF(AA7<89.9,12,IF(AA7<92.4,16,IF(AA7<94.9,20,IF(AA7<97.4,24,IF(AA7<99.9,28,32))))))) -> 0 | AM7: =IF(AO7<84.9,0,IF(AO7<87.4,16,IF(AO7<89.9,24,IF(AO7<92.4,32,IF(AO7<94.9,40,IF(AO7<97.4,48,IF(AO7<99.9,56,64))))))) -> 0 | AO7: =(SUM(E7:E9)-MIN(E7:E9))/2 -> 36.9
C8: Поляруш Александр | D8: 1-2 | E8: 73.8 | G8: 4 | H8: 42.57 | I8: =IF(E8<84.9,0,IF(E8<87.4,0.1,IF(E8<89.9,0.15,IF(E8<92.4,0.2,IF(E8<94.9,0.25,IF(E8<97.4,0.3,IF(E8<99.9,0.35,0.4))))))) -> 0 | J8: =H8-I8 -> 42.57 | M8: 3 часа | N8: =1.5*3 -> 4.5 | O8: =1.5*3*2 -> 9 | P8: =1.5*3*3 -> 13.5 | Q8: =1.5*3*4 -> 18 | R8: =1.5*3*5 -> 22.5 | S8: =1.5*3*6 -> 27 | T8: =1.5*3*7 -> 31.5 | U8: =1.5*3*8 -> 36 | V8: 1 пилот
D9: 1-3 | I9: =IF(E9<84.9,0,IF(E9<87.4,0.1,IF(E9<89.9,0.15,IF(E9<92.4,0.2,IF(E9<94.9,0.25,IF(E9<97.4,0.3,IF(E9<99.9,0.35,0.4))))))) -> 0 | J9: =H9-I9 -> 0 | N9: =3*3 -> 9 | O9: =3*3*2 -> 18 | P9: =3*3*3 -> 27 | Q9: =3*3*4 -> 36 | R9: =3*3*5 -> 45 | S9: =3*3*6 -> 54 | T9: =3*3*7 -> 63 | U9: =3*3*8 -> 72 | V9: 2 пилота
A10: 2 | B10: 50 gramms | C10: Сомок Денис | D10: 2-1 | E10: 73.3 | F10: =IF(M6=3,AC10,AF10) -> 0 | G10: 5 | H10: 41.94 | I10: =IF(E10<84.9,0,IF(E10<87.4,0.1,IF(E10<89.9,0.15,IF(E10<92.4,0.2,IF(E10<94.9,0.25,IF(E10<97.4,0.3,IF(E10<99.9,0.35,0.4))))))) -> 0 | J10: =H10-I10 -> 41.94 | K10: =AVERAGE(J10:J11) -> 42.02 | L10: =RANK(K10,K7:K58,1) -> 14 | M10: вес | N10: 82.5 | O10: 85 | P10: 87.5 | Q10: 90 | R10: 92.5 | S10: 95 | T10: 97.5 | U10: 100 | Z10: =AVERAGE(E10:E12) -> 72.7 | AA10: =IF(E10>84.9,E10,E11) -> 72.1 | AB10: =COUNTIF(E10:E12,">84.9") -> 0 | AC10: =IF(AB10=1,AD10,AE10) -> 0 | AD10: =IF(AA10<84.9,0,IF(AA10<87.4,9,IF(AA10<89.9,13.5,IF(AA10<92.4,18,IF(AA10<94.9,22.5,IF(AA10<97.4,27,IF(AA10<99.9,31.5,36))))))) -> 0 | AE10: =IF(Z10<84.9,0,IF(Z10<87.4,18,IF(Z10<89.9,27,IF(Z10<92.4,36,IF(Z10<94.9,45,IF(Z10<97.4,54,IF(Z10<99.9,63,72))))))) -> 0 | AF10: =IF(AG10=2,AH10,AI10) -> 0 | AG10: =COUNTIF(E10:E12,">1") -> 2 | AH10: =IF(AB10=1,AJ10,AK10) -> 0 | AI10: =IF(AB10=1,AL10,IF(AB10=2,AM10,AK10)) -> 0 | AJ10: =IF(AA10<84.9,0,IF(AA10<87.4,12,IF(AA10<89.9,18,IF(AA10<92.4,24,IF(AA10<94.9,30,IF(AA10<97.4,36,IF(AA10<99.9,42,48))))))) -> 0 | AK10: =IF(AA10<84.9,0,IF(AA10<87.4,24,IF(AA10<89.9,36,IF(AA10<92.4,48,IF(AA10<94.9,60,IF(AA10<97.4,72,IF(AA10<99.9,84,96))))))) -> 0 | AL10: =IF(AA10<84.9,0,IF(AA10<87.4,8,IF(AA10<89.9,12,IF(AA10<92.4,16,IF(AA10<94.9,20,IF(AA10<97.4,24,IF(AA10<99.9,28,32))))))) -> 0 | AM10: =IF(AO10<84.9,0,IF(AO10<87.4,16,IF(AO10<89.9,24,IF(AO10<92.4,32,IF(AO10<94.9,40,IF(AO10<97.4,48,IF(AO10<99.9,56,64))))))) -> 0 | AO10: =(SUM(E10:E12)-MIN(E10:E12))/2 -> 36.65
C11: Морозенко Сергей | D11: 2-2 | E11: 72.1 | G11: 4 | H11: 42.1 | I11: =IF(E11<84.9,0,IF(E11<87.4,0.1,IF(E11<89.9,0.15,IF(E11<92.4,0.2,IF(E11<94.9,0.25,IF(E11<97.4,0.3,IF(E11<99.9,0.35,0.4))))))) -> 0 | J11: =H11-I11 -> 42.1 | M11: 4 часа | N11: =1.5*4 -> 6 | O11: =1.5*4*2 -> 12 | P11: =1.5*4*3 -> 18 | Q11: =1.5*4*4 -> 24 | R11: =1.5*4*5 -> 30 | S11: =1.5*4*6 -> 36 | T11: =1.5*4*7 -> 42 | U11: =1.5*4*8 -> 48 | V11: 1 пилот | W11: 2 участника в команде
D12: 2-3 | I12: =IF(E12<84.9,0,IF(E12<87.4,0.1,IF(E12<89.9,0.15,IF(E12<92.4,0.2,IF(E12<94.9,0.25,IF(E12<97.4,0.3,IF(E12<99.9,0.35,0.4))))))) -> 0 | J12: =H12-I12 -> 0 | N12: =3*4 -> 12 | O12: =3*4*2 -> 24 | P12: =3*4*3 -> 36 | Q12: =3*4*4 -> 48 | R12: =3*4*5 -> 60 | S12: =3*4*6 -> 72 | T12: =3*4*7 -> 84 | U12: =3*4*8 -> 96 | V12: 2 пилота
A13: 3 | B13: Winni | C13: Бахмацкий Олег | D13: 3-1 | E13: 82.7 | F13: =IF(M6=3,AC13,AF13) -> 0 | G13: 6 | H13: 41.66 | I13: =IF(E13<84.9,0,IF(E13<87.4,0.1,IF(E13<89.9,0.15,IF(E13<92.4,0.2,IF(E13<94.9,0.25,IF(E13<97.4,0.3,IF(E13<99.9,0.35,0.4))))))) -> 0 | J13: =H13-I13 -> 41.66 | K13: =AVERAGE(J13:J14) -> 41.83 | L13: =RANK(K13,K7:K58,1) -> 9 | N13: =1*4 -> 4 | O13: =1*4*2 -> 8 | P13: =1*4*3 -> 12 | Q13: =1*4*4 -> 16 | R13: =1*4*5 -> 20 | S13: =1*4*6 -> 24 | T13: =1*4*7 -> 28 | U13: =1*4*8 -> 32 | V13: 1 пилот | W13: 3 участника в команде | Z13: =AVERAGE(E13:E15) -> 71.35 | AA13: =IF(E13>84.9,E13,E14) -> 60 | AB13: =COUNTIF(E13:E15,">84.9") -> 0 | AC13: =IF(AB13=1,AD13,AE13) -> 0 | AD13: =IF(AA13<84.9,0,IF(AA13<87.4,9,IF(AA13<89.9,13.5,IF(AA13<92.4,18,IF(AA13<94.9,22.5,IF(AA13<97.4,27,IF(AA13<99.9,31.5,36))))))) -> 0 | AE13: =IF(Z13<84.9,0,IF(Z13<87.4,18,IF(Z13<89.9,27,IF(Z13<92.4,36,IF(Z13<94.9,45,IF(Z13<97.4,54,IF(Z13<99.9,63,72))))))) -> 0 | AF13: =IF(AG13=2,AH13,AI13) -> 0 | AG13: =COUNTIF(E13:E15,">1") -> 2 | AH13: =IF(AB13=1,AJ13,AK13) -> 0 | AI13: =IF(AB13=1,AL13,IF(AB13=2,AM13,AK13)) -> 0 | AJ13: =IF(AA13<84.9,0,IF(AA13<87.4,12,IF(AA13<89.9,18,IF(AA13<92.4,24,IF(AA13<94.9,30,IF(AA13<97.4,36,IF(AA13<99.9,42,48))))))) -> 0 | AK13: =IF(AA13<84.9,0,IF(AA13<87.4,24,IF(AA13<89.9,36,IF(AA13<92.4,48,IF(AA13<94.9,60,IF(AA13<97.4,72,IF(AA13<99.9,84,96))))))) -> 0 | AL13: =IF(AA13<84.9,0,IF(AA13<87.4,8,IF(AA13<89.9,12,IF(AA13<92.4,16,IF(AA13<94.9,20,IF(AA13<97.4,24,IF(AA13<99.9,28,32))))))) -> 0 | AM13: =IF(AO13<84.9,0,IF(AO13<87.4,16,IF(AO13<89.9,24,IF(AO13<92.4,32,IF(AO13<94.9,40,IF(AO13<97.4,48,IF(AO13<99.9,56,64))))))) -> 0 | AO13: =(SUM(E13:E15)-MIN(E13:E15))/2 -> 41.35
C14: Гобади Авеста | D14: 3-2 | E14: 60 | G14: 5 | H14: 42 | I14: =IF(E14<84.9,0,IF(E14<87.4,0.1,IF(E14<89.9,0.15,IF(E14<92.4,0.2,IF(E14<94.9,0.25,IF(E14<97.4,0.3,IF(E14<99.9,0.35,0.4))))))) -> 0 | J14: =H14-I14 -> 42 | N14: =2*4 -> 8 | O14: =2*4*2 -> 16 | P14: =2*4*3 -> 24 | Q14: =2*4*4 -> 32 | R14: =2*4*5 -> 40 | S14: =2*4*6 -> 48 | T14: =2*4*7 -> 56 | U14: =2*4*8 -> 64 | V14: 2 пилота
D15: 3-3 | I15: =IF(E15<84.9,0,IF(E15<87.4,0.1,IF(E15<89.9,0.15,IF(E15<92.4,0.2,IF(E15<94.9,0.25,IF(E15<97.4,0.3,IF(E15<99.9,0.35,0.4))))))) -> 0 | J15: =H15-I15 -> 0 | N15: =3*4 -> 12 | O15: =3*4*2 -> 24 | P15: =3*4*3 -> 36 | Q15: =3*4*4 -> 48 | R15: =3*4*5 -> 60 | S15: =3*4*6 -> 72 | T15: =3*4*7 -> 84 | U15: =3*4*8 -> 96 | V15: 3 пилота
A16: 4 | B16: Battle Master | C16: Голубченко Александр | D16: 4-1 | E16: 85.6 | F16: =IF(M6=3,AC16,AF16) -> 12 | G16: 7 | H16: 42.11 | I16: =IF(E16<84.9,0,IF(E16<87.4,0.1,IF(E16<89.9,0.15,IF(E16<92.4,0.2,IF(E16<94.9,0.25,IF(E16<97.4,0.3,IF(E16<99.9,0.35,0.4))))))) -> 0.1 | J16: =H16-I16 -> 42.01 | K16: =AVERAGE(J16:J17) -> 41.895 | L16: =RANK(K16,K7:K58,1) -> 11 | Z16: =AVERAGE(E16:E18) -> 79.05 | AA16: =IF(E16>84.9,E16,E17) -> 85.6 | AB16: =COUNTIF(E16:E18,">84.9") -> 1 | AC16: =IF(AB16=1,AD16,AE16) -> 9 | AD16: =IF(AA16<84.9,0,IF(AA16<87.4,9,IF(AA16<89.9,13.5,IF(AA16<92.4,18,IF(AA16<94.9,22.5,IF(AA16<97.4,27,IF(AA16<99.9,31.5,36))))))) -> 9 | AE16: =IF(Z16<84.9,0,IF(Z16<87.4,18,IF(Z16<89.9,27,IF(Z16<92.4,36,IF(Z16<94.9,45,IF(Z16<97.4,54,IF(Z16<99.9,63,72))))))) -> 0 | AF16: =IF(AG16=2,AH16,AI16) -> 12 | AG16: =COUNTIF(E16:E18,">1") -> 2 | AH16: =IF(AB16=1,AJ16,AK16) -> 12 | AI16: =IF(AB16=1,AL16,IF(AB16=2,AM16,AK16)) -> 8 | AJ16: =IF(AA16<84.9,0,IF(AA16<87.4,12,IF(AA16<89.9,18,IF(AA16<92.4,24,IF(AA16<94.9,30,IF(AA16<97.4,36,IF(AA16<99.9,42,48))))))) -> 12 | AK16: =IF(AA16<84.9,0,IF(AA16<87.4,24,IF(AA16<89.9,36,IF(AA16<92.4,48,IF(AA16<94.9,60,IF(AA16<97.4,72,IF(AA16<99.9,84,96))))))) -> 24 | AL16: =IF(AA16<84.9,0,IF(AA16<87.4,8,IF(AA16<89.9,12,IF(AA16<92.4,16,IF(AA16<94.9,20,IF(AA16<97.4,24,IF(AA16<99.9,28,32))))))) -> 8 | AM16: =IF(AO16<84.9,0,IF(AO16<87.4,16,IF(AO16<89.9,24,IF(AO16<92.4,32,IF(AO16<94.9,40,IF(AO16<97.4,48,IF(AO16<99.9,56,64))))))) -> 0 | AO16: =(SUM(E16:E18)-MIN(E16:E18))/2 -> 42.8
C17: Звягин Гриша | D17: 4-2 | E17: 72.5 | G17: 6 | H17: 41.78 | I17: =IF(E17<84.9,0,IF(E17<87.4,0.1,IF(E17<89.9,0.15,IF(E17<92.4,0.2,IF(E17<94.9,0.25,IF(E17<97.4,0.3,IF(E17<99.9,0.35,0.4))))))) -> 0 | J17: =H17-I17 -> 41.78
D18: 4-3 | I18: =IF(E18<84.9,0,IF(E18<87.4,0.1,IF(E18<89.9,0.15,IF(E18<92.4,0.2,IF(E18<94.9,0.25,IF(E18<97.4,0.3,IF(E18<99.9,0.35,0.4))))))) -> 0 | J18: =H18-I18 -> 0
A19: 6 | B19: Wasp | C19: Василевский Александр | D19: 6-1 | E19: 81.8 | F19: =IF(M6=3,AC19,AF19) -> 0 | G19: 8 | H19: 41.79 | I19: =IF(E19<84.9,0,IF(E19<87.4,0.1,IF(E19<89.9,0.15,IF(E19<92.4,0.2,IF(E19<94.9,0.25,IF(E19<97.4,0.3,IF(E19<99.9,0.35,0.4))))))) -> 0 | J19: =H19-I19 -> 41.79 | K19: =AVERAGE(J19:J20) -> 41.94 | L19: =RANK(K19,K7:K58,1) -> 12 | Z19: =AVERAGE(E19:E21) -> 81.7 | AA19: =IF(E19>84.9,E19,E20) -> 81.6 | AB19: =COUNTIF(E19:E21,">84.9") -> 0 | AC19: =IF(AB19=1,AD19,AE19) -> 0 | AD19: =IF(AA19<84.9,0,IF(AA19<87.4,9,IF(AA19<89.9,13.5,IF(AA19<92.4,18,IF(AA19<94.9,22.5,IF(AA19<97.4,27,IF(AA19<99.9,31.5,36))))))) -> 0 | AE19: =IF(Z19<84.9,0,IF(Z19<87.4,18,IF(Z19<89.9,27,IF(Z19<92.4,36,IF(Z19<94.9,45,IF(Z19<97.4,54,IF(Z19<99.9,63,72))))))) -> 0 | AF19: =IF(AG19=2,AH19,AI19) -> 0 | AG19: =COUNTIF(E19:E21,">1") -> 2 | AH19: =IF(AB19=1,AJ19,AK19) -> 0 | AI19: =IF(AB19=1,AL19,IF(AB19=2,AM19,AK19)) -> 0 | AJ19: =IF(AA19<84.9,0,IF(AA19<87.4,12,IF(AA19<89.9,18,IF(AA19<92.4,24,IF(AA19<94.9,30,IF(AA19<97.4,36,IF(AA19<99.9,42,48))))))) -> 0 | AK19: =IF(AA19<84.9,0,IF(AA19<87.4,24,IF(AA19<89.9,36,IF(AA19<92.4,48,IF(AA19<94.9,60,IF(AA19<97.4,72,IF(AA19<99.9,84,96))))))) -> 0 | AL19: =IF(AA19<84.9,0,IF(AA19<87.4,8,IF(AA19<89.9,12,IF(AA19<92.4,16,IF(AA19<94.9,20,IF(AA19<97.4,24,IF(AA19<99.9,28,32))))))) -> 0 | AM19: =IF(AO19<84.9,0,IF(AO19<87.4,16,IF(AO19<89.9,24,IF(AO19<92.4,32,IF(AO19<94.9,40,IF(AO19<97.4,48,IF(AO19<99.9,56,64))))))) -> 0 | AO19: =(SUM(E19:E21)-MIN(E19:E21))/2 -> 40.9
C20: Швец Денис | D20: 6-2 | E20: 81.6 | G20: 7 | H20: 42.09 | I20: =IF(E20<84.9,0,IF(E20<87.4,0.1,IF(E20<89.9,0.15,IF(E20<92.4,0.2,IF(E20<94.9,0.25,IF(E20<97.4,0.3,IF(E20<99.9,0.35,0.4))))))) -> 0 | J20: =H20-I20 -> 42.09
D21: 6-3 | I21: =IF(E21<84.9,0,IF(E21<87.4,0.1,IF(E21<89.9,0.15,IF(E21<92.4,0.2,IF(E21<94.9,0.25,IF(E21<97.4,0.3,IF(E21<99.9,0.35,0.4))))))) -> 0 | J21: =H21-I21 -> 0
A22: 7 | B22: Kozaks | C22: Пикулин Павел | D22: 7-1 | E22: 75.5 | F22: =IF(M6=3,AC22,AF22) -> 0 | G22: 8 | H22: 41.57 | I22: =IF(E22<84.9,0,IF(E22<87.4,0.1,IF(E22<89.9,0.15,IF(E22<92.4,0.2,IF(E22<94.9,0.25,IF(E22<97.4,0.3,IF(E22<99.9,0.35,0.4))))))) -> 0 | J22: =H22-I22 -> 41.57 | K22: =AVERAGE(J22:J23) -> 41.585 | L22: =RANK(K22,K7:K58,1) -> 2 | Z22: =AVERAGE(E22:E24) -> 75.75 | AA22: =IF(E22>84.9,E22,E23) -> 76 | AB22: =COUNTIF(E22:E24,">84.9") -> 0 | AC22: =IF(AB22=1,AD22,AE22) -> 0 | AD22: =IF(AA22<84.9,0,IF(AA22<87.4,9,IF(AA22<89.9,13.5,IF(AA22<92.4,18,IF(AA22<94.9,22.5,IF(AA22<97.4,27,IF(AA22<99.9,31.5,36))))))) -> 0 | AE22: =IF(Z22<84.9,0,IF(Z22<87.4,18,IF(Z22<89.9,27,IF(Z22<92.4,36,IF(Z22<94.9,45,IF(Z22<97.4,54,IF(Z22<99.9,63,72))))))) -> 0 | AF22: =IF(AG22=2,AH22,AI22) -> 0 | AG22: =COUNTIF(E22:E24,">1") -> 2 | AH22: =IF(AB22=1,AJ22,AK22) -> 0 | AI22: =IF(AB22=1,AL22,IF(AB22=2,AM22,AK22)) -> 0 | AJ22: =IF(AA22<84.9,0,IF(AA22<87.4,12,IF(AA22<89.9,18,IF(AA22<92.4,24,IF(AA22<94.9,30,IF(AA22<97.4,36,IF(AA22<99.9,42,48))))))) -> 0 | AK22: =IF(AA22<84.9,0,IF(AA22<87.4,24,IF(AA22<89.9,36,IF(AA22<92.4,48,IF(AA22<94.9,60,IF(AA22<97.4,72,IF(AA22<99.9,84,96))))))) -> 0 | AL22: =IF(AA22<84.9,0,IF(AA22<87.4,8,IF(AA22<89.9,12,IF(AA22<92.4,16,IF(AA22<94.9,20,IF(AA22<97.4,24,IF(AA22<99.9,28,32))))))) -> 0 | AM22: =IF(AO22<84.9,0,IF(AO22<87.4,16,IF(AO22<89.9,24,IF(AO22<92.4,32,IF(AO22<94.9,40,IF(AO22<97.4,48,IF(AO22<99.9,56,64))))))) -> 0 | AO22: =(SUM(E22:E24)-MIN(E22:E24))/2 -> 38
C23: Ткаченко Кирилл | D23: 7-2 | E23: 76 | G23: 9 | H23: 41.6 | I23: =IF(E23<84.9,0,IF(E23<87.4,0.1,IF(E23<89.9,0.15,IF(E23<92.4,0.2,IF(E23<94.9,0.25,IF(E23<97.4,0.3,IF(E23<99.9,0.35,0.4))))))) -> 0 | J23: =H23-I23 -> 41.6
D24: 7-3 | I24: =IF(E24<84.9,0,IF(E24<87.4,0.1,IF(E24<89.9,0.15,IF(E24<92.4,0.2,IF(E24<94.9,0.25,IF(E24<97.4,0.3,IF(E24<99.9,0.35,0.4))))))) -> 0 | J24: =H24-I24 -> 0
A25: 8 | B25: NSJ | C25: Мифтахутдинов Ильяс | D25: 8-1 | E25: 43 | F25: =IF(M6=3,AC25,AF25) -> 18 | G25: 9 | H25: 41.53 | I25: =IF(E25<84.9,0,IF(E25<87.4,0.1,IF(E25<89.9,0.15,IF(E25<92.4,0.2,IF(E25<94.9,0.25,IF(E25<97.4,0.3,IF(E25<99.9,0.35,0.4))))))) -> 0 | J25: =H25-I25 -> 41.53 | K25: =AVERAGE(J25:J26) -> 41.635 | L25: =RANK(K25,K7:K58,1) -> 4 | Z25: =AVERAGE(E25:E27) -> 65.55 | AA25: =IF(E25>84.9,E25,E26) -> 88.1 | AB25: =COUNTIF(E25:E27,">84.9") -> 1 | AC25: =IF(AB25=1,AD25,AE25) -> 13.5 | AD25: =IF(AA25<84.9,0,IF(AA25<87.4,9,IF(AA25<89.9,13.5,IF(AA25<92.4,18,IF(AA25<94.9,22.5,IF(AA25<97.4,27,IF(AA25<99.9,31.5,36))))))) -> 13.5 | AE25: =IF(Z25<84.9,0,IF(Z25<87.4,18,IF(Z25<89.9,27,IF(Z25<92.4,36,IF(Z25<94.9,45,IF(Z25<97.4,54,IF(Z25<99.9,63,72))))))) -> 0 | AF25: =IF(AG25=2,AH25,AI25) -> 18 | AG25: =COUNTIF(E25:E27,">1") -> 2 | AH25: =IF(AB25=1,AJ25,AK25) -> 18 | AI25: =IF(AB25=1,AL25,IF(AB25=2,AM25,AK25)) -> 12 | AJ25: =IF(AA25<84.9,0,IF(AA25<87.4,12,IF(AA25<89.9,18,IF(AA25<92.4,24,IF(AA25<94.9,30,IF(AA25<97.4,36,IF(AA25<99.9,42,48))))))) -> 18 | AK25: =IF(AA25<84.9,0,IF(AA25<87.4,24,IF(AA25<89.9,36,IF(AA25<92.4,48,IF(AA25<94.9,60,IF(AA25<97.4,72,IF(AA25<99.9,84,96))))))) -> 36 | AL25: =IF(AA25<84.9,0,IF(AA25<87.4,8,IF(AA25<89.9,12,IF(AA25<92.4,16,IF(AA25<94.9,20,IF(AA25<97.4,24,IF(AA25<99.9,28,32))))))) -> 12 | AM25: =IF(AO25<84.9,0,IF(AO25<87.4,16,IF(AO25<89.9,24,IF(AO25<92.4,32,IF(AO25<94.9,40,IF(AO25<97.4,48,IF(AO25<99.9,56,64))))))) -> 0 | AO25: =(SUM(E25:E27)-MIN(E25:E27))/2 -> 44.05
C26: Тыщенко Миша | D26: 8-2 | E26: 88.1 | G26: 10 | H26: 41.89 | I26: =IF(E26<84.9,0,IF(E26<87.4,0.1,IF(E26<89.9,0.15,IF(E26<92.4,0.2,IF(E26<94.9,0.25,IF(E26<97.4,0.3,IF(E26<99.9,0.35,0.4))))))) -> 0.15 | J26: =H26-I26 -> 41.74
D27: 8-3 | I27: =IF(E27<84.9,0,IF(E27<87.4,0.1,IF(E27<89.9,0.15,IF(E27<92.4,0.2,IF(E27<94.9,0.25,IF(E27<97.4,0.3,IF(E27<99.9,0.35,0.4))))))) -> 0 | J27: =H27-I27 -> 0
A28: 9 | B28: Kart Freedom | C28: Паненко Женя | D28: 9-1 | E28: 86.1 | F28: =IF(M6=3,AC28,AF28) -> 12 | G28: 11 | H28: 41.9 | I28: =IF(E28<84.9,0,IF(E28<87.4,0.1,IF(E28<89.9,0.15,IF(E28<92.4,0.2,IF(E28<94.9,0.25,IF(E28<97.4,0.3,IF(E28<99.9,0.35,0.4))))))) -> 0.1 | J28: =H28-I28 -> 41.8 | K28: =AVERAGE(J28:J29) -> 41.585 | L28: =RANK(K28,K7:K58,1) -> 1 | Z28: =AVERAGE(E28:E30) -> 82.45 | AA28: =IF(E28>84.9,E28,E29) -> 86.1 | AB28: =COUNTIF(E28:E30,">84.9") -> 1 | AC28: =IF(AB28=1,AD28,AE28) -> 9 | AD28: =IF(AA28<84.9,0,IF(AA28<87.4,9,IF(AA28<89.9,13.5,IF(AA28<92.4,18,IF(AA28<94.9,22.5,IF(AA28<97.4,27,IF(AA28<99.9,31.5,36))))))) -> 9 | AE28: =IF(Z28<84.9,0,IF(Z28<87.4,18,IF(Z28<89.9,27,IF(Z28<92.4,36,IF(Z28<94.9,45,IF(Z28<97.4,54,IF(Z28<99.9,63,72))))))) -> 0 | AF28: =IF(AG28=2,AH28,AI28) -> 12 | AG28: =COUNTIF(E28:E30,">1") -> 2 | AH28: =IF(AB28=1,AJ28,AK28) -> 12 | AI28: =IF(AB28=1,AL28,IF(AB28=2,AM28,AK28)) -> 8 | AJ28: =IF(AA28<84.9,0,IF(AA28<87.4,12,IF(AA28<89.9,18,IF(AA28<92.4,24,IF(AA28<94.9,30,IF(AA28<97.4,36,IF(AA28<99.9,42,48))))))) -> 12 | AK28: =IF(AA28<84.9,0,IF(AA28<87.4,24,IF(AA28<89.9,36,IF(AA28<92.4,48,IF(AA28<94.9,60,IF(AA28<97.4,72,IF(AA28<99.9,84,96))))))) -> 24 | AL28: =IF(AA28<84.9,0,IF(AA28<87.4,8,IF(AA28<89.9,12,IF(AA28<92.4,16,IF(AA28<94.9,20,IF(AA28<97.4,24,IF(AA28<99.9,28,32))))))) -> 8 | AM28: =IF(AO28<84.9,0,IF(AO28<87.4,16,IF(AO28<89.9,24,IF(AO28<92.4,32,IF(AO28<94.9,40,IF(AO28<97.4,48,IF(AO28<99.9,56,64))))))) -> 0 | AO28: =(SUM(E28:E30)-MIN(E28:E30))/2 -> 43.05
C29: Петушков Андрей | D29: 9-2 | E29: 78.8 | G29: 12 | H29: 41.37 | I29: =IF(E29<84.9,0,IF(E29<87.4,0.1,IF(E29<89.9,0.15,IF(E29<92.4,0.2,IF(E29<94.9,0.25,IF(E29<97.4,0.3,IF(E29<99.9,0.35,0.4))))))) -> 0 | J29: =H29-I29 -> 41.37
D30: 9-3 | I30: =IF(E30<84.9,0,IF(E30<87.4,0.1,IF(E30<89.9,0.15,IF(E30<92.4,0.2,IF(E30<94.9,0.25,IF(E30<97.4,0.3,IF(E30<99.9,0.35,0.4))))))) -> 0 | J30: =H30-I30 -> 0
A31: 10 | B31: Ingul kart Rt | C31: Кублицкий Виктор | D31: 10-1 | E31: 63.8 | F31: =IF(M6=3,AC31,AF31) -> 0 | G31: 13 | H31: 41.89 | I31: =IF(E31<84.9,0,IF(E31<87.4,0.1,IF(E31<89.9,0.15,IF(E31<92.4,0.2,IF(E31<94.9,0.25,IF(E31<97.4,0.3,IF(E31<99.9,0.35,0.4))))))) -> 0 | J31: =H31-I31 -> 41.89 | K31: =AVERAGE(J31:J32) -> 41.79 | L31: =RANK(K31,K7:K58,1) -> 8 | Z31: =AVERAGE(E31:E33) -> 66.15 | AA31: =IF(E31>84.9,E31,E32) -> 68.5 | AB31: =COUNTIF(E31:E33,">84.9") -> 0 | AC31: =IF(AB31=1,AD31,AE31) -> 0 | AD31: =IF(AA31<84.9,0,IF(AA31<87.4,9,IF(AA31<89.9,13.5,IF(AA31<92.4,18,IF(AA31<94.9,22.5,IF(AA31<97.4,27,IF(AA31<99.9,31.5,36))))))) -> 0 | AE31: =IF(Z31<84.9,0,IF(Z31<87.4,18,IF(Z31<89.9,27,IF(Z31<92.4,36,IF(Z31<94.9,45,IF(Z31<97.4,54,IF(Z31<99.9,63,72))))))) -> 0 | AF31: =IF(AG31=2,AH31,AI31) -> 0 | AG31: =COUNTIF(E31:E33,">1") -> 2 | AH31: =IF(AB31=1,AJ31,AK31) -> 0 | AI31: =IF(AB31=1,AL31,IF(AB31=2,AM31,AK31)) -> 0 | AJ31: =IF(AA31<84.9,0,IF(AA31<87.4,12,IF(AA31<89.9,18,IF(AA31<92.4,24,IF(AA31<94.9,30,IF(AA31<97.4,36,IF(AA31<99.9,42,48))))))) -> 0 | AK31: =IF(AA31<84.9,0,IF(AA31<87.4,24,IF(AA31<89.9,36,IF(AA31<92.4,48,IF(AA31<94.9,60,IF(AA31<97.4,72,IF(AA31<99.9,84,96))))))) -> 0 | AL31: =IF(AA31<84.9,0,IF(AA31<87.4,8,IF(AA31<89.9,12,IF(AA31<92.4,16,IF(AA31<94.9,20,IF(AA31<97.4,24,IF(AA31<99.9,28,32))))))) -> 0 | AM31: =IF(AO31<84.9,0,IF(AO31<87.4,16,IF(AO31<89.9,24,IF(AO31<92.4,32,IF(AO31<94.9,40,IF(AO31<97.4,48,IF(AO31<99.9,56,64))))))) -> 0 | AO31: =(SUM(E31:E33)-MIN(E31:E33))/2 -> 34.25
C32: Геронимус Макс | D32: 10.2 | E32: 68.5 | G32: 12 | H32: 41.69 | I32: =IF(E32<84.9,0,IF(E32<87.4,0.1,IF(E32<89.9,0.15,IF(E32<92.4,0.2,IF(E32<94.9,0.25,IF(E32<97.4,0.3,IF(E32<99.9,0.35,0.4))))))) -> 0 | J32: =H32-I32 -> 41.69
D33: 10-3 | I33: =IF(E33<84.9,0,IF(E33<87.4,0.1,IF(E33<89.9,0.15,IF(E33<92.4,0.2,IF(E33<94.9,0.25,IF(E33<97.4,0.3,IF(E33<99.9,0.35,0.4))))))) -> 0 | J33: =H33-I33 -> 0
A34: 11 | B34: Fortuna Racing | C34: Фортуна Таня | D34: 11-1 | E34: 67.4 | F34: =IF(M6=3,AC34,AF34) -> 0 | G34: 13 | H34: 41.89 | I34: =IF(E34<84.9,0,IF(E34<87.4,0.1,IF(E34<89.9,0.15,IF(E34<92.4,0.2,IF(E34<94.9,0.25,IF(E34<97.4,0.3,IF(E34<99.9,0.35,0.4))))))) -> 0 | J34: =H34-I34 -> 41.89 | K34: =AVERAGE(J34:J35) -> 41.875 | L34: =RANK(K34,K7:K58,1) -> 10 | Z34: =AVERAGE(E34:E36) -> 75.5 | AA34: =IF(E34>84.9,E34,E35) -> 83.6 | AB34: =COUNTIF(E34:E36,">84.9") -> 0 | AC34: =IF(AB34=1,AD34,AE34) -> 0 | AD34: =IF(AA34<84.9,0,IF(AA34<87.4,9,IF(AA34<89.9,13.5,IF(AA34<92.4,18,IF(AA34<94.9,22.5,IF(AA34<97.4,27,IF(AA34<99.9,31.5,36))))))) -> 0 | AE34: =IF(Z34<84.9,0,IF(Z34<87.4,18,IF(Z34<89.9,27,IF(Z34<92.4,36,IF(Z34<94.9,45,IF(Z34<97.4,54,IF(Z34<99.9,63,72))))))) -> 0 | AF34: =IF(AG34=2,AH34,AI34) -> 0 | AG34: =COUNTIF(E34:E36,">1") -> 2 | AH34: =IF(AB34=1,AJ34,AK34) -> 0 | AI34: =IF(AB34=1,AL34,IF(AB34=2,AM34,AK34)) -> 0 | AJ34: =IF(AA34<84.9,0,IF(AA34<87.4,12,IF(AA34<89.9,18,IF(AA34<92.4,24,IF(AA34<94.9,30,IF(AA34<97.4,36,IF(AA34<99.9,42,48))))))) -> 0 | AK34: =IF(AA34<84.9,0,IF(AA34<87.4,24,IF(AA34<89.9,36,IF(AA34<92.4,48,IF(AA34<94.9,60,IF(AA34<97.4,72,IF(AA34<99.9,84,96))))))) -> 0 | AL34: =IF(AA34<84.9,0,IF(AA34<87.4,8,IF(AA34<89.9,12,IF(AA34<92.4,16,IF(AA34<94.9,20,IF(AA34<97.4,24,IF(AA34<99.9,28,32))))))) -> 0 | AM34: =IF(AO34<84.9,0,IF(AO34<87.4,16,IF(AO34<89.9,24,IF(AO34<92.4,32,IF(AO34<94.9,40,IF(AO34<97.4,48,IF(AO34<99.9,56,64))))))) -> 0 | AO34: =(SUM(E34:E36)-MIN(E34:E36))/2 -> 41.8
C35: Шутка Виталий | D35: 11-2 | E35: 83.6 | G35: 14 | H35: 41.86 | I35: =IF(E35<84.9,0,IF(E35<87.4,0.1,IF(E35<89.9,0.15,IF(E35<92.4,0.2,IF(E35<94.9,0.25,IF(E35<97.4,0.3,IF(E35<99.9,0.35,0.4))))))) -> 0 | J35: =H35-I35 -> 41.86
D36: 11-3 | I36: =IF(E36<84.9,0,IF(E36<87.4,0.1,IF(E36<89.9,0.15,IF(E36<92.4,0.2,IF(E36<94.9,0.25,IF(E36<97.4,0.3,IF(E36<99.9,0.35,0.4))))))) -> 0 | J36: =H36-I36 -> 0
A37: 12 | B37: Ingul kart Acadamy | C37: Гладышев Степан | D37: 12-1 | E37: 84.8 | F37: =IF(M6=3,AC37,AF37) -> 8 | I37: =IF(E37<84.9,0,IF(E37<87.4,0.1,IF(E37<89.9,0.15,IF(E37<92.4,0.2,IF(E37<94.9,0.25,IF(E37<97.4,0.3,IF(E37<99.9,0.35,0.4))))))) -> 0 | J37: =H37-I37 -> 0 | K37: =AVERAGE(J38,J39) -> 42.155 | L37: =RANK(K37,K7:K58,1) -> 16 | Z37: =AVERAGE(E37:E39) -> 84.1 | AA37: =IF(E37>84.9,E37,E38) -> 86.8 | AB37: =COUNTIF(E37:E39,">84.9") -> 1 | AC37: =IF(AB37=1,AD37,AE37) -> 9 | AD37: =IF(AA37<84.9,0,IF(AA37<87.4,9,IF(AA37<89.9,13.5,IF(AA37<92.4,18,IF(AA37<94.9,22.5,IF(AA37<97.4,27,IF(AA37<99.9,31.5,36))))))) -> 9 | AE37: =IF(Z37<84.9,0,IF(Z37<87.4,18,IF(Z37<89.9,27,IF(Z37<92.4,36,IF(Z37<94.9,45,IF(Z37<97.4,54,IF(Z37<99.9,63,72))))))) -> 0 | AF37: =IF(AG37=2,AH37,AI37) -> 8 | AG37: =COUNTIF(E37:E39,">1") -> 3 | AH37: =IF(AB37=1,AJ37,AK37) -> 12 | AI37: =IF(AB37=1,AL37,IF(AB37=2,AM37,AK37)) -> 8 | AJ37: =IF(AA37<84.9,0,IF(AA37<87.4,12,IF(AA37<89.9,18,IF(AA37<92.4,24,IF(AA37<94.9,30,IF(AA37<97.4,36,IF(AA37<99.9,42,48))))))) -> 12 | AK37: =IF(AA37<84.9,0,IF(AA37<87.4,24,IF(AA37<89.9,36,IF(AA37<92.4,48,IF(AA37<94.9,60,IF(AA37<97.4,72,IF(AA37<99.9,84,96))))))) -> 24 | AL37: =IF(AA37<84.9,0,IF(AA37<87.4,8,IF(AA37<89.9,12,IF(AA37<92.4,16,IF(AA37<94.9,20,IF(AA37<97.4,24,IF(AA37<99.9,28,32))))))) -> 8 | AM37: =IF(AO37<84.9,0,IF(AO37<87.4,16,IF(AO37<89.9,24,IF(AO37<92.4,32,IF(AO37<94.9,40,IF(AO37<97.4,48,IF(AO37<99.9,56,64))))))) -> 16 | AO37: =(SUM(E37:E39)-MIN(E37:E39))/2 -> 85.8
C38: Сивак Максим | D38: 12-2 | E38: 86.8 | G38: 15 | H38: 42.25 | I38: =IF(E38<84.9,0,IF(E38<87.4,0.1,IF(E38<89.9,0.15,IF(E38<92.4,0.2,IF(E38<94.9,0.25,IF(E38<97.4,0.3,IF(E38<99.9,0.35,0.4))))))) -> 0.1 | J38: =H38-I38 -> 42.15
C39: Демьяненко Дмитрий | D39: 12-3 | E39: 80.7 | G39: 14 | H39: 42.16 | I39: =IF(E39<84.9,0,IF(E39<87.4,0.1,IF(E39<89.9,0.15,IF(E39<92.4,0.2,IF(E39<94.9,0.25,IF(E39<97.4,0.3,IF(E39<99.9,0.35,0.4))))))) -> 0 | J39: =H39-I39 -> 42.16
A40: 13 | B40: G.A.T | C40: Любина Елена | D40: 13-1 | E40: 65.2 | F40: =IF(M6=3,AC40,AF40) -> 0 | G40: 15 | H40: 41.84 | I40: =IF(E40<84.9,0,IF(E40<87.4,0.1,IF(E40<89.9,0.15,IF(E40<92.4,0.2,IF(E40<94.9,0.25,IF(E40<97.4,0.3,IF(E40<99.9,0.35,0.4))))))) -> 0 | J40: =H40-I40 -> 41.84 | K40: =AVERAGE(J40:J41) -> 42.01 | L40: =RANK(K40,K7:K58,1) -> 13 | Z40: =AVERAGE(E40:E42) -> 63.45 | AA40: =IF(E40>84.9,E40,E41) -> 61.7 | AB40: =COUNTIF(E40:E42,">84.9") -> 0 | AC40: =IF(AB40=1,AD40,AE40) -> 0 | AD40: =IF(AA40<84.9,0,IF(AA40<87.4,9,IF(AA40<89.9,13.5,IF(AA40<92.4,18,IF(AA40<94.9,22.5,IF(AA40<97.4,27,IF(AA40<99.9,31.5,36))))))) -> 0 | AE40: =IF(Z40<84.9,0,IF(Z40<87.4,18,IF(Z40<89.9,27,IF(Z40<92.4,36,IF(Z40<94.9,45,IF(Z40<97.4,54,IF(Z40<99.9,63,72))))))) -> 0 | AF40: =IF(AG40=2,AH40,AI40) -> 0 | AG40: =COUNTIF(E40:E42,">1") -> 2 | AH40: =IF(AB40=1,AJ40,AK40) -> 0 | AI40: =IF(AB40=1,AL40,IF(AB40=2,AM40,AK40)) -> 0 | AJ40: =IF(AA40<84.9,0,IF(AA40<87.4,12,IF(AA40<89.9,18,IF(AA40<92.4,24,IF(AA40<94.9,30,IF(AA40<97.4,36,IF(AA40<99.9,42,48))))))) -> 0 | AK40: =IF(AA40<84.9,0,IF(AA40<87.4,24,IF(AA40<89.9,36,IF(AA40<92.4,48,IF(AA40<94.9,60,IF(AA40<97.4,72,IF(AA40<99.9,84,96))))))) -> 0 | AL40: =IF(AA40<84.9,0,IF(AA40<87.4,8,IF(AA40<89.9,12,IF(AA40<92.4,16,IF(AA40<94.9,20,IF(AA40<97.4,24,IF(AA40<99.9,28,32))))))) -> 0 | AM40: =IF(AO40<84.9,0,IF(AO40<87.4,16,IF(AO40<89.9,24,IF(AO40<92.4,32,IF(AO40<94.9,40,IF(AO40<97.4,48,IF(AO40<99.9,56,64))))))) -> 0 | AO40: =(SUM(E40:E42)-MIN(E40:E42))/2 -> 32.6
C41: Геронимус К. | D41: 13-2 | E41: 61.7 | G41: 16 | H41: 42.18 | I41: =IF(E41<84.9,0,IF(E41<87.4,0.1,IF(E41<89.9,0.15,IF(E41<92.4,0.2,IF(E41<94.9,0.25,IF(E41<97.4,0.3,IF(E41<99.9,0.35,0.4))))))) -> 0 | J41: =H41-I41 -> 42.18
...

Sheet K44
A2: Чемпионат мини марафон "Большие Гонки", 10-й этап
A4: K44
A6: Обяза-тельные | B6: Пилот | C6: карт | D6: Круг | E6: кругов на отрезке | F6: Статистика по кругам | J6: Общее время гонки | K6: Время на трассе
F7: Лучший круг | G7: Среднее на отрезке | H7: Кругов в 0,1 от лучшего | I7: стабильность | K7: отрезок | L7: всего у пилота | M7: Питы | N7: Штрафы/ бонусы (сек)
A8: 1 | B8: Лысенский Денис | C8: 69 | D8: =COUNTA(C21:C85) -> 38 | E8: =COUNTA(C21:C85) -> 38 | F8: =MIN(C21:C84) -> 41.68 | G8: =AVERAGE(C21:C87) -> 42.087105 | H8: 2 | I8: =G8-F8 -> 0.40710526 | J8: 0.019053484 | K8: =J8 -> 0.019053484 | L8: =K8 -> 0.019053484 | M8: 2:18.59
A9: 2 | B9: Наум | C9: 16 | D9: =COUNTA(D21:D85)+D8+1 -> 81 | E9: =COUNTA(D21:D85)+1 -> 43 | F9: =MIN(D21:D84) -> 41.69 | G9: =AVERAGE(D21:D86) -> 42.160714 | H9: 4 | I9: =G9-F9 -> 0.47071429 | J9: 0.041157419 | K9: =J9-J8 -> 0.022103935 | L9: =K9 -> 0.022103935 | M9: 2:18.32
A10: 3 | B10: Лысенский Денис | C10: 17 | D10: =COUNTA(E21:E85)+D9+1 -> 134 | E10: =COUNTA(E21:E85)+1 -> 53 | F10: =MIN(E21:E86) -> 41.72 | G10: =AVERAGE(E21:E87) -> 42.002885 | H10: 6 | I10: =G10-F10 -> 0.28288462 | J10: 0.068040012 | K10: =J10-J9 -> 0.026882593 | L10: =K10+L8 -> 0.045936076 | M10: 2:19.39
A11: 4 | B11: Наум | C11: 9 | D11: =COUNTA(F21:F85)+D10+1 -> 153 | E11: =COUNTA(F21:F85)+1 -> 19 | F11: =MIN(F21:F86) -> 41.98 | G11: =AVERAGE(F21:F86) -> 42.238889 | H11: 3 | I11: =G11-F11 -> 0.25888889 | J11: 0.078455683 | K11: =J11-J10 -> 0.010415671 | L11: =K11+L9 -> 0.032519606 | M11: 2:19.36
A12: 5 | B12: Наум | C12: 69 | D12: =COUNTA(G21:G85)+D11+1 -> 214 | E12: =COUNTA(G21:G85)+1 -> 61 | F12: =MIN(G21:G86) -> 41.56 | G12: =AVERAGE(G21:G886) -> 41.923833 | H12: 4 | I12: =G12-F12 -> 0.36383333 | J12: 0.10918207 | K12: =J12-J11 -> 0.030726389 | L12: =K12+L11 -> 0.063245995 | M12: 2:18.37
A13: 6 | B13: Лысенский Денис | C13: 1 | D13: =COUNTA(H21:H85)+D12+1 -> 235 | E13: =COUNTA(H21:H85)+1 -> 21 | F13: =MIN(H21:H86) -> 42.04 | G13: =AVERAGE(H21:H86) -> 42.4105 | H13: 4 | I13: =G13-F13 -> 0.3705 | J13: 0.12059949 | K13: =J13-J12 -> 0.011417419 | L13: =K13+L10 -> 0.057353495 | M13: 2:18.43
A14: 7 | B14: Лысенский Денис | C14: 15 | D14: =COUNTA(I21:I85)+D13+1 -> 280 | E14: =COUNTA(I21:I85)+1 -> 45 | F14: =MIN(I21:I86) -> 41.89 | G14: =AVERAGE(I21:I86) -> 42.165227 | H14: 7 | I14: =G14-F14 -> 0.27522727 | J14: 0.14367769 | K14: =J14-J13 -> 0.023078194 | L14: =K14+L13 -> 0.08043169 | M14: 2:18.08
A15: Финиш | B15: Наум | C15: 4 | D15: =COUNTA(J21:J85)+D14+1 -> 327 | E15: =COUNTA(J21:J85)+1 -> 47 | F15: =MIN(J21:J86) -> 41.75 | G15: =AVERAGE(J21:J86) -> 41.988696 | H15: 9 | I15: =G15-F15 -> 0.23869565 | J15: ='Общие результаты'!G6 -> 4:00:44 | K15: =J15-J14 -> 0.023498241 | L15: =K15+L12 -> 0.086744236 | N15: +5 | O15: лимит
F16: =AVERAGE(F8,F10,F13,F14) -> 41.8325 | G16: =AVERAGE(G8,G10,G13,G14) -> 42.166429 | H16: Денис | I16: =AVERAGE(I8,I10,I13,I14) -> 0.33392929
F17: =AVERAGE(F9,F11,F12,F15) -> 41.745 | G17: =AVERAGE(G9,G11,G12,G15) -> 42.078033 | H17: Наум | I17: =AVERAGE(I9,I11,I12,I15) -> 0.33303304
F18: =AVERAGE(F8:F15) -> 41.78875 | G18: =AVERAGE(C21:J90) -> 42.077813 | I18: =AVERAGE(I8:I15) -> 0.33348116
C20: =B8 -> Лысенский Денис | D20: =B9 -> Наум | E20: =B10 -> Лысенский Денис | F20: =B11 -> Наум | G20: =B12 -> Наум | H20: =B13 -> Лысенский Денис | I20: =B14 -> Лысенский Денис | J20: =B15 -> Наум
B21: 1 | C21: 44.35 | D21: 43.63 | E21: 42.96 | F21: 42.72 | G21: 42.62 | H21: 43.24 | I21: 42.89 | J21: 42.9
B22: 2 | C22: 42.32 | D22: 42.09 | E22: 42.12 | F22: 42.05 | G22: 41.89 | H22: 42.37 | I22: 42.27 | J22: 42.27
B23: 3 | C23: 42.98 | D23: 42.02 | E23: 42.11 | F23: 42.49 | G23: 41.61 | H23: 42.85 | I23: 42.21 | J23: 42.1
B24: 4 | C24: 42.11 | D24: 42.1 | E24: 42.12 | F24: 42.17 | G24: 41.75 | H24: 42.69 | I24: 42.14 | J24: 41.88
B25: 5 | C25: 42.79 | D25: 42.08 | E25: 42.61 | F25: 41.98 | G25: 41.95 | H25: 42.41 | I25: 42.09 | J25: 41.9
B26: 6 | C26: 42.01 | D26: 43.7 | E26: 41.97 | F26: 42.16 | G26: 42.06 | H26: 42.2 | I26: 42 | J26: 41.93
B27: 7 | C27: 43.11 | D27: 42.06 | E27: 41.97 | F27: 42.72 | G27: 42.32 | H27: 42.06 | I27: 42.22 | J27: 41.91
B28: 8 | C28: 41.83 | D28: 42.09 | E28: 41.99 | F28: 42.26 | G28: 41.82 | H28: 42.11 | I28: 41.98 | J28: 42
B29: 9 | C29: 41.91 | D29: 42.39 | E29: 42.03 | F29: 42.35 | G29: 41.86 | H29: 42.12 | I29: 42.07 | J29: 42.1
B30: 10 | C30: 42.07 | D30: 42.31 | E30: 41.99 | F30: 42.15 | G30: 41.78 | H30: 42.25 | I30: 41.95 | J30: 41.96
B31: 11 | C31: 41.91 | D31: 41.86 | E31: 41.88 | F31: 42.22 | G31: 41.69 | H31: 42.14 | I31: 42.02 | J31: 42.01
B32: 12 | C32: 42 | D32: 41.69 | E32: 42.05 | F32: 42.16 | G32: 41.74 | H32: 42.04 | I32: 42.31 | J32: 42.05
... B38: 18 | C38: 41.68 | D38: 41.85 | E38: 42 | F38: 42.25 | G38: 41.65 | H38: 42.25 | I38: 42.18 | J38: 41.92
B39: 19 | C39: 42.17 | D39: 42.12 | E39: 41.89 | G39: 41.64 | H39: 42.82 | I39: 42.48 | J39: 41.82
B40: 20 | C40: 41.86 | D40: 41.83 | E40: 41.94 | G40: 41.78 | H40: 42.43 | I40: 42.19 | J40: 42.04
B41: 21 | C41: 41.75 | D41: 41.89 | E41: 42.12 | G41: 41.92 | I41: 41.99 | J41: 41.93
B42: 22 | C42: 41.96 | D42: 43.3 | E42: 41.78 | G42: 41.73 | I42: 41.96 | J42: 41.83
B43: 23 | C43: 41.97 | D43: 43.39 | E43: 42.06 | G43: 41.85 | I43: 42.06 | J43: 41.95
B44: 24 | C44: 41.94 | D44: 42.05 | E44: 41.78 | G44: 41.78 | I44: 42.11 | J44: 41.91
B45: 25 | C45: 42.19 | D45: 42.75 | E45: 42.07 | G45: 41.81 | I45: 41.89 | J45: 41.84
B46: 26 | C46: 41.92 | D46: 41.96 | E46: 42.01 | G46: 41.85 | I46: 42.52 | J46: 41.86
B47: 27 | C47: 41.98 | D47: 41.85 | E47: 42.11 | G47: 41.91 | I47: 42.16 | J47: 42.2
B48: 28 | C48: 42.02 | D48: 41.74 | E48: 42.12 | G48: 41.85 | I48: 42.31 | J48: 41.84
B49: 29 | C49: 42.08 | D49: 42.16 | E49: 41.78 | G49: 41.75 | I49: 42.17 | J49: 41.8
...

Sheet NSJ
A2: Чемпионат мини марафон "Большие Гонки", 10-й этап
A4: NSJ
A6: Обяза-тельные | B6: Пилот | C6: карт | D6: Круг | E6: кругов на отрезке | F6: Статистика по кругам | J6: Общее время гонки | K6: Время на трассе
F7: Лучший круг | G7: Среднее на отрезке | H7: Кругов в 0,1 от лучшего | I7: стабильность | K7: отрезок | L7: всего у пилота | M7: Питы | N7: Штрафы/ бонусы (сек)
A8: 1 | B8: Тыщенко Миша | C8: 8 | D8: =COUNTA(C21:C85) -> 38 | E8: =COUNTA(C21:C85) -> 38 | F8: =MIN(C21:C84) -> 41.67 | G8: =AVERAGE(C21:C87) -> 42.156316 | H8: 1 | I8: =G8-F8 -> 0.48631579 | J8: 0.019091644 | K8: =J8 -> 0.019091644 | L8: =K8 -> 0.019091644 | M8: 2:18.97
A9: 2 | B9: Мифтахутдинов Ильяс | C9: 6 | D9: =COUNTA(D21:D85)+D8+1 -> 59 | E9: =COUNTA(D21:D85)+1 -> 21 | F9: =MIN(D21:D84) -> 41.94 | G9: =AVERAGE(D21:D86) -> 42.2535 | H9: 3 | I9: =G9-F9 -> 0.3135 | J9: 0.030460428 | K9: =J9-J8 -> 0.011368785 | L9: =K9 -> 0.011368785 | M9: 2:00.74 | N9: -18 | O9: бонус за вес
A10: 3 | B10: Тыщенко Миша | C10: 44 | D10: =COUNTA(E21:E85)+D9+1 -> 88 | E10: =COUNTA(E21:E85)+1 -> 29 | F10: =MIN(E21:E86) -> 41.88 | G10: =AVERAGE(E21:E87) -> 42.114643 | H10: 7 | I10: =G10-F10 -> 0.23464286 | J10: 0.045507014 | K10: =J10-J9 -> 0.015046586 | L10: =K10+L8 -> 0.034138229 | M10: 2:18.89
A11: 4 | B11: Мифтахутдинов Ильяс | C11: 18 | D11: =COUNTA(F21:F85)+D10+1 -> 132 | E11: =COUNTA(F21:F85)+1 -> 44 | F11: =MIN(F21:F86) -> 41.89 | G11: =AVERAGE(F21:F86) -> 42.157209 | H11: 12 | I11: =G11-F11 -> 0.2672093 | J11: 0.068100868 | K11: =J11-J10 -> 0.022593854 | L11: =K11+L9 -> 0.033962639 | M11: 2:18.46
A12: 5 | B12: Тыщенко Миша | C12: 15 | D12: =COUNTA(G21:G85)+D11+1 -> 189 | E12: =COUNTA(G21:G85)+1 -> 57 | F12: =MIN(G21:G86) -> 41.71 | G12: =AVERAGE(G21:G886) -> 42.111429 | H12: 0 | I12: =G12-F12 -> 0.40142857 | J12: 0.097020729 | K12: =J12-J11 -> 0.028919861 | L12: =K12+L10 -> 0.06305809 | M12: 2:21.07
A13: 6 | B13: Мифтахутдинов Ильяс | C13: 3 | D13: =COUNTA(H21:H85)+D12+1 -> 218 | E13: =COUNTA(H21:H85)+1 -> 29 | F13: =MIN(H21:H86) -> 42.09 | G13: =AVERAGE(H21:H86) -> 42.328571 | H13: 7 | I13: =G13-F13 -> 0.23857143 | J13: 0.11235171 | K13: =J13-J12 -> 0.015330984 | L13: =K13+L11 -> 0.049293623 | M13: 2:18.99
A14: 7 | B14: Мифтахутдинов Ильяс | C14: 4 | D14: =COUNTA(I21:I85)+D13+1 -> 276 | E14: =COUNTA(I21:I85)+1 -> 58 | F14: =MIN(I21:I86) -> 41.9 | G14: =AVERAGE(I21:I86) -> 42.074211 | H14: 18 | I14: =G14-F14 -> 0.17421053 | J14: 0.14172138 | K14: =J14-J13 -> 0.029369664 | L14: =K14+L13 -> 0.078663287 | M14: 2:19.47
A15: Финиш | B15: Тыщенко Миша | C15: 21 | D15: =COUNTA(J21:J85)+D14+1 -> 327 | E15: =COUNTA(J21:J85)+1 -> 51 | F15: =MIN(J21:J86) -> 41.91 | G15: =AVERAGE(J21:J86) -> 42.198 | H15: 7 | I15: =G15-F15 -> 0.288 | J15: 4:00:44 | K15: =J15-J14 -> 0.025454549 | L15: =K15+L12 -> 0.088512639
F16: =AVERAGE(F8,F10,F12,F15) -> 41.7925 | G16: =AVERAGE(G8,G10,G12,G15) -> 42.145097 | H16: Миша | I16: =AVERAGE(I8,I10,I12,I15) -> 0.3525968
F17: =AVERAGE(F9,F11,F13,F14) -> 41.955 | G17: =AVERAGE(G9,G11,G13,G14) -> 42.203373 | H17: Ильяс | I17: =AVERAGE(I9,I11,I13,I14) -> 0.24837281
F18: =AVERAGE(F8:F15) -> 41.87375 | G18: =AVERAGE(C21:J90) -> 42.157969 | I18: =AVERAGE(I8:I15) -> 0.30048481
C20: =B8 -> Тыщенко Миша | D20: =B9 -> Мифтахутдинов Ильяс | E20: =B10 -> Тыщенко Миша | F20: =B11 -> Мифтахутдинов Ильяс | G20: =B12 -> Тыщенко Миша | H20: =B13 -> Мифтахутдинов Ильяс | I20: =B14 -> Мифтахутдинов Ильяс | J20: =B15 -> Тыщенко Миша
B21: 1 | C21: 44.74 | D21: 43.61 | E21: 43.12 | F21: 43.47 | G21: 43.23 | H21: 43 | I21: 42.81 | J21: 43.03
B22: 2 | C22: 42.33 | D22: 42.49 | E22: 42.24 | F22: 42.3 | G22: 42.35 | H22: 42.6 | I22: 41.99 | J22: 42.29
B23: 3 | C23: 44.27 | D23: 42.34 | E23: 42.95 | F23: 42.23 | G23: 42.27 | H23: 42.12 | I23: 41.95 | J23: 42.23
B24: 4 | C24: 42.33 | D24: 42.32 | E24: 42.03 | F24: 42.08 | G24: 43.16 | H24: 42.39 | I24: 42.02 | J24: 42.38
B25: 5 | C25: 42.44 | D25: 42.15 | E25: 42.12 | F25: 42.18 | G25: 42.33 | H25: 42.15 | I25: 42.02 | J25: 42.17
B26: 6 | C26: 42.11 | D26: 42.42 | E26: 41.97 | F26: 42.81 | G26: 42.56 | H26: 42.17 | I26: 42.11 | J26: 42.56
B27: 7 | C27: 42.72 | D27: 42.16 | E27: 42.08 | F27: 42.07 | G27: 42.15 | H27: 42.94 | I27: 42.17 | J27: 42.45
B28: 8 | C28: 41.93 | D28: 41.94 | E28: 42.13 | F28: 42.44 | G28: 42.01 | H28: 42.72 | I28: 42.03 | J28: 42.14
B29: 9 | C29: 41.81 | D29: 42.25 | E29: 42 | F29: 42 | G29: 42.04 | H29: 42.33 | I29: 42.07 | J29: 42.18
B30: 10 | C30: 42.1 | D30: 42.17 | E30: 42.04 | F30: 42.05 | G30: 41.94 | H30: 42.23 | I30: 42.69 | J30: 42.13
B31: 11 | C31: 42.02 | D31: 42.14 | E31: 41.88 | F31: 42.09 | G31: 42.11 | H31: 42.3 | I31: 42.06 | J31: 42.13
B32: 12 | C32: 41.91 | D32: 42.19 | E32: 41.93 | F32: 42.38 | G32: 42.77 | H32: 42.29 | I32: 41.92 | J32: 42.23
... B40: 20 | C40: 42.07 | D40: 42.09 | E40: 41.91 | F40: 41.89 | G40: 41.93 | H40: 42.31 | I40: 42.07 | J40: 42.13
B41: 21 | C41: 42.15 | E41: 42.16 | F41: 42.14 | G41: 42.4 | H41: 42.14 | I41: 42.28 | J41: 42.19
B42: 22 | C42: 42.44 | E42: 42.02 | F42: 42.42 | G42: 42.57 | H42: 42.17 | I42: 42.39 | J42: 42.4
B43: 23 | C43: 41.97 | E43: 42.03 | F43: 41.99 | G43: 41.98 | H43: 42.21 | I43: 42.22 | J43: 42.17
B44: 24 | C44: 42.01 | E44: 42.06 | F44: 42.12 | G44: 42.01 | H44: 42.09 | I44: 42.01 | J44: 42.1
B45: 25 | C45: 41.8 | E45: 42.06 | F45: 41.93 | G45: 41.9 | H45: 42.28 | I45: 41.98 | J45: 42.09
B46: 26 | C46: 42.06 | E46: 42.01 | F46: 42.09 | G46: 42.17 | H46: 42.26 | I46: 42.04 | J46: 42.14
B47: 27 | C47: 41.98 | E47: 41.92 | F47: 41.96 | G47: 42.13 | H47: 42.29 | I47: 42.02 | J47: 42.34
B48: 28 | C48: 42.02 | E48: 42.01 | F48: 42.09 | G48: 42 | H48: 42.43 | I48: 41.95 | J48: 42.25
B49: 29 | C49: 42.08 | F49: 41.96 | G49: 41.91 | I49: 41.96 | J49: 41.91
B50: 30 | C50: 42.08 | F50: 42 | G50: 42 | I50: 41.94 | J50: 42.12
B51: 31 | C51: 41.85 | F51: 42.05 | G51: 42 | I51: 42.06 | J51: 42.4
...

Sheet Kart Freedom Rt
A2: Чемпионат мини марафон "Большие Гонки", 10-й этап
A4: Kart Freedom Rt
A6: Обяза-тельные | B6: Пилот | C6: карт | D6: Круг | E6: кругов на отрезке | F6: Статистика по кругам | J6: Общее время гонки | K6: Время на трассе
F7: Лучший круг | G7: Среднее на отрезке | H7: Кругов в 0,1 от лучшего | I7: стабильность | K7: отрезок | L7: всего у пилота | M7: Питы | N7: Штрафы/ бонусы (сек)
A8: 1 | B8: Терещенко Андрей | C8: 15 | D8: =COUNTA(C21:C85) -> 21 | E8: =COUNTA(C21:C85) -> 21 | F8: =MIN(C21:C84) -> 42.23 | G8: =AVERAGE(C21:C87) -> 42.69 | H8: 5 | I8: =G8-F8 -> 0.46 | J8: 0.010919132 | K8: =J8 -> 0.010919132 | L8: =K8 -> 0.010919132 | M8: 2:19.44
A9: 2 | B9: Медведева Даша | C9: 3 | D9: =COUNTA(D21:D85)+D8+1 -> 48 | E9: =COUNTA(D21:D85)+1 -> 27 | F9: =MIN(D21:D84) -> 41.91 | G9: =AVERAGE(D21:D86) -> 42.383462 | H9: 2 | I9: =G9-F9 -> 0.47346154 | J9: 0.025293542 | K9: =J9-J8 -> 0.01437441 | L9: =K9 -> 0.01437441 | M9: 1:55.73 | N9: -24 | O9: бонус за вес
A10: 3 | B10: Терещенко Андрей | C10: 21 | D10: =COUNTA(E21:E85)+D9+1 -> 90 | E10: =COUNTA(E21:E85)+1 -> 42 | F10: =MIN(E21:E86) -> 41.91 | G10: =AVERAGE(E21:E87) -> 42.160976 | H10: 7 | I10: =G10-F10 -> 0.25097561 | J10: 0.046642743 | K10: =J10-J9 -> 0.021349201 | L10: =K10+L8 -> 0.032268333 | M10: 2:18.77
A11: 4 | B11: Медведева Даша | C11: 4 | D11: =COUNTA(F21:F85)+D10+1 -> 152 | E11: =COUNTA(F21:F85)+1 -> 62 | F11: =MIN(F21:F86) -> 41.53 | G11: =AVERAGE(F21:F86) -> 41.95623 | H11: 4 | I11: =G11-F11 -> 0.42622951 | J11: 0.077867917 | K11: =J11-J10 -> 0.031225174 | L11: =K11+L9 -> 0.045599583 | M11: 2:19.13
A12: 5 | B12: Терещенко Андрей | C12: 12 | D12: =COUNTA(G21:G85)+D11+1 -> 208 | E12: =COUNTA(G21:G85)+1 -> 56 | F12: =MIN(G21:G86) -> 41.93 | G12: =AVERAGE(G21:G886) -> 42.205636 | H12: 6 | I12: =G12-F12 -> 0.27563636 | J12: 0.10634064 | K12: =J12-J11 -> 0.02847272 | L12: =K12+L10 -> 0.060741053 | M12: 2:18.81
A13: 6 | B13: Медведева Даша | C13: 44 | D13: =COUNTA(H21:H85)+D12+1 -> 235 | E13: =COUNTA(H21:H85)+1 -> 27 | F13: =MIN(H21:H86) -> 41.86 | G13: =AVERAGE(H21:H86) -> 42.371154 | H13: 0 | I13: =G13-F13 -> 0.51115385 | J13: 0.12070689 | K13: =J13-J12 -> 0.01436625 | L13: =K13+L11 -> 0.059965833 | M13: 2:18.79
A14: 7 | B14: Медведева Даша | C14: 11 | D14: =COUNTA(I21:I85)+D13+1 -> 279 | E14: =COUNTA(I21:I85)+1 -> 44 | F14: =MIN(I21:I86) -> 41.84 | G14: =AVERAGE(I21:I86) -> 42.146047 | H14: 6 | I14: =G14-F14 -> 0.30604651 | J14: 0.14330784 | K14: =J14-J13 -> 0.022600949 | L14: =K14+L13 -> 0.082566782 | M14: 2:20.01
A15: Финиш | B15: Терещенко Андрей | C15: 9 | D15: =COUNTA(J21:J85)+D14+1 -> 327 | E15: =COUNTA(J21:J85)+1 -> 48 | F15: =MIN(J21:J86) -> 42.12 | G15: =AVERAGE(J21:J86) -> 42.319787 | H15: 14 | I15: =G15-F15 -> 0.19978723 | J15: ='Общие результаты'!G6 -> 4:00:44 | K15: =J15-J14 -> 0.02386809 | L15: =K15+L12 -> 0.084609144
F16: =AVERAGE(F8,F10,F12,F15) -> 42.0475 | G16: =AVERAGE(G8,G10,G12,G15) -> 42.3441 | H16: Андрей | I16: =AVERAGE(I8,I10,I12,I15) -> 0.2965998
F17: =AVERAGE(F9,F11,F13,F14) -> 41.785 | G17: =AVERAGE(G9,G11,G13,G14) -> 42.214223 | H17: Даша | I17: =AVERAGE(I9,I11,I13,I14) -> 0.42922285
F18: =AVERAGE(F8:F15) -> 41.91625 | G18: =AVERAGE(C21:J90) -> 42.220812 | I18: =AVERAGE(I8:I15) -> 0.36291133
C20: =B8 -> Терещенко Андрей | D20: =B9 -> Медведева Даша | E20: =B10 -> Терещенко Андрей | F20: =B11 -> Медведева Даша | G20: =B12 -> Терещенко Андрей | H20: =B13 -> Медведева Даша | I20: =B14 -> Медведева Даша | J20: =B15 -> Терещенко Андрей
B21: 1 | C21: 45.06 | D21: 43.35 | E21: 43.09 | F21: 43.46 | G21: 43.55 | H21: 43.72 | I21: 42.82 | J21: 43.02
B22: 2 | C22: 42.86 | D22: 42.43 | E22: 42.28 | F22: 42.14 | G22: 43.01 | H22: 42.2 | I22: 42.3 | J22: 42.22
B23: 3 | C23: 43.75 | D23: 42.56 | E23: 42.65 | F23: 42.42 | G23: 42.29 | H23: 42.39 | I23: 41.92 | J23: 42.36
B24: 4 | C24: 42.31 | D24: 42.27 | E24: 42.24 | F24: 41.87 | G24: 42.18 | H24: 42.11 | I24: 42.02 | J24: 42.51
B25: 5 | C25: 42.64 | D25: 42.12 | E25: 42.09 | F25: 41.88 | G25: 42.19 | H25: 42.3 | I25: 42.16 | J25: 42.46
B26: 6 | C26: 42.49 | D26: 42.3 | E26: 42.2 | F26: 41.85 | G26: 42.08 | H26: 41.86 | I26: 42.45 | J26: 42.36
B27: 7 | C27: 42.33 | D27: 42.15 | E27: 42.08 | F27: 41.7 | G27: 42.13 | H27: 42.02 | I27: 42.02 | J27: 42.41
B28: 8 | C28: 43.15 | D28: 42.34 | E28: 42.01 | F28: 42.14 | G28: 41.98 | H28: 42.08 | I28: 42.14 | J28: 42.44
B29: 9 | C29: 42.94 | D29: 42.57 | E29: 42.19 | F29: 42.22 | G29: 42.21 | H29: 42.14 | I29: 41.97 | J29: 42.32
B30: 10 | C30: 42.97 | D30: 41.98 | E30: 42.2 | F30: 42.44 | G30: 42.07 | H30: 42.35 | I30: 42.25 | J30: 42.31
B31: 11 | C31: 42.41 | D31: 42.01 | E31: 42.17 | F31: 42.78 | G31: 42.09 | H31: 42.99 | I31: 42.45 | J31: 42.35
B32: 12 | C32: 42.42 | D32: 42.07 | E32: 42.21 | F32: 42.14 | G32: 42.24 | H32: 42.36 | I32: 41.9 | J32: 42.44
... B41: 21 | C41: 42.23 | D41: 43.8 | E41: 42.12 | F41: 41.85 | G41: 42.4 | H41: 42.48 | I41: 42.16 | J41: 42.21
B42: 22 | D42: 42.24 | E42: 42.17 | F42: 41.88 | G42: 42.14 | H42: 42.49 | I42: 41.88 | J42: 42.16
B43: 23 | D43: 42.35 | E43: 41.91 | F43: 41.75 | G43: 42.18 | H43: 42.38 | I43: 42.03 | J43: 42.45
B44: 24 | D44: 42.2 | E44: 41.99 | F44: 41.72 | G44: 42.26 | H44: 42.88 | I44: 41.84 | J44: 42.22
B45: 25 | D45: 42.2 | E45: 42.07 | F45: 41.83 | G45: 42.22 | H45: 42.96 | I45: 42.26 | J45: 42.48
B46: 26 | D46: 42.06 | E46: 42.24 | F46: 42.14 | G46: 42.02 | H46: 42.33 | I46: 42.01 | J46: 42.19
B47: 27 | E47: 41.93 | F47: 42.15 | G47: 42.15 | I47: 42.1 | J47: 42.18
B48: 28 | E48: 42.13 | F48: 41.7 | G48: 42.47 | I48: 41.91 | J48: 42.36
B49: 29 | E49: 42.12 | F49: 42.01 | G49: 42.14 | I49: 42.41 | J49: 42.35
B50: 30 | E50: 41.96 | F50: 41.57 | G50: 41.93 | I50: 42.15 | J50: 42.42
B51: 31 | E51: 42.11 | F51: 41.75 | G51: 42.13 | I51: 41.86 | J51: 42.21
B52: 32 | E52: 42.08 | F52: 41.85 | G52: 42.31 | I52: 42.37 | J52: 42.45
...

Sheet Vpered ta Vgory
A2: Чемпионат мини марафон "Большие Гонки", 10-й этап
A4: Vpered ta Vgory
A6: Обяза-тельные | B6: Пилот | C6: карт | D6: Круг | E6: кругов на отрезке | F6: Статистика по кругам | J6: Общее время гонки | K6: Время на трассе
F7: Лучший круг | G7: Среднее на отрезке | H7: Кругов в 0,1 от лучшего | I7: стабильность | K7: отрезок | L7: всего у пилота | M7: Питы | N7: Штрафы/ бонусы (сек)
A8: 1 | B8: Стоцкий Андрей | C8: 33 | D8: =COUNTA(C21:C85) -> 23 | E8: =COUNTA(C21:C85) -> 23 | F8: =MIN(C21:C84) -> 41.8 | G8: =AVERAGE(C21:C87) -> 42.163913 | H8: 2 | I8: =G8-F8 -> 0.36391304 | J8: 0.011756146 | K8: =J8 -> 0.011756146 | L8: =K8 -> 0.011756146 | M8: 2:17.91
A9: 2 | B9: Манило Денис | C9: 17 | D9: =COUNTA(D21:D85)+D8+1 -> 50 | E9: =COUNTA(D21:D85)+1 -> 27 | F9: =MIN(D21:D84) -> 41.81 | G9: =AVERAGE(D21:D86) -> 42.232692 | H9: 1 | I9: =G9-F9 -> 0.42269231 | J9: 0.026069167 | K9: =J9-J8 -> 0.014313021 | L9: =K9 -> 0.014313021 | M9: 2:18.74
A10: 3 | B10: Стоцкий Андрей | C10: 18 | D10: =COUNTA(E21:E85)+D9+1 -> 85 | E10: =COUNTA(E21:E85)+1 -> 35 | F10: =MIN(E21:E86) -> 41.88 | G10: =AVERAGE(E21:E87) -> 42.154118 | H10: 9 | I10: =G10-F10 -> 0.27411765 | J10: 0.044247535 | K10: =J10-J9 -> 0.018178368 | L10: =K10+L8 -> 0.029934514 | M10: 2:23.79 | N10: +5 | O10: линия
A11: 4 | B11: Манило Денис | C11: 5 | D11: =COUNTA(F21:F85)+D10+1 -> 143 | E11: =COUNTA(F21:F85)+1 -> 58 | F11: =MIN(F21:F86) -> 41.87 | G11: =AVERAGE(F21:F86) -> 42.130702 | H11: 9 | I11: =G11-F11 -> 0.26070175 | J11: 0.073714826 | K11: =J11-J10 -> 0.029467292 | L11: =K11+L9 -> 0.043780313 | M11: 2:18.27
A12: 5 | B12: Стоцкий Андрей | C12: 18 | D12: =COUNTA(G21:G85)+D11+1 -> 189 | E12: =COUNTA(G21:G85)+1 -> 46 | F12: =MIN(G21:G86) -> 41.7 | G12: =AVERAGE(G21:G886) -> 41.955778 | H12: 9 | I12: =G12-F12 -> 0.25577778 | J12: 0.097169664 | K12: =J12-J11 -> 0.023454838 | L12: =K12+L10 -> 0.053389352 | M12: 2:17.90
A13: 6 | B13: Манило Денис | C13: 5 | D13: =COUNTA(H21:H85)+D12+1 -> 217 | E13: =COUNTA(H21:H85)+1 -> 28 | F13: =MIN(H21:H86) -> 41.97 | G13: =AVERAGE(H21:H86) -> 42.35 | H13: 4 | I13: =G13-F13 -> 0.38 | J13: 0.11200506 | K13: =J13-J12 -> 0.014835394 | L13: =K13+L11 -> 0.058615706 | M13: 2:23.76 | N13: +5 | O13: линия
A14: 7 | B14: Стоцкий Андрей | C14: 9 | D14: =COUNTA(I21:I85)+D13+1 -> 275 | E14: =COUNTA(I21:I85)+1 -> 58 | F14: =MIN(I21:I86) -> 41.96 | G14: =AVERAGE(I21:I86) -> 42.301053 | H14: 3 | I14: =G14-F14 -> 0.34105263 | J14: 0.1415805 | K14: =J14-J13 -> 0.02957544 | L14: =K14+L12 -> 0.082964792 | M14: 2:17.45
A15: Финиш | B15: Манило Денис | C15: 69 | D15: =COUNTA(J21:J85)+D14+1 -> 327 | E15: =COUNTA(J21:J85)+1 -> 52 | F15: =MIN(J21:J86) -> 41.79 | G15: =AVERAGE(J21:J86) -> 41.970784 | H15: 14 | I15: =G15-F15 -> 0.18078431 | J15: ='Общие результаты'!G6 -> 4:00:44 | K15: =J15-J14 -> 0.025595428 | L15: =K15+L13 -> 0.084211134
F16: =AVERAGE(F8,F10,F12,F14) -> 41.835 | G16: =AVERAGE(G8,G10,G12,G14) -> 42.143715 | H16: Андрей | I16: =AVERAGE(I8,I10,I12,I14) -> 0.30871527
F17: =AVERAGE(F9,F11,F13,F15) -> 41.86 | G17: =AVERAGE(G9,G11,G13,G15) -> 42.171045 | H17: Денис | I17: =AVERAGE(I9,I11,I13,I15) -> 0.31104459
F18: =AVERAGE(F8:F15) -> 41.8475 | G18: =AVERAGE(C21:J90) -> 42.142625 | I18: =AVERAGE(I8:I15) -> 0.30987993
C20: =B8 -> Стоцкий Андрей | D20: =B9 -> Манило Денис | E20: =B10 -> Стоцкий Андрей | F20: =B11 -> Манило Денис | G20: =B12 -> Стоцкий Андрей | H20: =B13 -> Манило Денис | I20: =B14 -> Стоцкий Андрей | J20: =B15 -> Манило Денис
B21: 1 | C21: 44.48 | D21: 43.14 | E21: 44.42 | F21: 43.2 | G21: 43.26 | H21: 43.05 | I21: 42.92 | J21: 42.55
B22: 2 | C22: 42.56 | D22: 42.37 | E22: 42.71 | F22: 42.46 | G22: 42.76 | H22: 42.29 | I22: 42.21 | J22: 41.9
B23: 3 | C23: 42.46 | D23: 42.11 | E23: 42.25 | F23: 42.28 | G23: 42.22 | H23: 42.3 | I23: 42.5 | J23: 42.19
B24: 4 | C24: 42.03 | D24: 42.28 | E24: 42.28 | F24: 42.19 | G24: 41.93 | H24: 42.22 | I24: 42.25 | J24: 41.95
B25: 5 | C25: 42.57 | D25: 42.13 | E25: 42.25 | F25: 42.15 | G25: 42.09 | H25: 42.29 | I25: 42.32 | J25: 42.01
B26: 6 | C26: 41.98 | D26: 42.29 | E26: 42.13 | F26: 42.15 | G26: 42.1 | H26: 42.14 | I26: 42.3 | J26: 41.97
B27: 7 | C27: 42 | D27: 42.07 | E27: 42 | F27: 42.14 | G27: 42.09 | H27: 42.22 | I27: 42.84 | J27: 42.05
B28: 8 | C28: 41.86 | D28: 42.12 | E28: 42.11 | F28: 42.27 | G28: 41.84 | H28: 42.35 | I28: 42.23 | J28: 42.02
B29: 9 | C29: 41.83 | D29: 41.95 | E29: 42.08 | F29: 42.12 | G29: 41.9 | H29: 42.36 | I29: 42.27 | J29: 41.97
B30: 10 | C30: 42.01 | D30: 42.25 | E30: 41.95 | F30: 42.08 | G30: 42.08 | H30: 42.15 | I30: 42.41 | J30: 41.98
B31: 11 | C31: 41.8 | D31: 42.12 | E31: 42.09 | F31: 42.1 | G31: 41.83 | H31: 41.98 | I31: 42.14 | J31: 41.96
B32: 12 | C32: 41.97 | D32: 42.03 | E32: 42.02 | F32: 42.05 | G32: 41.9 | H32: 42.22 | I32: 42.13 | J32: 41.95
... B43: 23 | C43: 42.11 | D43: 42.04 | E43: 42 | F43: 41.99 | G43: 41.74 | H43: 41.99 | I43: 42.15 | J43: 41.83
B44: 24 | D44: 43.14 | E44: 42.19 | F44: 42.09 | G44: 41.84 | H44: 41.97 | I44: 42.26 | J44: 42.47
B45: 25 | D45: 42.61 | E45: 41.97 | F45: 41.95 | G45: 41.86 | H45: 42.03 | I45: 42.36 | J45: 41.96
B46: 26 | D46: 41.81 | E46: 42.25 | F46: 42.46 | G46: 41.71 | H46: 43.65 | I46: 42.21 | J46: 41.98
B47: 27 | E47: 42.08 | F47: 42.33 | G47: 41.99 | H47: 43.68 | I47: 42.36 | J47: 41.88
B48: 28 | E48: 42.03 | F48: 42.36 | G48: 42.01 | I48: 42.39 | J48: 41.88
B49: 29 | E49: 41.88 | F49: 42.33 | G49: 42.07 | I49: 42.46 | J49: 41.93
B50: 30 | E50: 41.97 | F50: 42 | G50: 41.8 | I50: 42.41 | J50: 41.93
B51: 31 | E51: 42.01 | F51: 42.16 | G51: 42.24 | I51: 42.27 | J51: 41.99
B52: 32 | E52: 41.91 | F52: 42.2 | G52: 41.88 | I52: 42.15 | J52: 41.91
B53: 33 | E53: 42.12 | F53: 41.97 | G53: 41.84 | I53: 42.3 | J53: 41.92
B54: 34 | E54: 42.12 | F54: 41.94 | G54: 41.82 | I54: 42.43 | J54: 41.98
...

Sheet Kozaks
A2: Чемпионат мини марафон "Большие Гонки", 10-й этап
A4: Kozaks
A6: Обяза-тельные | B6: Пилот | C6: карт | D6: Круг | E6: кругов на отрезке | F6: Статистика по кругам | J6: Общее время гонки | K6: Время на трассе
F7: Лучший круг | G7: Среднее на отрезке | H7: Кругов в 0,1 от лучшего | I7: стабильность | K7: отрезок | L7: всего у пилота | M7: Питы | N7: Штрафы/ бонусы (сек)
A8: 1 | B8: Пикулин Паша | C8: 7 | D8: =COUNTA(C21:C85) -> 24 | E8: =COUNTA(C21:C85) -> 24 | F8: =MIN(C21:C84) -> 41.81 | G8: =AVERAGE(C21:C87) -> 42.7025 | H8: 3 | I8: =G8-F8 -> 0.8925 | J8: 0.012378889 | K8: =J8 -> 0.012378889 | L8: =K8 -> 0.012378889 | M8: 2:19.02
A9: 2 | B9: Ткаченко Кирилл | C9: 13 | D9: =COUNTA(D21:D85)+D8+1 -> 48 | E9: =COUNTA(D21:D85)+1 -> 24 | F9: =MIN(D21:D84) -> 42.06 | G9: =AVERAGE(D21:D86) -> 42.547826 | H9: 1 | I9: =G9-F9 -> 0.48782609 | J9: 0.025323067 | K9: =J9-J8 -> 0.012944178 | L9: =K9 -> 0.012944178 | M9: 2:19.87
A10: 3 | B10: Ткаченко Кирилл | C10: 2 | D10: =COUNTA(E21:E85)+D9+1 -> 86 | E10: =COUNTA(E21:E85)+1 -> 38 | F10: =MIN(E21:E86) -> 41.93 | G10: =AVERAGE(E21:E87) -> 42.223784 | H10: 0 | I10: =G10-F10 -> 0.29378378 | J10: 0.045023148 | K10: =J10-J9 -> 0.019700081 | L10: =K10+L9 -> 0.032644259 | M10: 2:19.31
A11: 4 | B11: Пикулин Паша | C11: 12 | D11: =COUNTA(F21:F85)+D10+1 -> 145 | E11: =COUNTA(F21:F85)+1 -> 59 | F11: =MIN(F21:F86) -> 41.57 | G11: =AVERAGE(F21:F86) -> 41.958793 | H11: 0 | I11: =G11-F11 -> 0.3887931 | J11: 0.074800463 | K11: =J11-J10 -> 0.029777315 | L11: =K11+L8 -> 0.042156204 | M11: 2:19.31
A12: 5 | B12: Ткаченко Кирилл | C12: 10 | D12: =COUNTA(G21:G85)+D11+1 -> 189 | E12: =COUNTA(G21:G85)+1 -> 44 | F12: =MIN(G21:G86) -> 41.81 | G12: =AVERAGE(G21:G86) -> 42.173023 | H12: 2 | I12: =G12-F12 -> 0.36302326 | J12: 0.097407407 | K12: =J12-J11 -> 0.022606944 | L12: =K12+L10 -> 0.055251204 | M12: 2:30.77
A13: 6 | B13: Пикулин Паша | C13: 15 | D13: =COUNTA(H21:H85)+D12+1 -> 220 | E13: =COUNTA(H21:H85)+1 -> 31 | F13: =MIN(H21:H86) -> 41.86 | G13: =AVERAGE(H21:H86) -> 42.079 | H13: 4 | I13: =G13-F13 -> 0.219 | J13: 0.11375951 | K13: =J13-J12 -> 0.016352106 | L13: =K13+L11 -> 0.05850831 | M13: 2:18.97
A14: 7 | B14: Ткаченко Кирилл | C14: 18 | D14: =COUNTA(I21:I85)+D13+1 -> 275 | E14: =COUNTA(I21:I85)+1 -> 55 | F14: =MIN(I21:I86) -> 41.72 | G14: =AVERAGE(I21:I86) -> 42.095556 | H14: 3 | I14: =G14-F14 -> 0.37555556 | J14: 0.14168442 | K14: =J14-J13 -> 0.027924907 | L14: =K14+L12 -> 0.083176111 | M14: 2:19.04
A15: Финиш | B15: Пикулин Паша | C15: 12 | D15: =COUNTA(J21:J85)+D14+1 -> 327 | E15: =COUNTA(J21:J85)+1 -> 52 | F15: =MIN(J21:J86) -> 41.63 | G15: =AVERAGE(J21:J86) -> 41.962549 | H15: 3 | I15: =G15-F15 -> 0.33254902 | J15: ='Общие результаты'!G6 -> 4:00:44 | K15: =J15-J14 -> 0.025491505 | L15: =K15+L13 -> 0.083999815 | N15: -11 | O15: передержали
F16: =AVERAGE(F8,F11,F13,F15) -> 41.7175 | G16: =AVERAGE(G8,G11,G13,G15) -> 42.175711 | H16: Паша | I16: =AVERAGE(I8,I11,I13,I15) -> 0.45821053
F17: =AVERAGE(F9,F10,F12,F14) -> 41.88 | G17: =AVERAGE(G9,G10,G12,G14) -> 42.260047 | H17: Кирилл | I17: =AVERAGE(I9,I10,I12,I14) -> 0.38004717
F18: =AVERAGE(F8:F15) -> 41.79875 | G18: =AVERAGE(C21:J90) -> 42.151281 | I18: =AVERAGE(I8:I15) -> 0.41912885
C20: =B8 -> Пикулин Паша | D20: =B9 -> Ткаченко Кирилл | E20: =B10 -> Ткаченко Кирилл | F20: =B11 -> Пикулин Паша | G20: =B12 -> Ткаченко Кирилл | H20: =B13 -> Пикулин Паша | I20: =B14 -> Ткаченко Кирилл | J20: =B15 -> Пикулин Паша
B21: 1 | C21: 44.67 | D21: 43.27 | E21: 42.76 | F21: 42.9 | G21: 43.18 | H21: 42.39 | I21: 42.79 | J21: 42.9
B22: 2 | C22: 43.54 | D22: 42.35 | E22: 42.22 | F22: 42.26 | G22: 42.23 | H22: 41.98 | I22: 42.19 | J22: 41.63
B23: 3 | C23: 42.91 | D23: 42.32 | E23: 42.06 | F23: 41.75 | G23: 41.98 | H23: 42.09 | I23: 42.03 | J23: 42.11
B24: 4 | C24: 41.93 | D24: 42.34 | E24: 42.08 | F24: 41.76 | G24: 41.94 | H24: 42.16 | I24: 41.89 | J24: 41.89
B25: 5 | C25: 52.06 | D25: 42.38 | E25: 42.25 | F25: 41.75 | G25: 42.23 | H25: 41.94 | I25: 42.33 | J25: 41.78
B26: 6 | C26: 42.37 | D26: 42.33 | E26: 42.15 | F26: 41.88 | G26: 42.04 | H26: 42.08 | I26: 42.45 | J26: 41.76
B27: 7 | C27: 43.52 | D27: 42.26 | E27: 42.07 | F27: 41.93 | G27: 41.95 | H27: 41.97 | I27: 41.83 | J27: 41.96
B28: 8 | C28: 41.81 | D28: 42.19 | E28: 42.42 | F28: 41.57 | G28: 41.81 | H28: 42.45 | I28: 42.19 | J28: 41.72
B29: 9 | C29: 42.01 | D29: 42.18 | E29: 42.23 | F29: 41.81 | G29: 42.06 | H29: 41.87 | I29: 41.88 | J29: 41.73
B30: 10 | C30: 42 | D30: 42.22 | E30: 42.24 | F30: 42.33 | G30: 42.09 | H30: 42.12 | I30: 42.01 | J30: 42.19
B31: 11 | C31: 42.01 | D31: 42.09 | E31: 42.24 | F31: 41.81 | G31: 42 | H31: 42.05 | I31: 42.15 | J31: 41.88
B32: 12 | C32: 41.9 | D32: 42.95 | E32: 42.05 | F32: 41.93 | G32: 42.49 | H32: 41.94 | I32: 42.11 | J32: 41.92
... B43: 23 | C43: 42.06 | D43: 42.5 | E43: 42.09 | F43: 41.97 | G43: 43.01 | H43: 42.31 | I43: 41.93 | J43: 42
B44: 24 | C44: 41.98 | E44: 42.24 | F44: 41.98 | G44: 42.06 | H44: 42.06 | I44: 42 | J44: 41.99
B45: 25 | E45: 42.16 | F45: 41.78 | G45: 41.97 | H45: 41.97 | I45: 41.92 | J45: 41.71
B46: 26 | E46: 42.28 | F46: 42.05 | G46: 42.04 | H46: 42.13 | I46: 41.87 | J46: 42.27
B47: 27 | E47: 42.3 | F47: 41.8 | G47: 41.97 | H47: 42 | I47: 41.99 | J47: 41.95
B48: 28 | E48: 42.05 | F48: 41.87 | G48: 42.3 | H48: 42.04 | I48: 42.16 | J48: 41.82
B49: 29 | E49: 41.93 | F49: 41.89 | G49: 42.36 | H49: 42.25 | I49: 41.94 | J49: 42.01
B50: 30 | E50: 42.11 | F50: 41.77 | G50: 42.14 | H50: 42.17 | I50: 42.19 | J50: 42.01
B51: 31 | E51: 42.21 | F51: 41.88 | G51: 41.97 | I51: 42.96 | J51: 41.89
B52: 32 | E52: 42.33 | F52: 41.91 | G52: 42.07 | I52: 43.09 | J52: 41.89
B53: 33 | E53: 42.16 | F53: 41.88 | G53: 42.04 | I53: 41.88 | J53: 41.91
B54: 34 | E54: 42.35 | F54: 42.64 | G54: 41.99 | I54: 41.94 | J54: 42.18
...

Sheet Kart Freedom
A2: Чемпионат мини марафон "Большие Гонки", 10-й этап
A4: Kart Freedom
A6: Обяза-тельные | B6: Пилот | C6: карт | D6: Круг | E6: кругов на отрезке | F6: Статистика по кругам | J6: Общее время гонки | K6: Время на трассе
F7: Лучший круг | G7: Среднее на отрезке | H7: Кругов в 0,1 от лучшего | I7: стабильность | K7: отрезок | L7: всего у пилота | M7: Питы | N7: Штрафы/ бонусы (сек)
A8: 1 | B8: Петушков Андрей | C8: 10 | D8: =COUNTA(C21:C85) -> 19 | E8: =COUNTA(C21:C85) -> 19 | F8: =MIN(C21:C84) -> 41.79 | G8: =AVERAGE(C21:C87) -> 42.116842 | H8: 6 | I8: =G8-F8 -> 0.32684211 | J8: 0.0097801736 | K8: =J8 -> 0.0097801736 | L8: =K8 -> 0.0097801736 | M8: 2:18.85
A9: 2 | B9: Петушков Андрей | C9: 44 | D9: =COUNTA(D21:D85)+D8+1 -> 42 | E9: =COUNTA(D21:D85)+1 -> 23 | F9: =MIN(D21:D84) -> 41.91 | G9: =AVERAGE(D21:D86) -> 42.348182 | H9: 0 | I9: =G9-F9 -> 0.43818182 | J9: 0.022187766 | K9: =J9-J8 -> 0.012407593 | L9: =K9 -> 0.012407593 | M9: 2:07.58 | N9: -12 | O9: бонус за вес
A10: 3 | B10: Паненко Женя | C10: 8 | D10: =COUNTA(E21:E85)+D9+1 -> 98 | E10: =COUNTA(E21:E85)+1 -> 56 | F10: =MIN(E21:E86) -> 41.98 | G10: =AVERAGE(E21:E87) -> 42.236545 | H10: 15 | I10: =G10-F10 -> 0.25654545 | J10: 0.050546933 | K10: =J10-J9 -> 0.028359167 | L10: =K10+L8 -> 0.03813934 | M10: 2:24.21 | N10: +5 | O10: лимит
A11: 4 | B11: Петушков Андрей | C11: 2 | D11: =COUNTA(F21:F85)+D10+1 -> 144 | E11: =COUNTA(F21:F85)+1 -> 46 | F11: =MIN(F21:F86) -> 41.89 | G11: =AVERAGE(F21:F86) -> 42.238222 | H11: 2 | I11: =G11-F11 -> 0.34822222 | J11: 0.074203414 | K11: =J11-J10 -> 0.023656481 | L11: =K11+L9 -> 0.036064074 | M11: 2:18.71
A12: 5 | B12: Паненко Женя | C12: 13 | D12: =COUNTA(G21:G85)+D11+1 -> 204 | E12: =COUNTA(G21:G85)+1 -> 60 | F12: =MIN(G21:G86) -> 42.1 | G12: =AVERAGE(G21:G886) -> 42.555424 | H12: 1 | I12: =G12-F12 -> 0.45542373 | J12: 0.10487916 | K12: =J12-J11 -> 0.030675741 | L12: =K12+L10 -> 0.068815081 | M12: 2:19.28
A13: 6 | B13: Петушков Андрей | C13: 10 | D13: =COUNTA(H21:H85)+D12+1 -> 257 | E13: =COUNTA(H21:H85)+1 -> 53 | F13: =MIN(H21:H86) -> 41.82 | G13: =AVERAGE(H21:H86) -> 42.098462 | H13: 8 | I13: =G13-F13 -> 0.27846154 | J13: 0.13182222 | K13: =J13-J12 -> 0.026943067 | L13: =K13+L11 -> 0.063007141 | M13: 2:18.25
A14: 7 | B14: Паненко Женя | C14: 6 | D14: =COUNTA(I21:I85)+D13+1 -> 293 | E14: =COUNTA(I21:I85)+1 -> 36 | F14: =MIN(I21:I86) -> 42.12 | G14: =AVERAGE(I21:I86) -> 42.382571 | H14: 5 | I14: =G14-F14 -> 0.26257143 | J14: 0.15059973 | K14: =J14-J13 -> 0.018777512 | L14: =K14+L12 -> 0.087592593 | M14: 2:18.80
A15: Финиш | B15: Петушков Андрей | C15: 15 | D15: =COUNTA(J21:J85)+D14+1 -> 326 | E15: =COUNTA(J21:J85)+1 -> 33 | F15: =MIN(J21:J86) -> 41.74 | G15: =AVERAGE(J21:J86) -> 42.077187 | H15: 1 | I15: =G15-F15 -> 0.3371875 | J15: ='Общие результаты'!G6 -> 4:00:44 | K15: =J15-J14 -> 0.016576192 | L15: =K15+L13 -> 0.079583333
F16: =AVERAGE(F8,F9,F11,F13,F15) -> 41.83 | G16: =AVERAGE(G8,G9,G11,G13,G15) -> 42.175779 | H16: Андрей | I16: =AVERAGE(I8,I9,I11,I13,I15) -> 0.34577904
F17: =AVERAGE(F10,F12,F14) -> 42.066667 | G17: =AVERAGE(G10,G12,G14) -> 42.391514 | H17: Женя | I17: =AVERAGE(I10,I12,I14) -> 0.32484687
F18: =AVERAGE(F8:F15) -> 41.91875 | G18: =AVERAGE(C21:J90) -> 42.273856 | I18: =AVERAGE(I8:I15) -> 0.33792947
C20: =B8 -> Петушков Андрей | D20: =B9 -> Петушков Андрей | E20: =B10 -> Паненко Женя | F20: =B11 -> Петушков Андрей | G20: =B12 -> Паненко Женя | H20: =B13 -> Петушков Андрей | I20: =B14 -> Паненко Женя | J20: =B15 -> Петушков Андрей
B21: 1 | C21: 44.89 | D21: 44.08 | E21: 43.51 | F21: 43.04 | G21: 43.83 | H21: 43.05 | I21: 43.14 | J21: 42.74
