Workbook

Sheet Общие результаты
A1: Серия мини марафонов "Большие Гонки 2019", 10-й этап, 24.08.19
A2: Конфигурация № 3R
A4: Место в гонке | B4: Команда | C4: № в гонке | D4: Квала | F4: Гонка | I4: Лучший круг в гонке
D5: Время | E5: Место | F5: Круги | G5: Время/от лидера | H5: От места выше | I5: Время | J5: На круге
A6: 1 | B6: K44 | C6: 20 | D6: 41.775 | E6: 7 | F6: 327 | G6: 4:00:44 | H6: - | I6: 41.56 | J6: 188
A7: 2 | B7: NSJ | C7: 8 | D7: 41.635 | E7: 4 | F7: 327 | G7: 5.74 | H7: =G7 -> 5.74 | I7: 41.67 | J7: 18
A8: 3 | B8: Kart Freedom Rt | C8: 14 | D8: 41.725 | E8: 5 | F8: 327 | G8: 20.41 | H8: =G8-G7 -> 14.67 | I8: 41.53 | J8: 124
A9: 4 | B9: Kozaks | C9: 7 | D9: 41.585 | E9: 2 | F9: 327 | G9: 21.02 | H9: =G9-G8 -> 0.61 | I9: 41.57 | J9: 95
A10: 5 | B10: Vpered ta Vgory | C10: 19 | D10: 41.595 | E10: 3 | F10: 327 | G10: 21.85 | H10: =G10-G9 -> 0.83 | I10: 41.7 | J10: 185
A11: 6 | B11: Kart Freedom | C11: 9 | D11: 41.585 | E11: 1 | F11: 326 | G11: 1 Круг | H11: 29 | I11: 41.74 | J11: 320
A12: 7 | B12: Ingul kart RT | C12: 10 | D12: 41.79 | E12: 8 | F12: 326 | G12: 1 Круг | H12: 4.5 | I12: 41.72 | J12: 70
A13: 8 | B13: E-K Motosport | C13: 15 | D13: 41.775 | E13: 6 | F13: 325 | G13: 2 Круга | H13: 32 | I13: 41.85 | J13: 262
A14: 9 | B14: Fortuna Racing | C14: 11 | D14: 41.875 | E14: 10 | F14: 325 | G14: 2 Круга | H14: 3 | I14: 41.75 | J14: 70
A15: 10 | B15: Battle Master | C15: 4 | D15: 41.895 | E15: 11 | F15: 326 | G15: 2 Круга | H15: 3.5 | I15: 41.74 | J15: 48
A16: 11 | B16: Winni | C16: 3 | D16: 41.83 | E16: 9 | F16: 325 | G16: 2 Круга | H16: 7.5 | I16: 41.73 | J16: 65
A17: 12 | B17: Wasp | C17: 6 | D17: 41.94 | E17: 12 | F17: 324 | G17: 3 Круга | H17: 41 | I17: 41.79 | J17: 13
A18: 13 | B18: G.A.T | C18: 13 | D18: 42.01 | E18: 13 | F18: 324 | G18: 3 Круга | H18: 5 | I18: 41.73 | J18: 89
A19: 14 | B19: Ingul Kart Acadamy | C19: 12 | D19: 42.155 | E19: 16 | F19: 322 | G19: 5 Кругов | H19: 1 круг | I19: 41.94 | J19: 30
A20: 15 | B20: 50grams | C20: 2 | D20: 42.02 | E20: 14 | F20: 322 | G20: 5 Кругов | H20: 10 | I20: 41.96 | J20: 71
A21: 16 | B21: Buro 11 | C21: 17 | D21: 42.37 | E21: 17 | F21: 321 | G21: 6 Кругов | H21: 1 круг | I21: 42.05 | J21: 23
A22: 17 | B22: Kart Freedom JT | C22: 16 | D22: 42.11 | E22: 15 | F22: 321 | G22: 6 Кругов | H22: 2 | I22: 42.12 | J22: 225
A23: 18 | B23: Coachella | C23: 1 | D23: 42.465 | E23: 18 | F23: 319 | G23: 8 Кругов | H23: 1 круг | I23: 41.93 | J23: 38

Sheet Регистрация 
A1: Серия мини марафонов "Большие Гонки 2019", 10-й этап, 24.08.19
A3: Регистрационная форма
AF4: 4ч
A5: № в гонке | B5: Команда | C5: Пилот | D5: № | E5: Вес | F5: Бонус | G5: Квалификация | Z5: 3ч | AJ5: 2 ел | AL5: 3чел
G6: карт | H6: Время | I6: бонус | J6: Итого | K6: Среднее | L6: Место | M6: 4 | N6: бонусы за вес | Z6: 2 | AA6: 1 | AB6: кол | AC6: бон | AD6: 1 | AE6: 2 | AF6: бон | AG6: уч | AH6: 2 уч | AI6: 3 уч | AJ6: 1из2 | AK6: 2из2/3v3 | AL6: 1из3 | AM6: 2из3
A7: 1 | B7: Сoachella | C7: Кочетов Игорь | D7: 1-1 | E7: 69.1 | F7: =IF(M6=3,AC7,AF7) -> 0 | G7: 3 | H7: 42.36 | I7: =IF(E7<84.9,0,IF(E7<87.4,0.1,IF(E7<89.9,0.15,IF(E7<92.4,0.2,IF(E7<94.9,0.25,IF(E7<97.4,0.3,IF(E7<99.9,0.35,0.4))))))) -> 0 | J7: =H7-I7 -> 42.36 | K7: =AVERAGE(J7:J8) -> 42.465 | L7: =RANK(K7,K7:K58,1) -> 18 | M7: кв | N7: 0.05 | O7: 0.1 | P7: 0.15 | Q7: 0.2 | R7: 0.25 | S7: 0.3 | T7: 0.35 | U7: =N7*8 -> 0.4 | Z7: =AVERAGE(E7:E9) -> 71.45 | AA7: =IF(E7>84.9,E7,E8) -> 73.8 | AB7: =COUNTIF(E7:E9,">84.9") -> 0 | AC7: =IF(AB7=1,AD7,AE7) -> 0 | AD7: =IF(AA7<84.9,0,IF(AA7<87.4,9,IF(AA7<89.9,13.5,IF(AA7<92.4,18,IF(AA7<94.9,22.5,IF(AA7<97.4,27,IF(AA7<99.9,31.5,36))))))) -> 0 | AE7: =IF(Z7<84.9,0,IF(Z7<87.4,18,IF(Z7<89.9,27,IF(Z7<92.4,36,IF(Z7<94.9,45,IF(Z7<97.4,54,IF(Z7<99.9,63,72))))))) -> 0 | AF7: =IF(AG7=2,AH7,AI7) -> 0 | AG7: =COUNTIF(E7:E9,">1") -> 2 | AH7: =IF(AB7=1,AJ7,AK7) -> 0 | AI7: =IF(AB7=1,AL7,IF(AB7=2,AM7,AK7)) -> 0 | AJ7: =IF(AA7<84.9,0,IF(AA7<87.4,12,IF(AA7<89.9,18,IF(AA7<92.4,24,IF(AA7<94.9,30,IF(AA7<97.4,36,IF(AA7<99.9,42,48))))))) -> 0 | AK7: =IF(AA7<84.9,0,IF(AA7<87.4,24,IF(AA7<89.9,36,IF(AA7<92.4,48,IF(AA7<94.9,60,IF(AA7<97.4,72,IF(AA7<99.9,84,96))))))) -> 0 | AL7: =IF(AA7<84.9,0,IF(AA7<87.4,8,IF(AA7<89.9,12,IF(AA7<92.4,16,IF(AA7<94.9,20,IF(AA7<97.4,24,IF(AA7<99.9,28,32))))))) -> 0 | AM7: =IF(AO7<84.9,0,IF(AO7<87.4,16,IF(AO7<89.9,24,IF(AO7<92.4,32,IF(AO7<94.9,40,IF(AO7<97.4,48,IF(AO7<99.9,56,64))))))) -> 0 | AO7: =(SUM(E7:E9)-MIN(E7:E9))/2 -> 36.9
C8: Поляруш Александр | D8: 1-2 | E8: 73.8 | G8: 4 | H8: 42.57 | I8: =IF(E8<84.9,0,IF(E8<87.4,0.1,IF(E8<89.9,0.15,IF(E8<92.4,0.2,IF(E8<94.9,0.25,IF(E8<97.4,0.3,IF(E8<99.9,0.35,0.4))))))) -> 0 | J8: =H8-I8 -> 42.57 | M8: 3 часа | N8: =1.5*3 -> 4.5 | O8: =1.5*3*2 -> 9 | P8: =1.5*3*3 -> 13.5 | Q8: =1.5*3*4 -> 18 | R8: =1.5*3*5 -> 22.5 | S8: =1.5*3*6 -> 27 | T8: =1.5*3*7 -> 31.5 | U8: =1.5*3*8 -> 36 | V8: 1 пилот
D9: 1-3 | I9: =IF(E9<84.9,0,IF(E9<87.4,0.1,IF(E9<89.9,0.15,IF(E9<92.4,0.2,IF(E9<94.9,0.25,IF(E9<97.4,0.3,IF(E9<99.9,0.35,0.4))))))) -> 0 | J9: =H9-I9 -> 0 | N9: =3*3 -> 9 | O9: =3*3*2 -> 18 | P9: =3*3*3 -> 27 | Q9: =3*3*4 -> 36 | R9: =3*3*5 -> 45 | S9: =3*3*6 -> 54 | T9: =3*3*7 -> 63 | U9: =3*3*8 -> 72 | V9: 2 пилота
A10: 2 | B10: 50 gramms | C10: Сомок Денис | D10: 2-1 | E10: 73.3 | F10: =IF(M6=3,AC10,AF10) -> 0 | G10: 5 | H10: 41.94 | I10: =IF(E10<84.9,0,IF(E10<87.4,0.1,IF(E10<89.9,0.15,IF(E10<92.4,0.2,IF(E10<94.9,0.25,IF(E10<97.4,0.3,IF(E10<99.9,0.35,0.4))))))) -> 0 | J10: =H10-I10 -> 41.94 | K10: =AVERAGE(J10:J11) -> 42.02 | L10: =RANK(K10,K7:K58,1) -> 14 | M10: вес | N10: 82.5 | O10: 85 | P10: 87.5 | Q10: 90 | R10: 92.5 | S10: 95 | T10: 97.5 | U10: 100 | Z10: =AVERAGE(E10:E12) -> 72.7 | AA10: =IF(E10>84.9,E10,E11) -> 72.1 | AB10: =COUNTIF(E10:E12,">84.9") -> 0 | AC10: =IF(AB10=1,AD10,AE10) -> 0 | AD10: =IF(AA10<84.9,0,IF(AA10<87.4,9,IF(AA10<89.9,13.5,IF(AA10<92.4,18,IF(AA10<94.9,22.5,IF(AA10<97.4,27,IF(AA10<99.9,31.5,36))))))) -> 0 | AE10: =IF(Z10<84.9,0,IF(Z10<87.4,18,IF(Z10<89.9,27,IF(Z10<92.4,36,IF(Z10<94.9,45,IF(Z10<97.4,54,IF(Z10<99.9,63,72))))))) -> 0 | AF10: =IF(AG10=2,AH10,AI10) -> 0 | AG10: =COUNTIF(E10:E12,">1") -> 2 | AH10: =IF(AB10=1,AJ10,AK10) -> 0 | AI10: =IF(AB10=1,AL10,IF(AB10=2,AM10,AK10)) -> 0 | AJ10: =IF(AA10<84.9,0,IF(AA10<87.4,12,IF(AA10<89.9,18,IF(AA10<92.4,24,IF(AA10<94.9,30,IF(AA10<97.4,36,IF(AA10<99.9,42,48))))))) -> 0 | AK10: =IF(AA10<84.9,0,IF(AA10<87.4,24,IF(AA10<89.9,36,IF(AA10<92.4,48,IF(AA10<94.9,60,IF(AA10<97.4,72,IF(AA10<99.9,84,96))))))) -> 0 | AL10: =IF(AA10<84.9,0,IF(AA10<87.4,8,IF(AA10<89.9,12,IF(AA10<92.4,16,IF(AA10<94.9,20,IF(AA10<97.4,24,IF(AA10<99.9,28,32))))))) -> 0 | AM10: =IF(AO10<84.9,0,IF(AO10<87.4,16,IF(AO10<89.9,24,IF(AO10<92.4,32,IF(AO10<94.9,40,IF(AO10<97.4,48,IF(AO10<99.9,56,64))))))) -> 0 | AO10: =(SUM(E10:E12)-MIN(E10:E12))/2 -> 36.65
C11: Морозенко Сергей | D11: 2-2 | E11: 72.1 | G11: 4 | H11: 42.1 | I11: =IF(E11<84.9,0,IF(E11<87.4,0.1,IF(E11<89.9,0.15,IF(E11<92.4,0.2,IF(E11<94.9,0.25,IF(E11<97.4,0.3,IF(E11<99.9,0.35,0.4))))))) -> 0 | J11: =H11-I11 -> 42.1 | M11: 4 часа | N11: =1.5*4 -> 6 | O11: =1.5*4*2 -> 12 | P11: =1.5*4*3 -> 18 | Q11: =1.5*4*4 -> 24 | R11: =1.5*4*5 -> 30 | S11: =1.5*4*6 -> 36 | T11: =1.5*4*7 -> 42 | U11: =1.5*4*8 -> 48 | V11: 1 пилот | W11: 2 участника в команде
D12: 2-3 | I12: =IF(E12<84.9,0,IF(E12<87.4,0.1,IF(E12<89.9,0.15,IF(E12<92.4,0.2,IF(E12<94.9,0.25,IF(E12<97.4,0.3,IF(E12<99.9,0.35,0.4))))))) -> 0 | J12: =H12-I12 -> 0 | N12: =3*4 -> 12 | O12: =3*4*2 -> 24 | P12: =3*4*3 -> 36 | Q12: =3*4*4 -> 48 | R12: =3*4*5 -> 60 | S12: =3*4*6 -> 72 | T12: =3*4*7 -> 84 | U12: =3*4*8 -> 96 | V12: 2 пилота
A13: 3 | B13: Winni | C13: Бахмацкий Олег | D13: 3-1 | E13: 82.7 | F13: =IF(M6=3,AC13,AF13) -> 0 | G13: 6 | H13: 41.66 | I13: =IF(E13<84.9,0,IF(E13<87.4,0.1,IF(E13<89.9,0.15,IF(E13<92.4,0.2,IF(E13<94.9,0.25,IF(E13<97.4,0.3,IF(E13<99.9,0.35,0.4))))))) -> 0 | J13: =H13-I13 -> 41.66 | K13: =AVERAGE(J13:J14) -> 41.83 | L13: =RANK(K13,K7:K58,1) -> 9 | N13: =1*4 -> 4 | O13: =1*4*2 -> 8 | P13: =1*4*3 -> 12 | Q13: =1*4*4 -> 16 | R13: =1*4*5 -> 20 | S13: =1*4*6 -> 24 | T13: =1*4*7 -> 28 | U13: =1*4*8 -> 32 | V13: 1 пилот | W13: 3 участника в команде | Z13: =AVERAGE(E13:E15) -> 71.35 | AA13: =IF(E13>84.9,E13,E14) -> 60 | AB13: =COUNTIF(E13:E15,">84.9") -> 0 | AC13: =IF(AB13=1,AD13,AE13) -> 0 | AD13: =IF(AA13<84.9,0,IF(AA13<87.4,9,IF(AA13<89.9,13.5,IF(AA13<92.4,18,IF(AA13<94.9,22.5,IF(AA13<97.4,27,IF(AA13<99.9,31.5,36))))))) -> 0 | AE13: =IF(Z13<84.9,0,IF(Z13<87.4,18,IF(Z13<89.9,27,IF(Z13<92.4,36,IF(Z13<94.9,45,IF(Z13<97.4,54,IF(Z13<99.9,63,72))))))) -> 0 | AF13: =IF(AG13=2,AH13,AI13) -> 0 | AG13: =COUNTIF(E13:E15,">1") -> 2 | AH13: =IF(AB13=1,AJ13,AK13) -> 0 | AI13: =IF(AB13=1,AL13,IF(AB13=2,AM13,AK13)) -> 0 | AJ13: =IF(AA13<84.9,0,IF(AA13<87.4,12,IF(AA13<89.9,18,IF(AA13<92.4,24,IF(AA13<94.9,30,IF(AA13<97.4,36,IF(AA13<99.9,42,48))))))) -> 0 | AK13: =IF(AA13<84.9,0,IF(AA13<87.4,24,IF(AA13<89.9,36,IF(AA13<92.4,48,IF(AA13<94.9,60,IF(AA13<97.4,72,IF(AA13<99.9,84,96))))))) -> 0 | AL13: =IF(AA13<84.9,0,IF(AA13<87.4,8,IF(AA13<89.9,12,IF(AA13<92.4,16,IF(AA13<94.9,20,IF(AA13<97.4,24,IF(AA13<99.9,28,32))))))) -> 0 | AM13: =IF(AO13<84.9,0,IF(AO13<87.4,16,IF(AO13<89.9,24,IF(AO13<92.4,32,IF(AO13<94.9,40,IF(AO13<97.4,48,IF(AO13<99.9,56,64))))))) -> 0 | AO13: =(SUM(E13:E15)-MIN(E13:E15))/2 -> 41.35
C14: Гобади Авеста | D14: 3-2 | E14: 60 | G14: 5 | H14: 42 | I14: =IF(E14<84.9,0,IF(E14<87.4,0.1,IF(E14<89.9,0.15,IF(E14<92.4,0.2,IF(E14<94.9,0.25,IF(E14<97.4,0.3,IF(E14<99.9,0.35,0.4))))))) -> 0 | J14: =H14-I14 -> 42 | N14: =2*4 -> 8 | O14: =2*4*2 -> 16 | P14: =2*4*3 -> 24 | Q14: =2*4*4 -> 32 | R14: =2*4*5 -> 40 | S14: =2*4*6 -> 48 | T14: =2*4*7 -> 56 | U14: =2*4*8 -> 64 | V14: 2 пилота
D15: 3-3 | I15: =IF(E15<84.9,0,IF(E15<87.4,0.1,IF(E15<89.9,0.15,IF(E15<92.4,0.2,IF(E15<94.9,0.25,IF(E15<97.4,0.3,IF(E15<99.9,0.35,0.4))))))) -> 0 | J15: =H15-I15 -> 0 | N15: =3*4 -> 12 | O15: =3*4*2 -> 24 | P15: =3*4*3 -> 36 | Q15: =3*4*4 -> 48 | R15: =3*4*5 -> 60 | S15: =3*4*6 -> 72 | T15: =3*4*7 -> 84 | U15: =3*4*8 -> 96 | V15: 3 пилота
A16: 4 | B16: Battle Master | C16: Голубченко Александр | D16: 4-1 | E16: 85.6 | F16: =IF(M6=3,AC16,AF16) -> 12 | G16: 7 | H16: 42.11 | I16: =IF(E16<84.9,0,IF(E16<87.4,0.1,IF(E16<89.9,0.15,IF(E16<92.4,0.2,IF(E16<94.9,0.25,IF(E16<97.4,0.3,IF(E16<99.9,0.35,0.4))))))) -> 0.1 | J16: =H16-I16 -> 42.01 | K16: =AVERAGE(J16:J17) -> 41.895 | L16: =RANK(K16,K7:K58,1) -> 11 | Z16: =AVERAGE(E16:E18) -> 79.05 | AA16: =IF(E16>84.9,E16,E17) -> 85.6 | AB16: =COUNTIF(E16:E18,">84.9") -> 1 | AC16: =IF(AB16=1,AD16,AE16) -> 9 | AD16: =IF(AA16<84.9,0,IF(AA16<87.4,9,IF(AA16<89.9,13.5,IF(AA16<92.4,18,IF(AA16<94.9,22.5,IF(AA16<97.4,27,IF(AA16<99.9,31.5,36))))))) -> 9 | AE16: =IF(Z16<84.9,0,IF(Z16<87.4,18,IF(Z16<89.9,27,IF(Z16<92.4,36,IF(Z16<94.9,45,IF(Z16<97.4,54,IF(Z16<99.9,63,72))))))) -> 0 | AF16: =IF(AG16=2,AH16,AI16) -> 12 | AG16: =COUNTIF(E16:E18,">1") -> 2 | AH16: =IF(AB16=1,AJ16,AK16) -> 12 | AI16: =IF(AB16=1,AL16,IF(AB16=2,AM16,AK16)) -> 8 | AJ16: =IF(AA16<84.9,0,IF(AA16<87.4,12,IF(AA16<89.9,18,IF(AA16<92.4,24,IF(AA16<94.9,30,IF(AA16<97.4,36,IF(AA16<99.9,42,48))))))) -> 12 | AK16: =IF(AA16<84.9,0,IF(AA16<87.4,24,IF(AA16<89.9,36,IF(AA16<92.4,48,IF(AA16<94.9,60,IF(AA16<97.4,72,IF(AA16<99.9,84,96))))))) -> 24 | AL16: =IF(AA16<84.9,0,IF(AA16<87.4,8,IF(AA16<89.9,12,IF(AA16<92.4,16,IF(AA16<94.9,20,IF(AA16<97.4,24,IF(AA16<99.9,28,32))))))) -> 8 | AM16: =IF(AO16<84.9,0,IF(AO16<87.4,16,IF(AO16<89.9,24,IF(AO16<92.4,32,IF(AO16<94.9,40,IF(AO16<97.4,48,IF(AO16<99.9,56,64))))))) -> 0 | AO16: =(SUM(E16:E18)-MIN(E16:E18))/2 -> 42.8
C17: Звягин Гриша | D17: 4-2 | E17: 72.5 | G17: 6 | H17: 41.78 | I17: =IF(E17<84.9,0,IF(E17<87.4,0.1,IF(E17<89.9,0.15,IF(E17<92.4,0.2,IF(E17<94.9,0.25,IF(E17<97.4,0.3,IF(E17<99.9,0.35,0.4))))))) -> 0 | J17: =H17-I17 -> 41.78
D18: 4-3 | I18: =IF(E18<84.9,0,IF(E18<87.4,0.1,IF(E18<89.9,0.15,IF(E18<92.4,0.2,IF(E18<94.9,0.25,IF(E18<97.4,0.3,IF(E18<99.9,0.35,0.4))))))) -> 0 | J18: =H18-I18 -> 0
A19: 6 | B19: Wasp | C19: Василевский Александр | D19: 6-1 | E19: 81.8 | F19: =IF(M6=3,AC19,AF19) -> 0 | G19: 8 | H19: 41.79 | I19: =IF(E19<84.9,0,IF(E19<87.4,0.1,IF(E19<89.9,0.15,IF(E19<92.4,0.2,IF(E19<94.9,0.25,IF(E19<97.4,0.3,IF(E19<99.9,0.35,0.4))))))) -> 0 | J19: =H19-I19 -> 41.79 | K19: =AVERAGE(J19:J20) -> 41.94 | L19: =RANK(K19,K7:K58,1) -> 12 | Z19: =AVERAGE(E19:E21) -> 81.7 | AA19: =IF(E19>84.9,E19,E20) -> 81.6 | AB19: =COUNTIF(E19:E21,">84.9") -> 0 | AC19: =IF(AB19=1,AD19,AE19) -> 0 | AD19: =IF(AA19<84.9,0,IF(AA19<87.4,9,IF(AA19<89.9,13.5,IF(AA19<92.4,18,IF(AA19<94.9,22.5,IF(AA19<97.4,27,IF(AA19<99.9,31.5,36))))))) -> 0 | AE19: =IF(Z19<84.9,0,IF(Z19<87.4,18,IF(Z19<89.9,27,IF(Z19<92.4,36,IF(Z19<94.9,45,IF(Z19<97.4,54,IF(Z19<99.9,63,72))))))) -> 0 | AF19: =IF(AG19=2,AH19,AI19) -> 0 | AG19: =COUNTIF(E19:E21,">1") -> 2 | AH19: =IF(AB19=1,AJ19,AK19) -> 0 | AI19: =IF(AB19=1,AL19,IF(AB19=2,AM19,AK19)) -> 0 | AJ19: =IF(AA19<84.9,0,IF(AA19<87.4,12,IF(AA19<89.9,18,IF(AA19<92.4,24,IF(AA19<94.9,30,IF(AA19<97.4,36,IF(AA19<99.9,42,48))))))) -> 0 | AK19: =IF(AA19<84.9,0,IF(AA19<87.4,24,IF(AA19<89.9,36,IF(AA19<92.4,48,IF(AA19<94.9,60,IF(AA19<97.4,72,IF(AA19<99.9,84,96))))))) -> 0 | AL19: =IF(AA19<84.9,0,IF(AA19<87.4,8,IF(AA19<89.9,12,IF(AA19<92.4,16,IF(AA19<94.9,20,IF(AA19<97.4,24,IF(AA19<99.9,28,32))))))) -> 0 | AM19: =IF(AO19<84.9,0,IF(AO19<87.4,16,IF(AO19<89.9,24,IF(AO19<92.4,32,IF(AO19<94.9,40,IF(AO19<97.4,48,IF(AO19<99.9,56,64))))))) -> 0 | AO19: =(SUM(E19:E21)-MIN(E19:E21))/2 -> 40.9
C20: Швец Денис | D20: 6-2 | E20: 81.6 | G20: 7 | H20: 42.09 | I20: =IF(E20<84.9,0,IF(E20<87.4,0.1,IF(E20<89.9,0.15,IF(E20<92.4,0.2,IF(E20<94.9,0.25,IF(E20<97.4,0.3,IF(E20<99.9,0.35,0.4))))))) -> 0 | J20: =H20-I20 -> 42.09
D21: 6-3 | I21: =IF(E21<84.9,0,IF(E21<87.4,0.1,IF(E21<89.9,0.15,IF(E21<92.4,0.2,IF(E21<94.9,0.25,IF(E21<97.4,0.3,IF(E21<99.9,0.35,0.4))))))) -> 0 | J21: =H21-I21 -> 0
A22: 7 | B22: Kozaks | C22: Пикулин Павел | D22: 7-1 | E22: 75.5 | F22: =IF(M6=3,AC22,AF22) -> 0 | G22: 8 | H22: 41.57 | I22: =IF(E22<84.9,0,IF(E22<87.4,0.1,IF(E22<89.9,0.15,IF(E22<92.4,0.2,IF(E22<94.9,0.25,IF(E22<97.4,0.3,IF(E22<99.9,0.35,0.4))))))) -> 0 | J22: =H22-I22 -> 41.57 | K22: =AVERAGE(J22:J23) -> 41.585 | L22: =RANK(K22,K7:K58,1) -> 2 | Z22: =AVERAGE(E22:E24) -> 75.75 | AA22: =IF(E22>84.9,E22,E23) -> 76 | AB22: =COUNTIF(E22:E24,">84.9") -> 0 | AC22: =IF(AB22=1,AD22,AE22) -> 0 | AD22: =IF(AA22<84.9,0,IF(AA22<87.4,9,IF(AA22<89.9,13.5,IF(AA22<92.4,18,IF(AA22<94.9,22.5,IF(AA22<97.4,27,IF(AA22<99.9,31.5,36))))))) -> 0 | AE22: =IF(Z22<84.9,0,IF(Z22<87.4,18,IF(Z22<89.9,27,IF(Z22<92.4,36,IF(Z22<94.9,45,IF(Z22<97.4,54,IF(Z22<99.9,63,72))))))) -> 0 | AF22: =IF(AG22=2,AH22,AI22) -> 0 | AG22: =COUNTIF(E22:E24,">1") -> 2 | AH22: =IF(AB22=1,AJ22,AK22) -> 0 | AI22: =IF(AB22=1,AL22,IF(AB22=2,AM22,AK22)) -> 0 | AJ22: =IF(AA22<84.9,0,IF(AA22<87.4,12,IF(AA22<89.9,18,IF(AA22<92.4,24,IF(AA22<94.9,30,IF(AA22<97.4,36,IF(AA22<99.9,42,48))))))) -> 0 | AK22: =IF(AA22<84.9,0,IF(AA22<87.4,24,IF(AA22<89.9,36,IF(AA22<92.4,48,IF(AA22<94.9,60,IF(AA22<97.4,72,IF(AA22<99.9,84,96))))))) -> 0 | AL22: =IF(AA22<84.9,0,IF(AA22<87.4,8,IF(AA22<89.9,12,IF(AA22<92.4,16,IF(AA22<94.9,20,IF(AA22<97.4,24,IF(AA22<99.9,28,32))))))) -> 0 | AM22: =IF(AO22<84.9,0,IF(AO22<87.4,16,IF(AO22<89.9,24,IF(AO22<92.4,32,IF(AO22<94.9,40,IF(AO22<97.4,48,IF(AO22<99.9,56,64))))))) -> 0 | AO22: =(SUM(E22:E24)-MIN(E22:E24))/2 -> 38
C23: Ткаченко Кирилл | D23: 7-2 | E23: 76 | G23: 9 | H23: 41.6 | I23: =IF(E23<84.9,0,IF(E23<87.4,0.1,IF(E23<89.9,0.15,IF(E23<92.4,0.2,IF(E23<94.9,0.25,IF(E23<97.4,0.3,IF(E23<99.9,0.35,0.4))))))) -> 0 | J23: =H23-I23 -> 41.6
D24: 7-3 | I24: =IF(E24<84.9,0,IF(E24<87.4,0.1,IF(E24<89.9,0.15,IF(E24<92.4,0.2,IF(E24<94.9,0.25,IF(E24<97.4,0.3,IF(E24<99.9,0.35,0.4))))))) -> 0 | J24: =H24-I24 -> 0
A25: 8 | B25: NSJ | C25: Мифтахутдинов Ильяс | D25: 8-1 | E25: 43 | F25: =IF(M6=3,AC25,AF25) -> 18 | G25: 9 | H25: 41.53 | I25: =IF(E25<84.9,0,IF(E25<87.4,0.1,IF(E25<89.9,0.15,IF(E25<92.4,0.2,IF(E25<94.9,0.25,IF(E25<97.4,0.3,IF(E25<99.9,0.35,0.4))))))) -> 0 | J25: =H25-I25 -> 41.53 | K25: =AVERAGE(J25:J26) -> 41.635 | L25: =RANK(K25,K7:K58,1) -> 4 | Z25: =AVERAGE(E25:E27) -> 65.55 | AA25: =IF(E25>84.9,E25,E26) -> 88.1 | AB25: =COUNTIF(E25:E27,">84.9") -> 1 | AC25: =IF(AB25=1,AD25,AE25) -> 13.5 | AD25: =IF(AA25<84.9,0,IF(AA25<87.4,9,IF(AA25<89.9,13.5,IF(AA25<92.4,18,IF(AA25<94.9,22.5,IF(AA25<97.4,27,IF(AA25<99.9,31.5,36))))))) -> 13.5 | AE25: =IF(Z25<84.9,0,IF(Z25<87.4,18,IF(Z25<89.9,27,IF(Z25<92.4,36,IF(Z25<94.9,45,IF(Z25<97.4,54,IF(Z25<99.9,63,72))))))) -> 0 | AF25: =IF(AG25=2,AH25,AI25) -> 18 | AG25: =COUNTIF(E25:E27,">1") -> 2 | AH25: =IF(AB25=1,AJ25,AK25) -> 18 | AI25: =IF(AB25=1,AL25,IF(AB25=2,AM25,AK25)) -> 12 | AJ25: =IF(AA25<84.9,0,IF(AA25<87.4,12,IF(AA25<89.9,18,IF(AA25<92.4,24,IF(AA25<94.9,30,IF(AA25<97.4,36,IF(AA25<99.9,42,48))))))) -> 18 | AK25: =IF(AA25<84.9,0,IF(AA25<87.4,24,IF(AA25<89.9,36,IF(AA25<92.4,48,IF(AA25<94.9,60,IF(AA25<97.4,72,IF(AA25<99.9,84,96))))))) -> 36 | AL25: =IF(AA25<84.9,0,IF(AA25<87.4,8,IF(AA25<89.9,12,IF(AA25<92.4,16,IF(AA25<94.9,20,IF(AA25<97.4,24,IF(AA25<99.9,28,32))))))) -> 12 | AM25: =IF(AO25<84.9,0,IF(AO25<87.4,16,IF(AO25<89.9,24,IF(AO25<92.4,32,IF(AO25<94.9,40,IF(AO25<97.4,48,IF(AO25<99.9,56,64))))))) -> 0 | AO25: =(SUM(E25:E27)-MIN(E25:E27))/2 -> 44.05
C26: Тыщенко Миша | D26: 8-2 | E26: 88.1 | G26: 10 | H26: 41.89 | I26: =IF(E26<84.9,0,IF(E26<87.4,0.1,IF(E26<89.9,0.15,IF(E26<92.4,0.2,IF(E26<94.9,0.25,IF(E26<97.4,0.3,IF(E26<99.9,0.35,0.4))))))) -> 0.15 | J26: =H26-I26 -> 41.74
D27: 8-3 | I27: =IF(E27<84.9,0,IF(E27<87.4,0.1,IF(E27<89.9,0.15,IF(E27<92.4,0.2,IF(E27<94.9,0.25,IF(E27<97.4,0.3,IF(E27<99.9,0.35,0.4))))))) -> 0 | J27: =H27-I27 -> 0
A28: 9 | B28: Kart Freedom | C28: Паненко Женя | D28: 9-1 | E28: 86.1 | F28: =IF(M6=3,AC28,AF28) -> 12 | G28: 11 | H28: 41.9 | I28: =IF(E28<84.9,0,IF(E28<87.4,0.1,IF(E28<89.9,0.15,IF(E28<92.4,0.2,IF(E28<94.9,0.25,IF(E28<97.4,0.3,IF(E28<99.9,0.35,0.4))))))) -> 0.1 | J28: =H28-I28 -> 41.8 | K28: =AVERAGE(J28:J29) -> 41.585 | L28: =RANK(K28,K7:K58,1) -> 1 | Z28: =AVERAGE(E28:E30) -> 82.45 | AA28: =IF(E28>84.9,E28,E29) -> 86.1 | AB28: =COUNTIF(E28:E30,">84.9") -> 1 | AC28: =IF(AB28=1,AD28,AE28) -> 9 | AD28: =IF(AA28<84.9,0,IF(AA28<87.4,9,IF(AA28<89.9,13.5,IF(AA28<92.4,18,IF(AA28<94.9,22.5,IF(AA28<97.4,27,IF(AA28<99.9,31.5,36))))))) -> 9 | AE28: =IF(Z28<84.9,0,IF(Z28<87.4,18,IF(Z28<89.9,27,IF(Z28<92.4,36,IF(Z28<94.9,45,IF(Z28<97.4,54,IF(Z28<99.9,63,72))))))) -> 0 | AF28: =IF(AG28=2,AH28,AI28) -> 12 | AG28: =COUNTIF(E28:E30,">1") -> 2 | AH28: =IF(AB28=1,AJ28,AK28) -> 12 | AI28: =IF(AB28=1,AL28,IF(AB28=2,AM28,AK28)) -> 8 | AJ28: =IF(AA28<84.9,0,IF(AA28<87.4,12,IF(AA28<89.9,18,IF(AA28<92.4,24,IF(AA28<94.9,30,IF(AA28<97.4,36,IF(AA28<99.9,42,48))))))) -> 12 | AK28: =IF(AA28<84.9,0,IF(AA28<87.4,24,IF(AA28<89.9,36,IF(AA28<92.4,48,IF(AA28<94.9,60,IF(AA28<97.4,72,IF(AA28<99.9,84,96))))))) -> 24 | AL28: =IF(AA28<84.9,0,IF(AA28<87.4,8,IF(AA28<89.9,12,IF(AA28<92.4,16,IF(AA28<94.9,20,IF(AA28<97.4,24,IF(AA28<99.9,28,32))))))) -> 8 | AM28: =IF(AO28<84.9,0,IF(AO28<87.4,16,IF(AO28<89.9,24,IF(AO28<92.4,32,IF(AO28<94.9,40,IF(AO28<97.4,48,IF(AO28<99.9,56,64))))))) -> 0 | AO28: =(SUM(E28:E30)-MIN(E28:E30))/2 -> 43.05
C29: Петушков Андрей | D29: 9-2 | E29: 78.8 | G29: 12 | H29: 41.37 | I29: =IF(E29<84.9,0,IF(E29<87.4,0.1,IF(E29<89.9,0.15,IF(E29<92.4,0.2,IF(E29<94.9,0.25,IF(E29<97.4,0.3,IF(E29<99.9,0.35,0.4))))))) -> 0 | J29: =H29-I29 -> 41.37
D30: 9-3 | I30: =IF(E30<84.9,0,IF(E30<87.4,0.1,IF(E30<89.9,0.15,IF(E30<92.4,0.2,IF(E30<94.9,0.25,IF(E30<97.4,0.3,IF(E30<99.9,0.35,0.4))))))) -> 0 | J30: =H30-I30 -> 0
A31: 10 | B31: Ingul kart Rt | C31: Кублицкий Виктор | D31: 10-1 | E31: 63.8 | F31: =IF(M6=3,AC31,AF31) -> 0 | G31: 13 | H31: 41.89 | I31: =IF(E31<84.9,0,IF(E31<87.4,0.1,IF(E31<89.9,0.15,IF(E31<92.4,0.2,IF(E31<94.9,0.25,IF(E31<97.4,0.3,IF(E31<99.9,0.35,0.4))))))) -> 0 | J31: =H31-I31 -> 41.89 | K31: =AVERAGE(J31:J32) -> 41.79 | L31: =RANK(K31,K7:K58,1) -> 8 | Z31: =AVERAGE(E31:E33) -> 66.15 | AA31: =IF(E31>84.9,E31,E32) -> 68.5 | AB31: =COUNTIF(E31:E33,">84.9") -> 0 | AC31: =IF(AB31=1,AD31,AE31) -> 0 | AD31: =IF(AA31<84.9,0,IF(AA31<87.4,9,IF(AA31<89.9,13.5,IF(AA31<92.4,18,IF(AA31<94.9,22.5,IF(AA31<97.4,27,IF(AA31<99.9,31.5,36))))))) -> 0 | AE31: =IF(Z31<84.9,0,IF(Z31<87.4,18,IF(Z31<89.9,27,IF(Z31<92.4,36,IF(Z31<94.9,45,IF(Z31<97.4,54,IF(Z31<99.9,63,72))))))) -> 0 | AF31: =IF(AG31=2,AH31,AI31) -> 0 | AG31: =COUNTIF(E31:E33,">1") -> 2 | AH31: =IF(AB31=1,AJ31,AK31) -> 0 | AI31: =IF(AB31=1,AL31,IF(AB31=2,AM31,AK31)) -> 0 | AJ31: =IF(AA31<84.9,0,IF(AA31<87.4,12,IF(AA31<89.9,18,IF(AA31<92.4,24,IF(AA31<94.9,30,IF(AA31<97.4,36,IF(AA31<99.9,42,48))))))) -> 0 | AK31: =IF(AA31<84.9,0,IF(AA31<87.4,24,IF(AA31<89.9,36,IF(AA31<92.4,48,IF(AA31<94.9,60,IF(AA31<97.4,72,IF(AA31<99.9,84,96))))))) -> 0 | AL31: =IF(AA31<84.9,0,IF(AA31<87.4,8,IF(AA31<89.9,12,IF(AA31<92.4,16,IF(AA31<94.9,20,IF(AA31<97.4,24,IF(AA31<99.9,28,32))))))) -> 0 | AM31: =IF(AO31<84.9,0,IF(AO31<87.4,16,IF(AO31<89.9,24,IF(AO31<92.4,32,IF(AO31<94.9,40,IF(AO31<97.4,48,IF(AO31<99.9,56,64))))))) -> 0 | AO31: =(SUM(E31:E33)-MIN(E31:E33))/2 -> 34.25
C32: Геронимус Макс | D32: 10.2 | E32: 68.5 | G32: 12 | H32: 41.69 | I32: =IF(E32<84.9,0,IF(E32<87.4,0.1,IF(E32<89.9,0.15,IF(E32<92.4,0.2,IF(E32<94.9,0.25,IF(E32<97.4,0.3,IF(E32<99.9,0.35,0.4))))))) -> 0 | J32: =H32-I32 -> 41.69
D33: 10-3 | I33: =IF(E33<84.9,0,IF(E33<87.4,0.1,IF(E33<89.9,0.15,IF(E33<92.4,0.2,IF(E33<94.9,0.25,IF(E33<97.4,0.3,IF(E33<99.9,0.35,0.4))))))) -> 0 | J33: =H33-I33 -> 0
A34: 11 | B34: Fortuna Racing | C34: Фортуна Таня | D34: 11-1 | E34: 67.4 | F34: =IF(M6=3,AC34,AF34) -> 0 | G34: 13 | H34: 41.89 | I34: =IF(E34<84.9,0,IF(E34<87.4,0.1,IF(E34<89.9,0.15,IF(E34<92.4,0.2,IF(E34<94.9,0.25,IF(E34<97.4,0.3,IF(E34<99.9,0.35,0.4))))))) -> 0 | J34: =H34-I34 -> 41.89 | K34: =AVERAGE(J34:J35) -> 41.875 | L34: =RANK(K34,K7:K58,1) -> 10 | Z34: =AVERAGE(E34:E36) -> 75.5 | AA34: =IF(E34>84.9,E34,E35) -> 83.6 | AB34: =COUNTIF(E34:E36,">84.9") -> 0 | AC34: =IF(AB34=1,AD34,AE34) -> 0 | AD34: =IF(AA34<84.9,0,IF(AA34<87.4,9,IF(AA34<89.9,13.5,IF(AA34<92.4,18,IF(AA34<94.9,22.5,IF(AA34<97.4,27,IF(AA34<99.9,31.5,36))))))) -> 0 | AE34: =IF(Z34<84.9,0,IF(Z34<87.4,18,IF(Z34<89.9,27,IF(Z34<92.4,36,IF(Z34<94.9,45,IF(Z34<97.4,54,IF(Z34<99.9,63,72))))))) -> 0 | AF34: =IF(AG34=2,AH34,AI34) -> 0 | AG34: =COUNTIF(E34:E36,">1") -> 2 | AH34: =IF(AB34=1,AJ34,AK34) -> 0 | AI34: =IF(AB34=1,AL34,IF(AB34=2,AM34,AK34)) -> 0 | AJ34: =IF(AA34<84.9,0,IF(AA34<87.4,12,IF(AA34<89.9,18,IF(AA34<92.4,24,IF(AA34<94.9,30,IF(AA34<97.4,36,IF(AA34<99.9,42,48))))))) -> 0 | AK34: =IF(AA34<84.9,0,IF(AA34<87.4,24,IF(AA34<89.9,36,IF(AA34<92.4,48,IF(AA34<94.9,60,IF(AA34<97.4,72,IF(AA34<99.9,84,96))))))) -> 0 | AL34: =IF(AA34<84.9,0,IF(AA34<87.4,8,IF(AA34<89.9,12,IF(AA34<92.4,16,IF(AA34<94.9,20,IF(AA34<97.4,24,IF(AA34<99.9,28,32))))))) -> 0 | AM34: =IF(AO34<84.9,0,IF(AO34<87.4,16,IF(AO34<89.9,24,IF(AO34<92.4,32,IF(AO34<94.9,40,IF(AO34<97.4,48,IF(AO34<99.9,56,64))))))) -> 0 | AO34: =(SUM(E34:E36)-MIN(E34:E36))/2 -> 41.8
C35: Шутка Виталий | D35: 11-2 | E35: 83.6 | G35: 14 | H35: 41.86 | I35: =IF(E35<84.9,0,IF(E35<87.4,0.1,IF(E35<89.9,0.15,IF(E35<92.4,0.2,IF(E35<94.9,0.25,IF(E35<97.4,0.3,IF(E35<99.9,0.35,0.4))))))) -> 0 | J35: =H35-I35 -> 41.86
D36: 11-3 | I36: =IF(E36<84.9,0,IF(E36<87.4,0.1,IF(E36<89.9,0.15,IF(E36<92.4,0.2,IF(E36<94.9,0.25,IF(E36<97.4,0.3,IF(E36<99.9,0.35,0.4))))))) -> 0 | J36: =H36-I36 -> 0
A37: 12 | B37: Ingul kart Acadamy | C37: Гладышев Степан | D37: 12-1 | E37: 84.8 | F37: =IF(M6=3,AC37,AF37) -> 8 | I37: =IF(E37<84.9,0,IF(E37<87.4,0.1,IF(E37<89.9,0.15,IF(E37<92.4,0.2,IF(E37<94.9,0.25,IF(E37<97.4,0.3,IF(E37<99.9,0.35,0.4))))))) -> 0 | J37: =H37-I37 -> 0 | K37: =AVERAGE(J38,J39) -> 42.155 | L37: =RANK(K37,K7:K58,1) -> 16 | Z37: =AVERAGE(E37:E39) -> 84.1 | AA37: =IF(E37>84.9,E37,E38) -> 86.8 | AB37: =COUNTIF(E37:E39,">84.9") -> 1 | AC37: =IF(AB37=1,AD37,AE37) -> 9 | AD37: =IF(AA37<84.9,0,IF(AA37<87.4,9,IF(AA37<89.9,13.5,IF(AA37<92.4,18,IF(AA37<94.9,22.5,IF(AA37<97.4,27,IF(AA37<99.9,31.5,36))))))) -> 9 | AE37: =IF(Z37<84.9,0,IF(Z37<87.4,18,IF(Z37<89.9,27,IF(Z37<92.4,36,IF(Z37<94.9,45,IF(Z37<97.4,54,IF(Z37<99.9,63,72))))))) -> 0 | AF37: =IF(AG37=2,AH37,AI37) -> 8 | AG37: =COUNTIF(E37:E39,">1") -> 3 | AH37: =IF(AB37=1,AJ37,AK37) -> 12 | AI37: =IF(AB37=1,AL37,IF(AB37=2,AM37,AK37)) -> 8 | AJ37: =IF(AA37<84.9,0,IF(AA37<87.4,12,IF(AA37<89.9,18,IF(AA37<92.4,24,IF(AA37<94.9,30,IF(AA37<97.4,36,IF(AA37<99.9,42,48))))))) -> 12 | AK37: =IF(AA37<84.9,0,IF(AA37<87.4,24,IF(AA37<89.9,36,IF(AA37<92.4,48,IF(AA37<94.9,60,IF(AA37<97.4,72,IF(AA37<99.9,84,96))))))) -> 24 | AL37: =IF(AA37<84.9,0,IF(AA37<87.4,8,IF(AA37<89.9,12,IF(AA37<92.4,16,IF(AA37<94.9,20,IF(AA37<97.4,24,IF(AA37<99.9,28,32))))))) -> 8 | AM37: =IF(AO37<84.9,0,IF(AO37<87.4,16,IF(AO37<89.9,24,IF(AO37<92.4,32,IF(AO37<94.9,40,IF(AO37<97.4,48,IF(AO37<99.9,56,64))))))) -> 16 | AO37: =(SUM(E37:E39)-MIN(E37:E39))/2 -> 85.8
C38: Сивак Максим | D38: 12-2 | E38: 86.8 | G38: 15 | H38: 42.25 | I38: =IF(E38<84.9,0,IF(E38<87.4,0.1,IF(E38<89.9,0.15,IF(E38<92.4,0.2,IF(E38<94.9,0.25,IF(E38<97.4,0.3,IF(E38<99.9,0.35,0.4))))))) -> 0.1 | J38: =H38-I38 -> 42.15
C39: Демьяненко Дмитрий | D39: 12-3 | E39: 80.7 | G39: 14 | H39: 42.16 | I39: =IF(E39<84.9,0,IF(E39<87.4,0.1,IF(E39<89.9,0.15,IF(E39<92.4,0.2,IF(E39<94.9,0.25,IF(E39<97.4,0.3,IF(E39<99.9,0.35,0.4))))))) -> 0 | J39: =H39-I39 -> 42.16
A40: 13 | B40: G.A.T | C40: Любина Елена | D40: 13-1 | E40: 65.2 | F40: =IF(M6=3,AC40,AF40) -> 0 | G40: 15 | H40: 41.84 | I40: =IF(E40<84.9,0,IF(E40<87.4,0.1,IF(E40<89.9,0.15,IF(E40<92.4,0.2,IF(E40<94.9,0.25,IF(E40<97.4,0.3,IF(E40<99.9,0.35,0.4))))))) -> 0 | J40: =H40-I40 -> 41.84 | K40: =AVERAGE(J40:J41) -> 42.01 | L40: =RANK(K40,K7:K58,1) -> 13 | Z40: =AVERAGE(E40:E42) -> 63.45 | AA40: =IF(E40>84.9,E40,E41) -> 61.7 | AB40: =COUNTIF(E40:E42,">84.9") -> 0 | AC40: =IF(AB40=1,AD40,AE40) -> 0 | AD40: =IF(AA40<84.9,0,IF(AA40<87.4,9,IF(AA40<89.9,13.5,IF(AA40<92.4,18,IF(AA40<94.9,22.5,IF(AA40<97.4,27,IF(AA40<99.9,31.5,36))))))) -> 0 | AE40: =IF(Z40<84.9,0,IF(Z40<87.4,18,IF(Z40<89.9,27,IF(Z40<92.4,36,IF(Z40<94.9,45,IF(Z40<97.4,54,IF(Z40<99.9,63,72))))))) -> 0 | AF40: =IF(AG40=2,AH40,AI40) -> 0 | AG40: =COUNTIF(E40:E42,">1") -> 2 | AH40: =IF(AB40=1,AJ40,AK40) -> 0 | AI40: =IF(AB40=1,AL40,IF(AB40=2,AM40,AK40)) -> 0 | AJ40: =IF(AA40<84.9,0,IF(AA40<87.4,12,IF(AA40<89.9,18,IF(AA40<92.4,24,IF(AA40<94.9,30,IF(AA40<97.4,36,IF(AA40<99.9,42,48))))))) -> 0 | AK40: =IF(AA40<84.9,0,IF(AA40<87.4,24,IF(AA40<89.9,36,IF(AA40<92.4,48,IF(AA40<94.9,60,IF(AA40<97.4,72,IF(AA40<99.9,84,96))))))) -> 0 | AL40: =IF(AA40<84.9,0,IF(AA40<87.4,8,IF(AA40<89.9,12,IF(AA40<92.4,16,IF(AA40<94.9,20,IF(AA40<97.4,24,IF(AA40<99.9,28,32))))))) -> 0 | AM40: =IF(AO40<84.9,0,IF(AO40<87.4,16,IF(AO40<89.9,24,IF(AO40<92.4,32,IF(AO40<94.9,40,IF(AO40<97.4,48,IF(AO40<99.9,56,64))))))) -> 0 | AO40: =(SUM(E40:E42)-MIN(E40:E42))/2 -> 32.6
C41: Геронимус К. | D41: 13-2 | E41: 61.7 | G41: 16 | H41: 42.18 | I41: =IF(E41<84.9,0,IF(E41<87.4,0.1,IF(E41<89.9,0.15,IF(E41<92.4,0.2,IF(E41<94.9,0.25,IF(E41<97.4,0.3,IF(E41<99.9,0.35,0.4))))))) -> 0 | J41: =H41-I41 -> 42.18
D42: 13-3 | I42: =IF(E42<84.9,0,IF(E42<87.4,0.1,IF(E42<89.9,0.15,IF(E42<92.4,0.2,IF(E42<94.9,0.25,IF(E42<97.4,0.3,IF(E42<99.9,0.35,0.4))))))) -> 0 | J42: =H42-I42 -> 0
A43: 14 | B43: Kart Freedom Rt | C43: Терещенко Андрей | D43: 14-1 | E43: 90 | F43: =IF(M6=3,AC43,AF43) -> 24 | G43: 17 | H43: 41.87 | I43: =IF(E43<84.9,0,IF(E43<87.4,0.1,IF(E43<89.9,0.15,IF(E43<92.4,0.2,IF(E43<94.9,0.25,IF(E43<97.4,0.3,IF(E43<99.9,0.35,0.4))))))) -> 0.2 | J43: =H43-I43 -> 41.67 | K43: =AVERAGE(J43:J44) -> 41.725 | L43: =RANK(K43,K7:K58,1) -> 5 | Z43: =AVERAGE(E43:E45) -> 72.2 | AA43: =IF(E43>84.9,E43,E44) -> 90 | AB43: =COUNTIF(E43:E45,">84.9") -> 1 | AC43: =IF(AB43=1,AD43,AE43) -> 18 | AD43: =IF(AA43<84.9,0,IF(AA43<87.4,9,IF(AA43<89.9,13.5,IF(AA43<92.4,18,IF(AA43<94.9,22.5,IF(AA43<97.4,27,IF(AA43<99.9,31.5,36))))))) -> 18 | AE43: =IF(Z43<84.9,0,IF(Z43<87.4,18,IF(Z43<89.9,27,IF(Z43<92.4,36,IF(Z43<94.9,45,IF(Z43<97.4,54,IF(Z43<99.9,63,72))))))) -> 0 | AF43: =IF(AG43=2,AH43,AI43) -> 24 | AG43: =COUNTIF(E43:E45,">1") -> 2 | AH43: =IF(AB43=1,AJ43,AK43) -> 24 | AI43: =IF(AB43=1,AL43,IF(AB43=2,AM43,AK43)) -> 16 | AJ43: =IF(AA43<84.9,0,IF(AA43<87.4,12,IF(AA43<89.9,18,IF(AA43<92.4,24,IF(AA43<94.9,30,IF(AA43<97.4,36,IF(AA43<99.9,42,48))))))) -> 24 | AK43: =IF(AA43<84.9,0,IF(AA43<87.4,24,IF(AA43<89.9,36,IF(AA43<92.4,48,IF(AA43<94.9,60,IF(AA43<97.4,72,IF(AA43<99.9,84,96))))))) -> 48 | AL43: =IF(AA43<84.9,0,IF(AA43<87.4,8,IF(AA43<89.9,12,IF(AA43<92.4,16,IF(AA43<94.9,20,IF(AA43<97.4,24,IF(AA43<99.9,28,32))))))) -> 16 | AM43: =IF(AO43<84.9,0,IF(AO43<87.4,16,IF(AO43<89.9,24,IF(AO43<92.4,32,IF(AO43<94.9,40,IF(AO43<97.4,48,IF(AO43<99.9,56,64))))))) -> 0 | AO43: =(SUM(E43:E45)-MIN(E43:E45))/2 -> 45
C44: Медведева Дарья | D44: 14-2 | E44: 54.4 | G44: 16 | H44: 41.78 | I44: =IF(E44<84.9,0,IF(E44<87.4,0.1,IF(E44<89.9,0.15,IF(E44<92.4,0.2,IF(E44<94.9,0.25,IF(E44<97.4,0.3,IF(E44<99.9,0.35,0.4))))))) -> 0 | J44: =H44-I44 -> 41.78
D45: 14-3 | I45: =IF(E45<84.9,0,IF(E45<87.4,0.1,IF(E45<89.9,0.15,IF(E45<92.4,0.2,IF(E45<94.9,0.25,IF(E45<97.4,0.3,IF(E45<99.9,0.35,0.4))))))) -> 0 | J45: =H45-I45 -> 0
A46: 15 | B46: e-k Motorsport | C46: Коруз Вадим | D46: 15-1 | E46: 73.9 | F46: =IF(M6=3,AC46,AF46) -> 0 | G46: 18 | H46: 41.75 | I46: =IF(E46<84.9,0,IF(E46<87.4,0.1,IF(E46<89.9,0.15,IF(E46<92.4,0.2,IF(E46<94.9,0.25,IF(E46<97.4,0.3,IF(E46<99.9,0.35,0.4))))))) -> 0 | J46: =H46-I46 -> 41.75 | K46: =AVERAGE(J46:J47) -> 41.775 | L46: =RANK(K46,K7:K58,1) -> 6 | Z46: =AVERAGE(E46:E48) -> 73.9 | AA46: =IF(E46>84.9,E46,E47) -> 73.9 | AB46: =COUNTIF(E46:E48,">84.9") -> 0 | AC46: =IF(AB46=1,AD46,AE46) -> 0 | AD46: =IF(AA46<84.9,0,IF(AA46<87.4,9,IF(AA46<89.9,13.5,IF(AA46<92.4,18,IF(AA46<94.9,22.5,IF(AA46<97.4,27,IF(AA46<99.9,31.5,36))))))) -> 0 | AE46: =IF(Z46<84.9,0,IF(Z46<87.4,18,IF(Z46<89.9,27,IF(Z46<92.4,36,IF(Z46<94.9,45,IF(Z46<97.4,54,IF(Z46<99.9,63,72))))))) -> 0 | AF46: =IF(AG46=2,AH46,AI46) -> 0 | AG46: =COUNTIF(E46:E48,">1") -> 2 | AH46: =IF(AB46=1,AJ46,AK46) -> 0 | AI46: =IF(AB46=1,AL46,IF(AB46=2,AM46,AK46)) -> 0 | AJ46: =IF(AA46<84.9,0,IF(AA46<87.4,12,IF(AA46<89.9,18,IF(AA46<92.4,24,IF(AA46<94.9,30,IF(AA46<97.4,36,IF(AA46<99.9,42,48))))))) -> 0 | AK46: =IF(AA46<84.9,0,IF(AA46<87.4,24,IF(AA46<89.9,36,IF(AA46<92.4,48,IF(AA46<94.9,60,IF(AA46<97.4,72,IF(AA46<99.9,84,96))))))) -> 0 | AL46: =IF(AA46<84.9,0,IF(AA46<87.4,8,IF(AA46<89.9,12,IF(AA46<92.4,16,IF(AA46<94.9,20,IF(AA46<97.4,24,IF(AA46<99.9,28,32))))))) -> 0 | AM46: =IF(AO46<84.9,0,IF(AO46<87.4,16,IF(AO46<89.9,24,IF(AO46<92.4,32,IF(AO46<94.9,40,IF(AO46<97.4,48,IF(AO46<99.9,56,64))))))) -> 0 | AO46: =(SUM(E46:E48)-MIN(E46:E48))/2 -> 36.95
C47: Якусик Дима | D47: 15-2 | E47: 73.9 | G47: 17 | H47: 41.8 | I47: =IF(E47<84.9,0,IF(E47<87.4,0.1,IF(E47<89.9,0.15,IF(E47<92.4,0.2,IF(E47<94.9,0.25,IF(E47<97.4,0.3,IF(E47<99.9,0.35,0.4))))))) -> 0 | J47: =H47-I47 -> 41.8
D48: 15-3 | I48: =IF(E48<84.9,0,IF(E48<87.4,0.1,IF(E48<89.9,0.15,IF(E48<92.4,0.2,IF(E48<94.9,0.25,IF(E48<97.4,0.3,IF(E48<99.9,0.35,0.4))))))) -> 0 | J48: =H48-I48 -> 0
A49: 16 | B49: Kart Freedom JT | C49: Юрченко Владимир | D49: 16-1 | E49: 72.7 | F49: =IF(M6=3,AC49,AF48) -> 0 | G49: 18 | H49: 42.24 | I49: =IF(E49<84.9,0,IF(E49<87.4,0.1,IF(E49<89.9,0.15,IF(E49<92.4,0.2,IF(E49<94.9,0.25,IF(E49<97.4,0.3,IF(E49<99.9,0.35,0.4))))))) -> 0 | J49: =H49-I49 -> 42.24 | K49: =AVERAGE(J49:J50) -> 42.11 | L49: =RANK(K49,K7:K58,1) -> 15 | Z49: =AVERAGE(E49:E51) -> 62.95 | AA49: =IF(E49>84.9,E49,E50) -> 53.2 | AB49: =COUNTIF(E49:E51,">84.9") -> 0 | AC49: =IF(AB49=1,AD49,AE49) -> 0 | AD49: =IF(AA49<84.9,0,IF(AA49<87.4,9,IF(AA49<89.9,13.5,IF(AA49<92.4,18,IF(AA49<94.9,22.5,IF(AA49<97.4,27,IF(AA49<99.9,31.5,36))))))) -> 0 | AE49: =IF(Z49<84.9,0,IF(Z49<87.4,18,IF(Z49<89.9,27,IF(Z49<92.4,36,IF(Z49<94.9,45,IF(Z49<97.4,54,IF(Z49<99.9,63,72))))))) -> 0 | AF49: =IF(AG49=2,AH49,AI49) -> 0 | AG49: =COUNTIF(E49:E51,">1") -> 2 | AH49: =IF(AB49=1,AJ49,AK49) -> 0 | AI49: =IF(AB49=1,AL49,IF(AB49=2,AM49,AK49)) -> 0 | AJ49: =IF(AA49<84.9,0,IF(AA49<87.4,12,IF(AA49<89.9,18,IF(AA49<92.4,24,IF(AA49<94.9,30,IF(AA49<97.4,36,IF(AA49<99.9,42,48))))))) -> 0 | AK49: =IF(AA49<84.9,0,IF(AA49<87.4,24,IF(AA49<89.9,36,IF(AA49<92.4,48,IF(AA49<94.9,60,IF(AA49<97.4,72,IF(AA49<99.9,84,96))))))) -> 0 | AL49: =IF(AA49<84.9,0,IF(AA49<87.4,8,IF(AA49<89.9,12,IF(AA49<92.4,16,IF(AA49<94.9,20,IF(AA49<97.4,24,IF(AA49<99.9,28,32))))))) -> 0 | AM49: =IF(AO49<84.9,0,IF(AO49<87.4,16,IF(AO49<89.9,24,IF(AO49<92.4,32,IF(AO49<94.9,40,IF(AO49<97.4,48,IF(AO49<99.9,56,64))))))) -> 0 | AO49: =(SUM(E49:E51)-MIN(E49:E51))/2 -> 36.35
C50: Новиков Герман | D50: 16-2 | E50: 53.2 | G50: 21 | H50: 41.98 | I50: =IF(E50<84.9,0,IF(E50<87.4,0.1,IF(E50<89.9,0.15,IF(E50<92.4,0.2,IF(E50<94.9,0.25,IF(E50<97.4,0.3,IF(E50<99.9,0.35,0.4))))))) -> 0 | J50: =H50-I50 -> 41.98
D51: 16-3 | I51: =IF(E51<84.9,0,IF(E51<87.4,0.1,IF(E51<89.9,0.15,IF(E51<92.4,0.2,IF(E51<94.9,0.25,IF(E51<97.4,0.3,IF(E51<99.9,0.35,0.4))))))) -> 0 | J51: =H51-I51 -> 0
A52: 17 | B52: Buro 11 | C52: Якусик Саша | D52: 17-1 | E52: 75.2 | F52: =IF(M6=3,AC52,AF52) -> 0 | G52: 44 | H52: 42.39 | I52: =IF(E52<84.9,0,IF(E52<87.4,0.1,IF(E52<89.9,0.15,IF(E52<92.4,0.2,IF(E52<94.9,0.25,IF(E52<97.4,0.3,IF(E52<99.9,0.35,0.4))))))) -> 0 | J52: =H52-I52 -> 42.39 | K52: =AVERAGE(J52,J54) -> 42.37 | L52: =RANK(K52,K7:K58,1) -> 17 | Z52: =AVERAGE(E52:E54) -> 86.666667 | AA52: =IF(E52>84.9,E52,E53) -> 84.5 | AB52: =COUNTIF(E52:E54,">84.9") -> 1 | AC52: =IF(AB52=1,AD52,AE52) -> 0 | AD52: =IF(AA52<84.9,0,IF(AA52<87.4,9,IF(AA52<89.9,13.5,IF(AA52<92.4,18,IF(AA52<94.9,22.5,IF(AA52<97.4,27,IF(AA52<99.9,31.5,36))))))) -> 0 | AE52: =IF(Z52<84.9,0,IF(Z52<87.4,18,IF(Z52<89.9,27,IF(Z52<92.4,36,IF(Z52<94.9,45,IF(Z52<97.4,54,IF(Z52<99.9,63,72))))))) -> 18 | AF52: =IF(AG52=2,AH52,AI52) -> 0 | AG52: =COUNTIF(E52:E54,">1") -> 3 | AH52: =IF(AB52=1,AJ52,AK52) -> 0 | AI52: =IF(AB52=1,AL52,IF(AB52=2,AM52,AK52)) -> 0 | AJ52: =IF(AA52<84.9,0,IF(AA52<87.4,12,IF(AA52<89.9,18,IF(AA52<92.4,24,IF(AA52<94.9,30,IF(AA52<97.4,36,IF(AA52<99.9,42,48))))))) -> 0 | AK52: =IF(AA52<84.9,0,IF(AA52<87.4,24,IF(AA52<89.9,36,IF(AA52<92.4,48,IF(AA52<94.9,60,IF(AA52<97.4,72,IF(AA52<99.9,84,96))))))) -> 0 | AL52: =IF(AA52<84.9,0,IF(AA52<87.4,8,IF(AA52<89.9,12,IF(AA52<92.4,16,IF(AA52<94.9,20,IF(AA52<97.4,24,IF(AA52<99.9,28,32))))))) -> 0 | AM52: =IF(AO52<84.9,0,IF(AO52<87.4,16,IF(AO52<89.9,24,IF(AO52<92.4,32,IF(AO52<94.9,40,IF(AO52<97.4,48,IF(AO52<99.9,56,64))))))) -> 40 | AO52: =(SUM(E52:E54)-MIN(E52:E54))/2 -> 92.4
C53: Карлюк Марина | D53: 17-2 | E53: 84.5 | I53: =IF(E53<84.9,0,IF(E53<87.4,0.1,IF(E53<89.9,0.15,IF(E53<92.4,0.2,IF(E53<94.9,0.25,IF(E53<97.4,0.3,IF(E53<99.9,0.35,0.4))))))) -> 0 | J53: =H53-I53 -> 0
C54: Закалюк Женя | D54: 17-3 | E54: 100.3 | G54: 33 | H54: 42.75 | I54: =IF(E54<84.9,0,IF(E54<87.4,0.1,IF(E54<89.9,0.15,IF(E54<92.4,0.2,IF(E54<94.9,0.25,IF(E54<97.4,0.3,IF(E54<99.9,0.35,0.4))))))) -> 0.4 | J54: =H54-I54 -> 42.35
A55: 19 | B55: Vpered ta Vgory | C55: Манило Денис | D55: 19-1 | F55: =IF(M6=3,AC55,AF55) -> 0 | G55: 69 | H55: 41.5 | I55: =IF(E55<84.9,0,IF(E55<87.4,0.1,IF(E55<89.9,0.15,IF(E55<92.4,0.2,IF(E55<94.9,0.25,IF(E55<97.4,0.3,IF(E55<99.9,0.35,0.4))))))) -> 0 | J55: =H55-I55 -> 41.5 | K55: =AVERAGE(J55:J56) -> 41.595 | L55: =RANK(K55,K13:K58,1) -> 3 | Z55: =AVERAGE(E55:E57) -> 63.1 | AA55: =IF(E55>84.9,E55,E56) -> 63.1 | AB55: =COUNTIF(E55:E57,">84.9") -> 0 | AC55: =IF(AB55=1,AD55,AE55) -> 0 | AD55: =IF(AA55<84.9,0,IF(AA55<87.4,9,IF(AA55<89.9,13.5,IF(AA55<92.4,18,IF(AA55<94.9,22.5,IF(AA55<97.4,27,IF(AA55<99.9,31.5,36))))))) -> 0 | AE55: =IF(Z55<84.9,0,IF(Z55<87.4,18,IF(Z55<89.9,27,IF(Z55<92.4,36,IF(Z55<94.9,45,IF(Z55<97.4,54,IF(Z55<99.9,63,72))))))) -> 0 | AF55: =IF(AG55=2,AH55,AI55) -> 0 | AG55: =COUNTIF(E55:E57,">1") -> 1 | AH55: =IF(AB55=1,AJ55,AK55) -> 0 | AI55: =IF(AB55=1,AL55,IF(AB55=2,AM55,AK55)) -> 0 | AJ55: =IF(AA55<84.9,0,IF(AA55<87.4,12,IF(AA55<89.9,18,IF(AA55<92.4,24,IF(AA55<94.9,30,IF(AA55<97.4,36,IF(AA55<99.9,42,48))))))) -> 0 | AK55: =IF(AA55<84.9,0,IF(AA55<87.4,24,IF(AA55<89.9,36,IF(AA55<92.4,48,IF(AA55<94.9,60,IF(AA55<97.4,72,IF(AA55<99.9,84,96))))))) -> 0 | AL55: =IF(AA55<84.9,0,IF(AA55<87.4,8,IF(AA55<89.9,12,IF(AA55<92.4,16,IF(AA55<94.9,20,IF(AA55<97.4,24,IF(AA55<99.9,28,32))))))) -> 0 | AM55: =IF(AO55<84.9,0,IF(AO55<87.4,16,IF(AO55<89.9,24,IF(AO55<92.4,32,IF(AO55<94.9,40,IF(AO55<97.4,48,IF(AO55<99.9,56,64))))))) -> 0 | AO55: =(SUM(E55:E57)-MIN(E55:E57))/2 -> 0
C56: Стоцкий Андрей | D56: 19-2 | E56: 63.1 | G56: 44 | H56: 41.69 | I56: =IF(E56<84.9,0,IF(E56<87.4,0.1,IF(E56<89.9,0.15,IF(E56<92.4,0.2,IF(E56<94.9,0.25,IF(E56<97.4,0.3,IF(E56<99.9,0.35,0.4))))))) -> 0 | J56: =H56-I56 -> 41.69
D57: 19-3 | I57: =IF(E57<84.9,0,IF(E57<87.4,0.1,IF(E57<89.9,0.15,IF(E57<92.4,0.2,IF(E57<94.9,0.25,IF(E57<97.4,0.3,IF(E57<99.9,0.35,0.4))))))) -> 0 | J57: =H57-I57 -> 0
A58: 20 | B58: K44 | C58: Наум | D58: 20-1 | E58: 80.3 | F58: =IF(M6=3,AC58,AF58) -> 0 | G58: 2 | H58: 41.59 | I58: =IF(E58<84.9,0,IF(E58<87.4,0.1,IF(E58<89.9,0.15,IF(E58<92.4,0.2,IF(E58<94.9,0.25,IF(E58<97.4,0.3,IF(E58<99.9,0.35,0.4))))))) -> 0 | J58: =H58-I58 -> 41.59 | K58: =AVERAGE(J58:J59) -> 41.775 | L58: =RANK(K58,K16:K60,1) -> 7 | Z58: =AVERAGE(E58:E60) -> 80.7 | AA58: =IF(E58>84.9,E58,E59) -> 81.1 | AB58: =COUNTIF(E58:E60,">84.9") -> 0 | AC58: =IF(AB58=1,AD58,AE58) -> 0 | AD58: =IF(AA58<84.9,0,IF(AA58<87.4,9,IF(AA58<89.9,13.5,IF(AA58<92.4,18,IF(AA58<94.9,22.5,IF(AA58<97.4,27,IF(AA58<99.9,31.5,36))))))) -> 0 | AE58: =IF(Z58<84.9,0,IF(Z58<87.4,18,IF(Z58<89.9,27,IF(Z58<92.4,36,IF(Z58<94.9,45,IF(Z58<97.4,54,IF(Z58<99.9,63,72))))))) -> 0 | AF58: =IF(AG58=2,AH58,AI58) -> 0 | AG58: =COUNTIF(E58:E60,">1") -> 2 | AH58: =IF(AB58=1,AJ58,AK58) -> 0 | AI58: =IF(AB58=1,AL58,IF(AB58=2,AM58,AK58)) -> 0 | AJ58: =IF(AA58<84.9,0,IF(AA58<87.4,12,IF(AA58<89.9,18,IF(AA58<92.4,24,IF(AA58<94.9,30,IF(AA58<97.4,36,IF(AA58<99.9,42,48))))))) -> 0 | AK58: =IF(AA58<84.9,0,IF(AA58<87.4,24,IF(AA58<89.9,36,IF(AA58<92.4,48,IF(AA58<94.9,60,IF(AA58<97.4,72,IF(AA58<99.9,84,96))))))) -> 0 | AL58: =IF(AA58<84.9,0,IF(AA58<87.4,8,IF(AA58<89.9,12,IF(AA58<92.4,16,IF(AA58<94.9,20,IF(AA58<97.4,24,IF(AA58<99.9,28,32))))))) -> 0 | AM58: =IF(AO58<84.9,0,IF(AO58<87.4,16,IF(AO58<89.9,24,IF(AO58<92.4,32,IF(AO58<94.9,40,IF(AO58<97.4,48,IF(AO58<99.9,56,64))))))) -> 0 | AO58: =(SUM(E58:E60)-MIN(E58:E60))/2 -> 40.55
C59: Дио | D59: 20-2 | E59: 81.1 | G59: 1 | H59: 41.96 | I59: =IF(E59<84.9,0,IF(E59<87.4,0.1,IF(E59<89.9,0.15,IF(E59<92.4,0.2,IF(E59<94.9,0.25,IF(E59<97.4,0.3,IF(E59<99.9,0.35,0.4))))))) -> 0 | J59: =H59-I59 -> 41.96
D60: 20-3 | I60: =IF(E60<84.9,0,IF(E60<87.4,0.1,IF(E60<89.9,0.15,IF(E60<92.4,0.2,IF(E60<94.9,0.25,IF(E60<97.4,0.3,IF(E60<99.9,0.35,0.4))))))) -> 0 | J60: =H60-I60 -> 0
AG65: =COUNTIF(E65:E67,">1") -> 0
AG66: =COUNTIF(E66:E68,">1") -> 0
AG67: =COUNTIF(E67:E69,">1") -> 0
AG68: =COUNTIF(E68:E70,">1") -> 0
AG69: =COUNTIF(E69:E71,">1") -> 0
AG70: =COUNTIF(E70:E72,">1") -> 0
AG71: =COUNTIF(E71:E73,">1") -> 0
AG72: =COUNTIF(E72:E74,">1") -> 0
AG73: =COUNTIF(E73:E75,">1") -> 0
AG74: =COUNTIF(E74:E76,">1") -> 0
AG75: =COUNTIF(E75:E77,">1") -> 0
AG76: =COUNTIF(E76:E78,">1") -> 0
... AG81: =COUNTIF(E81:E83,">1") -> 0

Sheet K44
A2: Чемпионат мини марафон "Большие Гонки", 10-й этап
A4: K44
A6: Обяза-тельные | B6: Пилот | C6: карт | D6: Круг | E6: кругов на отрезке | F6: Статистика по кругам | J6: Общее время гонки | K6: Время на трассе
F7: Лучший круг | G7: Среднее на отрезке | H7: Кругов в 0,1 от лучшего | I7: стабильность | K7: отрезок | L7: всего у пилота | M7: Питы | N7: Штрафы/ бонусы (сек)
A8: 1 | B8: Лысенский Денис | C8: 69 | D8: =COUNTA(C21:C85) -> 38 | E8: =COUNTA(C21:C85) -> 38 | F8: =MIN(C21:C84) -> 41.68 | G8: =AVERAGE(C21:C87) -> 42.087105 | H8: 2 | I8: =G8-F8 -> 0.40710526 | J8: 0.019053484 | K8: =J8 -> 0.019053484 | L8: =K8 -> 0.019053484 | M8: 2:18.59
A9: 2 | B9: Наум | C9: 16 | D9: =COUNTA(D21:D85)+D8+1 -> 81 | E9: =COUNTA(D21:D85)+1 -> 43 | F9: =MIN(D21:D84) -> 41.69 | G9: =AVERAGE(D21:D86) -> 42.160714 | H9: 4 | I9: =G9-F9 -> 0.47071429 | J9: 0.041157419 | K9: =J9-J8 -> 0.022103935 | L9: =K9 -> 0.022103935 | M9: 2:18.32
A10: 3 | B10: Лысенский Денис | C10: 17 | D10: =COUNTA(E21:E85)+D9+1 -> 134 | E10: =COUNTA(E21:E85)+1 -> 53 | F10: =MIN(E21:E86) -> 41.72 | G10: =AVERAGE(E21:E87) -> 42.002885 | H10: 6 | I10: =G10-F10 -> 0.28288462 | J10: 0.068040012 | K10: =J10-J9 -> 0.026882593 | L10: =K10+L8 -> 0.045936076 | M10: 2:19.39
A11: 4 | B11: Наум | C11: 9 | D11: =COUNTA(F21:F85)+D10+1 -> 153 | E11: =COUNTA(F21:F85)+1 -> 19 | F11: =MIN(F21:F86) -> 41.98 | G11: =AVERAGE(F21:F86) -> 42.238889 | H11: 3 | I11: =G11-F11 -> 0.25888889 | J11: 0.078455683 | K11: =J11-J10 -> 0.010415671 | L11: =K11+L9 -> 0.032519606 | M11: 2:19.36
A12: 5 | B12: Наум | C12: 69 | D12: =COUNTA(G21:G85)+D11+1 -> 214 | E12: =COUNTA(G21:G85)+1 -> 61 | F12: =MIN(G21:G86) -> 41.56 | G12: =AVERAGE(G21:G886) -> 41.923833 | H12: 4 | I12: =G12-F12 -> 0.36383333 | J12: 0.10918207 | K12: =J12-J11 -> 0.030726389 | L12: =K12+L11 -> 0.063245995 | M12: 2:18.37
A13: 6 | B13: Лысенский Денис | C13: 1 | D13: =COUNTA(H21:H85)+D12+1 -> 235 | E13: =COUNTA(H21:H85)+1 -> 21 | F13: =MIN(H21:H86) -> 42.04 | G13: =AVERAGE(H21:H86) -> 42.4105 | H13: 4 | I13: =G13-F13 -> 0.3705 | J13: 0.12059949 | K13: =J13-J12 -> 0.011417419 | L13: =K13+L10 -> 0.057353495 | M13: 2:18.43
A14: 7 | B14: Лысенский Денис | C14: 15 | D14: =COUNTA(I21:I85)+D13+1 -> 280 | E14: =COUNTA(I21:I85)+1 -> 45 | F14: =MIN(I21:I86) -> 41.89 | G14: =AVERAGE(I21:I86) -> 42.165227 | H14: 7 | I14: =G14-F14 -> 0.27522727 | J14: 0.14367769 | K14: =J14-J13 -> 0.023078194 | L14: =K14+L13 -> 0.08043169 | M14: 2:18.08
A15: Финиш | B15: Наум | C15: 4 | D15: =COUNTA(J21:J85)+D14+1 -> 327 | E15: =COUNTA(J21:J85)+1 -> 47 | F15: =MIN(J21:J86) -> 41.75 | G15: =AVERAGE(J21:J86) -> 41.988696 | H15: 9 | I15: =G15-F15 -> 0.23869565 | J15: ='Общие результаты'!G6 -> 4:00:44 | K15: =J15-J14 -> 0.023498241 | L15: =K15+L12 -> 0.086744236 | N15: +5 | O15: лимит
F16: =AVERAGE(F8,F10,F13,F14) -> 41.8325 | G16: =AVERAGE(G8,G10,G13,G14) -> 42.166429 | H16: Денис | I16: =AVERAGE(I8,I10,I13,I14) -> 0.33392929
F17: =AVERAGE(F9,F11,F12,F15) -> 41.745 | G17: =AVERAGE(G9,G11,G12,G15) -> 42.078033 | H17: Наум | I17: =AVERAGE(I9,I11,I12,I15) -> 0.33303304
F18: =AVERAGE(F8:F15) -> 41.78875 | G18: =AVERAGE(C21:J90) -> 42.077813 | I18: =AVERAGE(I8:I15) -> 0.33348116
C20: =B8 -> Лысенский Денис | D20: =B9 -> Наум | E20: =B10 -> Лысенский Денис | F20: =B11 -> Наум | G20: =B12 -> Наум | H20: =B13 -> Лысенский Денис | I20: =B14 -> Лысенский Денис | J20: =B15 -> Наум
B21: 1 | C21: 44.35 | D21: 43.63 | E21: 42.96 | F21: 42.72 | G21: 42.62 | H21: 43.24 | I21: 42.89 | J21: 42.9
B22: 2 | C22: 42.32 | D22: 42.09 | E22: 42.12 | F22: 42.05 | G22: 41.89 | H22: 42.37 | I22: 42.27 | J22: 42.27
B23: 3 | C23: 42.98 | D23: 42.02 | E23: 42.11 | F23: 42.49 | G23: 41.61 | H23: 42.85 | I23: 42.21 | J23: 42.1
B24: 4 | C24: 42.11 | D24: 42.1 | E24: 42.12 | F24: 42.17 | G24: 41.75 | H24: 42.69 | I24: 42.14 | J24: 41.88
B25: 5 | C25: 42.79 | D25: 42.08 | E25: 42.61 | F25: 41.98 | G25: 41.95 | H25: 42.41 | I25: 42.09 | J25: 41.9
B26: 6 | C26: 42.01 | D26: 43.7 | E26: 41.97 | F26: 42.16 | G26: 42.06 | H26: 42.2 | I26: 42 | J26: 41.93
B27: 7 | C27: 43.11 | D27: 42.06 | E27: 41.97 | F27: 42.72 | G27: 42.32 | H27: 42.06 | I27: 42.22 | J27: 41.91
B28: 8 | C28: 41.83 | D28: 42.09 | E28: 41.99 | F28: 42.26 | G28: 41.82 | H28: 42.11 | I28: 41.98 | J28: 42
B29: 9 | C29: 41.91 | D29: 42.39 | E29: 42.03 | F29: 42.35 | G29: 41.86 | H29: 42.12 | I29: 42.07 | J29: 42.1
B30: 10 | C30: 42.07 | D30: 42.31 | E30: 41.99 | F30: 42.15 | G30: 41.78 | H30: 42.25 | I30: 41.95 | J30: 41.96
B31: 11 | C31: 41.91 | D31: 41.86 | E31: 41.88 | F31: 42.22 | G31: 41.69 | H31: 42.14 | I31: 42.02 | J31: 42.01
B32: 12 | C32: 42 | D32: 41.69 | E32: 42.05 | F32: 42.16 | G32: 41.74 | H32: 42.04 | I32: 42.31 | J32: 42.05
... B38: 18 | C38: 41.68 | D38: 41.85 | E38: 42 | F38: 42.25 | G38: 41.65 | H38: 42.25 | I38: 42.18 | J38: 41.92
B39: 19 | C39: 42.17 | D39: 42.12 | E39: 41.89 | G39: 41.64 | H39: 42.82 | I39: 42.48 | J39: 41.82
B40: 20 | C40: 41.86 | D40: 41.83 | E40: 41.94 | G40: 41.78 | H40: 42.43 | I40: 42.19 | J40: 42.04
B41: 21 | C41: 41.75 | D41: 41.89 | E41: 42.12 | G41: 41.92 | I41: 41.99 | J41: 41.93
B42: 22 | C42: 41.96 | D42: 43.3 | E42: 41.78 | G42: 41.73 | I42: 41.96 | J42: 41.83
B43: 23 | C43: 41.97 | D43: 43.39 | E43: 42.06 | G43: 41.85 | I43: 42.06 | J43: 41.95
B44: 24 | C44: 41.94 | D44: 42.05 | E44: 41.78 | G44: 41.78 | I44: 42.11 | J44: 41.91
B45: 25 | C45: 42.19 | D45: 42.75 | E45: 42.07 | G45: 41.81 | I45: 41.89 | J45: 41.84
B46: 26 | C46: 41.92 | D46: 41.96 | E46: 42.01 | G46: 41.85 | I46: 42.52 | J46: 41.86
B47: 27 | C47: 41.98 | D47: 41.85 | E47: 42.11 | G47: 41.91 | I47: 42.16 | J47: 42.2
B48: 28 | C48: 42.02 | D48: 41.74 | E48: 42.12 | G48: 41.85 | I48: 42.31 | J48: 41.84
B49: 29 | C49: 42.08 | D49: 42.16 | E49: 41.78 | G49: 41.75 | I49: 42.17 | J49: 41.8
B50: 30 | C50: 41.84 | D50: 42.04 | E50: 41.99 | G50: 41.92 | I50: 41.95 | J50: 42.1
B51: 31 | C51: 41.95 | D51: 41.72 | E51: 41.87 | G51: 41.78 | I51: 42 | J51: 41.82
B52: 32 | C52: 41.96 | D52: 41.72 | E52: 42.02 | G52: 41.84 | I52: 42.19 | J52: 41.86
... B58: 38 | C58: 41.86 | D58: 42.55 | E58: 41.82 | G58: 42.16 | I58: 41.89 | J58: 42.02
B59: 39 | D59: 42.93 | E59: 42.06 | G59: 41.99 | I59: 42.04 | J59: 41.88
B60: 40 | D60: 42.06 | E60: 41.95 | G60: 42.16 | I60: 43.33 | J60: 41.75
B61: 41 | D61: 41.79 | E61: 42.03 | G61: 42.36 | I61: 42.12 | J61: 41.87
B62: 42 | D62: 41.82 | E62: 42.01 | G62: 41.59 | I62: 42.11 | J62: 41.84
B63: 43 | E63: 41.82 | G63: 42.22 | I63: 42.08 | J63: 41.89
B64: 44 | E64: 41.98 | G64: 41.88 | I64: 42.19 | J64: 41.88
B65: 45 | E65: 42.04 | G65: 41.85 | J65: 41.88
B66: 46 | E66: 41.72 | G66: 41.71 | J66: 41.83
B67: 47 | E67: 42.05 | G67: 41.84
B68: 48 | E68: 41.88 | G68: 41.81
B69: 49 | E69: 41.96 | G69: 42.04
B70: 50 | E70: 41.99 | G70: 42.01
B71: 51 | E71: 41.98 | G71: 42.18
B72: 52 | E72: 42.08 | G72: 41.84
B73: 53 | G73: 41.94
B74: 54 | G74: 41.93
B75: 55 | G75: 41.84
B76: 56 | G76: 41.89
B77: 57 | G77: 41.87
B78: 58 | G78: 41.68
B79: 59 | G79: 41.87
B80: 60 | G80: 41.72
B81: 61
B82: 62
B83: 63

Sheet NSJ
A2: Чемпионат мини марафон "Большие Гонки", 10-й этап
A4: NSJ
A6: Обяза-тельные | B6: Пилот | C6: карт | D6: Круг | E6: кругов на отрезке | F6: Статистика по кругам | J6: Общее время гонки | K6: Время на трассе
F7: Лучший круг | G7: Среднее на отрезке | H7: Кругов в 0,1 от лучшего | I7: стабильность | K7: отрезок | L7: всего у пилота | M7: Питы | N7: Штрафы/ бонусы (сек)
A8: 1 | B8: Тыщенко Миша | C8: 8 | D8: =COUNTA(C21:C85) -> 38 | E8: =COUNTA(C21:C85) -> 38 | F8: =MIN(C21:C84) -> 41.67 | G8: =AVERAGE(C21:C87) -> 42.156316 | H8: 1 | I8: =G8-F8 -> 0.48631579 | J8: 0.019091644 | K8: =J8 -> 0.019091644 | L8: =K8 -> 0.019091644 | M8: 2:18.97
A9: 2 | B9: Мифтахутдинов Ильяс | C9: 6 | D9: =COUNTA(D21:D85)+D8+1 -> 59 | E9: =COUNTA(D21:D85)+1 -> 21 | F9: =MIN(D21:D84) -> 41.94 | G9: =AVERAGE(D21:D86) -> 42.2535 | H9: 3 | I9: =G9-F9 -> 0.3135 | J9: 0.030460428 | K9: =J9-J8 -> 0.011368785 | L9: =K9 -> 0.011368785 | M9: 2:00.74 | N9: -18 | O9: бонус за вес
A10: 3 | B10: Тыщенко Миша | C10: 44 | D10: =COUNTA(E21:E85)+D9+1 -> 88 | E10: =COUNTA(E21:E85)+1 -> 29 | F10: =MIN(E21:E86) -> 41.88 | G10: =AVERAGE(E21:E87) -> 42.114643 | H10: 7 | I10: =G10-F10 -> 0.23464286 | J10: 0.045507014 | K10: =J10-J9 -> 0.015046586 | L10: =K10+L8 -> 0.034138229 | M10: 2:18.89
A11: 4 | B11: Мифтахутдинов Ильяс | C11: 18 | D11: =COUNTA(F21:F85)+D10+1 -> 132 | E11: =COUNTA(F21:F85)+1 -> 44 | F11: =MIN(F21:F86) -> 41.89 | G11: =AVERAGE(F21:F86) -> 42.157209 | H11: 12 | I11: =G11-F11 -> 0.2672093 | J11: 0.068100868 | K11: =J11-J10 -> 0.022593854 | L11: =K11+L9 -> 0.033962639 | M11: 2:18.46
A12: 5 | B12: Тыщенко Миша | C12: 15 | D12: =COUNTA(G21:G85)+D11+1 -> 189 | E12: =COUNTA(G21:G85)+1 -> 57 | F12: =MIN(G21:G86) -> 41.71 | G12: =AVERAGE(G21:G886) -> 42.111429 | H12: 0 | I12: =G12-F12 -> 0.40142857 | J12: 0.097020729 | K12: =J12-J11 -> 0.028919861 | L12: =K12+L10 -> 0.06305809 | M12: 2:21.07
A13: 6 | B13: Мифтахутдинов Ильяс | C13: 3 | D13: =COUNTA(H21:H85)+D12+1 -> 218 | E13: =COUNTA(H21:H85)+1 -> 29 | F13: =MIN(H21:H86) -> 42.09 | G13: =AVERAGE(H21:H86) -> 42.328571 | H13: 7 | I13: =G13-F13 -> 0.23857143 | J13: 0.11235171 | K13: =J13-J12 -> 0.015330984 | L13: =K13+L11 -> 0.049293623 | M13: 2:18.99
A14: 7 | B14: Мифтахутдинов Ильяс | C14: 4 | D14: =COUNTA(I21:I85)+D13+1 -> 276 | E14: =COUNTA(I21:I85)+1 -> 58 | F14: =MIN(I21:I86) -> 41.9 | G14: =AVERAGE(I21:I86) -> 42.074211 | H14: 18 | I14: =G14-F14 -> 0.17421053 | J14: 0.14172138 | K14: =J14-J13 -> 0.029369664 | L14: =K14+L13 -> 0.078663287 | M14: 2:19.47
A15: Финиш | B15: Тыщенко Миша | C15: 21 | D15: =COUNTA(J21:J85)+D14+1 -> 327 | E15: =COUNTA(J21:J85)+1 -> 51 | F15: =MIN(J21:J86) -> 41.91 | G15: =AVERAGE(J21:J86) -> 42.198 | H15: 7 | I15: =G15-F15 -> 0.288 | J15: 4:00:44 | K15: =J15-J14 -> 0.025454549 | L15: =K15+L12 -> 0.088512639
F16: =AVERAGE(F8,F10,F12,F15) -> 41.7925 | G16: =AVERAGE(G8,G10,G12,G15) -> 42.145097 | H16: Миша | I16: =AVERAGE(I8,I10,I12,I15) -> 0.3525968
F17: =AVERAGE(F9,F11,F13,F14) -> 41.955 | G17: =AVERAGE(G9,G11,G13,G14) -> 42.203373 | H17: Ильяс | I17: =AVERAGE(I9,I11,I13,I14) -> 0.24837281
F18: =AVERAGE(F8:F15) -> 41.87375 | G18: =AVERAGE(C21:J90) -> 42.157969 | I18: =AVERAGE(I8:I15) -> 0.30048481
C20: =B8 -> Тыщенко Миша | D20: =B9 -> Мифтахутдинов Ильяс | E20: =B10 -> Тыщенко Миша | F20: =B11 -> Мифтахутдинов Ильяс | G20: =B12 -> Тыщенко Миша | H20: =B13 -> Мифтахутдинов Ильяс | I20: =B14 -> Мифтахутдинов Ильяс | J20: =B15 -> Тыщенко Миша
B21: 1 | C21: 44.74 | D21: 43.61 | E21: 43.12 | F21: 43.47 | G21: 43.23 | H21: 43 | I21: 42.81 | J21: 43.03
B22: 2 | C22: 42.33 | D22: 42.49 | E22: 42.24 | F22: 42.3 | G22: 42.35 | H22: 42.6 | I22: 41.99 | J22: 42.29
B23: 3 | C23: 44.27 | D23: 42.34 | E23: 42.95 | F23: 42.23 | G23: 42.27 | H23: 42.12 | I23: 41.95 | J23: 42.23
B24: 4 | C24: 42.33 | D24: 42.32 | E24: 42.03 | F24: 42.08 | G24: 43.16 | H24: 42.39 | I24: 42.02 | J24: 42.38
B25: 5 | C25: 42.44 | D25: 42.15 | E25: 42.12 | F25: 42.18 | G25: 42.33 | H25: 42.15 | I25: 42.02 | J25: 42.17
B26: 6 | C26: 42.11 | D26: 42.42 | E26: 41.97 | F26: 42.81 | G26: 42.56 | H26: 42.17 | I26: 42.11 | J26: 42.56
B27: 7 | C27: 42.72 | D27: 42.16 | E27: 42.08 | F27: 42.07 | G27: 42.15 | H27: 42.94 | I27: 42.17 | J27: 42.45
B28: 8 | C28: 41.93 | D28: 41.94 | E28: 42.13 | F28: 42.44 | G28: 42.01 | H28: 42.72 | I28: 42.03 | J28: 42.14
B29: 9 | C29: 41.81 | D29: 42.25 | E29: 42 | F29: 42 | G29: 42.04 | H29: 42.33 | I29: 42.07 | J29: 42.18
B30: 10 | C30: 42.1 | D30: 42.17 | E30: 42.04 | F30: 42.05 | G30: 41.94 | H30: 42.23 | I30: 42.69 | J30: 42.13
B31: 11 | C31: 42.02 | D31: 42.14 | E31: 41.88 | F31: 42.09 | G31: 42.11 | H31: 42.3 | I31: 42.06 | J31: 42.13
B32: 12 | C32: 41.91 | D32: 42.19 | E32: 41.93 | F32: 42.38 | G32: 42.77 | H32: 42.29 | I32: 41.92 | J32: 42.23
... B40: 20 | C40: 42.07 | D40: 42.09 | E40: 41.91 | F40: 41.89 | G40: 41.93 | H40: 42.31 | I40: 42.07 | J40: 42.13
B41: 21 | C41: 42.15 | E41: 42.16 | F41: 42.14 | G41: 42.4 | H41: 42.14 | I41: 42.28 | J41: 42.19
B42: 22 | C42: 42.44 | E42: 42.02 | F42: 42.42 | G42: 42.57 | H42: 42.17 | I42: 42.39 | J42: 42.4
B43: 23 | C43: 41.97 | E43: 42.03 | F43: 41.99 | G43: 41.98 | H43: 42.21 | I43: 42.22 | J43: 42.17
B44: 24 | C44: 42.01 | E44: 42.06 | F44: 42.12 | G44: 42.01 | H44: 42.09 | I44: 42.01 | J44: 42.1
B45: 25 | C45: 41.8 | E45: 42.06 | F45: 41.93 | G45: 41.9 | H45: 42.28 | I45: 41.98 | J45: 42.09
B46: 26 | C46: 42.06 | E46: 42.01 | F46: 42.09 | G46: 42.17 | H46: 42.26 | I46: 42.04 | J46: 42.14
B47: 27 | C47: 41.98 | E47: 41.92 | F47: 41.96 | G47: 42.13 | H47: 42.29 | I47: 42.02 | J47: 42.34
B48: 28 | C48: 42.02 | E48: 42.01 | F48: 42.09 | G48: 42 | H48: 42.43 | I48: 41.95 | J48: 42.25
B49: 29 | C49: 42.08 | F49: 41.96 | G49: 41.91 | I49: 41.96 | J49: 41.91
B50: 30 | C50: 42.08 | F50: 42 | G50: 42 | I50: 41.94 | J50: 42.12
B51: 31 | C51: 41.85 | F51: 42.05 | G51: 42 | I51: 42.06 | J51: 42.4
B52: 32 | C52: 41.88 | F52: 42.19 | G52: 41.91 | I52: 41.97 | J52: 42.16
B53: 33 | C53: 41.77 | F53: 41.93 | G53: 42.09 | I53: 42.05 | J53: 42.13
B54: 34 | C54: 41.87 | F54: 42.11 | G54: 41.99 | I54: 42.01 | J54: 42.32
B55: 35 | C55: 41.86 | F55: 43.02 | G55: 42 | I55: 42.05 | J55: 42.21
B56: 36 | C56: 42.02 | F56: 42.09 | G56: 41.95 | I56: 41.94 | J56: 42.76
B57: 37 | C57: 41.91 | F57: 42 | G57: 41.86 | I57: 42.28 | J57: 42.15
B58: 38 | C58: 42.05 | F58: 41.93 | G58: 41.94 | I58: 42.3 | J58: 42.22
B59: 39 | F59: 42.04 | G59: 41.94 | I59: 42.07 | J59: 42.09
B60: 40 | F60: 42.09 | G60: 41.86 | I60: 42.01 | J60: 41.91
B61: 41 | F61: 41.99 | G61: 42.01 | I61: 41.91 | J61: 42.02
B62: 42 | F62: 42.05 | G62: 41.93 | I62: 42.07 | J62: 42
B63: 43 | F63: 42.63 | G63: 41.88 | I63: 42.04 | J63: 42.43
B64: 44 | G64: 41.9 | I64: 42.05 | J64: 41.94
B65: 45 | G65: 42.08 | I65: 42 | J65: 41.94
B66: 46 | G66: 42.02 | I66: 42.1 | J66: 41.97
B67: 47 | G67: 41.94 | I67: 41.92 | J67: 42
B68: 48 | G68: 42.07 | I68: 42.04 | J68: 41.92
B69: 49 | G69: 42.16 | I69: 42.02 | J69: 42.35
B70: 50 | G70: 42.12 | I70: 42.07 | J70: 42.15
B71: 51 | G71: 42.26 | I71: 42.08
B72: 52 | G72: 42.16 | I72: 42.07
B73: 53 | G73: 42.1 | I73: 41.91
B74: 54 | G74: 42.03 | I74: 41.95
B75: 55 | G75: 41.71 | I75: 41.9
B76: 56 | G76: 42.19 | I76: 41.9
B77: 57 | I77: 42.3
B78: 58
B79: 59
B80: 60
B81: 61
B82: 62
B83: 63

Sheet Kart Freedom Rt
A2: Чемпионат мини марафон "Большие Гонки", 10-й этап
A4: Kart Freedom Rt
A6: Обяза-тельные | B6: Пилот | C6: карт | D6: Круг | E6: кругов на отрезке | F6: Статистика по кругам | J6: Общее время гонки | K6: Время на трассе
F7: Лучший круг | G7: Среднее на отрезке | H7: Кругов в 0,1 от лучшего | I7: стабильность | K7: отрезок | L7: всего у пилота | M7: Питы | N7: Штрафы/ бонусы (сек)
A8: 1 | B8: Терещенко Андрей | C8: 15 | D8: =COUNTA(C21:C85) -> 21 | E8: =COUNTA(C21:C85) -> 21 | F8: =MIN(C21:C84) -> 42.23 | G8: =AVERAGE(C21:C87) -> 42.69 | H8: 5 | I8: =G8-F8 -> 0.46 | J8: 0.010919132 | K8: =J8 -> 0.010919132 | L8: =K8 -> 0.010919132 | M8: 2:19.44
A9: 2 | B9: Медведева Даша | C9: 3 | D9: =COUNTA(D21:D85)+D8+1 -> 48 | E9: =COUNTA(D21:D85)+1 -> 27 | F9: =MIN(D21:D84) -> 41.91 | G9: =AVERAGE(D21:D86) -> 42.383462 | H9: 2 | I9: =G9-F9 -> 0.47346154 | J9: 0.025293542 | K9: =J9-J8 -> 0.01437441 | L9: =K9 -> 0.01437441 | M9: 1:55.73 | N9: -24 | O9: бонус за вес
A10: 3 | B10: Терещенко Андрей | C10: 21 | D10: =COUNTA(E21:E85)+D9+1 -> 90 | E10: =COUNTA(E21:E85)+1 -> 42 | F10: =MIN(E21:E86) -> 41.91 | G10: =AVERAGE(E21:E87) -> 42.160976 | H10: 7 | I10: =G10-F10 -> 0.25097561 | J10: 0.046642743 | K10: =J10-J9 -> 0.021349201 | L10: =K10+L8 -> 0.032268333 | M10: 2:18.77
A11: 4 | B11: Медведева Даша | C11: 4 | D11: =COUNTA(F21:F85)+D10+1 -> 152 | E11: =COUNTA(F21:F85)+1 -> 62 | F11: =MIN(F21:F86) -> 41.53 | G11: =AVERAGE(F21:F86) -> 41.95623 | H11: 4 | I11: =G11-F11 -> 0.42622951 | J11: 0.077867917 | K11: =J11-J10 -> 0.031225174 | L11: =K11+L9 -> 0.045599583 | M11: 2:19.13
A12: 5 | B12: Терещенко Андрей | C12: 12 | D12: =COUNTA(G21:G85)+D11+1 -> 208 | E12: =COUNTA(G21:G85)+1 -> 56 | F12: =MIN(G21:G86) -> 41.93 | G12: =AVERAGE(G21:G886) -> 42.205636 | H12: 6 | I12: =G12-F12 -> 0.27563636 | J12: 0.10634064 | K12: =J12-J11 -> 0.02847272 | L12: =K12+L10 -> 0.060741053 | M12: 2:18.81
A13: 6 | B13: Медведева Даша | C13: 44 | D13: =COUNTA(H21:H85)+D12+1 -> 235 | E13: =COUNTA(H21:H85)+1 -> 27 | F13: =MIN(H21:H86) -> 41.86 | G13: =AVERAGE(H21:H86) -> 42.371154 | H13: 0 | I13: =G13-F13 -> 0.51115385 | J13: 0.12070689 | K13: =J13-J12 -> 0.01436625 | L13: =K13+L11 -> 0.059965833 | M13: 2:18.79
A14: 7 | B14: Медведева Даша | C14: 11 | D14: =COUNTA(I21:I85)+D13+1 -> 279 | E14: =COUNTA(I21:I85)+1 -> 44 | F14: =MIN(I21:I86) -> 41.84 | G14: =AVERAGE(I21:I86) -> 42.146047 | H14: 6 | I14: =G14-F14 -> 0.30604651 | J14: 0.14330784 | K14: =J14-J13 -> 0.022600949 | L14: =K14+L13 -> 0.082566782 | M14: 2:20.01
A15: Финиш | B15: Терещенко Андрей | C15: 9 | D15: =COUNTA(J21:J85)+D14+1 -> 327 | E15: =COUNTA(J21:J85)+1 -> 48 | F15: =MIN(J21:J86) -> 42.12 | G15: =AVERAGE(J21:J86) -> 42.319787 | H15: 14 | I15: =G15-F15 -> 0.19978723 | J15: ='Общие результаты'!G6 -> 4:00:44 | K15: =J15-J14 -> 0.02386809 | L15: =K15+L12 -> 0.084609144
F16: =AVERAGE(F8,F10,F12,F15) -> 42.0475 | G16: =AVERAGE(G8,G10,G12,G15) -> 42.3441 | H16: Андрей | I16: =AVERAGE(I8,I10,I12,I15) -> 0.2965998
F17: =AVERAGE(F9,F11,F13,F14) -> 41.785 | G17: =AVERAGE(G9,G11,G13,G14) -> 42.214223 | H17: Даша | I17: =AVERAGE(I9,I11,I13,I14) -> 0.42922285
F18: =AVERAGE(F8:F15) -> 41.91625 | G18: =AVERAGE(C21:J90) -> 42.220812 | I18: =AVERAGE(I8:I15) -> 0.36291133
C20: =B8 -> Терещенко Андрей | D20: =B9 -> Медведева Даша | E20: =B10 -> Терещенко Андрей | F20: =B11 -> Медведева Даша | G20: =B12 -> Терещенко Андрей | H20: =B13 -> Медведева Даша | I20: =B14 -> Медведева Даша | J20: =B15 -> Терещенко Андрей
B21: 1 | C21: 45.06 | D21: 43.35 | E21: 43.09 | F21: 43.46 | G21: 43.55 | H21: 43.72 | I21: 42.82 | J21: 43.02
B22: 2 | C22: 42.86 | D22: 42.43 | E22: 42.28 | F22: 42.14 | G22: 43.01 | H22: 42.2 | I22: 42.3 | J22: 42.22
B23: 3 | C23: 43.75 | D23: 42.56 | E23: 42.65 | F23: 42.42 | G23: 42.29 | H23: 42.39 | I23: 41.92 | J23: 42.36
B24: 4 | C24: 42.31 | D24: 42.27 | E24: 42.24 | F24: 41.87 | G24: 42.18 | H24: 42.11 | I24: 42.02 | J24: 42.51
B25: 5 | C25: 42.64 | D25: 42.12 | E25: 42.09 | F25: 41.88 | G25: 42.19 | H25: 42.3 | I25: 42.16 | J25: 42.46
B26: 6 | C26: 42.49 | D26: 42.3 | E26: 42.2 | F26: 41.85 | G26: 42.08 | H26: 41.86 | I26: 42.45 | J26: 42.36
B27: 7 | C27: 42.33 | D27: 42.15 | E27: 42.08 | F27: 41.7 | G27: 42.13 | H27: 42.02 | I27: 42.02 | J27: 42.41
B28: 8 | C28: 43.15 | D28: 42.34 | E28: 42.01 | F28: 42.14 | G28: 41.98 | H28: 42.08 | I28: 42.14 | J28: 42.44
B29: 9 | C29: 42.94 | D29: 42.57 | E29: 42.19 | F29: 42.22 | G29: 42.21 | H29: 42.14 | I29: 41.97 | J29: 42.32
B30: 10 | C30: 42.97 | D30: 41.98 | E30: 42.2 | F30: 42.44 | G30: 42.07 | H30: 42.35 | I30: 42.25 | J30: 42.31
B31: 11 | C31: 42.41 | D31: 42.01 | E31: 42.17 | F31: 42.78 | G31: 42.09 | H31: 42.99 | I31: 42.45 | J31: 42.35
B32: 12 | C32: 42.42 | D32: 42.07 | E32: 42.21 | F32: 42.14 | G32: 42.24 | H32: 42.36 | I32: 41.9 | J32: 42.44
... B41: 21 | C41: 42.23 | D41: 43.8 | E41: 42.12 | F41: 41.85 | G41: 42.4 | H41: 42.48 | I41: 42.16 | J41: 42.21
B42: 22 | D42: 42.24 | E42: 42.17 | F42: 41.88 | G42: 42.14 | H42: 42.49 | I42: 41.88 | J42: 42.16
B43: 23 | D43: 42.35 | E43: 41.91 | F43: 41.75 | G43: 42.18 | H43: 42.38 | I43: 42.03 | J43: 42.45
B44: 24 | D44: 42.2 | E44: 41.99 | F44: 41.72 | G44: 42.26 | H44: 42.88 | I44: 41.84 | J44: 42.22
B45: 25 | D45: 42.2 | E45: 42.07 | F45: 41.83 | G45: 42.22 | H45: 42.96 | I45: 42.26 | J45: 42.48
B46: 26 | D46: 42.06 | E46: 42.24 | F46: 42.14 | G46: 42.02 | H46: 42.33 | I46: 42.01 | J46: 42.19
B47: 27 | E47: 41.93 | F47: 42.15 | G47: 42.15 | I47: 42.1 | J47: 42.18
B48: 28 | E48: 42.13 | F48: 41.7 | G48: 42.47 | I48: 41.91 | J48: 42.36
B49: 29 | E49: 42.12 | F49: 42.01 | G49: 42.14 | I49: 42.41 | J49: 42.35
B50: 30 | E50: 41.96 | F50: 41.57 | G50: 41.93 | I50: 42.15 | J50: 42.42
B51: 31 | E51: 42.11 | F51: 41.75 | G51: 42.13 | I51: 41.86 | J51: 42.21
B52: 32 | E52: 42.08 | F52: 41.85 | G52: 42.31 | I52: 42.37 | J52: 42.45
B53: 33 | E53: 42.04 | F53: 41.53 | G53: 42.11 | I53: 42.37 | J53: 42.27
B54: 34 | E54: 42.14 | F54: 41.76 | G54: 42.1 | I54: 42.05 | J54: 42.35
B55: 35 | E55: 42.07 | F55: 41.73 | G55: 42.15 | I55: 42.18 | J55: 42.23
B56: 36 | E56: 42.16 | F56: 41.61 | G56: 42.04 | I56: 42.18 | J56: 42.19
B57: 37 | E57: 42.05 | F57: 42.31 | G57: 42.05 | I57: 42.29 | J57: 42.2
B58: 38 | E58: 42.07 | F58: 42.03 | G58: 42.22 | I58: 42.06 | J58: 42.23
... B61: 41 | E61: 42.64 | F61: 41.97 | G61: 42.38 | I61: 41.98 | J61: 42.3
B62: 42 | F62: 42.07 | G62: 42.14 | I62: 42 | J62: 42.24
B63: 43 | F63: 41.89 | G63: 42.12 | I63: 42.21 | J63: 42.23
B64: 44 | F64: 42.4 | G64: 41.99 | J64: 42.15
B65: 45 | F65: 42.83 | G65: 42.18 | J65: 42.12
B66: 46 | F66: 41.69 | G66: 42.26 | J66: 42.16
B67: 47 | F67: 41.55 | G67: 42.12 | J67: 42.35
B68: 48 | F68: 41.77 | G68: 42.18
B69: 49 | F69: 41.74 | G69: 42.18
B70: 50 | F70: 42 | G70: 42.17
B71: 51 | F71: 41.71 | G71: 42.23
B72: 52 | F72: 42.31 | G72: 42.28
B73: 53 | F73: 42.15 | G73: 42.43
B74: 54 | F74: 41.86 | G74: 42.02
B75: 55 | F75: 41.68 | G75: 42.06
B76: 56 | F76: 41.88
B77: 57 | F77: 42.09
B78: 58 | F78: 41.94
B79: 59 | F79: 41.85
B80: 60 | F80: 41.81
B81: 61 | F81: 42.04
B82: 62
B83: 63

Sheet Vpered ta Vgory
A2: Чемпионат мини марафон "Большие Гонки", 10-й этап
A4: Vpered ta Vgory
A6: Обяза-тельные | B6: Пилот | C6: карт | D6: Круг | E6: кругов на отрезке | F6: Статистика по кругам | J6: Общее время гонки | K6: Время на трассе
F7: Лучший круг | G7: Среднее на отрезке | H7: Кругов в 0,1 от лучшего | I7: стабильность | K7: отрезок | L7: всего у пилота | M7: Питы | N7: Штрафы/ бонусы (сек)
A8: 1 | B8: Стоцкий Андрей | C8: 33 | D8: =COUNTA(C21:C85) -> 23 | E8: =COUNTA(C21:C85) -> 23 | F8: =MIN(C21:C84) -> 41.8 | G8: =AVERAGE(C21:C87) -> 42.163913 | H8: 2 | I8: =G8-F8 -> 0.36391304 | J8: 0.011756146 | K8: =J8 -> 0.011756146 | L8: =K8 -> 0.011756146 | M8: 2:17.91
A9: 2 | B9: Манило Денис | C9: 17 | D9: =COUNTA(D21:D85)+D8+1 -> 50 | E9: =COUNTA(D21:D85)+1 -> 27 | F9: =MIN(D21:D84) -> 41.81 | G9: =AVERAGE(D21:D86) -> 42.232692 | H9: 1 | I9: =G9-F9 -> 0.42269231 | J9: 0.026069167 | K9: =J9-J8 -> 0.014313021 | L9: =K9 -> 0.014313021 | M9: 2:18.74
A10: 3 | B10: Стоцкий Андрей | C10: 18 | D10: =COUNTA(E21:E85)+D9+1 -> 85 | E10: =COUNTA(E21:E85)+1 -> 35 | F10: =MIN(E21:E86) -> 41.88 | G10: =AVERAGE(E21:E87) -> 42.154118 | H10: 9 | I10: =G10-F10 -> 0.27411765 | J10: 0.044247535 | K10: =J10-J9 -> 0.018178368 | L10: =K10+L8 -> 0.029934514 | M10: 2:23.79 | N10: +5 | O10: линия
A11: 4 | B11: Манило Денис | C11: 5 | D11: =COUNTA(F21:F85)+D10+1 -> 143 | E11: =COUNTA(F21:F85)+1 -> 58 | F11: =MIN(F21:F86) -> 41.87 | G11: =AVERAGE(F21:F86) -> 42.130702 | H11: 9 | I11: =G11-F11 -> 0.26070175 | J11: 0.073714826 | K11: =J11-J10 -> 0.029467292 | L11: =K11+L9 -> 0.043780313 | M11: 2:18.27
A12: 5 | B12: Стоцкий Андрей | C12: 18 | D12: =COUNTA(G21:G85)+D11+1 -> 189 | E12: =COUNTA(G21:G85)+1 -> 46 | F12: =MIN(G21:G86) -> 41.7 | G12: =AVERAGE(G21:G886) -> 41.955778 | H12: 9 | I12: =G12-F12 -> 0.25577778 | J12: 0.097169664 | K12: =J12-J11 -> 0.023454838 | L12: =K12+L10 -> 0.053389352 | M12: 2:17.90
A13: 6 | B13: Манило Денис | C13: 5 | D13: =COUNTA(H21:H85)+D12+1 -> 217 | E13: =COUNTA(H21:H85)+1 -> 28 | F13: =MIN(H21:H86) -> 41.97 | G13: =AVERAGE(H21:H86) -> 42.35 | H13: 4 | I13: =G13-F13 -> 0.38 | J13: 0.11200506 | K13: =J13-J12 -> 0.014835394 | L13: =K13+L11 -> 0.058615706 | M13: 2:23.76 | N13: +5 | O13: линия
A14: 7 | B14: Стоцкий Андрей | C14: 9 | D14: =COUNTA(I21:I85)+D13+1 -> 275 | E14: =COUNTA(I21:I85)+1 -> 58 | F14: =MIN(I21:I86) -> 41.96 | G14: =AVERAGE(I21:I86) -> 42.301053 | H14: 3 | I14: =G14-F14 -> 0.34105263 | J14: 0.1415805 | K14: =J14-J13 -> 0.02957544 | L14: =K14+L12 -> 0.082964792 | M14: 2:17.45
A15: Финиш | B15: Манило Денис | C15: 69 | D15: =COUNTA(J21:J85)+D14+1 -> 327 | E15: =COUNTA(J21:J85)+1 -> 52 | F15: =MIN(J21:J86) -> 41.79 | G15: =AVERAGE(J21:J86) -> 41.970784 | H15: 14 | I15: =G15-F15 -> 0.18078431 | J15: ='Общие результаты'!G6 -> 4:00:44 | K15: =J15-J14 -> 0.025595428 | L15: =K15+L13 -> 0.084211134
F16: =AVERAGE(F8,F10,F12,F14) -> 41.835 | G16: =AVERAGE(G8,G10,G12,G14) -> 42.143715 | H16: Андрей | I16: =AVERAGE(I8,I10,I12,I14) -> 0.30871527
F17: =AVERAGE(F9,F11,F13,F15) -> 41.86 | G17: =AVERAGE(G9,G11,G13,G15) -> 42.171045 | H17: Денис | I17: =AVERAGE(I9,I11,I13,I15) -> 0.31104459
F18: =AVERAGE(F8:F15) -> 41.8475 | G18: =AVERAGE(C21:J90) -> 42.142625 | I18: =AVERAGE(I8:I15) -> 0.30987993
C20: =B8 -> Стоцкий Андрей | D20: =B9 -> Манило Денис | E20: =B10 -> Стоцкий Андрей | F20: =B11 -> Манило Денис | G20: =B12 -> Стоцкий Андрей | H20: =B13 -> Манило Денис | I20: =B14 -> Стоцкий Андрей | J20: =B15 -> Манило Денис
B21: 1 | C21: 44.48 | D21: 43.14 | E21: 44.42 | F21: 43.2 | G21: 43.26 | H21: 43.05 | I21: 42.92 | J21: 42.55
B22: 2 | C22: 42.56 | D22: 42.37 | E22: 42.71 | F22: 42.46 | G22: 42.76 | H22: 42.29 | I22: 42.21 | J22: 41.9
B23: 3 | C23: 42.46 | D23: 42.11 | E23: 42.25 | F23: 42.28 | G23: 42.22 | H23: 42.3 | I23: 42.5 | J23: 42.19
B24: 4 | C24: 42.03 | D24: 42.28 | E24: 42.28 | F24: 42.19 | G24: 41.93 | H24: 42.22 | I24: 42.25 | J24: 41.95
B25: 5 | C25: 42.57 | D25: 42.13 | E25: 42.25 | F25: 42.15 | G25: 42.09 | H25: 42.29 | I25: 42.32 | J25: 42.01
B26: 6 | C26: 41.98 | D26: 42.29 | E26: 42.13 | F26: 42.15 | G26: 42.1 | H26: 42.14 | I26: 42.3 | J26: 41.97
B27: 7 | C27: 42 | D27: 42.07 | E27: 42 | F27: 42.14 | G27: 42.09 | H27: 42.22 | I27: 42.84 | J27: 42.05
B28: 8 | C28: 41.86 | D28: 42.12 | E28: 42.11 | F28: 42.27 | G28: 41.84 | H28: 42.35 | I28: 42.23 | J28: 42.02
B29: 9 | C29: 41.83 | D29: 41.95 | E29: 42.08 | F29: 42.12 | G29: 41.9 | H29: 42.36 | I29: 42.27 | J29: 41.97
B30: 10 | C30: 42.01 | D30: 42.25 | E30: 41.95 | F30: 42.08 | G30: 42.08 | H30: 42.15 | I30: 42.41 | J30: 41.98
B31: 11 | C31: 41.8 | D31: 42.12 | E31: 42.09 | F31: 42.1 | G31: 41.83 | H31: 41.98 | I31: 42.14 | J31: 41.96
B32: 12 | C32: 41.97 | D32: 42.03 | E32: 42.02 | F32: 42.05 | G32: 41.9 | H32: 42.22 | I32: 42.13 | J32: 41.95
... B43: 23 | C43: 42.11 | D43: 42.04 | E43: 42 | F43: 41.99 | G43: 41.74 | H43: 41.99 | I43: 42.15 | J43: 41.83
B44: 24 | D44: 43.14 | E44: 42.19 | F44: 42.09 | G44: 41.84 | H44: 41.97 | I44: 42.26 | J44: 42.47
B45: 25 | D45: 42.61 | E45: 41.97 | F45: 41.95 | G45: 41.86 | H45: 42.03 | I45: 42.36 | J45: 41.96
B46: 26 | D46: 41.81 | E46: 42.25 | F46: 42.46 | G46: 41.71 | H46: 43.65 | I46: 42.21 | J46: 41.98
B47: 27 | E47: 42.08 | F47: 42.33 | G47: 41.99 | H47: 43.68 | I47: 42.36 | J47: 41.88
B48: 28 | E48: 42.03 | F48: 42.36 | G48: 42.01 | I48: 42.39 | J48: 41.88
B49: 29 | E49: 41.88 | F49: 42.33 | G49: 42.07 | I49: 42.46 | J49: 41.93
B50: 30 | E50: 41.97 | F50: 42 | G50: 41.8 | I50: 42.41 | J50: 41.93
B51: 31 | E51: 42.01 | F51: 42.16 | G51: 42.24 | I51: 42.27 | J51: 41.99
B52: 32 | E52: 41.91 | F52: 42.2 | G52: 41.88 | I52: 42.15 | J52: 41.91
B53: 33 | E53: 42.12 | F53: 41.97 | G53: 41.84 | I53: 42.3 | J53: 41.92
B54: 34 | E54: 42.12 | F54: 41.94 | G54: 41.82 | I54: 42.43 | J54: 41.98
B55: 35 | F55: 41.87 | G55: 41.86 | I55: 42.33 | J55: 42.06
B56: 36 | F56: 42.19 | G56: 42 | I56: 42.1 | J56: 42.15
B57: 37 | F57: 41.93 | G57: 41.93 | I57: 42.14 | J57: 41.93
B58: 38 | F58: 42.09 | G58: 41.84 | I58: 42.28 | J58: 41.89
B59: 39 | F59: 42.19 | G59: 41.9 | I59: 42.24 | J59: 41.9
B60: 40 | F60: 42.03 | G60: 41.84 | I60: 42.08 | J60: 41.94
B61: 41 | F61: 42.02 | G61: 41.7 | I61: 42.26 | J61: 41.95
B62: 42 | F62: 41.95 | G62: 41.96 | I62: 42.13 | J62: 41.84
B63: 43 | F63: 42.05 | G63: 41.85 | I63: 42.32 | J63: 41.79
B64: 44 | F64: 41.94 | G64: 41.92 | I64: 42.33 | J64: 41.8
B65: 45 | F65: 42.04 | G65: 41.87 | I65: 42.3 | J65: 41.79
B66: 46 | F66: 42.03 | I66: 41.96 | J66: 41.83
B67: 47 | F67: 41.96 | I67: 42.53 | J67: 41.86
B68: 48 | F68: 42.02 | I68: 42.16 | J68: 41.79
B69: 49 | F69: 41.99 | I69: 42.18 | J69: 41.87
B70: 50 | F70: 42 | I70: 42.06 | J70: 41.89
B71: 51 | F71: 41.96 | I71: 42.1 | J71: 42
B72: 52 | F72: 41.95 | I72: 42.03
B73: 53 | F73: 42.34 | I73: 42.46
B74: 54 | F74: 42.22 | I74: 42.52
B75: 55 | F75: 42.1 | I75: 42.37
B76: 56 | F76: 42.75 | I76: 42.04
B77: 57 | F77: 42.15 | I77: 42.11
B78: 58
B79: 59
B80: 60
B81: 61
B82: 62
B83: 63

Sheet Kozaks
A2: Чемпионат мини марафон "Большие Гонки", 10-й этап
A4: Kozaks
A6: Обяза-тельные | B6: Пилот | C6: карт | D6: Круг | E6: кругов на отрезке | F6: Статистика по кругам | J6: Общее время гонки | K6: Время на трассе
F7: Лучший круг | G7: Среднее на отрезке | H7: Кругов в 0,1 от лучшего | I7: стабильность | K7: отрезок | L7: всего у пилота | M7: Питы | N7: Штрафы/ бонусы (сек)
A8: 1 | B8: Пикулин Паша | C8: 7 | D8: =COUNTA(C21:C85) -> 24 | E8: =COUNTA(C21:C85) -> 24 | F8: =MIN(C21:C84) -> 41.81 | G8: =AVERAGE(C21:C87) -> 42.7025 | H8: 3 | I8: =G8-F8 -> 0.8925 | J8: 0.012378889 | K8: =J8 -> 0.012378889 | L8: =K8 -> 0.012378889 | M8: 2:19.02
A9: 2 | B9: Ткаченко Кирилл | C9: 13 | D9: =COUNTA(D21:D85)+D8+1 -> 48 | E9: =COUNTA(D21:D85)+1 -> 24 | F9: =MIN(D21:D84) -> 42.06 | G9: =AVERAGE(D21:D86) -> 42.547826 | H9: 1 | I9: =G9-F9 -> 0.48782609 | J9: 0.025323067 | K9: =J9-J8 -> 0.012944178 | L9: =K9 -> 0.012944178 | M9: 2:19.87
A10: 3 | B10: Ткаченко Кирилл | C10: 2 | D10: =COUNTA(E21:E85)+D9+1 -> 86 | E10: =COUNTA(E21:E85)+1 -> 38 | F10: =MIN(E21:E86) -> 41.93 | G10: =AVERAGE(E21:E87) -> 42.223784 | H10: 0 | I10: =G10-F10 -> 0.29378378 | J10: 0.045023148 | K10: =J10-J9 -> 0.019700081 | L10: =K10+L9 -> 0.032644259 | M10: 2:19.31
A11: 4 | B11: Пикулин Паша | C11: 12 | D11: =COUNTA(F21:F85)+D10+1 -> 145 | E11: =COUNTA(F21:F85)+1 -> 59 | F11: =MIN(F21:F86) -> 41.57 | G11: =AVERAGE(F21:F86) -> 41.958793 | H11: 0 | I11: =G11-F11 -> 0.3887931 | J11: 0.074800463 | K11: =J11-J10 -> 0.029777315 | L11: =K11+L8 -> 0.042156204 | M11: 2:19.31
A12: 5 | B12: Ткаченко Кирилл | C12: 10 | D12: =COUNTA(G21:G85)+D11+1 -> 189 | E12: =COUNTA(G21:G85)+1 -> 44 | F12: =MIN(G21:G86) -> 41.81 | G12: =AVERAGE(G21:G86) -> 42.173023 | H12: 2 | I12: =G12-F12 -> 0.36302326 | J12: 0.097407407 | K12: =J12-J11 -> 0.022606944 | L12: =K12+L10 -> 0.055251204 | M12: 2:30.77
A13: 6 | B13: Пикулин Паша | C13: 15 | D13: =COUNTA(H21:H85)+D12+1 -> 220 | E13: =COUNTA(H21:H85)+1 -> 31 | F13: =MIN(H21:H86) -> 41.86 | G13: =AVERAGE(H21:H86) -> 42.079 | H13: 4 | I13: =G13-F13 -> 0.219 | J13: 0.11375951 | K13: =J13-J12 -> 0.016352106 | L13: =K13+L11 -> 0.05850831 | M13: 2:18.97
A14: 7 | B14: Ткаченко Кирилл | C14: 18 | D14: =COUNTA(I21:I85)+D13+1 -> 275 | E14: =COUNTA(I21:I85)+1 -> 55 | F14: =MIN(I21:I86) -> 41.72 | G14: =AVERAGE(I21:I86) -> 42.095556 | H14: 3 | I14: =G14-F14 -> 0.37555556 | J14: 0.14168442 | K14: =J14-J13 -> 0.027924907 | L14: =K14+L12 -> 0.083176111 | M14: 2:19.04
A15: Финиш | B15: Пикулин Паша | C15: 12 | D15: =COUNTA(J21:J85)+D14+1 -> 327 | E15: =COUNTA(J21:J85)+1 -> 52 | F15: =MIN(J21:J86) -> 41.63 | G15: =AVERAGE(J21:J86) -> 41.962549 | H15: 3 | I15: =G15-F15 -> 0.33254902 | J15: ='Общие результаты'!G6 -> 4:00:44 | K15: =J15-J14 -> 0.025491505 | L15: =K15+L13 -> 0.083999815 | N15: -11 | O15: передержали
F16: =AVERAGE(F8,F11,F13,F15) -> 41.7175 | G16: =AVERAGE(G8,G11,G13,G15) -> 42.175711 | H16: Паша | I16: =AVERAGE(I8,I11,I13,I15) -> 0.45821053
F17: =AVERAGE(F9,F10,F12,F14) -> 41.88 | G17: =AVERAGE(G9,G10,G12,G14) -> 42.260047 | H17: Кирилл | I17: =AVERAGE(I9,I10,I12,I14) -> 0.38004717
F18: =AVERAGE(F8:F15) -> 41.79875 | G18: =AVERAGE(C21:J90) -> 42.151281 | I18: =AVERAGE(I8:I15) -> 0.41912885
C20: =B8 -> Пикулин Паша | D20: =B9 -> Ткаченко Кирилл | E20: =B10 -> Ткаченко Кирилл | F20: =B11 -> Пикулин Паша | G20: =B12 -> Ткаченко Кирилл | H20: =B13 -> Пикулин Паша | I20: =B14 -> Ткаченко Кирилл | J20: =B15 -> Пикулин Паша
B21: 1 | C21: 44.67 | D21: 43.27 | E21: 42.76 | F21: 42.9 | G21: 43.18 | H21: 42.39 | I21: 42.79 | J21: 42.9
B22: 2 | C22: 43.54 | D22: 42.35 | E22: 42.22 | F22: 42.26 | G22: 42.23 | H22: 41.98 | I22: 42.19 | J22: 41.63
B23: 3 | C23: 42.91 | D23: 42.32 | E23: 42.06 | F23: 41.75 | G23: 41.98 | H23: 42.09 | I23: 42.03 | J23: 42.11
B24: 4 | C24: 41.93 | D24: 42.34 | E24: 42.08 | F24: 41.76 | G24: 41.94 | H24: 42.16 | I24: 41.89 | J24: 41.89
B25: 5 | C25: 52.06 | D25: 42.38 | E25: 42.25 | F25: 41.75 | G25: 42.23 | H25: 41.94 | I25: 42.33 | J25: 41.78
B26: 6 | C26: 42.37 | D26: 42.33 | E26: 42.15 | F26: 41.88 | G26: 42.04 | H26: 42.08 | I26: 42.45 | J26: 41.76
B27: 7 | C27: 43.52 | D27: 42.26 | E27: 42.07 | F27: 41.93 | G27: 41.95 | H27: 41.97 | I27: 41.83 | J27: 41.96
B28: 8 | C28: 41.81 | D28: 42.19 | E28: 42.42 | F28: 41.57 | G28: 41.81 | H28: 42.45 | I28: 42.19 | J28: 41.72
B29: 9 | C29: 42.01 | D29: 42.18 | E29: 42.23 | F29: 41.81 | G29: 42.06 | H29: 41.87 | I29: 41.88 | J29: 41.73
B30: 10 | C30: 42 | D30: 42.22 | E30: 42.24 | F30: 42.33 | G30: 42.09 | H30: 42.12 | I30: 42.01 | J30: 42.19
B31: 11 | C31: 42.01 | D31: 42.09 | E31: 42.24 | F31: 41.81 | G31: 42 | H31: 42.05 | I31: 42.15 | J31: 41.88
B32: 12 | C32: 41.9 | D32: 42.95 | E32: 42.05 | F32: 41.93 | G32: 42.49 | H32: 41.94 | I32: 42.11 | J32: 41.92
... B43: 23 | C43: 42.06 | D43: 42.5 | E43: 42.09 | F43: 41.97 | G43: 43.01 | H43: 42.31 | I43: 41.93 | J43: 42
B44: 24 | C44: 41.98 | E44: 42.24 | F44: 41.98 | G44: 42.06 | H44: 42.06 | I44: 42 | J44: 41.99
B45: 25 | E45: 42.16 | F45: 41.78 | G45: 41.97 | H45: 41.97 | I45: 41.92 | J45: 41.71
B46: 26 | E46: 42.28 | F46: 42.05 | G46: 42.04 | H46: 42.13 | I46: 41.87 | J46: 42.27
B47: 27 | E47: 42.3 | F47: 41.8 | G47: 41.97 | H47: 42 | I47: 41.99 | J47: 41.95
B48: 28 | E48: 42.05 | F48: 41.87 | G48: 42.3 | H48: 42.04 | I48: 42.16 | J48: 41.82
B49: 29 | E49: 41.93 | F49: 41.89 | G49: 42.36 | H49: 42.25 | I49: 41.94 | J49: 42.01
B50: 30 | E50: 42.11 | F50: 41.77 | G50: 42.14 | H50: 42.17 | I50: 42.19 | J50: 42.01
B51: 31 | E51: 42.21 | F51: 41.88 | G51: 41.97 | I51: 42.96 | J51: 41.89
B52: 32 | E52: 42.33 | F52: 41.91 | G52: 42.07 | I52: 43.09 | J52: 41.89
B53: 33 | E53: 42.16 | F53: 41.88 | G53: 42.04 | I53: 41.88 | J53: 41.91
B54: 34 | E54: 42.35 | F54: 42.64 | G54: 41.99 | I54: 41.94 | J54: 42.18
B55: 35 | E55: 42.27 | F55: 41.89 | G55: 42.07 | I55: 42.1 | J55: 41.96
B56: 36 | E56: 42.26 | F56: 41.9 | G56: 41.96 | I56: 42.01 | J56: 42
B57: 37 | E57: 42.12 | F57: 41.82 | G57: 41.84 | I57: 42.02 | J57: 42.07
B58: 38 | F58: 41.85 | G58: 42.27 | I58: 42.12 | J58: 42.01
B59: 39 | F59: 41.97 | G59: 42.85 | I59: 41.94 | J59: 41.92
B60: 40 | F60: 41.9 | G60: 42.16 | I60: 41.92 | J60: 41.86
B61: 41 | F61: 41.9 | G61: 42.2 | I61: 41.83 | J61: 41.97
B62: 42 | F62: 42 | G62: 42.07 | I62: 42.05 | J62: 41.91
B63: 43 | F63: 41.89 | G63: 42.48 | I63: 42.42 | J63: 41.96
B64: 44 | F64: 42.19 | I64: 43.33 | J64: 41.75
B65: 45 | F65: 41.96 | I65: 42.36 | J65: 41.75
B66: 46 | F66: 42.09 | I66: 42.09 | J66: 41.77
B67: 47 | F67: 42.21 | I67: 41.74 | J67: 42.16
B68: 48 | F68: 41.96 | I68: 42.21 | J68: 42.12
B69: 49 | F69: 42.01 | I69: 41.72 | J69: 42.11
B70: 50 | F70: 42.03 | I70: 41.87 | J70: 42.14
B71: 51 | F71: 42.07 | I71: 41.98 | J71: 42.13
B72: 52 | F72: 42 | I72: 41.8
B73: 53 | F73: 42.06 | I73: 42.05
B74: 54 | F74: 42.04 | I74: 42.28
B75: 55 | F75: 41.93
B76: 56 | F76: 42.08
B77: 57 | F77: 41.93
B78: 58 | F78: 41.97
B79: 59
B80: 60
B81: 61
B82: 62
B83: 63

Sheet Kart Freedom
A2: Чемпионат мини марафон "Большие Гонки", 10-й этап
A4: Kart Freedom
A6: Обяза-тельные | B6: Пилот | C6: карт | D6: Круг | E6: кругов на отрезке | F6: Статистика по кругам | J6: Общее время гонки | K6: Время на трассе
F7: Лучший круг | G7: Среднее на отрезке | H7: Кругов в 0,1 от лучшего | I7: стабильность | K7: отрезок | L7: всего у пилота | M7: Питы | N7: Штрафы/ бонусы (сек)
A8: 1 | B8: Петушков Андрей | C8: 10 | D8: =COUNTA(C21:C85) -> 19 | E8: =COUNTA(C21:C85) -> 19 | F8: =MIN(C21:C84) -> 41.79 | G8: =AVERAGE(C21:C87) -> 42.116842 | H8: 6 | I8: =G8-F8 -> 0.32684211 | J8: 0.0097801736 | K8: =J8 -> 0.0097801736 | L8: =K8 -> 0.0097801736 | M8: 2:18.85
A9: 2 | B9: Петушков Андрей | C9: 44 | D9: =COUNTA(D21:D85)+D8+1 -> 42 | E9: =COUNTA(D21:D85)+1 -> 23 | F9: =MIN(D21:D84) -> 41.91 | G9: =AVERAGE(D21:D86) -> 42.348182 | H9: 0 | I9: =G9-F9 -> 0.43818182 | J9: 0.022187766 | K9: =J9-J8 -> 0.012407593 | L9: =K9 -> 0.012407593 | M9: 2:07.58 | N9: -12 | O9: бонус за вес
A10: 3 | B10: Паненко Женя | C10: 8 | D10: =COUNTA(E21:E85)+D9+1 -> 98 | E10: =COUNTA(E21:E85)+1 -> 56 | F10: =MIN(E21:E86) -> 41.98 | G10: =AVERAGE(E21:E87) -> 42.236545 | H10: 15 | I10: =G10-F10 -> 0.25654545 | J10: 0.050546933 | K10: =J10-J9 -> 0.028359167 | L10: =K10+L8 -> 0.03813934 | M10: 2:24.21 | N10: +5 | O10: лимит
A11: 4 | B11: Петушков Андрей | C11: 2 | D11: =COUNTA(F21:F85)+D10+1 -> 144 | E11: =COUNTA(F21:F85)+1 -> 46 | F11: =MIN(F21:F86) -> 41.89 | G11: =AVERAGE(F21:F86) -> 42.238222 | H11: 2 | I11: =G11-F11 -> 0.34822222 | J11: 0.074203414 | K11: =J11-J10 -> 0.023656481 | L11: =K11+L9 -> 0.036064074 | M11: 2:18.71
A12: 5 | B12: Паненко Женя | C12: 13 | D12: =COUNTA(G21:G85)+D11+1 -> 204 | E12: =COUNTA(G21:G85)+1 -> 60 | F12: =MIN(G21:G86) -> 42.1 | G12: =AVERAGE(G21:G886) -> 42.555424 | H12: 1 | I12: =G12-F12 -> 0.45542373 | J12: 0.10487916 | K12: =J12-J11 -> 0.030675741 | L12: =K12+L10 -> 0.068815081 | M12: 2:19.28
A13: 6 | B13: Петушков Андрей | C13: 10 | D13: =COUNTA(H21:H85)+D12+1 -> 257 | E13: =COUNTA(H21:H85)+1 -> 53 | F13: =MIN(H21:H86) -> 41.82 | G13: =AVERAGE(H21:H86) -> 42.098462 | H13: 8 | I13: =G13-F13 -> 0.27846154 | J13: 0.13182222 | K13: =J13-J12 -> 0.026943067 | L13: =K13+L11 -> 0.063007141 | M13: 2:18.25
A14: 7 | B14: Паненко Женя | C14: 6 | D14: =COUNTA(I21:I85)+D13+1 -> 293 | E14: =COUNTA(I21:I85)+1 -> 36 | F14: =MIN(I21:I86) -> 42.12 | G14: =AVERAGE(I21:I86) -> 42.382571 | H14: 5 | I14: =G14-F14 -> 0.26257143 | J14: 0.15059973 | K14: =J14-J13 -> 0.018777512 | L14: =K14+L12 -> 0.087592593 | M14: 2:18.80
A15: Финиш | B15: Петушков Андрей | C15: 15 | D15: =COUNTA(J21:J85)+D14+1 -> 326 | E15: =COUNTA(J21:J85)+1 -> 33 | F15: =MIN(J21:J86) -> 41.74 | G15: =AVERAGE(J21:J86) -> 42.077187 | H15: 1 | I15: =G15-F15 -> 0.3371875 | J15: ='Общие результаты'!G6 -> 4:00:44 | K15: =J15-J14 -> 0.016576192 | L15: =K15+L13 -> 0.079583333
F16: =AVERAGE(F8,F9,F11,F13,F15) -> 41.83 | G16: =AVERAGE(G8,G9,G11,G13,G15) -> 42.175779 | H16: Андрей | I16: =AVERAGE(I8,I9,I11,I13,I15) -> 0.34577904
F17: =AVERAGE(F10,F12,F14) -> 42.066667 | G17: =AVERAGE(G10,G12,G14) -> 42.391514 | H17: Женя | I17: =AVERAGE(I10,I12,I14) -> 0.32484687
F18: =AVERAGE(F8:F15) -> 41.91875 | G18: =AVERAGE(C21:J90) -> 42.273856 | I18: =AVERAGE(I8:I15) -> 0.33792947
C20: =B8 -> Петушков Андрей | D20: =B9 -> Петушков Андрей | E20: =B10 -> Паненко Женя | F20: =B11 -> Петушков Андрей | G20: =B12 -> Паненко Женя | H20: =B13 -> Петушков Андрей | I20: =B14 -> Паненко Женя | J20: =B15 -> Петушков Андрей
B21: 1 | C21: 44.89 | D21: 44.08 | E21: 43.51 | F21: 43.04 | G21: 43.83 | H21: 43.05 | I21: 43.14 | J21: 42.74
B22: 2 | C22: 42.52 | D22: 42.15 | E22: 42.8 | F22: 42.24 | G22: 42.9 | H22: 42.64 | I22: 42.37 | J22: 42.46
B23: 3 | C23: 42.09 | D23: 42.14 | E23: 42.65 | F23: 42.51 | G23: 42.67 | H23: 43.52 | I23: 42.58 | J23: 42.19
B24: 4 | C24: 41.94 | D24: 42.13 | E24: 42.36 | F24: 42.42 | G24: 42.58 | H24: 42.06 | I24: 43.01 | J24: 42.1
B25: 5 | C25: 41.89 | D25: 42.48 | E25: 42.47 | F25: 42.44 | G25: 42.68 | H25: 42.1 | I25: 42.6 | J25: 41.97
B26: 6 | C26: 41.85 | D26: 42.46 | E26: 42.35 | F26: 42.09 | G26: 42.61 | H26: 42.19 | I26: 42.67 | J26: 41.97
B27: 7 | C27: 41.92 | D27: 42.14 | E27: 42.33 | F27: 42.18 | G27: 42.78 | H27: 42.17 | I27: 42.35 | J27: 42.01
B28: 8 | C28: 41.84 | D28: 42.21 | E28: 42.12 | F28: 42.17 | G28: 42.68 | H28: 42.04 | I28: 42.28 | J28: 42.46
B29: 9 | C29: 41.85 | D29: 42.13 | E29: 42.73 | F29: 42.26 | G29: 42.34 | H29: 42.01 | I29: 42.31 | J29: 42.07
B30: 10 | C30: 41.94 | D30: 42.22 | E30: 42.4 | F30: 41.93 | G30: 42.51 | H30: 41.99 | I30: 42.28 | J30: 42.11
B31: 11 | C31: 41.97 | D31: 42.6 | E31: 42.08 | F31: 42.27 | G31: 42.41 | H31: 41.96 | I31: 42.25 | J31: 42.03
B32: 12 | C32: 42.01 | D32: 42.28 | E32: 42.29 | F32: 42.21 | G32: 42.57 | H32: 42.02 | I32: 42.32 | J32: 41.98
... B39: 19 | C39: 41.85 | D39: 42.06 | E39: 42.02 | F39: 42.16 | G39: 42.37 | H39: 41.98 | I39: 42.29 | J39: 42.01
B40: 20 | D40: 42.43 | E40: 42.03 | F40: 42.15 | G40: 42.63 | H40: 41.96 | I40: 42.28 | J40: 42.48
B41: 21 | D41: 42.51 | E41: 41.98 | F41: 42.13 | G41: 42.65 | H41: 42.09 | I41: 42.41 | J41: 41.88
B42: 22 | D42: 42.22 | E42: 42.05 | F42: 41.99 | G42: 42.4 | H42: 42.19 | I42: 42.27 | J42: 41.79
B43: 23 | E43: 41.98 | F43: 42.01 | G43: 42.48 | H43: 41.94 | I43: 42.29 | J43: 41.87
B44: 24 | E44: 42.11 | F44: 42.13 | G44: 42.5 | H44: 42 | I44: 42.12 | J44: 42.29
B45: 25 | E45: 42 | F45: 42.03 | G45: 42.46 | H45: 41.91 | I45: 42.31 | J45: 42.08
B46: 26 | E46: 42.07 | F46: 42.3 | G46: 42.3 | H46: 42.11 | I46: 42.26 | J46: 41.74
B47: 27 | E47: 42.05 | F47: 42.31 | G47: 42.24 | H47: 41.95 | I47: 42.19 | J47: 42.11
B48: 28 | E48: 42.12 | F48: 42.18 | G48: 42.62 | H48: 42.07 | I48: 42.26 | J48: 41.86
B49: 29 | E49: 42.07 | F49: 42.16 | G49: 42.79 | H49: 41.92 | I49: 42.22 | J49: 41.99
B50: 30 | E50: 42 | F50: 42.16 | G50: 42.83 | H50: 41.82 | I50: 43.12 | J50: 41.85
B51: 31 | E51: 42.38 | F51: 42.03 | G51: 42.48 | H51: 41.94 | I51: 42.31 | J51: 41.99
B52: 32 | E52: 42.25 | F52: 42.26 | G52: 42.25 | H52: 42.53 | I52: 42.12 | J52: 42.21
B53: 33 | E53: 42.06 | F53: 42.17 | G53: 42.84 | H53: 42 | I53: 42.12
B54: 34 | E54: 42.35 | F54: 42.16 | G54: 42.29 | H54: 42.22 | I54: 42.43
B55: 35 | E55: 42.07 | F55: 42.15 | G55: 42.45 | H55: 41.84 | I55: 42.26
B56: 36 | E56: 42.16 | F56: 42.21 | G56: 42.1 | H56: 42.08
B57: 37 | E57: 42.04 | F57: 42.23 | G57: 42.28 | H57: 42.02
B58: 38 | E58: 42.11 | F58: 42.23 | G58: 42.28 | H58: 41.94
B59: 39 | E59: 42.12 | F59: 42.13 | G59: 42.31 | H59: 41.92
B60: 40 | E60: 42.72 | F60: 42.88 | G60: 42.73 | H60: 42.04
B61: 41 | E61: 42.1 | F61: 42.21 | G61: 42.4 | H61: 41.96
B62: 42 | E62: 42.11 | F62: 42.1 | G62: 42.49 | H62: 41.91
B63: 43 | E63: 41.98 | F63: 42.77 | G63: 42.8 | H63: 41.9
B64: 44 | E64: 42 | F64: 42.35 | G64: 43.36 | H64: 41.84
B65: 45 | E65: 42.2 | F65: 41.89 | G65: 42.38 | H65: 41.93
B66: 46 | E66: 42.19 | G66: 42.35 | H66: 41.98
B67: 47 | E67: 42.57 | G67: 42.36 | H67: 42.08
B68: 48 | E68: 42.23 | G68: 42.45 | H68: 42.09
B69: 49 | E69: 42.19 | G69: 42.36 | H69: 41.91
B70: 50 | E70: 42.05 | G70: 42.26 | H70: 42.03
B71: 51 | E71: 42.65 | G71: 42.86 | H71: 42.63
B72: 52 | E72: 42.2 | G72: 42.17 | H72: 41.9
B73: 53 | E73: 42.12 | G73: 42.41
B74: 54 | E74: 42.06 | G74: 42.35
B75: 55 | E75: 42.3 | G75: 42.36
B76: 56 | G76: 42.46
B77: 57 | G77: 42.79
B78: 58 | G78: 42.75
B79: 59 | G79: 42.36
B80: 60
B81: 61
B82: 62
B83: 63

Sheet Ingul kart RT
A2: Чемпионат мини марафон "Большие Гонки", 10-й этап
A4: Ingul kart RT
A6: Обяза-тельные | B6: Пилот | C6: карт | D6: Круг | E6: кругов на отрезке | F6: Статистика по кругам | J6: Общее время гонки | K6: Время на трассе
F7: Лучший круг | G7: Среднее на отрезке | H7: Кругов в 0,1 от лучшего | I7: стабильность | K7: отрезок | L7: всего у пилота | M7: Питы | N7: Штрафы/ бонусы (сек)
A8: 1 | B8: Кублицкий Виктор | C8: 11 | D8: =COUNTA(C21:C85) -> 19 | E8: =COUNTA(C21:C85) -> 19 | F8: =MIN(C21:C84) -> 41.81 | G8: =AVERAGE(C21:C87) -> 42.221579 | H8: 6 | I8: =G8-F8 -> 0.41157895 | J8: 0.0098511111 | K8: =J8 -> 0.0098511111 | L8: =K8 -> 0.0098511111 | M8: 2:20.05
A9: 2 | B9: Геронимус Макс | C9: 9 | D9: =COUNTA(D21:D85)+D8+1 -> 80 | E9: =COUNTA(D21:D85)+1 -> 61 | F9: =MIN(D21:D84) -> 41.72 | G9: =AVERAGE(D21:D86) -> 42.0825 | H9: 10 | I9: =G9-F9 -> 0.3625 | J9: 0.040683333 | K9: =J9-J8 -> 0.030832222 | L9: =K9 -> 0.030832222 | M9: 2:24.92 | N9: +5 | O9: лимит
A10: 3 | B10: Кублицкий Виктор | C10: 3 | D10: =COUNTA(E21:E85)+D9+1 -> 102 | E10: =COUNTA(E21:E85)+1 -> 22 | F10: =MIN(E21:E86) -> 42.03 | G10: =AVERAGE(E21:E87) -> 42.391429 | H10: 0 | I10: =G10-F10 -> 0.36142857 | J10: 0.0526789 | K10: =J10-J9 -> 0.011995567 | L10: =K10+L8 -> 0.021846678 | M10: 2:26.04
A11: 4 | B11: Геронимус Макс | C11: 44 | D11: =COUNTA(F21:F85)+D10+1 -> 146 | E11: =COUNTA(F21:F85)+1 -> 44 | F11: =MIN(F21:F86) -> 41.85 | G11: =AVERAGE(F21:F86) -> 42.115814 | H11: 6 | I11: =G11-F11 -> 0.26581395 | J11: 0.075334826 | K11: =J11-J10 -> 0.022655926 | L11: =K11+L9 -> 0.053488148 | M11: 2:20.08
A12: 5 | B12: Кублицкий Виктор | C12: 7 | D12: =COUNTA(G21:G85)+D11+1 -> 191 | E12: =COUNTA(G21:G85)+1 -> 45 | F12: =MIN(G21:G86) -> 41.98 | G12: =AVERAGE(G21:G886) -> 42.2 | H12: 11 | I12: =G12-F12 -> 0.22 | J12: 0.0984375 | K12: =J12-J11 -> 0.023102674 | L12: =K12+L10 -> 0.044949352 | M12: 2:20.08
A13: 6 | B13: Кублицкий Виктор | C13: 17 | D13: =COUNTA(H21:H85)+D12+1 -> 228 | E13: =COUNTA(H21:H85)+1 -> 37 | F13: =MIN(H21:H86) -> 41.91 | G13: =AVERAGE(H21:H86) -> 42.191389 | H13: 3 | I13: =G13-F13 -> 0.28138889 | J13: 0.11764934 | K13: =J13-J12 -> 0.01921184 | L13: =K13+L11 -> 0.072699988 | M13: 2:19.62
A14: 7 | B14: Кублицкий Виктор | C14: 16 | D14: =COUNTA(I21:I85)+D13+1 -> 290 | E14: =COUNTA(I21:I85)+1 -> 62 | F14: =MIN(I21:I86) -> 41.8 | G14: =AVERAGE(I21:I86) -> 42.066557 | H14: 6 | I14: =G14-F14 -> 0.26655738 | J14: 0.14897071 | K14: =J14-J13 -> 0.031321366 | L14: =K14+L12 -> 0.076270718 | M14: 2:25.35 | N14: +5 | O14: лимит
A15: Финиш | B15: Геронимус Макс | C15: 3 | D15: =COUNTA(J21:J85)+D14+1 -> 326 | E15: =COUNTA(J21:J85)+1 -> 36 | F15: =MIN(J21:J86) -> 41.95 | G15: =AVERAGE(J21:J86) -> 42.363429 | H15: 1 | I15: =G15-F15 -> 0.41342857 | J15: ='Общие результаты'!G6 -> 4:00:44 | K15: =J15-J14 -> 0.01820522 | L15: =K15+L13 -> 0.090905208 | N15: -6+5 | O15: передержали+лимит
F16: =AVERAGE(F8,F10,F12,F13,F14) -> 41.906 | G16: =AVERAGE(G8,G10,G12,G13,G14) -> 42.214191 | H16: Виктор | I16: =AVERAGE(I8,I10,I12,I13,I14) -> 0.30819076
F17: =AVERAGE(F9,F11,F15) -> 41.84 | G17: =AVERAGE(G9,G11,G15) -> 42.187248 | H17: Макс | I17: =AVERAGE(I9,I11,I15) -> 0.34724751
F18: =AVERAGE(F8:F15) -> 41.88125 | G18: =AVERAGE(C21:J90) -> 42.171881 | I18: =AVERAGE(I8:I15) -> 0.32283704
C20: =B8 -> Кублицкий Виктор | D20: =B9 -> Геронимус Макс | E20: =B10 -> Кублицкий Виктор | F20: =B11 -> Геронимус Макс | G20: =B12 -> Кублицкий Виктор | H20: =B13 -> Кублицкий Виктор | I20: =B14 -> Кублицкий Виктор | J20: =B15 -> Геронимус Макс
B21: 1 | C21: 44.03 | D21: 42.95 | E21: 43.39 | F21: 42.89 | G21: 43.72 | H21: 42.95 | I21: 42.78 | J21: 44.18
B22: 2 | C22: 42.36 | D22: 41.94 | E22: 42.48 | F22: 42.16 | G22: 42.27 | H22: 42.25 | I22: 42.31 | J22: 42.39
B23: 3 | C23: 43.06 | D23: 42.16 | E23: 42.37 | F23: 41.95 | G23: 42.1 | H23: 42.43 | I23: 42.35 | J23: 42.36
B24: 4 | C24: 42.04 | D24: 41.91 | E24: 42.73 | F24: 42.01 | G24: 42.21 | H24: 42.25 | I24: 42 | J24: 42.16
B25: 5 | C25: 42.7 | D25: 41.95 | E25: 42.21 | F25: 42.37 | G25: 42.18 | H25: 42.04 | I25: 42.05 | J25: 42.13
B26: 6 | C26: 42.02 | D26: 41.88 | E26: 42.28 | F26: 41.98 | G26: 42.02 | H26: 42.31 | I26: 42.27 | J26: 42.34
B27: 7 | C27: 42.46 | D27: 41.77 | E27: 42.21 | F27: 41.97 | G27: 42.09 | H27: 42.27 | I27: 41.97 | J27: 42.27
B28: 8 | C28: 41.97 | D28: 41.88 | E28: 42.28 | F28: 42.17 | G28: 42.17 | H28: 42.19 | I28: 42.12 | J28: 42.12
B29: 9 | C29: 41.96 | D29: 41.84 | E29: 42.17 | F29: 42.08 | G29: 42.24 | H29: 41.99 | I29: 42.06 | J29: 42.28
B30: 10 | C30: 42.09 | D30: 41.81 | E30: 42.24 | F30: 41.92 | G30: 42.07 | H30: 42.12 | I30: 41.94 | J30: 42.18
B31: 11 | C31: 41.9 | D31: 41.82 | E31: 42.33 | F31: 42.02 | G31: 42.24 | H31: 42.13 | I31: 42.14 | J31: 42.42
B32: 12 | C32: 41.89 | D32: 41.95 | E32: 42.35 | F32: 42 | G32: 42 | H32: 42.15 | I32: 41.94 | J32: 42.32
... B39: 19 | C39: 42.6 | D39: 41.81 | E39: 42.33 | F39: 41.95 | G39: 42.04 | H39: 42.14 | I39: 42.02 | J39: 42.33
B40: 20 | D40: 42.09 | E40: 42.03 | F40: 41.85 | G40: 42.13 | H40: 42.11 | I40: 41.95 | J40: 42.25
B41: 21 | D41: 41.77 | E41: 42.3 | F41: 41.91 | G41: 42.19 | H41: 42.08 | I41: 41.98 | J41: 43.31
B42: 22 | D42: 41.73 | F42: 42.02 | G42: 42.01 | H42: 42.06 | I42: 42.21 | J42: 42.46
B43: 23 | D43: 42.04 | F43: 42.03 | G43: 42.07 | H43: 42.52 | I43: 43.6 | J43: 42.14
B44: 24 | D44: 41.87 | F44: 41.92 | G44: 41.98 | H44: 42.11 | I44: 42.55 | J44: 42.1
B45: 25 | D45: 42.9 | F45: 41.9 | G45: 42.15 | H45: 42.44 | I45: 41.92 | J45: 41.95
B46: 26 | D46: 41.99 | F46: 42.03 | G46: 42.12 | H46: 42.21 | I46: 41.95 | J46: 42.01
B47: 27 | D47: 41.96 | F47: 42.02 | G47: 42.57 | H47: 42.11 | I47: 42.05 | J47: 42.1
B48: 28 | D48: 42.23 | F48: 42.47 | G48: 42.39 | H48: 42.1 | I48: 41.8 | J48: 42.27
B49: 29 | D49: 41.95 | F49: 42.19 | G49: 42.29 | H49: 42.03 | I49: 42.01 | J49: 42.24
B50: 30 | D50: 41.89 | F50: 42.14 | G50: 42.14 | H50: 42.01 | I50: 42.33 | J50: 42.26
B51: 31 | D51: 42.25 | F51: 42.03 | G51: 42.32 | H51: 42.09 | I51: 41.94 | J51: 42.27
B52: 32 | D52: 42.11 | F52: 42.14 | G52: 42.16 | H52: 41.91 | I52: 41.94 | J52: 42.42
B53: 33 | D53: 42.01 | F53: 42.16 | G53: 42.08 | H53: 42.74 | I53: 41.92 | J53: 42.17
... B55: 35 | D55: 41.99 | F55: 42.03 | G55: 42.07 | H55: 42.15 | I55: 42.25 | J55: 43.15
B56: 36 | D56: 42 | F56: 42.03 | G56: 42.19 | H56: 42.05 | I56: 42.33
B57: 37 | D57: 41.91 | F57: 42.03 | G57: 42.28 | I57: 41.95
B58: 38 | D58: 42.02 | F58: 42.04 | G58: 42.19 | I58: 41.98
B59: 39 | D59: 42.04 | F59: 42.13 | G59: 42.12 | I59: 41.82
B60: 40 | D60: 41.99 | F60: 42.13 | G60: 42.14 | I60: 42.08
B61: 41 | D61: 43.79 | F61: 42.39 | G61: 42.28 | I61: 41.91
B62: 42 | D62: 42.79 | F62: 42.15 | G62: 42.27 | I62: 41.85
B63: 43 | D63: 42.17 | F63: 42.27 | G63: 42.22 | I63: 41.96
B64: 44 | D64: 42.64 | G64: 42.36 | I64: 41.93
B65: 45 | D65: 42.77 | I65: 41.83
B66: 46 | D66: 41.98 | I66: 42.07
B67: 47 | D67: 41.88 | I67: 42.08
B68: 48 | D68: 41.85 | I68: 42.02
B69: 49 | D69: 42.37 | I69: 41.95
B70: 50 | D70: 41.72 | I70: 41.83
B71: 51 | D71: 41.75 | I71: 42.35
B72: 52 | D72: 41.84 | I72: 42.06
B73: 53 | D73: 41.82 | I73: 42.02
B74: 54 | D74: 41.77 | I74: 42.05
B75: 55 | D75: 41.76 | I75: 41.85
B76: 56 | D76: 41.9 | I76: 41.92
... B80: 60 | D80: 42.11 | I80: 41.85
B81: 61 | I81: 42.14
B82: 62
B83: 63

Sheet E-K Motosport
A2: Чемпионат мини марафон "Большие Гонки", 10-й этап
A4: E-K Motosport
A6: Обяза-тельные | B6: Пилот | C6: карт | D6: Круг | E6: кругов на отрезке | F6: Статистика по кругам | J6: Общее время гонки | K6: Время на трассе
F7: Лучший круг | G7: Среднее на отрезке | H7: Кругов в 0,1 от лучшего | I7: стабильность | K7: отрезок | L7: всего у пилота | M7: Питы | N7: Штрафы/ бонусы (сек)
A8: 1 | B8: Коруз Вадим | C8: 16 | D8: =COUNTA(C21:C85) -> 28 | E8: =COUNTA(C21:C85) -> 28 | F8: =MIN(C21:C84) -> 42.04 | G8: =AVERAGE(C21:C87) -> 42.460357 | H8: 4 | I8: =G8-F8 -> 0.42035714 | J8: 0.014318507 | K8: =J8 -> 0.014318507 | L8: =K8 -> 0.014318507 | M8: 2:19.76
A9: 2 | B9: Якусик Дима | C9: 5 | D9: =COUNTA(D21:D85)+D8+1 -> 82 | E9: =COUNTA(D21:D85)+1 -> 54 | F9: =MIN(D21:D84) -> 41.97 | G9: =AVERAGE(D21:D86) -> 42.285094 | H9: 6 | I9: =G9-F9 -> 0.31509434 | J9: 0.041917894 | K9: =J9-J8 -> 0.027599387 | L9: =K9 -> 0.027599387 | M9: 2:38.96
A10: 3 | B10: Коруз Вадим | C10: 16 | D10: =COUNTA(E21:E85)+D9+1 -> 114 | E10: =COUNTA(E21:E85)+1 -> 32 | F10: =MIN(E21:E86) -> 41.98 | G10: =AVERAGE(E21:E87) -> 42.319355 | H10: 3 | I10: =G10-F10 -> 0.33935484 | J10: 0.058897894 | K10: =J10-J9 -> 0.01698 | L10: =K10+L8 -> 0.031298507 | M10: 2:04.83 | N10: -20+5 | O10: передержали+линия
A11: 4 | B11: Якусик Дима | C11: 8 | D11: =COUNTA(F21:F85)+D10+1 -> 153 | E11: =COUNTA(F21:F85)+1 -> 39 | F11: =MIN(F21:F86) -> 41.9 | G11: =AVERAGE(F21:F86) -> 42.206053 | H11: 4 | I11: =G11-F11 -> 0.30605263 | J11: 0.078896354 | K11: =J11-J10 -> 0.019998461 | L11: =K11+L9 -> 0.047597847 | M11: 2:19.91
A12: 5 | B12: Коруз Вадим | C12: 21 | D12: =COUNTA(G21:G85)+D11+1 -> 206 | E12: =COUNTA(G21:G85)+1 -> 53 | F12: =MIN(G21:G86) -> 41.96 | G12: =AVERAGE(G21:G886) -> 42.217115 | H12: 6 | I12: =G12-F12 -> 0.25711538 | J12: 0.10593507 | K12: =J12-J11 -> 0.027038715 | L12: =K12+L10 -> 0.058337222 | M12: 2:19.64
A13: 6 | B13: Якусик Дима | C13: 13 | D13: =COUNTA(H21:H85)+D12+1 -> 245 | E13: =COUNTA(H21:H85)+1 -> 39 | F13: =MIN(H21:H86) -> 42.1 | G13: =AVERAGE(H21:H86) -> 42.477895 | H13: 6 | I13: =G13-F13 -> 0.37789474 | J13: 0.12623709 | K13: =J13-J12 -> 0.020302025 | L13: =K13+L11 -> 0.067899873 | M13: 2:19.57
A14: 7 | B14: Коруз Вадим | C14: 17 | D14: =COUNTA(I21:I85)+D13+1 -> 290 | E14: =COUNTA(I21:I85)+1 -> 45 | F14: =MIN(I21:I86) -> 41.85 | G14: =AVERAGE(I21:I86) -> 42.262955 | H14: 0 | I14: =G14-F14 -> 0.41295455 | J14: 0.14938681 | K14: =J14-J13 -> 0.023149711 | L14: =K14+L12 -> 0.081486933 | M14: 2:19.22
A15: Финиш | B15: Якусик Дима | C15: 1 | D15: =COUNTA(J21:J85)+D14+1 -> 325 | E15: =COUNTA(J21:J85)+1 -> 35 | F15: =MIN(J21:J86) -> 42.16 | G15: =AVERAGE(J21:J86) -> 42.541176 | H15: 5 | I15: =G15-F15 -> 0.38117647 | J15: ='Общие результаты'!G6 -> 4:00:44 | K15: =J15-J14 -> 0.01778912 | L15: =K15+L13 -> 0.085688993
F16: =AVERAGE(F8,F10,F12,F14) -> 41.9575 | G16: =AVERAGE(G8,G10,G12,G14) -> 42.314945 | H16: Вадим | I16: =AVERAGE(I8,I10,I12,I14) -> 0.35744548
F17: =AVERAGE(F9,F11,F13,F15) -> 42.0325 | G17: =AVERAGE(G9,G11,G13,G15) -> 42.377555 | H17: Дима | I17: =AVERAGE(I9,I11,I13,I15) -> 0.34505454
F18: =AVERAGE(F8:F15) -> 41.995 | G18: =AVERAGE(C21:J90) -> 42.33066 | I18: =AVERAGE(I8:I15) -> 0.35125001
C20: =B8 -> Коруз Вадим | D20: =B9 -> Якусик Дима | E20: =B10 -> Коруз Вадим | F20: =B11 -> Якусик Дима | G20: =B12 -> Коруз Вадим | H20: =B13 -> Якусик Дима | I20: =B14 -> Коруз Вадим | J20: =B15 -> Якусик Дима
B21: 1 | C21: 46.21 | D21: 43.14 | E21: 43.14 | F21: 42.99 | G21: 42.83 | H21: 43.02 | I21: 42.72 | J21: 42.99
B22: 2 | C22: 42.79 | D22: 42.41 | E22: 42.35 | F22: 42.21 | G22: 42.42 | H22: 42.35 | I22: 42.62 | J22: 42.49
B23: 3 | C23: 42.43 | D23: 42.27 | E23: 42.69 | F23: 42.22 | G23: 42.28 | H23: 42.31 | I23: 42.4 | J23: 42.58
B24: 4 | C24: 42.23 | D24: 42.35 | E24: 42.27 | F24: 42.31 | G24: 42.38 | H24: 42.17 | I24: 42.32 | J24: 43.31
B25: 5 | C25: 42.88 | D25: 42.29 | E25: 42.35 | F25: 42.39 | G25: 42.35 | H25: 42.72 | I25: 42.52 | J25: 42.45
B26: 6 | C26: 42.16 | D26: 42.23 | E26: 42.24 | F26: 42.03 | G26: 42.91 | H26: 42.33 | I26: 42.13 | J26: 42.4
B27: 7 | C27: 42.25 | D27: 42.2 | E27: 43.31 | F27: 42.01 | G27: 42.25 | H27: 43.29 | I27: 42.07 | J27: 42.47
B28: 8 | C28: 42.35 | D28: 42.19 | E28: 42.3 | F28: 42.19 | G28: 42.15 | H28: 42.91 | I28: 42.16 | J28: 42.42
B29: 9 | C29: 42.48 | D29: 42.06 | E29: 42.18 | F29: 42.09 | G29: 42.26 | H29: 44.09 | I29: 42.2 | J29: 42.4
B30: 10 | C30: 42.07 | D30: 42.3 | E30: 42.06 | F30: 42.32 | G30: 42.28 | H30: 42.52 | I30: 42.29 | J30: 43.29
B31: 11 | C31: 42.22 | D31: 42.6 | E31: 42.38 | F31: 41.94 | G31: 42.27 | H31: 42.36 | I31: 42.47 | J31: 42.35
B32: 12 | C32: 42.21 | D32: 42.53 | E32: 42.07 | F32: 42.99 | G32: 42.12 | H32: 42.37 | I32: 42.01 | J32: 42.49
... B48: 28 | C48: 42.19 | D48: 42.28 | E48: 42.61 | F48: 42.18 | G48: 42.24 | H48: 42.36 | I48: 42.36 | J48: 42.35
B49: 29 | D49: 42.26 | E49: 42.48 | F49: 42.03 | G49: 42.28 | H49: 42.44 | I49: 42.29 | J49: 43.13
B50: 30 | D50: 42.13 | E50: 42.15 | F50: 41.9 | G50: 42 | H50: 42.42 | I50: 42.13 | J50: 42.88
B51: 31 | D51: 42.07 | E51: 42.15 | F51: 42.35 | G51: 42.11 | H51: 42.6 | I51: 42.22 | J51: 42.16
B52: 32 | D52: 41.98 | F52: 42.12 | G52: 42.2 | H52: 42.37 | I52: 42.38 | J52: 42.28
B53: 33 | D53: 42.11 | F53: 42.02 | G53: 42.09 | H53: 42.31 | I53: 42.26 | J53: 42.59
B54: 34 | D54: 42.16 | F54: 42.06 | G54: 42.24 | H54: 42.34 | I54: 42.64 | J54: 42.43
B55: 35 | D55: 42.11 | F55: 42.83 | G55: 42.16 | H55: 42.4 | I55: 42.37
B56: 36 | D56: 42.03 | F56: 42.23 | G56: 42.17 | H56: 43.24 | I56: 42.38
B57: 37 | D57: 42.01 | F57: 41.92 | G57: 42.1 | H57: 43.04 | I57: 42.13
B58: 38 | D58: 42.07 | F58: 42.03 | G58: 42.26 | H58: 42.21 | I58: 42.3
B59: 39 | D59: 42.27 | G59: 42.1 | I59: 42.18
B60: 40 | D60: 42.2 | G60: 41.96 | I60: 42.57
B61: 41 | D61: 42.72 | G61: 42.19 | I61: 42.17
B62: 42 | D62: 42.16 | G62: 42.17 | I62: 42.13
B63: 43 | D63: 42.18 | G63: 42.25 | I63: 42.31
B64: 44 | D64: 42.27 | G64: 42.32 | I64: 42.1
B65: 45 | D65: 42.11 | G65: 42.02
B66: 46 | D66: 42.3 | G66: 42.22
B67: 47 | D67: 42.1 | G67: 42.62
B68: 48 | D68: 42.22 | G68: 42.18
B69: 49 | D69: 42.14 | G69: 42.29
B70: 50 | D70: 42.29 | G70: 41.98
B71: 51 | D71: 42.34 | G71: 42.25
B72: 52 | D72: 42.36 | G72: 41.97
B73: 53 | D73: 42.23
B74: 54
B75: 55
B76: 56
B77: 57
B78: 58
B79: 59
B80: 60
B81: 61
B82: 62
B83: 63

Sheet Fortuna Racing
A2: Чемпионат мини марафон "Большие Гонки", 10-й этап
A4: Fortuna Racing
A6: Обяза-тельные | B6: Пилот | C6: карт | D6: Круг | E6: кругов на отрезке | F6: Статистика по кругам | J6: Общее время гонки | K6: Время на трассе
F7: Лучший круг | G7: Среднее на отрезке | H7: Кругов в 0,1 от лучшего | I7: стабильность | K7: отрезок | L7: всего у пилота | M7: Питы | N7: Штрафы/ бонусы (сек)
A8: 1 | B8: Шутка Виталий | C8: 12 | D8: =COUNTA(C21:C85) -> 30 | E8: =COUNTA(C21:C85) -> 30 | F8: =MIN(C21:C84) -> 41.88 | G8: =AVERAGE(C21:C87) -> 42.374333 | H8: 6 | I8: =G8-F8 -> 0.49433333 | J8: 0.015269086 | K8: =J8 -> 0.015269086 | L8: =K8 -> 0.015269086 | M8: 2:18.95
A9: 2 | B9: Фортуна Таня | C9: 4 | D9: =COUNTA(D21:D85)+D8+1 -> 87 | E9: =COUNTA(D21:D85)+1 -> 57 | F9: =MIN(D21:D84) -> 41.75 | G9: =AVERAGE(D21:D86) -> 42.370893 | H9: 3 | I9: =G9-F9 -> 0.62089286 | J9: 0.044342396 | K9: =J9-J8 -> 0.02907331 | L9: =K9 -> 0.02907331 | M9: 2:20.32
A10: 3 | B10: Шутка Виталий | C10: 11 | D10: =COUNTA(E21:E85)+D9+1 -> 106 | E10: =COUNTA(E21:E85)+1 -> 19 | F10: =MIN(E21:E86) -> 42.18 | G10: =AVERAGE(E21:E87) -> 42.457778 | H10: 5 | I10: =G10-F10 -> 0.27777778 | J10: 0.054814363 | K10: =J10-J9 -> 0.010471968 | L10: =K10+L8 -> 0.025741053 | M10: 2:19.43
A11: 4 | B11: Шутка Виталий | C11: 7 | D11: =COUNTA(F21:F85)+D10+1 -> 142 | E11: =COUNTA(F21:F85)+1 -> 36 | F11: =MIN(F21:F86) -> 42.11 | G11: =AVERAGE(F21:F86) -> 42.443714 | H11: 2 | I11: =G11-F11 -> 0.33371429 | J11: 0.073626424 | K11: =J11-J10 -> 0.01881206 | L11: =K11+L9 -> 0.04788537 | M11: 2:18.13
A12: 5 | B12: Фортуна Таня | C12: 17 | D12: =COUNTA(G21:G85)+D11+1 -> 188 | E12: =COUNTA(G21:G85)+1 -> 46 | F12: =MIN(G21:G86) -> 41.99 | G12: =AVERAGE(G21:G886) -> 42.281111 | H12: 4 | I12: =G12-F12 -> 0.29111111 | J12: 0.097247789 | K12: =J12-J11 -> 0.023621366 | L12: =K12+L10 -> 0.049362419 | M12: 2:19.01
A13: 6 | B13: Шутка Виталий | C13: 14 | D13: =COUNTA(H21:H85)+D12+1 -> 214 | E13: =COUNTA(H21:H85)+1 -> 26 | F13: =MIN(H21:H86) -> 42.14 | G13: =AVERAGE(H21:H86) -> 42.4316 | H13: 3 | I13: =G13-F13 -> 0.2916 | J13: 0.11113565 | K13: =J13-J12 -> 0.013887859 | L13: =K13+L11 -> 0.061773229 | M13: 2:19.56
A14: 7 | B14: Фортуна Таня | C14: 21 | D14: =COUNTA(I21:I85)+D13+1 -> 273 | E14: =COUNTA(I21:I85)+1 -> 59 | F14: =MIN(I21:I86) -> 41.92 | G14: =AVERAGE(I21:I86) -> 42.317586 | H14: 4 | I14: =G14-F14 -> 0.39758621 | J14: 0.14116304 | K14: =J14-J13 -> 0.030027396 | L14: =K14+L12 -> 0.079389815 | M14: 2:19.53
A15: Финиш | B15: Шутка Виталий | C15: 10 | D15: =COUNTA(J21:J85)+D14+1 -> 325 | E15: =COUNTA(J21:J85)+1 -> 52 | F15: =MIN(J21:J86) -> 41.95 | G15: =AVERAGE(J21:J86) -> 42.220196 | H15: 9 | I15: =G15-F15 -> 0.27019608 | J15: ='Общие результаты'!G6 -> 4:00:44 | K15: =J15-J14 -> 0.026012882 | L15: =K15+L13 -> 0.087786111 | N15: -5 | O15: против 13
F16: =AVERAGE(F8,F10,F11,F13,F15) -> 42.052 | G16: =AVERAGE(G8,G10,G11,G13,G15) -> 42.385524 | H16: Виталий | I16: =AVERAGE(I8,I10,I11,I13,I15) -> 0.3335243
F17: =AVERAGE(F9,F12,F14) -> 41.886667 | G17: =AVERAGE(G9,G12,G14) -> 42.323197 | H17: Таня | I17: =AVERAGE(I9,I12,I14) -> 0.43653006
F18: =AVERAGE(F8:F15) -> 41.99 | G18: =AVERAGE(C21:J90) -> 42.342327 | I18: =AVERAGE(I8:I15) -> 0.37215146
C20: =B8 -> Шутка Виталий | D20: =B9 -> Фортуна Таня | E20: =B10 -> Шутка Виталий | F20: =B11 -> Шутка Виталий | G20: =B12 -> Фортуна Таня | H20: =B13 -> Шутка Виталий | I20: =B14 -> Фортуна Таня | J20: =B15 -> Шутка Виталий
B21: 1 | C21: 45.81 | D21: 43.07 | E21: 43.72 | F21: 43.84 | G21: 43.18 | H21: 43.52 | I21: 45.98 | J21: 43.71
B22: 2 | C22: 44.59 | D22: 41.89 | E22: 42.59 | F22: 42.42 | G22: 42.51 | H22: 42.67 | I22: 42.51 | J22: 42.78
B23: 3 | C23: 43.11 | D23: 42.05 | E23: 42.74 | F23: 42.83 | G23: 42.23 | H23: 42.53 | I23: 42.32 | J23: 42.16
B24: 4 | C24: 42.99 | D24: 42.12 | E24: 42.48 | F24: 42.46 | G24: 42.17 | H24: 42.35 | I24: 42.17 | J24: 43
B25: 5 | C25: 42.03 | D25: 41.87 | E25: 42.47 | F25: 42.43 | G25: 42.32 | H25: 42.39 | I25: 42.16 | J25: 42.09
B26: 6 | C26: 42.03 | D26: 41.98 | E26: 42.55 | F26: 42.3 | G26: 42.41 | H26: 42.31 | I26: 42.05 | J26: 42.29
B27: 7 | C27: 41.9 | D27: 42.31 | E27: 42.42 | F27: 42.36 | G27: 42.2 | H27: 42.42 | I27: 42.08 | J27: 42.22
B28: 8 | C28: 41.88 | D28: 42.02 | E28: 42.18 | F28: 42.63 | G28: 42.15 | H28: 42.38 | I28: 41.96 | J28: 42.01
B29: 9 | C29: 41.98 | D29: 42.05 | E29: 42.19 | F29: 42.41 | G29: 42.24 | H29: 42.41 | I29: 42.09 | J29: 42.21
B30: 10 | C30: 42.01 | D30: 41.91 | E30: 42.21 | F30: 42.47 | G30: 42.15 | H30: 42.35 | I30: 43.09 | J30: 42.37
B31: 11 | C31: 41.92 | D31: 42.01 | E31: 42.33 | F31: 42.34 | G31: 42.1 | H31: 42.36 | I31: 42.22 | J31: 42.06
B32: 12 | C32: 42.06 | D32: 42.04 | E32: 42.32 | F32: 42.93 | G32: 42.1 | H32: 42.16 | I32: 42.01 | J32: 42.16
... B38: 18 | C38: 42.31 | D38: 41.92 | E38: 42.2 | F38: 42.53 | G38: 42.28 | H38: 42.29 | I38: 43.27 | J38: 42.13
B39: 19 | C39: 42.28 | D39: 41.92 | F39: 42.46 | G39: 42.14 | H39: 42.18 | I39: 43.16 | J39: 42.13
B40: 20 | C40: 42.23 | D40: 41.91 | F40: 42.22 | G40: 42.19 | H40: 42.36 | I40: 42.08 | J40: 42.11
B41: 21 | C41: 42.21 | D41: 42.06 | F41: 42.26 | G41: 42.48 | H41: 42.28 | I41: 42.83 | J41: 42.24
B42: 22 | C42: 42.18 | D42: 42.06 | F42: 42.46 | G42: 42.01 | H42: 42.14 | I42: 42.08 | J42: 42.13
B43: 23 | C43: 42.15 | D43: 59.33 | F43: 42.35 | G43: 42.17 | H43: 42.45 | I43: 41.92 | J43: 42.04
B44: 24 | C44: 42.2 | D44: 42.19 | F44: 42.54 | G44: 42.34 | H44: 42.65 | I44: 41.93 | J44: 42.22
B45: 25 | C45: 42.3 | D45: 42 | F45: 42.36 | G45: 42.33 | H45: 42.7 | I45: 42.1 | J45: 42.75
B46: 26 | C46: 42.05 | D46: 41.89 | F46: 42.45 | G46: 42.26 | I46: 42.11 | J46: 41.99
B47: 27 | C47: 42.14 | D47: 41.89 | F47: 42.36 | G47: 42.28 | I47: 42.12 | J47: 42.07
B48: 28 | C48: 41.93 | D48: 42.48 | F48: 42.38 | G48: 43.02 | I48: 42.14 | J48: 42.42
B49: 29 | C49: 42.27 | D49: 42 | F49: 42.33 | G49: 42.16 | I49: 42.09 | J49: 42.12
B50: 30 | C50: 42.05 | D50: 41.87 | F50: 42.79 | G50: 42.07 | I50: 42.27 | J50: 42.17
B51: 31 | D51: 41.88 | F51: 42.16 | G51: 42.23 | I51: 42.27 | J51: 42.06
B52: 32 | D52: 42.22 | F52: 42.25 | G52: 42.79 | I52: 42.29 | J52: 42.11
B53: 33 | D53: 42.01 | F53: 42.33 | G53: 42.22 | I53: 42.61 | J53: 42.46
B54: 34 | D54: 42.18 | F54: 42.36 | G54: 42.28 | I54: 42.17 | J54: 41.97
B55: 35 | D55: 41.8 | F55: 42.11 | G55: 42.26 | I55: 42.23 | J55: 41.95
B56: 36 | D56: 41.98 | G56: 42.38 | I56: 42.28 | J56: 42.14
B57: 37 | D57: 42.61 | G57: 42.27 | I57: 42.24 | J57: 42.16
B58: 38 | D58: 41.82 | G58: 42.34 | I58: 42.1 | J58: 42.16
B59: 39 | D59: 41.75 | G59: 42.28 | I59: 42.35 | J59: 42.31
B60: 40 | D60: 41.83 | G60: 41.99 | I60: 42.08 | J60: 42.19
B61: 41 | D61: 42.36 | G61: 42.16 | I61: 42.03 | J61: 42.24
B62: 42 | D62: 41.97 | G62: 42.28 | I62: 42.13 | J62: 42.47
B63: 43 | D63: 41.86 | G63: 42.06 | I63: 42.46 | J63: 42.32
B64: 44 | D64: 41.93 | G64: 42.08 | I64: 42.26 | J64: 42.27
B65: 45 | D65: 42.24 | G65: 42.16 | I65: 42.25 | J65: 42.14
B66: 46 | D66: 42.11 | I66: 42.36 | J66: 42.14
B67: 47 | D67: 42.16 | I67: 42.32 | J67: 42.16
B68: 48 | D68: 42.07 | I68: 42.25 | J68: 42.01
B69: 49 | D69: 42.06 | I69: 42.29 | J69: 41.98
B70: 50 | D70: 41.98 | I70: 42.23 | J70: 42
B71: 51 | D71: 42.23 | I71: 42.29 | J71: 42.23
B72: 52 | D72: 42.18 | I72: 42.21
B73: 53 | D73: 42.1 | I73: 42.39
B74: 54 | D74: 42.04 | I74: 42.19
B75: 55 | D75: 41.99 | I75: 42.24
B76: 56 | D76: 42.09 | I76: 42.33
B77: 57 | I77: 42.16
B78: 58 | I78: 42.07
B79: 59
B80: 60
B81: 61
B82: 62
B83: 63

Sheet Battle Master
A2: Чемпионат мини марафон "Большие Гонки", 10-й этап
A4: Battle Master
A6: Обяза-тельные | B6: Пилот | C6: карт | D6: Круг | E6: кругов на отрезке | F6: Статистика по кругам | J6: Общее время гонки | K6: Время на трассе
F7: Лучший круг | G7: Среднее на отрезке | H7: Кругов в 0,1 от лучшего | I7: стабильность | K7: отрезок | L7: всего у пилота | M7: Питы | N7: Штрафы/ бонусы (сек)
A8: 1 | B8: Звягин Григорий | C8: 5 | D8: =COUNTA(C21:C85) -> 22 | E8: =COUNTA(C21:C85) -> 22 | F8: =MIN(C21:C84) -> 42.03 | G8: =AVERAGE(C21:C87) -> 43.145455 | H8: 2 | I8: =G8-F8 -> 1.1154545 | J8: 0.011554097 | K8: =J8 -> 0.011554097 | L8: =K8 -> 0.011554097 | M8: 2:19.39
A9: 2 | B9: Звягин Григорий | C9: 11 | D9: =COUNTA(D21:D85)+D8+1 -> 82 | E9: =COUNTA(D21:D85)+1 -> 60 | F9: =MIN(D21:D84) -> 41.74 | G9: =AVERAGE(D21:D86) -> 42.12678 | H9: 1 | I9: =G9-F9 -> 0.38677966 | J9: 0.041967234 | K9: =J9-J8 -> 0.030413137 | L9: =K9+L8 -> 0.041967234 | M9: 2:28.71
A10: 3 | B10: Голубченко Саша | C10: 1 | D10: =COUNTA(E21:E85)+D9+1 -> 102 | E10: =COUNTA(E21:E85)+1 -> 20 | F10: =MIN(E21:E86) -> 42.17 | G10: =AVERAGE(E21:E87) -> 42.507895 | H10: 2 | I10: =G10-F10 -> 0.33789474 | J10: 0.053004676 | K10: =J10-J9 -> 0.011037442 | L10: =K10 -> 0.011037442 | M10: 1:57.03 | N10: -12-10 | O10: бонус за вес+передержали
A11: 4 | B11: Голубченко Саша | C11: 21 | D11: =COUNTA(F21:F85)+D10+1 -> 151 | E11: =COUNTA(F21:F85)+1 -> 49 | F11: =MIN(F21:F86) -> 41.87 | G11: =AVERAGE(F21:F86) -> 42.152083 | H11: 9 | I11: =G11-F11 -> 0.28208333 | J11: 0.077784387 | K11: =J11-J10 -> 0.024779711 | L11: =K11+L8 -> 0.036333808 | M11: 2:18.54
A12: 5 | B12: Звягин Григорий | C12: 2 | D12: =COUNTA(G21:G85)+D11+1 -> 206 | E12: =COUNTA(G21:G85)+1 -> 55 | F12: =MIN(G21:G86) -> 41.92 | G12: =AVERAGE(G21:G886) -> 42.214259 | H12: 3 | I12: =G12-F12 -> 0.29425926 | J12: 0.10578678 | K12: =J12-J11 -> 0.028002396 | L12: =K12+L9 -> 0.06996963 | M12: 2:26.75
A13: 6 | B13: Голубченко Саша | C13: 33 | D13: =COUNTA(H21:H85)+D12+1 -> 256 | E13: =COUNTA(H21:H85)+1 -> 50 | F13: =MIN(H21:H86) -> 42.24 | G13: =AVERAGE(H21:H86) -> 42.619388 | H13: 3 | I13: =G13-F13 -> 0.37938776 | J13: 0.13165955 | K13: =J13-J12 -> 0.025872766 | L13: =K13+L11 -> 0.062206574 | M13: 2:14.67 | N13: -5 | O13: передержали
A14: 7 | B14: Звягин Григорий | C14: 13 | D14: =COUNTA(I21:I85)+D13+1 -> 274 | E14: =COUNTA(I21:I85)+1 -> 18 | F14: =MIN(I21:I86) -> 42.14 | G14: =AVERAGE(I21:I86) -> 42.319412 | H14: 4 | I14: =G14-F14 -> 0.17941176 | J14: 0.14153031 | K14: =J14-J13 -> 0.0098707639 | L14: =K14+L12 -> 0.079840394 | M14: 2:19.88
A15: Финиш | B15: Голубченко Саша | C15: 2 | D15: =COUNTA(J21:J85)+D14+1 -> 326 | E15: =COUNTA(J21:J85)+1 -> 52 | F15: =MIN(J21:J86) -> 42.02 | G15: =AVERAGE(J21:J86) -> 42.288039 | H15: 8 | I15: =G15-F15 -> 0.26803922 | J15: ='Общие результаты'!G6 -> 4:00:44 | K15: =J15-J14 -> 0.025645613 | L15: =K15+L13 -> 0.087852187 | N15: +10+5 | O15: вес+лимит
F16: =AVERAGE(F8,F9,F12,F14) -> 41.9575 | G16: =AVERAGE(G8,G9,G12,G14) -> 42.451476 | H16: Гриша | I16: =AVERAGE(I8,I9,I12,I14) -> 0.49397631
F17: =AVERAGE(F10,F11,F13,F15) -> 42.075 | G17: =AVERAGE(G10,G11,G13,G15) -> 42.391851 | H17: Саша | I17: =AVERAGE(I10,I11,I13,I15) -> 0.31685126
F18: =AVERAGE(F8:F15) -> 42.01625 | G18: =AVERAGE(C21:J90) -> 42.350063 | I18: =AVERAGE(I8:I15) -> 0.40541378
C20: =B8 -> Звягин Григорий | D20: =B9 -> Звягин Григорий | E20: =B10 -> Голубченко Саша | F20: =B11 -> Голубченко Саша | G20: =B12 -> Звягин Григорий | H20: =B13 -> Голубченко Саша | I20: =B14 -> Звягин Григорий | J20: =B15 -> Голубченко Саша
B21: 1 | C21: 45.31 | D21: 43.21 | E21: 43.14 | F21: 43.12 | G21: 42.92 | H21: 44.96 | I21: 42.98 | J21: 43.59
B22: 2 | C22: 45.01 | D22: 41.92 | E22: 42.46 | F22: 41.89 | G22: 42.3 | H22: 43.07 | I22: 42.34 | J22: 42.52
B23: 3 | C23: 44.09 | D23: 42.09 | E23: 42.41 | F23: 42.16 | G23: 42.17 | H23: 42.89 | I23: 42.25 | J23: 42.85
B24: 4 | C24: 43.15 | D24: 41.94 | E24: 42.49 | F24: 42.05 | G24: 42.09 | H24: 42.8 | I24: 42.2 | J24: 42.14
B25: 5 | C25: 43.83 | D25: 42.1 | E25: 42.4 | F25: 42.37 | G25: 42.16 | H25: 42.63 | I25: 42.42 | J25: 42.37
B26: 6 | C26: 42.67 | D26: 42.11 | E26: 42.41 | F26: 41.92 | G26: 42.16 | H26: 42.59 | I26: 42.4 | J26: 42.47
B27: 7 | C27: 44.04 | D27: 41.93 | E27: 42.28 | F27: 42.2 | G27: 42.64 | H27: 42.77 | I27: 42.2 | J27: 42.27
B28: 8 | C28: 42.16 | D28: 41.99 | E28: 42.39 | F28: 42.23 | G28: 42.22 | H28: 42.69 | I28: 42.33 | J28: 42.47
B29: 9 | C29: 42.72 | D29: 42.14 | E29: 42.51 | F29: 41.94 | G29: 42.48 | H29: 42.93 | I29: 42.29 | J29: 42.15
B30: 10 | C30: 44.3 | D30: 41.94 | E30: 42.38 | F30: 42.08 | G30: 42.03 | H30: 42.59 | I30: 42.14 | J30: 42.24
B31: 11 | C31: 42.82 | D31: 42.12 | E31: 42.17 | F31: 42.03 | G31: 42.08 | H31: 42.85 | I31: 42.33 | J31: 42.18
B32: 12 | C32: 44.67 | D32: 42.01 | E32: 42.87 | F32: 42.68 | G32: 41.94 | H32: 42.69 | I32: 42.32 | J32: 42.25
... B37: 17 | C37: 42.15 | D37: 41.98 | E37: 42.28 | F37: 42.05 | G37: 42.03 | H37: 42.34 | I37: 42.28 | J37: 42.23
B38: 18 | C38: 42.03 | D38: 41.86 | E38: 42.31 | F38: 42.15 | G38: 42.27 | H38: 42.39 | J38: 42.32
B39: 19 | C39: 42.41 | D39: 42.26 | E39: 42.99 | F39: 42.07 | G39: 42.01 | H39: 42.46 | J39: 42.19
B40: 20 | C40: 42.13 | D40: 42.18 | F40: 42.07 | G40: 42.03 | H40: 42.71 | J40: 42.44
B41: 21 | C41: 42.63 | D41: 42.3 | F41: 41.92 | G41: 42.04 | H41: 42.38 | J41: 42.13
B42: 22 | C42: 43.21 | D42: 41.78 | F42: 41.98 | G42: 42.69 | H42: 42.43 | J42: 42.12
B43: 23 | D43: 41.87 | F43: 41.94 | G43: 42.38 | H43: 43.33 | J43: 42.24
B44: 24 | D44: 41.88 | F44: 41.98 | G44: 42.63 | H44: 42.65 | J44: 42.19
B45: 25 | D45: 41.74 | F45: 41.95 | G45: 42.24 | H45: 42.24 | J45: 42.35
B46: 26 | D46: 42.1 | F46: 41.92 | G46: 42.26 | H46: 42.38 | J46: 42.14
B47: 27 | D47: 41.97 | F47: 42.04 | G47: 42.18 | H47: 42.41 | J47: 42.55
B48: 28 | D48: 41.96 | F48: 42.07 | G48: 42.05 | H48: 42.49 | J48: 42.11
B49: 29 | D49: 42.01 | F49: 42.02 | G49: 42.07 | H49: 42.47 | J49: 42.48
B50: 30 | D50: 41.9 | F50: 42.12 | G50: 41.92 | H50: 42.3 | J50: 42.05
B51: 31 | D51: 42.29 | F51: 42.07 | G51: 42.05 | H51: 42.46 | J51: 42.14
B52: 32 | D52: 42.51 | F52: 42.15 | G52: 42.05 | H52: 42.4 | J52: 42.04
B53: 33 | D53: 41.98 | F53: 42.25 | G53: 42.23 | H53: 42.39 | J53: 42.25
B54: 34 | D54: 42.02 | F54: 42.11 | G54: 42.1 | H54: 42.28 | J54: 42.76
... B68: 48 | D68: 42.14 | F68: 41.97 | G68: 42.2 | H68: 42.47 | J68: 42.16
B69: 49 | D69: 42.44 | G69: 42.27 | H69: 42.52 | J69: 42.22
B70: 50 | D70: 42.04 | G70: 42.2 | J70: 42.17
B71: 51 | D71: 41.9 | G71: 42.11 | J71: 42.23
B72: 52 | D72: 42.06 | G72: 42.16
B73: 53 | D73: 42.83 | G73: 42.17
B74: 54 | D74: 42.2 | G74: 42.09
B75: 55 | D75: 42.17
B76: 56 | D76: 42.2
B77: 57 | D77: 42
B78: 58 | D78: 42.16
B79: 59 | D79: 43.74
B80: 60
B81: 61
B82: 62
B83: 63

Sheet Winni
A2: Чемпионат мини марафон "Большие Гонки", 10-й этап
A4: Winni
A6: Обяза-тельные | B6: Пилот | C6: карт | D6: Круг | E6: кругов на отрезке | F6: Статистика по кругам | J6: Общее время гонки | K6: Время на трассе
F7: Лучший круг | G7: Среднее на отрезке | H7: Кругов в 0,1 от лучшего | I7: стабильность | K7: отрезок | L7: всего у пилота | M7: Питы | N7: Штрафы/ бонусы (сек)
A8: 1 | B8: Гобади Авеста | C8: 4 | D8: =COUNTA(C21:C85) -> 23 | E8: =COUNTA(C21:C85) -> 23 | F8: =MIN(C21:C84) -> 42.21 | G8: =AVERAGE(C21:C87) -> 43.152609 | H8: 3 | I8: =G8-F8 -> 0.9426087 | J8: 0.012048611 | K8: =J8 -> 0.012048611 | L8: =K8 -> 0.012048611 | M8: 2:20.09
A9: 2 | B9: Бахмацкий Олег | C9: 15 | D9: =COUNTA(D21:D85)+D8+1 -> 82 | E9: =COUNTA(D21:D85)+1 -> 59 | F9: =MIN(D21:D84) -> 41.73 | G9: =AVERAGE(D21:D86) -> 42.034655 | H9: 5 | I9: =G9-F9 -> 0.30465517 | J9: 0.041887153 | K9: =J9-J8 -> 0.029838542 | L9: =K9 -> 0.029838542 | M9: 2:19.74
A10: 3 | B10: Гобади Авеста | C10: 14 | D10: =COUNTA(E21:E85)+D9+1 -> 133 | E10: =COUNTA(E21:E85)+1 -> 51 | F10: =MIN(E21:E86) -> 41.98 | G10: =AVERAGE(E21:E87) -> 42.2532 | H10: 5 | I10: =G10-F10 -> 0.2732 | J10: 0.067962025 | K10: =J10-J9 -> 0.026074873 | L10: =K10+L8 -> 0.038123484 | M10: 2:20.08
A11: 4 | B11: Бахмацкий Олег | C11: 6 | D11: =COUNTA(F21:F85)+D10+1 -> 191 | E11: =COUNTA(F21:F85)+1 -> 58 | F11: =MIN(F21:F86) -> 41.88 | G11: =AVERAGE(F21:F86) -> 42.177719 | H11: 10 | I11: =G11-F11 -> 0.2977193 | J11: 0.097430556 | K11: =J11-J10 -> 0.02946853 | L11: =K11+L9 -> 0.059307072 | M11: 2:33.58
A12: 5 | B12: Гобади Авеста | C12: 18 | D12: =COUNTA(G21:G85)+D11+1 -> 217 | E12: =COUNTA(G21:G85)+1 -> 26 | F12: =MIN(G21:G86) -> 42.13 | G12: =AVERAGE(G21:G886) -> 42.5268 | H12: 6 | I12: =G12-F12 -> 0.3968 | J12: 0.111496 | K12: =J12-J11 -> 0.01406544 | L12: =K12+L10 -> 0.052188924 | M12: 2:29.44 | N12: +10 | O12: провоз
A13: 6 | B13: Гобади Авеста | C13: 69 | D13: =COUNTA(H21:H85)+D12+1 -> 264 | E13: =COUNTA(H21:H85)+1 -> 47 | F13: =MIN(H21:H86) -> 42.01 | G13: =AVERAGE(H21:H86) -> 42.411739 | H13: 9 | I13: =G13-F13 -> 0.40173913 | J13: 0.1358039 | K13: =J13-J12 -> 0.024307905 | L13: =K13+L12 -> 0.076496829 | M13: 2:19.26
A14: 7 | B14: Бахмацкий Олег | C14: 33 | D14: =COUNTA(I21:I85)+D13+1 -> 289 | E14: =COUNTA(I21:I85)+1 -> 25 | F14: =MIN(I21:I86) -> 42.1 | G14: =AVERAGE(I21:I86) -> 42.432917 | H14: 3 | I14: =G14-F14 -> 0.33291667 | J14: 0.14921554 | K14: =J14-J13 -> 0.013411644 | L14: =K14+L11 -> 0.072718715 | M14: 2:29.39 | N14: +10 | O14: продбивание
A15: Финиш | B15: Бахмацкий Олег | C15: 11 | D15: =COUNTA(J21:J85)+D14+1 -> 325 | E15: =COUNTA(J21:J85)+1 -> 36 | F15: =MIN(J21:J86) -> 41.98 | G15: =AVERAGE(J21:J86) -> 42.308857 | H15: 4 | I15: =G15-F15 -> 0.32885714 | J15: ='Общие результаты'!G6 -> 4:00:44 | K15: =J15-J14 -> 0.017960382 | L15: =K15+L14 -> 0.090679097 | N15: -11 | O15: передержали
F16: =AVERAGE(F8,F10,F12,F13) -> 42.0825 | G16: =AVERAGE(G8,G10,G12,G13) -> 42.586087 | H16: Авеста | I16: =AVERAGE(I8,I10,I12,I13) -> 0.50358696
F17: =AVERAGE(F9,F11,F14,F15) -> 41.9225 | G17: =AVERAGE(G9,G11,G14,G15) -> 42.238537 | H17: Олег | I17: =AVERAGE(I9,I11,I14,I15) -> 0.31603707
F18: =AVERAGE(F8:F15) -> 42.0025 | G18: =AVERAGE(C21:J90) -> 42.328994 | I18: =AVERAGE(I8:I15) -> 0.40981201
C20: =B8 -> Гобади Авеста | D20: =B9 -> Бахмацкий Олег | E20: =B10 -> Гобади Авеста | F20: =B11 -> Бахмацкий Олег | G20: =B12 -> Гобади Авеста | H20: =B13 -> Гобади Авеста | I20: =B14 -> Бахмацкий Олег | J20: =B15 -> Бахмацкий Олег
B21: 1 | C21: 45.2 | D21: 42.81 | E21: 43.64 | F21: 43.04 | G21: 43.46 | H21: 43.13 | I21: 44.24 | J21: 43.4
B22: 2 | C22: 44.96 | D22: 42.11 | E22: 42.66 | F22: 42.31 | G22: 42.68 | H22: 42.36 | I22: 42.66 | J22: 42.79
B23: 3 | C23: 43.63 | D23: 42.21 | E23: 42.31 | F23: 42.13 | G23: 42.54 | H23: 42.32 | I23: 42.33 | J23: 42.3
B24: 4 | C24: 43.66 | D24: 42.2 | E24: 42.34 | F24: 42.07 | G24: 43.16 | H24: 42.17 | I24: 42.3 | J24: 42.27
B25: 5 | C25: 42.76 | D25: 42.29 | E25: 42.2 | F25: 42.14 | G25: 42.35 | H25: 42.02 | I25: 42.37 | J25: 42.52
B26: 6 | C26: 43.13 | D26: 42.08 | E26: 42.12 | F26: 42.87 | G26: 42.34 | H26: 43.2 | I26: 42.36 | J26: 41.98
B27: 7 | C27: 44.53 | D27: 41.98 | E27: 42 | F27: 42.47 | G27: 42.39 | H27: 42.37 | I27: 42.35 | J27: 42.35
B28: 8 | C28: 42.75 | D28: 41.94 | E28: 42.14 | F28: 42.11 | G28: 43.02 | H28: 42.85 | I28: 42.1 | J28: 42.11
B29: 9 | C29: 42.82 | D29: 42.12 | E29: 42.09 | F29: 42.33 | G29: 42.45 | H29: 42.31 | I29: 42.45 | J29: 42.26
B30: 10 | C30: 44.17 | D30: 41.99 | E30: 42.15 | F30: 42.14 | G30: 42.44 | H30: 43.37 | I30: 42.39 | J30: 42.19
B31: 11 | C31: 42.84 | D31: 41.98 | E31: 42.59 | F31: 42.1 | G31: 42.48 | H31: 42.48 | I31: 42.45 | J31: 42.49
B32: 12 | C32: 44.37 | D32: 42.08 | E32: 42.07 | F32: 42.22 | G32: 42.14 | H32: 42.32 | I32: 42.56 | J32: 42.14
... B43: 23 | C43: 42.24 | D43: 42.1 | E43: 42.22 | F43: 42.04 | G43: 43.07 | H43: 42.09 | I43: 42.42 | J43: 42.06
B44: 24 | D44: 41.8 | E44: 42.17 | F44: 42.09 | G44: 42.48 | H44: 42.05 | I44: 42.46 | J44: 42.3
B45: 25 | D45: 41.88 | E45: 42.18 | F45: 42.11 | G45: 43.37 | H45: 42.22 | J45: 42.25
B46: 26 | D46: 42.32 | E46: 42.16 | F46: 42.12 | H46: 42.1 | J46: 42.24
B47: 27 | D47: 42.06 | E47: 42.22 | F47: 42.5 | H47: 42.01 | J47: 42.24
B48: 28 | D48: 41.91 | E48: 42.22 | F48: 42.11 | H48: 42.11 | J48: 42.01
B49: 29 | D49: 41.88 | E49: 42.24 | F49: 42 | H49: 42.21 | J49: 42.15
B50: 30 | D50: 42.34 | E50: 42.31 | F50: 41.91 | H50: 42.08 | J50: 42.55
B51: 31 | D51: 42.1 | E51: 42.39 | F51: 41.88 | H51: 42.22 | J51: 42.69
B52: 32 | D52: 41.88 | E52: 42.66 | F52: 42.14 | H52: 43.13 | J52: 42.18
B53: 33 | D53: 41.93 | E53: 42.39 | F53: 41.93 | H53: 43.57 | J53: 42.37
B54: 34 | D54: 41.97 | E54: 42.23 | F54: 41.94 | H54: 42.08 | J54: 42.06
B55: 35 | D55: 42.53 | E55: 42.27 | F55: 41.92 | H55: 42.21 | J55: 42.07
B56: 36 | D56: 41.83 | E56: 42.12 | F56: 42.26 | H56: 42.22
B57: 37 | D57: 41.97 | E57: 42 | F57: 42.4 | H57: 42.04
B58: 38 | D58: 41.76 | E58: 42.1 | F58: 42.06 | H58: 42.14
B59: 39 | D59: 42.22 | E59: 42.11 | F59: 41.99 | H59: 42.07
B60: 40 | D60: 41.94 | E60: 41.98 | F60: 41.92 | H60: 42.24
B61: 41 | D61: 41.73 | E61: 42.36 | F61: 42.09 | H61: 42.18
B62: 42 | D62: 41.79 | E62: 42.19 | F62: 41.97 | H62: 42.13
B63: 43 | D63: 41.79 | E63: 42.21 | F63: 42.1 | H63: 42.19
B64: 44 | D64: 42.24 | E64: 42.1 | F64: 42.17 | H64: 42.11
B65: 45 | D65: 41.97 | E65: 42.3 | F65: 41.92 | H65: 42.16
B66: 46 | D66: 41.97 | E66: 42.06 | F66: 42.17 | H66: 42.44
B67: 47 | D67: 41.92 | E67: 42.34 | F67: 42.08
B68: 48 | D68: 42.33 | E68: 42.34 | F68: 42.21
B69: 49 | D69: 42.16 | E69: 42.17 | F69: 42.07
B70: 50 | D70: 41.97 | E70: 42.37 | F70: 41.96
B71: 51 | D71: 41.81 | F71: 42.07
B72: 52 | D72: 42.03 | F72: 42.82
B73: 53 | D73: 41.83 | F73: 42.87
B74: 54 | D74: 41.89 | F74: 42.19
B75: 55 | D75: 42.25 | F75: 42.21
B76: 56 | D76: 41.96 | F76: 42.18
B77: 57 | D77: 41.95 | F77: 42.32
B78: 58 | D78: 41.95
B79: 59
B80: 60
B81: 61
B82: 62
B83: 63

Sheet Wasp
A2: Чемпионат мини марафон "Большие Гонки", 10-й этап
A4: Wasp
A6: Обяза-тельные | B6: Пилот | C6: карт | D6: Круг | E6: кругов на отрезке | F6: Статистика по кругам | J6: Общее время гонки | K6: Время на трассе
F7: Лучший круг | G7: Среднее на отрезке | H7: Кругов в 0,1 от лучшего | I7: стабильность | K7: отрезок | L7: всего у пилота | M7: Питы | N7: Штрафы/ бонусы (сек)
A8: 1 | B8: Василевский Александр | C8: 6 | D8: =COUNTA(C21:C85) -> 35 | E8: =COUNTA(C21:C85) -> 35 | F8: =MIN(C21:C84) -> 41.98 | G8: =AVERAGE(C21:C87) -> 42.308857 | H8: 4 | I8: =G8-F8 -> 0.32885714 | J8: 0.014848981 | K8: =J8 -> 0.014848981 | L8: =K8 -> 0.014848981 | M8: 2:18.60
A9: 2 | B9: Швец Денис | C9: 33 | D9: =COUNTA(D21:D85)+D8+1 -> 90 | E9: =COUNTA(D21:D85)+1 -> 55 | F9: =MIN(D21:D84) -> 42.38 | G9: =AVERAGE(D21:D86) -> 42.944074 | H9: 0 | I9: =G9-F9 -> 0.56407407 | J9: 0.042966262 | K9: =J9-J8 -> 0.02811728 | L9: =K9 -> 0.02811728 | M9: 1:54.73
A10: 3 | B10: Василевский Александр | C10: 10 | D10: =COUNTA(E21:E85)+D9+1 -> 150 | E10: =COUNTA(E21:E85)+1 -> 60 | F10: =MIN(E21:E86) -> 41.88 | G10: =AVERAGE(E21:E87) -> 42.290339 | H10: 6 | I10: =G10-F10 -> 0.41033898 | J10: 0.073524988 | K10: =J10-J9 -> 0.030558727 | L10: =K10+L8 -> 0.045407708 | M10: 2:20.19
A11: 4 | B11: Швец Денис | C11: 14 | D11: =COUNTA(F21:F85)+D10+1 -> 182 | E11: =COUNTA(F21:F85)+1 -> 32 | F11: =MIN(F21:F86) -> 42.16 | G11: =AVERAGE(F21:F86) -> 42.402903 | H11: 6 | I11: =G11-F11 -> 0.24290323 | J11: 0.090348738 | K11: =J11-J10 -> 0.01682375 | L11: =K11+L9 -> 0.04494103 | M11: 2:30.25 | N11: +10 | O11: вес
A12: 5 | B12: Василевский Александр | C12: 9 | D12: =COUNTA(G21:G85)+D11+1 -> 218 | E12: =COUNTA(G21:G85)+1 -> 36 | F12: =MIN(G21:G86) -> 42.02 | G12: =AVERAGE(G21:G886) -> 42.510571 | H12: 5 | I12: =G12-F12 -> 0.49057143 | J12: 0.10932454 | K12: =J12-J11 -> 0.018975799 | L12: =K12+L10 -> 0.064383507 | M12: 2:19.09
A13: 6 | B13: Швец Денис | C13: 2 | D13: =COUNTA(H21:H85)+D12+1 -> 262 | E13: =COUNTA(H21:H85)+1 -> 44 | F13: =MIN(H21:H86) -> 42.1 | G13: =AVERAGE(H21:H86) -> 42.383721 | H13: 5 | I13: =G13-F13 -> 0.28372093 | J13: 0.13201962 | K13: =J13-J12 -> 0.022695081 | L13: =K13+L11 -> 0.067636111 | M13: 2:20.12
A14: 7 | B14: Василевский Александр | C14: 7 | D14: =COUNTA(I21:I85)+D13+1 -> 307 | E14: =COUNTA(I21:I85)+1 -> 45 | F14: =MIN(I21:I86) -> 42.07 | G14: =AVERAGE(I21:I86) -> 42.346364 | H14: 4 | I14: =G14-F14 -> 0.27636364 | J14: 0.15519566 | K14: =J14-J13 -> 0.023176042 | L14: =K14+L12 -> 0.087559549 | M14: 2:19.12
A15: Финиш | B15: Швец Денис | C15: 33 | D15: =COUNTA(J21:J85)+D14+1 -> 330 | E15: =COUNTA(J21:J85)+1 -> 23 | F15: =MIN(J21:J86) -> 42.62 | G15: =AVERAGE(J21:J86) -> 43.065455 | H15: 2 | I15: =G15-F15 -> 0.44545455 | J15: ='Общие результаты'!G6 -> 4:00:44 | K15: =J15-J14 -> 0.011980266 | L15: =K15+L13 -> 0.079616377 | N15: +25 | O15: недодержали на 2 пите
F16: =AVERAGE(F8,F10,F12,F14) -> 41.9875 | G16: =AVERAGE(G8,G10,G12,G14) -> 42.364033 | H16: Саша | I16: =AVERAGE(I8,I10,I12,I14) -> 0.3765328
F17: =AVERAGE(F9,F11,F13,F15) -> 42.315 | G17: =AVERAGE(G9,G11,G13,G15) -> 42.699038 | H17: Денис | I17: =AVERAGE(I9,I11,I13,I15) -> 0.38403819
F18: =AVERAGE(F8:F15) -> 42.15125 | G18: =AVERAGE(C21:J90) -> 42.509164 | I18: =AVERAGE(I8:I15) -> 0.3802855
C20: =B8 -> Василевский Александр | D20: =B9 -> Швец Денис | E20: =B10 -> Василевский Александр | F20: =B11 -> Швец Денис | G20: =B12 -> Василевский Александр | H20: =B13 -> Швец Денис | I20: =B14 -> Василевский Александр | J20: =B15 -> Швец Денис
B21: 1 | C21: 43.4 | D21: 44.85 | E21: 43.36 | F21: 43.8 | G21: 44.51 | H21: 42.95 | I21: 43.06 | J21: 43.98
B22: 2 | C22: 42.79 | D22: 42.91 | E22: 42.54 | F22: 42.66 | G22: 42.34 | H22: 42.35 | I22: 42.51 | J22: 43.75
B23: 3 | C23: 42.3 | D23: 42.85 | E23: 42.24 | F23: 42.62 | G23: 42.02 | H23: 42.2 | I23: 42.38 | J23: 43
B24: 4 | C24: 42.27 | D24: 42.81 | E24: 42.41 | F24: 42.32 | G24: 42.26 | H24: 42.36 | I24: 42.43 | J24: 43.01
B25: 5 | C25: 42.52 | D25: 42.66 | E25: 42.27 | F25: 42.29 | G25: 42.22 | H25: 42.27 | I25: 42.3 | J25: 43.23
B26: 6 | C26: 41.98 | D26: 42.79 | E26: 42.42 | F26: 42.17 | G26: 42.33 | H26: 42.3 | I26: 42.58 | J26: 43.05
B27: 7 | C27: 42.35 | D27: 42.9 | E27: 42.11 | F27: 42.36 | G27: 42.2 | H27: 42.1 | I27: 42.33 | J27: 42.9
B28: 8 | C28: 42.11 | D28: 43 | E28: 42.21 | F28: 42.48 | G28: 42.42 | H28: 42.44 | I28: 42.25 | J28: 42.71
B29: 9 | C29: 42.26 | D29: 43.12 | E29: 42.38 | F29: 42.56 | G29: 42.36 | H29: 42.36 | I29: 42.26 | J29: 43.04
B30: 10 | C30: 42.19 | D30: 42.83 | E30: 42.49 | F30: 42.27 | G30: 42.11 | H30: 42.56 | I30: 42.29 | J30: 42.94
B31: 11 | C31: 42.49 | D31: 42.7 | E31: 42.23 | F31: 42.37 | G31: 44.11 | H31: 42.19 | I31: 42.35 | J31: 42.96
B32: 12 | C32: 42.14 | D32: 43.5 | E32: 42.25 | F32: 42.23 | G32: 42.42 | H32: 42.26 | I32: 42.35 | J32: 43.09
... B42: 22 | C42: 42.12 | D42: 42.61 | E42: 42.08 | F42: 42.39 | G42: 42.17 | H42: 42.19 | I42: 42.38 | J42: 42.83
B43: 23 | C43: 42.06 | D43: 42.68 | E43: 42.06 | F43: 42.2 | G43: 42.23 | H43: 42.59 | I43: 42.37
B44: 24 | C44: 42.3 | D44: 43.07 | E44: 42.18 | F44: 42.29 | G44: 42.09 | H44: 42.73 | I44: 42.27
B45: 25 | C45: 42.25 | D45: 42.75 | E45: 41.9 | F45: 42.3 | G45: 43.22 | H45: 42.25 | I45: 42.26
B46: 26 | C46: 42.24 | D46: 43.82 | E46: 41.97 | F46: 42.31 | G46: 42.46 | H46: 42.98 | I46: 42.35
B47: 27 | C47: 42.24 | D47: 42.72 | E47: 42.2 | F47: 42.47 | G47: 42.39 | H47: 42.3 | I47: 42.11
B48: 28 | C48: 42.01 | D48: 42.69 | E48: 42.65 | F48: 42.54 | G48: 42.34 | H48: 42.34 | I48: 42.07
B49: 29 | C49: 42.15 | D49: 42.65 | E49: 42.17 | F49: 42.35 | G49: 42.14 | H49: 42.39 | I49: 42.22
B50: 30 | C50: 42.55 | D50: 42.68 | E50: 42.12 | F50: 42.47 | G50: 42.3 | H50: 43.04 | I50: 42.15
B51: 31 | C51: 42.69 | D51: 42.82 | E51: 42.11 | F51: 42.23 | G51: 42.11 | H51: 42.33 | I51: 42.41
B52: 32 | C52: 42.18 | D52: 42.38 | E52: 41.9 | G52: 42.28 | H52: 42.35 | I52: 42.38
B53: 33 | C53: 42.37 | D53: 42.77 | E53: 41.92 | G53: 42.84 | H53: 42.4 | I53: 42.28
B54: 34 | C54: 42.06 | D54: 43.82 | E54: 42.15 | G54: 42.63 | H54: 42.24 | I54: 42.23
B55: 35 | C55: 42.07 | D55: 42.89 | E55: 42.05 | G55: 42.28 | H55: 42.33 | I55: 42.26
B56: 36 | D56: 42.51 | E56: 42.4 | H56: 42.33 | I56: 42.57
B57: 37 | D57: 43.3 | E57: 42.03 | H57: 42.45 | I57: 42.46
B58: 38 | D58: 43.55 | E58: 41.88 | H58: 42.27 | I58: 42.52
B59: 39 | D59: 42.55 | E59: 42.12 | H59: 42.85 | I59: 42.39
B60: 40 | D60: 42.75 | E60: 43.77 | H60: 42.31 | I60: 42.14
B61: 41 | D61: 42.98 | E61: 42.19 | H61: 42.14 | I61: 42.42
B62: 42 | D62: 43.35 | E62: 42.04 | H62: 42.27 | I62: 42.32
B63: 43 | D63: 42.55 | E63: 41.97 | H63: 42.24 | I63: 42.24
B64: 44 | D64: 42.59 | E64: 42.16 | I64: 42.63
B65: 45 | D65: 43.32 | E65: 42.03
B66: 46 | D66: 43.48 | E66: 41.89
B67: 47 | D67: 42.63 | E67: 42.1
B68: 48 | D68: 42.66 | E68: 42.45
B69: 49 | D69: 42.75 | E69: 42.5
B70: 50 | D70: 42.65 | E70: 42.21
B71: 51 | D71: 42.83 | E71: 42.49
B72: 52 | D72: 42.87 | E72: 42.41
B73: 53 | D73: 43.18 | E73: 42.13
B74: 54 | D74: 43.19 | E74: 42.14
B75: 55 | E75: 42.35
B76: 56 | E76: 42.17
B77: 57 | E77: 42.74
B78: 58 | E78: 42.06
B79: 59 | E79: 42.76
B80: 60
B81: 61
B82: 62
B83: 63

Sheet G.A.T
A2: Чемпионат мини марафон "Большие Гонки", 10-й этап
A4: G.A.T
A6: Обяза-тельные | B6: Пилот | C6: карт | D6: Круг | E6: кругов на отрезке | F6: Статистика по кругам | J6: Общее время гонки | K6: Время на трассе
F7: Лучший круг | G7: Среднее на отрезке | H7: Кругов в 0,1 от лучшего | I7: стабильность | K7: отрезок | L7: всего у пилота | M7: Питы | N7: Штрафы/ бонусы (сек)
A8: 1 | B8: Геронимус Костя | C8: 14 | D8: =COUNTA(C21:C85) -> 37 | E8: =COUNTA(C21:C85) -> 37 | F8: =MIN(C21:C84) -> 41.82 | G8: =AVERAGE(C21:C87) -> 42.474595 | H8: 3 | I8: =G8-F8 -> 0.65459459 | J8: 0.018764931 | K8: =J8 -> 0.018764931 | L8: =K8 -> 0.018764931 | M8: 2:20.30
A9: 2 | B9: Геронимус Костя | C9: 7 | D9: =COUNTA(D21:D85)+D8+1 -> 92 | E9: =COUNTA(D21:D85)+1 -> 55 | F9: =MIN(D21:D84) -> 41.73 | G9: =AVERAGE(D21:D86) -> 42.249444 | H9: 3 | I9: =G9-F9 -> 0.51944444 | J9: 0.046792118 | K9: =J9-J8 -> 0.028027187 | L9: =K9+L8 -> 0.046792118 | M9: 2:18.72
A10: 3 | B10: Любина Елена | C10: 69 | D10: =COUNTA(E21:E85)+D9+1 -> 152 | E10: =COUNTA(E21:E85)+1 -> 60 | F10: =MIN(E21:E86) -> 41.87 | G10: =AVERAGE(E21:E87) -> 42.345424 | H10: 3 | I10: =G10-F10 -> 0.47542373 | J10: 0.07733397 | K10: =J10-J9 -> 0.030541852 | L10: =K10 -> 0.030541852 | M10: 2:20.96
A11: 4 | B11: Геронимус Костя | C11: 5 | D11: =COUNTA(F21:F85)+D10+1 -> 175 | E11: =COUNTA(F21:F85)+1 -> 23 | F11: =MIN(F21:F86) -> 42.36 | G11: =AVERAGE(F21:F86) -> 42.757727 | H11: 3 | I11: =G11-F11 -> 0.39772727 | J11: 0.089846481 | K11: =J11-J10 -> 0.012512512 | L11: =K11+L9 -> 0.05930463 | M11: 2:19.08
A12: 5 | B12: Любина Елена | C12: 1 | D12: =COUNTA(G21:G85)+D11+1 -> 204 | E12: =COUNTA(G21:G85)+1 -> 29 | F12: =MIN(G21:G86) -> 42.09 | G12: =AVERAGE(G21:G886) -> 42.817857 | H12: 0 | I12: =G12-F12 -> 0.72785714 | J12: 0.10535193 | K12: =J12-J11 -> 0.015505451 | L12: =K12+L10 -> 0.046047303 | M12: 2:22.08
A13: 6 | B13: Геронимус Костя | C13: 7 | D13: =COUNTA(H21:H85)+D12+1 -> 247 | E13: =COUNTA(H21:H85)+1 -> 43 | F13: =MIN(H21:H86) -> 42.21 | G13: =AVERAGE(H21:H86) -> 42.546429 | H13: 7 | I13: =G13-F13 -> 0.33642857 | J13: 0.12767765 | K13: =J13-J12 -> 0.022325718 | L13: =K13+L11 -> 0.081630347 | M13: 2:25.76 | N13: +5 | O13: линия
A14: 7 | B14: Любина Елена | C14: 44 | D14: =COUNTA(I21:I85)+D13+1 -> 291 | E14: =COUNTA(I21:I85)+1 -> 44 | F14: =MIN(I21:I86) -> 42.41 | G14: =AVERAGE(I21:I86) -> 42.99093 | H14: 1 | I14: =G14-F14 -> 0.58093023 | J14: 0.15074873 | K14: =J14-J13 -> 0.023071076 | L14: =K14+L12 -> 0.06911838 | M14: 2:19.96
A15: Финиш | B15: Любина Елена | C15: 16 | D15: =COUNTA(J21:J85)+D14+1 -> 323 | E15: =COUNTA(J21:J85)+1 -> 32 | F15: =MIN(J21:J86) -> 42.01 | G15: =AVERAGE(J21:J86) -> 42.567742 | H15: 0 | I15: =G15-F15 -> 0.55774194 | J15: ='Общие результаты'!G6 -> 4:00:44 | K15: =J15-J14 -> 0.016427199 | L15: =K15+L14 -> 0.085545579
F16: =AVERAGE(F8,F9,F11,F13) -> 42.03 | G16: =AVERAGE(G8,G9,G11,G13) -> 42.507049 | H16: Костя | I16: =AVERAGE(I8,I9,I11,I13) -> 0.47704872
F17: =AVERAGE(F10,F12,F14,F15) -> 42.095 | G17: =AVERAGE(G10,G12,G14,G15) -> 42.680488 | H17: Лена | I17: =AVERAGE(I10,I12,I14,I15) -> 0.58548826
F18: =AVERAGE(F8:F15) -> 42.0625 | G18: =AVERAGE(C21:J90) -> 42.551076 | I18: =AVERAGE(I8:I15) -> 0.53126849
C20: =B8 -> Геронимус Костя | D20: =B9 -> Геронимус Костя | E20: =B10 -> Любина Елена | F20: =B11 -> Геронимус Костя | G20: =B12 -> Любина Елена | H20: =B13 -> Геронимус Костя | I20: =B14 -> Любина Елена | J20: =B15 -> Любина Елена
B21: 1 | C21: 45.44 | D21: 43.13 | E21: 43.96 | F21: 43.63 | G21: 43.57 | H21: 44.04 | I21: 44.22 | J21: 43.59
B22: 2 | C22: 44.39 | D22: 42.44 | E22: 42.51 | F22: 43.01 | G22: 43.17 | H22: 43.1 | I22: 42.75 | J22: 43.25
B23: 3 | C23: 43.32 | D23: 42.55 | E23: 42.24 | F23: 42.66 | G23: 43.12 | H23: 42.31 | I23: 43.28 | J23: 42.93
B24: 4 | C24: 43.59 | D24: 42.85 | E24: 42.14 | F24: 42.6 | G24: 42.57 | H24: 42.34 | I24: 43.31 | J24: 42.64
B25: 5 | C25: 42.75 | D25: 42.76 | E25: 41.93 | F25: 42.6 | G25: 42.63 | H25: 42.74 | I25: 42.81 | J25: 43.12
B26: 6 | C26: 43.02 | D26: 42.12 | E26: 42.08 | F26: 42.67 | G26: 42.83 | H26: 42.48 | I26: 42.68 | J26: 42.53
B27: 7 | C27: 43.13 | D27: 42.3 | E27: 42.6 | F27: 42.78 | G27: 42.68 | H27: 42.7 | I27: 42.8 | J27: 42.62
B28: 8 | C28: 42.43 | D28: 42.74 | E28: 42.39 | F28: 43.11 | G28: 42.37 | H28: 42.55 | I28: 42.75 | J28: 43.18
B29: 9 | C29: 42.72 | D29: 42.1 | E29: 42.5 | F29: 42.71 | G29: 42.64 | H29: 42.57 | I29: 43.23 | J29: 42.36
B30: 10 | C30: 42.14 | D30: 42.29 | E30: 42.32 | F30: 42.45 | G30: 43.76 | H30: 42.45 | I30: 42.54 | J30: 42.34
B31: 11 | C31: 41.86 | D31: 42.67 | E31: 42.29 | F31: 42.56 | G31: 42.57 | H31: 42.58 | I31: 42.88 | J31: 42.74
B32: 12 | C32: 42.23 | D32: 42.25 | E32: 42.3 | F32: 42.44 | G32: 43.5 | H32: 42.46 | I32: 42.6 | J32: 42.45
... B42: 22 | C42: 42.27 | D42: 42.05 | E42: 42.15 | F42: 42.36 | G42: 43.1 | H42: 42.36 | I42: 42.66 | J42: 42.35
B43: 23 | C43: 42.1 | D43: 42.02 | E43: 42.36 | G43: 42.09 | H43: 43.18 | I43: 42.81 | J43: 43.22
B44: 24 | C44: 42.11 | D44: 42 | E44: 42.03 | G44: 42.76 | H44: 42.24 | I44: 42.84 | J44: 42.21
B45: 25 | C45: 42.22 | D45: 42.82 | E45: 42.32 | G45: 42.48 | H45: 42.29 | I45: 43.53 | J45: 42.22
B46: 26 | C46: 42.11 | D46: 42.06 | E46: 42.91 | G46: 42.74 | H46: 42.39 | I46: 42.59 | J46: 42.38
B47: 27 | C47: 42.44 | D47: 41.79 | E47: 42.15 | G47: 43.39 | H47: 42.22 | I47: 42.86 | J47: 42.19
B48: 28 | C48: 42.33 | D48: 42 | E48: 42.77 | G48: 42.68 | H48: 42.23 | I48: 43.06 | J48: 42.14
B49: 29 | C49: 42.4 | D49: 41.95 | E49: 42.06 | H49: 42.62 | I49: 44.83 | J49: 42.2
B50: 30 | C50: 42.22 | D50: 43.31 | E50: 42.74 | H50: 42.47 | I50: 43.01 | J50: 42.13
B51: 31 | C51: 42 | D51: 41.93 | E51: 42.09 | H51: 42.28 | I51: 43.41 | J51: 42.01
B52: 32 | C52: 42.26 | D52: 41.94 | E52: 42.74 | H52: 42.56 | I52: 42.89
B53: 33 | C53: 42.33 | D53: 42.31 | E53: 41.97 | H53: 42.55 | I53: 42.71
B54: 34 | C54: 42.68 | D54: 42.33 | E54: 42.48 | H54: 42.38 | I54: 43.41
B55: 35 | C55: 42.91 | D55: 42.32 | E55: 42.11 | H55: 42.49 | I55: 42.58
B56: 36 | C56: 42.11 | D56: 41.83 | E56: 41.89 | H56: 42.43 | I56: 42.41
B57: 37 | C57: 42.26 | D57: 42.2 | E57: 42.06 | H57: 43.3 | I57: 42.47
B58: 38 | D58: 42.05 | E58: 41.92 | H58: 42.61 | I58: 42.64
B59: 39 | D59: 41.94 | E59: 42.06 | H59: 42.51 | I59: 43.08
B60: 40 | D60: 41.95 | E60: 42.46 | H60: 42.21 | I60: 42.64
B61: 41 | D61: 41.99 | E61: 42.36 | H61: 42.43 | I61: 43.03
B62: 42 | D62: 42.03 | E62: 41.87 | H62: 42.68 | I62: 42.62
B63: 43 | D63: 41.96 | E63: 42.13 | I63: 42.66
B64: 44 | D64: 42.33 | E64: 42.28
B65: 45 | D65: 42.16 | E65: 41.98
B66: 46 | D66: 42.01 | E66: 41.93
B67: 47 | D67: 42.05 | E67: 42.25
B68: 48 | D68: 42.08 | E68: 42.03
B69: 49 | D69: 42.38 | E69: 42.57
B70: 50 | D70: 42.04 | E70: 42.13
B71: 51 | D71: 41.73 | E71: 42.14
B72: 52 | D72: 41.78 | E72: 42.16
B73: 53 | D73: 42.44 | E73: 42.12
B74: 54 | D74: 42 | E74: 42.34
B75: 55 | E75: 42.44
B76: 56 | E76: 42.36
B77: 57 | E77: 42.13
B78: 58 | E78: 42.23
B79: 59 | E79: 42.78
B80: 60
B81: 61
B82: 62
B83: 63

Sheet Ingul Kart Acadamy
A2: Чемпионат мини марафон "Большие Гонки", 10-й этап
A4: Ingul Kart Acadamy
A6: Обяза-тельные | B6: Пилот | C6: карт | D6: Круг | E6: кругов на отрезке | F6: Статистика по кругам | J6: Общее время гонки | K6: Время на трассе
F7: Лучший круг | G7: Среднее на отрезке | H7: Кругов в 0,1 от лучшего | I7: стабильность | K7: отрезок | L7: всего у пилота | M7: Питы | N7: Штрафы/ бонусы (сек)
A8: 1 | B8: Гладышев Степан | C8: 13 | D8: =COUNTA(C22:C86) -> 21 | E8: =COUNTA(C22:C86) -> 21 | F8: =MIN(C22:C85) -> 42.4 | G8: =AVERAGE(C22:C88) -> 43.305238 | H8: 2 | I8: =G8-F8 -> 0.9052381 | J8: 0.011137998 | K8: =J8 -> 0.011137998 | L8: =K8 -> 0.011137998 | M8: 2:24.12
A9: 2 | B9: Сивак Максим | C9: 10 | D9: =COUNTA(D22:D86)+D8+1 -> 80 | E9: =COUNTA(D22:D86)+1 -> 59 | F9: =MIN(D22:D85) -> 41.94 | G9: =AVERAGE(D22:D87) -> 42.388448 | H9: 2 | I9: =G9-F9 -> 0.44844828 | J9: 0.041283681 | K9: =J9-J8 -> 0.030145683 | L9: =K9 -> 0.030145683 | M9: 2:24.31
A10: 3 | B10: Сивак Максим | C10: 9 | D10: =COUNTA(E22:E86)+D9+1 -> 130 | E10: =COUNTA(E22:E86)+1 -> 50 | F10: =MIN(E22:E87) -> 42.04 | G10: =AVERAGE(E22:E88) -> 42.417755 | H10: 3 | I10: =G10-F10 -> 0.3777551 | J10: 0.066984525 | K10: =J10-J9 -> 0.025700845 | L10: =K10+L9 -> 0.055846528 | M10: 2:22.28
A11: 4 | B11: Гладышев Степан | C11: 1 | D11: =COUNTA(F22:F86)+D10+1 -> 150 | E11: =COUNTA(F22:F86)+1 -> 20 | F11: =MIN(F22:F87) -> 42.43 | G11: =AVERAGE(F22:F87) -> 43.028947 | H11: 0 | I11: =G11-F11 -> 0.59894737 | J11: 0.078084965 | K11: =J11-J10 -> 0.01110044 | L11: =K11+L8 -> 0.022238437 | M11: 2:20.26
A12: 5 | B12: Демьяненко Дмитрий | C12: 44 | D12: =COUNTA(G22:G86)+D11+1 -> 202 | E12: =COUNTA(G22:G86)+1 -> 52 | F12: =MIN(G22:G87) -> 42.29 | G12: =AVERAGE(G22:G887) -> 42.812353 | H12: 4 | I12: =G12-F12 -> 0.52235294 | J12: 0.10498297 | K12: =J12-J11 -> 0.026898009 | L12: =K12 -> 0.026898009 | M12: 2:20.46
A13: 6 | B13: Демьяненко Дмитрий | C13: 6 | D13: =COUNTA(H22:H86)+D12+1 -> 244 | E13: =COUNTA(H22:H86)+1 -> 42 | F13: =MIN(H22:H87) -> 42.2 | G13: =AVERAGE(H22:H87) -> 42.561951 | H13: 3 | I13: =G13-F13 -> 0.36195122 | J13: 0.12681559 | K13: =J13-J12 -> 0.021832616 | L13: =K13+L12 -> 0.048730625 | M13: 2:21.20
A14: 7 | B14: Гладышев Степан | C14: 1 | D14: =COUNTA(I22:I86)+D13+1 -> 275 | E14: =COUNTA(I22:I86)+1 -> 31 | F14: =MIN(I22:I87) -> 42.34 | G14: =AVERAGE(I22:I87) -> 43.077333 | H14: 1 | I14: =G14-F14 -> 0.73733333 | J14: 0.14340554 | K14: =J14-J13 -> 0.016589954 | L14: =K14+L11 -> 0.038828391 | M14: 2:20.36
A15: Финиш | B15: Гладышев Степан | C15: 18 | D15: =COUNTA(J22:J86)+D14+1 -> 322 | E15: =COUNTA(J22:J86)+1 -> 47 | F15: =MIN(J22:J87) -> 42.15 | G15: =AVERAGE(J22:J87) -> 42.669348 | H15: 1 | I15: =G15-F15 -> 0.51934783 | J15: ='Общие результаты'!G6 -> 4:00:44 | K15: =J15-J14 -> 0.023770382 | L15: =K15+L14 -> 0.062598773 | N15: -8 | O15: бонус за вес
F16: =AVERAGE(F8,F11,F14,F15) -> 42.33 | G16: =AVERAGE(G8,G11,G14,G15) -> 43.020217 | H16: Степан | I16: =AVERAGE(I8,I11,I14,I15) -> 0.69021666
F17: =AVERAGE(F9,F10) -> 41.99 | G17: =AVERAGE(G9,G10) -> 42.403102 | H17: Максим | I17: =AVERAGE(I9,I10) -> 0.41310169
F18: =AVERAGE(F12,F13) -> 42.245 | G18: =AVERAGE(G12,G13) -> 42.687152 | H18: Дима | I18: =AVERAGE(I12,I13) -> 0.44215208
F19: =AVERAGE(F8:F15) -> 42.22375 | G19: =AVERAGE(C22:J91) -> 42.690603 | I19: =AVERAGE(I8:I15) -> 0.55892177
C21: =B8 -> Гладышев Степан | D21: =B9 -> Сивак Максим | E21: =B10 -> Сивак Максим | F21: =B11 -> Гладышев Степан | G21: =B12 -> Демьяненко Дмитрий | H21: =B13 -> Демьяненко Дмитрий | I21: =B14 -> Гладышев Степан | J21: =B15 -> Гладышев Степан
B22: 1 | C22: 46.4 | D22: 43.72 | E22: 43.59 | F22: 44.16 | G22: 44.27 | H22: 43.82 | I22: 44.8 | J22: 43.62
B23: 2 | C23: 44.05 | D23: 42.26 | E23: 42.35 | F23: 43.18 | G23: 42.97 | H23: 43 | I23: 44.6 | J23: 43.09
B24: 3 | C24: 45.32 | D24: 42.46 | E24: 42.16 | F24: 43.91 | G24: 43.08 | H24: 42.4 | I24: 42.9 | J24: 43.22
B25: 4 | C25: 43.21 | D25: 42.62 | E25: 42.3 | F25: 42.78 | G25: 42.81 | H25: 42.5 | I25: 44.57 | J25: 43.08
B26: 5 | C26: 43.13 | D26: 42.49 | E26: 42.21 | F26: 42.75 | G26: 43.11 | H26: 42.62 | I26: 44.64 | J26: 42.61
B27: 6 | C27: 42.92 | D27: 42.32 | E27: 42.14 | F27: 43.68 | G27: 42.87 | H27: 42.59 | I27: 43.07 | J27: 42.87
B28: 7 | C28: 43.1 | D28: 42.52 | E28: 42.97 | F28: 43.7 | G28: 42.99 | H28: 42.47 | I28: 43.15 | J28: 42.63
B29: 8 | C29: 42.56 | D29: 41.94 | E29: 42.14 | F29: 42.79 | G29: 43.18 | H29: 42.47 | I29: 43.02 | J29: 42.84
B30: 9 | C30: 43.67 | D30: 42.4 | E30: 42.41 | F30: 42.65 | G30: 42.83 | H30: 42.6 | I30: 42.77 | J30: 42.74
B31: 10 | C31: 42.45 | D31: 42.43 | E31: 42.47 | F31: 42.73 | G31: 42.76 | H31: 42.86 | I31: 43.14 | J31: 43.2
B32: 11 | C32: 43.49 | D32: 42.37 | E32: 42.29 | F32: 42.6 | G32: 42.65 | H32: 42.59 | I32: 43.05 | J32: 42.57
B33: 12 | C33: 43.95 | D33: 42.37 | E33: 42.39 | F33: 42.6 | G33: 42.54 | H33: 42.62 | I33: 43.1 | J33: 42.45
... B40: 19 | C40: 42.47 | D40: 42.53 | E40: 42.29 | F40: 42.9 | G40: 42.49 | H40: 42.43 | I40: 42.53 | J40: 42.58
B41: 20 | C41: 42.63 | D41: 42.21 | E41: 42.81 | G41: 42.75 | H41: 42.54 | I41: 42.68 | J41: 42.39
B42: 21 | C42: 42.4 | D42: 42.18 | E42: 42.2 | G42: 44.24 | H42: 42.62 | I42: 42.95 | J42: 42.42
B43: 22 | D43: 42.03 | E43: 42.15 | G43: 42.35 | H43: 42.49 | I43: 42.73 | J43: 42.49
B44: 23 | D44: 42.01 | E44: 42.32 | G44: 42.78 | H44: 42.46 | I44: 42.66 | J44: 43.2
B45: 24 | D45: 42.15 | E45: 42.26 | G45: 42.62 | H45: 42.74 | I45: 42.34 | J45: 42.28
B46: 25 | D46: 42.05 | E46: 42.35 | G46: 42.31 | H46: 42.2 | I46: 42.75 | J46: 42.53
B47: 26 | D47: 42.17 | E47: 42.29 | G47: 42.32 | H47: 42.4 | I47: 42.63 | J47: 42.73
B48: 27 | D48: 42.45 | E48: 42.2 | G48: 42.56 | H48: 42.43 | I48: 42.92 | J48: 42.45
B49: 28 | D49: 42.2 | E49: 42.09 | G49: 42.54 | H49: 42.42 | I49: 43.24 | J49: 42.62
B50: 29 | D50: 42.11 | E50: 42.47 | G50: 42.54 | H50: 42.5 | I50: 42.66 | J50: 42.57
B51: 30 | D51: 42.14 | E51: 42.38 | G51: 43.18 | H51: 42.46 | I51: 42.65 | J51: 42.4
B52: 31 | D52: 42.9 | E52: 42.24 | G52: 43.13 | H52: 42.54 | J52: 42.59
B53: 32 | D53: 42.25 | E53: 42.91 | G53: 42.29 | H53: 42.51 | J53: 42.38
B54: 33 | D54: 42.33 | E54: 42.82 | G54: 42.7 | H54: 42.6 | J54: 42.85
B55: 34 | D55: 42.16 | E55: 42.69 | G55: 42.4 | H55: 42.25 | J55: 44.75
B56: 35 | D56: 42.15 | E56: 42.59 | G56: 43.12 | H56: 42.48 | J56: 42.65
B57: 36 | D57: 42.1 | E57: 42.31 | G57: 42.78 | H57: 42.6 | J57: 42.3
B58: 37 | D58: 42.44 | E58: 42.44 | G58: 42.54 | H58: 42.35 | J58: 43.19
B59: 38 | D59: 44.33 | E59: 42.26 | G59: 43.38 | H59: 42.61 | J59: 42.48
B60: 39 | D60: 43.14 | E60: 42.32 | G60: 42.78 | H60: 43.01 | J60: 42.58
B61: 40 | D61: 42.49 | E61: 42.72 | G61: 42.81 | H61: 42.57 | J61: 42.31
B62: 41 | D62: 42.31 | E62: 42.3 | G62: 42.74 | H62: 42.24 | J62: 42.71
B63: 42 | D63: 42.44 | E63: 42.45 | G63: 42.7 | J63: 42.34
B64: 43 | D64: 42.51 | E64: 42.62 | G64: 42.78 | J64: 42.15
B65: 44 | D65: 42.16 | E65: 42.27 | G65: 42.91 | J65: 42.54
B66: 45 | D66: 42.56 | E66: 42.49 | G66: 42.85 | J66: 42.41
B67: 46 | D67: 42.38 | E67: 42.57 | G67: 42.67 | J67: 42.42
B68: 47 | D68: 42.34 | E68: 42.34 | G68: 42.71
B69: 48 | D69: 42.27 | E69: 42.36 | G69: 43.7
B70: 49 | D70: 42.45 | E70: 42.33 | G70: 42.42
B71: 50 | D71: 42.35 | G71: 42.52
B72: 51 | D72: 42.3 | G72: 42.5
B73: 52 | D73: 42.24
B74: 53 | D74: 42.37
B75: 54 | D75: 42.28
B76: 55 | D76: 42.61
B77: 56 | D77: 42.25
B78: 57 | D78: 42.23
B79: 58 | D79: 42.26
B80: 59
B81: 60
B82: 61
B83: 62
B84: 63

Sheet 50grams
A2: Чемпионат мини марафон "Большие Гонки", 10-й этап
A4: 50grams
A6: Обяза-тельные | B6: Пилот | C6: карт | D6: Круг | E6: кругов на отрезке | F6: Статистика по кругам | J6: Общее время гонки | K6: Время на трассе
F7: Лучший круг | G7: Среднее на отрезке | H7: Кругов в 0,1 от лучшего | I7: стабильность | K7: отрезок | L7: всего у пилота | M7: Питы | N7: Штрафы/ бонусы (сек)
A8: 1 | B8: Морозенко Сергей | C8: 3 | D8: =COUNTA(C21:C85) -> 17 | E8: =COUNTA(C21:C85) -> 17 | F8: =MIN(C21:C84) -> 42.46 | G8: =AVERAGE(C21:C87) -> 43.564706 | H8: 1 | I8: =G8-F8 -> 1.1047059 | J8: 0.0091665509 | K8: =J8 -> 0.0091665509 | L8: =K8 -> 0.0091665509 | M8: 2:21.25
A9: 2 | B9: Сомок Денис | C9: 18 | D9: =COUNTA(D21:D85)+D8+1 -> 40 | E9: =COUNTA(D21:D85)+1 -> 23 | F9: =MIN(D21:D84) -> 41.97 | G9: =AVERAGE(D21:D86) -> 42.368182 | H9: 5 | I9: =G9-F9 -> 0.39818182 | J9: 0.021580579 | K9: =J9-J8 -> 0.012414028 | L9: =K9 -> 0.012414028 | M9: 2:20.76
A10: 3 | B10: Морозенко Сергей | C10: 69 | D10: =COUNTA(E21:E85)+D9+1 -> 85 | E10: =COUNTA(E21:E85)+1 -> 45 | F10: =MIN(E21:E86) -> 41.96 | G10: =AVERAGE(E21:E87) -> 42.426591 | H10: 1 | I10: =G10-F10 -> 0.46659091 | J10: 0.044848356 | K10: =J10-J9 -> 0.023267778 | L10: =K10+L8 -> 0.032434329 | M10: 2:41.09 | N10: +20 | O10: лимит
A11: 4 | B11: Сомок Денис | C11: 33 | D11: =COUNTA(F21:F85)+D10+1 -> 128 | E11: =COUNTA(F21:F85)+1 -> 43 | F11: =MIN(F21:F86) -> 42.36 | G11: =AVERAGE(F21:F86) -> 42.829048 | H11: 8 | I11: =G11-F11 -> 0.46904762 | J11: 0.067553738 | K11: =J11-J10 -> 0.022705382 | L11: =K11+L9 -> 0.03511941 | M11: 2:25.08
A12: 5 | B12: Морозенко Сергей | C12: 16 | D12: =COUNTA(G21:G85)+D11+1 -> 172 | E12: =COUNTA(G21:G85)+1 -> 44 | F12: =MIN(G21:G86) -> 42.32 | G12: =AVERAGE(G21:G886) -> 42.773953 | H12: 0 | I12: =G12-F12 -> 0.45395349 | J12: 0.09048338 | K12: =J12-J11 -> 0.022929641 | L12: =K12+L10 -> 0.05536397 | M12: 2:20.24
A13: 6 | B13: Сомок Денис | C13: 8 | D13: =COUNTA(H21:H85)+D12+1 -> 230 | E13: =COUNTA(H21:H85)+1 -> 58 | F13: =MIN(H21:H86) -> 42 | G13: =AVERAGE(H21:H86) -> 42.360526 | H13: 8 | I13: =G13-F13 -> 0.36052632 | J13: 0.1200487 | K13: =J13-J12 -> 0.029565324 | L13: =K13+L11 -> 0.064684734 | M13: 2:23.94
A14: 7 | B14: Морозенко Сергей | C14: 3 | D14: =COUNTA(I21:I85)+D13+1 -> 274 | E14: =COUNTA(I21:I85)+1 -> 44 | F14: =MIN(I21:I86) -> 42.54 | G14: =AVERAGE(I21:I86) -> 42.987209 | H14: 3 | I14: =G14-F14 -> 0.4472093 | J14: 0.14312199 | K14: =J14-J13 -> 0.023073287 | L14: =K14+L12 -> 0.078437257 | M14: 2:20.45
A15: Финиш | B15: Сомок Денис | C15: 13 | D15: =COUNTA(J21:J85)+D14+1 -> 322 | E15: =COUNTA(J21:J85)+1 -> 48 | F15: =MIN(J21:J86) -> 42.14 | G15: =AVERAGE(J21:J86) -> 42.49766 | H15: 8 | I15: =G15-F15 -> 0.35765957 | J15: ='Общие результаты'!G6 -> 4:00:44 | K15: =J15-J14 -> 0.024053935 | L15: =K15+L13 -> 0.088738669
F16: =AVERAGE(F8,F10,F12,F14) -> 42.32 | G16: =AVERAGE(G8,G10,G12,G14) -> 42.938115 | H16: Сергей | I16: =AVERAGE(I8,I10,I12,I14) -> 0.6181149
F17: =AVERAGE(F9,F11,F13,F15) -> 42.1175 | G17: =AVERAGE(G9,G11,G13,G15) -> 42.513854 | H17: Денис | I17: =AVERAGE(I9,I11,I13,I15) -> 0.39635383
F18: =AVERAGE(F8:F15) -> 42.21875 | G18: =AVERAGE(C21:J90) -> 42.66019 | I18: =AVERAGE(I8:I15) -> 0.50723436
C20: =B8 -> Морозенко Сергей | D20: =B9 -> Сомок Денис | E20: =B10 -> Морозенко Сергей | F20: =B11 -> Сомок Денис | G20: =B12 -> Морозенко Сергей | H20: =B13 -> Сомок Денис | I20: =B14 -> Морозенко Сергей | J20: =B15 -> Сомок Денис
B21: 1 | C21: 46.04 | D21: 45.85 | E21: 44.23 | F21: 43.88 | G21: 44.16 | H21: 45.21 | I21: 44.78 | J21: 44.01
B22: 2 | C22: 43.92 | D22: 42.5 | E22: 42.38 | F22: 43.8 | G22: 43.21 | H22: 42.38 | I22: 43.15 | J22: 42.16
B23: 3 | C23: 46.16 | D23: 42.36 | E23: 42.54 | F23: 42.76 | G23: 42.74 | H23: 42.88 | I23: 43.9 | J23: 42.86
B24: 4 | C24: 43.27 | D24: 42.13 | E24: 42.37 | F24: 42.93 | G24: 43.39 | H24: 42.09 | I24: 42.78 | J24: 42.41
B25: 5 | C25: 43.18 | D25: 42.39 | E25: 42.23 | F25: 42.71 | G25: 43.69 | H25: 42.36 | I25: 42.74 | J25: 42.91
B26: 6 | C26: 42.9 | D26: 42.27 | E26: 42.21 | F26: 42.64 | G26: 43.19 | H26: 42.43 | I26: 42.95 | J26: 42.68
B27: 7 | C27: 44.69 | D27: 42.8 | E27: 42.51 | F27: 42.38 | G27: 42.74 | H27: 42.16 | I27: 42.73 | J27: 42.22
B28: 8 | C28: 42.54 | D28: 42.16 | E28: 42.31 | F28: 42.48 | G28: 42.72 | H28: 42 | I28: 42.82 | J28: 42.55
B29: 9 | C29: 42.7 | D29: 42.09 | E29: 41.98 | F29: 42.43 | G29: 42.62 | H29: 42.1 | I29: 42.72 | J29: 42.33
B30: 10 | C30: 42.64 | D30: 42.22 | E30: 42.64 | F30: 42.56 | G30: 42.67 | H30: 42.08 | I30: 42.61 | J30: 42.26
B31: 11 | C31: 42.55 | D31: 42.06 | E31: 42.31 | F31: 42.85 | G31: 42.85 | H31: 43 | I31: 42.55 | J31: 42.8
B32: 12 | C32: 44.12 | D32: 42.32 | E32: 42.41 | F32: 42.86 | G32: 42.82 | H32: 43.36 | I32: 42.54 | J32: 42.18
... B37: 17 | C37: 43.16 | D37: 42.08 | E37: 42.31 | F37: 42.5 | G37: 42.63 | H37: 42.41 | I37: 42.84 | J37: 42.32
B38: 18 | D38: 42.17 | E38: 42.4 | F38: 44.45 | G38: 42.82 | H38: 42.01 | I38: 42.67 | J38: 42.35
B39: 19 | D39: 41.97 | E39: 42.33 | F39: 43.25 | G39: 42.75 | H39: 42 | I39: 42.67 | J39: 42.33
B40: 20 | D40: 42.05 | E40: 42.27 | F40: 42.64 | G40: 42.48 | H40: 42.57 | I40: 42.8 | J40: 42.32
B41: 21 | D41: 42.31 | E41: 42.1 | F41: 42.64 | G41: 42.49 | H41: 42.19 | I41: 42.84 | J41: 42.44
B42: 22 | D42: 42.09 | E42: 42.66 | F42: 42.57 | G42: 42.62 | H42: 42.17 | I42: 43 | J42: 42.23
B43: 23 | E43: 44.07 | F43: 42.42 | G43: 42.54 | H43: 42.2 | I43: 43.02 | J43: 43.34
B44: 24 | E44: 42.29 | F44: 42.66 | G44: 42.69 | H44: 42.05 | I44: 43.08 | J44: 42.89
B45: 25 | E45: 42.3 | F45: 42.41 | G45: 43.36 | H45: 42.28 | I45: 42.83 | J45: 42.57
B46: 26 | E46: 44.35 | F46: 42.41 | G46: 42.44 | H46: 42.32 | I46: 42.74 | J46: 42.27
B47: 27 | E47: 42.18 | F47: 43.33 | G47: 42.32 | H47: 42.27 | I47: 42.87 | J47: 42.31
B48: 28 | E48: 42.21 | F48: 43.05 | G48: 42.68 | H48: 42.19 | I48: 42.81 | J48: 42.41
B49: 29 | E49: 42.4 | F49: 42.65 | G49: 42.45 | H49: 42.2 | I49: 42.81 | J49: 42.26
B50: 30 | E50: 41.96 | F50: 42.79 | G50: 42.59 | H50: 42.62 | I50: 42.95 | J50: 42.38
B51: 31 | E51: 42.17 | F51: 42.42 | G51: 42.54 | H51: 42.52 | I51: 43.24 | J51: 42.21
B52: 32 | E52: 42.23 | F52: 42.59 | G52: 42.54 | H52: 42.22 | I52: 42.73 | J52: 42.37
B53: 33 | E53: 42.31 | F53: 42.58 | G53: 42.43 | H53: 42.24 | I53: 43.84 | J53: 42.33
B54: 34 | E54: 42.19 | F54: 42.62 | G54: 43.11 | H54: 42.26 | I54: 42.75 | J54: 42.55
... B62: 42 | E62: 42.25 | F62: 42.46 | G62: 42.56 | H62: 42.15 | I62: 42.8 | J62: 42.36
B63: 43 | E63: 42.27 | G63: 42.68 | H63: 42.3 | I63: 43.13 | J63: 42.98
B64: 44 | E64: 42.14 | H64: 42.27 | J64: 42.62
B65: 45 | H65: 42.21 | J65: 42.47
B66: 46 | H66: 42.18 | J66: 42.54
B67: 47 | H67: 42.03 | J67: 42.48
B68: 48 | H68: 42.25
B69: 49 | H69: 42.36
B70: 50 | H70: 42.17
B71: 51 | H71: 42.31
B72: 52 | H72: 42.18
B73: 53 | H73: 42.21
B74: 54 | H74: 42.15
B75: 55 | H75: 42.31
B76: 56 | H76: 42.07
B77: 57 | H77: 42.12
B78: 58
B79: 59
B80: 60
B81: 61
B82: 62
B83: 63

Sheet Kart Freedom JT
A2: Чемпионат мини марафон "Большие Гонки", 10-й этап
A4: Kart Freedom JT
A6: Обяза-тельные | B6: Пилот | C6: карт | D6: Круг | E6: кругов на отрезке | F6: Статистика по кругам | J6: Общее время гонки | K6: Время на трассе
F7: Лучший круг | G7: Среднее на отрезке | H7: Кругов в 0,1 от лучшего | I7: стабильность | K7: отрезок | L7: всего у пилота | M7: Питы | N7: Штрафы/ бонусы (сек)
A8: 1 | B8: Новиков Герман | C8: 17 | D8: =COUNTA(C21:C85) -> 19 | E8: =COUNTA(C21:C85) -> 19 | F8: =MIN(C21:C84) -> 42.36 | G8: =AVERAGE(C21:C87) -> 43.414211 | H8: 0 | I8: =G8-F8 -> 1.0542105 | J8: 0.010125694 | K8: =J8 -> 0.010125694 | L8: =K8 -> 0.010125694 | M8: 2:18.86
A9: 2 | B9: Юрченко Вова | C9: 1 | D9: =COUNTA(D21:D85)+D8+1 -> 79 | E9: =COUNTA(D21:D85)+1 -> 60 | F9: =MIN(D21:D84) -> 42.66 | G9: =AVERAGE(D21:D86) -> 43.145763 | H9: 5 | I9: =G9-F9 -> 0.48576271 | J9: 0.0412114 | K9: =J9-J8 -> 0.031085706 | L9: =K9 -> 0.031085706 | M9: 2:20.51
A10: 3 | B10: Новиков Герман | C10: 6 | D10: =COUNTA(E21:E85)+D9+1 -> 129 | E10: =COUNTA(E21:E85)+1 -> 50 | F10: =MIN(E21:E86) -> 42.16 | G10: =AVERAGE(E21:E87) -> 42.494694 | H10: 6 | I10: =G10-F10 -> 0.33469388 | J10: 0.066938843 | K10: =J10-J9 -> 0.025727442 | L10: =K10+L8 -> 0.035853137 | M10: 2:25.42 | N10: +5 | O10: лимит
A11: 4 | B11: Юрченко Вова | C11: 3 | D11: =COUNTA(F21:F85)+D10+1 -> 160 | E11: =COUNTA(F21:F85)+1 -> 31 | F11: =MIN(F21:F86) -> 42.4 | G11: =AVERAGE(F21:F86) -> 42.751333 | H11: 5 | I11: =G11-F11 -> 0.35133333 | J11: 0.083463831 | K11: =J11-J10 -> 0.016524988 | L11: =K11+L9 -> 0.047610694 | M11: 2:25.40 | N11: +5 | O11: линия
A12: 5 | B12: Новиков Герман | C12: 4 | D12: =COUNTA(G21:G85)+D11+1 -> 214 | E12: =COUNTA(G21:G85)+1 -> 54 | F12: =MIN(G21:G86) -> 42.25 | G12: =AVERAGE(G21:G886) -> 42.645472 | H12: 5 | I12: =G12-F12 -> 0.3954717 | J12: 0.11130413 | K12: =J12-J11 -> 0.027840301 | L12: =K12+L10 -> 0.063693438 | M12: 2:19.49
A13: 6 | B13: Юрченко Вова | C13: 12 | D13: =COUNTA(H21:H85)+D12+1 -> 272 | E13: =COUNTA(H21:H85)+1 -> 58 | F13: =MIN(H21:H86) -> 42.12 | G13: =AVERAGE(H21:H86) -> 42.563333 | H13: 0 | I13: =G13-F13 -> 0.44333333 | J13: 0.14101134 | K13: =J13-J12 -> 0.029707211 | L13: =K13+L11 -> 0.077317905 | M13: 2:30.54 | N13: +10 | O13: вес
A14: 7 | B14: Новиков Герман | C14: 5 | D14: =COUNTA(I21:I85)+D13+1 -> 300 | E14: =COUNTA(I21:I85)+1 -> 28 | F14: =MIN(I21:I86) -> 42.28 | G14: =AVERAGE(I21:I86) -> 42.827407 | H14: 2 | I14: =G14-F14 -> 0.54740741 | J14: 0.15617257 | K14: =J14-J13 -> 0.015161227 | L14: =K14+L12 -> 0.078854664 | M14: 2:22.72
A15: Финиш | B15: Новиков Герман | C15: 44 | D15: =COUNTA(J21:J85)+D14+1 -> 321 | E15: =COUNTA(J21:J85)+1 -> 21 | F15: =MIN(J21:J86) -> 42.75 | G15: =AVERAGE(J21:J86) -> 43.7465 | H15: 0 | I15: =G15-F15 -> 0.9965 | J15: ='Общие результаты'!G6 -> 4:00:44 | K15: =J15-J14 -> 0.011003356 | L15: =K15+L14 -> 0.089858021
F16: =AVERAGE(F8,F10,F12,F14,F15) -> 42.36 | G16: =AVERAGE(G8,G10,G12,G14,G15) -> 43.025657 | H16: Герман | I16: =AVERAGE(I8,I10,I12,I14,I15) -> 0.6656567
F17: =AVERAGE(F9,F11,F13) -> 42.393333 | G17: =AVERAGE(G9,G11,G13) -> 42.820143 | H17: Вова | I17: =AVERAGE(I9,I11,I13) -> 0.42680979
F18: =AVERAGE(F8:F15) -> 42.3725 | G18: =AVERAGE(C21:J90) -> 42.843439 | I18: =AVERAGE(I8:I15) -> 0.57608911
C20: =B8 -> Новиков Герман | D20: =B9 -> Юрченко Вова | E20: =B10 -> Новиков Герман | F20: =B11 -> Юрченко Вова | G20: =B12 -> Новиков Герман | H20: =B13 -> Юрченко Вова | I20: =B14 -> Новиков Герман | J20: =B15 -> Новиков Герман
B21: 1 | C21: 45.71 | D21: 45.35 | E21: 43.49 | F21: 43.95 | G21: 42.97 | H21: 43.46 | I21: 43.43 | J21: 44.28
B22: 2 | C22: 44.06 | D22: 43.5 | E22: 42.76 | F22: 43.42 | G22: 42.64 | H22: 42.59 | I22: 42.69 | J22: 43.64
B23: 3 | C23: 43.53 | D23: 43.07 | E23: 42.66 | F23: 43.18 | G23: 42.49 | H23: 42.83 | I23: 43.44 | J23: 42.75
B24: 4 | C24: 43.98 | D24: 42.93 | E24: 42.41 | F24: 42.55 | G24: 42.55 | H24: 42.91 | I24: 42.73 | J24: 43.68
B25: 5 | C25: 44.37 | D25: 43.96 | E25: 42.4 | F25: 42.96 | G25: 42.38 | H25: 42.43 | I25: 42.62 | J25: 43.26
B26: 6 | C26: 42.73 | D26: 43.28 | E26: 42.24 | F26: 42.61 | G26: 42.52 | H26: 42.46 | I26: 42.41 | J26: 43.62
B27: 7 | C27: 43.99 | D27: 43.02 | E27: 42.26 | F27: 42.4 | G27: 42.47 | H27: 42.31 | I27: 42.4 | J27: 43.46
B28: 8 | C28: 42.7 | D28: 43.22 | E28: 42.41 | F28: 42.59 | G28: 42.46 | H28: 42.52 | I28: 42.89 | J28: 46.92
B29: 9 | C29: 42.62 | D29: 42.87 | E29: 42.43 | F29: 43.41 | G29: 42.55 | H29: 42.42 | I29: 42.42 | J29: 43.48
B30: 10 | C30: 43.32 | D30: 43.2 | E30: 42.79 | F30: 42.55 | G30: 42.47 | H30: 42.12 | I30: 42.71 | J30: 43.51
B31: 11 | C31: 43.01 | D31: 43.03 | E31: 42.57 | F31: 42.81 | G31: 42.4 | H31: 42.58 | I31: 42.95 | J31: 43.22
B32: 12 | C32: 43.59 | D32: 42.73 | E32: 42.64 | F32: 42.43 | G32: 42.48 | H32: 42.52 | I32: 43.2 | J32: 43.5
... B39: 19 | C39: 42.36 | D39: 43.01 | E39: 42.22 | F39: 42.67 | G39: 42.46 | H39: 42.71 | I39: 42.43 | J39: 43.15
B40: 20 | D40: 42.99 | E40: 42.39 | F40: 42.92 | G40: 42.44 | H40: 42.48 | I40: 42.33 | J40: 43.52
B41: 21 | D41: 43.77 | E41: 42.49 | F41: 42.58 | G41: 42.61 | H41: 42.36 | I41: 42.47
B42: 22 | D42: 42.84 | E42: 42.46 | F42: 42.51 | G42: 42.58 | H42: 42.43 | I42: 43.2
B43: 23 | D43: 43.17 | E43: 42.29 | F43: 42.56 | G43: 42.54 | H43: 42.39 | I43: 42.67
B44: 24 | D44: 43.1 | E44: 42.55 | F44: 42.4 | G44: 42.38 | H44: 42.47 | I44: 43.51
B45: 25 | D45: 42.83 | E45: 42.26 | F45: 42.55 | G45: 42.49 | H45: 42.57 | I45: 43.39
B46: 26 | D46: 43.11 | E46: 43.08 | F46: 42.51 | G46: 42.63 | H46: 42.54 | I46: 43.07
B47: 27 | D47: 42.84 | E47: 42.33 | F47: 42.47 | G47: 42.27 | H47: 42.39 | I47: 43.8
B48: 28 | D48: 43.3 | E48: 42.35 | F48: 42.66 | G48: 42.31 | H48: 42.26
B49: 29 | D49: 43.06 | E49: 42.34 | F49: 43.19 | G49: 43.34 | H49: 42.36
B50: 30 | D50: 42.86 | E50: 42.41 | F50: 42.49 | G50: 42.53 | H50: 43.18
B51: 31 | D51: 43.09 | E51: 42.29 | G51: 42.43 | H51: 42.45
B52: 32 | D52: 43.08 | E52: 42.49 | G52: 42.33 | H52: 43.24
B53: 33 | D53: 43.32 | E53: 42.59 | G53: 42.65 | H53: 42.48
B54: 34 | D54: 43.12 | E54: 42.93 | G54: 42.45 | H54: 42.39
B55: 35 | D55: 42.86 | E55: 42.3 | G55: 42.41 | H55: 42.43
B56: 36 | D56: 42.83 | E56: 42.41 | G56: 42.65 | H56: 42.45
B57: 37 | D57: 43.48 | E57: 42.18 | G57: 42.54 | H57: 42.44
B58: 38 | D58: 43.9 | E58: 42.42 | G58: 42.4 | H58: 42.38
B59: 39 | D59: 42.68 | E59: 42.53 | G59: 42.97 | H59: 42.46
B60: 40 | D60: 43.34 | E60: 42.61 | G60: 42.87 | H60: 42.57
B61: 41 | D61: 42.93 | E61: 42.43 | G61: 42.53 | H61: 42.46
B62: 42 | D62: 43.06 | E62: 43.07 | G62: 43.4 | H62: 42.29
... B69: 49 | D69: 43.2 | E69: 42.55 | G69: 42.25 | H69: 42.85
B70: 50 | D70: 43.16 | G70: 42.75 | H70: 42.91
B71: 51 | D71: 42.88 | G71: 43.39 | H71: 42.66
B72: 52 | D72: 43.73 | G72: 42.96 | H72: 42.65
B73: 53 | D73: 42.85 | G73: 43.26 | H73: 42.45
B74: 54 | D74: 42.82 | H74: 42.66
B75: 55 | D75: 43.9 | H75: 42.58
B76: 56 | D76: 42.9 | H76: 42.43
B77: 57 | D77: 44.13 | H77: 43.03
B78: 58 | D78: 42.66
B79: 59 | D79: 42.76
B80: 60
B81: 61
B82: 62
B83: 63

Sheet Buro 11
A2: Чемпионат мини марафон "Большие Гонки", 10-й этап
A4: Buro 11
A6: Обяза-тельные | B6: Пилот | C6: карт | D6: Круг | E6: кругов на отрезке | F6: Статистика по кругам | J6: Общее время гонки | K6: Время на трассе
F7: Лучший круг | G7: Среднее на отрезке | H7: Кругов в 0,1 от лучшего | I7: стабильность | K7: отрезок | L7: всего у пилота | M7: Питы | N7: Штрафы/ бонусы (сек)
A8: 1 | B8: Якусик Саша | C8: 21 | D8: =COUNTA(C22:C86) -> 38 | E8: =COUNTA(C22:C86) -> 38 | F8: =MIN(C22:C85) -> 42.05 | G8: =AVERAGE(C22:C88) -> 42.745789 | H8: 2 | I8: =G8-F8 -> 0.69578947 | J8: 0.019406331 | K8: =J8 -> 0.019406331 | L8: =K8 -> 0.019406331 | M8: 2:00.98 | N8: -64
A9: 2 | B9: Закалюк Женя | C9: 12 | D9: =COUNTA(D22:D86)+D8+1 -> 84 | E9: =COUNTA(D22:D86)+1 -> 46 | F9: =MIN(D22:D85) -> 42.37 | G9: =AVERAGE(D22:D87) -> 42.964667 | H9: 1 | I9: =G9-F9 -> 0.59466667 | J9: 0.043185579 | K9: =J9-J8 -> 0.023779248 | L9: =K9 -> 0.023779248 | M9: 2:10.42 | O9: бонус за вес
A10: 3 | B10: Карлюк Марина | C10: 15 | D10: =COUNTA(E22:E86)+D9+1 -> 130 | E10: =COUNTA(E22:E86)+1 -> 46 | F10: =MIN(E22:E87) -> 42.73 | G10: =AVERAGE(E22:E88) -> 43.721111 | H10: 0 | I10: =G10-F10 -> 0.99111111 | J10: 0.067516042 | K10: =J10-J9 -> 0.024330463 | L10: =K10 -> 0.024330463 | M10: 1:59.45
A11: 4 | B11: Якусик Саша | C11: 11 | D11: =COUNTA(F22:F86)+D10+1 -> 189 | E11: =COUNTA(F22:F86)+1 -> 59 | F11: =MIN(F22:F87) -> 42.25 | G11: =AVERAGE(F22:F87) -> 42.523793 | H11: 10 | I11: =G11-F11 -> 0.2737931 | J11: 0.097399711 | K11: =J11-J10 -> 0.029883669 | L11: =K11+L8 -> 0.04929 | M11: 2:31.25
A12: 5 | B12: Закалюк Женя | C12: 16 | D12: =COUNTA(G22:G86)+D11+1 -> 216 | E12: =COUNTA(G22:G86)+1 -> 27 | F12: =MIN(G22:G87) -> 42.56 | G12: =AVERAGE(G22:G887) -> 42.995385 | H12: 2 | I12: =G12-F12 -> 0.43538462 | J12: 0.11209628 | K12: =J12-J11 -> 0.014696574 | L12: =K12+L9 -> 0.038475822 | M12: 2:10.39
A13: 6 | B13: Карлюк Марина | C13: 14 | D13: =COUNTA(H22:H86)+D12+1 -> 242 | E13: =COUNTA(H22:H86)+1 -> 26 | F13: =MIN(H22:H87) -> 43.08 | G13: =AVERAGE(H22:H87) -> 43.9924 | H13: 1 | I13: =G13-F13 -> 0.9124 | J13: 0.12634751 | K13: =J13-J12 -> 0.014251227 | L13: =K13+L10 -> 0.03858169 | M13: 2:21.34
A14: 7 | B14: Закалюк Женя | C14: 8 | D14: =COUNTA(I22:I86)+D13+1 -> 298 | E14: =COUNTA(I22:I86)+1 -> 56 | F14: =MIN(I22:I87) -> 42.37 | G14: =AVERAGE(I22:I87) -> 42.861636 | H14: 0 | I14: =G14-F14 -> 0.49163636 | J14: 0.15526493 | K14: =J14-J13 -> 0.028917419 | L14: =K14+L12 -> 0.067393241 | M14: 2:19.54
A15: Финиш | B15: Карлюк Марина | C15: 17 | D15: =COUNTA(J22:J86)+D14+1 -> 321 | E15: =COUNTA(J22:J86)+1 -> 23 | F15: =MIN(J22:J87) -> 42.79 | G15: =AVERAGE(J22:J87) -> 43.710909 | H15: 0 | I15: =G15-F15 -> 0.92090909 | J15: ='Общие результаты'!G6 -> 4:00:44 | K15: =J15-J14 -> 0.011910995 | L15: =K15+L13 -> 0.050492685 | N15: -11 | O15: передержали
F16: =AVERAGE(F8:F11) -> 42.35 | G16: =AVERAGE(G8:G11) -> 42.98884 | H16: Саша | I16: =AVERAGE(I8:I11) -> 0.63884009
F17: =AVERAGE(F9,F12,F14) -> 42.433333 | G17: =AVERAGE(G9,G12,G14) -> 42.940563 | H17: Женя | I17: =AVERAGE(I9,I12,I14) -> 0.50722922
F18: =AVERAGE(F10,F13,F15) -> 42.866667 | G18: =AVERAGE(G10,G13,G15) -> 43.80814 | H18: Марина | I18: =AVERAGE(I10,I13,I15) -> 0.9414734
F19: =AVERAGE(F8:F15) -> 42.525 | G19: =AVERAGE(C22:J91) -> 43.083758 | I19: =AVERAGE(I8:I15) -> 0.6644613
C21: =B8 -> Якусик Саша | D21: =B9 -> Закалюк Женя | E21: =B10 -> Карлюк Марина | F21: =B11 -> Якусик Саша | G21: =B12 -> Закалюк Женя | H21: =B13 -> Карлюк Марина | I21: =B14 -> Закалюк Женя | J21: =B15 -> Карлюк Марина
B22: 1 | C22: 44.24 | D22: 44.45 | E22: 46.25 | F22: 43.78 | G22: 44.02 | H22: 44.36 | I22: 44.66 | J22: 46.64
B23: 2 | C23: 44.26 | D23: 43.79 | E23: 43.7 | F23: 42.84 | G23: 43.56 | H23: 44.04 | I23: 43.04 | J23: 43.59
B24: 3 | C24: 44.51 | D24: 44.06 | E24: 43.51 | F24: 42.52 | G24: 42.86 | H24: 43.53 | I24: 43.03 | J24: 43.83
B25: 4 | C25: 42.85 | D25: 45.48 | E25: 43.46 | F25: 42.7 | G25: 42.99 | H25: 44.06 | I25: 43.99 | J25: 44.21
B26: 5 | C26: 45.3 | D26: 42.75 | E26: 43.53 | F26: 42.52 | G26: 43.06 | H26: 44.78 | I26: 43.04 | J26: 43.48
B27: 6 | C27: 42.8 | D27: 42.86 | E27: 44.28 | F27: 42.41 | G27: 42.76 | H27: 43.08 | I27: 43.53 | J27: 43.27
B28: 7 | C28: 43.4 | D28: 42.67 | E28: 44.03 | F28: 42.43 | G28: 42.74 | H28: 45.11 | I28: 43.48 | J28: 42.98
B29: 8 | C29: 42.45 | D29: 42.75 | E29: 43.4 | F29: 42.57 | G29: 43.65 | H29: 44.88 | I29: 42.71 | J29: 42.79
B30: 9 | C30: 42.92 | D30: 43.06 | E30: 43.81 | F30: 42.36 | G30: 43.03 | H30: 43.46 | I30: 43.28 | J30: 44.78
B31: 10 | C31: 42.27 | D31: 42.57 | E31: 43.05 | F31: 42.48 | G31: 42.85 | H31: 43.74 | I31: 43.07 | J31: 45.91
B32: 11 | C32: 43.05 | D32: 43.4 | E32: 43.32 | F32: 42.58 | G32: 43.01 | H32: 43.38 | I32: 43.14 | J32: 43.05
B33: 12 | C33: 43.94 | D33: 42.87 | E33: 44.12 | F33: 42.52 | G33: 43.79 | H33: 44.04 | I33: 42.82 | J33: 43.16
... B43: 22 | C43: 42.55 | D43: 42.79 | E43: 42.92 | F43: 42.35 | G43: 42.8 | H43: 43.27 | I43: 42.9 | J43: 42.98
B44: 23 | C44: 42.05 | D44: 42.76 | E44: 43.33 | F44: 42.36 | G44: 42.92 | H44: 43.48 | I44: 42.67
B45: 24 | C45: 42.74 | D45: 43 | E45: 44.83 | F45: 42.39 | G45: 42.86 | H45: 44.6 | I45: 42.72
B46: 25 | C46: 42.54 | D46: 42.43 | E46: 43.64 | F46: 42.28 | G46: 42.81 | H46: 43.1 | I46: 42.74
B47: 26 | C47: 42.44 | D47: 42.51 | E47: 44.35 | F47: 42.26 | G47: 42.73 | I47: 42.74
B48: 27 | C48: 42.55 | D48: 42.61 | E48: 44.81 | F48: 42.34 | I48: 42.74
B49: 28 | C49: 42.46 | D49: 42.63 | E49: 43.7 | F49: 42.39 | I49: 42.97
B50: 29 | C50: 42.11 | D50: 42.61 | E50: 43.29 | F50: 44.06 | I50: 42.9
B51: 30 | C51: 42.28 | D51: 42.64 | E51: 43.33 | F51: 42.57 | I51: 42.68
B52: 31 | C52: 42.31 | D52: 43.19 | E52: 43 | F52: 42.56 | I52: 42.77
B53: 32 | C53: 42.18 | D53: 42.7 | E53: 45.07 | F53: 42.5 | I53: 42.71
B54: 33 | C54: 42.42 | D54: 42.37 | E54: 43.11 | F54: 42.43 | I54: 42.81
B55: 34 | C55: 42.14 | D55: 42.64 | E55: 43.12 | F55: 42.33 | I55: 42.56
B56: 35 | C56: 42.15 | D56: 43.16 | E56: 43.4 | F56: 42.47 | I56: 42.88
B57: 36 | C57: 42.34 | D57: 43.11 | E57: 43.98 | F57: 42.35 | I57: 42.78
B58: 37 | C58: 42.22 | D58: 43.72 | E58: 43.33 | F58: 42.31 | I58: 42.54
B59: 38 | C59: 42.31 | D59: 43.79 | E59: 42.88 | F59: 42.4 | I59: 42.54
B60: 39 | D60: 42.74 | E60: 43.14 | F60: 42.32 | I60: 42.69
B61: 40 | D61: 42.69 | E61: 45.54 | F61: 42.57 | I61: 42.57
B62: 41 | D62: 42.77 | E62: 44.01 | F62: 42.38 | I62: 42.41
B63: 42 | D63: 43.25 | E63: 44.14 | F63: 42.44 | I63: 43.28
B64: 43 | D64: 42.64 | E64: 43.6 | F64: 42.45 | I64: 42.58
B65: 44 | D65: 42.76 | E65: 43.2 | F65: 42.45 | I65: 42.55
B66: 45 | D66: 42.65 | E66: 44.26 | F66: 42.49 | I66: 42.73
B67: 46 | F67: 42.67 | I67: 42.54
B68: 47 | F68: 42.32 | I68: 43.18
B69: 48 | F69: 42.28 | I69: 42.81
B70: 49 | F70: 42.39 | I70: 42.58
B71: 50 | F71: 42.41 | I71: 42.37
B72: 51 | F72: 42.58 | I72: 42.81
B73: 52 | F73: 42.8 | I73: 42.74
B74: 53 | F74: 42.49 | I74: 42.74
B75: 54 | F75: 42.59 | I75: 42.75
B76: 55 | F76: 42.46 | I76: 42.78
B77: 56 | F77: 43.16
B78: 57 | F78: 42.46
B79: 58 | F79: 42.53
B80: 59
B81: 60
B82: 61
B83: 62
B84: 63

Sheet Coachella
A2: Чемпионат мини марафон "Большие Гонки", 10-й этап
A4: Coachella
A6: Обяза-тельные | B6: Пилот | C6: карт | D6: Круг | E6: кругов на отрезке | F6: Статистика по кругам | J6: Общее время гонки | K6: Время на трассе
F7: Лучший круг | G7: Среднее на отрезке | H7: Кругов в 0,1 от лучшего | I7: стабильность | K7: отрезок | L7: всего у пилота | M7: Питы | N7: Штрафы/ бонусы (сек)
A8: 1 | B8: Кочетов Игорь | C8: 2 | D8: =COUNTA(C21:C85) -> 40 | E8: =COUNTA(C21:C85) -> 40 | F8: =MIN(C21:C84) -> 41.93 | G8: =AVERAGE(C21:C87) -> 42.55775 | H8: 3 | I8: =G8-F8 -> 0.62775 | J8: 0.02030294 | K8: =J8 -> 0.02030294 | L8: =K8 -> 0.02030294 | M8: 2:19.42
A9: 2 | B9: Поляруш Александр | C9: 14 | D9: =COUNTA(D21:D85)+D8+1 -> 79 | E9: =COUNTA(D21:D85)+1 -> 39 | F9: =MIN(D21:D84) -> 42.78 | G9: =AVERAGE(D21:D86) -> 43.574211 | H9: 0 | I9: =G9-F9 -> 0.79421053 | J9: 0.041094444 | K9: =J9-J8 -> 0.020791505 | L9: =K9 -> 0.020791505 | M9: 2:21.73
A10: 3 | B10: Кочетов Игорь | C10: 13 | D10: =COUNTA(E21:E85)+D9+1 -> 139 | E10: =COUNTA(E21:E85)+1 -> 60 | F10: =MIN(E21:E86) -> 42.25 | G10: =AVERAGE(E21:E87) -> 42.795085 | H10: 7 | I10: =G10-F10 -> 0.54508475 | J10: 0.071961157 | K10: =J10-J9 -> 0.030866713 | L10: =K10+L8 -> 0.051169653 | M10: 2:20.26
A11: 4 | B11: Поляруш Александр | C11: 33 | D11: =COUNTA(F21:F85)+D10+1 -> 189 | E11: =COUNTA(F21:F85)+1 -> 50 | F11: =MIN(F21:F86) -> 42.94 | G11: =AVERAGE(F21:F86) -> 43.996122 | H11: 1 | I11: =G11-F11 -> 1.0561224 | J11: 0.098557442 | K11: =J11-J10 -> 0.026596285 | L11: =K11+L9 -> 0.047387789 | M11: 2:21.88
A12: 5 | B12: Кочетов Игорь | C12: 11 | D12: =COUNTA(G21:G85)+D11+1 -> 225 | E12: =COUNTA(G21:G85)+1 -> 36 | F12: =MIN(G21:G86) -> 42.34 | G12: =AVERAGE(G21:G886) -> 42.833429 | H12: 1 | I12: =G12-F12 -> 0.49342857 | J12: 0.11752947 | K12: =J12-J11 -> 0.018972025 | L12: =K12+L10 -> 0.070141678 | M12: 2:20.42
A13: 6 | B13: Поляруш Александр | C13: 5 | D13: =COUNTA(H21:H85)+D12+1 -> 251 | E13: =COUNTA(H21:H85)+1 -> 26 | F13: =MIN(H21:H86) -> 42.73 | G13: =AVERAGE(H21:H86) -> 43.5496 | H13: 0 | I13: =G13-F13 -> 0.8196 | J13: 0.13176309 | K13: =J13-J12 -> 0.014233623 | L13: =K13+L11 -> 0.061621412 | M13: 2:20.15
A14: 7 | B14: Поляруш Александр | C14: 14 | D14: =COUNTA(I21:I85)+D13+1 -> 296 | E14: =COUNTA(I21:I85)+1 -> 45 | F14: =MIN(I21:I86) -> 42.56 | G14: =AVERAGE(I21:I86) -> 43.274091 | H14: 1 | I14: =G14-F14 -> 0.71409091 | J14: 0.15541777 | K14: =J14-J13 -> 0.023654676 | L14: =K14+L13 -> 0.085276088 | M14: 2:20.82
A15: Финиш | B15: Кочетов Игорь | C15: 6 | D15: =COUNTA(J21:J85)+D14+1 -> 319 | E15: =COUNTA(J21:J85)+1 -> 23 | F15: =MIN(J21:J86) -> 42.41 | G15: =AVERAGE(J21:J86) -> 42.800909 | H15: 2 | I15: =G15-F15 -> 0.39090909 | J15: ='Общие результаты'!G6 -> 4:00:44 | K15: =J15-J14 -> 0.01175816 | L15: =K15+L12 -> 0.081899838
F16: =AVERAGE(F8,F10,F12,F15) -> 42.2325 | G16: =AVERAGE(G8,G10,G12,G15) -> 42.746793 | H16: Игорь | I16: =AVERAGE(I8,I10,I12,I15) -> 0.5142931
F17: =AVERAGE(F9,F11,F13,F14) -> 42.7525 | G17: =AVERAGE(G9,G11,G13,G14) -> 43.598506 | H17: Саша | I17: =AVERAGE(I9,I11,I13,I14) -> 0.84600597
F18: =AVERAGE(F8:F15) -> 42.4925 | G18: =AVERAGE(C21:J90) -> 43.180897 | I18: =AVERAGE(I8:I15) -> 0.68014954
C20: =B8 -> Кочетов Игорь | D20: =B9 -> Поляруш Александр | E20: =B10 -> Кочетов Игорь | F20: =B11 -> Поляруш Александр | G20: =B12 -> Кочетов Игорь | H20: =B13 -> Поляруш Александр | I20: =B14 -> Поляруш Александр | J20: =B15 -> Кочетов Игорь
B21: 1 | C21: 44.84 | D21: 44.38 | E21: 43.95 | F21: 45.89 | G21: 44.04 | H21: 44.42 | I21: 45.74 | J21: 43.7
B22: 2 | C22: 44.16 | D22: 45.05 | E22: 42.72 | F22: 43.92 | G22: 43.6 | H22: 44.17 | I22: 43.1 | J22: 43.12
B23: 3 | C23: 43.94 | D23: 43.3 | E23: 42.42 | F23: 44.53 | G23: 42.8 | H23: 43.37 | I23: 44.14 | J23: 42.71
B24: 4 | C24: 42.81 | D24: 43.25 | E24: 42.76 | F24: 44.08 | G24: 42.89 | H24: 43.3 | I24: 44.24 | J24: 43.34
B25: 5 | C25: 43.27 | D25: 43.23 | E25: 43.66 | F25: 43.75 | G25: 42.9 | H25: 43.01 | I25: 42.98 | J25: 42.41
B26: 6 | C26: 42.34 | D26: 43.58 | E26: 42.74 | F26: 44.76 | G26: 42.79 | H26: 45.12 | I26: 42.82 | J26: 42.61
B27: 7 | C27: 44.4 | D27: 43.61 | E27: 42.74 | F27: 43.58 | G27: 42.93 | H27: 43.59 | I27: 43.59 | J27: 42.62
B28: 8 | C28: 42.03 | D28: 43.11 | E28: 42.48 | F28: 44.12 | G28: 42.42 | H28: 43.49 | I28: 43.19 | J28: 42.78
B29: 9 | C29: 42.68 | D29: 43.54 | E29: 42.33 | F29: 44.44 | G29: 43.06 | H29: 43.56 | I29: 44.25 | J29: 42.7
B30: 10 | C30: 43.95 | D30: 43.26 | E30: 42.84 | F30: 43.97 | G30: 43.03 | H30: 44.98 | I30: 42.91 | J30: 42.45
B31: 11 | C31: 42.62 | D31: 43.46 | E31: 42.63 | F31: 44 | G31: 42.81 | H31: 43.19 | I31: 43.85 | J31: 42.76
B32: 12 | C32: 42.45 | D32: 44.37 | E32: 42.58 | F32: 43.85 | G32: 42.67 | H32: 44.08 | I32: 43.94 | J32: 42.68
... B42: 22 | C42: 42.47 | D42: 43.04 | E42: 42.79 | F42: 44.35 | G42: 42.56 | H42: 43.1 | I42: 43.66 | J42: 43.45
B43: 23 | C43: 42.08 | D43: 43.38 | E43: 44.18 | F43: 44.13 | G43: 42.56 | H43: 43.56 | I43: 43.09
B44: 24 | C44: 42.25 | D44: 43.04 | E44: 43.75 | F44: 43.3 | G44: 42.64 | H44: 43.59 | I44: 43.02
B45: 25 | C45: 42.36 | D45: 44.79 | E45: 42.25 | F45: 43.59 | G45: 42.89 | H45: 43.05 | I45: 43.15
B46: 26 | C46: 42.25 | D46: 44.25 | E46: 43.3 | F46: 43.34 | G46: 42.77 | I46: 43.57
B47: 27 | C47: 42.28 | D47: 43.14 | E47: 42.67 | F47: 43.7 | G47: 42.99 | I47: 42.9
B48: 28 | C48: 42.06 | D48: 43.18 | E48: 43.18 | F48: 44.47 | G48: 43.02 | I48: 43.81
B49: 29 | C49: 42.23 | D49: 43.24 | E49: 42.29 | F49: 43.45 | G49: 43 | I49: 42.89
B50: 30 | C50: 42.13 | D50: 45.34 | E50: 42.3 | F50: 43.68 | G50: 43.07 | I50: 42.93
B51: 31 | C51: 42.1 | D51: 43.94 | E51: 42.71 | F51: 42.94 | G51: 42.95 | I51: 43.22
B52: 32 | C52: 42.27 | D52: 42.78 | E52: 42.71 | F52: 43.72 | G52: 43 | I52: 42.6
B53: 33 | C53: 42.19 | D53: 43.53 | E53: 42.58 | F53: 44.76 | G53: 42.73 | I53: 42.89
B54: 34 | C54: 41.99 | D54: 43.51 | E54: 42.59 | F54: 44.17 | G54: 42.87 | I54: 43.04
B55: 35 | C55: 42.45 | D55: 43.77 | E55: 42.67 | F55: 43.72 | G55: 42.96 | I55: 42.98
B56: 36 | C56: 42.02 | D56: 43.34 | E56: 42.99 | F56: 43 | I56: 43.05
B57: 37 | C57: 42.15 | D57: 43.6 | E57: 42.58 | F57: 43.59 | I57: 43.13
B58: 38 | C58: 41.93 | D58: 43.17 | E58: 42.34 | F58: 43.73 | I58: 42.91
B59: 39 | C59: 42.13 | E59: 42.57 | F59: 43.69 | I59: 43.44
B60: 40 | C60: 42.8 | E60: 43.31 | F60: 43.6 | I60: 43.55
B61: 41 | E61: 42.53 | F61: 44.17 | I61: 42.56
B62: 42 | E62: 42.55 | F62: 43.31 | I62: 42.75
B63: 43 | E63: 42.71 | F63: 44.66 | I63: 42.83
B64: 44 | E64: 42.39 | F64: 43.39 | I64: 44.59
B65: 45 | E65: 42.34 | F65: 43.92
B66: 46 | E66: 42.62 | F66: 44.59
B67: 47 | E67: 42.45 | F67: 44.13
B68: 48 | E68: 43.07 | F68: 45.42
B69: 49 | E69: 42.59 | F69: 43.25
B70: 50 | E70: 42.28
B71: 51 | E71: 43.08
B72: 52 | E72: 42.74
B73: 53 | E73: 43.39
B74: 54 | E74: 42.27
B75: 55 | E75: 43.15
B76: 56 | E76: 43.11
B77: 57 | E77: 43.07
B78: 58 | E78: 42.88
B79: 59 | E79: 42.72
B80: 60
B81: 61
B82: 62
B83: 63
