Workbook

Sheet Общие результаты
A1: 2Серия мини марафонов "Большие Гонки 2019", 9-й этап, 10.08.19
A2: Конфигурация № 2R
A4: Место в гонке | B4: Команда | C4: № в гонке | D4: Квала | F4: Гонка | I4: Лучший круг в гонке
D5: Время | E5: Место | F5: Круги | G5: Время/от лидера | H5: От места выше | I5: Время | J5: На круге
A6: 1 | B6: Vpered ta vgory | C6: 3 | D6: 39.795 | E6: 3 | F6: 259 | G6: 03:00:08 | H6: - | I6: 39.51 | J6: 12
A7: 2 | B7: NSJ | C7: 17 | D7: 39.9 | E7: 5 | F7: 259 | G7: 29.23 | H7: =G7 -> 29.23 | I7: 39.49 | J7: 156
A8: 3 | B8: K44 | C8: 19 | D8: 39.775 | E8: 2 | F8: 259 | G8: 35.04 | H8: =G8-G7 -> 5.81 | I8: 39.51 | J8: 256
A9: 4 | B9: Winni | C9: 14 | D9: 39.96 | E9: 8 | F9: 258 | G9: 1 круг | H9: 8 | I9: 39.52 | J9: 61
A10: 5 | B10: Kozaks | C10: 11 | D10: 39.855 | E10: 4 | F10: 258 | G10: 1 круг | H10: 0.5 | I10: 39.67 | J10: 163
A11: 6 | B11: MST | C11: 16 | D11: 40.22 | E11: 16 | F11: 258 | G11: 1 круг | H11: 11 | I11: 39.44 | J11: 23
A12: 7 | B12: NFS Fortuna RT | C12: 9 | D12: 39.92 | E12: 6 | F12: 258 | G12: 1 круг | H12: 20 | I12: 39.64 | J12: 110
A13: 8 | B13: 50 Grams | C13: 4 | D13: 39.935 | E13: 7 | F13: 257 | G13: 2 круга | H13: 13 | I13: 39.69 | J13: 17
A14: 9 | B14: Battle Master | C14: 18 | D14: 39.985 | E14: 9 | F14: 257 | G14: 2 круга | H14: 12 | I14: 39.7 | J14: 20
A15: 10 | B15: Hurricane | C15: 12 | D15: 40.09 | E15: 12 | F15: 257 | G15: 2 круга | H15: 1 | I15: 39.67 | J15: 143
A16: 11 | B16: Kart Freedom RT | C16: 6 | D16: 40.055 | E16: 11 | F16: 257 | G16: 2 круга | H16: 10 | I16: 39.33 | J16: 239
A17: 12 | B17: KartFreedom | C17: 2 | D17: 39.725 | E17: 1 | F17: 257 | G17: 2 круга | H17: 2 | I17: 39.59 | J17: 177
A18: 13 | B18: Na CnuDaX | C18: 13 | D18: 40.395 | E18: 17 | F18: 256 | G18: 3 круга | H18: 23 | I18: 39.73 | J18: 249
A19: 14 | B19: KartFreedom JT | C19: 8 | D19: 40.105 | E19: 13 | F19: 256 | G19: 3 круга | H19: 1 | I19: 39.72 | J19: 225
A20: 15 | B20: Flash | C20: 7 | D20: 40.11 | E20: 14 | F20: 256 | G20: 3 круга | H20: 2 | I20: 39.8 | J20: 26
A21: 16 | B21: Jaguar | C21: 1 | D21: 40.05 | E21: 10 | F21: 256 | G21: 3 круга | H21: 10 | I21: 39.8 | J21: 31
A22: 17 | B22: Akuna Matata | C22: 5 | D22: 40.15 | E22: 15 | F22: 254 | G22: 5 кругов | H22: 2 круга | I22: 40.17 | J22: 46
A23: 18 | B23: Karta | C23: 10 | D23: 41.475 | E23: 18 | F23: 251 | G23: 8 кругов | H23: 3 круга | I23: 40.28 | J23: 24

Sheet Регистрация 
A1: Серия мини марафонов "Большие Гонки 2019", 9-й этап,10.08.19
A3: Регистрационная форма
AF4: 4ч
A5: № в гонке | B5: Команда | C5: Пилот | D5: № | E5: Вес | F5: Бонус | G5: Квалификация | Z5: 3ч | AK5: 2 ел
G6: карт | H6: Время | I6: бонус | J6: Итого | K6: Среднее | L6: Место | M6: 3 | N6: бонусы за вес | Z6: 2 | AA6: 1 | AB6: кол | AC6: бон | AD6: 1 | AE6: 2 | AF6: бон | AG6: уч | AH6: кол> | AI6: 2 уч | AJ6: 3 уч | AK6: 1из2 | AL6: 2из2 3из3
A7: 1 | B7: Jaguar | C7: Лихошерст Леша | D7: 1-1 | E7: 70.3 | F7: =IF(M6=3,AC7,AF6) -> 0 | G7: 2 | H7: 39.91 | I7: =IF(E7<84.9,0,IF(E7<87.4,0.1,IF(E7<89.9,0.15,IF(E7<92.4,0.2,IF(E7<94.9,0.25,IF(E7<97.4,0.3,IF(E7<99.9,0.35,0.4))))))) -> 0 | J7: =H7-I7 -> 39.91 | K7: =AVERAGE(J7:J8) -> 40.05 | L7: =RANK(K7,K7:K60,1) -> 10 | M7: кв | N7: 0.05 | O7: 0.1 | P7: 0.15 | Q7: 0.2 | R7: 0.25 | S7: 0.3 | T7: 0.35 | U7: =N7*8 -> 0.4 | Z7: =AVERAGE(E7:E8) -> 75.5 | AA7: =IF(E7>84.9,E7,E8) -> 80.7 | AB7: =COUNTIF(E7:E9,">84.9") -> 0 | AC7: =IF(AB7=1,AD7,AE7) -> 0 | AD7: =IF(AA7<84.9,0,IF(AA7<87.4,9,IF(AA7<89.9,13.5,IF(AA7<92.4,18,IF(AA7<94.9,22.5,IF(AA7<97.4,27,IF(AA7<99.9,31.5,36))))))) -> 0 | AE7: =IF(Z7<84.9,0,IF(Z7<87.4,18,IF(Z7<89.9,27,IF(Z7<92.4,36,IF(Z7<94.9,45,IF(Z7<97.4,54,IF(Z7<99.9,63,72))))))) -> 0 | AF7: =IF(AG7=2,AI7,AJ7) -> 0 | AG7: =COUNTIF(E7:E9,">1") -> 2 | AH7: =COUNTIF(E7:E9,">84.9") -> 0 | AI7: =IF(AH7=1,AK7,AL7) -> 0 | AK7: =IF(AA7<84.9,0,IF(AA7<87.4,9,IF(AA7<89.9,13.5,IF(AA7<92.4,18,IF(AA7<94.9,22.5,IF(AA7<97.4,27,IF(AA7<99.9,31.5,36))))))) -> 0
C8: Старовой Андрей | D8: 1-2 | E8: 80.7 | G8: 3 | H8: 40.19 | I8: =IF(E8<84.9,0,IF(E8<87.4,0.1,IF(E8<89.9,0.15,IF(E8<92.4,0.2,IF(E8<94.9,0.25,IF(E8<97.4,0.3,IF(E8<99.9,0.35,0.4))))))) -> 0 | J8: =H8-I8 -> 40.19 | M8: 3 часа | N8: =1.5*3 -> 4.5 | O8: =1.5*3*2 -> 9 | P8: =1.5*3*3 -> 13.5 | Q8: =1.5*3*4 -> 18 | R8: =1.5*3*5 -> 22.5 | S8: =1.5*3*6 -> 27 | T8: =1.5*3*7 -> 31.5 | U8: =1.5*3*8 -> 36 | V8: 1 пилот | AI8: =IF(AH8=1,AK8,AL8) -> 0
D9: 1-3 | I9: =IF(E9<84.9,0,IF(E9<87.4,0.1,IF(E9<89.9,0.15,IF(E9<92.4,0.2,IF(E9<94.9,0.25,IF(E9<97.4,0.3,IF(E9<99.9,0.35,0.4))))))) -> 0 | J9: =H9-I9 -> 0 | N9: =3*3 -> 9 | O9: =3*3*2 -> 18 | P9: =3*3*3 -> 27 | Q9: =3*3*4 -> 36 | R9: =3*3*5 -> 45 | S9: =3*3*6 -> 54 | T9: =3*3*7 -> 63 | U9: =3*3*8 -> 72 | V9: 2 пилота | AI9: =IF(AH9=1,AK9,AL9) -> 0
A10: 2 | B10: Kart Freedom | C10: Паненко Женя | D10: 2-1 | E10: 85.9 | F10: =IF(M6=3,AC10,AF9) -> 27 | G10: 3 | H10: 39.84 | I10: =IF(E10<84.9,0,IF(E10<87.4,0.1,IF(E10<89.9,0.15,IF(E10<92.4,0.2,IF(E10<94.9,0.25,IF(E10<97.4,0.3,IF(E10<99.9,0.35,0.4))))))) -> 0.1 | J10: =H10-I10 -> 39.74 | K10: =AVERAGE(J10:J11) -> 39.725 | L10: =RANK(K10,K7:K60,1) -> 1 | M10: вес | N10: 82.5 | O10: 85 | P10: 87.5 | Q10: 90 | R10: 92.5 | S10: 95 | T10: 97.5 | U10: 100 | Z10: =AVERAGE(E10:E11) -> 89.25 | AA10: =IF(E10>84.9,E10,E11) -> 85.9 | AB10: =COUNTIF(E10:E12,">84.9") -> 2 | AC10: =IF(AB10=1,AD10,AE10) -> 27 | AD10: =IF(AA10<84.9,0,IF(AA10<87.4,9,IF(AA10<89.9,13.5,IF(AA10<92.4,18,IF(AA10<94.9,22.5,IF(AA10<97.4,27,IF(AA10<99.9,31.5,36))))))) -> 9 | AE10: =IF(Z10<84.9,0,IF(Z10<87.4,18,IF(Z10<89.9,27,IF(Z10<92.4,36,IF(Z10<94.9,45,IF(Z10<97.4,54,IF(Z10<99.9,63,72))))))) -> 27 | AF10: =IF(AG10=2,AI10,AJ10) -> 0 | AG10: =COUNTIF(E10:E12,">1") -> 2 | AH10: =COUNTIF(E10:E12,">84.9") -> 2 | AI10: =IF(AH10=1,AK10,AL10) -> 0
C11: Терещенко Андрей | D11: 2-2 | E11: 92.6 | G11: 4 | H11: 39.96 | I11: =IF(E11<84.9,0,IF(E11<87.4,0.1,IF(E11<89.9,0.15,IF(E11<92.4,0.2,IF(E11<94.9,0.25,IF(E11<97.4,0.3,IF(E11<99.9,0.35,0.4))))))) -> 0.25 | J11: =H11-I11 -> 39.71 | M11: 4 часа | N11: =1.5*4 -> 6 | O11: =1.5*4*2 -> 12 | P11: =1.5*4*3 -> 18 | Q11: =1.5*4*4 -> 24 | R11: =1.5*4*5 -> 30 | S11: =1.5*4*6 -> 36 | T11: =1.5*4*7 -> 42 | U11: =1.5*4*8 -> 48 | V11: 1 пилот | W11: 2 участника в команде | AI11: =IF(AH11=1,AK11,AL11) -> 0
D12: 2-3 | I12: =IF(E12<84.9,0,IF(E12<87.4,0.1,IF(E12<89.9,0.15,IF(E12<92.4,0.2,IF(E12<94.9,0.25,IF(E12<97.4,0.3,IF(E12<99.9,0.35,0.4))))))) -> 0 | J12: =H12-I12 -> 0 | N12: =3*4 -> 12 | O12: =3*4*2 -> 24 | P12: =3*4*3 -> 36 | Q12: =3*4*4 -> 48 | R12: =3*4*5 -> 60 | S12: =3*4*6 -> 72 | T12: =3*4*7 -> 84 | U12: =3*4*8 -> 96 | V12: 2 пилота | AI12: =IF(AH12=1,AK12,AL12) -> 0
A13: 3 | B13: Vpered ta Vgory | C13: Манило Денис | D13: 3-1 | E13: 82.6 | F13: =IF(M6=3,AC13,AF12) -> 0 | G13: 5 | H13: 39.9 | I13: =IF(E13<84.9,0,IF(E13<87.4,0.1,IF(E13<89.9,0.15,IF(E13<92.4,0.2,IF(E13<94.9,0.25,IF(E13<97.4,0.3,IF(E13<99.9,0.35,0.4))))))) -> 0 | J13: =H13-I13 -> 39.9 | K13: =AVERAGE(J13:J14) -> 39.795 | L13: =RANK(K13,K7:K60,1) -> 3 | N13: =1*4 -> 4 | O13: =1*4*2 -> 8 | P13: =1*4*3 -> 12 | Q13: =1*4*4 -> 16 | R13: =1*4*5 -> 20 | S13: =1*4*6 -> 24 | T13: =1*4*7 -> 28 | U13: =1*4*8 -> 32 | V13: 1 пилот | W13: 3 участника в команде | Z13: =AVERAGE(E13:E14) -> 80.9 | AA13: =IF(E13>84.9,E13,E14) -> 79.2 | AB13: =COUNTIF(E13:E15,">84.9") -> 0 | AC13: =IF(AB13=1,AD13,AE13) -> 0 | AD13: =IF(AA13<84.9,0,IF(AA13<87.4,9,IF(AA13<89.9,13.5,IF(AA13<92.4,18,IF(AA13<94.9,22.5,IF(AA13<97.4,27,IF(AA13<99.9,31.5,36))))))) -> 0 | AE13: =IF(Z13<84.9,0,IF(Z13<87.4,18,IF(Z13<89.9,27,IF(Z13<92.4,36,IF(Z13<94.9,45,IF(Z13<97.4,54,IF(Z13<99.9,63,72))))))) -> 0 | AF13: =IF(AG13=2,AI13,AJ13) -> 0 | AG13: =COUNTIF(E13:E15,">1") -> 2 | AH13: =COUNTIF(E13:E15,">84.9") -> 0 | AI13: =IF(AH13=1,AK13,AL13) -> 0
C14: Петушков Андрей | D14: 3-2 | E14: 79.2 | G14: 4 | H14: 39.69 | I14: =IF(E14<84.9,0,IF(E14<87.4,0.1,IF(E14<89.9,0.15,IF(E14<92.4,0.2,IF(E14<94.9,0.25,IF(E14<97.4,0.3,IF(E14<99.9,0.35,0.4))))))) -> 0 | J14: =H14-I14 -> 39.69 | N14: =2*4 -> 8 | O14: =2*4*2 -> 16 | P14: =2*4*3 -> 24 | Q14: =2*4*4 -> 32 | R14: =2*4*5 -> 40 | S14: =2*4*6 -> 48 | T14: =2*4*7 -> 56 | U14: =2*4*8 -> 64 | V14: 2 пилота | AI14: =IF(AH14=1,AK14,AL14) -> 0
D15: 3-3 | I15: =IF(E15<84.9,0,IF(E15<87.4,0.1,IF(E15<89.9,0.15,IF(E15<92.4,0.2,IF(E15<94.9,0.25,IF(E15<97.4,0.3,IF(E15<99.9,0.35,0.4))))))) -> 0 | J15: =H15-I15 -> 0 | N15: =3*4 -> 12 | O15: =3*4*2 -> 24 | P15: =3*4*3 -> 36 | Q15: =3*4*4 -> 48 | R15: =3*4*5 -> 60 | S15: =3*4*6 -> 72 | T15: =3*4*7 -> 84 | U15: =3*4*8 -> 96 | V15: 3 пилота | AI15: =IF(AH15=1,AK15,AL15) -> 0
A16: 4 | B16: 50 Grams | C16: Сомок Денис | D16: 4-1 | E16: 73.4 | F16: =IF(M6=3,AC16,AF15) -> 0 | G16: 5 | H16: 39.94 | I16: =IF(E16<84.9,0,IF(E16<87.4,0.1,IF(E16<89.9,0.15,IF(E16<92.4,0.2,IF(E16<94.9,0.25,IF(E16<97.4,0.3,IF(E16<99.9,0.35,0.4))))))) -> 0 | J16: =H16-I16 -> 39.94 | K16: =AVERAGE(J16:J17) -> 39.935 | L16: =RANK(K16,K7:K60,1) -> 7 | Z16: =AVERAGE(E16:E17) -> 77.3 | AA16: =IF(E16>84.9,E16,E17) -> 81.2 | AB16: =COUNTIF(E16:E18,">84.9") -> 0 | AC16: =IF(AB16=1,AD16,AE16) -> 0 | AD16: =IF(AA16<84.9,0,IF(AA16<87.4,9,IF(AA16<89.9,13.5,IF(AA16<92.4,18,IF(AA16<94.9,22.5,IF(AA16<97.4,27,IF(AA16<99.9,31.5,36))))))) -> 0 | AE16: =IF(Z16<84.9,0,IF(Z16<87.4,18,IF(Z16<89.9,27,IF(Z16<92.4,36,IF(Z16<94.9,45,IF(Z16<97.4,54,IF(Z16<99.9,63,72))))))) -> 0 | AF16: =IF(AG16=2,AI16,AJ16) -> 0 | AG16: =COUNTIF(E16:E18,">1") -> 2 | AH16: =COUNTIF(E16:E18,">84.9") -> 0 | AI16: =IF(AH16=1,AK16,AL16) -> 0
C17: Шиленко Саша | D17: 4-2 | E17: 81.2 | G17: 6 | H17: 39.93 | I17: =IF(E17<84.9,0,IF(E17<87.4,0.1,IF(E17<89.9,0.15,IF(E17<92.4,0.2,IF(E17<94.9,0.25,IF(E17<97.4,0.3,IF(E17<99.9,0.35,0.4))))))) -> 0 | J17: =H17-I17 -> 39.93 | AF17: =IF(AG17=2,AI17,AJ17) -> 0 | AG17: =COUNTIF(E17:E19,">1") -> 2 | AH17: =COUNTIF(E17:E19,">84.9") -> 0 | AI17: =IF(AH17=1,AK17,AL17) -> 0
D18: 4-3 | I18: =IF(E18<84.9,0,IF(E18<87.4,0.1,IF(E18<89.9,0.15,IF(E18<92.4,0.2,IF(E18<94.9,0.25,IF(E18<97.4,0.3,IF(E18<99.9,0.35,0.4))))))) -> 0 | J18: =H18-I18 -> 0 | AF18: =IF(AG18=2,AI18,AJ18) -> 0 | AG18: =COUNTIF(E18:E20,">1") -> 2 | AH18: =COUNTIF(E18:E20,">84.9") -> 1 | AI18: =IF(AH18=1,AK18,AL18) -> 0
A19: 5 | B19: Akuna Matata | C19: Константинов Владимир | D19: 5-1 | E19: 74.4 | F19: =IF(M6=3,AC19,AF18) -> 31.5 | G19: 7 | H19: 40.4 | I19: =IF(E19<84.9,0,IF(E19<87.4,0.1,IF(E19<89.9,0.15,IF(E19<92.4,0.2,IF(E19<94.9,0.25,IF(E19<97.4,0.3,IF(E19<99.9,0.35,0.4))))))) -> 0 | J19: =H19-I19 -> 40.4 | K19: =AVERAGE(J19:J20) -> 40.15 | L19: =RANK(K19,K7:K60,1) -> 15 | Z19: =AVERAGE(E19:E20) -> 86.65 | AA19: =IF(E19>84.9,E19,E20) -> 98.9 | AB19: =COUNTIF(E19:E21,">84.9") -> 1 | AC19: =IF(AB19=1,AD19,AE19) -> 31.5 | AD19: =IF(AA19<84.9,0,IF(AA19<87.4,9,IF(AA19<89.9,13.5,IF(AA19<92.4,18,IF(AA19<94.9,22.5,IF(AA19<97.4,27,IF(AA19<99.9,31.5,36))))))) -> 31.5 | AE19: =IF(Z19<84.9,0,IF(Z19<87.4,18,IF(Z19<89.9,27,IF(Z19<92.4,36,IF(Z19<94.9,45,IF(Z19<97.4,54,IF(Z19<99.9,63,72))))))) -> 18 | AF19: =IF(AG19=2,AI19,AJ19) -> 0 | AG19: =COUNTIF(E19:E21,">1") -> 2 | AH19: =COUNTIF(E19:E21,">84.9") -> 1 | AI19: =IF(AH19=1,AK19,AL19) -> 0
C20: Пархомчук Саша | D20: 5-2 | E20: 98.9 | G20: 6 | H20: 40.25 | I20: =IF(E20<84.9,0,IF(E20<87.4,0.1,IF(E20<89.9,0.15,IF(E20<92.4,0.2,IF(E20<94.9,0.25,IF(E20<97.4,0.3,IF(E20<99.9,0.35,0.4))))))) -> 0.35 | J20: =H20-I20 -> 39.9 | AF20: =IF(AG20=2,AI20,AJ20) -> 0 | AG20: =COUNTIF(E20:E22,">1") -> 2 | AH20: =COUNTIF(E20:E22,">84.9") -> 1 | AI20: =IF(AH20=1,AK20,AL20) -> 0
D21: 5-3 | I21: =IF(E21<84.9,0,IF(E21<87.4,0.1,IF(E21<89.9,0.15,IF(E21<92.4,0.2,IF(E21<94.9,0.25,IF(E21<97.4,0.3,IF(E21<99.9,0.35,0.4))))))) -> 0 | J21: =H21-I21 -> 0 | AF21: =IF(AG21=2,AI21,AJ21) -> 0 | AG21: =COUNTIF(E21:E23,">1") -> 2 | AH21: =COUNTIF(E21:E23,">84.9") -> 0 | AI21: =IF(AH21=1,AK21,AL21) -> 0
A22: 6 | B22: KartFreedom RT | C22: Юрченко Вова | D22: 6-1 | E22: 74.1 | F22: =IF(M6=3,AC22,AF21) -> 0 | G22: 7 | H22: 40.18 | I22: =IF(E22<84.9,0,IF(E22<87.4,0.1,IF(E22<89.9,0.15,IF(E22<92.4,0.2,IF(E22<94.9,0.25,IF(E22<97.4,0.3,IF(E22<99.9,0.35,0.4))))))) -> 0 | J22: =H22-I22 -> 40.18 | K22: =AVERAGE(J22:J23) -> 40.055 | L22: =RANK(K22,K7:K60,1) -> 11 | Z22: =AVERAGE(E22:E23) -> 64.05 | AA22: =IF(E22>84.9,E22,E23) -> 54 | AB22: =COUNTIF(E22:E24,">84.9") -> 0 | AC22: =IF(AB22=1,AD22,AE22) -> 0 | AD22: =IF(AA22<84.9,0,IF(AA22<87.4,9,IF(AA22<89.9,13.5,IF(AA22<92.4,18,IF(AA22<94.9,22.5,IF(AA22<97.4,27,IF(AA22<99.9,31.5,36))))))) -> 0 | AE22: =IF(Z22<84.9,0,IF(Z22<87.4,18,IF(Z22<89.9,27,IF(Z22<92.4,36,IF(Z22<94.9,45,IF(Z22<97.4,54,IF(Z22<99.9,63,72))))))) -> 0 | AF22: =IF(AG22=2,AI22,AJ22) -> 0 | AG22: =COUNTIF(E22:E24,">1") -> 2 | AH22: =COUNTIF(E22:E24,">84.9") -> 0 | AI22: =IF(AH22=1,AK22,AL22) -> 0
C23: Медведева Дарья | D23: 6-2 | E23: 54 | G23: 8 | H23: 39.93 | I23: =IF(E23<84.9,0,IF(E23<87.4,0.1,IF(E23<89.9,0.15,IF(E23<92.4,0.2,IF(E23<94.9,0.25,IF(E23<97.4,0.3,IF(E23<99.9,0.35,0.4))))))) -> 0 | J23: =H23-I23 -> 39.93 | AF23: =IF(AG23=2,AI23,AJ23) -> 0 | AG23: =COUNTIF(E23:E25,">1") -> 2 | AH23: =COUNTIF(E23:E25,">84.9") -> 1 | AI23: =IF(AH23=1,AK23,AL23) -> 0
D24: 6-3 | I24: =IF(E24<84.9,0,IF(E24<87.4,0.1,IF(E24<89.9,0.15,IF(E24<92.4,0.2,IF(E24<94.9,0.25,IF(E24<97.4,0.3,IF(E24<99.9,0.35,0.4))))))) -> 0 | J24: =H24-I24 -> 0 | AF24: =IF(AG24=2,AI24,AJ24) -> 0 | AG24: =COUNTIF(E24:E26,">1") -> 2 | AH24: =COUNTIF(E24:E26,">84.9") -> 1 | AI24: =IF(AH24=1,AK24,AL24) -> 0
A25: 7 | B25: Flash | C25: Загорулько Иван | D25: 7-1 | E25: 97.7 | F25: =IF(M6=3,AC25,AF24) -> 31.5 | G25: 8 | H25: 40.53 | I25: =IF(E25<84.9,0,IF(E25<87.4,0.1,IF(E25<89.9,0.15,IF(E25<92.4,0.2,IF(E25<94.9,0.25,IF(E25<97.4,0.3,IF(E25<99.9,0.35,0.4))))))) -> 0.35 | J25: =H25-I25 -> 40.18 | K25: =AVERAGE(J25:J26) -> 40.11 | L25: =RANK(K25,K7:K60,1) -> 14 | Z25: =AVERAGE(E25:E26) -> 86.8 | AA25: =IF(E25>84.9,E25,E26) -> 97.7 | AB25: =COUNTIF(E25:E27,">84.9") -> 1 | AC25: =IF(AB25=1,AD25,AE25) -> 31.5 | AD25: =IF(AA25<84.9,0,IF(AA25<87.4,9,IF(AA25<89.9,13.5,IF(AA25<92.4,18,IF(AA25<94.9,22.5,IF(AA25<97.4,27,IF(AA25<99.9,31.5,36))))))) -> 31.5 | AE25: =IF(Z25<84.9,0,IF(Z25<87.4,18,IF(Z25<89.9,27,IF(Z25<92.4,36,IF(Z25<94.9,45,IF(Z25<97.4,54,IF(Z25<99.9,63,72))))))) -> 18 | AF25: =IF(AG25=2,AI25,AJ25) -> 0 | AG25: =COUNTIF(E25:E27,">1") -> 2 | AH25: =COUNTIF(E25:E27,">84.9") -> 1 | AI25: =IF(AH25=1,AK25,AL25) -> 0
C26: Якусик Саша | D26: 7-2 | E26: 75.9 | G26: 9 | H26: 40.04 | I26: =IF(E26<84.9,0,IF(E26<87.4,0.1,IF(E26<89.9,0.15,IF(E26<92.4,0.2,IF(E26<94.9,0.25,IF(E26<97.4,0.3,IF(E26<99.9,0.35,0.4))))))) -> 0 | J26: =H26-I26 -> 40.04 | AF26: =IF(AG26=2,AI26,AJ26) -> 0 | AG26: =COUNTIF(E26:E28,">1") -> 2 | AH26: =COUNTIF(E26:E28,">84.9") -> 0 | AI26: =IF(AH26=1,AK26,AL26) -> 0
D27: 7-3 | I27: =IF(E27<84.9,0,IF(E27<87.4,0.1,IF(E27<89.9,0.15,IF(E27<92.4,0.2,IF(E27<94.9,0.25,IF(E27<97.4,0.3,IF(E27<99.9,0.35,0.4))))))) -> 0 | J27: =H27-I27 -> 0 | AF27: =IF(AG27=2,AI27,AJ27) -> 0 | AG27: =COUNTIF(E27:E29,">1") -> 2 | AH27: =COUNTIF(E27:E29,">84.9") -> 0 | AI27: =IF(AH27=1,AK27,AL27) -> 0
A28: 8 | B28: KartFreedom JT | C28: Новиков Герман | D28: 8-1 | E28: 54.6 | F28: =IF(M6=3,AC28,AF27) -> 0 | G28: 9 | H28: 40.12 | I28: =IF(E28<84.9,0,IF(E28<87.4,0.1,IF(E28<89.9,0.15,IF(E28<92.4,0.2,IF(E28<94.9,0.25,IF(E28<97.4,0.3,IF(E28<99.9,0.35,0.4))))))) -> 0 | J28: =H28-I28 -> 40.12 | K28: =AVERAGE(J28:J29) -> 40.105 | L28: =RANK(K28,K7:K60,1) -> 13 | Z28: =AVERAGE(E28:E29) -> 64.05 | AA28: =IF(E28>84.9,E28,E29) -> 73.5 | AB28: =COUNTIF(E28:E30,">84.9") -> 0 | AC28: =IF(AB28=1,AD28,AE28) -> 0 | AD28: =IF(AA28<84.9,0,IF(AA28<87.4,9,IF(AA28<89.9,13.5,IF(AA28<92.4,18,IF(AA28<94.9,22.5,IF(AA28<97.4,27,IF(AA28<99.9,31.5,36))))))) -> 0 | AE28: =IF(Z28<84.9,0,IF(Z28<87.4,18,IF(Z28<89.9,27,IF(Z28<92.4,36,IF(Z28<94.9,45,IF(Z28<97.4,54,IF(Z28<99.9,63,72))))))) -> 0 | AF28: =IF(AG28=2,AI28,AJ28) -> 0 | AG28: =COUNTIF(E28:E30,">1") -> 2 | AH28: =COUNTIF(E28:E30,">84.9") -> 0 | AI28: =IF(AH28=1,AK28,AL28) -> 0
C29: Замула Илья | D29: 8-2 | E29: 73.5 | G29: 10 | H29: 40.09 | I29: =IF(E29<84.9,0,IF(E29<87.4,0.1,IF(E29<89.9,0.15,IF(E29<92.4,0.2,IF(E29<94.9,0.25,IF(E29<97.4,0.3,IF(E29<99.9,0.35,0.4))))))) -> 0 | J29: =H29-I29 -> 40.09 | AF29: =IF(AG29=2,AI29,AJ29) -> 0 | AG29: =COUNTIF(E29:E31,">1") -> 2 | AH29: =COUNTIF(E29:E31,">84.9") -> 0 | AI29: =IF(AH29=1,AK29,AL29) -> 0
D30: 8-3 | I30: =IF(E30<84.9,0,IF(E30<87.4,0.1,IF(E30<89.9,0.15,IF(E30<92.4,0.2,IF(E30<94.9,0.25,IF(E30<97.4,0.3,IF(E30<99.9,0.35,0.4))))))) -> 0 | J30: =H30-I30 -> 0 | AF30: =IF(AG30=2,AI30,AJ30) -> 0 | AG30: =COUNTIF(E30:E32,">1") -> 2 | AH30: =COUNTIF(E30:E32,">84.9") -> 0 | AI30: =IF(AH30=1,AK30,AL30) -> 0
A31: 9 | B31: NFS Fortuna RT | C31: Фортуна Таня | D31: 9-1 | E31: 80 | F31: =IF(M6=3,AC31,AF30) -> 0 | G31: 12 | H31: 40.09 | I31: =IF(E31<84.9,0,IF(E31<87.4,0.1,IF(E31<89.9,0.15,IF(E31<92.4,0.2,IF(E31<94.9,0.25,IF(E31<97.4,0.3,IF(E31<99.9,0.35,0.4))))))) -> 0 | J31: =H31-I31 -> 40.09 | K31: =AVERAGE(J31:J32) -> 39.92 | L31: =RANK(K31,K7:K60,1) -> 6 | Z31: =AVERAGE(E31:E32) -> 81.7 | AA31: =IF(E31>84.9,E31,E32) -> 83.4 | AB31: =COUNTIF(E31:E33,">84.9") -> 0 | AC31: =IF(AB31=1,AD31,AE31) -> 0 | AD31: =IF(AA31<84.9,0,IF(AA31<87.4,9,IF(AA31<89.9,13.5,IF(AA31<92.4,18,IF(AA31<94.9,22.5,IF(AA31<97.4,27,IF(AA31<99.9,31.5,36))))))) -> 0 | AE31: =IF(Z31<84.9,0,IF(Z31<87.4,18,IF(Z31<89.9,27,IF(Z31<92.4,36,IF(Z31<94.9,45,IF(Z31<97.4,54,IF(Z31<99.9,63,72))))))) -> 0 | AF31: =IF(AG31=2,AI31,AJ31) -> 0 | AG31: =COUNTIF(E31:E33,">1") -> 2 | AH31: =COUNTIF(E31:E33,">84.9") -> 0 | AI31: =IF(AH31=1,AK31,AL31) -> 0
C32: Шутка Виталий | D32: 9-2 | E32: 83.4 | G32: 11 | H32: 39.75 | I32: =IF(E32<84.9,0,IF(E32<87.4,0.1,IF(E32<89.9,0.15,IF(E32<92.4,0.2,IF(E32<94.9,0.25,IF(E32<97.4,0.3,IF(E32<99.9,0.35,0.4))))))) -> 0 | J32: =H32-I32 -> 39.75 | AF32: =IF(AG32=2,AI32,AJ32) -> 0 | AG32: =COUNTIF(E32:E34,">1") -> 2 | AH32: =COUNTIF(E32:E34,">84.9") -> 0 | AI32: =IF(AH32=1,AK32,AL32) -> 0
D33: 9-3 | I33: =IF(E33<84.9,0,IF(E33<87.4,0.1,IF(E33<89.9,0.15,IF(E33<92.4,0.2,IF(E33<94.9,0.25,IF(E33<97.4,0.3,IF(E33<99.9,0.35,0.4))))))) -> 0 | J33: =H33-I33 -> 0 | AF33: =IF(AG33=2,AI33,AJ33) -> 0 | AG33: =COUNTIF(E33:E35,">1") -> 2 | AH33: =COUNTIF(E33:E35,">84.9") -> 1 | AI33: =IF(AH33=1,AK33,AL33) -> 0
A34: 10 | B34: Karta | C34: Поляруш Александр | D34: 10-1 | E34: 73.4 | F34: =IF(M6=3,AC34,AF33) -> 13.5 | G34: 12 | H34: 40.54 | I34: =IF(E34<84.9,0,IF(E34<87.4,0.1,IF(E34<89.9,0.15,IF(E34<92.4,0.2,IF(E34<94.9,0.25,IF(E34<97.4,0.3,IF(E34<99.9,0.35,0.4))))))) -> 0 | J34: =H34-I34 -> 40.54 | K34: =AVERAGE(J34,J36) -> 41.475 | L34: =RANK(K34,K7:K60,1) -> 18 | Z34: =AVERAGE(E34:E35) -> 81.4 | AA34: =IF(E34>84.9,E34,E35) -> 89.4 | AB34: =COUNTIF(E34:E36,">84.9") -> 1 | AC34: =IF(AB34=1,AD34,AE34) -> 13.5 | AD34: =IF(AA34<84.9,0,IF(AA34<87.4,9,IF(AA34<89.9,13.5,IF(AA34<92.4,18,IF(AA34<94.9,22.5,IF(AA34<97.4,27,IF(AA34<99.9,31.5,36))))))) -> 13.5 | AE34: =IF(Z34<84.9,0,IF(Z34<87.4,18,IF(Z34<89.9,27,IF(Z34<92.4,36,IF(Z34<94.9,45,IF(Z34<97.4,54,IF(Z34<99.9,63,72))))))) -> 0 | AF34: =IF(AG34=2,AI34,AJ34) -> 0 | AG34: =COUNTIF(E34:E36,">1") -> 3 | AH34: =COUNTIF(E34:E36,">84.9") -> 1 | AI34: =IF(AH34=1,AK34,AL34) -> 0
C35: Литвиненко Виктор | D35: 10.2 | E35: 89.4 | I35: =IF(E35<84.9,0,IF(E35<87.4,0.1,IF(E35<89.9,0.15,IF(E35<92.4,0.2,IF(E35<94.9,0.25,IF(E35<97.4,0.3,IF(E35<99.9,0.35,0.4))))))) -> 0.15 | J35: =H35-I35 -> -0.15 | AF35: =IF(AG35=2,AI35,AJ35) -> 0 | AG35: =COUNTIF(E35:E37,">1") -> 3 | AH35: =COUNTIF(E35:E37,">84.9") -> 1 | AI35: =IF(AH35=1,AK35,AL35) -> 0
D36: 10-3 | E36: 44.5 | G36: 13 | H36: 42.41 | I36: =IF(E36<84.9,0,IF(E36<87.4,0.1,IF(E36<89.9,0.15,IF(E36<92.4,0.2,IF(E36<94.9,0.25,IF(E36<97.4,0.3,IF(E36<99.9,0.35,0.4))))))) -> 0 | J36: =H36-I36 -> 42.41 | AF36: =IF(AG36=2,AI36,AJ36) -> 0 | AG36: =COUNTIF(E36:E38,">1") -> 3 | AH36: =COUNTIF(E36:E38,">84.9") -> 0 | AI36: =IF(AH36=1,AK36,AL36) -> 0
A37: 11 | B37: Kozaks | C37: Пикулин Паша | D37: 11-1 | E37: 76 | F37: =IF(M6=3,AC37,AF36) -> 0 | G37: 13 | H37: 39.7 | I37: =IF(E37<84.9,0,IF(E37<87.4,0.1,IF(E37<89.9,0.15,IF(E37<92.4,0.2,IF(E37<94.9,0.25,IF(E37<97.4,0.3,IF(E37<99.9,0.35,0.4))))))) -> 0 | J37: =H37-I37 -> 39.7 | K37: =AVERAGE(J37:J38) -> 39.855 | L37: =RANK(K37,K7:K60,1) -> 4 | Z37: =AVERAGE(E37:E38) -> 74.85 | AA37: =IF(E37>84.9,E37,E38) -> 73.7 | AB37: =COUNTIF(E37:E39,">84.9") -> 0 | AC37: =IF(AB37=1,AD37,AE37) -> 0 | AD37: =IF(AA37<84.9,0,IF(AA37<87.4,9,IF(AA37<89.9,13.5,IF(AA37<92.4,18,IF(AA37<94.9,22.5,IF(AA37<97.4,27,IF(AA37<99.9,31.5,36))))))) -> 0 | AE37: =IF(Z37<84.9,0,IF(Z37<87.4,18,IF(Z37<89.9,27,IF(Z37<92.4,36,IF(Z37<94.9,45,IF(Z37<97.4,54,IF(Z37<99.9,63,72))))))) -> 0 | AF37: =IF(AG37=2,AI37,AJ37) -> 0 | AG37: =COUNTIF(E37:E39,">1") -> 2 | AH37: =COUNTIF(E37:E39,">84.9") -> 0 | AI37: =IF(AH37=1,AK37,AL37) -> 0
C38: Звягин Гриша | D38: 11-2 | E38: 73.7 | G38: 14 | H38: 40.01 | I38: =IF(E38<84.9,0,IF(E38<87.4,0.1,IF(E38<89.9,0.15,IF(E38<92.4,0.2,IF(E38<94.9,0.25,IF(E38<97.4,0.3,IF(E38<99.9,0.35,0.4))))))) -> 0 | J38: =H38-I38 -> 40.01 | AF38: =IF(AG38=2,AI38,AJ38) -> 0 | AG38: =COUNTIF(E38:E40,">1") -> 2 | AH38: =COUNTIF(E38:E40,">84.9") -> 0 | AI38: =IF(AH38=1,AK38,AL38) -> 0
D39: 11-3 | I39: =IF(E39<84.9,0,IF(E39<87.4,0.1,IF(E39<89.9,0.15,IF(E39<92.4,0.2,IF(E39<94.9,0.25,IF(E39<97.4,0.3,IF(E39<99.9,0.35,0.4))))))) -> 0 | J39: =H39-I39 -> 0 | AF39: =IF(AG39=2,AI39,AJ39) -> 0 | AG39: =COUNTIF(E39:E41,">1") -> 2 | AH39: =COUNTIF(E39:E41,">84.9") -> 0 | AI39: =IF(AH39=1,AK39,AL39) -> 0
A40: 12 | B40: Hurricane | C40: Стоцкий Андрей | D40: 12-1 | E40: 63.3 | F40: =IF(M6=3,AC40,AF39) -> 0 | G40: 15 | H40: 40.04 | I40: =IF(E40<84.9,0,IF(E40<87.4,0.1,IF(E40<89.9,0.15,IF(E40<92.4,0.2,IF(E40<94.9,0.25,IF(E40<97.4,0.3,IF(E40<99.9,0.35,0.4))))))) -> 0 | J40: =H40-I40 -> 40.04 | K40: =AVERAGE(J40:J41) -> 40.09 | L40: =RANK(K40,K7:K60,1) -> 12 | Z40: =AVERAGE(E40:E41) -> 68.15 | AA40: =IF(E40>84.9,E40,E41) -> 73 | AB40: =COUNTIF(E40:E42,">84.9") -> 0 | AC40: =IF(AB40=1,AD40,AE40) -> 0 | AD40: =IF(AA40<84.9,0,IF(AA40<87.4,9,IF(AA40<89.9,13.5,IF(AA40<92.4,18,IF(AA40<94.9,22.5,IF(AA40<97.4,27,IF(AA40<99.9,31.5,36))))))) -> 0 | AE40: =IF(Z40<84.9,0,IF(Z40<87.4,18,IF(Z40<89.9,27,IF(Z40<92.4,36,IF(Z40<94.9,45,IF(Z40<97.4,54,IF(Z40<99.9,63,72))))))) -> 0 | AF40: =IF(AG40=2,AI40,AJ40) -> 0 | AG40: =COUNTIF(E40:E42,">1") -> 2 | AH40: =COUNTIF(E40:E42,">84.9") -> 0 | AI40: =IF(AH40=1,AK40,AL40) -> 0
C41: Якусик Дима | D41: 12-2 | E41: 73 | G41: 14 | H41: 40.14 | I41: =IF(E41<84.9,0,IF(E41<87.4,0.1,IF(E41<89.9,0.15,IF(E41<92.4,0.2,IF(E41<94.9,0.25,IF(E41<97.4,0.3,IF(E41<99.9,0.35,0.4))))))) -> 0 | J41: =H41-I41 -> 40.14 | AF41: =IF(AG41=2,AI41,AJ41) -> 0 | AG41: =COUNTIF(E41:E43,">1") -> 2 | AH41: =COUNTIF(E41:E43,">84.9") -> 0 | AI41: =IF(AH41=1,AK41,AL41) -> 0
D42: 12-3 | I42: =IF(E42<84.9,0,IF(E42<87.4,0.1,IF(E42<89.9,0.15,IF(E42<92.4,0.2,IF(E42<94.9,0.25,IF(E42<97.4,0.3,IF(E42<99.9,0.35,0.4))))))) -> 0 | J42: =H42-I42 -> 0 | AF42: =IF(AG42=2,AI42,AJ42) -> 0 | AG42: =COUNTIF(E42:E44,">1") -> 2 | AH42: =COUNTIF(E42:E44,">84.9") -> 0 | AI42: =IF(AH42=1,AK42,AL42) -> 0
A43: 13 | B43: Na CnuDaX | C43: Харченко Артем | D43: 13-1 | E43: 80 | F43: =IF(M6=3,AC43,AF42) -> 0 | G43: 15 | H43: 40.27 | I43: =IF(E43<84.9,0,IF(E43<87.4,0.1,IF(E43<89.9,0.15,IF(E43<92.4,0.2,IF(E43<94.9,0.25,IF(E43<97.4,0.3,IF(E43<99.9,0.35,0.4))))))) -> 0 | J43: =H43-I43 -> 40.27 | K43: =AVERAGE(J43:J44) -> 40.395 | L43: =RANK(K43,K7:K60,1) -> 17 | Z43: =AVERAGE(E43:E44) -> 78.75 | AA43: =IF(E43>84.9,E43,E44) -> 77.5 | AB43: =COUNTIF(E43:E45,">84.9") -> 0 | AC43: =IF(AB43=1,AD43,AE43) -> 0 | AD43: =IF(AA43<84.9,0,IF(AA43<87.4,9,IF(AA43<89.9,13.5,IF(AA43<92.4,18,IF(AA43<94.9,22.5,IF(AA43<97.4,27,IF(AA43<99.9,31.5,36))))))) -> 0 | AE43: =IF(Z43<84.9,0,IF(Z43<87.4,18,IF(Z43<89.9,27,IF(Z43<92.4,36,IF(Z43<94.9,45,IF(Z43<97.4,54,IF(Z43<99.9,63,72))))))) -> 0 | AF43: =IF(AG43=2,AI43,AJ43) -> 0 | AG43: =COUNTIF(E43:E45,">1") -> 2 | AH43: =COUNTIF(E43:E45,">84.9") -> 0 | AI43: =IF(AH43=1,AK43,AL43) -> 0
C44: Голуб Сергей | D44: 13-2 | E44: 77.5 | G44: 16 | H44: 40.52 | I44: =IF(E44<84.9,0,IF(E44<87.4,0.1,IF(E44<89.9,0.15,IF(E44<92.4,0.2,IF(E44<94.9,0.25,IF(E44<97.4,0.3,IF(E44<99.9,0.35,0.4))))))) -> 0 | J44: =H44-I44 -> 40.52 | AF44: =IF(AG44=2,AI44,AJ44) -> 0 | AG44: =COUNTIF(E44:E46,">1") -> 2 | AH44: =COUNTIF(E44:E46,">84.9") -> 0 | AI44: =IF(AH44=1,AK44,AL44) -> 0
D45: 13-3 | I45: =IF(E45<84.9,0,IF(E45<87.4,0.1,IF(E45<89.9,0.15,IF(E45<92.4,0.2,IF(E45<94.9,0.25,IF(E45<97.4,0.3,IF(E45<99.9,0.35,0.4))))))) -> 0 | J45: =H45-I45 -> 0 | AF45: =IF(AG45=2,AI45,AJ45) -> 0 | AG45: =COUNTIF(E45:E47,">1") -> 2 | AH45: =COUNTIF(E45:E47,">84.9") -> 0 | AI45: =IF(AH45=1,AK45,AL45) -> 0
A46: 14 | B46: Winni | C46: Бахмацкий Олег | D46: 14-1 | E46: 82.2 | F46: =IF(M6=3,AC46,AF45) -> 0 | G46: 16 | H46: 40.06 | I46: =IF(E46<84.9,0,IF(E46<87.4,0.1,IF(E46<89.9,0.15,IF(E46<92.4,0.2,IF(E46<94.9,0.25,IF(E46<97.4,0.3,IF(E46<99.9,0.35,0.4))))))) -> 0 | J46: =H46-I46 -> 40.06 | K46: =AVERAGE(J46:J47) -> 39.96 | L46: =RANK(K46,K7:K60,1) -> 8 | Z46: =AVERAGE(E46:E47) -> 81.2 | AA46: =IF(E46>84.9,E46,E47) -> 80.2 | AB46: =COUNTIF(E46:E48,">84.9") -> 0 | AC46: =IF(AB46=1,AD46,AE46) -> 0 | AD46: =IF(AA46<84.9,0,IF(AA46<87.4,9,IF(AA46<89.9,13.5,IF(AA46<92.4,18,IF(AA46<94.9,22.5,IF(AA46<97.4,27,IF(AA46<99.9,31.5,36))))))) -> 0 | AE46: =IF(Z46<84.9,0,IF(Z46<87.4,18,IF(Z46<89.9,27,IF(Z46<92.4,36,IF(Z46<94.9,45,IF(Z46<97.4,54,IF(Z46<99.9,63,72))))))) -> 0 | AF46: =IF(AG46=2,AI46,AJ46) -> 0 | AG46: =COUNTIF(E46:E48,">1") -> 2 | AH46: =COUNTIF(E46:E48,">84.9") -> 0 | AI46: =IF(AH46=1,AK46,AL46) -> 0
C47: Лантушенко Игорь | D47: 14-2 | E47: 80.2 | G47: 11 | H47: 39.86 | I47: =IF(E47<84.9,0,IF(E47<87.4,0.1,IF(E47<89.9,0.15,IF(E47<92.4,0.2,IF(E47<94.9,0.25,IF(E47<97.4,0.3,IF(E47<99.9,0.35,0.4))))))) -> 0 | J47: =H47-I47 -> 39.86 | AF47: =IF(AG47=2,AI47,AJ47) -> 0 | AG47: =COUNTIF(E47:E49,">1") -> 2 | AH47: =COUNTIF(E47:E49,">84.9") -> 0 | AI47: =IF(AH47=1,AK47,AL47) -> 0
D48: 14-3 | I48: =IF(E48<84.9,0,IF(E48<87.4,0.1,IF(E48<89.9,0.15,IF(E48<92.4,0.2,IF(E48<94.9,0.25,IF(E48<97.4,0.3,IF(E48<99.9,0.35,0.4))))))) -> 0 | J48: =H48-I48 -> 0 | AF48: =IF(AG48=2,AI48,AJ48) -> 0 | AG48: =COUNTIF(E48:E50,">1") -> 2 | AH48: =COUNTIF(E48:E50,">84.9") -> 0 | AI48: =IF(AH48=1,AK48,AL48) -> 0
A49: 15 | B49: NSJ | C49: Мифтахутдинов Ильяс | D49: 15-1 | E49: 42.5 | F49: =IF(M6=3,AC49,AF48) -> 0 | G49: 33 | H49: 40.02 | I49: =IF(E49<84.9,0,IF(E49<87.4,0.1,IF(E49<89.9,0.15,IF(E49<92.4,0.2,IF(E49<94.9,0.25,IF(E49<97.4,0.3,IF(E49<99.9,0.35,0.4))))))) -> 0 | J49: =H49-I49 -> 40.02 | K49: =AVERAGE(J49:J50) -> 39.9 | L49: =RANK(K49,K7:K60,1) -> 5 | Z49: =AVERAGE(E49:E50) -> 62.4 | AA49: =IF(E49>84.9,E49,E50) -> 82.3 | AB49: =COUNTIF(E49:E51,">84.9") -> 0 | AC49: =IF(AB49=1,AD49,AE49) -> 0 | AD49: =IF(AA49<84.9,0,IF(AA49<87.4,9,IF(AA49<89.9,13.5,IF(AA49<92.4,18,IF(AA49<94.9,22.5,IF(AA49<97.4,27,IF(AA49<99.9,31.5,36))))))) -> 0 | AE49: =IF(Z49<84.9,0,IF(Z49<87.4,18,IF(Z49<89.9,27,IF(Z49<92.4,36,IF(Z49<94.9,45,IF(Z49<97.4,54,IF(Z49<99.9,63,72))))))) -> 0 | AF49: =IF(AG49=2,AI49,AJ49) -> 0 | AG49: =COUNTIF(E49:E51,">1") -> 2 | AH49: =COUNTIF(E49:E51,">84.9") -> 0 | AI49: =IF(AH49=1,AK49,AL49) -> 0
C50: Лысенский Денис | D50: 15-2 | E50: 82.3 | G50: 21 | H50: 39.78 | I50: =IF(E50<84.9,0,IF(E50<87.4,0.1,IF(E50<89.9,0.15,IF(E50<92.4,0.2,IF(E50<94.9,0.25,IF(E50<97.4,0.3,IF(E50<99.9,0.35,0.4))))))) -> 0 | J50: =H50-I50 -> 39.78
D51: 15-3 | I51: =IF(E51<84.9,0,IF(E51<87.4,0.1,IF(E51<89.9,0.15,IF(E51<92.4,0.2,IF(E51<94.9,0.25,IF(E51<97.4,0.3,IF(E51<99.9,0.35,0.4))))))) -> 0 | J51: =H51-I51 -> 0
A52: 16 | B52: MST | C52: Тыщенко Миша | D52: 15-1 | E52: 86.7 | F52: =IF(M6=3,AC52,AF51) -> 9 | G52: 21 | H52: 40.07 | I52: =IF(E52<84.9,0,IF(E52<87.4,0.1,IF(E52<89.9,0.15,IF(E52<92.4,0.2,IF(E52<94.9,0.25,IF(E52<97.4,0.3,IF(E52<99.9,0.35,0.4))))))) -> 0.1 | J52: =H52-I52 -> 39.97 | K52: =AVERAGE(J52:J53) -> 40.22 | L52: =RANK(K52,K7:K60,1) -> 16 | Z52: =AVERAGE(E52:E53) -> 84.85 | AA52: =IF(E52>84.9,E52,E53) -> 86.7 | AB52: =COUNTIF(E52:E54,">84.9") -> 1 | AC52: =IF(AB52=1,AD52,AE52) -> 9 | AD52: =IF(AA52<84.9,0,IF(AA52<87.4,9,IF(AA52<89.9,13.5,IF(AA52<92.4,18,IF(AA52<94.9,22.5,IF(AA52<97.4,27,IF(AA52<99.9,31.5,36))))))) -> 9 | AE52: =IF(Z52<84.9,0,IF(Z52<87.4,18,IF(Z52<89.9,27,IF(Z52<92.4,36,IF(Z52<94.9,45,IF(Z52<97.4,54,IF(Z52<99.9,63,72))))))) -> 0
C53: Ткаченко Антон | D53: 15-2 | E53: 83 | G53: 33 | H53: 40.47 | I53: =IF(E53<84.9,0,IF(E53<87.4,0.1,IF(E53<89.9,0.15,IF(E53<92.4,0.2,IF(E53<94.9,0.25,IF(E53<97.4,0.3,IF(E53<99.9,0.35,0.4))))))) -> 0 | J53: =H53-I53 -> 40.47
D54: 15-3 | I54: =IF(E54<84.9,0,IF(E54<87.4,0.1,IF(E54<89.9,0.15,IF(E54<92.4,0.2,IF(E54<94.9,0.25,IF(E54<97.4,0.3,IF(E54<99.9,0.35,0.4))))))) -> 0 | J54: =H54-I54 -> 0
A55: 18 | B55: Battle Master | C55: Голубченко Саша | D55: 15-1 | E55: 85.5 | F55: =IF(M6=3,AC55,#REF!) -> 9 | G55: 1 | H55: 39.71 | I55: =IF(E55<84.9,0,IF(E55<87.4,0.1,IF(E55<89.9,0.15,IF(E55<92.4,0.2,IF(E55<94.9,0.25,IF(E55<97.4,0.3,IF(E55<99.9,0.35,0.4))))))) -> 0.1 | J55: =H55-I55 -> 39.61 | K55: =AVERAGE(J55:J56) -> 39.985 | L55: =RANK(K55,K7:K60,1) -> 9 | Z55: =AVERAGE(E55:E56) -> 80 | AA55: =IF(E55>84.9,E55,E56) -> 85.5 | AB55: =COUNTIF(E55:E57,">84.9") -> 1 | AC55: =IF(AB55=1,AD55,AE55) -> 9 | AD55: =IF(AA55<84.9,0,IF(AA55<87.4,9,IF(AA55<89.9,13.5,IF(AA55<92.4,18,IF(AA55<94.9,22.5,IF(AA55<97.4,27,IF(AA55<99.9,31.5,36))))))) -> 9 | AE55: =IF(Z55<84.9,0,IF(Z55<87.4,18,IF(Z55<89.9,27,IF(Z55<92.4,36,IF(Z55<94.9,45,IF(Z55<97.4,54,IF(Z55<99.9,63,72))))))) -> 0
C56: Таволжан Виталий | D56: 15-2 | E56: 74.5 | G56: 69 | H56: 40.36 | I56: =IF(E56<84.9,0,IF(E56<87.4,0.1,IF(E56<89.9,0.15,IF(E56<92.4,0.2,IF(E56<94.9,0.25,IF(E56<97.4,0.3,IF(E56<99.9,0.35,0.4))))))) -> 0 | J56: =H56-I56 -> 40.36
D57: 15-3 | I57: =IF(E57<84.9,0,IF(E57<87.4,0.1,IF(E57<89.9,0.15,IF(E57<92.4,0.2,IF(E57<94.9,0.25,IF(E57<97.4,0.3,IF(E57<99.9,0.35,0.4))))))) -> 0 | J57: =H57-I57 -> 0
A58: 19 | B58: К44 | C58: Ткаченко Кирилл | D58: 15-1 | E58: 76 | F58: =IF(M6=3,AC58,AF57) -> 0 | G58: 2 | H58: 40.02 | I58: =IF(E58<84.9,0,IF(E58<87.4,0.1,IF(E58<89.9,0.15,IF(E58<92.4,0.2,IF(E58<94.9,0.25,IF(E58<97.4,0.3,IF(E58<99.9,0.35,0.4))))))) -> 0 | J58: =H58-I58 -> 40.02 | K58: =AVERAGE(J58:J59) -> 39.775 | L58: =RANK(K58,K7:K60,1) -> 2 | Z58: =AVERAGE(E58:E59) -> 77 | AA58: =IF(E58>84.9,E58,E59) -> 78 | AB58: =COUNTIF(E58:E60,">84.9") -> 0 | AC58: =IF(AB58=1,AD58,AE58) -> 0 | AD58: =IF(AA58<84.9,0,IF(AA58<87.4,9,IF(AA58<89.9,13.5,IF(AA58<92.4,18,IF(AA58<94.9,22.5,IF(AA58<97.4,27,IF(AA58<99.9,31.5,36))))))) -> 0 | AE58: =IF(Z58<84.9,0,IF(Z58<87.4,18,IF(Z58<89.9,27,IF(Z58<92.4,36,IF(Z58<94.9,45,IF(Z58<97.4,54,IF(Z58<99.9,63,72))))))) -> 0
C59: Наум | D59: 15-2 | E59: 78 | G59: 1 | H59: 39.53 | I59: =IF(E59<84.9,0,IF(E59<87.4,0.1,IF(E59<89.9,0.15,IF(E59<92.4,0.2,IF(E59<94.9,0.25,IF(E59<97.4,0.3,IF(E59<99.9,0.35,0.4))))))) -> 0 | J59: =H59-I59 -> 39.53
D60: 15-3 | I60: =IF(E60<84.9,0,IF(E60<87.4,0.1,IF(E60<89.9,0.15,IF(E60<92.4,0.2,IF(E60<94.9,0.25,IF(E60<97.4,0.3,IF(E60<99.9,0.35,0.4))))))) -> 0 | J60: =H60-I60 -> 0

Sheet Vpered ta vgory
A2: Чемпионат мини марафон "Большие Гонки", 9-й этап
A4: Vpered ta vgory
A6: Обяза-тельные | B6: Пилот | C6: карт | D6: Круг | E6: кругов на отрезке | F6: Статистика по кругам | J6: Общее время гонки | K6: Время на трассе
F7: Лучший круг | G7: Среднее на отрезке | H7: Кругов в 0,1 от лучшего | I7: стабильность | K7: отрезок | L7: всего у пилота | M7: Питы | N7: Штрафы/ бонусы (сек)
A8: 1 | B8: Петушков Андрей | C8: 3 | D8: =COUNTA(C19:C83) -> 22 | E8: =COUNTA(C19:C83) -> 22 | F8: =MIN(C19:C82) -> 39.51 | G8: =AVERAGE(C19:C85) -> 40.065909 | H8: 0 | I8: =G8-F8 -> 0.55590909 | J8: 0.010659722 | K8: =J8 -> 0.010659722 | L8: =K8 -> 0.010659722 | M8: 2:14.66
A9: 2 | B9: Манило Денис | C9: 21 | D9: =COUNTA(D19:D83)+D8+1 -> 70 | E9: =COUNTA(D19:D83)+1 -> 48 | F9: =MIN(D19:D82) -> 39.53 | G9: =AVERAGE(D19:D84) -> 39.938936 | H9: 2 | I9: =G9-F9 -> 0.40893617 | J9: 0.033946759 | K9: =J9-J8 -> 0.023287037 | L9: =K9 -> 0.023287037 | M9: 2:13.82
A10: 3 | B10: Петушков Андрей | C10: 4 | D10: =COUNTA(E19:E83)+D9+1 -> 135 | E10: =COUNTA(E19:E83)+1 -> 65 | F10: =MIN(E19:E84) -> 39.61 | G10: =AVERAGE(E19:E85) -> 39.846719 | H10: 12 | I10: =G10-F10 -> 0.23671875 | J10: 0.065023148 | K10: =J10-J9 -> 0.031076389 | L10: =K10+L8 -> 0.041736111 | M10: 2:14.43
A11: 4 | B11: Манило Денис | C11: 33 | D11: =COUNTA(F19:F83)+D10+1 -> 160 | E11: =COUNTA(F19:F83)+1 -> 25 | F11: =MIN(F19:F84) -> 39.79 | G11: =AVERAGE(F19:F84) -> 40.108333 | H11: 9 | I11: =G11-F11 -> 0.31833333 | J11: 0.077743056 | K11: =J11-J10 -> 0.012719907 | L11: =K11+L9 -> 0.036006944 | M11: 2:14.69
A12: 5 | B12: Петушков Андрей | C12: 21 | D12: =COUNTA(G19:G83)+D11+1 -> 200 | E12: =COUNTA(G19:G83)+1 -> 40 | F12: =MIN(G19:G84) -> 39.57 | G12: =AVERAGE(G19:G884) -> 39.843846 | H12: 3 | I12: =G12-F12 -> 0.27384615 | J12: 0.097268519 | K12: =J12-J11 -> 0.019525463 | L12: =K12+L10 -> 0.061261574 | M12: 2:15.03
A13: Финиш | B13: Манило Денис | C13: 11 | D13: =COUNTA(H19:H83)+D12+1 -> 259 | E13: =COUNTA(H19:H83)+1 -> 59 | F13: =MIN(H19:H84) -> 39.52 | G13: =AVERAGE(H19:H84) -> 39.813103 | H13: 9 | I13: =G13-F13 -> 0.29310345 | J13: ='Общие результаты'!G6 -> 03:00:08 | K13: =J13-J12 -> 0.027824074 | L13: =K13+L11 -> 0.063831019
F14: =AVERAGE(F8,F10,F12) -> 39.563333 | G14: =AVERAGE(G8,G10,G12) -> 39.918825 | H14: Андрей | I14: =AVERAGE(I8,I10,I12) -> 0.35549133
F15: =AVERAGE(F9,F11,F13) -> 39.613333 | G15: =AVERAGE(G9,G11,G13) -> 39.953458 | H15: Денис | I15: =AVERAGE(I9,I11,I13) -> 0.34012432
F16: =AVERAGE(F8:F13) -> 39.588333 | G16: =AVERAGE(C19:H90) -> 39.89937 | I16: =AVERAGE(I8:I13) -> 0.34780782
C18: =B8 -> Петушков Андрей | D18: =B9 -> Манило Денис | E18: =B10 -> Петушков Андрей | F18: =B11 -> Манило Денис | G18: =B12 -> Петушков Андрей | H18: =B13 -> Манило Денис
B19: 1 | C19: 41.59 | D19: 42.19 | E19: 41.49 | F19: 41.63 | G19: 41.31 | H19: 40.78
B20: 2 | C20: 42.94 | D20: 40.31 | E20: 39.93 | F20: 40.34 | G20: 40.16 | H20: 39.71
B21: 3 | C21: 40.08 | D21: 40.78 | E21: 39.81 | F21: 40.16 | G21: 39.92 | H21: 39.52
B22: 4 | C22: 40.43 | D22: 41.3 | E22: 39.65 | F22: 40.18 | G22: 39.97 | H22: 39.57
B23: 5 | C23: 39.96 | D23: 39.98 | E23: 39.7 | F23: 40.03 | G23: 39.94 | H23: 40.23
B24: 6 | C24: 39.95 | D24: 39.87 | E24: 39.91 | F24: 40 | G24: 39.88 | H24: 39.86
B25: 7 | C25: 39.75 | D25: 39.83 | E25: 39.85 | F25: 39.96 | G25: 39.78 | H25: 39.91
B26: 8 | C26: 39.85 | D26: 39.73 | E26: 39.7 | F26: 40.12 | G26: 39.87 | H26: 39.98
B27: 9 | C27: 39.81 | D27: 39.74 | E27: 39.81 | F27: 39.84 | G27: 39.86 | H27: 39.94
B28: 10 | C28: 39.69 | D28: 39.74 | E28: 39.73 | F28: 39.86 | G28: 39.79 | H28: 39.85
B29: 11 | C29: 39.73 | D29: 39.69 | E29: 39.75 | F29: 40.84 | G29: 39.82 | H29: 39.97
B30: 12 | C30: 39.51 | D30: 39.78 | E30: 39.63 | F30: 40.6 | G30: 39.8 | H30: 39.82
... B40: 22 | C40: 39.79 | D40: 40.01 | E40: 39.88 | F40: 39.79 | G40: 39.82 | H40: 39.67
B41: 23 | D41: 39.84 | E41: 39.72 | F41: 39.85 | G41: 39.7 | H41: 39.89
B42: 24 | D42: 39.85 | E42: 39.73 | F42: 39.86 | G42: 39.88 | H42: 39.82
B43: 25 | D43: 39.77 | E43: 39.87 | G43: 39.75 | H43: 39.63
B44: 26 | D44: 39.82 | E44: 39.87 | G44: 39.89 | H44: 39.57
B45: 27 | D45: 39.79 | E45: 40.27 | G45: 39.92 | H45: 39.59
B46: 28 | D46: 39.75 | E46: 40.15 | G46: 39.86 | H46: 39.67
B47: 29 | D47: 39.71 | E47: 39.81 | G47: 39.81 | H47: 40.15
B48: 30 | D48: 39.93 | E48: 40.06 | G48: 39.62 | H48: 39.96
B49: 31 | D49: 39.83 | E49: 39.88 | G49: 39.69 | H49: 39.64
B50: 32 | D50: 39.75 | E50: 39.75 | G50: 40.03 | H50: 39.79
B51: 33 | D51: 39.6 | E51: 39.71 | G51: 39.69 | H51: 39.76
B52: 34 | D52: 39.76 | E52: 39.7 | G52: 39.74 | H52: 39.76
B53: 35 | D53: 39.76 | E53: 39.92 | G53: 39.69 | H53: 39.54
B54: 36 | D54: 39.81 | E54: 39.72 | G54: 39.99 | H54: 40.02
... B57: 39 | D57: 39.78 | E57: 39.83 | G57: 39.94 | H57: 39.69
B58: 40 | D58: 39.8 | E58: 39.74 | H58: 39.61
B59: 41 | D59: 39.78 | E59: 39.69 | H59: 39.86
B60: 42 | D60: 39.95 | E60: 39.76 | H60: 39.81
B61: 43 | D61: 39.73 | E61: 39.86 | H61: 39.61
B62: 44 | D62: 39.82 | E62: 39.84 | H62: 39.67
B63: 45 | D63: 39.95 | E63: 39.65 | H63: 39.63
B64: 46 | D64: 39.83 | E64: 39.81 | H64: 39.87
B65: 47 | D65: 39.68 | E65: 39.72 | H65: 39.9
B66: 48 | E66: 39.65 | H66: 39.58
B67: 49 | E67: 39.97 | H67: 40.55
B68: 50 | E68: 40.29 | H68: 39.84
B69: 51 | E69: 39.69 | H69: 39.61
B70: 52 | E70: 39.92 | H70: 39.97
B71: 53 | E71: 39.94 | H71: 39.71
B72: 54 | E72: 39.9 | H72: 39.77
B73: 55 | E73: 39.74 | H73: 39.67
B74: 56 | E74: 39.82 | H74: 39.87
B75: 57 | E75: 39.77 | H75: 39.73
B76: 58 | E76: 39.83 | H76: 39.89
B77: 59 | E77: 39.78
B78: 60 | E78: 39.75
B79: 61 | E79: 39.76
B80: 62 | E80: 39.75
B81: 63 | E81: 39.82
E82: 39.67

Sheet NSJ
A2: Чемпионат мини марафон "Большие Гонки", 9-й этап
A4: NSJ
A6: Обяза-тельные | B6: Пилот | C6: карт | D6: Круг | E6: кругов на отрезке | F6: Статистика по кругам | J6: Общее время гонки | K6: Время на трассе
F7: Лучший круг | G7: Среднее на отрезке | H7: Кругов в 0,1 от лучшего | I7: стабильность | K7: отрезок | L7: всего у пилота | M7: Питы | N7: Штрафы/ бонусы (сек)
A8: 1 | B8: Лысенский Денис | C8: 16 | D8: =COUNTA(C19:C83) -> 36 | E8: =COUNTA(C19:C83) -> 36 | F8: =MIN(C19:C82) -> 39.7 | G8: =AVERAGE(C19:C85) -> 40.148611 | H8: 4 | I8: =G8-F8 -> 0.44861111 | J8: 0.017199074 | K8: =J8 -> 0.017199074 | L8: =K8 -> 0.017199074 | M8: 2:14.35
A9: 2 | B9: Мифтахутдинов Ильяс | C9: 11 | D9: =COUNTA(D19:D83)+D8+1 -> 99 | E9: =COUNTA(D19:D83)+1 -> 63 | F9: =MIN(D19:D82) -> 39.53 | G9: =AVERAGE(D19:D84) -> 39.890806 | H9: 9 | I9: =G9-F9 -> 0.36080645 | J9: 0.047407407 | K9: =J9-J8 -> 0.030208333 | L9: =K9 -> 0.030208333 | M9: 2:13.65
A10: 3 | B10: Лысенский Денис | C10: 69 | D10: =COUNTA(E19:E83)+D9+1 -> 138 | E10: =COUNTA(E19:E83)+1 -> 39 | F10: =MIN(E19:E84) -> 39.84 | G10: =AVERAGE(E19:E85) -> 40.078158 | H10: 10 | I10: =G10-F10 -> 0.23815789 | J10: 0.0665625 | K10: =J10-J9 -> 0.019155093 | L10: =K10+L8 -> 0.036354167 | M10: 2:19.00 | N10: +5 | O10: против 13
A11: 4 | B11: Мифтахутдинов Ильяс | C11: 15 | D11: =COUNTA(F19:F83)+D10+1 -> 193 | E11: =COUNTA(F19:F83)+1 -> 55 | F11: =MIN(F19:F84) -> 39.49 | G11: =AVERAGE(F19:F84) -> 39.746296 | H11: 11 | I11: =G11-F11 -> 0.2562963 | J11: 0.093020833 | K11: =J11-J10 -> 0.026458333 | L11: =K11+L9 -> 0.056666667 | M11: 2:14.68
A12: 5 | B12: Мифтахутдинов Ильяс | C12: 12 | D12: =COUNTA(G19:G83)+D11+1 -> 217 | E12: =COUNTA(G19:G83)+1 -> 24 | F12: =MIN(G19:G84) -> 39.81 | G12: =AVERAGE(G19:G884) -> 40.058696 | H12: 3 | I12: =G12-F12 -> 0.24869565 | J12: 0.10523148 | K12: =J12-J11 -> 0.012210648 | L12: =K12+L11 -> 0.068877315 | M12: 2:15.26
A13: Финиш | B13: Лысенский Денис | C13: 2 | D13: =COUNTA(H19:H83)+D12+1 -> 259 | E13: =COUNTA(H19:H83)+1 -> 42 | F13: =MIN(H19:H84) -> 39.89 | G13: =AVERAGE(H19:H84) -> 40.238049 | H13: 3 | I13: =G13-F13 -> 0.34804878 | J13: ='Общие результаты'!G6 -> 03:00:08 | K13: =J13-J12 -> 0.019861111 | L13: =K13+L10 -> 0.056215278
F14: =AVERAGE(F8,F10,F13) -> 39.81 | G14: =AVERAGE(G8,G10,G13) -> 40.154939 | H14: Денис | I14: =AVERAGE(I8,I10,I13) -> 0.34493926
F15: =AVERAGE(F9,F11,F12) -> 39.61 | G15: =AVERAGE(G9,G11,G12) -> 39.898599 | H15: Ильяс | I15: =AVERAGE(I9,I11,I12) -> 0.28859947
F16: =AVERAGE(F8:F13) -> 39.71 | G16: =AVERAGE(C19:H90) -> 39.995906 | I16: =AVERAGE(I8:I13) -> 0.31676936
C18: =B8 -> Лысенский Денис | D18: =B9 -> Мифтахутдинов Ильяс | E18: =B10 -> Лысенский Денис | F18: =B11 -> Мифтахутдинов Ильяс | G18: =B12 -> Мифтахутдинов Ильяс | H18: =B13 -> Лысенский Денис
B19: 1 | C19: 41.65 | D19: 42.03 | E19: 41.68 | F19: 41.17 | G19: 40.99 | H19: 41.57
B20: 2 | C20: 41.78 | D20: 39.84 | E20: 40.42 | F20: 40.01 | G20: 39.91 | H20: 39.91
B21: 3 | C21: 40.43 | D21: 39.99 | E21: 40.38 | F21: 39.99 | G21: 39.86 | H21: 39.94
B22: 4 | C22: 41 | D22: 40.12 | E22: 39.95 | F22: 39.81 | G22: 40 | H22: 40.16
B23: 5 | C23: 40.04 | D23: 40.03 | E23: 40.08 | F23: 39.66 | G23: 39.93 | H23: 40.05
B24: 6 | C24: 40.39 | D24: 40.52 | E24: 40 | F24: 39.76 | G24: 40 | H24: 40.13
B25: 7 | C25: 40.14 | D25: 39.7 | E25: 40.29 | F25: 40.02 | G25: 40.11 | H25: 41.5
B26: 8 | C26: 40.18 | D26: 40.04 | E26: 39.98 | F26: 39.7 | G26: 40.22 | H26: 40.01
B27: 9 | C27: 40.57 | D27: 40.1 | E27: 40.1 | F27: 39.72 | G27: 40 | H27: 39.89
B28: 10 | C28: 39.93 | D28: 39.73 | E28: 39.97 | F28: 39.53 | G28: 39.95 | H28: 40.03
B29: 11 | C29: 40.14 | D29: 39.81 | E29: 40.09 | F29: 39.66 | G29: 40 | H29: 40.24
B30: 12 | C30: 40.02 | D30: 39.63 | E30: 40.16 | F30: 39.79 | G30: 40.03 | H30: 40.08
... B41: 23 | C41: 39.87 | D41: 39.63 | E41: 39.94 | F41: 39.67 | G41: 40.24 | H41: 40.22
B42: 24 | C42: 40.25 | D42: 39.61 | E42: 40 | F42: 39.68 | H42: 40.19
B43: 25 | C43: 39.9 | D43: 39.76 | E43: 39.94 | F43: 39.69 | H43: 40.5
B44: 26 | C44: 39.7 | D44: 40.15 | E44: 39.99 | F44: 39.61 | H44: 40.25
B45: 27 | C45: 39.72 | D45: 39.82 | E45: 40.14 | F45: 39.59 | H45: 40.27
B46: 28 | C46: 39.89 | D46: 41.27 | E46: 40 | F46: 39.71 | H46: 40.14
B47: 29 | C47: 39.82 | D47: 39.85 | E47: 39.9 | F47: 39.69 | H47: 40.11
B48: 30 | C48: 39.93 | D48: 39.87 | E48: 39.89 | F48: 39.54 | H48: 40.3
B49: 31 | C49: 40.05 | D49: 39.78 | E49: 39.97 | F49: 39.76 | H49: 40.11
B50: 32 | C50: 40.49 | D50: 39.78 | E50: 39.94 | F50: 39.63 | H50: 40.17
B51: 33 | C51: 39.85 | D51: 39.78 | E51: 39.85 | F51: 39.58 | H51: 39.99
B52: 34 | C52: 39.7 | D52: 39.71 | E52: 40.42 | F52: 39.74 | H52: 40.12
B53: 35 | C53: 40.1 | D53: 39.83 | E53: 39.96 | F53: 39.65 | H53: 40.25
B54: 36 | C54: 41.43 | D54: 39.85 | E54: 39.96 | F54: 39.65 | H54: 40.24
B55: 37 | D55: 39.8 | E55: 39.84 | F55: 39.55 | H55: 40.09
B56: 38 | D56: 39.75 | E56: 40.09 | F56: 40.18 | H56: 40.12
B57: 39 | D57: 39.63 | F57: 39.53 | H57: 40.09
B58: 40 | D58: 39.58 | F58: 39.92 | H58: 40.02
B59: 41 | D59: 39.58 | F59: 39.64 | H59: 41.07
B60: 42 | D60: 39.53 | F60: 39.62
B61: 43 | D61: 39.71 | F61: 39.89
B62: 44 | D62: 39.65 | F62: 39.71
B63: 45 | D63: 39.7 | F63: 39.58
B64: 46 | D64: 39.78 | F64: 39.77
B65: 47 | D65: 39.79 | F65: 39.59
B66: 48 | D66: 40.15 | F66: 39.74
B67: 49 | D67: 39.76 | F67: 39.63
B68: 50 | D68: 39.68 | F68: 39.7
B69: 51 | D69: 39.67 | F69: 39.68
B70: 52 | D70: 39.65 | F70: 39.73
B71: 53 | D71: 39.62 | F71: 39.74
B72: 54 | D72: 39.68 | F72: 39.91
B73: 55 | D73: 39.73
B74: 56 | D74: 39.78
B75: 57 | D75: 40.39
B76: 58 | D76: 39.82
B77: 59 | D77: 39.86
B78: 60 | D78: 39.62
B79: 61 | D79: 39.92
B80: 62 | D80: 39.74
B81: 63

Sheet K44
A2: Чемпионат мини марафон "Большие Гонки", 9-й этап
A4: K44
A6: Обяза-тельные | B6: Пилот | C6: карт | D6: Круг | E6: кругов на отрезке | F6: Статистика по кругам | J6: Общее время гонки | K6: Время на трассе
F7: Лучший круг | G7: Среднее на отрезке | H7: Кругов в 0,1 от лучшего | I7: стабильность | K7: отрезок | L7: всего у пилота | M7: Питы | N7: Штрафы/ бонусы (сек)
A8: 1 | B8: Наум | C8: 69 | D8: =COUNTA(C19:C83) -> 33 | E8: =COUNTA(C19:C83) -> 33 | F8: =MIN(C19:C82) -> 39.59 | G8: =AVERAGE(C19:C85) -> 39.995455 | H8: 5 | I8: =G8-F8 -> 0.40545455 | J8: 0.015740741 | K8: =J8 -> 0.015740741 | L8: =K8 -> 0.015740741 | M8: 2:14.50
A9: 2 | B9: Ткаченко Кирилл | C9: 1 | D9: =COUNTA(D19:D83)+D8+1 -> 66 | E9: =COUNTA(D19:D83)+1 -> 33 | F9: =MIN(D19:D82) -> 39.86 | G9: =AVERAGE(D19:D84) -> 40.21875 | H9: 13 | I9: =G9-F9 -> 0.35875 | J9: 0.032210648 | K9: =J9-J8 -> 0.016469907 | L9: =K9 -> 0.016469907 | M9: 2:25.36 | N9: +10 | O9: против 2
A10: 3 | B10: Наум | C10: 16 | D10: =COUNTA(E19:E83)+D9+1 -> 118 | E10: =COUNTA(E19:E83)+1 -> 52 | F10: =MIN(E19:E84) -> 39.55 | G10: =AVERAGE(E19:E85) -> 39.858235 | H10: 3 | I10: =G10-F10 -> 0.30823529 | J10: 0.057418981 | K10: =J10-J9 -> 0.025208333 | L10: =K10+L8 -> 0.040949074 | M10: 2:14.38
A11: 4 | B11: Ткаченко Кирилл | C11: 7 | D11: =COUNTA(F19:F83)+D10+1 -> 164 | E11: =COUNTA(F19:F83)+1 -> 46 | F11: =MIN(F19:F84) -> 39.73 | G11: =AVERAGE(F19:F84) -> 40.034667 | H11: 6 | I11: =G11-F11 -> 0.30466667 | J11: 0.079895833 | K11: =J11-J10 -> 0.022476852 | L11: =K11+L9 -> 0.038946759 | M11: 2:16.18
A12: 5 | B12: Ткаченко Кирилл | C12: 17 | D12: =COUNTA(G19:G83)+D11+1 -> 199 | E12: =COUNTA(G19:G83)+1 -> 35 | F12: =MIN(G19:G84) -> 39.64 | G12: =AVERAGE(G19:G884) -> 39.986176 | H12: 3 | I12: =G12-F12 -> 0.34617647 | J12: 0.097141204 | K12: =J12-J11 -> 0.01724537 | L12: =K12+L11 -> 0.05619213 | M12: 2:15.22
A13: Финиш | B13: Наум | C13: 16 | D13: =COUNTA(H19:H83)+D12+1 -> 259 | E13: =COUNTA(H19:H83)+1 -> 60 | F13: =MIN(H19:H84) -> 39.51 | G13: =AVERAGE(H19:H84) -> 39.935085 | H13: 5 | I13: =G13-F13 -> 0.42508475 | J13: ='Общие результаты'!G6 -> 03:00:08 | K13: =J13-J12 -> 0.027951389 | L13: =K13+L10 -> 0.068900463
F14: =AVERAGE(F8,F10,F13) -> 39.55 | G14: =AVERAGE(G8,G10,G13) -> 39.929592 | H14: Наум | I14: =AVERAGE(I8,I10,I13) -> 0.37959153
F15: =AVERAGE(F9,F11,F12) -> 39.743333 | G15: =AVERAGE(G9,G11,G12) -> 40.079864 | H15: Кирилл | I15: =AVERAGE(I9,I11,I12) -> 0.33653105
F16: =AVERAGE(F8:F13) -> 39.646667 | G16: =AVERAGE(C19:H90) -> 39.987717 | I16: =AVERAGE(I8:I13) -> 0.35806129
C18: =B8 -> Наум | D18: =B9 -> Ткаченко Кирилл | E18: =B10 -> Наум | F18: =B11 -> Ткаченко Кирилл | G18: =B12 -> Ткаченко Кирилл | H18: =B13 -> Наум
B19: 1 | C19: 41.77 | D19: 41.73 | E19: 41.67 | F19: 42.06 | G19: 41.23 | H19: 41.36
B20: 2 | C20: 41.26 | D20: 40.3 | E20: 39.92 | F20: 40.08 | G20: 40.4 | H20: 40.35
B21: 3 | C21: 40.26 | D21: 39.95 | E21: 39.86 | F21: 40.19 | G21: 40.27 | H21: 39.85
B22: 4 | C22: 40.22 | D22: 39.98 | E22: 39.9 | F22: 40.14 | G22: 40.08 | H22: 39.56
B23: 5 | C23: 40.1 | D23: 39.93 | E23: 39.72 | F23: 39.99 | G23: 39.75 | H23: 39.73
B24: 6 | C24: 40.19 | D24: 40.55 | E24: 39.55 | F24: 40.04 | G24: 39.95 | H24: 39.64
B25: 7 | C25: 39.87 | D25: 40.26 | E25: 39.78 | F25: 40.08 | G25: 39.89 | H25: 39.65
B26: 8 | C26: 40.04 | D26: 41.22 | E26: 39.87 | F26: 39.94 | G26: 39.92 | H26: 40.6
B27: 9 | C27: 40.07 | D27: 39.9 | E27: 39.67 | F27: 39.89 | G27: 39.8 | H27: 39.69
B28: 10 | C28: 39.89 | D28: 40.95 | E28: 39.97 | F28: 40 | G28: 39.92 | H28: 39.77
B29: 11 | C29: 39.93 | D29: 40.18 | E29: 39.83 | F29: 39.82 | G29: 39.64 | H29: 40.47
B30: 12 | C30: 39.74 | D30: 39.94 | E30: 40.05 | F30: 40.22 | G30: 39.83 | H30: 40.02
... B50: 32 | C50: 39.81 | D50: 40.14 | E50: 39.76 | F50: 39.91 | G50: 40.05 | H50: 39.62
B51: 33 | C51: 39.71 | E51: 39.91 | F51: 39.82 | G51: 39.86 | H51: 39.62
B52: 34 | E52: 39.81 | F52: 39.89 | G52: 39.75 | H52: 41.88
B53: 35 | E53: 39.68 | F53: 39.84 | H53: 41.47
B54: 36 | E54: 39.74 | F54: 39.84 | H54: 40.72
B55: 37 | E55: 39.8 | F55: 39.89 | H55: 43.83
B56: 38 | E56: 39.77 | F56: 39.79 | H56: 39.82
B57: 39 | E57: 39.77 | F57: 39.91 | H57: 39.69
B58: 40 | E58: 39.94 | F58: 40.17 | H58: 40
B59: 41 | E59: 39.97 | F59: 39.81 | H59: 39.72
B60: 42 | E60: 39.91 | F60: 40 | H60: 39.86
B61: 43 | E61: 39.68 | F61: 40.66 | H61: 39.61
B62: 44 | E62: 39.87 | F62: 40.17 | H62: 40.02
B63: 45 | E63: 39.58 | F63: 39.94 | H63: 39.66
B64: 46 | E64: 39.77 | H64: 39.68
B65: 47 | E65: 39.93 | H65: 39.72
B66: 48 | E66: 39.72 | H66: 39.58
B67: 49 | E67: 39.83 | H67: 39.66
B68: 50 | E68: 39.74 | H68: 39.74
B69: 51 | E69: 39.75 | H69: 39.74
B70: 52 | H70: 39.75
B71: 53 | H71: 39.67
B72: 54 | H72: 39.79
B73: 55 | H73: 39.67
B74: 56 | H74: 39.51
B75: 57 | H75: 39.65
B76: 58 | H76: 39.69
B77: 59 | H77: 40.1
B78: 60
B79: 61
B80: 62
B81: 63

Sheet Winni
A2: Чемпионат мини марафон "Большие Гонки", 9-й этап
A4: Winni
A6: Обяза-тельные | B6: Пилот | C6: карт | D6: Круг | E6: кругов на отрезке | F6: Статистика по кругам | J6: Общее время гонки | K6: Время на трассе
F7: Лучший круг | G7: Среднее на отрезке | H7: Кругов в 0,1 от лучшего | I7: стабильность | K7: отрезок | L7: всего у пилота | M7: Питы | N7: Штрафы/ бонусы (сек)
A8: 1 | B8: Бахмацкий Олег | C8: 15 | D8: =COUNTA(C19:C83) -> 27 | E8: =COUNTA(C19:C83) -> 27 | F8: =MIN(C19:C82) -> 39.83 | G8: =AVERAGE(C19:C85) -> 40.338519 | H8: 11 | I8: =G8-F8 -> 0.50851852 | J8: 0.013090278 | K8: =J8 -> 0.013090278 | L8: =K8 -> 0.013090278 | M8: 2:14.31
A9: 2 | B9: Бахмацкий Олег | C9: 3 | D9: =COUNTA(D19:D83)+D8+1 -> 92 | E9: =COUNTA(D19:D83)+1 -> 65 | F9: =MIN(D19:D82) -> 39.52 | G9: =AVERAGE(D19:D84) -> 39.863594 | H9: 5 | I9: =G9-F9 -> 0.34359375 | J9: 0.044166667 | K9: =J9-J8 -> 0.031076389 | L9: =K9+L8 -> 0.044166667 | M9: 2:13.90
A10: 3 | B10: Лантушенко Игорь | C10: 2 | D10: =COUNTA(E19:E83)+D9+1 -> 119 | E10: =COUNTA(E19:E83)+1 -> 27 | F10: =MIN(E19:E84) -> 39.92 | G10: =AVERAGE(E19:E85) -> 40.319231 | H10: 0 | I10: =G10-F10 -> 0.39923077 | J10: 0.057858796 | K10: =J10-J9 -> 0.01369213 | L10: =K10 -> 0.01369213 | M10: 2:14.60
A11: 4 | B11: Лантушенко Игорь | C11: 1 | D11: =COUNTA(F19:F83)+D10+1 -> 160 | E11: =COUNTA(F19:F83)+1 -> 41 | F11: =MIN(F19:F84) -> 39.69 | G11: =AVERAGE(F19:F84) -> 39.98575 | H11: 6 | I11: =G11-F11 -> 0.29575 | J11: 0.077928241 | K11: =J11-J10 -> 0.020069444 | L11: =K11+L10 -> 0.033761574 | M11: 2:14.83
A12: 5 | B12: Лантушенко Игорь | C12: 44 | D12: =COUNTA(G19:G83)+D11+1 -> 216 | E12: =COUNTA(G19:G83)+1 -> 56 | F12: =MIN(G19:G84) -> 39.74 | G12: =AVERAGE(G19:G884) -> 40.107636 | H12: 9 | I12: =G12-F12 -> 0.36763636 | J12: 0.10502315 | K12: =J12-J11 -> 0.027094907 | L12: =K12+L11 -> 0.060856481 | M12: 2:15.42
A13: Финиш | B13: Бахмацкий Олег | C13: 1 | D13: =COUNTA(H19:H83)+D12+1 -> 258 | E13: =COUNTA(H19:H83)+1 -> 42 | F13: =MIN(H19:H84) -> 39.72 | G13: =AVERAGE(H19:H84) -> 40.008293 | H13: 8 | I13: =G13-F13 -> 0.28829268 | J13: ='Общие результаты'!G6 -> 03:00:08 | K13: =J13-J12 -> 0.020069444 | L13: =K13+L9 -> 0.064236111
F14: =AVERAGE(F8,F9,F12) -> 39.696667 | G14: 0 | H14: Олег | I14: 0
F15: =AVERAGE(F10,F11,F12) -> 39.783333 | G15: 0 | H15: Игорь | I15: 0
F16: =AVERAGE(F8:F13) -> 39.736667 | G16: =AVERAGE(C19:H90) -> 40.056917 | I16: =AVERAGE(I8:I13) -> 0.36717035
C18: =B8 -> Бахмацкий Олег | D18: =B9 -> Бахмацкий Олег | E18: =B10 -> Лантушенко Игорь | F18: =B11 -> Лантушенко Игорь | G18: =B12 -> Лантушенко Игорь | H18: =B13 -> Бахмацкий Олег
B19: 1 | C19: 42.08 | D19: 41.75 | E19: 42.01 | F19: 41.16 | G19: 41.43 | H19: 41.78
B20: 2 | C20: 42.04 | D20: 40.01 | E20: 40.26 | F20: 40.04 | G20: 40.14 | H20: 40.02
B21: 3 | C21: 43.1 | D21: 39.98 | E21: 40.43 | F21: 39.86 | G21: 39.92 | H21: 39.9
B22: 4 | C22: 40.72 | D22: 39.92 | E22: 41.17 | F22: 39.95 | G22: 40.03 | H22: 39.9
B23: 5 | C23: 40.33 | D23: 39.89 | E23: 40.36 | F23: 39.91 | G23: 39.92 | H23: 39.98
B24: 6 | C24: 40.16 | D24: 39.68 | E24: 40.17 | F24: 39.81 | G24: 39.93 | H24: 39.9
B25: 7 | C25: 39.94 | D25: 39.63 | E25: 41 | F25: 39.69 | G25: 39.86 | H25: 40.16
B26: 8 | C26: 40.33 | D26: 39.8 | E26: 40.2 | F26: 40.46 | G26: 40.02 | H26: 39.9
B27: 9 | C27: 40.47 | D27: 39.9 | E27: 40.19 | F27: 40.05 | G27: 40.68 | H27: 39.81
B28: 10 | C28: 40.02 | D28: 39.82 | E28: 40.07 | F28: 41.13 | G28: 39.83 | H28: 40.04
B29: 11 | C29: 39.92 | D29: 39.73 | E29: 40.23 | F29: 40.71 | G29: 40.06 | H29: 39.8
B30: 12 | C30: 39.93 | D30: 39.57 | E30: 40.12 | F30: 39.93 | G30: 40.12 | H30: 39.89
... B44: 26 | C44: 39.83 | D44: 39.74 | E44: 40.04 | F44: 39.99 | G44: 39.81 | H44: 39.95
B45: 27 | C45: 39.93 | D45: 39.67 | F45: 39.98 | G45: 39.8 | H45: 40.14
B46: 28 | D46: 39.71 | F46: 40.09 | G46: 40.07 | H46: 39.88
B47: 29 | D47: 39.7 | F47: 39.87 | G47: 39.78 | H47: 40.01
B48: 30 | D48: 39.69 | F48: 39.74 | G48: 39.74 | H48: 40
B49: 31 | D49: 39.59 | F49: 39.92 | G49: 39.88 | H49: 39.72
B50: 32 | D50: 39.64 | F50: 39.89 | G50: 39.84 | H50: 41.3
B51: 33 | D51: 39.52 | F51: 39.81 | G51: 40.67 | H51: 39.78
B52: 34 | D52: 39.72 | F52: 39.92 | G52: 39.95 | H52: 39.8
B53: 35 | D53: 39.73 | F53: 39.89 | G53: 39.86 | H53: 40.1
B54: 36 | D54: 39.62 | F54: 39.97 | G54: 39.98 | H54: 39.73
B55: 37 | D55: 40.3 | F55: 39.94 | G55: 39.83 | H55: 39.77
B56: 38 | D56: 39.99 | F56: 39.82 | G56: 41.69 | H56: 39.89
B57: 39 | D57: 39.85 | F57: 39.83 | G57: 39.95 | H57: 40.08
B58: 40 | D58: 39.71 | F58: 39.99 | G58: 40.26 | H58: 39.87
B59: 41 | D59: 39.88 | G59: 39.88 | H59: 40.04
B60: 42 | D60: 39.76 | G60: 40.1
B61: 43 | D61: 39.76 | G61: 39.88
B62: 44 | D62: 40.91 | G62: 40.13
B63: 45 | D63: 39.8 | G63: 40.21
B64: 46 | D64: 39.58 | G64: 40.37
B65: 47 | D65: 39.77 | G65: 40.34
B66: 48 | D66: 39.75 | G66: 40.22
B67: 49 | D67: 39.76 | G67: 40.2
B68: 50 | D68: 39.69 | G68: 40.12
B69: 51 | D69: 39.65 | G69: 40.31
B70: 52 | D70: 39.61 | G70: 40.38
B71: 53 | D71: 39.78 | G71: 40.09
... B73: 55 | D73: 39.97 | G73: 39.89
B74: 56 | D74: 39.73
B75: 57 | D75: 40.6
B76: 58 | D76: 39.82
B77: 59 | D77: 39.86
B78: 60 | D78: 39.63
B79: 61 | D79: 39.82
B80: 62 | D80: 40.27
B81: 63 | D81: 39.92
D82: 39.9

Sheet Kozaks
A2: Чемпионат мини марафон "Большие Гонки", 9-й этап
A4: Kozaks
A6: Обяза-тельные | B6: Пилот | C6: карт | D6: Круг | E6: кругов на отрезке | F6: Статистика по кругам | J6: Общее время гонки | K6: Время на трассе
F7: Лучший круг | G7: Среднее на отрезке | H7: Кругов в 0,1 от лучшего | I7: стабильность | K7: отрезок | L7: всего у пилота | M7: Питы | N7: Штрафы/ бонусы (сек)
A8: 1 | B8: Пикулин Паша | C8: 12 | D8: =COUNTA(C19:C83) -> 28 | E8: =COUNTA(C19:C83) -> 28 | F8: =MIN(C19:C82) -> 39.75 | G8: =AVERAGE(C19:C85) -> 40.120714 | H8: 11 | I8: =G8-F8 -> 0.37071429 | J8: 0.013460648 | K8: =J8 -> 0.013460648 | L8: =K8 -> 0.013460648 | M8: 2:13.13
A9: 2 | B9: Звягин Григорий | C9: 4 | D9: =COUNTA(D19:D83)+D8+1 -> 68 | E9: =COUNTA(D19:D83)+1 -> 40 | F9: =MIN(D19:D82) -> 39.79 | G9: =AVERAGE(D19:D84) -> 40.072051 | H9: 12 | I9: =G9-F9 -> 0.28205128 | J9: 0.033101852 | K9: =J9-J8 -> 0.019641204 | L9: =K9 -> 0.019641204 | M9: 2:13.30
A10: 3 | B10: Пикулин Паша | C10: 1 | D10: =COUNTA(E19:E83)+D9+1 -> 112 | E10: =COUNTA(E19:E83)+1 -> 44 | F10: =MIN(E19:E84) -> 39.69 | G10: =AVERAGE(E19:E85) -> 39.972558 | H10: 9 | I10: =G10-F10 -> 0.28255814 | J10: 0.054537037 | K10: =J10-J9 -> 0.021435185 | L10: =K10+L8 -> 0.034895833 | M10: 2:13.89
A11: 4 | B11: Звягин Григорий | C11: 8 | D11: =COUNTA(F19:F83)+D10+1 -> 164 | E11: =COUNTA(F19:F83)+1 -> 52 | F11: =MIN(F19:F84) -> 39.67 | G11: =AVERAGE(F19:F84) -> 39.957647 | H11: 8 | I11: =G11-F11 -> 0.28764706 | J11: 0.079675926 | K11: =J11-J10 -> 0.025138889 | L11: =K11+L9 -> 0.044780093 | M11: 2:14.45
A12: 5 | B12: Пикулин Паша | C12: 2 | D12: =COUNTA(G19:G83)+D11+1 -> 209 | E12: =COUNTA(G19:G83)+1 -> 45 | F12: =MIN(G19:G84) -> 39.73 | G12: =AVERAGE(G19:G884) -> 40.12 | H12: 1 | I12: =G12-F12 -> 0.39 | J12: 0.10166667 | K12: =J12-J11 -> 0.021990741 | L12: =K12+L10 -> 0.056886574 | M12: 2:14.33
A13: Финиш | B13: Звягин Григорий | C13: 9 | D13: =COUNTA(H19:H83)+D12+1 -> 258 | E13: =COUNTA(H19:H83)+1 -> 49 | F13: =MIN(H19:H84) -> 39.76 | G13: =AVERAGE(H19:H84) -> 40.244375 | H13: 1 | I13: =G13-F13 -> 0.484375 | J13: ='Общие результаты'!G6 -> 03:00:08 | K13: =J13-J12 -> 0.023425926 | L13: =K13+L11 -> 0.068206019
F14: =AVERAGE(F8,F10,F12) -> 39.723333 | G14: =AVERAGE(G8,G10,G12) -> 40.071091 | H14: Паша | I14: =AVERAGE(I8,I10,I12) -> 0.34775748
F15: =AVERAGE(F9,F11,F13) -> 39.74 | G15: =AVERAGE(G9,G11,G13) -> 40.091358 | H15: Гриша | I15: =AVERAGE(I9,I11,I13) -> 0.35135778
F16: =AVERAGE(F8:F13) -> 39.731667 | G16: =AVERAGE(C19:H90) -> 40.078498 | I16: =AVERAGE(I8:I13) -> 0.34955763
C18: =B8 -> Пикулин Паша | D18: =B9 -> Звягин Григорий | E18: =B10 -> Пикулин Паша | F18: =B11 -> Звягин Григорий | G18: =B12 -> Пикулин Паша | H18: =B13 -> Звягин Григорий
B19: 1 | C19: 42.87 | D19: 41.27 | E19: 41.09 | F19: 41.73 | G19: 41.24 | H19: 41.47
B20: 2 | C20: 42.74 | D20: 40.05 | E20: 40.88 | F20: 39.96 | G20: 40.03 | H20: 40.12
B21: 3 | C21: 40.81 | D21: 40.18 | E21: 39.87 | F21: 40.03 | G21: 40.11 | H21: 39.98
B22: 4 | C22: 40.1 | D22: 40 | E22: 39.87 | F22: 39.89 | G22: 39.99 | H22: 40.18
B23: 5 | C23: 40.24 | D23: 40.12 | E23: 40.4 | F23: 39.91 | G23: 39.83 | H23: 40.11
B24: 6 | C24: 39.94 | D24: 40.03 | E24: 40 | F24: 39.99 | G24: 39.9 | H24: 39.89
B25: 7 | C25: 39.8 | D25: 39.83 | E25: 39.82 | F25: 39.92 | G25: 40.34 | H25: 40.22
B26: 8 | C26: 39.75 | D26: 39.98 | E26: 39.83 | F26: 39.78 | G26: 40.12 | H26: 40.08
B27: 9 | C27: 40 | D27: 39.88 | E27: 39.76 | F27: 39.79 | G27: 39.96 | H27: 40.03
B28: 10 | C28: 39.89 | D28: 39.8 | E28: 39.9 | F28: 39.95 | G28: 39.73 | H28: 40.01
B29: 11 | C29: 39.89 | D29: 40.37 | E29: 39.77 | F29: 39.88 | G29: 40 | H29: 39.85
B30: 12 | C30: 39.86 | D30: 40.4 | E30: 39.81 | F30: 39.96 | G30: 40.21 | H30: 39.93
... B46: 28 | C46: 39.87 | D46: 39.86 | E46: 40.11 | F46: 39.84 | G46: 41.37 | H46: 40.04
B47: 29 | D47: 39.81 | E47: 40.06 | F47: 39.88 | G47: 40.22 | H47: 40.74
B48: 30 | D48: 40 | E48: 39.69 | F48: 39.81 | G48: 40.11 | H48: 40.06
B49: 31 | D49: 40.08 | E49: 40.16 | F49: 40 | G49: 40.02 | H49: 39.88
B50: 32 | D50: 39.86 | E50: 39.85 | F50: 40.58 | G50: 40.02 | H50: 40.3
B51: 33 | D51: 39.97 | E51: 40.11 | F51: 39.94 | G51: 40.23 | H51: 39.97
B52: 34 | D52: 39.85 | E52: 39.82 | F52: 39.83 | G52: 40.15 | H52: 40
B53: 35 | D53: 40.02 | E53: 39.77 | F53: 39.68 | G53: 40.4 | H53: 39.94
B54: 36 | D54: 41.43 | E54: 39.78 | F54: 40.6 | G54: 40.02 | H54: 40.46
B55: 37 | D55: 40.01 | E55: 39.79 | F55: 39.91 | G55: 40.26 | H55: 39.88
B56: 38 | D56: 39.87 | E56: 39.83 | F56: 40.05 | G56: 40.03 | H56: 40.04
B57: 39 | D57: 39.89 | E57: 39.85 | F57: 39.99 | G57: 40.04 | H57: 40.54
B58: 40 | E58: 39.98 | F58: 39.82 | G58: 40.17 | H58: 39.87
B59: 41 | E59: 39.81 | F59: 39.71 | G59: 39.97 | H59: 39.98
B60: 42 | E60: 39.74 | F60: 39.81 | G60: 40.22 | H60: 39.96
B61: 43 | E61: 39.87 | F61: 39.77 | G61: 40.15 | H61: 39.86
B62: 44 | F62: 39.84 | G62: 40.08 | H62: 40.02
B63: 45 | F63: 39.75 | H63: 39.88
B64: 46 | F64: 39.83 | H64: 39.76
B65: 47 | F65: 39.85 | H65: 39.93
B66: 48 | F66: 41.16 | H66: 39.93
B67: 49 | F67: 40.25
B68: 50 | F68: 39.67
B69: 51 | F69: 39.86
B70: 52
B71: 53
B72: 54
B73: 55
B74: 56
B75: 57
B76: 58
B77: 59
B78: 60
B79: 61
B80: 62
B81: 63

Sheet MST
A2: Чемпионат мини марафон "Большие Гонки", 9-й этап
A4: MST
A6: Обяза-тельные | B6: Пилот | C6: карт | D6: Круг | E6: кругов на отрезке | F6: Статистика по кругам | J6: Общее время гонки | K6: Время на трассе
F7: Лучший круг | G7: Среднее на отрезке | H7: Кругов в 0,1 от лучшего | I7: стабильность | K7: отрезок | L7: всего у пилота | M7: Питы | N7: Штрафы/ бонусы (сек)
A8: 1 | B8: Ткаченко Антон | C8: 17 | D8: =COUNTA(C19:C83) -> 35 | E8: =COUNTA(C19:C83) -> 35 | F8: =MIN(C19:C82) -> 39.44 | G8: =AVERAGE(C19:C85) -> 40.056857 | H8: 5 | I8: =G8-F8 -> 0.61685714 | J8: 0.016724537 | K8: =J8 -> 0.016724537 | L8: =K8 -> 0.016724537 | M8: 2:14.74
A9: 2 | B9: Тыщенко Миша | C9: 5 | D9: =COUNTA(D19:D83)+D8+1 -> 98 | E9: =COUNTA(D19:D83)+1 -> 63 | F9: =MIN(D19:D82) -> 39.6 | G9: =AVERAGE(D19:D84) -> 40.079516 | H9: 6 | I9: =G9-F9 -> 0.47951613 | J9: 0.047060185 | K9: =J9-J8 -> 0.030335648 | L9: =K9 -> 0.030335648 | M9: 2:05.58 | N9: -9 | O9: бонус за вес
A10: 3 | B10: Ткаченко Антон | C10: 10 | D10: =COUNTA(E19:E83)+D9+1 -> 116 | E10: =COUNTA(E19:E83)+1 -> 18 | F10: =MIN(E19:E84) -> 40 | G10: =AVERAGE(E19:E85) -> 40.35 | H10: 3 | I10: =G10-F10 -> 0.35 | J10: 0.056454803 | K10: =J10-J9 -> 0.0093946181 | L10: =K10+L8 -> 0.026119155 | M10: 2:14.76
A11: 4 | B11: Ткаченко Антон | C11: 13 | D11: =COUNTA(F19:F83)+D10+1 -> 164 | E11: =COUNTA(F19:F83)+1 -> 48 | F11: =MIN(F19:F84) -> 39.7 | G11: =AVERAGE(F19:F84) -> 40.081277 | H11: 6 | I11: =G11-F11 -> 0.3812766 | J11: 0.079826389 | K11: =J11-J10 -> 0.023371586 | L11: =K11+L10 -> 0.049490741 | M11: 2:15.81
A12: 5 | B12: Тыщенко Миша | C12: 6 | D12: =COUNTA(G19:G83)+D11+1 -> 229 | E12: =COUNTA(G19:G83)+1 -> 65 | F12: =MIN(G19:G84) -> 39.47 | G12: =AVERAGE(G19:G884) -> 39.811875 | H12: 10 | I12: =G12-F12 -> 0.341875 | J12: 0.11087963 | K12: =J12-J11 -> 0.031053241 | L12: =K12+L9 -> 0.061388889 | M12: 2:34.31 | N12: +20 | O12: лимит
A13: Финиш | B13: Ткаченко Антон | C13: 14 | D13: =COUNTA(H19:H83)+D12+1 -> 258 | E13: =COUNTA(H19:H83)+1 -> 29 | F13: =MIN(H19:H84) -> 39.91 | G13: =AVERAGE(H19:H84) -> 40.285357 | H13: 6 | I13: =G13-F13 -> 0.37535714 | J13: ='Общие результаты'!G6 -> 03:00:08 | K13: =J13-J12 -> 0.014212963 | L13: =K13+L11 -> 0.063703704
F14: =AVERAGE(F8,F10,F11,F13) -> 39.7625 | G14: =AVERAGE(G8,G10,G11,G13) -> 40.193373 | H14: Антон | I14: =AVERAGE(I8,I10,I11,I13) -> 0.43087272
F15: =AVERAGE(F9,F12) -> 39.535 | G15: =AVERAGE(G9,G12) -> 39.945696 | H15: Миша | I15: =AVERAGE(I9,I12) -> 0.41069556
F16: =AVERAGE(F8:F13) -> 39.686667 | G16: =AVERAGE(C19:H90) -> 40.04996 | I16: =AVERAGE(I8:I13) -> 0.424147
C18: =B8 -> Ткаченко Антон | D18: =B9 -> Тыщенко Миша | E18: =B10 -> Ткаченко Антон | F18: =B11 -> Ткаченко Антон | G18: =B12 -> Тыщенко Миша | H18: =B13 -> Ткаченко Антон
B19: 1 | C19: 43.63 | D19: 41.52 | E19: 42.36 | F19: 41.55 | G19: 41.61 | H19: 43.92
B20: 2 | C20: 40.87 | D20: 40.06 | E20: 40.41 | F20: 40.18 | G20: 40.51 | H20: 40.99
B21: 3 | C21: 43.09 | D21: 40.08 | E21: 40.8 | F21: 40.17 | G21: 40.07 | H21: 40.39
B22: 4 | C22: 40.28 | D22: 40.04 | E22: 40.35 | F22: 40.05 | G22: 39.92 | H22: 40.41
B23: 5 | C23: 40.11 | D23: 39.99 | E23: 40.09 | F23: 40.04 | G23: 39.9 | H23: 40.2
B24: 6 | C24: 39.93 | D24: 41.36 | E24: 40.24 | F24: 40.18 | G24: 39.91 | H24: 40.08
B25: 7 | C25: 39.74 | D25: 41.84 | E25: 40.23 | F25: 40.16 | G25: 39.6 | H25: 40.03
B26: 8 | C26: 39.99 | D26: 40.71 | E26: 40.06 | F26: 40.09 | G26: 39.83 | H26: 40.34
B27: 9 | C27: 40.66 | D27: 40.71 | E27: 40.19 | F27: 40.01 | G27: 39.63 | H27: 40.16
B28: 10 | C28: 40.28 | D28: 40.04 | E28: 40 | F28: 39.97 | G28: 39.5 | H28: 40.08
B29: 11 | C29: 39.62 | D29: 40.97 | E29: 40.19 | F29: 40.35 | G29: 39.69 | H29: 39.94
B30: 12 | C30: 39.53 | D30: 39.98 | E30: 40.14 | F30: 40.08 | G30: 39.5 | H30: 40.11
... B35: 17 | C35: 39.61 | D35: 39.78 | E35: 40.4 | F35: 41.41 | G35: 39.88 | H35: 40.23
B36: 18 | C36: 39.57 | D36: 39.8 | F36: 39.77 | G36: 39.79 | H36: 39.99
B37: 19 | C37: 39.51 | D37: 39.69 | F37: 39.9 | G37: 39.68 | H37: 40.03
B38: 20 | C38: 39.7 | D38: 40.16 | F38: 39.93 | G38: 39.67 | H38: 39.91
B39: 21 | C39: 39.52 | D39: 40.39 | F39: 39.8 | G39: 39.68 | H39: 39.92
B40: 22 | C40: 39.62 | D40: 40.04 | F40: 39.92 | G40: 39.68 | H40: 40.21
B41: 23 | C41: 39.44 | D41: 39.99 | F41: 40.26 | G41: 39.68 | H41: 40.1
B42: 24 | C42: 39.53 | D42: 39.79 | F42: 40.12 | G42: 39.61 | H42: 40.06
B43: 25 | C43: 39.68 | D43: 39.9 | F43: 40.44 | G43: 39.52 | H43: 39.92
B44: 26 | C44: 39.9 | D44: 39.84 | F44: 39.92 | G44: 40.31 | H44: 40.04
B45: 27 | C45: 39.85 | D45: 39.81 | F45: 39.95 | G45: 39.6 | H45: 39.94
B46: 28 | C46: 39.56 | D46: 39.81 | F46: 39.7 | G46: 39.7 | H46: 39.96
B47: 29 | C47: 39.68 | D47: 40.59 | F47: 39.88 | G47: 40.18
B48: 30 | C48: 39.61 | D48: 39.91 | F48: 40.05 | G48: 39.7
B49: 31 | C49: 40.12 | D49: 39.95 | F49: 39.75 | G49: 40.3
B50: 32 | C50: 40.36 | D50: 40.05 | F50: 39.97 | G50: 39.62
B51: 33 | C51: 39.83 | D51: 39.94 | F51: 39.79 | G51: 39.62
B52: 34 | C52: 39.77 | D52: 39.88 | F52: 39.8 | G52: 39.83
B53: 35 | C53: 40.17 | D53: 40.7 | F53: 39.85 | G53: 40.49
B54: 36 | D54: 39.88 | F54: 39.9 | G54: 39.97
B55: 37 | D55: 40.17 | F55: 39.83 | G55: 39.59
B56: 38 | D56: 39.71 | F56: 39.86 | G56: 41.22
B57: 39 | D57: 39.92 | F57: 39.84 | G57: 39.75
B58: 40 | D58: 39.82 | F58: 39.76 | G58: 39.74
B59: 41 | D59: 39.72 | F59: 39.82 | G59: 39.76
B60: 42 | D60: 39.73 | F60: 39.77 | G60: 39.84
B61: 43 | D61: 40.02 | F61: 39.9 | G61: 39.57
B62: 44 | D62: 39.7 | F62: 40.02 | G62: 39.54
B63: 45 | D63: 39.9 | F63: 40.03 | G63: 39.71
B64: 46 | D64: 39.63 | F64: 39.93 | G64: 40.19
B65: 47 | D65: 39.72 | F65: 39.88 | G65: 39.81
B66: 48 | D66: 39.82 | G66: 39.6
B67: 49 | D67: 40.03 | G67: 39.74
B68: 50 | D68: 39.76 | G68: 39.48
B69: 51 | D69: 39.67 | G69: 39.48
B70: 52 | D70: 39.62 | G70: 39.66
B71: 53 | D71: 39.6 | G71: 39.62
B72: 54 | D72: 39.68 | G72: 39.74
B73: 55 | D73: 40.15 | G73: 39.78
B74: 56 | D74: 39.93 | G74: 39.62
B75: 57 | D75: 40.26 | G75: 39.56
B76: 58 | D76: 39.85 | G76: 39.65
B77: 59 | D77: 39.81 | G77: 39.58
... B80: 62 | D80: 39.7 | G80: 39.7
B81: 63 | G81: 39.65
G82: 39.68

Sheet NFS Fortuna RT
A2: Чемпионат мини марафон "Большие Гонки", 9-й этап
A4: NFS Fortuna RT
A6: Обяза-тельные | B6: Пилот | C6: карт | D6: Круг | E6: кругов на отрезке | F6: Статистика по кругам | J6: Общее время гонки | K6: Время на трассе
F7: Лучший круг | G7: Среднее на отрезке | H7: Кругов в 0,1 от лучшего | I7: стабильность | K7: отрезок | L7: всего у пилота | M7: Питы | N7: Штрафы/ бонусы (сек)
A8: 1 | B8: Шутка Виталий | C8: 10 | D8: =COUNTA(C19:C83) -> 21 | E8: =COUNTA(C19:C83) -> 21 | F8: =MIN(C19:C82) -> 39.99 | G8: =AVERAGE(C19:C85) -> 41.191429 | H8: 4 | I8: =G8-F8 -> 1.2014286 | J8: 0.010486111 | K8: =J8 -> 0.010486111 | L8: =K8 -> 0.010486111 | M8: 2:15.28
A9: 2 | B9: Шутка Виталий | C9: 9 | D9: =COUNTA(D19:D83)+D8+1 -> 70 | E9: =COUNTA(D19:D83)+1 -> 49 | F9: =MIN(D19:D82) -> 39.8 | G9: =AVERAGE(D19:D84) -> 40.158333 | H9: 3 | I9: =G9-F9 -> 0.35833333 | J9: 0.034363426 | K9: =J9-J8 -> 0.023877315 | L9: =K9+L8 -> 0.034363426 | M9: 2:15.27
A10: 3 | B10: Фортуна Таня | C10: 8 | D10: =COUNTA(E19:E83)+D9+1 -> 104 | E10: =COUNTA(E19:E83)+1 -> 34 | F10: =MIN(E19:E84) -> 39.65 | G10: =AVERAGE(E19:E85) -> 40.034848 | H10: 1 | I10: =G10-F10 -> 0.38484848 | J10: 0.051226852 | K10: =J10-J9 -> 0.016863426 | L10: =K10 -> 0.016863426 | M10: 2:14.43
A11: 4 | B11: Шутка Виталий | C11: 11 | D11: =COUNTA(F19:F83)+D10+1 -> 160 | E11: =COUNTA(F19:F83)+1 -> 56 | F11: =MIN(F19:F84) -> 39.64 | G11: =AVERAGE(F19:F84) -> 39.998545 | H11: 1 | I11: =G11-F11 -> 0.35854545 | J11: 0.078252315 | K11: =J11-J10 -> 0.027025463 | L11: =K11+L9 -> 0.061388889 | M11: 2:15.72
A12: 5 | B12: Фортуна Таня | C12: 3 | D12: =COUNTA(G19:G83)+D11+1 -> 225 | E12: =COUNTA(G19:G83)+1 -> 65 | F12: =MIN(G19:G84) -> 39.74 | G12: =AVERAGE(G19:G884) -> 40.031875 | H12: 4 | I12: =G12-F12 -> 0.291875 | J12: 0.10946759 | K12: =J12-J11 -> 0.031215278 | L12: =K12+L10 -> 0.048078704 | M12: 2:14.74
A13: Финиш | B13: Фортуна Таня | C13: 4 | D13: =COUNTA(H19:H83)+D12+1 -> 258 | E13: =COUNTA(H19:H83)+1 -> 33 | F13: =MIN(H19:H84) -> 40.08 | G13: =AVERAGE(H19:H84) -> 40.292813 | H13: 9 | I13: =G13-F13 -> 0.2128125 | J13: ='Общие результаты'!G6 -> 03:00:08 | K13: =J13-J12 -> 0.015625 | L13: =K13+L12 -> 0.063703704
F14: =AVERAGE(F8,F9,F11) -> 39.81 | G14: =AVERAGE(G8,G9,G11) -> 40.449436 | H14: Виталий | I14: =AVERAGE(I8,I9,I11) -> 0.63943579
F15: =AVERAGE(F10,F12,F13) -> 39.823333 | G15: =AVERAGE(G10,G12,G13) -> 40.119845 | H15: Таня | I15: =AVERAGE(I10,I12,I13) -> 0.29651199
F16: =AVERAGE(F8:F13) -> 39.816667 | G16: =AVERAGE(C19:H90) -> 40.178261 | I16: =AVERAGE(I8:I13) -> 0.46797389
C18: =B8 -> Шутка Виталий | D18: =B9 -> Шутка Виталий | E18: =B10 -> Фортуна Таня | F18: =B11 -> Шутка Виталий | G18: =B12 -> Фортуна Таня | H18: =B13 -> Фортуна Таня
B19: 1 | C19: 42.06 | D19: 42.26 | E19: 41.69 | F19: 42.13 | G19: 41.63 | H19: 41.44
B20: 2 | C20: 42.65 | D20: 40.7 | E20: 40.18 | F20: 39.72 | G20: 39.99 | H20: 40.08
B21: 3 | C21: 54.48 | D21: 40.09 | E21: 40.05 | F21: 39.9 | G21: 40.01 | H21: 40.46
B22: 4 | C22: 41.02 | D22: 39.9 | E22: 40.15 | F22: 39.77 | G22: 39.96 | H22: 40.12
B23: 5 | C23: 40.37 | D23: 39.94 | E23: 40.07 | F23: 39.64 | G23: 39.9 | H23: 40.18
B24: 6 | C24: 40.36 | D24: 41.11 | E24: 40.2 | F24: 39.9 | G24: 40.64 | H24: 40.38
B25: 7 | C25: 40.9 | D25: 40.15 | E25: 40.14 | F25: 39.78 | G25: 40.18 | H25: 40.25
B26: 8 | C26: 40.4 | D26: 40.03 | E26: 39.9 | F26: 40.05 | G26: 40.47 | H26: 40.25
B27: 9 | C27: 40.33 | D27: 39.92 | E27: 39.9 | F27: 39.78 | G27: 40 | H27: 40.31
B28: 10 | C28: 40.86 | D28: 40.06 | E28: 40.75 | F28: 39.82 | G28: 40.93 | H28: 40.15
B29: 11 | C29: 40.21 | D29: 40.19 | E29: 40.43 | F29: 39.79 | G29: 40.14 | H29: 40.41
B30: 12 | C30: 40.08 | D30: 39.91 | E30: 39.97 | F30: 40.18 | G30: 39.9 | H30: 40.41
... B39: 21 | C39: 40.21 | D39: 39.94 | E39: 39.79 | F39: 39.84 | G39: 39.79 | H39: 40.09
B40: 22 | D40: 39.92 | E40: 40.29 | F40: 39.81 | G40: 39.89 | H40: 40.22
B41: 23 | D41: 39.92 | E41: 39.78 | F41: 39.84 | G41: 39.83 | H41: 40.2
B42: 24 | D42: 39.95 | E42: 39.84 | F42: 40.21 | G42: 39.92 | H42: 40.16
B43: 25 | D43: 40.29 | E43: 39.76 | F43: 40.11 | G43: 39.89 | H43: 40.17
B44: 26 | D44: 40.03 | E44: 40.09 | F44: 40.03 | G44: 40.09 | H44: 40.16
B45: 27 | D45: 39.97 | E45: 39.89 | F45: 40.03 | G45: 40.08 | H45: 40.27
B46: 28 | D46: 39.89 | E46: 39.77 | F46: 39.97 | G46: 39.97 | H46: 40.24
B47: 29 | D47: 40.23 | E47: 40.18 | F47: 40.07 | G47: 39.79 | H47: 40.15
B48: 30 | D48: 39.97 | E48: 39.82 | F48: 40.05 | G48: 39.74 | H48: 40.25
B49: 31 | D49: 39.96 | E49: 39.8 | F49: 40.37 | G49: 39.89 | H49: 40.19
B50: 32 | D50: 40.03 | E50: 39.77 | F50: 40 | G50: 39.95 | H50: 40.7
B51: 33 | D51: 40.08 | E51: 39.94 | F51: 40.03 | G51: 39.86
B52: 34 | D52: 40.22 | F52: 40.16 | G52: 39.86
B53: 35 | D53: 40.28 | F53: 39.94 | G53: 39.89
B54: 36 | D54: 40.27 | F54: 40.46 | G54: 40
B55: 37 | D55: 40.23 | F55: 40.08 | G55: 39.82
B56: 38 | D56: 39.94 | F56: 39.93 | G56: 40.04
B57: 39 | D57: 40.09 | F57: 40.23 | G57: 39.94
B58: 40 | D58: 39.97 | F58: 39.84 | G58: 40.08
B59: 41 | D59: 40.17 | F59: 39.78 | G59: 40
B60: 42 | D60: 40 | F60: 39.94 | G60: 39.87
B61: 43 | D61: 39.99 | F61: 39.9 | G61: 39.89
B62: 44 | D62: 40 | F62: 39.9 | G62: 39.91
B63: 45 | D63: 41.3 | F63: 40.01 | G63: 39.86
... B66: 48 | D66: 40.02 | F66: 39.71 | G66: 40.01
B67: 49 | F67: 39.9 | G67: 40.02
B68: 50 | F68: 39.95 | G68: 39.89
B69: 51 | F69: 40.16 | G69: 39.99
B70: 52 | F70: 39.95 | G70: 39.87
B71: 53 | F71: 39.66 | G71: 39.94
B72: 54 | F72: 39.9 | G72: 39.92
B73: 55 | F73: 40.1 | G73: 39.86
B74: 56 | G74: 40.07
B75: 57 | G75: 39.89
B76: 58 | G76: 39.99
B77: 59 | G77: 39.85
B78: 60 | G78: 39.92
B79: 61 | G79: 40.02
B80: 62 | G80: 39.9
B81: 63 | G81: 39.84
G82: 39.78

Sheet 50 Grams
A2: Чемпионат мини марафон "Большие Гонки", 9-й этап
A4: 50 Grams
A6: Обяза-тельные | B6: Пилот | C6: карт | D6: Круг | E6: кругов на отрезке | F6: Статистика по кругам | J6: Общее время гонки | K6: Время на трассе
F7: Лучший круг | G7: Среднее на отрезке | H7: Кругов в 0,1 от лучшего | I7: стабильность | K7: отрезок | L7: всего у пилота | M7: Питы | N7: Штрафы/ бонусы (сек)
A8: 1 | B8: Шиленко Саша | C8: 4 | D8: =COUNTA(C19:C83) -> 27 | E8: =COUNTA(C19:C83) -> 27 | F8: =MIN(C19:C82) -> 39.69 | G8: =AVERAGE(C19:C85) -> 40.200741 | H8: 5 | I8: =G8-F8 -> 0.51074074 | J8: 0.013043981 | K8: =J8 -> 0.013043981 | L8: =K8 -> 0.013043981 | M8: 2:15.35
A9: 2 | B9: Сомок Денис | C9: 10 | D9: =COUNTA(D19:D83)+D8+1 -> 89 | E9: =COUNTA(D19:D83)+1 -> 62 | F9: =MIN(D19:D82) -> 39.84 | G9: =AVERAGE(D19:D84) -> 40.243934 | H9: 4 | I9: =G9-F9 -> 0.40393443 | J9: 0.043043981 | K9: =J9-J8 -> 0.03 | L9: =K9 -> 0.03 | M9: 2:16.06
A10: 3 | B10: Шиленко Саша | C10: 14 | D10: =COUNTA(E19:E83)+D9+1 -> 137 | E10: =COUNTA(E19:E83)+1 -> 48 | F10: =MIN(E19:E84) -> 39.78 | G10: =AVERAGE(E19:E85) -> 40.218511 | H10: 1 | I10: =G10-F10 -> 0.43851064 | J10: 0.066481481 | K10: =J10-J9 -> 0.0234375 | L10: =K10+L8 -> 0.036481481 | M10: 2:15.30
A11: 4 | B11: Сомок Денис | C11: 5 | D11: =COUNTA(F19:F83)+D10+1 -> 192 | E11: =COUNTA(F19:F83)+1 -> 55 | F11: =MIN(F19:F84) -> 39.77 | G11: =AVERAGE(F19:F84) -> 40.144815 | H11: 7 | I11: =G11-F11 -> 0.37481481 | J11: 0.093159722 | K11: =J11-J10 -> 0.026678241 | L11: =K11+L9 -> 0.056678241 | M11: 2:14.70
A12: 5 | B12: Шиленко Саша | C12: 4 | D12: =COUNTA(G19:G83)+D11+1 -> 223 | E12: =COUNTA(G19:G83)+1 -> 31 | F12: =MIN(G19:G84) -> 39.9 | G12: =AVERAGE(G19:G884) -> 40.259333 | H12: 6 | I12: =G12-F12 -> 0.35933333 | J12: 0.10868056 | K12: =J12-J11 -> 0.015520833 | L12: =K12+L10 -> 0.052002315 | M12: 2:15.23
A13: Финиш | B13: Шиленко Саша | C13: 12 | D13: =COUNTA(H19:H83)+D12+1 -> 257 | E13: =COUNTA(H19:H83)+1 -> 34 | F13: =MIN(H19:H84) -> 39.94 | G13: =AVERAGE(H19:H84) -> 40.284242 | H13: 4 | I13: =G13-F13 -> 0.34424242 | J13: ='Общие результаты'!G6 -> 03:00:08 | K13: =J13-J12 -> 0.016412037 | L13: =K13+L12 -> 0.068414352
F14: =AVERAGE(F8,F10,F12) -> 39.79 | G14: =AVERAGE(G8,G10,G12) -> 40.226195 | H14: Саша | I14: =AVERAGE(I8,I10,I12) -> 0.4361949
F15: =AVERAGE(F9,F11,F13) -> 39.85 | G15: =AVERAGE(G9,G11,G13) -> 40.224331 | H15: Денис | I15: =AVERAGE(I9,I11,I13) -> 0.37433056
F16: =AVERAGE(F8:F13) -> 39.82 | G16: =AVERAGE(C19:H90) -> 40.220437 | I16: =AVERAGE(I8:I13) -> 0.40526273
C18: =B8 -> Шиленко Саша | D18: =B9 -> Сомок Денис | E18: =B10 -> Шиленко Саша | F18: =B11 -> Сомок Денис | G18: =B12 -> Шиленко Саша | H18: =B13 -> Шиленко Саша
B19: 1 | C19: 42.51 | D19: 41.8 | E19: 42.16 | F19: 42.31 | G19: 41.75 | H19: 41.18
B20: 2 | C20: 42.03 | D20: 40.59 | E20: 40.15 | F20: 40.19 | G20: 40.02 | H20: 40.11
B21: 3 | C21: 40.59 | D21: 40.35 | E21: 40.16 | F21: 40.98 | G21: 40.64 | H21: 40
B22: 4 | C22: 40.18 | D22: 40.28 | E22: 40.21 | F22: 40.42 | G22: 40.73 | H22: 40.05
B23: 5 | C23: 41.06 | D23: 40.13 | E23: 40.55 | F23: 40.14 | G23: 40.89 | H23: 40.04
B24: 6 | C24: 40.01 | D24: 40.29 | E24: 39.9 | F24: 41.54 | G24: 40.3 | H24: 40.22
B25: 7 | C25: 40.11 | D25: 40.57 | E25: 40.01 | F25: 39.85 | G25: 40.16 | H25: 40.01
B26: 8 | C26: 40 | D26: 40.05 | E26: 40.13 | F26: 40.43 | G26: 39.96 | H26: 40.46
B27: 9 | C27: 39.9 | D27: 40.31 | E27: 40.09 | F27: 39.96 | G27: 41.03 | H27: 40.3
B28: 10 | C28: 39.98 | D28: 40.95 | E28: 40.58 | F28: 41.84 | G28: 40.47 | H28: 40.14
B29: 11 | C29: 39.79 | D29: 40.27 | E29: 40.18 | F29: 40 | G29: 39.91 | H29: 39.94
B30: 12 | C30: 40.09 | D30: 40.11 | E30: 40.23 | F30: 40.01 | G30: 40.4 | H30: 40.51
... B45: 27 | C45: 39.96 | D45: 40.1 | E45: 40.86 | F45: 39.86 | G45: 40.21 | H45: 40.07
B46: 28 | D46: 40.09 | E46: 39.78 | F46: 39.96 | G46: 40.07 | H46: 39.98
B47: 29 | D47: 40.4 | E47: 40.37 | F47: 39.92 | G47: 39.98 | H47: 40.19
B48: 30 | D48: 40.09 | E48: 40.28 | F48: 40.12 | G48: 39.93 | H48: 40.08
B49: 31 | D49: 40.05 | E49: 39.98 | F49: 40.08 | H49: 40.21
B50: 32 | D50: 40.39 | E50: 40.15 | F50: 40.19 | H50: 40.22
B51: 33 | D51: 40.35 | E51: 40.51 | F51: 39.89 | H51: 40.2
B52: 34 | D52: 40.18 | E52: 40.11 | F52: 39.77
B53: 35 | D53: 40.24 | E53: 40.6 | F53: 40.08
B54: 36 | D54: 40.14 | E54: 40.12 | F54: 39.77
B55: 37 | D55: 40.13 | E55: 40.42 | F55: 39.88
B56: 38 | D56: 40.15 | E56: 39.87 | F56: 39.85
B57: 39 | D57: 40.11 | E57: 39.8 | F57: 40
B58: 40 | D58: 40.2 | E58: 39.95 | F58: 39.92
B59: 41 | D59: 40.2 | E59: 40.13 | F59: 40.02
B60: 42 | D60: 40.09 | E60: 40.23 | F60: 40.32
B61: 43 | D61: 40.16 | E61: 40.2 | F61: 39.94
B62: 44 | D62: 40.06 | E62: 39.95 | F62: 39.99
B63: 45 | D63: 42.25 | E63: 41.28 | F63: 40.08
... B65: 47 | D65: 39.88 | E65: 40.34 | F65: 40.48
B66: 48 | D66: 40.33 | F66: 40.14
B67: 49 | D67: 40 | F67: 39.8
B68: 50 | D68: 40.22 | F68: 39.96
B69: 51 | D69: 39.84 | F69: 39.89
B70: 52 | D70: 40.21 | F70: 39.99
B71: 53 | D71: 40.01 | F71: 39.99
B72: 54 | D72: 40.16 | F72: 39.99
B73: 55 | D73: 39.96
B74: 56 | D74: 39.88
B75: 57 | D75: 40.07
B76: 58 | D76: 40.13
B77: 59 | D77: 39.84
B78: 60 | D78: 39.84
B79: 61 | D79: 39.95
B80: 62
B81: 63

Sheet Battle Master
A2: Чемпионат мини марафон "Большие Гонки", 9-й этап
A4: Battle Master
A6: Обяза-тельные | B6: Пилот | C6: карт | D6: Круг | E6: кругов на отрезке | F6: Статистика по кругам | J6: Общее время гонки | K6: Время на трассе
F7: Лучший круг | G7: Среднее на отрезке | H7: Кругов в 0,1 от лучшего | I7: стабильность | K7: отрезок | L7: всего у пилота | M7: Питы | N7: Штрафы/ бонусы (сек)
A8: 1 | B8: Голубченко Саша | C8: 44 | D8: =COUNTA(C19:C83) -> 40 | E8: =COUNTA(C19:C83) -> 40 | F8: =MIN(C19:C82) -> 39.7 | G8: =AVERAGE(C19:C85) -> 40.29925 | H8: 5 | I8: =G8-F8 -> 0.59925 | J8: 0.019143519 | K8: =J8 -> 0.019143519 | L8: =K8 -> 0.019143519 | M8: 2:06.15 | N8: -9 | O8: бонус за вес
A9: 2 | B9: Таволжан Виталий | C9: 17 | D9: =COUNTA(D19:D83)+D8+1 -> 98 | E9: =COUNTA(D19:D83)+1 -> 58 | F9: =MIN(D19:D82) -> 39.8 | G9: =AVERAGE(D19:D84) -> 40.332807 | H9: 6 | I9: =G9-F9 -> 0.53280702 | J9: 0.047337963 | K9: =J9-J8 -> 0.028194444 | L9: =K9 -> 0.028194444 | M9: 2:24.51 | N9: +5 | O9: против 11
A10: 3 | B10: Голубченко Саша | C10: 3 | D10: =COUNTA(E19:E83)+D9+1 -> 161 | E10: =COUNTA(E19:E83)+1 -> 63 | F10: =MIN(E19:E84) -> 39.74 | G10: =AVERAGE(E19:E85) -> 40.128871 | H10: 5 | I10: =G10-F10 -> 0.38887097 | J10: 0.077685185 | K10: =J10-J9 -> 0.030347222 | L10: =K10+L8 -> 0.049490741 | M10: 2:20.67 | N10: +5 | O10: линия
A11: 4 | B11: Таволжан Виталий | C11: 12 | D11: =COUNTA(F19:F83)+D10+1 -> 185 | E11: =COUNTA(F19:F83)+1 -> 24 | F11: =MIN(F19:F84) -> 39.95 | G11: =AVERAGE(F19:F84) -> 40.528261 | H11: 1 | I11: =G11-F11 -> 0.57826087 | J11: 0.090104167 | K11: =J11-J10 -> 0.012418981 | L11: =K11+L9 -> 0.040613426 | M11: 2:14.92
A12: 5 | B12: Таволжан Виталий | C12: 13 | D12: =COUNTA(G19:G83)+D11+1 -> 216 | E12: =COUNTA(G19:G83)+1 -> 31 | F12: =MIN(G19:G84) -> 39.75 | G12: =AVERAGE(G19:G884) -> 40.292 | H12: 0 | I12: =G12-F12 -> 0.542 | J12: 0.10565972 | K12: =J12-J11 -> 0.015555556 | L12: =K12+L10 -> 0.065046296 | M12: 2:13.80
A13: Финиш | B13: Голубченко Саша | C13: 44 | D13: =COUNTA(H19:H83)+D12+1 -> 257 | E13: =COUNTA(H19:H83)+1 -> 41 | F13: =MIN(H19:H84) -> 39.72 | G13: =AVERAGE(H19:H84) -> 40.16375 | H13: 2 | I13: =G13-F13 -> 0.44375 | J13: ='Общие результаты'!G6 -> 03:00:08 | K13: =J13-J12 -> 0.01943287 | L13: =K13+L11 -> 0.060046296
F14: =AVERAGE(F8,F10,F13) -> 39.72 | G14: =AVERAGE(G8,G10,G13) -> 40.19729 | H14: Саша | I14: =AVERAGE(I8,I10,I13) -> 0.47729032
F15: =AVERAGE(F9,F11,F12) -> 39.833333 | G15: =AVERAGE(G9,G11,G12) -> 40.384356 | H15: Виталий | I15: =AVERAGE(I9,I11,I12) -> 0.55102263
F16: =AVERAGE(F8:F13) -> 39.776667 | G16: =AVERAGE(C19:H90) -> 40.263452 | I16: =AVERAGE(I8:I13) -> 0.51415648
C18: =B8 -> Голубченко Саша | D18: =B9 -> Таволжан Виталий | E18: =B10 -> Голубченко Саша | F18: =B11 -> Таволжан Виталий | G18: =B12 -> Таволжан Виталий | H18: =B13 -> Голубченко Саша
B19: 1 | C19: 42.59 | D19: 42.42 | E19: 43.83 | F19: 42.22 | G19: 42.04 | H19: 41.34
B20: 2 | C20: 42.48 | D20: 41.56 | E20: 40.28 | F20: 41.17 | G20: 40.33 | H20: 39.99
B21: 3 | C21: 43.49 | D21: 41.32 | E21: 40.18 | F21: 40.66 | G21: 40.21 | H21: 40.17
B22: 4 | C22: 41.07 | D22: 40.48 | E22: 39.96 | F22: 40.34 | G22: 40.12 | H22: 40.03
B23: 5 | C23: 39.97 | D23: 40.14 | E23: 40.07 | F23: 40.07 | G23: 40.22 | H23: 40.34
B24: 6 | C24: 39.98 | D24: 40.78 | E24: 40.1 | F24: 40.17 | G24: 40.25 | H24: 39.97
B25: 7 | C25: 40.08 | D25: 40.13 | E25: 40.26 | F25: 40.49 | G25: 39.98 | H25: 40.29
B26: 8 | C26: 40.06 | D26: 40.52 | E26: 40.09 | F26: 40.33 | G26: 40.74 | H26: 39.79
B27: 9 | C27: 40.19 | D27: 41.41 | E27: 40.55 | F27: 40.11 | G27: 40.24 | H27: 40.17
B28: 10 | C28: 40.94 | D28: 41.09 | E28: 40.62 | F28: 40.27 | G28: 39.89 | H28: 40.62
B29: 11 | C29: 40.57 | D29: 39.83 | E29: 40.07 | F29: 41.49 | G29: 39.87 | H29: 40.1
B30: 12 | C30: 40.09 | D30: 39.91 | E30: 40.09 | F30: 40.94 | G30: 40.14 | H30: 39.99
... B41: 23 | C41: 39.95 | D41: 39.91 | E41: 40.06 | F41: 40.14 | G41: 40.64 | H41: 39.88
B42: 24 | C42: 39.91 | D42: 40.34 | E42: 39.87 | G42: 39.93 | H42: 40.07
B43: 25 | C43: 39.81 | D43: 40.01 | E43: 39.91 | G43: 40.05 | H43: 40.02
B44: 26 | C44: 39.82 | D44: 40.01 | E44: 40.1 | G44: 40.57 | H44: 39.83
B45: 27 | C45: 39.94 | D45: 40.36 | E45: 40.25 | G45: 40.54 | H45: 39.95
B46: 28 | C46: 40.05 | D46: 40.26 | E46: 39.9 | G46: 39.94 | H46: 39.99
B47: 29 | C47: 39.74 | D47: 40.3 | E47: 39.99 | G47: 39.86 | H47: 40.13
B48: 30 | C48: 40.22 | D48: 40.19 | E48: 39.86 | G48: 40.65 | H48: 39.93
B49: 31 | C49: 40 | D49: 39.87 | E49: 39.97 | H49: 40.07
B50: 32 | C50: 39.88 | D50: 40.09 | E50: 39.85 | H50: 40.15
B51: 33 | C51: 39.79 | D51: 40.19 | E51: 39.93 | H51: 40.87
B52: 34 | C52: 39.76 | D52: 39.8 | E52: 40.17 | H52: 40.6
B53: 35 | C53: 39.77 | D53: 40.06 | E53: 40.01 | H53: 40.33
B54: 36 | C54: 40.54 | D54: 39.84 | E54: 39.97 | H54: 40.04
B55: 37 | C55: 39.94 | D55: 39.86 | E55: 39.88 | H55: 39.72
B56: 38 | C56: 39.96 | D56: 40.09 | E56: 40.12 | H56: 39.97
B57: 39 | C57: 40.25 | D57: 40.07 | E57: 40.26 | H57: 39.75
B58: 40 | C58: 40.02 | D58: 40.76 | E58: 40.31 | H58: 40.03
B59: 41 | D59: 40.18 | E59: 40.22
B60: 42 | D60: 39.95 | E60: 40.05
B61: 43 | D61: 41.74 | E61: 40.37
B62: 44 | D62: 40.22 | E62: 40.35
B63: 45 | D63: 40 | E63: 40.07
B64: 46 | D64: 41.47 | E64: 39.75
B65: 47 | D65: 40.23 | E65: 39.77
B66: 48 | D66: 39.82 | E66: 39.84
B67: 49 | D67: 40.68 | E67: 40.03
B68: 50 | D68: 40.48 | E68: 40.05
B69: 51 | D69: 40.11 | E69: 39.77
B70: 52 | D70: 40.09 | E70: 39.86
... B75: 57 | D75: 40.09 | E75: 40.4
B76: 58 | E76: 40.13
B77: 59 | E77: 39.8
B78: 60 | E78: 39.92
B79: 61 | E79: 39.74
B80: 62 | E80: 40.07
B81: 63

Sheet Hurricane
A2: Чемпионат мини марафон "Большие Гонки", 9-й этап
A4: Hurricane
A6: Обяза-тельные | B6: Пилот | C6: карт | D6: Круг | E6: кругов на отрезке | F6: Статистика по кругам | J6: Общее время гонки | K6: Время на трассе
F7: Лучший круг | G7: Среднее на отрезке | H7: Кругов в 0,1 от лучшего | I7: стабильность | K7: отрезок | L7: всего у пилота | M7: Питы | N7: Штрафы/ бонусы (сек)
A8: 1 | B8: Стоцкий Андрей | C8: 13 | D8: =COUNTA(C19:C83) -> 27 | E8: =COUNTA(C19:C83) -> 27 | F8: =MIN(C19:C82) -> 40.17 | G8: =AVERAGE(C19:C85) -> 40.721111 | H8: 7 | I8: =G8-F8 -> 0.55111111 | J8: 0.013229167 | K8: =J8 -> 0.013229167 | L8: =K8 -> 0.013229167 | M8: 2:14.76
A9: 2 | B9: Якусик Дима | C9: 2 | D9: =COUNTA(D19:D83)+D8+1 -> 88 | E9: =COUNTA(D19:D83)+1 -> 61 | F9: =MIN(D19:D82) -> 40.1 | G9: =AVERAGE(D19:D84) -> 40.515833 | H9: 8 | I9: =G9-F9 -> 0.41583333 | J9: 0.042928241 | K9: =J9-J8 -> 0.029699074 | L9: =K9 -> 0.029699074 | M9: 2:14.11
A10: 3 | B10: Стоцкий Андрей | C10: 21 | D10: =COUNTA(E19:E83)+D9+1 -> 143 | E10: =COUNTA(E19:E83)+1 -> 55 | F10: =MIN(E19:E84) -> 39.67 | G10: =AVERAGE(E19:E85) -> 40.025 | H10: 3 | I10: =G10-F10 -> 0.355 | J10: 0.069479167 | K10: =J10-J9 -> 0.026550926 | L10: =K10+L8 -> 0.039780093 | M10: 2:14.19
A11: 4 | B11: Якусик Дима | C11: 69 | D11: =COUNTA(F19:F83)+D10+1 -> 199 | E11: =COUNTA(F19:F83)+1 -> 56 | F11: =MIN(F19:F84) -> 39.82 | G11: =AVERAGE(F19:F84) -> 40.201273 | H11: 4 | I11: =G11-F11 -> 0.38127273 | J11: 0.096666667 | K11: =J11-J10 -> 0.0271875 | L11: =K11+L9 -> 0.056886574 | M11: 2:15.72
A12: 5 | B12: Стоцкий Андрей | C12: 5 | D12: =COUNTA(G19:G83)+D11+1 -> 231 | E12: =COUNTA(G19:G83)+1 -> 32 | F12: =MIN(G19:G84) -> 39.82 | G12: =AVERAGE(G19:G884) -> 40.156129 | H12: 2 | I12: =G12-F12 -> 0.33612903 | J12: 0.11260417 | K12: =J12-J11 -> 0.0159375 | L12: =K12+L10 -> 0.055717593 | M12: 2:14.21
A13: Финиш | B13: Стоцкий Андрей | C13: 3 | D13: =COUNTA(H19:H83)+D12+1 -> 257 | E13: =COUNTA(H19:H83)+1 -> 26 | F13: =MIN(H19:H84) -> 39.69 | G13: =AVERAGE(H19:H84) -> 40.3232 | H13: 6 | I13: =G13-F13 -> 0.6332 | J13: ='Общие результаты'!G6 -> 03:00:08 | K13: =J13-J12 -> 0.012488426 | L13: =K13+L12 -> 0.068206019
F14: =AVERAGE(F8,F10,F12) -> 39.886667 | G14: =AVERAGE(G8,G10,G12) -> 40.300747 | H14: Андрей | I14: =AVERAGE(I8,I10,I12) -> 0.41408005
F15: =AVERAGE(F9,F11,F13) -> 39.87 | G15: =AVERAGE(G9,G11,G13) -> 40.346769 | H15: Дима | I15: =AVERAGE(I9,I11,I13) -> 0.47676869
F16: =AVERAGE(F8:F13) -> 39.878333 | G16: =AVERAGE(C19:H90) -> 40.300635 | I16: =AVERAGE(I8:I13) -> 0.44542437
C18: =B8 -> Стоцкий Андрей | D18: =B9 -> Якусик Дима | E18: =B10 -> Стоцкий Андрей | F18: =B11 -> Якусик Дима | G18: =B12 -> Стоцкий Андрей | H18: =B13 -> Стоцкий Андрей
B19: 1 | C19: 43.78 | D19: 42.02 | E19: 42.5 | F19: 41.72 | G19: 41.39 | H19: 41.81
B20: 2 | C20: 41.96 | D20: 40.65 | E20: 40.2 | F20: 39.97 | G20: 40.26 | H20: 39.83
B21: 3 | C21: 43.02 | D21: 41.51 | E21: 40.05 | F21: 40.41 | G21: 40.01 | H21: 40.36
B22: 4 | C22: 41.28 | D22: 40.36 | E22: 39.98 | F22: 39.89 | G22: 40.12 | H22: 39.98
B23: 5 | C23: 40.4 | D23: 40.29 | E23: 40.13 | F23: 40.04 | G23: 39.89 | H23: 40.25
B24: 6 | C24: 40.5 | D24: 40.26 | E24: 40.18 | F24: 40.14 | G24: 40.03 | H24: 39.76
B25: 7 | C25: 40.32 | D25: 40.29 | E25: 40.06 | F25: 40.04 | G25: 40.05 | H25: 39.75
B26: 8 | C26: 40.17 | D26: 40.19 | E26: 39.99 | F26: 40.24 | G26: 40.14 | H26: 40.09
B27: 9 | C27: 40.45 | D27: 40.7 | E27: 39.99 | F27: 39.88 | G27: 42.75 | H27: 39.74
B28: 10 | C28: 40.33 | D28: 40.44 | E28: 40.16 | F28: 40.12 | G28: 39.94 | H28: 39.81
B29: 11 | C29: 40.2 | D29: 40.18 | E29: 40.12 | F29: 40.05 | G29: 40.12 | H29: 39.84
B30: 12 | C30: 40.35 | D30: 40.24 | E30: 40.08 | F30: 40.12 | G30: 40.04 | H30: 39.87
... B43: 25 | C43: 40.55 | D43: 40.24 | E43: 39.94 | F43: 39.99 | G43: 40 | H43: 39.79
B44: 26 | C44: 40.33 | D44: 40.19 | E44: 40 | F44: 40.05 | G44: 40.03
B45: 27 | C45: 40.35 | D45: 40.31 | E45: 39.96 | F45: 40.25 | G45: 39.94
B46: 28 | D46: 40.36 | E46: 40.14 | F46: 40.01 | G46: 40.06
B47: 29 | D47: 40.3 | E47: 39.84 | F47: 40.1 | G47: 39.99
B48: 30 | D48: 40.41 | E48: 39.86 | F48: 40.23 | G48: 39.95
B49: 31 | D49: 40.49 | E49: 39.84 | F49: 40.18 | G49: 40.05
B50: 32 | D50: 40.3 | E50: 39.96 | F50: 39.94
B51: 33 | D51: 41.04 | E51: 40.02 | F51: 40.19
B52: 34 | D52: 40.75 | E52: 39.91 | F52: 40.32
B53: 35 | D53: 40.3 | E53: 39.73 | F53: 40.03
B54: 36 | D54: 40.72 | E54: 39.85 | F54: 39.94
B55: 37 | D55: 40.13 | E55: 39.82 | F55: 40.38
B56: 38 | D56: 40.35 | E56: 40.06 | F56: 40.75
B57: 39 | D57: 40.26 | E57: 39.83 | F57: 40.29
B58: 40 | D58: 40.38 | E58: 39.76 | F58: 40.06
B59: 41 | D59: 40.57 | E59: 39.86 | F59: 40
B60: 42 | D60: 41.59 | E60: 40.11 | F60: 39.94
B61: 43 | D61: 41.54 | E61: 39.86 | F61: 40.32
... B72: 54 | D72: 40.62 | E72: 39.67 | F72: 41.52
B73: 55 | D73: 40.25 | F73: 39.97
B74: 56 | D74: 40.43
B75: 57 | D75: 40.37
B76: 58 | D76: 41.01
B77: 59 | D77: 40.1
B78: 60 | D78: 40.98
B79: 61
B80: 62
B81: 63

Sheet Kart Freedom RT
A2: Чемпионат мини марафон "Большие Гонки", 9-й этап
A4: Kart Freedom RT
A6: Обяза-тельные | B6: Пилот | C6: карт | D6: Круг | E6: кругов на отрезке | F6: Статистика по кругам | J6: Общее время гонки | K6: Время на трассе
F7: Лучший круг | G7: Среднее на отрезке | H7: Кругов в 0,1 от лучшего | I7: стабильность | K7: отрезок | L7: всего у пилота | M7: Питы | N7: Штрафы/ бонусы (сек)
A8: 1 | B8: Юрченко Вова | C8: 6 | D8: =COUNTA(C19:C83) -> 35 | E8: =COUNTA(C19:C83) -> 35 | F8: =MIN(C19:C82) -> 39.65 | G8: =AVERAGE(C19:C85) -> 40.494286 | H8: 1 | I8: =G8-F8 -> 0.84428571 | J8: 0.016899595 | K8: =J8 -> 0.016899595 | L8: =K8 -> 0.016899595 | M8: 2:22.56 | N8: +5 | O8: против 8
A9: 2 | B9: Медведева Даша | C9: 69 | D9: =COUNTA(D19:D83)+D8+1 -> 93 | E9: =COUNTA(D19:D83)+1 -> 58 | F9: =MIN(D19:D82) -> 39.41 | G9: =AVERAGE(D19:D84) -> 40.070702 | H9: 1 | I9: =G9-F9 -> 0.66070175 | J9: 0.044990486 | K9: =J9-J8 -> 0.028090891 | L9: =K9 -> 0.028090891 | M9: 2:13.57
A10: 3 | B10: Юрченко Вова | C10: 15 | D10: =COUNTA(E19:E83)+D9+1 -> 130 | E10: =COUNTA(E19:E83)+1 -> 37 | F10: =MIN(E19:E84) -> 39.87 | G10: =AVERAGE(E19:E85) -> 40.350556 | H10: 1 | I10: =G10-F10 -> 0.48055556 | J10: 0.063344514 | K10: =J10-J9 -> 0.018354028 | L10: =K10+L8 -> 0.035253623 | M10: 2:13.38
A11: 4 | B11: Медведева Даша | C11: 2 | D11: =COUNTA(F19:F83)+D10+1 -> 161 | E11: =COUNTA(F19:F83)+1 -> 31 | F11: =MIN(F19:F84) -> 39.71 | G11: =AVERAGE(F19:F84) -> 40.204667 | H11: 3 | I11: =G11-F11 -> 0.49466667 | J11: 0.078883241 | K11: =J11-J10 -> 0.015538727 | L11: =K11+L9 -> 0.043629618 | M11: 2:16.22
A12: 5 | B12: Юрченко Вова | C12: 33 | D12: =COUNTA(G19:G83)+D11+1 -> 203 | E12: =COUNTA(G19:G83)+1 -> 42 | F12: =MIN(G19:G84) -> 39.92 | G12: =AVERAGE(G19:G884) -> 40.622927 | H12: 0 | I12: =G12-F12 -> 0.70292683 | J12: 0.09972809 | K12: =J12-J11 -> 0.02084485 | L12: =K12+L10 -> 0.056098472 | M12: 2:16.45
A13: Финиш | B13: Медведева Даша | C13: 17 | D13: =COUNTA(H19:H83)+D12+1 -> 257 | E13: =COUNTA(H19:H83)+1 -> 54 | F13: =MIN(H19:H84) -> 39.33 | G13: =AVERAGE(H19:H84) -> 40.032453 | H13: 1 | I13: =G13-F13 -> 0.70245283 | J13: ='Общие результаты'!G6 -> 03:00:08 | K13: =J13-J12 -> 0.025364502 | L13: =K13+L11 -> 0.06899412
F14: =AVERAGE(F8,F10,F12) -> 39.813333 | G14: =AVERAGE(G8,G10,G12) -> 40.489256 | H14: Вова | I14: =AVERAGE(I8,I10,I12) -> 0.6759227
F15: =AVERAGE(F9,F11,F13) -> 39.483333 | G15: =AVERAGE(G9,G11,G13) -> 40.102607 | H15: Даша | I15: =AVERAGE(I9,I11,I13) -> 0.61927375
F16: =AVERAGE(F8:F13) -> 39.648333 | G16: =AVERAGE(C19:H90) -> 40.267262 | I16: =AVERAGE(I8:I13) -> 0.64759823
C18: =B8 -> Юрченко Вова | D18: =B9 -> Медведева Даша | E18: =B10 -> Юрченко Вова | F18: =B11 -> Медведева Даша | G18: =B12 -> Юрченко Вова | H18: =B13 -> Медведева Даша
B19: 1 | C19: 43.53 | D19: 42.26 | E19: 42.03 | F19: 43.15 | G19: 42.76 | H19: 40.86
B20: 2 | C20: 41.26 | D20: 40.79 | E20: 40.91 | F20: 40.51 | G20: 40.41 | H20: 40.01
B21: 3 | C21: 44.58 | D21: 41.24 | E21: 41.48 | F21: 40.39 | G21: 40.6 | H21: 39.81
B22: 4 | C22: 42.85 | D22: 40.41 | E22: 41.15 | F22: 40.31 | G22: 41.58 | H22: 39.89
B23: 5 | C23: 40.42 | D23: 40.12 | E23: 40.24 | F23: 39.93 | G23: 40.63 | H23: 40.02
B24: 6 | C24: 40.69 | D24: 40.15 | E24: 40.65 | F24: 40.41 | G24: 40.85 | H24: 40.11
B25: 7 | C25: 40.35 | D25: 40.28 | E25: 40.1 | F25: 40.64 | G25: 40.36 | H25: 39.98
B26: 8 | C26: 40.64 | D26: 39.98 | E26: 40.08 | F26: 40.12 | G26: 40.35 | H26: 39.74
B27: 9 | C27: 40.44 | D27: 39.85 | E27: 40.21 | F27: 39.97 | G27: 40.51 | H27: 40.09
B28: 10 | C28: 40.28 | D28: 39.76 | E28: 40.14 | F28: 40.03 | G28: 40.41 | H28: 40.61
B29: 11 | C29: 40.07 | D29: 39.8 | E29: 40.5 | F29: 39.8 | G29: 40.62 | H29: 39.82
B30: 12 | C30: 40.06 | D30: 40.41 | E30: 40.31 | F30: 39.96 | G30: 40.28 | H30: 39.67
... B48: 30 | C48: 39.81 | D48: 39.79 | E48: 40.02 | F48: 40.26 | G48: 40.77 | H48: 39.54
B49: 31 | C49: 39.68 | D49: 39.99 | E49: 39.99 | G49: 40.64 | H49: 39.65
B50: 32 | C50: 39.65 | D50: 39.74 | E50: 40.28 | G50: 40.6 | H50: 39.61
B51: 33 | C51: 39.71 | D51: 39.75 | E51: 40.33 | G51: 40.37 | H51: 40.75
B52: 34 | C52: 39.95 | D52: 39.91 | E52: 40.01 | G52: 40.52 | H52: 39.74
B53: 35 | C53: 39.97 | D53: 39.73 | E53: 39.99 | G53: 40.45 | H53: 39.33
B54: 36 | D54: 39.83 | E54: 40.15 | G54: 40.55 | H54: 39.82
B55: 37 | D55: 39.8 | G55: 40.74 | H55: 39.85
B56: 38 | D56: 40.1 | G56: 40.8 | H56: 39.9
B57: 39 | D57: 40.12 | G57: 40.56 | H57: 40.02
B58: 40 | D58: 39.51 | G58: 40.7 | H58: 39.65
B59: 41 | D59: 39.78 | G59: 40.78 | H59: 39.72
B60: 42 | D60: 40.3 | H60: 40.12
B61: 43 | D61: 40.38 | H61: 39.67
B62: 44 | D62: 40.06 | H62: 40.79
B63: 45 | D63: 39.89 | H63: 40.84
B64: 46 | D64: 39.79 | H64: 41.61
B65: 47 | D65: 39.77 | H65: 41.26
B66: 48 | D66: 40.02 | H66: 41.73
B67: 49 | D67: 40.24 | H67: 39.66
B68: 50 | D68: 39.66 | H68: 40.6
B69: 51 | D69: 39.66 | H69: 40.09
B70: 52 | D70: 39.41 | H70: 41.49
B71: 53 | D71: 39.66 | H71: 39.43
B72: 54 | D72: 39.75
B73: 55 | D73: 40.35
B74: 56 | D74: 40.98
B75: 57 | D75: 40.06
B76: 58
B77: 59
B78: 60
B79: 61
B80: 62
B81: 63

Sheet KartFreedom
A2: Чемпионат мини марафон "Большие Гонки", 9-й этап
A4: KartFreedom
A6: Обяза-тельные | B6: Пилот | C6: карт | D6: Круг | E6: кругов на отрезке | F6: Статистика по кругам | J6: Общее время гонки | K6: Время на трассе
F7: Лучший круг | G7: Среднее на отрезке | H7: Кругов в 0,1 от лучшего | I7: стабильность | K7: отрезок | L7: всего у пилота | M7: Питы | N7: Штрафы/ бонусы (сек)
A8: 1 | B8: Терещенко Андрей | C8: 2 | D8: =COUNTA(C19:C83) -> 23 | E8: =COUNTA(C19:C83) -> 23 | F8: =MIN(C19:C82) -> 40.06 | G8: =AVERAGE(C19:C85) -> 40.803043 | H8: 3 | I8: =G8-F8 -> 0.74304348 | J8: 0.011331991 | K8: =J8 -> 0.011331991 | L8: =K8 -> 0.011331991 | M8: 1:47.42 | N8: -27 | O8: бонус за вес
A9: 2 | B9: Паненко Женя | C9: 33 | D9: =COUNTA(D19:D83)+D8+1 -> 67 | E9: =COUNTA(D19:D83)+1 -> 44 | F9: =MIN(D19:D82) -> 39.86 | G9: =AVERAGE(D19:D84) -> 40.174651 | H9: 9 | I9: =G9-F9 -> 0.31465116 | J9: 0.032564039 | K9: =J9-J8 -> 0.021232049 | L9: =K9 -> 0.021232049 | M9: 2:14.20
A10: 3 | B10: Терещенко Андрей | C10: 44 | D10: =COUNTA(E19:E83)+D9+1 -> 97 | E10: =COUNTA(E19:E83)+1 -> 30 | F10: =MIN(E19:E84) -> 39.88 | G10: =AVERAGE(E19:E85) -> 40.233793 | H10: 5 | I10: =G10-F10 -> 0.3537931 | J10: 0.04763985 | K10: =J10-J9 -> 0.01507581 | L10: =K10+L8 -> 0.026407801 | M10: 2:13.91
A11: 4 | B11: Терещенко Андрей | C11: 5 | D11: =COUNTA(F19:F83)+D10+1 -> 127 | E11: =COUNTA(F19:F83)+1 -> 30 | F11: =MIN(F19:F84) -> 39.98 | G11: =AVERAGE(F19:F84) -> 40.242069 | H11: 7 | I11: =G11-F11 -> 0.26206897 | J11: 0.062680035 | K11: =J11-J10 -> 0.015040185 | L11: =K11+L10 -> 0.041447986 | M11: 2:14.05
A12: 5 | B12: Паненко Женя | C12: 16 | D12: =COUNTA(G19:G83)+D11+1 -> 193 | E12: =COUNTA(G19:G83)+1 -> 66 | F12: =MIN(G19:G94) -> 39.59 | G12: =AVERAGE(G19:G884) -> 40.004203 | H12: 3 | I12: =G12-F12 -> 0.4142029 | J12: 0.096188356 | K12: =J12-J11 -> 0.033508322 | L12: =K12+L9 -> 0.05474037 | M12: 2:14.95
A13: Финиш | B13: Терещенко Андрей | C13: 10 | D13: =COUNTA(H19:H83)+D12+1 -> 254 | E13: =COUNTA(H19:H83)+1 -> 61 | F13: =MIN(H19:H84) -> 39.75 | G13: =AVERAGE(H19:H84) -> 40.2415 | H13: 5 | I13: =G13-F13 -> 0.4915 | J13: ='Общие результаты'!G6 -> 03:00:08 | K13: =J13-J12 -> 0.028904236 | L13: =K13+L11 -> 0.070352222 | N13: +50+10 | O13: лимиты
F14: =AVERAGE(F8,F10,F11,F13) -> 39.9175 | G14: =AVERAGE(G8,G10,G11,G13) -> 40.380101 | H14: Андрей | I14: =AVERAGE(I8,I10,I11,I13) -> 0.46260139
F15: =AVERAGE(F9,F12) -> 39.725 | G15: =AVERAGE(G9,G12) -> 40.089427 | H15: Женя | I15: =AVERAGE(I9,I12) -> 0.36442703
F16: =AVERAGE(F8:F13) -> 39.853333 | G16: =AVERAGE(C19:H94) -> 40.215652 | I16: =AVERAGE(I8:I13) -> 0.4298766
C18: =B8 -> Терещенко Андрей | D18: =B9 -> Паненко Женя | E18: =B10 -> Терещенко Андрей | F18: =B11 -> Терещенко Андрей | G18: =B12 -> Паненко Женя | H18: =B13 -> Терещенко Андрей
B19: 1 | C19: 43.96 | D19: 43.57 | E19: 42.43 | F19: 41.75 | G19: 42.81 | H19: 41.91
B20: 2 | C20: 42.62 | D20: 40.55 | E20: 40.39 | F20: 40.46 | G20: 41.4 | H20: 40.52
B21: 3 | C21: 41.54 | D21: 40.29 | E21: 40.37 | F21: 40.27 | G21: 40.39 | H21: 40.58
B22: 4 | C22: 40.61 | D22: 40.45 | E22: 40.19 | F22: 40.37 | G22: 40.34 | H22: 40.75
B23: 5 | C23: 40.58 | D23: 40.15 | E23: 40.1 | F23: 40.2 | G23: 40.35 | H23: 40.28
B24: 6 | C24: 40.27 | D24: 40.16 | E24: 40.17 | F24: 40.28 | G24: 40.22 | H24: 40.06
B25: 7 | C25: 40.1 | D25: 39.98 | E25: 40.22 | F25: 40.05 | G25: 40.13 | H25: 40.2
B26: 8 | C26: 40.5 | D26: 40.1 | E26: 39.98 | F26: 40.4 | G26: 39.94 | H26: 40.24
B27: 9 | C27: 40.99 | D27: 40.01 | E27: 40.13 | F27: 40.23 | G27: 39.93 | H27: 40.13
B28: 10 | C28: 41.29 | D28: 40.07 | E28: 40.14 | F28: 40.33 | G28: 40.07 | H28: 40.52
B29: 11 | C29: 40.42 | D29: 40.44 | E29: 40.21 | F29: 40.08 | G29: 40.04 | H29: 40.37
B30: 12 | C30: 40.13 | D30: 40.13 | E30: 40.23 | F30: 40.22 | G30: 40.02 | H30: 40.26
... B41: 23 | C41: 40.32 | D41: 39.89 | E41: 40.25 | F41: 40.1 | G41: 39.85 | H41: 40.13
B42: 24 | D42: 40.08 | E42: 40.07 | F42: 40.26 | G42: 39.97 | H42: 40.19
B43: 25 | D43: 39.92 | E43: 40.16 | F43: 40.01 | G43: 39.89 | H43: 40.13
B44: 26 | D44: 39.99 | E44: 39.98 | F44: 40.07 | G44: 39.9 | H44: 40.01
B45: 27 | D45: 40.01 | E45: 39.95 | F45: 40.11 | G45: 39.79 | H45: 39.99
B46: 28 | D46: 40.01 | E46: 40.66 | F46: 40.04 | G46: 39.86 | H46: 40.05
B47: 29 | D47: 39.91 | E47: 40.12 | F47: 40.08 | G47: 39.97 | H47: 40.15
B48: 30 | D48: 39.86 | G48: 39.96 | H48: 39.95
B49: 31 | D49: 39.96 | G49: 40.1 | H49: 40.61
B50: 32 | D50: 39.89 | G50: 40.03 | H50: 41.37
B51: 33 | D51: 40.35 | G51: 39.84 | H51: 42.04
B52: 34 | D52: 40 | G52: 39.95 | H52: 40.12
B53: 35 | D53: 40.04 | G53: 39.73 | H53: 40.09
B54: 36 | D54: 40.03 | G54: 39.98 | H54: 40.13
B55: 37 | D55: 40.18 | G55: 39.97 | H55: 40.05
B56: 38 | D56: 40.37 | G56: 40.11 | H56: 40.1
B57: 39 | D57: 39.91 | G57: 39.99 | H57: 40.22
B58: 40 | D58: 39.91 | G58: 39.71 | H58: 40.25
B59: 41 | D59: 39.94 | G59: 40.04 | H59: 40.17
... B61: 43 | D61: 40.12 | G61: 39.78 | H61: 39.96
B62: 44 | G62: 39.74 | H62: 39.92
B63: 45 | G63: 39.67 | H63: 39.8
B64: 46 | G64: 39.82 | H64: 40.06
B65: 47 | G65: 39.96 | H65: 40.97
B66: 48 | G66: 39.67 | H66: 40.76
B67: 49 | G67: 39.59 | H67: 39.78
B68: 50 | G68: 39.91 | H68: 39.96
B69: 51 | G69: 39.98 | H69: 40.14
B70: 52 | G70: 39.99 | H70: 39.87
B71: 53 | G71: 39.96 | H71: 39.94
B72: 54 | G72: 39.74 | H72: 39.87
B73: 55 | G73: 39.88 | H73: 39.8
... B78: 60 | G78: 39.79 | H78: 40.71
B79: 61 | G79: 39.89
B80: 62 | G80: 39.77
B81: 63 | G81: 39.64
G82: 39.74
G83: 39.79
G84: 39.84
G85: 39.77
G86: 39.79
G87: 39.76

Sheet Na CnuDaX
A2: Чемпионат мини марафон "Большие Гонки", 9-й этап
A4: Na CnuDaX
A6: Обяза-тельные | B6: Пилот | C6: карт | D6: Круг | E6: кругов на отрезке | F6: Статистика по кругам | J6: Общее время гонки | K6: Время на трассе
F7: Лучший круг | G7: Среднее на отрезке | H7: Кругов в 0,1 от лучшего | I7: стабильность | K7: отрезок | L7: всего у пилота | M7: Питы | N7: Штрафы/ бонусы (сек)
A8: 1 | B8: Голуб Сергей | C8: 14 | D8: =COUNTA(C19:C83) -> 31 | E8: =COUNTA(C19:C83) -> 31 | F8: =MIN(C19:C82) -> 39.97 | G8: =AVERAGE(C19:C85) -> 41.055484 | H8: 2 | I8: =G8-F8 -> 1.0854839 | J8: 0.015238322 | K8: =J8 -> 0.015238322 | L8: =K8 -> 0.015238322 | M8: 2:15.13
A9: 2 | B9: Харченко Артем | C9: 15 | D9: =COUNTA(D19:D83)+D8+1 -> 88 | E9: =COUNTA(D19:D83)+1 -> 57 | F9: =MIN(D19:D82) -> 39.93 | G9: =AVERAGE(D19:D84) -> 40.433929 | H9: 2 | I9: =G9-F9 -> 0.50392857 | J9: 0.043030243 | K9: =J9-J8 -> 0.027791921 | L9: =K9 -> 0.027791921 | M9: 2:16.51
A10: 3 | B10: Голуб Сергей | C10: 9 | D10: =COUNTA(E19:E83)+D9+1 -> 137 | E10: =COUNTA(E19:E83)+1 -> 49 | F10: =MIN(E19:E84) -> 39.85 | G10: =AVERAGE(E19:E85) -> 40.228542 | H10: 3 | I10: =G10-F10 -> 0.37854167 | J10: 0.066950995 | K10: =J10-J9 -> 0.023920752 | L10: =K10+L8 -> 0.039159074 | M10: 2:15.28
A11: 4 | B11: Харченко Артем | C11: 4 | D11: =COUNTA(F19:F83)+D10+1 -> 185 | E11: =COUNTA(F19:F83)+1 -> 48 | F11: =MIN(F19:F84) -> 39.76 | G11: =AVERAGE(F19:F84) -> 40.184255 | H11: 4 | I11: =G11-F11 -> 0.42425532 | J11: 0.090382257 | K11: =J11-J10 -> 0.023431262 | L11: =K11+L9 -> 0.051223183 | M11: 2:15.95
A12: 5 | B12: Голуб Сергей | C12: 7 | D12: =COUNTA(G19:G83)+D11+1 -> 230 | E12: =COUNTA(G19:G83)+1 -> 45 | F12: =MIN(G19:G84) -> 39.98 | G12: =AVERAGE(G19:G884) -> 40.360227 | H12: 1 | I12: =G12-F12 -> 0.38022727 | J12: 0.11250964 | K12: =J12-J11 -> 0.022127384 | L12: =K12+L10 -> 0.061286458 | M12: 2:15.31
A13: Финиш | B13: Харченко Артем | C13: 8 | D13: =COUNTA(H19:H83)+D12+1 -> 256 | E13: =COUNTA(H19:H83)+1 -> 26 | F13: =MIN(H19:H84) -> 39.73 | G13: =AVERAGE(H19:H84) -> 40.2064 | H13: 3 | I13: =G13-F13 -> 0.4764 | J13: ='Общие результаты'!G6 -> 03:00:08 | K13: =J13-J12 -> 0.012582951 | L13: =K13+L11 -> 0.063806134
F14: =AVERAGE(F8,F10,F12) -> 39.933333 | G14: =AVERAGE(G8,G10,G12) -> 40.548084 | H14: Сергей | I14: =AVERAGE(I8,I10,I12) -> 0.61475094
F15: =AVERAGE(F9,F11,F13) -> 39.806667 | G15: =AVERAGE(G9,G11,G13) -> 40.274861 | H15: Артем | I15: =AVERAGE(I9,I11,I13) -> 0.46819463
F16: =AVERAGE(F8:F13) -> 39.87 | G16: =AVERAGE(C19:H90) -> 40.389084 | I16: =AVERAGE(I8:I13) -> 0.54147278
C18: =B8 -> Голуб Сергей | D18: =B9 -> Харченко Артем | E18: =B10 -> Голуб Сергей | F18: =B11 -> Харченко Артем | G18: =B12 -> Голуб Сергей | H18: =B13 -> Харченко Артем
B19: 1 | C19: 43.93 | D19: 42.79 | E19: 41.92 | F19: 41.85 | G19: 42.33 | H19: 41.12
B20: 2 | C20: 41.57 | D20: 40.53 | E20: 40.8 | F20: 41.48 | G20: 40.24 | H20: 40.19
B21: 3 | C21: 43.16 | D21: 40.34 | E21: 40.31 | F21: 40.46 | G21: 40.45 | H21: 40.02
B22: 4 | C22: 42.54 | D22: 40.35 | E22: 40.23 | F22: 40.19 | G22: 40.24 | H22: 40.13
B23: 5 | C23: 40.65 | D23: 40.22 | E23: 40.03 | F23: 40.85 | G23: 39.98 | H23: 40.42
B24: 6 | C24: 40.69 | D24: 40.1 | E24: 40.06 | F24: 40.27 | G24: 40.64 | H24: 40.71
B25: 7 | C25: 55.28 | D25: 40.58 | E25: 40.22 | F25: 39.95 | G25: 40.13 | H25: 40.27
B26: 8 | C26: 40.48 | D26: 40.63 | E26: 40.15 | F26: 40.04 | G26: 40.33 | H26: 40.1
B27: 9 | C27: 40.37 | D27: 42.23 | E27: 40.19 | F27: 42.95 | G27: 40.68 | H27: 40.06
B28: 10 | C28: 40.2 | D28: 40.86 | E28: 40.49 | F28: 40.19 | G28: 40.42 | H28: 39.93
B29: 11 | C29: 40.19 | D29: 40.31 | E29: 40.16 | F29: 39.89 | G29: 40.52 | H29: 40.4
B30: 12 | C30: 40.21 | D30: 40.13 | E30: 40.28 | F30: 40 | G30: 40.23 | H30: 40.82
... B43: 25 | C43: 40.08 | D43: 40.37 | E43: 40.19 | F43: 40.07 | G43: 41.07 | H43: 40.79
B44: 26 | C44: 40.11 | D44: 40.43 | E44: 39.95 | F44: 40.05 | G44: 40.38
B45: 27 | C45: 40.19 | D45: 40.32 | E45: 40.81 | F45: 39.91 | G45: 40.17
B46: 28 | C46: 40.32 | D46: 40.31 | E46: 39.95 | F46: 39.93 | G46: 40.32
B47: 29 | C47: 40.26 | D47: 40.35 | E47: 40.9 | F47: 39.92 | G47: 40.34
B48: 30 | C48: 40.2 | D48: 40.22 | E48: 40.15 | F48: 39.81 | G48: 40.3
B49: 31 | C49: 40.35 | D49: 40.13 | E49: 40.12 | F49: 40.01 | G49: 40.48
B50: 32 | D50: 41.36 | E50: 40.48 | F50: 39.81 | G50: 40.27
B51: 33 | D51: 40.18 | E51: 40.05 | F51: 39.86 | G51: 40.29
B52: 34 | D52: 40.15 | E52: 40.13 | F52: 40.04 | G52: 40.23
B53: 35 | D53: 40.18 | E53: 40.63 | F53: 39.89 | G53: 40.09
B54: 36 | D54: 40.13 | E54: 40.08 | F54: 39.87 | G54: 40.29
B55: 37 | D55: 40.13 | E55: 40.48 | F55: 39.76 | G55: 40.22
B56: 38 | D56: 40.1 | E56: 39.85 | F56: 40.04 | G56: 40.21
B57: 39 | D57: 40.27 | E57: 40.07 | F57: 39.93 | G57: 40.23
B58: 40 | D58: 40.52 | E58: 40.18 | F58: 39.93 | G58: 40.15
B59: 41 | D59: 40.04 | E59: 40.15 | F59: 40.6 | G59: 40.45
B60: 42 | D60: 40.13 | E60: 39.9 | F60: 40 | G60: 40.3
B61: 43 | D61: 40.14 | E61: 39.99 | F61: 39.85 | G61: 40.36
B62: 44 | D62: 40.26 | E62: 39.97 | F62: 39.93 | G62: 40.19
B63: 45 | D63: 40.1 | E63: 40.54 | F63: 40.58
B64: 46 | D64: 40.01 | E64: 40.27 | F64: 40.02
B65: 47 | D65: 40.08 | E65: 40.15 | F65: 39.94
B66: 48 | D66: 41.43 | E66: 40.34
B67: 49 | D67: 40.2
B68: 50 | D68: 39.93
B69: 51 | D69: 41.09
B70: 52 | D70: 40.12
B71: 53 | D71: 40.15
B72: 54 | D72: 40.08
B73: 55 | D73: 40.79
B74: 56 | D74: 40.15
B75: 57
B76: 58
B77: 59
B78: 60
B79: 61
B80: 62
B81: 63

Sheet KartFreedom JT
A2: Чемпионат мини марафон "Большие Гонки", 9-й этап
A4: KartFreedom JT
A6: Обяза-тельные | B6: Пилот | C6: карт | D6: Круг | E6: кругов на отрезке | F6: Статистика по кругам | J6: Общее время гонки | K6: Время на трассе
F7: Лучший круг | G7: Среднее на отрезке | H7: Кругов в 0,1 от лучшего | I7: стабильность | K7: отрезок | L7: всего у пилота | M7: Питы | N7: Штрафы/ бонусы (сек)
A8: 1 | B8: Замула Илья | C8: 8 | D8: =COUNTA(C19:C83) -> 32 | E8: =COUNTA(C19:C83) -> 32 | F8: =MIN(C19:C82) -> 39.75 | G8: =AVERAGE(C19:C85) -> 40.509062 | H8: 4 | I8: =G8-F8 -> 0.7590625 | J8: 0.015513738 | K8: =J8 -> 0.015513738 | L8: =K8 -> 0.015513738 | M8: 2:15.11
A9: 2 | B9: Новиков Герман | C9: 12 | D9: =COUNTA(D19:D83)+D8+1 -> 68 | E9: =COUNTA(D19:D83)+1 -> 36 | F9: =MIN(D19:D82) -> 40.29 | G9: =AVERAGE(D19:D84) -> 40.609429 | H9: 7 | I9: =G9-F9 -> 0.31942857 | J9: 0.033541111 | K9: =J9-J8 -> 0.018027373 | L9: =K9 -> 0.018027373 | M9: 2:15.93
A10: 3 | B10: Замула Илья | C10: 13 | D10: =COUNTA(E19:E83)+D9+1 -> 105 | E10: =COUNTA(E19:E83)+1 -> 37 | F10: =MIN(E19:E84) -> 39.73 | G10: =AVERAGE(E19:E85) -> 40.208333 | H10: 3 | I10: =G10-F10 -> 0.47833333 | J10: 0.051851725 | K10: =J10-J9 -> 0.018310613 | L10: =K10+L8 -> 0.033824352 | M10: 2:14.55
A11: 4 | B11: Новиков Герман | C11: 44 | D11: =COUNTA(F19:F83)+D10+1 -> 146 | E11: =COUNTA(F19:F83)+1 -> 41 | F11: =MIN(F19:F84) -> 40.05 | G11: =AVERAGE(F19:F84) -> 40.4665 | H11: 1 | I11: =G11-F11 -> 0.4165 | J11: 0.072156875 | K11: =J11-J10 -> 0.02030515 | L11: =K11+L9 -> 0.038332523 | M11: 2:15.80
A12: 5 | B12: Замула Илья | C12: 9 | D12: =COUNTA(G19:G83)+D11+1 -> 201 | E12: =COUNTA(G19:G83)+1 -> 55 | F12: =MIN(G19:G84) -> 39.87 | G12: =AVERAGE(G19:G884) -> 40.354444 | H12: 2 | I12: =G12-F12 -> 0.48444444 | J12: 0.098940359 | K12: =J12-J11 -> 0.026783484 | L12: =K12+L10 -> 0.060607836 | M12: 2:14.89
A13: Финиш | B13: Новиков Герман | C13: 69 | D13: =COUNTA(H19:H83)+D12+1 -> 256 | E13: =COUNTA(H19:H83)+1 -> 55 | F13: =MIN(H19:H84) -> 39.72 | G13: =AVERAGE(H19:H84) -> 40.337778 | H13: 1 | I13: =G13-F13 -> 0.61777778 | J13: ='Общие результаты'!G6 -> 03:00:08 | K13: =J13-J12 -> 0.026152234 | L13: =K13+L11 -> 0.064484757
F14: =AVERAGE(F8,F10,F12) -> 39.783333 | G14: =AVERAGE(G8,G10,G12) -> 40.35728 | H14: Илья | I14: =AVERAGE(I8,I10,I12) -> 0.57394676
F15: =AVERAGE(F9,F11,F13) -> 40.02 | G15: =AVERAGE(G9,G11,G13) -> 40.471235 | H15: Герман | I15: =AVERAGE(I9,I11,I13) -> 0.45123545
F16: =AVERAGE(F8:F13) -> 39.901667 | G16: =AVERAGE(C19:H90) -> 40.403028 | I16: =AVERAGE(I8:I13) -> 0.5125911
C18: =B8 -> Замула Илья | D18: =B9 -> Новиков Герман | E18: =B10 -> Замула Илья | F18: =B11 -> Новиков Герман | G18: =B12 -> Замула Илья | H18: =B13 -> Новиков Герман
B19: 1 | C19: 43.98 | D19: 41.94 | E19: 42.78 | F19: 42.28 | G19: 41.31 | H19: 41.67
B20: 2 | C20: 41.1 | D20: 40.57 | E20: 40.19 | F20: 40.45 | G20: 40.2 | H20: 40.32
B21: 3 | C21: 44.22 | D21: 40.62 | E21: 39.79 | F21: 40.28 | G21: 40.27 | H21: 41.41
B22: 4 | C22: 42.52 | D22: 40.67 | E22: 40.55 | F22: 40.05 | G22: 40.05 | H22: 43.61
B23: 5 | C23: 40.72 | D23: 40.6 | E23: 40.93 | F23: 40.47 | G23: 40.14 | H23: 41.15
B24: 6 | C24: 40.57 | D24: 40.4 | E24: 39.84 | F24: 40.21 | G24: 40.22 | H24: 40.19
B25: 7 | C25: 42.25 | D25: 40.62 | E25: 39.95 | F25: 40.25 | G25: 41.68 | H25: 40.28
B26: 8 | C26: 39.93 | D26: 40.31 | E26: 39.93 | F26: 42.07 | G26: 40.12 | H26: 40.1
B27: 9 | C27: 40.44 | D27: 40.41 | E27: 39.75 | F27: 40.14 | G27: 39.99 | H27: 40.23
B28: 10 | C28: 40.16 | D28: 40.63 | E28: 40.05 | F28: 40.79 | G28: 40.18 | H28: 40.95
B29: 11 | C29: 40.13 | D29: 40.56 | E29: 40.35 | F29: 40.45 | G29: 39.87 | H29: 40.14
B30: 12 | C30: 40.03 | D30: 40.44 | E30: 39.96 | F30: 40.38 | G30: 40.16 | H30: 40.11
... B50: 32 | C50: 39.78 | D50: 40.96 | E50: 40.23 | F50: 40.35 | G50: 40.21 | H50: 40.04
B51: 33 | D51: 40.47 | E51: 39.95 | F51: 40.56 | G51: 40.24 | H51: 40.1
B52: 34 | D52: 41.29 | E52: 40.23 | F52: 40.28 | G52: 40.24 | H52: 40.4
B53: 35 | D53: 40.63 | E53: 40.12 | F53: 40.63 | G53: 40.18 | H53: 40.99
B54: 36 | E54: 39.98 | F54: 40.2 | G54: 40.62 | H54: 40.22
B55: 37 | F55: 40.26 | G55: 40.2 | H55: 40.18
B56: 38 | F56: 40.26 | G56: 40.35 | H56: 40.37
B57: 39 | F57: 40.69 | G57: 40.07 | H57: 40.01
B58: 40 | F58: 40.25 | G58: 40.88 | H58: 40.12
B59: 41 | G59: 40.07 | H59: 41.11
B60: 42 | G60: 39.92 | H60: 40.72
B61: 43 | G61: 40.02 | H61: 40.12
B62: 44 | G62: 43.41 | H62: 39.97
B63: 45 | G63: 40.36 | H63: 40.23
B64: 46 | G64: 40.14 | H64: 39.91
B65: 47 | G65: 39.92 | H65: 39.92
B66: 48 | G66: 40.35 | H66: 40.27
B67: 49 | G67: 40.62 | H67: 40.11
B68: 50 | G68: 41.07 | H68: 40.05
B69: 51 | G69: 40.32 | H69: 39.84
B70: 52 | G70: 40.84 | H70: 39.9
... B72: 54 | G72: 40.33 | H72: 40.15
B73: 55
B74: 56
B75: 57
B76: 58
B77: 59
B78: 60
B79: 61
B80: 62
B81: 63

Sheet Flash
A2: Чемпионат мини марафон "Большие Гонки", 9-й этап
A4: Flash
A6: Обяза-тельные | B6: Пилот | C6: карт | D6: Круг | E6: кругов на отрезке | F6: Статистика по кругам | J6: Общее время гонки | K6: Время на трассе
F7: Лучший круг | G7: Среднее на отрезке | H7: Кругов в 0,1 от лучшего | I7: стабильность | K7: отрезок | L7: всего у пилота | M7: Питы | N7: Штрафы/ бонусы (сек)
A8: 1 | B8: Якусик Саша | C8: 7 | D8: =COUNTA(C19:C83) -> 41 | E8: =COUNTA(C19:C83) -> 41 | F8: =MIN(C19:C82) -> 39.8 | G8: =AVERAGE(C19:C85) -> 40.779268 | H8: 0 | I8: =G8-F8 -> 0.97926829 | J8: 0.019865278 | K8: =J8 -> 0.019865278 | L8: =K8 -> 0.019865278 | M8: 1:44.84 | N8: -31.5 | O8: бонус за вес
A9: 2 | B9: Загорулько Иван | C9: 6 | D9: =COUNTA(D19:D83)+D8+1 -> 106 | E9: =COUNTA(D19:D83)+1 -> 65 | F9: =MIN(D19:D82) -> 39.89 | G9: =AVERAGE(D19:D84) -> 40.444531 | H9: 0 | I9: =G9-F9 -> 0.55453125 | J9: 0.051034572 | K9: =J9-J8 -> 0.031169294 | L9: =K9 -> 0.031169294 | M9: 2:16.24
A10: 3 | B10: Якусик Саша | C10: 17 | D10: =COUNTA(E19:E83)+D9+1 -> 164 | E10: =COUNTA(E19:E83)+1 -> 58 | F10: =MIN(E19:E84) -> 39.81 | G10: =AVERAGE(E19:E85) -> 40.430175 | H10: 3 | I10: =G10-F10 -> 0.62017544 | J10: 0.079279248 | K10: =J10-J9 -> 0.028244676 | L10: =K10+L8 -> 0.048109954 | M10: 2:15.22
A11: 4 | B11: Загорулько Иван | C11: 11 | D11: =COUNTA(F19:F83)+D10+1 -> 198 | E11: =COUNTA(F19:F83)+1 -> 34 | F11: =MIN(F19:F84) -> 40.25 | G11: =AVERAGE(F19:F84) -> 40.682121 | H11: 1 | I11: =G11-F11 -> 0.43212121 | J11: 0.096392199 | K11: =J11-J10 -> 0.017112951 | L11: =K11+L9 -> 0.048282245 | M11: 2:14.99
A12: 5 | B12: Якусик Саша | C12: 15 | D12: =COUNTA(G19:G83)+D11+1 -> 231 | E12: =COUNTA(G19:G83)+1 -> 33 | F12: =MIN(G19:G84) -> 39.86 | G12: =AVERAGE(G19:G884) -> 40.4075 | H12: 3 | I12: =G12-F12 -> 0.5475 | J12: 0.11292019 | K12: =J12-J11 -> 0.016527986 | L12: =K12+L10 -> 0.06463794 | M12: 2:15.68
A13: Финиш | B13: Загорулько Иван | C13: 6 | D13: =COUNTA(H19:H83)+D12+1 -> 256 | E13: =COUNTA(H19:H83)+1 -> 25 | F13: =MIN(H19:H84) -> 40.13 | G13: =AVERAGE(H19:H84) -> 40.655417 | H13: 4 | I13: =G13-F13 -> 0.52541667 | J13: ='Общие результаты'!G6 -> 03:00:08 | K13: =J13-J12 -> 0.012172407 | L13: =K13+L11 -> 0.060454653
F14: =AVERAGE(F8,F10,F12) -> 39.823333 | G14: =AVERAGE(G8,G10,G12) -> 40.538981 | H14: Саша | I14: =AVERAGE(I8,I10,I12) -> 0.71564791
F15: =AVERAGE(F9,F11,F13) -> 40.09 | G15: =AVERAGE(G9,G11,G13) -> 40.594023 | H15: Иван | I15: =AVERAGE(I9,I11,I13) -> 0.50402304
F16: =AVERAGE(F8:F13) -> 39.956667 | G16: =AVERAGE(C19:H90) -> 40.542629 | I16: =AVERAGE(I8:I13) -> 0.60983548
C18: =B8 -> Якусик Саша | D18: =B9 -> Загорулько Иван | E18: =B10 -> Якусик Саша | F18: =B11 -> Загорулько Иван | G18: =B12 -> Якусик Саша | H18: =B13 -> Загорулько Иван
B19: 1 | C19: 42.85 | D19: 42.35 | E19: 43.41 | F19: 41.72 | G19: 43.24 | H19: 41.4
B20: 2 | C20: 41.24 | D20: 40.67 | E20: 41.77 | F20: 40.51 | G20: 43.13 | H20: 40.96
B21: 3 | C21: 44.18 | D21: 40.98 | E21: 41.22 | F21: 40.57 | G21: 40.78 | H21: 40.69
B22: 4 | C22: 44.4 | D22: 40.94 | E22: 40.72 | F22: 40.84 | G22: 40.47 | H22: 40.6
B23: 5 | C23: 40.76 | D23: 40.3 | E23: 40.73 | F23: 40.74 | G23: 40.54 | H23: 40.46
B24: 6 | C24: 40.66 | D24: 40.24 | E24: 40.52 | F24: 41.2 | G24: 40.17 | H24: 40.44
B25: 7 | C25: 53.5 | D25: 40.29 | E25: 40.2 | F25: 40.78 | G25: 40.03 | H25: 40.57
B26: 8 | C26: 40.26 | D26: 40.49 | E26: 40.18 | F26: 40.76 | G26: 40.21 | H26: 40.54
B27: 9 | C27: 40.24 | D27: 40.85 | E27: 40.26 | F27: 40.95 | G27: 40.11 | H27: 40.83
B28: 10 | C28: 40.39 | D28: 40.35 | E28: 40.34 | F28: 40.28 | G28: 40.28 | H28: 41.29
B29: 11 | C29: 40.15 | D29: 40.43 | E29: 40.06 | F29: 41.55 | G29: 40.89 | H29: 42.65
B30: 12 | C30: 40.18 | D30: 40.3 | E30: 40.19 | F30: 40.3 | G30: 40.23 | H30: 40.53
... B42: 24 | C42: 40.17 | D42: 40.37 | E42: 40.15 | F42: 41.27 | G42: 40.3 | H42: 40.9
B43: 25 | C43: 40.07 | D43: 40.25 | E43: 40.02 | F43: 40.58 | G43: 39.94
B44: 26 | C44: 39.8 | D44: 40.14 | E44: 40.02 | F44: 40.67 | G44: 40.27
B45: 27 | C45: 40.03 | D45: 40.49 | E45: 40 | F45: 40.25 | G45: 40.01
B46: 28 | C46: 40.13 | D46: 40.47 | E46: 40.03 | F46: 40.48 | G46: 40.5
B47: 29 | C47: 40.1 | D47: 40.36 | E47: 40.11 | F47: 40.35 | G47: 40.3
B48: 30 | C48: 40.02 | D48: 40.19 | E48: 40.25 | F48: 40.75 | G48: 40.07
B49: 31 | C49: 40.19 | D49: 40.55 | E49: 40.29 | F49: 40.44 | G49: 40.23
B50: 32 | C50: 40.18 | D50: 40.21 | E50: 40.11 | F50: 40.9 | G50: 40.13
B51: 33 | C51: 40.19 | D51: 40.07 | E51: 39.99 | F51: 40.64
B52: 34 | C52: 39.99 | D52: 40.34 | E52: 40.11
B53: 35 | C53: 40.18 | D53: 40.27 | E53: 40.18
B54: 36 | C54: 40.51 | D54: 40.81 | E54: 39.81
B55: 37 | C55: 40.12 | D55: 39.89 | E55: 51.46
B56: 38 | C56: 40.15 | D56: 40.04 | E56: 40.05
B57: 39 | C57: 40.1 | D57: 40.1 | E57: 40.07
B58: 40 | C58: 40.29 | D58: 40.2 | E58: 39.99
B59: 41 | C59: 40.15 | D59: 40.3 | E59: 40.3
B60: 42 | D60: 40.23 | E60: 40.04
B61: 43 | D61: 40.44 | E61: 40.03
B62: 44 | D62: 40.43 | E62: 39.84
B63: 45 | D63: 40.18 | E63: 39.82
B64: 46 | D64: 40.26 | E64: 40.18
B65: 47 | D65: 40.07 | E65: 40.68
B66: 48 | D66: 40.13 | E66: 40.06
B67: 49 | D67: 40.2 | E67: 40.03
B68: 50 | D68: 40.35 | E68: 40.1
B69: 51 | D69: 40.37 | E69: 39.95
B70: 52 | D70: 40.38 | E70: 40.03
B71: 53 | D71: 40.32 | E71: 39.96
... B75: 57 | D75: 40.25 | E75: 40
B76: 58 | D76: 41.42
B77: 59 | D77: 40.41
B78: 60 | D78: 40.94
B79: 61 | D79: 41.87
B80: 62 | D80: 40.32
B81: 63 | D81: 40.21
D82: 40.18

Sheet Jaguar
A2: Чемпионат мини марафон "Большие Гонки", 9-й этап
A4: Jaguar
A6: Обяза-тельные | B6: Пилот | C6: карт | D6: Круг | E6: кругов на отрезке | F6: Статистика по кругам | J6: Общее время гонки | K6: Время на трассе
F7: Лучший круг | G7: Среднее на отрезке | H7: Кругов в 0,1 от лучшего | I7: стабильность | K7: отрезок | L7: всего у пилота | M7: Питы | N7: Штрафы/ бонусы (сек)
A8: 1 | B8: Лихошерст Алексей | C8: 1 | D8: =COUNTA(C19:C83) -> 32 | E8: =COUNTA(C19:C83) -> 32 | F8: =MIN(C19:C82) -> 39.8 | G8: =AVERAGE(C19:C85) -> 40.45875 | H8: 2 | I8: =G8-F8 -> 0.65875 | J8: 0.015474155 | K8: =J8 -> 0.015474155 | L8: =K8 -> 0.015474155 | M8: 2:14.50
A9: 2 | B9: Старовой Андрей | C9: 13 | D9: =COUNTA(D19:D83)+D8+1 -> 66 | E9: =COUNTA(D19:D83)+1 -> 34 | F9: =MIN(D19:D82) -> 40.29 | G9: =AVERAGE(D19:D84) -> 40.97 | H9: 1 | I9: =G9-F9 -> 0.68 | J9: 0.032691968 | K9: =J9-J8 -> 0.017217812 | L9: =K9 -> 0.017217812 | M9: 2:15.70
A10: 3 | B10: Лихошерст Алексей | C10: 7 | D10: =COUNTA(E19:E83)+D9+1 -> 110 | E10: =COUNTA(E19:E83)+1 -> 44 | F10: =MIN(E19:E84) -> 39.81 | G10: =AVERAGE(E19:E85) -> 40.19093 | H10: 1 | I10: =G10-F10 -> 0.38093023 | J10: 0.054256898 | K10: =J10-J9 -> 0.021564931 | L10: =K10+L8 -> 0.037039086 | M10: 2:15.25
A11: 4 | B11: Старовой Андрей | C11: 6 | D11: =COUNTA(F19:F83)+D10+1 -> 161 | E11: =COUNTA(F19:F83)+1 -> 51 | F11: =MIN(F19:F84) -> 39.98 | G11: =AVERAGE(F19:F84) -> 40.4012 | H11: 4 | I11: =G11-F11 -> 0.4212 | J11: 0.07921478 | K11: =J11-J10 -> 0.024957882 | L11: =K11+L9 -> 0.042175694 | M11: 2:15.08
A12: 5 | B12: Лихошерст Алексей | C12: 1 | D12: =COUNTA(G19:G83)+D11+1 -> 203 | E12: =COUNTA(G19:G83)+1 -> 42 | F12: =MIN(G19:G84) -> 39.87 | G12: =AVERAGE(G19:G884) -> 40.212439 | H12: 8 | I12: =G12-F12 -> 0.34243902 | J12: 0.099856424 | K12: =J12-J11 -> 0.020641644 | L12: =K12+L10 -> 0.057680729 | M12: 2:15.13
A13: Финиш | B13: Старовой Андрей | C13: 21 | D13: =COUNTA(H19:H83)+D12+1 -> 256 | E13: =COUNTA(H19:H83)+1 -> 53 | F13: =MIN(H19:H84) -> 40 | G13: =AVERAGE(H19:H84) -> 40.642115 | H13: 0 | I13: =G13-F13 -> 0.64211538 | J13: ='Общие результаты'!G6 -> 03:00:08 | K13: =J13-J12 -> 0.025236169 | L13: =K13+L11 -> 0.067411863
F14: =AVERAGE(F8,F10,F12) -> 39.826667 | G14: =AVERAGE(G8,G10,G12) -> 40.287373 | H14: Алексей | I14: =AVERAGE(I8,I10,I12) -> 0.46070642
F15: =AVERAGE(F9,F11,F13) -> 40.09 | G15: =AVERAGE(G9,G11,G13) -> 40.671105 | H15: Андрей | I15: =AVERAGE(I9,I11,I13) -> 0.58110513
F16: =AVERAGE(F8:F13) -> 39.958333 | G16: =AVERAGE(C19:H90) -> 40.466375 | I16: =AVERAGE(I8:I13) -> 0.52090577
C18: =B8 -> Лихошерст Алексей | D18: =B9 -> Старовой Андрей | E18: =B10 -> Лихошерст Алексей | F18: =B11 -> Старовой Андрей | G18: =B12 -> Лихошерст Алексей | H18: =B13 -> Старовой Андрей
B19: 1 | C19: 43.43 | D19: 43.32 | E19: 41.77 | F19: 42.02 | G19: 41.33 | H19: 42.44
B20: 2 | C20: 41.33 | D20: 40.69 | E20: 40.16 | F20: 40.15 | G20: 40.33 | H20: 40.65
B21: 3 | C21: 42.22 | D21: 40.89 | E21: 40.22 | F21: 40.31 | G21: 40.61 | H21: 40.94
B22: 4 | C22: 40.84 | D22: 41.05 | E22: 39.98 | F22: 40.74 | G22: 40.32 | H22: 40.56
B23: 5 | C23: 40.33 | D23: 40.72 | E23: 40.19 | F23: 40.55 | G23: 40.16 | H23: 41.71
B24: 6 | C24: 40.22 | D24: 40.99 | E24: 40.08 | F24: 40.4 | G24: 40.02 | H24: 40.44
B25: 7 | C25: 39.91 | D25: 41.43 | E25: 40.01 | F25: 40.44 | G25: 40.36 | H25: 40.42
B26: 8 | C26: 40.34 | D26: 40.88 | E26: 40.1 | F26: 40.19 | G26: 40.03 | H26: 41.21
B27: 9 | C27: 41.29 | D27: 40.72 | E27: 39.92 | F27: 40.25 | G27: 40.05 | H27: 40.55
B28: 10 | C28: 40.73 | D28: 40.54 | E28: 41.62 | F28: 40.31 | G28: 40.06 | H28: 40.4
B29: 11 | C29: 40.46 | D29: 40.68 | E29: 39.9 | F29: 40.67 | G29: 40.04 | H29: 41.38
B30: 12 | C30: 40.01 | D30: 40.6 | E30: 39.95 | F30: 40.31 | G30: 40.19 | H30: 40.32
... B50: 32 | C50: 40.04 | D50: 40.39 | E50: 40.22 | F50: 40.51 | G50: 39.95 | H50: 40.65
B51: 33 | D51: 40.66 | E51: 40.21 | F51: 40.45 | G51: 40.21 | H51: 40.74
B52: 34 | E52: 40.22 | F52: 40.09 | G52: 40.67 | H52: 40.45
B53: 35 | E53: 40.01 | F53: 40.09 | G53: 40.11 | H53: 40.61
B54: 36 | E54: 40.37 | F54: 40.12 | G54: 40.1 | H54: 40.87
B55: 37 | E55: 39.99 | F55: 40.14 | G55: 40.13 | H55: 41.48
B56: 38 | E56: 40.14 | F56: 40.08 | G56: 40.52 | H56: 40
B57: 39 | E57: 40.05 | F57: 40.19 | G57: 40.86 | H57: 40.16
B58: 40 | E58: 40.2 | F58: 40.28 | G58: 40.19 | H58: 40.79
B59: 41 | E59: 40.28 | F59: 40.34 | G59: 40.17 | H59: 40.87
B60: 42 | E60: 39.81 | F60: 40.45 | H60: 40.23
B61: 43 | E61: 40.03 | F61: 40.29 | H61: 40.48
B62: 44 | F62: 41.6 | H62: 40.2
B63: 45 | F63: 40.33 | H63: 40.34
B64: 46 | F64: 40.39 | H64: 40.43
B65: 47 | F65: 40.22 | H65: 41.9
B66: 48 | F66: 40.23 | H66: 40.18
B67: 49 | F67: 40.47 | H67: 40.34
B68: 50 | F68: 40.13 | H68: 40.16
B69: 51 | H69: 42.24
B70: 52 | H70: 40.64
B71: 53
B72: 54
B73: 55
B74: 56
B75: 57
B76: 58
B77: 59
B78: 60
B79: 61
B80: 62
B81: 63

Sheet Akuna Matata
A2: Чемпионат мини марафон "Большие Гонки", 9-й этап
A4: Akuna Matata
A6: Обяза-тельные | B6: Пилот | C6: карт | D6: Круг | E6: кругов на отрезке | F6: Статистика по кругам | J6: Общее время гонки | K6: Время на трассе
F7: Лучший круг | G7: Среднее на отрезке | H7: Кругов в 0,1 от лучшего | I7: стабильность | K7: отрезок | L7: всего у пилота | M7: Питы | N7: Штрафы/ бонусы (сек)
A8: 1 | B8: Пархомчук Саша | C8: 5 | D8: =COUNTA(C19:C83) -> 32 | E8: =COUNTA(C19:C83) -> 32 | F8: =MIN(C19:C82) -> 40.29 | G8: =AVERAGE(C19:C85) -> 40.922187 | H8: 3 | I8: =G8-F8 -> 0.6321875 | J8: 0.015669329 | K8: =J8 -> 0.015669329 | L8: =K8 -> 0.015669329 | M8: 2:15.83
A9: 2 | B9: Константинов Владимир | C9: 14 | D9: =COUNTA(D19:D83)+D8+1 -> 87 | E9: =COUNTA(D19:D83)+1 -> 55 | F9: =MIN(D19:D82) -> 40.17 | G9: =AVERAGE(D19:D84) -> 40.746481 | H9: 1 | I9: =G9-F9 -> 0.57648148 | J9: 0.042723021 | K9: =J9-J8 -> 0.027053692 | L9: =K9 -> 0.027053692 | M9: 1:55.69 | N9: -31.5 | O9: бонус за вес
A10: 3 | B10: Пархомчук Саша | C10: 12 | D10: =COUNTA(E19:E83)+D9+1 -> 141 | E10: =COUNTA(E19:E83)+1 -> 54 | F10: =MIN(E19:E84) -> 40.24 | G10: =AVERAGE(E19:E85) -> 40.905094 | H10: 1 | I10: =G10-F10 -> 0.66509434 | J10: 0.069146586 | K10: =J10-J9 -> 0.026423565 | L10: =K10+L8 -> 0.042092894 | M10: 2:07.85
A11: 4 | B11: Константинов Владимир | C11: 14 | D11: =COUNTA(F19:F83)+D10+1 -> 183 | E11: =COUNTA(F19:F83)+1 -> 42 | F11: =MIN(F19:F84) -> 40.2 | G11: =AVERAGE(F19:F84) -> 40.569024 | H11: 1 | I11: =G11-F11 -> 0.36902439 | J11: 0.089882396 | K11: =J11-J10 -> 0.02073581 | L11: =K11+L9 -> 0.047789502 | M11: 2:18.13
A12: 5 | B12: Пархомчук Саша | C12: 8 | D12: =COUNTA(G19:G83)+D11+1 -> 222 | E12: =COUNTA(G19:G83)+1 -> 39 | F12: =MIN(G19:G84) -> 40.21 | G12: =AVERAGE(G19:G884) -> 40.695526 | H12: 1 | I12: =G12-F12 -> 0.48552632 | J12: 0.10939388 | K12: =J12-J11 -> 0.019511481 | L12: =K12+L10 -> 0.061604375 | M12: 2:14.06
A13: Финиш | B13: Константинов Владимир | C13: 33 | D13: =COUNTA(H19:H83)+D12+1 -> 254 | E13: =COUNTA(H19:H83)+1 -> 32 | F13: =MIN(H19:H84) -> 40.93 | G13: =AVERAGE(H19:H84) -> 41.874194 | H13: 5 | I13: =G13-F13 -> 0.94419355 | J13: ='Общие результаты'!G6 -> 03:00:08 | K13: =J13-J12 -> 0.015698715 | L13: =K13+L11 -> 0.063488218
F14: =AVERAGE(F8,F10,F12) -> 40.246667 | G14: =AVERAGE(G8,G10,G12) -> 40.840936 | H14: Саша | I14: =AVERAGE(I8,I10,I12) -> 0.59426939
F15: =AVERAGE(F9,F11,F13) -> 40.433333 | G15: =AVERAGE(G9,G11,G13) -> 41.063233 | H15: Вова | I15: =AVERAGE(I9,I11,I13) -> 0.62989981
F16: =AVERAGE(F8:F13) -> 40.34 | G16: =AVERAGE(C19:H90) -> 40.906225 | I16: =AVERAGE(I8:I13) -> 0.6120846
C18: =B8 -> Пархомчук Саша | D18: =B9 -> Константинов Владимир | E18: =B10 -> Пархомчук Саша | F18: =B11 -> Константинов Владимир | G18: =B12 -> Пархомчук Саша | H18: =B13 -> Константинов Владимир
B19: 1 | C19: 44.88 | D19: 42.7 | E19: 44.66 | F19: 42.53 | G19: 42.83 | H19: 44.4
B20: 2 | C20: 41.73 | D20: 41.64 | E20: 41.08 | F20: 41.06 | G20: 41.04 | H20: 41.01
B21: 3 | C21: 43.62 | D21: 41.17 | E21: 41.04 | F21: 40.53 | G21: 40.52 | H21: 43.24
B22: 4 | C22: 42.45 | D22: 40.73 | E22: 40.86 | F22: 40.47 | G22: 41.31 | H22: 41.29
B23: 5 | C23: 41.07 | D23: 40.6 | E23: 40.93 | F23: 40.77 | G23: 40.54 | H23: 41.03
B24: 6 | C24: 40.75 | D24: 41.95 | E24: 41.47 | F24: 40.34 | G24: 40.45 | H24: 42.78
B25: 7 | C25: 41.17 | D25: 41.32 | E25: 41.72 | F25: 40.59 | G25: 41.24 | H25: 41.27
B26: 8 | C26: 40.57 | D26: 41.23 | E26: 41.12 | F26: 40.49 | G26: 40.94 | H26: 41.02
B27: 9 | C27: 40.72 | D27: 40.88 | E27: 40.92 | F27: 40.44 | G27: 40.49 | H27: 41.14
B28: 10 | C28: 40.75 | D28: 40.83 | E28: 40.97 | F28: 40.55 | G28: 41.13 | H28: 40.95
B29: 11 | C29: 40.75 | D29: 40.44 | E29: 40.59 | F29: 40.42 | G29: 40.51 | H29: 41.14
B30: 12 | C30: 40.51 | D30: 41.16 | E30: 40.82 | F30: 40.41 | G30: 40.52 | H30: 41.48
... B49: 31 | C49: 40.29 | D49: 40.43 | E49: 40.75 | F49: 40.36 | G49: 40.4 | H49: 41.76
B50: 32 | C50: 40.5 | D50: 40.43 | E50: 40.93 | F50: 40.24 | G50: 40.57
B51: 33 | D51: 40.64 | E51: 40.79 | F51: 40.36 | G51: 40.51
B52: 34 | D52: 40.45 | E52: 40.89 | F52: 40.92 | G52: 40.95
B53: 35 | D53: 41.04 | E53: 40.69 | F53: 40.44 | G53: 40.49
B54: 36 | D54: 40.4 | E54: 41.07 | F54: 40.83 | G54: 40.72
B55: 37 | D55: 40.34 | E55: 40.78 | F55: 40.31 | G55: 40.65
B56: 38 | D56: 40.5 | E56: 40.57 | F56: 40.35 | G56: 40.56
B57: 39 | D57: 41.04 | E57: 40.99 | F57: 40.52
B58: 40 | D58: 40.72 | E58: 40.76 | F58: 40.46
B59: 41 | D59: 40.92 | E59: 40.95 | F59: 40.49
B60: 42 | D60: 40.45 | E60: 40.53
B61: 43 | D61: 40.28 | E61: 41.09
B62: 44 | D62: 40.6 | E62: 40.71
B63: 45 | D63: 40.33 | E63: 40.54
B64: 46 | D64: 40.68 | E64: 40.68
B65: 47 | D65: 40.53 | E65: 40.48
B66: 48 | D66: 40.62 | E66: 40.44
B67: 49 | D67: 40.48 | E67: 40.77
B68: 50 | D68: 41.39 | E68: 41.23
B69: 51 | D69: 40.2 | E69: 40.57
B70: 52 | D70: 40.42 | E70: 40.53
B71: 53 | D71: 40.72 | E71: 40.45
B72: 54 | D72: 40.51
B73: 55
B74: 56
B75: 57
B76: 58
B77: 59
B78: 60
B79: 61
B80: 62
B81: 63

Sheet Karta
A2: Чемпионат мини марафон "Большие Гонки", 9-й этап
A4: Karta
A6: Обяза-тельные | B6: Пилот | C6: карт | D6: Круг | E6: кругов на отрезке | F6: Статистика по кругам | J6: Общее время гонки | K6: Время на трассе
F7: Лучший круг | G7: Среднее на отрезке | H7: Кругов в 0,1 от лучшего | I7: стабильность | K7: отрезок | L7: всего у пилота | M7: Питы | N7: Штрафы/ бонусы (сек)
A8: 1 | B8: Поляруш Саша | C8: 11 | D8: =COUNTA(C19:C83) -> 32 | E8: =COUNTA(C19:C83) -> 32 | F8: =MIN(C19:C82) -> 40.28 | G8: =AVERAGE(C19:C85) -> 41.24375 | H8: 1 | I8: =G8-F8 -> 0.96375 | J8: 0.015803657 | K8: =J8 -> 0.015803657 | L8: =K8 -> 0.015803657 | M8: 2:17.12
A9: 2 | B9: Литвиненко Виктор | C9: 8 | D9: =COUNTA(D19:D83)+D8+1 -> 67 | E9: =COUNTA(D19:D83)+1 -> 35 | F9: =MIN(D19:D82) -> 40.44 | G9: =AVERAGE(D19:D84) -> 40.894412 | H9: 2 | I9: =G9-F9 -> 0.45441176 | J9: 0.043044907 | K9: =J9-J8 -> 0.02724125 | L9: =K9 -> 0.02724125 | M9: 2:15.54
A10: 3 | B10: Поляруш Саша | C10: 33 | D10: =COUNTA(E19:E83)+D9+1 -> 125 | E10: =COUNTA(E19:E83)+1 -> 58 | F10: =MIN(E19:E84) -> 40.49 | G10: =AVERAGE(E19:E85) -> 41.596316 | H10: 1 | I10: =G10-F10 -> 1.1063158 | J10: 0.062495961 | K10: =J10-J9 -> 0.019451053 | L10: =K10+L8 -> 0.035254711 | M10: 2:04.13 | N10: -13.5 | O10: бонус за вес
A11: 4 | B11: Литвиненко Виктор | C11: 10 | D11: =COUNTA(F19:F83)+D10+1 -> 182 | E11: =COUNTA(F19:F83)+1 -> 57 | F11: =MIN(F19:F84) -> 40.34 | G11: =AVERAGE(F19:F84) -> 40.942143 | H11: 2 | I11: =G11-F11 -> 0.60214286 | J11: 0.090473773 | K11: =J11-J10 -> 0.027977812 | L11: =K11+L9 -> 0.055219062 | M11: 2:15.73
A12: 5 | B12: Поляруш Саша | C12: 14 | D12: =COUNTA(G19:G83)+D11+1 -> 218 | E12: =COUNTA(G19:G83)+1 -> 36 | F12: =MIN(G19:G84) -> 40.6 | G12: =AVERAGE(G19:G884) -> 41.305429 | H12: 2 | I12: =G12-F12 -> 0.70542857 | J12: 0.10881044 | K12: =J12-J11 -> 0.018336667 | L12: =K12+L10 -> 0.053591377 | M12: 2:16.85
A13: Финиш | B13: Литвиненко Виктор | C13: 13 | D13: =COUNTA(H19:H83)+D12+1 -> 251 | E13: =COUNTA(H19:H83)+1 -> 33 | F13: =MIN(H19:H84) -> 40.31 | G13: =AVERAGE(H19:H84) -> 40.7075 | H13: 2 | I13: =G13-F13 -> 0.3975 | J13: ='Общие результаты'!G6 -> 03:00:08 | K13: =J13-J12 -> 0.016282153 | L13: =K13+L11 -> 0.071501215 | N13: +15 | O13: лимит
F14: =AVERAGE(F8,F10,F12) -> 40.456667 | G14: =AVERAGE(G8,G10,G12) -> 41.381831 | H14: Саша | I14: =AVERAGE(I8,I10,I12) -> 0.92516479
F15: =AVERAGE(F9,F11,F13) -> 40.363333 | G15: =AVERAGE(G9,G11,G13) -> 40.848018 | H15: Виктор | I15: =AVERAGE(I9,I11,I13) -> 0.48468487
F16: =AVERAGE(F8:F13) -> 40.41 | G16: =AVERAGE(C19:H90) -> 41.14752 | I16: =AVERAGE(I8:I13) -> 0.70492483
C18: =B8 -> Поляруш Саша | D18: =B9 -> Литвиненко Виктор | E18: =B10 -> Поляруш Саша | F18: =B11 -> Литвиненко Виктор | G18: =B12 -> Поляруш Саша | H18: =B13 -> Литвиненко Виктор
B19: 1 | C19: 44.66 | D19: 42.82 | E19: 44.68 | F19: 42.26 | G19: 45.12 | H19: 44.37
B20: 2 | C20: 41.82 | D20: 41.02 | E20: 41.55 | F20: 42.41 | G20: 41.53 | H20: 40.57
B21: 3 | C21: 42.55 | D21: 41.24 | E21: 40.85 | F21: 41.78 | G21: 41.32 | H21: 40.89
B22: 4 | C22: 43.54 | D22: 41.85 | E22: 43.46 | F22: 41.87 | G22: 41.08 | H22: 40.59
B23: 5 | C23: 40.96 | D23: 40.53 | E23: 41.25 | F23: 40.78 | G23: 41.25 | H23: 40.71
B24: 6 | C24: 40.76 | D24: 41.11 | E24: 40.95 | F24: 40.85 | G24: 41.07 | H24: 40.31
B25: 7 | C25: 42.77 | D25: 40.78 | E25: 41.39 | F25: 40.73 | G25: 42 | H25: 40.47
B26: 8 | C26: 41.31 | D26: 40.53 | E26: 44.6 | F26: 40.72 | G26: 43.03 | H26: 40.63
B27: 9 | C27: 41.07 | D27: 41.01 | E27: 42.58 | F27: 40.59 | G27: 41.57 | H27: 40.59
B28: 10 | C28: 41.72 | D28: 40.93 | E28: 40.94 | F28: 40.8 | G28: 41.93 | H28: 40.56
B29: 11 | C29: 40.83 | D29: 40.76 | E29: 41.23 | F29: 41.68 | G29: 41.07 | H29: 40.6
B30: 12 | C30: 40.34 | D30: 40.6 | E30: 41.28 | F30: 42.11 | G30: 40.63 | H30: 40.39
... B50: 32 | C50: 40.65 | D50: 40.59 | E50: 42.81 | F50: 41.26 | G50: 41 | H50: 40.5
B51: 33 | D51: 40.72 | E51: 40.87 | F51: 40.77 | G51: 40.72
B52: 34 | D52: 40.81 | E52: 42.83 | F52: 40.61 | G52: 40.6
B53: 35 | E53: 40.94 | F53: 41.09 | G53: 40.86
B54: 36 | E54: 42.13 | F54: 40.88
B55: 37 | E55: 40.63 | F55: 40.99
B56: 38 | E56: 40.56 | F56: 40.78
B57: 39 | E57: 40.83 | F57: 40.95
B58: 40 | E58: 40.84 | F58: 40.64
B59: 41 | E59: 40.66 | F59: 40.73
B60: 42 | E60: 41.07 | F60: 41.57
B61: 43 | E61: 41.79 | F61: 40.5
B62: 44 | E62: 40.49 | F62: 40.88
B63: 45 | E63: 41.13 | F63: 41.03
B64: 46 | E64: 41.17 | F64: 40.99
B65: 47 | E65: 41.04 | F65: 41.63
... B74: 56 | E74: 41.02 | F74: 41.07
B75: 57 | E75: 40.92
B76: 58
B77: 59
B78: 60
B79: 61
B80: 62
B81: 63
