Workbook

Sheet Общие результаты
A1: 2Серия мини марафонов "Большие Гонки 2019", 9-й этап, 10.08.19
A2: Конфигурация № 2R
A4: Место в гонке | B4: Команда | C4: № в гонке | D4: Квала | F4: Гонка | I4: Лучший круг в гонке
D5: Время | E5: Место | F5: Круги | G5: Время/от лидера | H5: От места выше | I5: Время | J5: На круге
A6: 1 | B6: Vpered ta vgory | C6: 3 | D6: 39.795 | E6: 3 | F6: 259 | G6: 03:00:08 | H6: - | I6: 39.51 | J6: 12
A7: 2 | B7: NSJ | C7: 17 | D7: 39.9 | E7: 5 | F7: 259 | G7: 29.23 | H7: =G7 -> 29.23 | I7: 39.49 | J7: 156
A8: 3 | B8: K44 | C8: 19 | D8: 39.775 | E8: 2 | F8: 259 | G8: 35.04 | H8: =G8-G7 -> 5.81 | I8: 39.51 | J8: 256
A9: 4 | B9: Winni | C9: 14 | D9: 39.96 | E9: 8 | F9: 258 | G9: 1 круг | H9: 8 | I9: 39.52 | J9: 61
A10: 5 | B10: Kozaks | C10: 11 | D10: 39.855 | E10: 4 | F10: 258 | G10: 1 круг | H10: 0.5 | I10: 39.67 | J10: 163
A11: 6 | B11: MST | C11: 16 | D11: 40.22 | E11: 16 | F11: 258 | G11: 1 круг | H11: 11 | I11: 39.44 | J11: 23
A12: 7 | B12: NFS Fortuna RT | C12: 9 | D12: 39.92 | E12: 6 | F12: 258 | G12: 1 круг | H12: 20 | I12: 39.64 | J12: 110
A13: 8 | B13: 50 Grams | C13: 4 | D13: 39.935 | E13: 7 | F13: 257 | G13: 2 круга | H13: 13 | I13: 39.69 | J13: 17
A14: 9 | B14: Battle Master | C14: 18 | D14: 39.985 | E14: 9 | F14: 257 | G14: 2 круга | H14: 12 | I14: 39.7 | J14: 20
A15: 10 | B15: Hurricane | C15: 12 | D15: 40.09 | E15: 12 | F15: 257 | G15: 2 круга | H15: 1 | I15: 39.67 | J15: 143
A16: 11 | B16: Kart Freedom RT | C16: 6 | D16: 40.055 | E16: 11 | F16: 257 | G16: 2 круга | H16: 10 | I16: 39.33 | J16: 239
A17: 12 | B17: KartFreedom | C17: 2 | D17: 39.725 | E17: 1 | F17: 257 | G17: 2 круга | H17: 2 | I17: 39.59 | J17: 177
A18: 13 | B18: Na CnuDaX | C18: 13 | D18: 40.395 | E18: 17 | F18: 256 | G18: 3 круга | H18: 23 | I18: 39.73 | J18: 249
A19: 14 | B19: KartFreedom JT | C19: 8 | D19: 40.105 | E19: 13 | F19: 256 | G19: 3 круга | H19: 1 | I19: 39.72 | J19: 225
A20: 15 | B20: Flash | C20: 7 | D20: 40.11 | E20: 14 | F20: 256 | G20: 3 круга | H20: 2 | I20: 39.8 | J20: 26
A21: 16 | B21: Jaguar | C21: 1 | D21: 40.05 | E21: 10 | F21: 256 | G21: 3 круга | H21: 10 | I21: 39.8 | J21: 31
A22: 17 | B22: Akuna Matata | C22: 5 | D22: 40.15 | E22: 15 | F22: 254 | G22: 5 кругов | H22: 2 круга | I22: 40.17 | J22: 46
A23: 18 | B23: Karta | C23: 10 | D23: 41.475 | E23: 18 | F23: 251 | G23: 8 кругов | H23: 3 круга | I23: 40.28 | J23: 24

Sheet Регистрация 
A1: Серия мини марафонов "Большие Гонки 2019", 9-й этап,10.08.19
A3: Регистрационная форма
AF4: 4ч
A5: № в гонке | B5: Команда | C5: Пилот | D5: № | E5: Вес | F5: Бонус | G5: Квалификация | Z5: 3ч | AK5: 2 ел
G6: карт | H6: Время | I6: бонус | J6: Итого | K6: Среднее | L6: Место | M6: 3 | N6: бонусы за вес | Z6: 2 | AA6: 1 | AB6: кол | AC6: бон | AD6: 1 | AE6: 2 | AF6: бон | AG6: уч | AH6: кол> | AI6: 2 уч | AJ6: 3 уч | AK6: 1из2 | AL6: 2из2 3из3
A7: 1 | B7: Jaguar | C7: Лихошерст Леша | D7: 1-1 | E7: 70.3 | F7: =IF(M6=3,AC7,AF6) -> 0 | G7: 2 | H7: 39.91 | I7: =IF(E7<84.9,0,IF(E7<87.4,0.1,IF(E7<89.9,0.15,IF(E7<92.4,0.2,IF(E7<94.9,0.25,IF(E7<97.4,0.3,IF(E7<99.9,0.35,0.4))))))) -> 0 | J7: =H7-I7 -> 39.91 | K7: =AVERAGE(J7:J8) -> 40.05 | L7: =RANK(K7,K7:K60,1) -> 10 | M7: кв | N7: 0.05 | O7: 0.1 | P7: 0.15 | Q7: 0.2 | R7: 0.25 | S7: 0.3 | T7: 0.35 | U7: =N7*8 -> 0.4 | Z7: =AVERAGE(E7:E8) -> 75.5 | AA7: =IF(E7>84.9,E7,E8) -> 80.7 | AB7: =COUNTIF(E7:E9,">84.9") -> 0 | AC7: =IF(AB7=1,AD7,AE7) -> 0 | AD7: =IF(AA7<84.9,0,IF(AA7<87.4,9,IF(AA7<89.9,13.5,IF(AA7<92.4,18,IF(AA7<94.9,22.5,IF(AA7<97.4,27,IF(AA7<99.9,31.5,36))))))) -> 0 | AE7: =IF(Z7<84.9,0,IF(Z7<87.4,18,IF(Z7<89.9,27,IF(Z7<92.4,36,IF(Z7<94.9,45,IF(Z7<97.4,54,IF(Z7<99.9,63,72))))))) -> 0 | AF7: =IF(AG7=2,AI7,AJ7) -> 0 | AG7: =COUNTIF(E7:E9,">1") -> 2 | AH7: =COUNTIF(E7:E9,">84.9") -> 0 | AI7: =IF(AH7=1,AK7,AL7) -> 0 | AK7: =IF(AA7<84.9,0,IF(AA7<87.4,9,IF(AA7<89.9,13.5,IF(AA7<92.4,18,IF(AA7<94.9,22.5,IF(AA7<97.4,27,IF(AA7<99.9,31.5,36))))))) -> 0
C8: Старовой Андрей | D8: 1-2 | E8: 80.7 | G8: 3 | H8: 40.19 | I8: =IF(E8<84.9,0,IF(E8<87.4,0.1,IF(E8<89.9,0.15,IF(E8<92.4,0.2,IF(E8<94.9,0.25,IF(E8<97.4,0.3,IF(E8<99.9,0.35,0.4))))))) -> 0 | J8: =H8-I8 -> 40.19 | M8: 3 часа | N8: =1.5*3 -> 4.5 | O8: =1.5*3*2 -> 9 | P8: =1.5*3*3 -> 13.5 | Q8: =1.5*3*4 -> 18 | R8: =1.5*3*5 -> 22.5 | S8: =1.5*3*6 -> 27 | T8: =1.5*3*7 -> 31.5 | U8: =1.5*3*8 -> 36 | V8: 1 пилот | AI8: =IF(AH8=1,AK8,AL8) -> 0
D9: 1-3 | I9: =IF(E9<84.9,0,IF(E9<87.4,0.1,IF(E9<89.9,0.15,IF(E9<92.4,0.2,IF(E9<94.9,0.25,IF(E9<97.4,0.3,IF(E9<99.9,0.35,0.4))))))) -> 0 | J9: =H9-I9 -> 0 | N9: =3*3 -> 9 | O9: =3*3*2 -> 18 | P9: =3*3*3 -> 27 | Q9: =3*3*4 -> 36 | R9: =3*3*5 -> 45 | S9: =3*3*6 -> 54 | T9: =3*3*7 -> 63 | U9: =3*3*8 -> 72 | V9: 2 пилота | AI9: =IF(AH9=1,AK9,AL9) -> 0
A10: 2 | B10: Kart Freedom | C10: Паненко Женя | D10: 2-1 | E10: 85.9 | F10: =IF(M6=3,AC10,AF9) -> 27 | G10: 3 | H10: 39.84 | I10: =IF(E10<84.9,0,IF(E10<87.4,0.1,IF(E10<89.9,0.15,IF(E10<92.4,0.2,IF(E10<94.9,0.25,IF(E10<97.4,0.3,IF(E10<99.9,0.35,0.4))))))) -> 0.1 | J10: =H10-I10 -> 39.74 | K10: =AVERAGE(J10:J11) -> 39.725 | L10: =RANK(K10,K7:K60,1) -> 1 | M10: вес | N10: 82.5 | O10: 85 | P10: 87.5 | Q10: 90 | R10: 92.5 | S10: 95 | T10: 97.5 | U10: 100 | Z10: =AVERAGE(E10:E11) -> 89.25 | AA10: =IF(E10>84.9,E10,E11) -> 85.9 | AB10: =COUNTIF(E10:E12,">84.9") -> 2 | AC10: =IF(AB10=1,AD10,AE10) -> 27 | AD10: =IF(AA10<84.9,0,IF(AA10<87.4,9,IF(AA10<89.9,13.5,IF(AA10<92.4,18,IF(AA10<94.9,22.5,IF(AA10<97.4,27,IF(AA10<99.9,31.5,36))))))) -> 9 | AE10: =IF(Z10<84.9,0,IF(Z10<87.4,18,IF(Z10<89.9,27,IF(Z10<92.4,36,IF(Z10<94.9,45,IF(Z10<97.4,54,IF(Z10<99.9,63,72))))))) -> 27 | AF10: =IF(AG10=2,AI10,AJ10) -> 0 | AG10: =COUNTIF(E10:E12,">1") -> 2 | AH10: =COUNTIF(E10:E12,">84.9") -> 2 | AI10: =IF(AH10=1,AK10,AL10) -> 0
C11: Терещенко Андрей | D11: 2-2 | E11: 92.6 | G11: 4 | H11: 39.96 | I11: =IF(E11<84.9,0,IF(E11<87.4,0.1,IF(E11<89.9,0.15,IF(E11<92.4,0.2,IF(E11<94.9,0.25,IF(E11<97.4,0.3,IF(E11<99.9,0.35,0.4))))))) -> 0.25 | J11: =H11-I11 -> 39.71 | M11: 4 часа | N11: =1.5*4 -> 6 | O11: =1.5*4*2 -> 12 | P11: =1.5*4*3 -> 18 | Q11: =1.5*4*4 -> 24 | R11: =1.5*4*5 -> 30 | S11: =1.5*4*6 -> 36 | T11: =1.5*4*7 -> 42 | U11: =1.5*4*8 -> 48 | V11: 1 пилот | W11: 2 участника в команде | AI11: =IF(AH11=1,AK11,AL11) -> 0
D12: 2-3 | I12: =IF(E12<84.9,0,IF(E12<87.4,0.1,IF(E12<89.9,0.15,IF(E12<92.4,0.2,IF(E12<94.9,0.25,IF(E12<97.4,0.3,IF(E12<99.9,0.35,0.4))))))) -> 0 | J12: =H12-I12 -> 0 | N12: =3*4 -> 12 | O12: =3*4*2 -> 24 | P12: =3*4*3 -> 36 | Q12: =3*4*4 -> 48 | R12: =3*4*5 -> 60 | S12: =3*4*6 -> 72 | T12: =3*4*7 -> 84 | U12: =3*4*8 -> 96 | V12: 2 пилота | AI12: =IF(AH12=1,AK12,AL12) -> 0
A13: 3 | B13: Vpered ta Vgory | C13: Манило Денис | D13: 3-1 | E13: 82.6 | F13: =IF(M6=3,AC13,AF12) -> 0 | G13: 5 | H13: 39.9 | I13: =IF(E13<84.9,0,IF(E13<87.4,0.1,IF(E13<89.9,0.15,IF(E13<92.4,0.2,IF(E13<94.9,0.25,IF(E13<97.4,0.3,IF(E13<99.9,0.35,0.4))))))) -> 0 | J13: =H13-I13 -> 39.9 | K13: =AVERAGE(J13:J14) -> 39.795 | L13: =RANK(K13,K7:K60,1) -> 3 | N13: =1*4 -> 4 | O13: =1*4*2 -> 8 | P13: =1*4*3 -> 12 | Q13: =1*4*4 -> 16 | R13: =1*4*5 -> 20 | S13: =1*4*6 -> 24 | T13: =1*4*7 -> 28 | U13: =1*4*8 -> 32 | V13: 1 пилот | W13: 3 участника в команде | Z13: =AVERAGE(E13:E14) -> 80.9 | AA13: =IF(E13>84.9,E13,E14) -> 79.2 | AB13: =COUNTIF(E13:E15,">84.9") -> 0 | AC13: =IF(AB13=1,AD13,AE13) -> 0 | AD13: =IF(AA13<84.9,0,IF(AA13<87.4,9,IF(AA13<89.9,13.5,IF(AA13<92.4,18,IF(AA13<94.9,22.5,IF(AA13<97.4,27,IF(AA13<99.9,31.5,36))))))) -> 0 | AE13: =IF(Z13<84.9,0,IF(Z13<87.4,18,IF(Z13<89.9,27,IF(Z13<92.4,36,IF(Z13<94.9,45,IF(Z13<97.4,54,IF(Z13<99.9,63,72))))))) -> 0 | AF13: =IF(AG13=2,AI13,AJ13) -> 0 | AG13: =COUNTIF(E13:E15,">1") -> 2 | AH13: =COUNTIF(E13:E15,">84.9") -> 0 | AI13: =IF(AH13=1,AK13,AL13) -> 0
C14: Петушков Андрей | D14: 3-2 | E14: 79.2 | G14: 4 | H14: 39.69 | I14: =IF(E14<84.9,0,IF(E14<87.4,0.1,IF(E14<89.9,0.15,IF(E14<92.4,0.2,IF(E14<94.9,0.25,IF(E14<97.4,0.3,IF(E14<99.9,0.35,0.4))))))) -> 0 | J14: =H14-I14 -> 39.69 | N14: =2*4 -> 8 | O14: =2*4*2 -> 16 | P14: =2*4*3 -> 24 | Q14: =2*4*4 -> 32 | R14: =2*4*5 -> 40 | S14: =2*4*6 -> 48 | T14: =2*4*7 -> 56 | U14: =2*4*8 -> 64 | V14: 2 пилота | AI14: =IF(AH14=1,AK14,AL14) -> 0
D15: 3-3 | I15: =IF(E15<84.9,0,IF(E15<87.4,0.1,IF(E15<89.9,0.15,IF(E15<92.4,0.2,IF(E15<94.9,0.25,IF(E15<97.4,0.3,IF(E15<99.9,0.35,0.4))))))) -> 0 | J15: =H15-I15 -> 0 | N15: =3*4 -> 12 | O15: =3*4*2 -> 24 | P15: =3*4*3 -> 36 | Q15: =3*4*4 -> 48 | R15: =3*4*5 -> 60 | S15: =3*4*6 -> 72 | T15: =3*4*7 -> 84 | U15: =3*4*8 -> 96 | V15: 3 пилота | AI15: =IF(AH15=1,AK15,AL15) -> 0
A16: 4 | B16: 50 Grams | C16: Сомок Денис | D16: 4-1 | E16: 73.4 | F16: =IF(M6=3,AC16,AF15) -> 0 | G16: 5 | H16: 39.94 | I16: =IF(E16<84.9,0,IF(E16<87.4,0.1,IF(E16<89.9,0.15,IF(E16<92.4,0.2,IF(E16<94.9,0.25,IF(E16<97.4,0.3,IF(E16<99.9,0.35,0.4))))))) -> 0 | J16: =H16-I16 -> 39.94 | K16: =AVERAGE(J16:J17) -> 39.935 | L16: =RANK(K16,K7:K60,1) -> 7 | Z16: =AVERAGE(E16:E17) -> 77.3 | AA16: =IF(E16>84.9,E16,E17) -> 81.2 | AB16: =COUNTIF(E16:E18,">84.9") -> 0 | AC16: =IF(AB16=1,AD16,AE16) -> 0 | AD16: =IF(AA16<84.9,0,IF(AA16<87.4,9,IF(AA16<89.9,13.5,IF(AA16<92.4,18,IF(AA16<94.9,22.5,IF(AA16<97.4,27,IF(AA16<99.9,31.5,36))))))) -> 0 | AE16: =IF(Z16<84.9,0,IF(Z16<87.4,18,IF(Z16<89.9,27,IF(Z16<92.4,36,IF(Z16<94.9,45,IF(Z16<97.4,54,IF(Z16<99.9,63,72))))))) -> 0 | AF16: =IF(AG16=2,AI16,AJ16) -> 0 | AG16: =COUNTIF(E16:E18,">1") -> 2 | AH16: =COUNTIF(E16:E18,">84.9") -> 0 | AI16: =IF(AH16=1,AK16,AL16) -> 0
C17: Шиленко Саша | D17: 4-2 | E17: 81.2 | G17: 6 | H17: 39.93 | I17: =IF(E17<84.9,0,IF(E17<87.4,0.1,IF(E17<89.9,0.15,IF(E17<92.4,0.2,IF(E17<94.9,0.25,IF(E17<97.4,0.3,IF(E17<99.9,0.35,0.4))))))) -> 0 | J17: =H17-I17 -> 39.93 | AF17: =IF(AG17=2,AI17,AJ17) -> 0 | AG17: =COUNTIF(E17:E19,">1") -> 2 | AH17: =COUNTIF(E17:E19,">84.9") -> 0 | AI17: =IF(AH17=1,AK17,AL17) -> 0
D18: 4-3 | I18: =IF(E18<84.9,0,IF(E18<87.4,0.1,IF(E18<89.9,0.15,IF(E18<92.4,0.2,IF(E18<94.9,0.25,IF(E18<97.4,0.3,IF(E18<99.9,0.35,0.4))))))) -> 0 | J18: =H18-I18 -> 0 | AF18: =IF(AG18=2,AI18,AJ18) -> 0 | AG18: =COUNTIF(E18:E20,">1") -> 2 | AH18: =COUNTIF(E18:E20,">84.9") -> 1 | AI18: =IF(AH18=1,AK18,AL18) -> 0
A19: 5 | B19: Akuna Matata | C19: Константинов Владимир | D19: 5-1 | E19: 74.4 | F19: =IF(M6=3,AC19,AF18) -> 31.5 | G19: 7 | H19: 40.4 | I19: =IF(E19<84.9,0,IF(E19<87.4,0.1,IF(E19<89.9,0.15,IF(E19<92.4,0.2,IF(E19<94.9,0.25,IF(E19<97.4,0.3,IF(E19<99.9,0.35,0.4))))))) -> 0 | J19: =H19-I19 -> 40.4 | K19: =AVERAGE(J19:J20) -> 40.15 | L19: =RANK(K19,K7:K60,1) -> 15 | Z19: =AVERAGE(E19:E20) -> 86.65 | AA19: =IF(E19>84.9,E19,E20) -> 98.9 | AB19: =COUNTIF(E19:E21,">84.9") -> 1 | AC19: =IF(AB19=1,AD19,AE19) -> 31.5 | AD19: =IF(AA19<84.9,0,IF(AA19<87.4,9,IF(AA19<89.9,13.5,IF(AA19<92.4,18,IF(AA19<94.9,22.5,IF(AA19<97.4,27,IF(AA19<99.9,31.5,36))))))) -> 31.5 | AE19: =IF(Z19<84.9,0,IF(Z19<87.4,18,IF(Z19<89.9,27,IF(Z19<92.4,36,IF(Z19<94.9,45,IF(Z19<97.4,54,IF(Z19<99.9,63,72))))))) -> 18 | AF19: =IF(AG19=2,AI19,AJ19) -> 0 | AG19: =COUNTIF(E19:E21,">1") -> 2 | AH19: =COUNTIF(E19:E21,">84.9") -> 1 | AI19: =IF(AH19=1,AK19,AL19) -> 0
C20: Пархомчук Саша | D20: 5-2 | E20: 98.9 | G20: 6 | H20: 40.25 | I20: =IF(E20<84.9,0,IF(E20<87.4,0.1,IF(E20<89.9,0.15,IF(E20<92.4,0.2,IF(E20<94.9,0.25,IF(E20<97.4,0.3,IF(E20<99.9,0.35,0.4))))))) -> 0.35 | J20: =H20-I20 -> 39.9 | AF20: =IF(AG20=2,AI20,AJ20) -> 0 | AG20: =COUNTIF(E20:E22,">1") -> 2 | AH20: =COUNTIF(E20:E22,">84.9") -> 1 | AI20: =IF(AH20=1,AK20,AL20) -> 0
D21: 5-3 | I21: =IF(E21<84.9,0,IF(E21<87.4,0.1,IF(E21<89.9,0.15,IF(E21<92.4,0.2,IF(E21<94.9,0.25,IF(E21<97.4,0.3,IF(E21<99.9,0.35,0.4))))))) -> 0 | J21: =H21-I21 -> 0 | AF21: =IF(AG21=2,AI21,AJ21) -> 0 | AG21: =COUNTIF(E21:E23,">1") -> 2 | AH21: =COUNTIF(E21:E23,">84.9") -> 0 | AI21: =IF(AH21=1,AK21,AL21) -> 0
A22: 6 | B22: KartFreedom RT | C22: Юрченко Вова | D22: 6-1 | E22: 74.1 | F22: =IF(M6=3,AC22,AF21) -> 0 | G22: 7 | H22: 40.18 | I22: =IF(E22<84.9,0,IF(E22<87.4,0.1,IF(E22<89.9,0.15,IF(E22<92.4,0.2,IF(E22<94.9,0.25,IF(E22<97.4,0.3,IF(E22<99.9,0.35,0.4))))))) -> 0 | J22: =H22-I22 -> 40.18 | K22: =AVERAGE(J22:J23) -> 40.055 | L22: =RANK(K22,K7:K60,1) -> 11 | Z22: =AVERAGE(E22:E23) -> 64.05 | AA22: =IF(E22>84.9,E22,E23) -> 54 | AB22: =COUNTIF(E22:E24,">84.9") -> 0 | AC22: =IF(AB22=1,AD22,AE22) -> 0 | AD22: =IF(AA22<84.9,0,IF(AA22<87.4,9,IF(AA22<89.9,13.5,IF(AA22<92.4,18,IF(AA22<94.9,22.5,IF(AA22<97.4,27,IF(AA22<99.9,31.5,36))))))) -> 0 | AE22: =IF(Z22<84.9,0,IF(Z22<87.4,18,IF(Z22<89.9,27,IF(Z22<92.4,36,IF(Z22<94.9,45,IF(Z22<97.4,54,IF(Z22<99.9,63,72))))))) -> 0 | AF22: =IF(AG22=2,AI22,AJ22) -> 0 | AG22: =COUNTIF(E22:E24,">1") -> 2 | AH22: =COUNTIF(E22:E24,">84.9") -> 0 | AI22: =IF(AH22=1,AK22,AL22) -> 0
C23: Медведева Дарья | D23: 6-2 | E23: 54 | G23: 8 | H23: 39.93 | I23: =IF(E23<84.9,0,IF(E23<87.4,0.1,IF(E23<89.9,0.15,IF(E23<92.4,0.2,IF(E23<94.9,0.25,IF(E23<97.4,0.3,IF(E23<99.9,0.35,0.4))))))) -> 0 | J23: =H23-I23 -> 39.93 | AF23: =IF(AG23=2,AI23,AJ23) -> 0 | AG23: =COUNTIF(E23:E25,">1") -> 2 | AH23: =COUNTIF(E23:E25,">84.9") -> 1 | AI23: =IF(AH23=1,AK23,AL23) -> 0
D24: 6-3 | I24: =IF(E24<84.9,0,IF(E24<87.4,0.1,IF(E24<89.9,0.15,IF(E24<92.4,0.2,IF(E24<94.9,0.25,IF(E24<97.4,0.3,IF(E24<99.9,0.35,0.4))))))) -> 0 | J24: =H24-I24 -> 0 | AF24: =IF(AG24=2,AI24,AJ24) -> 0 | AG24: =COUNTIF(E24:E26,">1") -> 2 | AH24: =COUNTIF(E24:E26,">84.9") -> 1 | AI24: =IF(AH24=1,AK24,AL24) -> 0
A25: 7 | B25: Flash | C25: Загорулько Иван | D25: 7-1 | E25: 97.7 | F25: =IF(M6=3,AC25,AF24) -> 31.5 | G25: 8 | H25: 40.53 | I25: =IF(E25<84.9,0,IF(E25<87.4,0.1,IF(E25<89.9,0.15,IF(E25<92.4,0.2,IF(E25<94.9,0.25,IF(E25<97.4,0.3,IF(E25<99.9,0.35,0.4))))))) -> 0.35 | J25: =H25-I25 -> 40.18 | K25: =AVERAGE(J25:J26) -> 40.11 | L25: =RANK(K25,K7:K60,1) -> 14 | Z25: =AVERAGE(E25:E26) -> 86.8 | AA25: =IF(E25>84.9,E25,E26) -> 97.7 | AB25: =COUNTIF(E25:E27,">84.9") -> 1 | AC25: =IF(AB25=1,AD25,AE25) -> 31.5 | AD25: =IF(AA25<84.9,0,IF(AA25<87.4,9,IF(AA25<89.9,13.5,IF(AA25<92.4,18,IF(AA25<94.9,22.5,IF(AA25<97.4,27,IF(AA25<99.9,31.5,36))))))) -> 31.5 | AE25: =IF(Z25<84.9,0,IF(Z25<87.4,18,IF(Z25<89.9,27,IF(Z25<92.4,36,IF(Z25<94.9,45,IF(Z25<97.4,54,IF(Z25<99.9,63,72))))))) -> 18 | AF25: =IF(AG25=2,AI25,AJ25) -> 0 | AG25: =COUNTIF(E25:E27,">1") -> 2 | AH25: =COUNTIF(E25:E27,">84.9") -> 1 | AI25: =IF(AH25=1,AK25,AL25) -> 0
C26: Якусик Саша | D26: 7-2 | E26: 75.9 | G26: 9 | H26: 40.04 | I26: =IF(E26<84.9,0,IF(E26<87.4,0.1,IF(E26<89.9,0.15,IF(E26<92.4,0.2,IF(E26<94.9,0.25,IF(E26<97.4,0.3,IF(E26<99.9,0.35,0.4))))))) -> 0 | J26: =H26-I26 -> 40.04 | AF26: =IF(AG26=2,AI26,AJ26) -> 0 | AG26: =COUNTIF(E26:E28,">1") -> 2 | AH26: =COUNTIF(E26:E28,">84.9") -> 0 | AI26: =IF(AH26=1,AK26,AL26) -> 0
D27: 7-3 | I27: =IF(E27<84.9,0,IF(E27<87.4,0.1,IF(E27<89.9,0.15,IF(E27<92.4,0.2,IF(E27<94.9,0.25,IF(E27<97.4,0.3,IF(E27<99.9,0.35,0.4))))))) -> 0 | J27: =H27-I27 -> 0 | AF27: =IF(AG27=2,AI27,AJ27) -> 0 | AG27: =COUNTIF(E27:E29,">1") -> 2 | AH27: =COUNTIF(E27:E29,">84.9") -> 0 | AI27: =IF(AH27=1,AK27,AL27) -> 0
A28: 8 | B28: KartFreedom JT | C28: Новиков Герман | D28: 8-1 | E28: 54.6 | F28: =IF(M6=3,AC28,AF27) -> 0 | G28: 9 | H28: 40.12 | I28: =IF(E28<84.9,0,IF(E28<87.4,0.1,IF(E28<89.9,0.15,IF(E28<92.4,0.2,IF(E28<94.9,0.25,IF(E28<97.4,0.3,IF(E28<99.9,0.35,0.4))))))) -> 0 | J28: =H28-I28 -> 40.12 | K28: =AVERAGE(J28:J29) -> 40.105 | L28: =RANK(K28,K7:K60,1) -> 13 | Z28: =AVERAGE(E28:E29) -> 64.05 | AA28: =IF(E28>84.9,E28,E29) -> 73.5 | AB28: =COUNTIF(E28:E30,">84.9") -> 0 | AC28: =IF(AB28=1,AD28,AE28) -> 0 | AD28: =IF(AA28<84.9,0,IF(AA28<87.4,9,IF(AA28<89.9,13.5,IF(AA28<92.4,18,IF(AA28<94.9,22.5,IF(AA28<97.4,27,IF(AA28<99.9,31.5,36))))))) -> 0 | AE28: =IF(Z28<84.9,0,IF(Z28<87.4,18,IF(Z28<89.9,27,IF(Z28<92.4,36,IF(Z28<94.9,45,IF(Z28<97.4,54,IF(Z28<99.9,63,72))))))) -> 0 | AF28: =IF(AG28=2,AI28,AJ28) -> 0 | AG28: =COUNTIF(E28:E30,">1") -> 2 | AH28: =COUNTIF(E28:E30,">84.9") -> 0 | AI28: =IF(AH28=1,AK28,AL28) -> 0
C29: Замула Илья | D29: 8-2 | E29: 73.5 | G29: 10 | H29: 40.09 | I29: =IF(E29<84.9,0,IF(E29<87.4,0.1,IF(E29<89.9,0.15,IF(E29<92.4,0.2,IF(E29<94.9,0.25,IF(E29<97.4,0.3,IF(E29<99.9,0.35,0.4))))))) -> 0 | J29: =H29-I29 -> 40.09 | AF29: =IF(AG29=2,AI29,AJ29) -> 0 | AG29: =COUNTIF(E29:E31,">1") -> 2 | AH29: =COUNTIF(E29:E31,">84.9") -> 0 | AI29: =IF(AH29=1,AK29,AL29) -> 0
D30: 8-3 | I30: =IF(E30<84.9,0,IF(E30<87.4,0.1,IF(E30<89.9,0.15,IF(E30<92.4,0.2,IF(E30<94.9,0.25,IF(E30<97.4,0.3,IF(E30<99.9,0.35,0.4))))))) -> 0 | J30: =H30-I30 -> 0 | AF30: =IF(AG30=2,AI30,AJ30) -> 0 | AG30: =COUNTIF(E30:E32,">1") -> 2 | AH30: =COUNTIF(E30:E32,">84.9") -> 0 | AI30: =IF(AH30=1,AK30,AL30) -> 0
A31: 9 | B31: NFS Fortuna RT | C31: Фортуна Таня | D31: 9-1 | E31: 80 | F31: =IF(M6=3,AC31,AF30) -> 0 | G31: 12 | H31: 40.09 | I31: =IF(E31<84.9,0,IF(E31<87.4,0.1,IF(E31<89.9,0.15,IF(E31<92.4,0.2,IF(E31<94.9,0.25,IF(E31<97.4,0.3,IF(E31<99.9,0.35,0.4))))))) -> 0 | J31: =H31-I31 -> 40.09 | K31: =AVERAGE(J31:J32) -> 39.92 | L31: =RANK(K31,K7:K60,1) -> 6 | Z31: =AVERAGE(E31:E32) -> 81.7 | AA31: =IF(E31>84.9,E31,E32) -> 83.4 | AB31: =COUNTIF(E31:E33,">84.9") -> 0 | AC31: =IF(AB31=1,AD31,AE31) -> 0 | AD31: =IF(AA31<84.9,0,IF(AA31<87.4,9,IF(AA31<89.9,13.5,IF(AA31<92.4,18,IF(AA31<94.9,22.5,IF(AA31<97.4,27,IF(AA31<99.9,31.5,36))))))) -> 0 | AE31: =IF(Z31<84.9,0,IF(Z31<87.4,18,IF(Z31<89.9,27,IF(Z31<92.4,36,IF(Z31<94.9,45,IF(Z31<97.4,54,IF(Z31<99.9,63,72))))))) -> 0 | AF31: =IF(AG31=2,AI31,AJ31) -> 0 | AG31: =COUNTIF(E31:E33,">1") -> 2 | AH31: =COUNTIF(E31:E33,">84.9") -> 0 | AI31: =IF(AH31=1,AK31,AL31) -> 0
C32: Шутка Виталий | D32: 9-2 | E32: 83.4 | G32: 11 | H32: 39.75 | I32: =IF(E32<84.9,0,IF(E32<87.4,0.1,IF(E32<89.9,0.15,IF(E32<92.4,0.2,IF(E32<94.9,0.25,IF(E32<97.4,0.3,IF(E32<99.9,0.35,0.4))))))) -> 0 | J32: =H32-I32 -> 39.75 | AF32: =IF(AG32=2,AI32,AJ32) -> 0 | AG32: =COUNTIF(E32:E34,">1") -> 2 | AH32: =COUNTIF(E32:E34,">84.9") -> 0 | AI32: =IF(AH32=1,AK32,AL32) -> 0
D33: 9-3 | I33: =IF(E33<84.9,0,IF(E33<87.4,0.1,IF(E33<89.9,0.15,IF(E33<92.4,0.2,IF(E33<94.9,0.25,IF(E33<97.4,0.3,IF(E33<99.9,0.35,0.4))))))) -> 0 | J33: =H33-I33 -> 0 | AF33: =IF(AG33=2,AI33,AJ33) -> 0 | AG33: =COUNTIF(E33:E35,">1") -> 2 | AH33: =COUNTIF(E33:E35,">84.9") -> 1 | AI33: =IF(AH33=1,AK33,AL33) -> 0
A34: 10 | B34: Karta | C34: Поляруш Александр | D34: 10-1 | E34: 73.4 | F34: =IF(M6=3,AC34,AF33) -> 13.5 | G34: 12 | H34: 40.54 | I34: =IF(E34<84.9,0,IF(E34<87.4,0.1,IF(E34<89.9,0.15,IF(E34<92.4,0.2,IF(E34<94.9,0.25,IF(E34<97.4,0.3,IF(E34<99.9,0.35,0.4))))))) -> 0 | J34: =H34-I34 -> 40.54 | K34: =AVERAGE(J34,J36) -> 41.475 | L34: =RANK(K34,K7:K60,1) -> 18 | Z34: =AVERAGE(E34:E35) -> 81.4 | AA34: =IF(E34>84.9,E34,E35) -> 89.4 | AB34: =COUNTIF(E34:E36,">84.9") -> 1 | AC34: =IF(AB34=1,AD34,AE34) -> 13.5 | AD34: =IF(AA34<84.9,0,IF(AA34<87.4,9,IF(AA34<89.9,13.5,IF(AA34<92.4,18,IF(AA34<94.9,22.5,IF(AA34<97.4,27,IF(AA34<99.9,31.5,36))))))) -> 13.5 | AE34: =IF(Z34<84.9,0,IF(Z34<87.4,18,IF(Z34<89.9,27,IF(Z34<92.4,36,IF(Z34<94.9,45,IF(Z34<97.4,54,IF(Z34<99.9,63,72))))))) -> 0 | AF34: =IF(AG34=2,AI34,AJ34) -> 0 | AG34: =COUNTIF(E34:E36,">1") -> 3 | AH34: =COUNTIF(E34:E36,">84.9") -> 1 | AI34: =IF(AH34=1,AK34,AL34) -> 0
C35: Литвиненко Виктор | D35: 10.2 | E35: 89.4 | I35: =IF(E35<84.9,0,IF(E35<87.4,0.1,IF(E35<89.9,0.15,IF(E35<92.4,0.2,IF(E35<94.9,0.25,IF(E35<97.4,0.3,IF(E35<99.9,0.35,0.4))))))) -> 0.15 | J35: =H35-I35 -> -0.15 | AF35: =IF(AG35=2,AI35,AJ35) -> 0 | AG35: =COUNTIF(E35:E37,">1") -> 3 | AH35: =COUNTIF(E35:E37,">84.9") -> 1 | AI35: =IF(AH35=1,AK35,AL35) -> 0
D36: 10-3 | E36: 44.5 | G36: 13 | H36: 42.41 | I36: =IF(E36<84.9,0,IF(E36<87.4,0.1,IF(E36<89.9,0.15,IF(E36<92.4,0.2,IF(E36<94.9,0.25,IF(E36<97.4,0.3,IF(E36<99.9,0.35,0.4))))))) -> 0 | J36: =H36-I36 -> 42.41 | AF36: =IF(AG36=2,AI36,AJ36) -> 0 | AG36: =COUNTIF(E36:E38,">1") -> 3 | AH36: =COUNTIF(E36:E38,">84.9") -> 0 | AI36: =IF(AH36=1,AK36,AL36) -> 0
A37: 11 | B37: Kozaks | C37: Пикулин Паша | D37: 11-1 | E37: 76 | F37: =IF(M6=3,AC37,AF36) -> 0 | G37: 13 | H37: 39.7 | I37: =IF(E37<84.9,0,IF(E37<87.4,0.1,IF(E37<89.9,0.15,IF(E37<92.4,0.2,IF(E37<94.9,0.25,IF(E37<97.4,0.3,IF(E37<99.9,0.35,0.4))))))) -> 0 | J37: =H37-I37 -> 39.7 | K37: =AVERAGE(J37:J38) -> 39.855 | L37: =RANK(K37,K7:K60,1) -> 4 | Z37: =AVERAGE(E37:E38) -> 74.85 | AA37: =IF(E37>84.9,E37,E38) -> 73.7 | AB37: =COUNTIF(E37:E39,">84.9") -> 0 | AC37: =IF(AB37=1,AD37,AE37) -> 0 | AD37: =IF(AA37<84.9,0,IF(AA37<87.4,9,IF(AA37<89.9,13.5,IF(AA37<92.4,18,IF(AA37<94.9,22.5,IF(AA37<97.4,27,IF(AA37<99.9,31.5,36))))))) -> 0 | AE37: =IF(Z37<84.9,0,IF(Z37<87.4,18,IF(Z37<89.9,27,IF(Z37<92.4,36,IF(Z37<94.9,45,IF(Z37<97.4,54,IF(Z37<99.9,63,72))))))) -> 0 | AF37: =IF(AG37=2,AI37,AJ37) -> 0 | AG37: =COUNTIF(E37:E39,">1") -> 2 | AH37: =COUNTIF(E37:E39,">84.9") -> 0 | AI37: =IF(AH37=1,AK37,AL37) -> 0
C38: Звягин Гриша | D38: 11-2 | E38: 73.7 | G38: 14 | H38: 40.01 | I38: =IF(E38<84.9,0,IF(E38<87.4,0.1,IF(E38<89.9,0.15,IF(E38<92.4,0.2,IF(E38<94.9,0.25,IF(E38<97.4,0.3,IF(E38<99.9,0.35,0.4))))))) -> 0 | J38: =H38-I38 -> 40.01 | AF38: =IF(AG38=2,AI38,AJ38) -> 0 | AG38: =COUNTIF(E38:E40,">1") -> 2 | AH38: =COUNTIF(E38:E40,">84.9") -> 0 | AI38: =IF(AH38=1,AK38,AL38) -> 0
D39: 11-3 | I39: =IF(E39<84.9,0,IF(E39<87.4,0.1,IF(E39<89.9,0.15,IF(E39<92.4,0.2,IF(E39<94.9,0.25,IF(E39<97.4,0.3,IF(E39<99.9,0.35,0.4))))))) -> 0 | J39: =H39-I39 -> 0 | AF39: =IF(AG39=2,AI39,AJ39) -> 0 | AG39: =COUNTIF(E39:E41,">1") -> 2 | AH39: =COUNTIF(E39:E41,">84.9") -> 0 | AI39: =IF(AH39=1,AK39,AL39) -> 0
A40: 12 | B40: Hurricane | C40: Стоцкий Андрей | D40: 12-1 | E40: 63.3 | F40: =IF(M6=3,AC40,AF39) -> 0 | G40: 15 | H40: 40.04 | I40: =IF(E40<84.9,0,IF(E40<87.4,0.1,IF(E40<89.9,0.15,IF(E40<92.4,0.2,IF(E40<94.9,0.25,IF(E40<97.4,0.3,IF(E40<99.9,0.35,0.4))))))) -> 0 | J40: =H40-I40 -> 40.04 | K40: =AVERAGE(J40:J41) -> 40.09 | L40: =RANK(K40,K7:K60,1) -> 12 | Z40: =AVERAGE(E40:E41) -> 68.15 | AA40: =IF(E40>84.9,E40,E41) -> 73 | AB40: =COUNTIF(E40:E42,">84.9") -> 0 | AC40: =IF(AB40=1,AD40,AE40) -> 0 | AD40: =IF(AA40<84.9,0,IF(AA40<87.4,9,IF(AA40<89.9,13.5,IF(AA40<92.4,18,IF(AA40<94.9,22.5,IF(AA40<97.4,27,IF(AA40<99.9,31.5,36))))))) -> 0 | AE40: =IF(Z40<84.9,0,IF(Z40<87.4,18,IF(Z40<89.9,27,IF(Z40<92.4,36,IF(Z40<94.9,45,IF(Z40<97.4,54,IF(Z40<99.9,63,72))))))) -> 0 | AF40: =IF(AG40=2,AI40,AJ40) -> 0 | AG40: =COUNTIF(E40:E42,">1") -> 2 | AH40: =COUNTIF(E40:E42,">84.9") -> 0 | AI40: =IF(AH40=1,AK40,AL40) -> 0
C41: Якусик Дима | D41: 12-2 | E41: 73 | G41: 14 | H41: 40.14 | I41: =IF(E41<84.9,0,IF(E41<87.4,0.1,IF(E41<89.9,0.15,IF(E41<92.4,0.2,IF(E41<94.9,0.25,IF(E41<97.4,0.3,IF(E41<99.9,0.35,0.4))))))) -> 0 | J41: =H41-I41 -> 40.14 | AF41: =IF(AG41=2,AI41,AJ41) -> 0 | AG41: =COUNTIF(E41:E43,">1") -> 2 | AH41: =COUNTIF(E41:E43,">84.9") -> 0 | AI41: =IF(AH41=1,AK41,AL41) -> 0
...

Sheet Vpered ta vgory
A2: Чемпионат мини марафон "Большие Гонки", 9-й этап
A4: Vpered ta vgory
A6: Обяза-тельные | B6: Пилот | C6: карт | D6: Круг | E6: кругов на отрезке | F6: Статистика по кругам | J6: Общее время гонки | K6: Время на трассе
F7: Лучший круг | G7: Среднее на отрезке | H7: Кругов в 0,1 от лучшего | I7: стабильность | K7: отрезок | L7: всего у пилота | M7: Питы | N7: Штрафы/ бонусы (сек)
A8: 1 | B8: Петушков Андрей | C8: 3 | D8: =COUNTA(C19:C83) -> 22 | E8: =COUNTA(C19:C83) -> 22 | F8: =MIN(C19:C82) -> 39.51 | G8: =AVERAGE(C19:C85) -> 40.065909 | H8: 0 | I8: =G8-F8 -> 0.55590909 | J8: 0.010659722 | K8: =J8 -> 0.010659722 | L8: =K8 -> 0.010659722 | M8: 2:14.66
A9: 2 | B9: Манило Денис | C9: 21 | D9: =COUNTA(D19:D83)+D8+1 -> 70 | E9: =COUNTA(D19:D83)+1 -> 48 | F9: =MIN(D19:D82) -> 39.53 | G9: =AVERAGE(D19:D84) -> 39.938936 | H9: 2 | I9: =G9-F9 -> 0.40893617 | J9: 0.033946759 | K9: =J9-J8 -> 0.023287037 | L9: =K9 -> 0.023287037 | M9: 2:13.82
A10: 3 | B10: Петушков Андрей | C10: 4 | D10: =COUNTA(E19:E83)+D9+1 -> 135 | E10: =COUNTA(E19:E83)+1 -> 65 | F10: =MIN(E19:E84) -> 39.61 | G10: =AVERAGE(E19:E85) -> 39.846719 | H10: 12 | I10: =G10-F10 -> 0.23671875 | J10: 0.065023148 | K10: =J10-J9 -> 0.031076389 | L10: =K10+L8 -> 0.041736111 | M10: 2:14.43
A11: 4 | B11: Манило Денис | C11: 33 | D11: =COUNTA(F19:F83)+D10+1 -> 160 | E11: =COUNTA(F19:F83)+1 -> 25 | F11: =MIN(F19:F84) -> 39.79 | G11: =AVERAGE(F19:F84) -> 40.108333 | H11: 9 | I11: =G11-F11 -> 0.31833333 | J11: 0.077743056 | K11: =J11-J10 -> 0.012719907 | L11: =K11+L9 -> 0.036006944 | M11: 2:14.69
A12: 5 | B12: Петушков Андрей | C12: 21 | D12: =COUNTA(G19:G83)+D11+1 -> 200 | E12: =COUNTA(G19:G83)+1 -> 40 | F12: =MIN(G19:G84) -> 39.57 | G12: =AVERAGE(G19:G884) -> 39.843846 | H12: 3 | I12: =G12-F12 -> 0.27384615 | J12: 0.097268519 | K12: =J12-J11 -> 0.019525463 | L12: =K12+L10 -> 0.061261574 | M12: 2:15.03
A13: Финиш | B13: Манило Денис | C13: 11 | D13: =COUNTA(H19:H83)+D12+1 -> 259 | E13: =COUNTA(H19:H83)+1 -> 59 | F13: =MIN(H19:H84) -> 39.52 | G13: =AVERAGE(H19:H84) -> 39.813103 | H13: 9 | I13: =G13-F13 -> 0.29310345 | J13: ='Общие результаты'!G6 -> 03:00:08 | K13: =J13-J12 -> 0.027824074 | L13: =K13+L11 -> 0.063831019
F14: =AVERAGE(F8,F10,F12) -> 39.563333 | G14: =AVERAGE(G8,G10,G12) -> 39.918825 | H14: Андрей | I14: =AVERAGE(I8,I10,I12) -> 0.35549133
F15: =AVERAGE(F9,F11,F13) -> 39.613333 | G15: =AVERAGE(G9,G11,G13) -> 39.953458 | H15: Денис | I15: =AVERAGE(I9,I11,I13) -> 0.34012432
F16: =AVERAGE(F8:F13) -> 39.588333 | G16: =AVERAGE(C19:H90) -> 39.89937 | I16: =AVERAGE(I8:I13) -> 0.34780782
C18: =B8 -> Петушков Андрей | D18: =B9 -> Манило Денис | E18: =B10 -> Петушков Андрей | F18: =B11 -> Манило Денис | G18: =B12 -> Петушков Андрей | H18: =B13 -> Манило Денис
B19: 1 | C19: 41.59 | D19: 42.19 | E19: 41.49 | F19: 41.63 | G19: 41.31 | H19: 40.78
B20: 2 | C20: 42.94 | D20: 40.31 | E20: 39.93 | F20: 40.34 | G20: 40.16 | H20: 39.71
B21: 3 | C21: 40.08 | D21: 40.78 | E21: 39.81 | F21: 40.16 | G21: 39.92 | H21: 39.52
B22: 4 | C22: 40.43 | D22: 41.3 | E22: 39.65 | F22: 40.18 | G22: 39.97 | H22: 39.57
B23: 5 | C23: 39.96 | D23: 39.98 | E23: 39.7 | F23: 40.03 | G23: 39.94 | H23: 40.23
B24: 6 | C24: 39.95 | D24: 39.87 | E24: 39.91 | F24: 40 | G24: 39.88 | H24: 39.86
B25: 7 | C25: 39.75 | D25: 39.83 | E25: 39.85 | F25: 39.96 | G25: 39.78 | H25: 39.91
B26: 8 | C26: 39.85 | D26: 39.73 | E26: 39.7 | F26: 40.12 | G26: 39.87 | H26: 39.98
B27: 9 | C27: 39.81 | D27: 39.74 | E27: 39.81 | F27: 39.84 | G27: 39.86 | H27: 39.94
B28: 10 | C28: 39.69 | D28: 39.74 | E28: 39.73 | F28: 39.86 | G28: 39.79 | H28: 39.85
B29: 11 | C29: 39.73 | D29: 39.69 | E29: 39.75 | F29: 40.84 | G29: 39.82 | H29: 39.97
B30: 12 | C30: 39.51 | D30: 39.78 | E30: 39.63 | F30: 40.6 | G30: 39.8 | H30: 39.82
... B40: 22 | C40: 39.79 | D40: 40.01 | E40: 39.88 | F40: 39.79 | G40: 39.82 | H40: 39.67
B41: 23 | D41: 39.84 | E41: 39.72 | F41: 39.85 | G41: 39.7 | H41: 39.89
B42: 24 | D42: 39.85 | E42: 39.73 | F42: 39.86 | G42: 39.88 | H42: 39.82
B43: 25 | D43: 39.77 | E43: 39.87 | G43: 39.75 | H43: 39.63
B44: 26 | D44: 39.82 | E44: 39.87 | G44: 39.89 | H44: 39.57
B45: 27 | D45: 39.79 | E45: 40.27 | G45: 39.92 | H45: 39.59
B46: 28 | D46: 39.75 | E46: 40.15 | G46: 39.86 | H46: 39.67
B47: 29 | D47: 39.71 | E47: 39.81 | G47: 39.81 | H47: 40.15
B48: 30 | D48: 39.93 | E48: 40.06 | G48: 39.62 | H48: 39.96
B49: 31 | D49: 39.83 | E49: 39.88 | G49: 39.69 | H49: 39.64
B50: 32 | D50: 39.75 | E50: 39.75 | G50: 40.03 | H50: 39.79
B51: 33 | D51: 39.6 | E51: 39.71 | G51: 39.69 | H51: 39.76
B52: 34 | D52: 39.76 | E52: 39.7 | G52: 39.74 | H52: 39.76
B53: 35 | D53: 39.76 | E53: 39.92 | G53: 39.69 | H53: 39.54
...

Sheet NSJ
A2: Чемпионат мини марафон "Большие Гонки", 9-й этап
A4: NSJ
A6: Обяза-тельные | B6: Пилот | C6: карт | D6: Круг | E6: кругов на отрезке | F6: Статистика по кругам | J6: Общее время гонки | K6: Время на трассе
F7: Лучший круг | G7: Среднее на отрезке | H7: Кругов в 0,1 от лучшего | I7: стабильность | K7: отрезок | L7: всего у пилота | M7: Питы | N7: Штрафы/ бонусы (сек)
A8: 1 | B8: Лысенский Денис | C8: 16 | D8: =COUNTA(C19:C83) -> 36 | E8: =COUNTA(C19:C83) -> 36 | F8: =MIN(C19:C82) -> 39.7 | G8: =AVERAGE(C19:C85) -> 40.148611 | H8: 4 | I8: =G8-F8 -> 0.44861111 | J8: 0.017199074 | K8: =J8 -> 0.017199074 | L8: =K8 -> 0.017199074 | M8: 2:14.35
A9: 2 | B9: Мифтахутдинов Ильяс | C9: 11 | D9: =COUNTA(D19:D83)+D8+1 -> 99 | E9: =COUNTA(D19:D83)+1 -> 63 | F9: =MIN(D19:D82) -> 39.53 | G9: =AVERAGE(D19:D84) -> 39.890806 | H9: 9 | I9: =G9-F9 -> 0.36080645 | J9: 0.047407407 | K9: =J9-J8 -> 0.030208333 | L9: =K9 -> 0.030208333 | M9: 2:13.65
A10: 3 | B10: Лысенский Денис | C10: 69 | D10: =COUNTA(E19:E83)+D9+1 -> 138 | E10: =COUNTA(E19:E83)+1 -> 39 | F10: =MIN(E19:E84) -> 39.84 | G10: =AVERAGE(E19:E85) -> 40.078158 | H10: 10 | I10: =G10-F10 -> 0.23815789 | J10: 0.0665625 | K10: =J10-J9 -> 0.019155093 | L10: =K10+L8 -> 0.036354167 | M10: 2:19.00 | N10: +5 | O10: против 13
A11: 4 | B11: Мифтахутдинов Ильяс | C11: 15 | D11: =COUNTA(F19:F83)+D10+1 -> 193 | E11: =COUNTA(F19:F83)+1 -> 55 | F11: =MIN(F19:F84) -> 39.49 | G11: =AVERAGE(F19:F84) -> 39.746296 | H11: 11 | I11: =G11-F11 -> 0.2562963 | J11: 0.093020833 | K11: =J11-J10 -> 0.026458333 | L11: =K11+L9 -> 0.056666667 | M11: 2:14.68
A12: 5 | B12: Мифтахутдинов Ильяс | C12: 12 | D12: =COUNTA(G19:G83)+D11+1 -> 217 | E12: =COUNTA(G19:G83)+1 -> 24 | F12: =MIN(G19:G84) -> 39.81 | G12: =AVERAGE(G19:G884) -> 40.058696 | H12: 3 | I12: =G12-F12 -> 0.24869565 | J12: 0.10523148 | K12: =J12-J11 -> 0.012210648 | L12: =K12+L11 -> 0.068877315 | M12: 2:15.26
A13: Финиш | B13: Лысенский Денис | C13: 2 | D13: =COUNTA(H19:H83)+D12+1 -> 259 | E13: =COUNTA(H19:H83)+1 -> 42 | F13: =MIN(H19:H84) -> 39.89 | G13: =AVERAGE(H19:H84) -> 40.238049 | H13: 3 | I13: =G13-F13 -> 0.34804878 | J13: ='Общие результаты'!G6 -> 03:00:08 | K13: =J13-J12 -> 0.019861111 | L13: =K13+L10 -> 0.056215278
F14: =AVERAGE(F8,F10,F13) -> 39.81 | G14: =AVERAGE(G8,G10,G13) -> 40.154939 | H14: Денис | I14: =AVERAGE(I8,I10,I13) -> 0.34493926
F15: =AVERAGE(F9,F11,F12) -> 39.61 | G15: =AVERAGE(G9,G11,G12) -> 39.898599 | H15: Ильяс | I15: =AVERAGE(I9,I11,I12) -> 0.28859947
F16: =AVERAGE(F8:F13) -> 39.71 | G16: =AVERAGE(C19:H90) -> 39.995906 | I16: =AVERAGE(I8:I13) -> 0.31676936
C18: =B8 -> Лысенский Денис | D18: =B9 -> Мифтахутдинов Ильяс | E18: =B10 -> Лысенский Денис | F18: =B11 -> Мифтахутдинов Ильяс | G18: =B12 -> Мифтахутдинов Ильяс | H18: =B13 -> Лысенский Денис
B19: 1 | C19: 41.65 | D19: 42.03 | E19: 41.68 | F19: 41.17 | G19: 40.99 | H19: 41.57
B20: 2 | C20: 41.78 | D20: 39.84 | E20: 40.42 | F20: 40.01 | G20: 39.91 | H20: 39.91
B21: 3 | C21: 40.43 | D21: 39.99 | E21: 40.38 | F21: 39.99 | G21: 39.86 | H21: 39.94
B22: 4 | C22: 41 | D22: 40.12 | E22: 39.95 | F22: 39.81 | G22: 40 | H22: 40.16
B23: 5 | C23: 40.04 | D23: 40.03 | E23: 40.08 | F23: 39.66 | G23: 39.93 | H23: 40.05
B24: 6 | C24: 40.39 | D24: 40.52 | E24: 40 | F24: 39.76 | G24: 40 | H24: 40.13
B25: 7 | C25: 40.14 | D25: 39.7 | E25: 40.29 | F25: 40.02 | G25: 40.11 | H25: 41.5
B26: 8 | C26: 40.18 | D26: 40.04 | E26: 39.98 | F26: 39.7 | G26: 40.22 | H26: 40.01
B27: 9 | C27: 40.57 | D27: 40.1 | E27: 40.1 | F27: 39.72 | G27: 40 | H27: 39.89
B28: 10 | C28: 39.93 | D28: 39.73 | E28: 39.97 | F28: 39.53 | G28: 39.95 | H28: 40.03
B29: 11 | C29: 40.14 | D29: 39.81 | E29: 40.09 | F29: 39.66 | G29: 40 | H29: 40.24
B30: 12 | C30: 40.02 | D30: 39.63 | E30: 40.16 | F30: 39.79 | G30: 40.03 | H30: 40.08
... B41: 23 | C41: 39.87 | D41: 39.63 | E41: 39.94 | F41: 39.67 | G41: 40.24 | H41: 40.22
B42: 24 | C42: 40.25 | D42: 39.61 | E42: 40 | F42: 39.68 | H42: 40.19
B43: 25 | C43: 39.9 | D43: 39.76 | E43: 39.94 | F43: 39.69 | H43: 40.5
B44: 26 | C44: 39.7 | D44: 40.15 | E44: 39.99 | F44: 39.61 | H44: 40.25
B45: 27 | C45: 39.72 | D45: 39.82 | E45: 40.14 | F45: 39.59 | H45: 40.27
B46: 28 | C46: 39.89 | D46: 41.27 | E46: 40 | F46: 39.71 | H46: 40.14
B47: 29 | C47: 39.82 | D47: 39.85 | E47: 39.9 | F47: 39.69 | H47: 40.11
B48: 30 | C48: 39.93 | D48: 39.87 | E48: 39.89 | F48: 39.54 | H48: 40.3
B49: 31 | C49: 40.05 | D49: 39.78 | E49: 39.97 | F49: 39.76 | H49: 40.11
B50: 32 | C50: 40.49 | D50: 39.78 | E50: 39.94 | F50: 39.63 | H50: 40.17
B51: 33 | C51: 39.85 | D51: 39.78 | E51: 39.85 | F51: 39.58 | H51: 39.99
B52: 34 | C52: 39.7 | D52: 39.71 | E52: 40.42 | F52: 39.74 | H52: 40.12
B53: 35 | C53: 40.1 | D53: 39.83 | E53: 39.96 | F53: 39.65 | H53: 40.25
B54: 36 | C54: 41.43 | D54: 39.85 | E54: 39.96 | F54: 39.65 | H54: 40.24
...

Sheet K44
A2: Чемпионат мини марафон "Большие Гонки", 9-й этап
A4: K44
A6: Обяза-тельные | B6: Пилот | C6: карт | D6: Круг | E6: кругов на отрезке | F6: Статистика по кругам | J6: Общее время гонки | K6: Время на трассе
F7: Лучший круг | G7: Среднее на отрезке | H7: Кругов в 0,1 от лучшего | I7: стабильность | K7: отрезок | L7: всего у пилота | M7: Питы | N7: Штрафы/ бонусы (сек)
A8: 1 | B8: Наум | C8: 69 | D8: =COUNTA(C19:C83) -> 33 | E8: =COUNTA(C19:C83) -> 33 | F8: =MIN(C19:C82) -> 39.59 | G8: =AVERAGE(C19:C85) -> 39.995455 | H8: 5 | I8: =G8-F8 -> 0.40545455 | J8: 0.015740741 | K8: =J8 -> 0.015740741 | L8: =K8 -> 0.015740741 | M8: 2:14.50
A9: 2 | B9: Ткаченко Кирилл | C9: 1 | D9: =COUNTA(D19:D83)+D8+1 -> 66 | E9: =COUNTA(D19:D83)+1 -> 33 | F9: =MIN(D19:D82) -> 39.86 | G9: =AVERAGE(D19:D84) -> 40.21875 | H9: 13 | I9: =G9-F9 -> 0.35875 | J9: 0.032210648 | K9: =J9-J8 -> 0.016469907 | L9: =K9 -> 0.016469907 | M9: 2:25.36 | N9: +10 | O9: против 2
A10: 3 | B10: Наум | C10: 16 | D10: =COUNTA(E19:E83)+D9+1 -> 118 | E10: =COUNTA(E19:E83)+1 -> 52 | F10: =MIN(E19:E84) -> 39.55 | G10: =AVERAGE(E19:E85) -> 39.858235 | H10: 3 | I10: =G10-F10 -> 0.30823529 | J10: 0.057418981 | K10: =J10-J9 -> 0.025208333 | L10: =K10+L8 -> 0.040949074 | M10: 2:14.38
A11: 4 | B11: Ткаченко Кирилл | C11: 7 | D11: =COUNTA(F19:F83)+D10+1 -> 164 | E11: =COUNTA(F19:F83)+1 -> 46 | F11: =MIN(F19:F84) -> 39.73 | G11: =AVERAGE(F19:F84) -> 40.034667 | H11: 6 | I11: =G11-F11 -> 0.30466667 | J11: 0.079895833 | K11: =J11-J10 -> 0.022476852 | L11: =K11+L9 -> 0.038946759 | M11: 2:16.18
A12: 5 | B12: Ткаченко Кирилл | C12: 17 | D12: =COUNTA(G19:G83)+D11+1 -> 199 | E12: =COUNTA(G19:G83)+1 -> 35 | F12: =MIN(G19:G84) -> 39.64 | G12: =AVERAGE(G19:G884) -> 39.986176 | H12: 3 | I12: =G12-F12 -> 0.34617647 | J12: 0.097141204 | K12: =J12-J11 -> 0.01724537 | L12: =K12+L11 -> 0.05619213 | M12: 2:15.22
A13: Финиш | B13: Наум | C13: 16 | D13: =COUNTA(H19:H83)+D12+1 -> 259 | E13: =COUNTA(H19:H83)+1 -> 60 | F13: =MIN(H19:H84) -> 39.51 | G13: =AVERAGE(H19:H84) -> 39.935085 | H13: 5 | I13: =G13-F13 -> 0.42508475 | J13: ='Общие результаты'!G6 -> 03:00:08 | K13: =J13-J12 -> 0.027951389 | L13: =K13+L10 -> 0.068900463
F14: =AVERAGE(F8,F10,F13) -> 39.55 | G14: =AVERAGE(G8,G10,G13) -> 39.929592 | H14: Наум | I14: =AVERAGE(I8,I10,I13) -> 0.37959153
F15: =AVERAGE(F9,F11,F12) -> 39.743333 | G15: =AVERAGE(G9,G11,G12) -> 40.079864 | H15: Кирилл | I15: =AVERAGE(I9,I11,I12) -> 0.33653105
F16: =AVERAGE(F8:F13) -> 39.646667 | G16: =AVERAGE(C19:H90) -> 39.987717 | I16: =AVERAGE(I8:I13) -> 0.35806129
C18: =B8 -> Наум | D18: =B9 -> Ткаченко Кирилл | E18: =B10 -> Наум | F18: =B11 -> Ткаченко Кирилл | G18: =B12 -> Ткаченко Кирилл | H18: =B13 -> Наум
B19: 1 | C19: 41.77 | D19: 41.73 | E19: 41.67 | F19: 42.06 | G19: 41.23 | H19: 41.36
B20: 2 | C20: 41.26 | D20: 40.3 | E20: 39.92 | F20: 40.08 | G20: 40.4 | H20: 40.35
B21: 3 | C21: 40.26 | D21: 39.95 | E21: 39.86 | F21: 40.19 | G21: 40.27 | H21: 39.85
B22: 4 | C22: 40.22 | D22: 39.98 | E22: 39.9 | F22: 40.14 | G22: 40.08 | H22: 39.56
B23: 5 | C23: 40.1 | D23: 39.93 | E23: 39.72 | F23: 39.99 | G23: 39.75 | H23: 39.73
B24: 6 | C24: 40.19 | D24: 40.55 | E24: 39.55 | F24: 40.04 | G24: 39.95 | H24: 39.64
B25: 7 | C25: 39.87 | D25: 40.26 | E25: 39.78 | F25: 40.08 | G25: 39.89 | H25: 39.65
B26: 8 | C26: 40.04 | D26: 41.22 | E26: 39.87 | F26: 39.94 | G26: 39.92 | H26: 40.6
B27: 9 | C27: 40.07 | D27: 39.9 | E27: 39.67 | F27: 39.89 | G27: 39.8 | H27: 39.69
B28: 10 | C28: 39.89 | D28: 40.95 | E28: 39.97 | F28: 40 | G28: 39.92 | H28: 39.77
B29: 11 | C29: 39.93 | D29: 40.18 | E29: 39.83 | F29: 39.82 | G29: 39.64 | H29: 40.47
B30: 12 | C30: 39.74 | D30: 39.94 | E30: 40.05 | F30: 40.22 | G30: 39.83 | H30: 40.02
... B50: 32 | C50: 39.81 | D50: 40.14 | E50: 39.76 | F50: 39.91 | G50: 40.05 | H50: 39.62
B51: 33 | C51: 39.71 | E51: 39.91 | F51: 39.82 | G51: 39.86 | H51: 39.62
B52: 34 | E52: 39.81 | F52: 39.89 | G52: 39.75 | H52: 41.88
B53: 35 | E53: 39.68 | F53: 39.84 | H53: 41.47
B54: 36 | E54: 39.74 | F54: 39.84 | H54: 40.72
B55: 37 | E55: 39.8 | F55: 39.89 | H55: 43.83
B56: 38 | E56: 39.77 | F56: 39.79 | H56: 39.82
B57: 39 | E57: 39.77 | F57: 39.91 | H57: 39.69
B58: 40 | E58: 39.94 | F58: 40.17 | H58: 40
B59: 41 | E59: 39.97 | F59: 39.81 | H59: 39.72
B60: 42 | E60: 39.91 | F60: 40 | H60: 39.86
B61: 43 | E61: 39.68 | F61: 40.66 | H61: 39.61
B62: 44 | E62: 39.87 | F62: 40.17 | H62: 40.02
B63: 45 | E63: 39.58 | F63: 39.94 | H63: 39.66
...

Sheet Winni
A2: Чемпионат мини марафон "Большие Гонки", 9-й этап
A4: Winni
A6: Обяза-тельные | B6: Пилот | C6: карт | D6: Круг | E6: кругов на отрезке | F6: Статистика по кругам | J6: Общее время гонки | K6: Время на трассе
F7: Лучший круг | G7: Среднее на отрезке | H7: Кругов в 0,1 от лучшего | I7: стабильность | K7: отрезок | L7: всего у пилота | M7: Питы | N7: Штрафы/ бонусы (сек)
A8: 1 | B8: Бахмацкий Олег | C8: 15 | D8: =COUNTA(C19:C83) -> 27 | E8: =COUNTA(C19:C83) -> 27 | F8: =MIN(C19:C82) -> 39.83 | G8: =AVERAGE(C19:C85) -> 40.338519 | H8: 11 | I8: =G8-F8 -> 0.50851852 | J8: 0.013090278 | K8: =J8 -> 0.013090278 | L8: =K8 -> 0.013090278 | M8: 2:14.31
A9: 2 | B9: Бахмацкий Олег | C9: 3 | D9: =COUNTA(D19:D83)+D8+1 -> 92 | E9: =COUNTA(D19:D83)+1 -> 65 | F9: =MIN(D19:D82) -> 39.52 | G9: =AVERAGE(D19:D84) -> 39.863594 | H9: 5 | I9: =G9-F9 -> 0.34359375 | J9: 0.044166667 | K9: =J9-J8 -> 0.031076389 | L9: =K9+L8 -> 0.044166667 | M9: 2:13.90
A10: 3 | B10: Лантушенко Игорь | C10: 2 | D10: =COUNTA(E19:E83)+D9+1 -> 119 | E10: =COUNTA(E19:E83)+1 -> 27 | F10: =MIN(E19:E84) -> 39.92 | G10: =AVERAGE(E19:E85) -> 40.319231 | H10: 0 | I10: =G10-F10 -> 0.39923077 | J10: 0.057858796 | K10: =J10-J9 -> 0.01369213 | L10: =K10 -> 0.01369213 | M10: 2:14.60
A11: 4 | B11: Лантушенко Игорь | C11: 1 | D11: =COUNTA(F19:F83)+D10+1 -> 160 | E11: =COUNTA(F19:F83)+1 -> 41 | F11: =MIN(F19:F84) -> 39.69 | G11: =AVERAGE(F19:F84) -> 39.98575 | H11: 6 | I11: =G11-F11 -> 0.29575 | J11: 0.077928241 | K11: =J11-J10 -> 0.020069444 | L11: =K11+L10 -> 0.033761574 | M11: 2:14.83
A12: 5 | B12: Лантушенко Игорь | C12: 44 | D12: =COUNTA(G19:G83)+D11+1 -> 216 | E12: =COUNTA(G19:G83)+1 -> 56 | F12: =MIN(G19:G84) -> 39.74 | G12: =AVERAGE(G19:G884) -> 40.107636 | H12: 9 | I12: =G12-F12 -> 0.36763636 | J12: 0.10502315 | K12: =J12-J11 -> 0.027094907 | L12: =K12+L11 -> 0.060856481 | M12: 2:15.42
A13: Финиш | B13: Бахмацкий Олег | C13: 1 | D13: =COUNTA(H19:H83)+D12+1 -> 258 | E13: =COUNTA(H19:H83)+1 -> 42 | F13: =MIN(H19:H84) -> 39.72 | G13: =AVERAGE(H19:H84) -> 40.008293 | H13: 8 | I13: =G13-F13 -> 0.28829268 | J13: ='Общие результаты'!G6 -> 03:00:08 | K13: =J13-J12 -> 0.020069444 | L13: =K13+L9 -> 0.064236111
F14: =AVERAGE(F8,F9,F12) -> 39.696667 | G14: 0 | H14: Олег | I14: 0
F15: =AVERAGE(F10,F11,F12) -> 39.783333 | G15: 0 | H15: Игорь | I15: 0
F16: =AVERAGE(F8:F13) -> 39.736667 | G16: =AVERAGE(C19:H90) -> 40.056917 | I16: =AVERAGE(I8:I13) -> 0.36717035
C18: =B8 -> Бахмацкий Олег | D18: =B9 -> Бахмацкий Олег | E18: =B10 -> Лантушенко Игорь | F18: =B11 -> Лантушенко Игорь | G18: =B12 -> Лантушенко Игорь | H18: =B13 -> Бахмацкий Олег
B19: 1 | C19: 42.08 | D19: 41.75 | E19: 42.01 | F19: 41.16 | G19: 41.43 | H19: 41.78
B20: 2 | C20: 42.04 | D20: 40.01 | E20: 40.26 | F20: 40.04 | G20: 40.14 | H20: 40.02
B21: 3 | C21: 43.1 | D21: 39.98 | E21: 40.43 | F21: 39.86 | G21: 39.92 | H21: 39.9
B22: 4 | C22: 40.72 | D22: 39.92 | E22: 41.17 | F22: 39.95 | G22: 40.03 | H22: 39.9
B23: 5 | C23: 40.33 | D23: 39.89 | E23: 40.36 | F23: 39.91 | G23: 39.92 | H23: 39.98
B24: 6 | C24: 40.16 | D24: 39.68 | E24: 40.17 | F24: 39.81 | G24: 39.93 | H24: 39.9
B25: 7 | C25: 39.94 | D25: 39.63 | E25: 41 | F25: 39.69 | G25: 39.86 | H25: 40.16
B26: 8 | C26: 40.33 | D26: 39.8 | E26: 40.2 | F26: 40.46 | G26: 40.02 | H26: 39.9
B27: 9 | C27: 40.47 | D27: 39.9 | E27: 40.19 | F27: 40.05 | G27: 40.68 | H27: 39.81
B28: 10 | C28: 40.02 | D28: 39.82 | E28: 40.07 | F28: 41.13 | G28: 39.83 | H28: 40.04
B29: 11 | C29: 39.92 | D29: 39.73 | E29: 40.23 | F29: 40.71 | G29: 40.06 | H29: 39.8
B30: 12 | C30: 39.93 | D30: 39.57 | E30: 40.12 | F30: 39.93 | G30: 40.12 | H30: 39.89
... B44: 26 | C44: 39.83 | D44: 39.74 | E44: 40.04 | F44: 39.99 | G44: 39.81 | H44: 39.95
B45: 27 | C45: 39.93 | D45: 39.67 | F45: 39.98 | G45: 39.8 | H45: 40.14
B46: 28 | D46: 39.71 | F46: 40.09 | G46: 40.07 | H46: 39.88
B47: 29 | D47: 39.7 | F47: 39.87 | G47: 39.78 | H47: 40.01
B48: 30 | D48: 39.69 | F48: 39.74 | G48: 39.74 | H48: 40
B49: 31 | D49: 39.59 | F49: 39.92 | G49: 39.88 | H49: 39.72
B50: 32 | D50: 39.64 | F50: 39.89 | G50: 39.84 | H50: 41.3
B51: 33 | D51: 39.52 | F51: 39.81 | G51: 40.67 | H51: 39.78
B52: 34 | D52: 39.72 | F52: 39.92 | G52: 39.95 | H52: 39.8
B53: 35 | D53: 39.73 | F53: 39.89 | G53: 39.86 | H53: 40.1
B54: 36 | D54: 39.62 | F54: 39.97 | G54: 39.98 | H54: 39.73
B55: 37 | D55: 40.3 | F55: 39.94 | G55: 39.83 | H55: 39.77
B56: 38 | D56: 39.99 | F56: 39.82 | G56: 41.69 | H56: 39.89
B57: 39 | D57: 39.85 | F57: 39.83 | G57: 39.95 | H57: 40.08
...

Sheet Kozaks
A2: Чемпионат мини марафон "Большие Гонки", 9-й этап
A4: Kozaks
A6: Обяза-тельные | B6: Пилот | C6: карт | D6: Круг | E6: кругов на отрезке | F6: Статистика по кругам | J6: Общее время гонки | K6: Время на трассе
F7: Лучший круг | G7: Среднее на отрезке | H7: Кругов в 0,1 от лучшего | I7: стабильность | K7: отрезок | L7: всего у пилота | M7: Питы | N7: Штрафы/ бонусы (сек)
A8: 1 | B8: Пикулин Паша | C8: 12 | D8: =COUNTA(C19:C83) -> 28 | E8: =COUNTA(C19:C83) -> 28 | F8: =MIN(C19:C82) -> 39.75 | G8: =AVERAGE(C19:C85) -> 40.120714 | H8: 11 | I8: =G8-F8 -> 0.37071429 | J8: 0.013460648 | K8: =J8 -> 0.013460648 | L8: =K8 -> 0.013460648 | M8: 2:13.13
A9: 2 | B9: Звягин Григорий | C9: 4 | D9: =COUNTA(D19:D83)+D8+1 -> 68 | E9: =COUNTA(D19:D83)+1 -> 40 | F9: =MIN(D19:D82) -> 39.79 | G9: =AVERAGE(D19:D84) -> 40.072051 | H9: 12 | I9: =G9-F9 -> 0.28205128 | J9: 0.033101852 | K9: =J9-J8 -> 0.019641204 | L9: =K9 -> 0.019641204 | M9: 2:13.30
A10: 3 | B10: Пикулин Паша | C10: 1 | D10: =COUNTA(E19:E83)+D9+1 -> 112 | E10: =COUNTA(E19:E83)+1 -> 44 | F10: =MIN(E19:E84) -> 39.69 | G10: =AVERAGE(E19:E85) -> 39.972558 | H10: 9 | I10: =G10-F10 -> 0.28255814 | J10: 0.054537037 | K10: =J10-J9 -> 0.021435185 | L10: =K10+L8 -> 0.034895833 | M10: 2:13.89
A11: 4 | B11: Звягин Григорий | C11: 8 | D11: =COUNTA(F19:F83)+D10+1 -> 164 | E11: =COUNTA(F19:F83)+1 -> 52 | F11: =MIN(F19:F84) -> 39.67 | G11: =AVERAGE(F19:F84) -> 39.957647 | H11: 8 | I11: =G11-F11 -> 0.28764706 | J11: 0.079675926 | K11: =J11-J10 -> 0.025138889 | L11: =K11+L9 -> 0.044780093 | M11: 2:14.45
A12: 5 | B12: Пикулин Паша | C12: 2 | D12: =COUNTA(G19:G83)+D11+1 -> 209 | E12: =COUNTA(G19:G83)+1 -> 45 | F12: =MIN(G19:G84) -> 39.73 | G12: =AVERAGE(G19:G884) -> 40.12 | H12: 1 | I12: =G12-F12 -> 0.39 | J12: 0.10166667 | K12: =J12-J11 -> 0.021990741 | L12: =K12+L10 -> 0.056886574 | M12: 2:14.33
A13: Финиш | B13: Звягин Григорий | C13: 9 | D13: =COUNTA(H19:H83)+D12+1 -> 258 | E13: =COUNTA(H19:H83)+1 -> 49 | F13: =MIN(H19:H84) -> 39.76 | G13: =AVERAGE(H19:H84) -> 40.244375 | H13: 1 | I13: =G13-F13 -> 0.484375 | J13: ='Общие результаты'!G6 -> 03:00:08 | K13: =J13-J12 -> 0.023425926 | L13: =K13+L11 -> 0.068206019
F14: =AVERAGE(F8,F10,F12) -> 39.723333 | G14: =AVERAGE(G8,G10,G12) -> 40.071091 | H14: Паша | I14: =AVERAGE(I8,I10,I12) -> 0.34775748
F15: =AVERAGE(F9,F11,F13) -> 39.74 | G15: =AVERAGE(G9,G11,G13) -> 40.091358 | H15: Гриша | I15: =AVERAGE(I9,I11,I13) -> 0.35135778
F16: =AVERAGE(F8:F13) -> 39.731667 | G16: =AVERAGE(C19:H90) -> 40.078498 | I16: =AVERAGE(I8:I13) -> 0.34955763
C18: =B8 -> Пикулин Паша | D18: =B9 -> Звягин Григорий | E18: =B10 -> Пикулин Паша | F18: =B11 -> Звягин Григорий | G18: =B12 -> Пикулин Паша | H18: =B13 -> Звягин Григорий
B19: 1 | C19: 42.87 | D19: 41.27 | E19: 41.09 | F19: 41.73 | G19: 41.24 | H19: 41.47
B20: 2 | C20: 42.74 | D20: 40.05 | E20: 40.88 | F20: 39.96 | G20: 40.03 | H20: 40.12
B21: 3 | C21: 40.81 | D21: 40.18 | E21: 39.87 | F21: 40.03 | G21: 40.11 | H21: 39.98
B22: 4 | C22: 40.1 | D22: 40 | E22: 39.87 | F22: 39.89 | G22: 39.99 | H22: 40.18
B23: 5 | C23: 40.24 | D23: 40.12 | E23: 40.4 | F23: 39.91 | G23: 39.83 | H23: 40.11
B24: 6 | C24: 39.94 | D24: 40.03 | E24: 40 | F24: 39.99 | G24: 39.9 | H24: 39.89
B25: 7 | C25: 39.8 | D25: 39.83 | E25: 39.82 | F25: 39.92 | G25: 40.34 | H25: 40.22
B26: 8 | C26: 39.75 | D26: 39.98 | E26: 39.83 | F26: 39.78 | G26: 40.12 | H26: 40.08
B27: 9 | C27: 40 | D27: 39.88 | E27: 39.76 | F27: 39.79 | G27: 39.96 | H27: 40.03
B28: 10 | C28: 39.89 | D28: 39.8 | E28: 39.9 | F28: 39.95 | G28: 39.73 | H28: 40.01
B29: 11 | C29: 39.89 | D29: 40.37 | E29: 39.77 | F29: 39.88 | G29: 40 | H29: 39.85
B30: 12 | C30: 39.86 | D30: 40.4 | E30: 39.81 | F30: 39.96 | G30: 40.21 | H30: 39.93
... B46: 28 | C46: 39.87 | D46: 39.86 | E46: 40.11 | F46: 39.84 | G46: 41.37 | H46: 40.04
B47: 29 | D47: 39.81 | E47: 40.06 | F47: 39.88 | G47: 40.22 | H47: 40.74
B48: 30 | D48: 40 | E48: 39.69 | F48: 39.81 | G48: 40.11 | H48: 40.06
B49: 31 | D49: 40.08 | E49: 40.16 | F49: 40 | G49: 40.02 | H49: 39.88
B50: 32 | D50: 39.86 | E50: 39.85 | F50: 40.58 | G50: 40.02 | H50: 40.3
B51: 33 | D51: 39.97 | E51: 40.11 | F51: 39.94 | G51: 40.23 | H51: 39.97
B52: 34 | D52: 39.85 | E52: 39.82 | F52: 39.83 | G52: 40.15 | H52: 40
B53: 35 | D53: 40.02 | E53: 39.77 | F53: 39.68 | G53: 40.4 | H53: 39.94
B54: 36 | D54: 41.43 | E54: 39.78 | F54: 40.6 | G54: 40.02 | H54: 40.46
B55: 37 | D55: 40.01 | E55: 39.79 | F55: 39.91 | G55: 40.26 | H55: 39.88
B56: 38 | D56: 39.87 | E56: 39.83 | F56: 40.05 | G56: 40.03 | H56: 40.04
B57: 39 | D57: 39.89 | E57: 39.85 | F57: 39.99 | G57: 40.04 | H57: 40.54
B58: 40 | E58: 39.98 | F58: 39.82 | G58: 40.17 | H58: 39.87
B59: 41 | E59: 39.81 | F59: 39.71 | G59: 39.97 | H59: 39.98
...

Sheet MST
A2: Чемпионат мини марафон "Большие Гонки", 9-й этап
A4: MST
A6: Обяза-тельные | B6: Пилот | C6: карт | D6: Круг | E6: кругов на отрезке | F6: Статистика по кругам | J6: Общее время гонки | K6: Время на трассе
F7: Лучший круг | G7: Среднее на отрезке | H7: Кругов в 0,1 от лучшего | I7: стабильность | K7: отрезок | L7: всего у пилота | M7: Питы | N7: Штрафы/ бонусы (сек)
A8: 1 | B8: Ткаченко Антон | C8: 17 | D8: =COUNTA(C19:C83) -> 35 | E8: =COUNTA(C19:C83) -> 35 | F8: =MIN(C19:C82) -> 39.44 | G8: =AVERAGE(C19:C85) -> 40.056857 | H8: 5 | I8: =G8-F8 -> 0.61685714 | J8: 0.016724537 | K8: =J8 -> 0.016724537 | L8: =K8 -> 0.016724537 | M8: 2:14.74
A9: 2 | B9: Тыщенко Миша | C9: 5 | D9: =COUNTA(D19:D83)+D8+1 -> 98 | E9: =COUNTA(D19:D83)+1 -> 63 | F9: =MIN(D19:D82) -> 39.6 | G9: =AVERAGE(D19:D84) -> 40.079516 | H9: 6 | I9: =G9-F9 -> 0.47951613 | J9: 0.047060185 | K9: =J9-J8 -> 0.030335648 | L9: =K9 -> 0.030335648 | M9: 2:05.58 | N9: -9 | O9: бонус за вес
A10: 3 | B10: Ткаченко Антон | C10: 10 | D10: =COUNTA(E19:E83)+D9+1 -> 116 | E10: =COUNTA(E19:E83)+1 -> 18 | F10: =MIN(E19:E84) -> 40 | G10: =AVERAGE(E19:E85) -> 40.35 | H10: 3 | I10: =G10-F10 -> 0.35 | J10: 0.056454803 | K10: =J10-J9 -> 0.0093946181 | L10: =K10+L8 -> 0.026119155 | M10: 2:14.76
A11: 4 | B11: Ткаченко Антон | C11: 13 | D11: =COUNTA(F19:F83)+D10+1 -> 164 | E11: =COUNTA(F19:F83)+1 -> 48 | F11: =MIN(F19:F84) -> 39.7 | G11: =AVERAGE(F19:F84) -> 40.081277 | H11: 6 | I11: =G11-F11 -> 0.3812766 | J11: 0.079826389 | K11: =J11-J10 -> 0.023371586 | L11: =K11+L10 -> 0.049490741 | M11: 2:15.81
A12: 5 | B12: Тыщенко Миша | C12: 6 | D12: =COUNTA(G19:G83)+D11+1 -> 229 | E12: =COUNTA(G19:G83)+1 -> 65 | F12: =MIN(G19:G84) -> 39.47 | G12: =AVERAGE(G19:G884) -> 39.811875 | H12: 10 | I12: =G12-F12 -> 0.341875 | J12: 0.11087963 | K12: =J12-J11 -> 0.031053241 | L12: =K12+L9 -> 0.061388889 | M12: 2:34.31 | N12: +20 | O12: лимит
A13: Финиш | B13: Ткаченко Антон | C13: 14 | D13: =COUNTA(H19:H83)+D12+1 -> 258 | E13: =COUNTA(H19:H83)+1 -> 29 | F13: =MIN(H19:H84) -> 39.91 | G13: =AVERAGE(H19:H84) -> 40.285357 | H13: 6 | I13: =G13-F13 -> 0.37535714 | J13: ='Общие результаты'!G6 -> 03:00:08 | K13: =J13-J12 -> 0.014212963 | L13: =K13+L11 -> 0.063703704
F14: =AVERAGE(F8,F10,F11,F13) -> 39.7625 | G14: =AVERAGE(G8,G10,G11,G13) -> 40.193373 | H14: Антон | I14: =AVERAGE(I8,I10,I11,I13) -> 0.43087272
F15: =AVERAGE(F9,F12) -> 39.535 | G15: =AVERAGE(G9,G12) -> 39.945696 | H15: Миша | I15: =AVERAGE(I9,I12) -> 0.41069556
F16: =AVERAGE(F8:F13) -> 39.686667 | G16: =AVERAGE(C19:H90) -> 40.04996 | I16: =AVERAGE(I8:I13) -> 0.424147
C18: =B8 -> Ткаченко Антон | D18: =B9 -> Тыщенко Миша | E18: =B10 -> Ткаченко Антон | F18: =B11 -> Ткаченко Антон | G18: =B12 -> Тыщенко Миша | H18: =B13 -> Ткаченко Антон
B19: 1 | C19: 43.63 | D19: 41.52 | E19: 42.36 | F19: 41.55 | G19: 41.61 | H19: 43.92
B20: 2 | C20: 40.87 | D20: 40.06 | E20: 40.41 | F20: 40.18 | G20: 40.51 | H20: 40.99
B21: 3 | C21: 43.09 | D21: 40.08 | E21: 40.8 | F21: 40.17 | G21: 40.07 | H21: 40.39
B22: 4 | C22: 40.28 | D22: 40.04 | E22: 40.35 | F22: 40.05 | G22: 39.92 | H22: 40.41
B23: 5 | C23: 40.11 | D23: 39.99 | E23: 40.09 | F23: 40.04 | G23: 39.9 | H23: 40.2
B24: 6 | C24: 39.93 | D24: 41.36 | E24: 40.24 | F24: 40.18 | G24: 39.91 | H24: 40.08
B25: 7 | C25: 39.74 | D25: 41.84 | E25: 40.23 | F25: 40.16 | G25: 39.6 | H25: 40.03
B26: 8 | C26: 39.99 | D26: 40.71 | E26: 40.06 | F26: 40.09 | G26: 39.83 | H26: 40.34
B27: 9 | C27: 40.66 | D27: 40.71 | E27: 40.19 | F27: 40.01 | G27: 39.63 | H27: 40.16
B28: 10 | C28: 40.28 | D28: 40.04 | E28: 40 | F28: 39.97 | G28: 39.5 | H28: 40.08
B29: 11 | C29: 39.62 | D29: 40.97 | E29: 40.19 | F29: 40.35 | G29: 39.69 | H29: 39.94
B30: 12 | C30: 39.53 | D30: 39.98 | E30: 40.14 | F30: 40.08 | G30: 39.5 | H30: 40.11
... B35: 17 | C35: 39.61 | D35: 39.78 | E35: 40.4 | F35: 41.41 | G35: 39.88 | H35: 40.23
B36: 18 | C36: 39.57 | D36: 39.8 | F36: 39.77 | G36: 39.79 | H36: 39.99
B37: 19 | C37: 39.51 | D37: 39.69 | F37: 39.9 | G37: 39.68 | H37: 40.03
B38: 20 | C38: 39.7 | D38: 40.16 | F38: 39.93 | G38: 39.67 | H38: 39.91
B39: 21 | C39: 39.52 | D39: 40.39 | F39: 39.8 | G39: 39.68 | H39: 39.92
B40: 22 | C40: 39.62 | D40: 40.04 | F40: 39.92 | G40: 39.68 | H40: 40.21
B41: 23 | C41: 39.44 | D41: 39.99 | F41: 40.26 | G41: 39.68 | H41: 40.1
B42: 24 | C42: 39.53 | D42: 39.79 | F42: 40.12 | G42: 39.61 | H42: 40.06
B43: 25 | C43: 39.68 | D43: 39.9 | F43: 40.44 | G43: 39.52 | H43: 39.92
B44: 26 | C44: 39.9 | D44: 39.84 | F44: 39.92 | G44: 40.31 | H44: 40.04
B45: 27 | C45: 39.85 | D45: 39.81 | F45: 39.95 | G45: 39.6 | H45: 39.94
B46: 28 | C46: 39.56 | D46: 39.81 | F46: 39.7 | G46: 39.7 | H46: 39.96
B47: 29 | C47: 39.68 | D47: 40.59 | F47: 39.88 | G47: 40.18
B48: 30 | C48: 39.61 | D48: 39.91 | F48: 40.05 | G48: 39.7
...

Sheet NFS Fortuna RT
A2: Чемпионат мини марафон "Большие Гонки", 9-й этап
A4: NFS Fortuna RT
A6: Обяза-тельные | B6: Пилот | C6: карт | D6: Круг | E6: кругов на отрезке | F6: Статистика по кругам | J6: Общее время гонки | K6: Время на трассе
F7: Лучший круг | G7: Среднее на отрезке | H7: Кругов в 0,1 от лучшего | I7: стабильность | K7: отрезок | L7: всего у пилота | M7: Питы | N7: Штрафы/ бонусы (сек)
A8: 1 | B8: Шутка Виталий | C8: 10 | D8: =COUNTA(C19:C83) -> 21 | E8: =COUNTA(C19:C83) -> 21 | F8: =MIN(C19:C82) -> 39.99 | G8: =AVERAGE(C19:C85) -> 41.191429 | H8: 4 | I8: =G8-F8 -> 1.2014286 | J8: 0.010486111 | K8: =J8 -> 0.010486111 | L8: =K8 -> 0.010486111 | M8: 2:15.28
A9: 2 | B9: Шутка Виталий | C9: 9 | D9: =COUNTA(D19:D83)+D8+1 -> 70 | E9: =COUNTA(D19:D83)+1 -> 49 | F9: =MIN(D19:D82) -> 39.8 | G9: =AVERAGE(D19:D84) -> 40.158333 | H9: 3 | I9: =G9-F9 -> 0.35833333 | J9: 0.034363426 | K9: =J9-J8 -> 0.023877315 | L9: =K9+L8 -> 0.034363426 | M9: 2:15.27
A10: 3 | B10: Фортуна Таня | C10: 8 | D10: =COUNTA(E19:E83)+D9+1 -> 104 | E10: =COUNTA(E19:E83)+1 -> 34 | F10: =MIN(E19:E84) -> 39.65 | G10: =AVERAGE(E19:E85) -> 40.034848 | H10: 1 | I10: =G10-F10 -> 0.38484848 | J10: 0.051226852 | K10: =J10-J9 -> 0.016863426 | L10: =K10 -> 0.016863426 | M10: 2:14.43
A11: 4 | B11: Шутка Виталий | C11: 11 | D11: =COUNTA(F19:F83)+D10+1 -> 160 | E11: =COUNTA(F19:F83)+1 -> 56 | F11: =MIN(F19:F84) -> 39.64 | G11: =AVERAGE(F19:F84) -> 39.998545 | H11: 1 | I11: =G11-F11 -> 0.35854545 | J11: 0.078252315 | K11: =J11-J10 -> 0.027025463 | L11: =K11+L9 -> 0.061388889 | M11: 2:15.72
A12: 5 | B12: Фортуна Таня | C12: 3 | D12: =COUNTA(G19:G83)+D11+1 -> 225 | E12: =COUNTA(G19:G83)+1 -> 65 | F12: =MIN(G19:G84) -> 39.74 | G12: =AVERAGE(G19:G884) -> 40.031875 | H12: 4 | I12: =G12-F12 -> 0.291875 | J12: 0.10946759 | K12: =J12-J11 -> 0.031215278 | L12: =K12+L10 -> 0.048078704 | M12: 2:14.74
A13: Финиш | B13: Фортуна Таня | C13: 4 | D13: =COUNTA(H19:H83)+D12+1 -> 258 | E13: =COUNTA(H19:H83)+1 -> 33 | F13: =MIN(H19:H84) -> 40.08 | G13: =AVERAGE(H19:H84) -> 40.292813 | H13: 9 | I13: =G13-F13 -> 0.2128125 | J13: ='Общие результаты'!G6 -> 03:00:08 | K13: =J13-J12 -> 0.015625 | L13: =K13+L12 -> 0.063703704
F14: =AVERAGE(F8,F9,F11) -> 39.81 | G14: =AVERAGE(G8,G9,G11) -> 40.449436 | H14: Виталий | I14: =AVERAGE(I8,I9,I11) -> 0.63943579
F15: =AVERAGE(F10,F12,F13) -> 39.823333 | G15: =AVERAGE(G10,G12,G13) -> 40.119845 | H15: Таня | I15: =AVERAGE(I10,I12,I13) -> 0.29651199
F16: =AVERAGE(F8:F13) -> 39.816667 | G16: =AVERAGE(C19:H90) -> 40.178261 | I16: =AVERAGE(I8:I13) -> 0.46797389
C18: =B8 -> Шутка Виталий | D18: =B9 -> Шутка Виталий | E18: =B10 -> Фортуна Таня | F18: =B11 -> Шутка Виталий | G18: =B12 -> Фортуна Таня | H18: =B13 -> Фортуна Таня
B19: 1 | C19: 42.06 | D19: 42.26 | E19: 41.69 | F19: 42.13 | G19: 41.63 | H19: 41.44
B20: 2 | C20: 42.65 | D20: 40.7 | E20: 40.18 | F20: 39.72 | G20: 39.99 | H20: 40.08
B21: 3 | C21: 54.48 | D21: 40.09 | E21: 40.05 | F21: 39.9 | G21: 40.01 | H21: 40.46
B22: 4 | C22: 41.02 | D22: 39.9 | E22: 40.15 | F22: 39.77 | G22: 39.96 | H22: 40.12
B23: 5 | C23: 40.37 | D23: 39.94 | E23: 40.07 | F23: 39.64 | G23: 39.9 | H23: 40.18
B24: 6 | C24: 40.36 | D24: 41.11 | E24: 40.2 | F24: 39.9 | G24: 40.64 | H24: 40.38
B25: 7 | C25: 40.9 | D25: 40.15 | E25: 40.14 | F25: 39.78 | G25: 40.18 | H25: 40.25
B26: 8 | C26: 40.4 | D26: 40.03 | E26: 39.9 | F26: 40.05 | G26: 40.47 | H26: 40.25
B27: 9 | C27: 40.33 | D27: 39.92 | E27: 39.9 | F27: 39.78 | G27: 40 | H27: 40.31
B28: 10 | C28: 40.86 | D28: 40.06 | E28: 40.75 | F28: 39.82 | G28: 40.93 | H28: 40.15
B29: 11 | C29: 40.21 | D29: 40.19 | E29: 40.43 | F29: 39.79 | G29: 40.14 | H29: 40.41
B30: 12 | C30: 40.08 | D30: 39.91 | E30: 39.97 | F30: 40.18 | G30: 39.9 | H30: 40.41
... B39: 21 | C39: 40.21 | D39: 39.94 | E39: 39.79 | F39: 39.84 | G39: 39.79 | H39: 40.09
B40: 22 | D40: 39.92 | E40: 40.29 | F40: 39.81 | G40: 39.89 | H40: 40.22
B41: 23 | D41: 39.92 | E41: 39.78 | F41: 39.84 | G41: 39.83 | H41: 40.2
B42: 24 | D42: 39.95 | E42: 39.84 | F42: 40.21 | G42: 39.92 | H42: 40.16
B43: 25 | D43: 40.29 | E43: 39.76 | F43: 40.11 | G43: 39.89 | H43: 40.17
B44: 26 | D44: 40.03 | E44: 40.09 | F44: 40.03 | G44: 40.09 | H44: 40.16
B45: 27 | D45: 39.97 | E45: 39.89 | F45: 40.03 | G45: 40.08 | H45: 40.27
B46: 28 | D46: 39.89 | E46: 39.77 | F46: 39.97 | G46: 39.97 | H46: 40.24
B47: 29 | D47: 40.23 | E47: 40.18 | F47: 40.07 | G47: 39.79 | H47: 40.15
B48: 30 | D48: 39.97 | E48: 39.82 | F48: 40.05 | G48: 39.74 | H48: 40.25
B49: 31 | D49: 39.96 | E49: 39.8 | F49: 40.37 | G49: 39.89 | H49: 40.19
B50: 32 | D50: 40.03 | E50: 39.77 | F50: 40 | G50: 39.95 | H50: 40.7
B51: 33 | D51: 40.08 | E51: 39.94 | F51: 40.03 | G51: 39.86
B52: 34 | D52: 40.22 | F52: 40.16 | G52: 39.86
...

Sheet 50 Grams
A2: Чемпионат мини марафон "Большие Гонки", 9-й этап
A4: 50 Grams
A6: Обяза-тельные | B6: Пилот | C6: карт | D6: Круг | E6: кругов на отрезке | F6: Статистика по кругам | J6: Общее время гонки | K6: Время на трассе
F7: Лучший круг | G7: Среднее на отрезке | H7: Кругов в 0,1 от лучшего | I7: стабильность | K7: отрезок | L7: всего у пилота | M7: Питы | N7: Штрафы/ бонусы (сек)
A8: 1 | B8: Шиленко Саша | C8: 4 | D8: =COUNTA(C19:C83) -> 27 | E8: =COUNTA(C19:C83) -> 27 | F8: =MIN(C19:C82) -> 39.69 | G8: =AVERAGE(C19:C85) -> 40.200741 | H8: 5 | I8: =G8-F8 -> 0.51074074 | J8: 0.013043981 | K8: =J8 -> 0.013043981 | L8: =K8 -> 0.013043981 | M8: 2:15.35
A9: 2 | B9: Сомок Денис | C9: 10 | D9: =COUNTA(D19:D83)+D8+1 -> 89 | E9: =COUNTA(D19:D83)+1 -> 62 | F9: =MIN(D19:D82) -> 39.84 | G9: =AVERAGE(D19:D84) -> 40.243934 | H9: 4 | I9: =G9-F9 -> 0.40393443 | J9: 0.043043981 | K9: =J9-J8 -> 0.03 | L9: =K9 -> 0.03 | M9: 2:16.06
A10: 3 | B10: Шиленко Саша | C10: 14 | D10: =COUNTA(E19:E83)+D9+1 -> 137 | E10: =COUNTA(E19:E83)+1 -> 48 | F10: =MIN(E19:E84) -> 39.78 | G10: =AVERAGE(E19:E85) -> 40.218511 | H10: 1 | I10: =G10-F10 -> 0.43851064 | J10: 0.066481481 | K10: =J10-J9 -> 0.0234375 | L10: =K10+L8 -> 0.036481481 | M10: 2:15.30
A11: 4 | B11: Сомок Денис | C11: 5 | D11: =COUNTA(F19:F83)+D10+1 -> 192 | E11: =COUNTA(F19:F83)+1 -> 55 | F11: =MIN(F19:F84) -> 39.77 | G11: =AVERAGE(F19:F84) -> 40.144815 | H11: 7 | I11: =G11-F11 -> 0.37481481 | J11: 0.093159722 | K11: =J11-J10 -> 0.026678241 | L11: =K11+L9 -> 0.056678241 | M11: 2:14.70
A12: 5 | B12: Шиленко Саша | C12: 4 | D12: =COUNTA(G19:G83)+D11+1 -> 223 | E12: =COUNTA(G19:G83)+1 -> 31 | F12: =MIN(G19:G84) -> 39.9 | G12: =AVERAGE(G19:G884) -> 40.259333 | H12: 6 | I12: =G12-F12 -> 0.35933333 | J12: 0.10868056 | K12: =J12-J11 -> 0.015520833 | L12: =K12+L10 -> 0.052002315 | M12: 2:15.23
A13: Финиш | B13: Шиленко Саша | C13: 12 | D13: =COUNTA(H19:H83)+D12+1 -> 257 | E13: =COUNTA(H19:H83)+1 -> 34 | F13: =MIN(H19:H84) -> 39.94 | G13: =AVERAGE(H19:H84) -> 40.284242 | H13: 4 | I13: =G13-F13 -> 0.34424242 | J13: ='Общие результаты'!G6 -> 03:00:08 | K13: =J13-J12 -> 0.016412037 | L13: =K13+L12 -> 0.068414352
F14: =AVERAGE(F8,F10,F12) -> 39.79 | G14: =AVERAGE(G8,G10,G12) -> 40.226195 | H14: Саша | I14: =AVERAGE(I8,I10,I12) -> 0.4361949
F15: =AVERAGE(F9,F11,F13) -> 39.85 | G15: =AVERAGE(G9,G11,G13) -> 40.224331 | H15: Денис | I15: =AVERAGE(I9,I11,I13) -> 0.37433056
F16: =AVERAGE(F8:F13) -> 39.82 | G16: =AVERAGE(C19:H90) -> 40.220437 | I16: =AVERAGE(I8:I13) -> 0.40526273
C18: =B8 -> Шиленко Саша | D18: =B9 -> Сомок Денис | E18: =B10 -> Шиленко Саша | F18: =B11 -> Сомок Денис | G18: =B12 -> Шиленко Саша | H18: =B13 -> Шиленко Саша
B19: 1 | C19: 42.51 | D19: 41.8 | E19: 42.16 | F19: 42.31 | G19: 41.75 | H19: 41.18
B20: 2 | C20: 42.03 | D20: 40.59 | E20: 40.15 | F20: 40.19 | G20: 40.02 | H20: 40.11
B21: 3 | C21: 40.59 | D21: 40.35 | E21: 40.16 | F21: 40.98 | G21: 40.64 | H21: 40
B22: 4 | C22: 40.18 | D22: 40.28 | E22: 40.21 | F22: 40.42 | G22: 40.73 | H22: 40.05
B23: 5 | C23: 41.06 | D23: 40.13 | E23: 40.55 | F23: 40.14 | G23: 40.89 | H23: 40.04
B24: 6 | C24: 40.01 | D24: 40.29 | E24: 39.9 | F24: 41.54 | G24: 40.3 | H24: 40.22
B25: 7 | C25: 40.11 | D25: 40.57 | E25: 40.01 | F25: 39.85 | G25: 40.16 | H25: 40.01
B26: 8 | C26: 40 | D26: 40.05 | E26: 40.13 | F26: 40.43 | G26: 39.96 | H26: 40.46
B27: 9 | C27: 39.9 | D27: 40.31 | E27: 40.09 | F27: 39.96 | G27: 41.03 | H27: 40.3
B28: 10 | C28: 39.98 | D28: 40.95 | E28: 40.58 | F28: 41.84 | G28: 40.47 | H28: 40.14
B29: 11 | C29: 39.79 | D29: 40.27 | E29: 40.18 | F29: 40 | G29: 39.91 | H29: 39.94
B30: 12 | C30: 40.09 | D30: 40.11 | E30: 40.23 | F30: 40.01 | G30: 40.4 | H30: 40.51
... B45: 27 | C45: 39.96 | D45: 40.1 | E45: 40.86 | F45: 39.86 | G45: 40.21 | H45: 40.07
B46: 28 | D46: 40.09 | E46: 39.78 | F46: 39.96 | G46: 40.07 | H46: 39.98
B47: 29 | D47: 40.4 | E47: 40.37 | F47: 39.92 | G47: 39.98 | H47: 40.19
B48: 30 | D48: 40.09 | E48: 40.28 | F48: 40.12 | G48: 39.93 | H48: 40.08
B49: 31 | D49: 40.05 | E49: 39.98 | F49: 40.08 | H49: 40.21
B50: 32 | D50: 40.39 | E50: 40.15 | F50: 40.19 | H50: 40.22
B51: 33 | D51: 40.35 | E51: 40.51 | F51: 39.89 | H51: 40.2
B52: 34 | D52: 40.18 | E52: 40.11 | F52: 39.77
B53: 35 | D53: 40.24 | E53: 40.6 | F53: 40.08
B54: 36 | D54: 40.14 | E54: 40.12 | F54: 39.77
B55: 37 | D55: 40.13 | E55: 40.42 | F55: 39.88
B56: 38 | D56: 40.15 | E56: 39.87 | F56: 39.85
B57: 39 | D57: 40.11 | E57: 39.8 | F57: 40
B58: 40 | D58: 40.2 | E58: 39.95 | F58: 39.92
...

Sheet Battle Master
