Workbook

Sheet Общие результаты
A1: Серия мини марафонов "Большие Гонки 2019", 7-й этап, 13.07.19
A2: Конфигурация № 9
A4: Место в гонке | B4: Команда | C4: № в гонке | D4: Квала | F4: Гонка | I4: Лучший круг в гонке
D5: Время | E5: Место | F5: Круги | G5: Время/от лидера | H5: От места выше | I5: Время | J5: На круге
A6: 1 | B6: K44 | C6: 10 | F6: 344 | G6: 4:00:05 | H6: - | I6: 39.47 | J6: 192
A7: 2 | B7: NFS Fortuna RT | C7: 3 | F7: 344 | G7: 7.51 | H7: =G7 -> 7.51 | I7: 39.55 | J7: 329
A8: 3 | B8: Kart Freedom | C8: 1 | F8: 344 | G8: 31.31 | H8: =G8-G7 -> 23.8 | I8: 39.65 | J8: 13
A9: 4 | B9: Hurricane | C9: 6 | F9: 344 | G9: 1 Круг | H9: 8.67 | I9: 39.6 | J9: 232
A10: 5 | B10: Kozaks | C10: 4 | F10: 343 | G10: 1 Круг | H10: 3.5 | I10: 39.55 | J10: 305
A11: 6 | B11: JustKart | C11: 2 | F11: 342 | G11: 2 Круга | H11: 1 круг | I11: 39.58 | J11: 78
A12: 7 | B12: Е-мое | C12: 11 | F12: 342 | G12: 2 Круга | H12: 12 | I12: 39.81 | J12: 187
A13: 8 | B13: Kart Freedom JT | C13: 8 | F13: 340 | G13: 4 Круга | H13: 1 круг | I13: 39.6 | J13: 152
A14: 9 | B14: NaCnudax | C14: 12 | F14: 340 | G14: 4 Круга | H14: 18.50 | I14: 39.67 | J14: 174
A15: 10 | B15: 50 grams | C15: 5 | F15: 339 | G15: 5 Кругов | H15: 14 | I15: 39.64 | J15: 285
A16: 11 | B16: F1UA | C16: 7 | F16: 338 | G16: 6 Кругов | H16: 1 круг | I16: 39.83 | J16: 121
A17: 12 | B17: Ягуар | C17: 9 | F17: 337 | G17: 7 Кругов | H17: 16.5 | I17: 39.71 | J17: 330
A18: 13

Sheet Регистрация
A1: Серия мини марафонов "Большие Гонки 2019", 7-й этап, 13.07.19
A3: Регистрационная форма
AF4: 4ч
A5: № в гонке | B5: Команда | C5: Пилот | D5: № | E5: Вес | F5: Бонус | G5: Квалификация | Z5: 3ч | AK5: 2 ел
G6: карт | H6: Время | I6: бонус | J6: Итого | K6: Среднее | L6: Место | M6: 3 | N6: бонусы за вес | Z6: 2 | AA6: 1 | AB6: кол | AC6: бон | AD6: 1 | AE6: 2 | AF6: бон | AG6: уч | AH6: кол> | AI6: 2 уч | AJ6: 3 уч
A7: 1 | B7: Kart Freedom | C7: Терещенко Андрей | D7: 1-1 | E7: 90.3 | F7: 24 | G7: 21 | H7: 40.06 | I7: =IF(E7<84.9,0,IF(E7<87.4,0.1,IF(E7<89.9,0.15,IF(E7<92.4,0.2,IF(E7<94.9,0.25,IF(E7<97.4,0.3,IF(E7<99.9,0.35,0.4))))))) -> 0.2 | J7: =H7-I7 -> 39.86 | K7: =AVERAGE(J7:J8) -> 39.85 | L7: =RANK(K7,K7:K51,1) -> 5 | M7: кв | N7: 0.05 | O7: 0.1 | P7: 0.15 | Q7: 0.2 | R7: 0.25 | S7: 0.3 | T7: 0.35 | U7: =N7*8 -> 0.4 | Z7: =AVERAGE(E7:E8) -> 86.3 | AA7: =IF(E7>84.9,E7,E8) -> 90.3 | AB7: =COUNTIF(E7:E9,">84.9") -> 1 | AC7: =IF(AB7=1,AD7,AE7) -> 18 | AD7: =IF(AA7<84.9,0,IF(AA7<87.4,9,IF(AA7<89.9,13.5,IF(AA7<92.4,18,IF(AA7<94.9,22.5,IF(AA7<97.4,27,IF(AA7<99.9,31.5,36))))))) -> 18 | AE7: =IF(Z7<84.9,0,IF(Z7<87.4,18,IF(Z7<89.9,27,IF(Z7<92.4,36,IF(Z7<94.9,45,IF(Z7<97.4,54,IF(Z7<99.9,63,72))))))) -> 18 | AF7: =IF(AG7=2,AI7,AJ7) -> 0 | AG7: =COUNTIF(E7:E9,">1") -> 2 | AH7: =COUNTIF(E7:E9,">84.9") -> 1 | AI7: =IF(AH7=1,AK7,AL7) -> 0 | AJ7: 4
C8: Паненко Женя | D8: 1-2 | E8: 82.3 | G8: 44 | H8: 39.84 | I8: =IF(E8<84.9,0,IF(E8<87.4,0.1,IF(E8<89.9,0.15,IF(E8<92.4,0.2,IF(E8<94.9,0.25,IF(E8<97.4,0.3,IF(E8<99.9,0.35,0.4))))))) -> 0 | J8: =H8-I8 -> 39.84 | M8: 3 часа | N8: =1.5*3 -> 4.5 | O8: =1.5*3*2 -> 9 | P8: =1.5*3*3 -> 13.5 | Q8: =1.5*3*4 -> 18 | R8: =1.5*3*5 -> 22.5 | S8: =1.5*3*6 -> 27 | T8: =1.5*3*7 -> 31.5 | U8: =1.5*3*8 -> 36 | V8: 1 пилот
D9: 1-3 | I9: =IF(E9<84.9,0,IF(E9<87.4,0.1,IF(E9<89.9,0.15,IF(E9<92.4,0.2,IF(E9<94.9,0.25,IF(E9<97.4,0.3,IF(E9<99.9,0.35,0.4))))))) -> 0 | J9: =H9-I9 -> 0 | N9: =3*3 -> 9 | O9: =3*3*2 -> 18 | P9: =3*3*3 -> 27 | Q9: =3*3*4 -> 36 | R9: =3*3*5 -> 45 | S9: =3*3*6 -> 54 | T9: =3*3*7 -> 63 | U9: =3*3*8 -> 72 | V9: 2 пилота
A10: 2 | B10: JustKart | C10: Шиленко Саша | D10: 2-1 | E10: 83 | G10: 69 | H10: 39.89 | I10: =IF(E10<84.9,0,IF(E10<87.4,0.1,IF(E10<89.9,0.15,IF(E10<92.4,0.2,IF(E10<94.9,0.25,IF(E10<97.4,0.3,IF(E10<99.9,0.35,0.4))))))) -> 0 | J10: =H10-I10 -> 39.89 | K10: =AVERAGE(J10:J11) -> 40.1 | L10: =RANK(K10,K7:K51,1) -> 8 | M10: вес | N10: 82.5 | O10: 85 | P10: 87.5 | Q10: 90 | R10: 92.5 | S10: 95 | T10: 97.5 | U10: 100 | Z10: =AVERAGE(E10:E11) -> 78.35 | AA10: =IF(E10>84.9,E10,E11) -> 73.7 | AB10: =COUNTIF(E10:E12,">84.9") -> 0 | AC10: =IF(AB10=1,AD10,AE10) -> 0 | AD10: =IF(AA10<84.9,0,IF(AA10<87.4,9,IF(AA10<89.9,13.5,IF(AA10<92.4,18,IF(AA10<94.9,22.5,IF(AA10<97.4,27,IF(AA10<99.9,31.5,36))))))) -> 0 | AE10: =IF(Z10<84.9,0,IF(Z10<87.4,18,IF(Z10<89.9,27,IF(Z10<92.4,36,IF(Z10<94.9,45,IF(Z10<97.4,54,IF(Z10<99.9,63,72))))))) -> 0 | AF10: =IF(AG10=2,AI10,AJ10) -> 0 | AG10: =COUNTIF(E10:E12,">1") -> 2 | AH10: =COUNTIF(E10:E12,">84.9") -> 0
C11: Соколан Артем | D11: 2-2 | E11: 73.7 | G11: 44 | H11: 40.31 | I11: =IF(E11<84.9,0,IF(E11<87.4,0.1,IF(E11<89.9,0.15,IF(E11<92.4,0.2,IF(E11<94.9,0.25,IF(E11<97.4,0.3,IF(E11<99.9,0.35,0.4))))))) -> 0 | J11: =H11-I11 -> 40.31 | M11: 4 часа | N11: =1.5*4 -> 6 | O11: =1.5*4*2 -> 12 | P11: =1.5*4*3 -> 18 | Q11: =1.5*4*4 -> 24 | R11: =1.5*4*5 -> 30 | S11: =1.5*4*6 -> 36 | T11: =1.5*4*7 -> 42 | U11: =1.5*4*8 -> 48 | V11: 1 пилот | W11: 2 участника в команде
D12: 2-3 | I12: =IF(E12<84.9,0,IF(E12<87.4,0.1,IF(E12<89.9,0.15,IF(E12<92.4,0.2,IF(E12<94.9,0.25,IF(E12<97.4,0.3,IF(E12<99.9,0.35,0.4))))))) -> 0 | J12: =H12-I12 -> 0 | N12: =3*4 -> 12 | O12: =3*4*2 -> 24 | P12: =3*4*3 -> 36 | Q12: =3*4*4 -> 48 | R12: =3*4*5 -> 60 | S12: =3*4*6 -> 72 | T12: =3*4*7 -> 84 | U12: =3*4*8 -> 96 | V12: 2 пилота
A13: 3 | B13: NFS Fortuna RT | C13: Фортуна Таня | D13: 3-1 | E13: 67.9 | G13: 2 | H13: 39.92 | I13: =IF(E13<84.9,0,IF(E13<87.4,0.1,IF(E13<89.9,0.15,IF(E13<92.4,0.2,IF(E13<94.9,0.25,IF(E13<97.4,0.3,IF(E13<99.9,0.35,0.4))))))) -> 0 | J13: =H13-I13 -> 39.92 | K13: =AVERAGE(J13:J14) -> 39.805 | L13: =RANK(K13,K7:K51,1) -> 2 | N13: =1*4 -> 4 | O13: =1*4*2 -> 8 | P13: =1*4*3 -> 12 | Q13: =1*4*4 -> 16 | R13: =1*4*5 -> 20 | S13: =1*4*6 -> 24 | T13: =1*4*7 -> 28 | U13: =1*4*8 -> 32 | V13: 1 пилот | W13: 3 участника в команде | Z13: =AVERAGE(E13:E14) -> 74.45 | AA13: =IF(E13>84.9,E13,E14) -> 81 | AB13: =COUNTIF(E13:E15,">84.9") -> 0 | AC13: =IF(AB13=1,AD13,AE13) -> 0 | AD13: =IF(AA13<84.9,0,IF(AA13<87.4,9,IF(AA13<89.9,13.5,IF(AA13<92.4,18,IF(AA13<94.9,22.5,IF(AA13<97.4,27,IF(AA13<99.9,31.5,36))))))) -> 0 | AE13: =IF(Z13<84.9,0,IF(Z13<87.4,18,IF(Z13<89.9,27,IF(Z13<92.4,36,IF(Z13<94.9,45,IF(Z13<97.4,54,IF(Z13<99.9,63,72))))))) -> 0 | AF13: =IF(AG13=2,AI13,AJ13) -> 0 | AG13: =COUNTIF(E13:E15,">1") -> 2 | AH13: =COUNTIF(E13:E15,">84.9") -> 0
C14: Шутка Виталий | D14: 3-2 | E14: 81 | G14: 1 | H14: 39.69 | I14: =IF(E14<84.9,0,IF(E14<87.4,0.1,IF(E14<89.9,0.15,IF(E14<92.4,0.2,IF(E14<94.9,0.25,IF(E14<97.4,0.3,IF(E14<99.9,0.35,0.4))))))) -> 0 | J14: =H14-I14 -> 39.69 | N14: =2*4 -> 8 | O14: =2*4*2 -> 16 | P14: =2*4*3 -> 24 | Q14: =2*4*4 -> 32 | R14: =2*4*5 -> 40 | S14: =2*4*6 -> 48 | T14: =2*4*7 -> 56 | U14: =2*4*8 -> 64 | V14: 2 пилота
D15: 3-3 | I15: =IF(E15<84.9,0,IF(E15<87.4,0.1,IF(E15<89.9,0.15,IF(E15<92.4,0.2,IF(E15<94.9,0.25,IF(E15<97.4,0.3,IF(E15<99.9,0.35,0.4))))))) -> 0 | J15: =H15-I15 -> 0 | N15: =3*4 -> 12 | O15: =3*4*2 -> 24 | P15: =3*4*3 -> 36 | Q15: =3*4*4 -> 48 | R15: =3*4*5 -> 60 | S15: =3*4*6 -> 72 | T15: =3*4*7 -> 84 | U15: =3*4*8 -> 96 | V15: 3 пилота
A16: 4 | B16: Kozaks | C16: Голубченко Саша | D16: 4-1 | E16: 85.2 | F16: 12 | G16: 3 | H16: 39.92 | I16: =IF(E16<84.9,0,IF(E16<87.4,0.1,IF(E16<89.9,0.15,IF(E16<92.4,0.2,IF(E16<94.9,0.25,IF(E16<97.4,0.3,IF(E16<99.9,0.35,0.4))))))) -> 0.1 | J16: =H16-I16 -> 39.82 | K16: =AVERAGE(J16:J17) -> 39.885 | L16: =RANK(K16,K7:K51,1) -> 6 | Z16: =AVERAGE(E16:E17) -> 81 | AA16: =IF(E16>84.9,E16,E17) -> 85.2 | AB16: =COUNTIF(E16:E18,">84.9") -> 1 | AC16: =IF(AB16=1,AD16,AE16) -> 9 | AD16: =IF(AA16<84.9,0,IF(AA16<87.4,9,IF(AA16<89.9,13.5,IF(AA16<92.4,18,IF(AA16<94.9,22.5,IF(AA16<97.4,27,IF(AA16<99.9,31.5,36))))))) -> 9 | AE16: =IF(Z16<84.9,0,IF(Z16<87.4,18,IF(Z16<89.9,27,IF(Z16<92.4,36,IF(Z16<94.9,45,IF(Z16<97.4,54,IF(Z16<99.9,63,72))))))) -> 0 | AF16: =IF(AG16=2,AI16,AJ16) -> 0 | AG16: =COUNTIF(E16:E18,">1") -> 2 | AH16: =COUNTIF(E16:E18,">84.9") -> 1
C17: Ткаченко Кирилл | D17: 4-2 | E17: 76.8 | G17: 2 | H17: 39.95 | I17: =IF(E17<84.9,0,IF(E17<87.4,0.1,IF(E17<89.9,0.15,IF(E17<92.4,0.2,IF(E17<94.9,0.25,IF(E17<97.4,0.3,IF(E17<99.9,0.35,0.4))))))) -> 0 | J17: =H17-I17 -> 39.95 | AF17: =IF(AG17=2,AI17,AJ17) -> 0 | AG17: =COUNTIF(E17:E19,">1") -> 2 | AH17: =COUNTIF(E17:E19,">84.9") -> 0
D18: 4-3 | I18: =IF(E18<84.9,0,IF(E18<87.4,0.1,IF(E18<89.9,0.15,IF(E18<92.4,0.2,IF(E18<94.9,0.25,IF(E18<97.4,0.3,IF(E18<99.9,0.35,0.4))))))) -> 0 | J18: =H18-I18 -> 0 | AF18: =IF(AG18=2,AI18,AJ18) -> 0 | AG18: =COUNTIF(E18:E20,">1") -> 2 | AH18: =COUNTIF(E18:E20,">84.9") -> 0
A19: 5 | B19: 50 grams | C19: Сомок Денис | D19: 5-1 | E19: 75.4 | G19: 3 | H19: 39.83 | I19: =IF(E19<84.9,0,IF(E19<87.4,0.1,IF(E19<89.9,0.15,IF(E19<92.4,0.2,IF(E19<94.9,0.25,IF(E19<97.4,0.3,IF(E19<99.9,0.35,0.4))))))) -> 0 | J19: =H19-I19 -> 39.83 | K19: =AVERAGE(J19:J20) -> 40.445 | L19: =RANK(K19,K7:K51,1) -> 12 | Z19: =AVERAGE(E19:E20) -> 74.55 | AA19: =IF(E19>84.9,E19,E20) -> 73.7 | AB19: =COUNTIF(E19:E21,">84.9") -> 0 | AC19: =IF(AB19=1,AD19,AE19) -> 0 | AD19: =IF(AA19<84.9,0,IF(AA19<87.4,9,IF(AA19<89.9,13.5,IF(AA19<92.4,18,IF(AA19<94.9,22.5,IF(AA19<97.4,27,IF(AA19<99.9,31.5,36))))))) -> 0 | AE19: =IF(Z19<84.9,0,IF(Z19<87.4,18,IF(Z19<89.9,27,IF(Z19<92.4,36,IF(Z19<94.9,45,IF(Z19<97.4,54,IF(Z19<99.9,63,72))))))) -> 0 | AF19: =IF(AG19=2,AI19,AJ19) -> 0 | AG19: =COUNTIF(E19:E21,">1") -> 2 | AH19: =COUNTIF(E19:E21,">84.9") -> 0
C20: Морозенко Сергей | D20: 5-2 | E20: 73.7 | G20: 4 | H20: 41.06 | I20: =IF(E20<84.9,0,IF(E20<87.4,0.1,IF(E20<89.9,0.15,IF(E20<92.4,0.2,IF(E20<94.9,0.25,IF(E20<97.4,0.3,IF(E20<99.9,0.35,0.4))))))) -> 0 | J20: =H20-I20 -> 41.06 | AF20: =IF(AG20=2,AI20,AJ20) -> 0 | AG20: =COUNTIF(E20:E22,">1") -> 2 | AH20: =COUNTIF(E20:E22,">84.9") -> 0
D21: 5-3 | I21: =IF(E21<84.9,0,IF(E21<87.4,0.1,IF(E21<89.9,0.15,IF(E21<92.4,0.2,IF(E21<94.9,0.25,IF(E21<97.4,0.3,IF(E21<99.9,0.35,0.4))))))) -> 0 | J21: =H21-I21 -> 0 | AF21: =IF(AG21=2,AI21,AJ21) -> 0 | AG21: =COUNTIF(E21:E23,">1") -> 2 | AH21: =COUNTIF(E21:E23,">84.9") -> 0
A22: 6 | B22: Hurricane | C22: Стоцкий Андрей | D22: 6-1 | E22: 62.5 | G22: 5 | H22: 39.98 | I22: =IF(E22<84.9,0,IF(E22<87.4,0.1,IF(E22<89.9,0.15,IF(E22<92.4,0.2,IF(E22<94.9,0.25,IF(E22<97.4,0.3,IF(E22<99.9,0.35,0.4))))))) -> 0 | J22: =H22-I22 -> 39.98 | K22: =AVERAGE(J22:J23) -> 39.84 | L22: =RANK(K22,K7:K51,1) -> 4 | Z22: =AVERAGE(E22:E23) -> 66.65 | AA22: =IF(E22>84.9,E22,E23) -> 70.8 | AB22: =COUNTIF(E22:E24,">84.9") -> 0 | AC22: =IF(AB22=1,AD22,AE22) -> 0 | AD22: =IF(AA22<84.9,0,IF(AA22<87.4,9,IF(AA22<89.9,13.5,IF(AA22<92.4,18,IF(AA22<94.9,22.5,IF(AA22<97.4,27,IF(AA22<99.9,31.5,36))))))) -> 0 | AE22: =IF(Z22<84.9,0,IF(Z22<87.4,18,IF(Z22<89.9,27,IF(Z22<92.4,36,IF(Z22<94.9,45,IF(Z22<97.4,54,IF(Z22<99.9,63,72))))))) -> 0 | AF22: =IF(AG22=2,AI22,AJ22) -> 0 | AG22: =COUNTIF(E22:E24,">1") -> 2 | AH22: =COUNTIF(E22:E24,">84.9") -> 0
C23: Гаврилюк Олег | D23: 6-2 | E23: 70.8 | G23: 4 | H23: 39.7 | I23: =IF(E23<84.9,0,IF(E23<87.4,0.1,IF(E23<89.9,0.15,IF(E23<92.4,0.2,IF(E23<94.9,0.25,IF(E23<97.4,0.3,IF(E23<99.9,0.35,0.4))))))) -> 0 | J23: =H23-I23 -> 39.7 | AF23: =IF(AG23=2,AI23,AJ23) -> 0 | AG23: =COUNTIF(E23:E25,">1") -> 2 | AH23: =COUNTIF(E23:E25,">84.9") -> 0
D24: 6-3 | I24: =IF(E24<84.9,0,IF(E24<87.4,0.1,IF(E24<89.9,0.15,IF(E24<92.4,0.2,IF(E24<94.9,0.25,IF(E24<97.4,0.3,IF(E24<99.9,0.35,0.4))))))) -> 0 | J24: =H24-I24 -> 0 | AF24: =IF(AG24=2,AI24,AJ24) -> 0 | AG24: =COUNTIF(E24:E26,">1") -> 2 | AH24: =COUNTIF(E24:E26,">84.9") -> 0
A25: 7 | B25: F1UA | C25: Гончаров Рома | D25: 7-1 | E25: 67 | G25: 5 | H25: 40.35 | I25: =IF(E25<84.9,0,IF(E25<87.4,0.1,IF(E25<89.9,0.15,IF(E25<92.4,0.2,IF(E25<94.9,0.25,IF(E25<97.4,0.3,IF(E25<99.9,0.35,0.4))))))) -> 0 | J25: =H25-I25 -> 40.35 | K25: =AVERAGE(J25:J26) -> 40.2 | L25: =RANK(K25,K7:K51,1) -> 9 | Z25: =AVERAGE(E25:E26) -> 70 | AA25: =IF(E25>84.9,E25,E26) -> 73 | AB25: =COUNTIF(E25:E27,">84.9") -> 0 | AC25: =IF(AB25=1,AD25,AE25) -> 0 | AD25: =IF(AA25<84.9,0,IF(AA25<87.4,9,IF(AA25<89.9,13.5,IF(AA25<92.4,18,IF(AA25<94.9,22.5,IF(AA25<97.4,27,IF(AA25<99.9,31.5,36))))))) -> 0 | AE25: =IF(Z25<84.9,0,IF(Z25<87.4,18,IF(Z25<89.9,27,IF(Z25<92.4,36,IF(Z25<94.9,45,IF(Z25<97.4,54,IF(Z25<99.9,63,72))))))) -> 0 | AF25: =IF(AG25=2,AI25,AJ25) -> 0 | AG25: =COUNTIF(E25:E27,">1") -> 2 | AH25: =COUNTIF(E25:E27,">84.9") -> 0
C26: Якусик Дима | D26: 7-2 | E26: 73 | G26: 6 | H26: 40.05 | I26: =IF(E26<84.9,0,IF(E26<87.4,0.1,IF(E26<89.9,0.15,IF(E26<92.4,0.2,IF(E26<94.9,0.25,IF(E26<97.4,0.3,IF(E26<99.9,0.35,0.4))))))) -> 0 | J26: =H26-I26 -> 40.05 | AF26: =IF(AG26=2,AI26,AJ26) -> 0 | AG26: =COUNTIF(E26:E28,">1") -> 2 | AH26: =COUNTIF(E26:E28,">84.9") -> 0
D27: 7-3 | I27: =IF(E27<84.9,0,IF(E27<87.4,0.1,IF(E27<89.9,0.15,IF(E27<92.4,0.2,IF(E27<94.9,0.25,IF(E27<97.4,0.3,IF(E27<99.9,0.35,0.4))))))) -> 0 | J27: =H27-I27 -> 0 | AF27: =IF(AG27=2,AI27,AJ27) -> 0 | AG27: =COUNTIF(E27:E29,">1") -> 2 | AH27: =COUNTIF(E27:E29,">84.9") -> 0
A28: 8 | B28: Kart Freedom GT | C28: Новиков Герман | D28: 8-1 | E28: 55 | G28: 6 | H28: 39.72 | I28: =IF(E28<84.9,0,IF(E28<87.4,0.1,IF(E28<89.9,0.15,IF(E28<92.4,0.2,IF(E28<94.9,0.25,IF(E28<97.4,0.3,IF(E28<99.9,0.35,0.4))))))) -> 0 | J28: =H28-I28 -> 39.72 | K28: =AVERAGE(J28:J29) -> 39.82 | L28: =RANK(K28,K7:K51,1) -> 3 | Z28: =AVERAGE(E28:E29) -> 54.5 | AA28: =IF(E28>84.9,E28,E29) -> 54 | AB28: =COUNTIF(E28:E30,">84.9") -> 0 | AC28: =IF(AB28=1,AD28,AE28) -> 0 | AD28: =IF(AA28<84.9,0,IF(AA28<87.4,9,IF(AA28<89.9,13.5,IF(AA28<92.4,18,IF(AA28<94.9,22.5,IF(AA28<97.4,27,IF(AA28<99.9,31.5,36))))))) -> 0 | AE28: =IF(Z28<84.9,0,IF(Z28<87.4,18,IF(Z28<89.9,27,IF(Z28<92.4,36,IF(Z28<94.9,45,IF(Z28<97.4,54,IF(Z28<99.9,63,72))))))) -> 0 | AF28: =IF(AG28=2,AI28,AJ28) -> 0 | AG28: =COUNTIF(E28:E30,">1") -> 2 | AH28: =COUNTIF(E28:E30,">84.9") -> 0
C29: Медведева Даша | D29: 8-2 | E29: 54 | G29: 7 | H29: 39.92 | I29: =IF(E29<84.9,0,IF(E29<87.4,0.1,IF(E29<89.9,0.15,IF(E29<92.4,0.2,IF(E29<94.9,0.25,IF(E29<97.4,0.3,IF(E29<99.9,0.35,0.4))))))) -> 0 | J29: =H29-I29 -> 39.92 | AF29: =IF(AG29=2,AI29,AJ29) -> 0 | AG29: =COUNTIF(E29:E31,">1") -> 2 | AH29: =COUNTIF(E29:E31,">84.9") -> 0
D30: 8-3 | I30: =IF(E30<84.9,0,IF(E30<87.4,0.1,IF(E30<89.9,0.15,IF(E30<92.4,0.2,IF(E30<94.9,0.25,IF(E30<97.4,0.3,IF(E30<99.9,0.35,0.4))))))) -> 0 | J30: =H30-I30 -> 0 | AF30: =IF(AG30=2,AI30,AJ30) -> 0 | AG30: =COUNTIF(E30:E32,">1") -> 2 | AH30: =COUNTIF(E30:E32,">84.9") -> 0
A31: 9 | B31: Ягуар | C31: Лихошерст Алексей | D31: 9-1 | E31: 70.4 | G31: 9 | H31: 40.08 | I31: =IF(E31<84.9,0,IF(E31<87.4,0.1,IF(E31<89.9,0.15,IF(E31<92.4,0.2,IF(E31<94.9,0.25,IF(E31<97.4,0.3,IF(E31<99.9,0.35,0.4))))))) -> 0 | J31: =H31-I31 -> 40.08 | K31: =AVERAGE(J31:J32) -> 40.275 | L31: =RANK(K31,K7:K51,1) -> 10 | Z31: =AVERAGE(E31:E32) -> 73.3 | AA31: =IF(E31>84.9,E31,E32) -> 76.2 | AB31: =COUNTIF(E31:E33,">84.9") -> 0 | AC31: =IF(AB31=1,AD31,AE31) -> 0 | AD31: =IF(AA31<84.9,0,IF(AA31<87.4,9,IF(AA31<89.9,13.5,IF(AA31<92.4,18,IF(AA31<94.9,22.5,IF(AA31<97.4,27,IF(AA31<99.9,31.5,36))))))) -> 0 | AE31: =IF(Z31<84.9,0,IF(Z31<87.4,18,IF(Z31<89.9,27,IF(Z31<92.4,36,IF(Z31<94.9,45,IF(Z31<97.4,54,IF(Z31<99.9,63,72))))))) -> 0 | AF31: =IF(AG31=2,AI31,AJ31) -> 0 | AG31: =COUNTIF(E31:E33,">1") -> 2 | AH31: =COUNTIF(E31:E33,">84.9") -> 0
C32: Якусик Саша | D32: 9-2 | E32: 76.2 | G32: 8 | H32: 40.47 | I32: =IF(E32<84.9,0,IF(E32<87.4,0.1,IF(E32<89.9,0.15,IF(E32<92.4,0.2,IF(E32<94.9,0.25,IF(E32<97.4,0.3,IF(E32<99.9,0.35,0.4))))))) -> 0 | J32: =H32-I32 -> 40.47 | AF32: =IF(AG32=2,AI32,AJ32) -> 0 | AG32: =COUNTIF(E32:E34,">1") -> 2 | AH32: =COUNTIF(E32:E34,">84.9") -> 0
C33: Карлюк Марина | D33: 9-3 | I33: =IF(E33<84.9,0,IF(E33<87.4,0.1,IF(E33<89.9,0.15,IF(E33<92.4,0.2,IF(E33<94.9,0.25,IF(E33<97.4,0.3,IF(E33<99.9,0.35,0.4))))))) -> 0 | J33: =H33-I33 -> 0 | AF33: =IF(AG33=2,AI33,AJ33) -> 0 | AG33: =COUNTIF(E33:E35,">1") -> 1 | AH33: =COUNTIF(E33:E35,">84.9") -> 0
A34: 10 | B34: К44 | C34: Петушков Андрей | D34: 10-1 | E34: 77.5 | G34: 9 | H34: 39.85 | I34: =IF(E34<84.9,0,IF(E34<87.4,0.1,IF(E34<89.9,0.15,IF(E34<92.4,0.2,IF(E34<94.9,0.25,IF(E34<97.4,0.3,IF(E34<99.9,0.35,0.4))))))) -> 0 | J34: =H34-I34 -> 39.85 | K34: =AVERAGE(J34:J35) -> 39.665 | L34: =RANK(K34,K7:K51,1) -> 1 | Z34: =AVERAGE(E34:E35) -> 77.5 | AA34: =IF(E34>84.9,E34,E35) -> 0 | AB34: =COUNTIF(E34:E36,">84.9") -> 0 | AC34: =IF(AB34=1,AD34,AE34) -> 0 | AD34: =IF(AA34<84.9,0,IF(AA34<87.4,9,IF(AA34<89.9,13.5,IF(AA34<92.4,18,IF(AA34<94.9,22.5,IF(AA34<97.4,27,IF(AA34<99.9,31.5,36))))))) -> 0 | AE34: =IF(Z34<84.9,0,IF(Z34<87.4,18,IF(Z34<89.9,27,IF(Z34<92.4,36,IF(Z34<94.9,45,IF(Z34<97.4,54,IF(Z34<99.9,63,72))))))) -> 0 | AF34: =IF(AG34=2,AI34,AJ34) -> 0 | AG34: =COUNTIF(E34:E36,">1") -> 1 | AH34: =COUNTIF(E34:E36,">84.9") -> 0
C35: Мифтахутдинов Ильяс | D35: 10.2 | G35: 10 | H35: 39.48 | I35: =IF(E35<84.9,0,IF(E35<87.4,0.1,IF(E35<89.9,0.15,IF(E35<92.4,0.2,IF(E35<94.9,0.25,IF(E35<97.4,0.3,IF(E35<99.9,0.35,0.4))))))) -> 0 | J35: =H35-I35 -> 39.48 | AF35: =IF(AG35=2,AI35,AJ35) -> 0 | AG35: =COUNTIF(E35:E37,">1") -> 0 | AH35: =COUNTIF(E35:E37,">84.9") -> 0
D36: 10-3 | I36: =IF(E36<84.9,0,IF(E36<87.4,0.1,IF(E36<89.9,0.15,IF(E36<92.4,0.2,IF(E36<94.9,0.25,IF(E36<97.4,0.3,IF(E36<99.9,0.35,0.4))))))) -> 0 | J36: =H36-I36 -> 0 | AF36: =IF(AG36=2,AI36,AJ36) -> 0 | AG36: =COUNTIF(E36:E38,">1") -> 1 | AH36: =COUNTIF(E36:E38,">84.9") -> 0
A37: 11 | B37: E-мое | C37: Лабинский Ниеолай | D37: 11-1 | E37: 95.8 | F37: 36 | G37: 10 | H37: 40.39 | I37: =IF(E37<84.9,0,IF(E37<87.4,0.1,IF(E37<89.9,0.15,IF(E37<92.4,0.2,IF(E37<94.9,0.25,IF(E37<97.4,0.3,IF(E37<99.9,0.35,0.4))))))) -> 0.4 | J37: =H37-I37 -> 39.99 | K37: =AVERAGE(J37:J38) -> 40.06 | L37: =RANK(K37,K7:K51,1) -> 7 | Z37: =AVERAGE(E37:E38) -> 75.2 | AA37: =IF(E37>84.9,E37,E38) -> 95.8 | AB37: =COUNTIF(E37:E39,">84.9") -> 0 | AC37: =IF(AB37=1,AD37,AE37) -> 0 | AD37: =IF(AA37<84.9,0,IF(AA37<87.4,9,IF(AA37<89.9,13.5,IF(AA37<92.4,18,IF(AA37<94.9,22.5,IF(AA37<97.4,27,IF(AA37<99.9,31.5,36))))))) -> 36 | AE37: =IF(Z37<84.9,0,IF(Z37<87.4,18,IF(Z37<89.9,27,IF(Z37<92.4,36,IF(Z37<94.9,45,IF(Z37<97.4,54,IF(Z37<99.9,63,72))))))) -> 0 | AF37: =IF(AG37=2,AI37,AJ37) -> 0 | AG37: =COUNTIF(E37:E39,">1") -> 1 | AH37: =COUNTIF(E37:E39,">84.9") -> 0
C38: Таволжан Виталий | D38: 11-2 | E38: 75.2 | G38: 11 | H38: 40.13 | I38: =IF(E38<84.9,0,IF(E38<87.4,0.1,IF(E38<89.9,0.15,IF(E38<92.4,0.2,IF(E38<94.9,0.25,IF(E38<97.4,0.3,IF(E38<99.9,0.35,0.4))))))) -> 0 | J38: =H38-I38 -> 40.13 | AF38: =IF(AG38=2,AI38,AJ38) -> 0 | AG38: =COUNTIF(E38:E40,">1") -> 2 | AH38: =COUNTIF(E38:E40,">84.9") -> 0
D39: 11-3 | I39: =IF(E39<84.9,0,IF(E39<87.4,0.1,IF(E39<89.9,0.15,IF(E39<92.4,0.2,IF(E39<94.9,0.25,IF(E39<97.4,0.3,IF(E39<99.9,0.35,0.4))))))) -> 0 | J39: =H39-I39 -> 0 | AF39: =IF(AG39=2,AI39,AJ39) -> 0 | AG39: =COUNTIF(E39:E41,">1") -> 2 | AH39: =COUNTIF(E39:E41,">84.9") -> 0
A40: 12 | B40: NaCnudax | C40: Голуб Сергей | D40: 12-1 | E40: 7 | G40: 11 | H40: 40.35 | I40: =IF(E40<84.9,0,IF(E40<87.4,0.1,IF(E40<89.9,0.15,IF(E40<92.4,0.2,IF(E40<94.9,0.25,IF(E40<97.4,0.3,IF(E40<99.9,0.35,0.4))))))) -> 0 | J40: =H40-I40 -> 40.35 | K40: =AVERAGE(J40:J41) -> 40.315 | L40: =RANK(K40,K7:K51,1) -> 11 | Z40: =AVERAGE(E40:E41) -> 44 | AA40: =IF(E40>84.9,E40,E41) -> 81 | AB40: =COUNTIF(E40:E42,">84.9") -> 0 | AC40: =IF(AB40=1,AD40,AE40) -> 0 | AD40: =IF(AA40<84.9,0,IF(AA40<87.4,9,IF(AA40<89.9,13.5,IF(AA40<92.4,18,IF(AA40<94.9,22.5,IF(AA40<97.4,27,IF(AA40<99.9,31.5,36))))))) -> 0 | AE40: =IF(Z40<84.9,0,IF(Z40<87.4,18,IF(Z40<89.9,27,IF(Z40<92.4,36,IF(Z40<94.9,45,IF(Z40<97.4,54,IF(Z40<99.9,63,72))))))) -> 0 | AF40: =IF(AG40=2,AI40,AJ40) -> 0 | AG40: =COUNTIF(E40:E42,">1") -> 2 | AH40: =COUNTIF(E40:E42,">84.9") -> 0
C41: Харченко Артем | D41: 12-2 | E41: 81 | G41: 13 | H41: 40.28 | I41: =IF(E41<84.9,0,IF(E41<87.4,0.1,IF(E41<89.9,0.15,IF(E41<92.4,0.2,IF(E41<94.9,0.25,IF(E41<97.4,0.3,IF(E41<99.9,0.35,0.4))))))) -> 0 | J41: =H41-I41 -> 40.28 | AF41: =IF(AG41=2,AI41,AJ41) -> 0 | AG41: =COUNTIF(E41:E43,">1") -> 1 | AH41: =COUNTIF(E41:E43,">84.9") -> 0
...

Sheet К44
A2: Чемпионат мини марафон "Большие Гонки", 7-й этап
A4: К44
A6: Обяза-тельные | B6: Пилот | C6: карт | D6: Круг | E6: кругов на отрезке | F6: Статистика по кругам | J6: Общее время гонки | K6: Время на трассе
F7: Лучший круг | G7: Среднее на отрезке | H7: Кругов в 0,1 от лучшего | I7: стабильность | K7: отрезок | L7: всего у пилота | M7: Питы | N7: Штрафы/ бонусы (сек)
A8: 1 | B8: Петушков Андрей | C8: 11 | D8: =COUNTA(C21:C85) -> 31 | E8: =COUNTA(C21:C85) -> 31 | F8: =MIN(C21:C84) -> 39.83 | G8: =AVERAGE(C21:C87) -> 40.264839 | H8: 5 | I8: =G8-F8 -> 0.43483871 | J8: 0.014479167 | K8: =J8 -> 0.014479167 | L8: =K8 -> 0.014479167 | M8: 2:16.74
A9: 2 | B9: Мифтахутдинов Ильяс | C9: 13 | D9: =COUNTA(D21:D85)+D8+1 -> 51 | E9: =COUNTA(D21:D85)+1 -> 20 | F9: =MIN(D21:D84) -> 39.91 | G9: =AVERAGE(D21:D86) -> 40.176842 | H9: 2 | I9: =G9-F9 -> 0.26684211 | J9: 0.024895833 | K9: =J9-J8 -> 0.010416667 | L9: =K9 -> 0.010416667 | M9: 2:15.94
A10: 3 | B10: Петушков Андрей | C10: 4 | D10: =COUNTA(E21:E85)+D9+1 -> 106 | E10: =COUNTA(E21:E85)+1 -> 55 | F10: =MIN(E21:E86) -> 39.57 | G10: =AVERAGE(E21:E87) -> 39.811296 | H10: 11 | I10: =G10-F10 -> 0.2412963 | J10: 0.051354167 | K10: =J10-J9 -> 0.026458333 | L10: =K10+L8 -> 0.0409375 | M10: 2:16.85
A11: 4 | B11: Мифтахутдинов Ильяс | C11: 8 | D11: =COUNTA(F21:F85)+D10+1 -> 171 | E11: =COUNTA(F21:F85)+1 -> 65 | F11: =MIN(F21:F86) -> 39.49 | G11: =AVERAGE(F21:F86) -> 39.814688 | H11: 4 | I11: =G11-F11 -> 0.3246875 | J11: 0.082430556 | K11: =J11-J10 -> 0.031076389 | L11: =K11+L9 -> 0.041493056 | M11: 2:14.89
A12: 5 | B12: Петушков Андрей | C12: 7 | D12: =COUNTA(G21:G85)+D11+1 -> 234 | E12: =COUNTA(G21:G85)+1 -> 63 | F12: =MIN(G21:G86) -> 39.47 | G12: =AVERAGE(G21:G886) -> 39.755323 | H12: 5 | I12: =G12-F12 -> 0.28532258 | J12: 0.11252315 | K12: =J12-J11 -> 0.030092593 | L12: =K12+L10 -> 0.071030093 | M12: 2:16.17
A13: 6 | B13: Мифтахутдинов Ильяс | C13: 11 | D13: =COUNTA(H21:H85)+D12+1 -> 269 | E13: =COUNTA(H21:H85)+1 -> 35 | F13: =MIN(H21:H86) -> 39.73 | G13: =AVERAGE(H21:H86) -> 39.953235 | H13: 7 | I13: =G13-F13 -> 0.22323529 | J13: 0.12983796 | K13: =J13-J12 -> 0.017314815 | L13: =K13+L11 -> 0.05880787 | M13: 2:16.80
A14: 7 | B14: Мифтахутдинов Ильяс | C14: 6 | D14: =COUNTA(I21:I85)+D13+1 -> 317 | E14: =COUNTA(I21:I85)+1 -> 48 | F14: =MIN(I21:I86) -> 39.53 | G14: =AVERAGE(I21:I86) -> 39.840213 | H14: 3 | I14: =G14-F14 -> 0.31021277 | J14: 0.15309028 | K14: =J14-J13 -> 0.023252315 | L14: =K14+L13 -> 0.082060185 | M14: 2:22.90
A15: Финиш | B15: Петушков Андрей | C15: 11 | D15: =COUNTA(J21:J85)+D14+1 -> 344 | E15: =COUNTA(J21:J85)+1 -> 27 | F15: =MIN(J21:J86) -> 39.91 | G15: =AVERAGE(J21:J86) -> 40.149231 | H15: 4 | I15: =G15-F15 -> 0.23923077 | J15: ='Общие результаты'!G6 -> 4:00:05 | K15: =J15-J14 -> 0.013634259 | L15: =K15+L12 -> 0.084664352 | N15: -5 | O15: передержали напите
F16: =AVERAGE(F8,F10,F12,F15) -> 39.695 | G16: =AVERAGE(G8,G10,G12,G15) -> 39.995172 | H16: Андрей | I16: =AVERAGE(I8,I10,I12,I15) -> 0.30017209
F17: =AVERAGE(F9,F11,F13,F14) -> 39.665 | G17: =AVERAGE(G9,G11,G13,G14) -> 39.946244 | H17: Ильяс | I17: =AVERAGE(I9,I11,I13,I14) -> 0.28124442
F18: =AVERAGE(F8:F15) -> 39.68 | G18: =AVERAGE(C21:J90) -> 39.908398 | I18: =AVERAGE(I8:I15) -> 0.29070825
C20: =B8 -> Петушков Андрей | D20: =B9 -> Мифтахутдинов Ильяс | E20: =B10 -> Петушков Андрей | F20: =B11 -> Мифтахутдинов Ильяс | G20: =B12 -> Петушков Андрей | H20: =B13 -> Мифтахутдинов Ильяс | I20: =B14 -> Мифтахутдинов Ильяс | J20: =B15 -> Петушков Андрей
B21: 1 | C21: 43.93 | D21: 40.69 | E21: 40.17 | F21: 39.88 | G21: 39.82 | H21: 40.22 | I21: 39.94 | J21: 40.52
B22: 2 | C22: 40.52 | D22: 40.44 | E22: 40.14 | F22: 39.86 | G22: 39.69 | H22: 40.15 | I22: 39.91 | J22: 40.4
B23: 3 | C23: 41.06 | D23: 40.02 | E23: 39.88 | F23: 40.11 | G23: 39.51 | H23: 40.21 | I23: 39.8 | J23: 40.29
B24: 4 | C24: 40.55 | D24: 40.07 | E24: 39.83 | F24: 40.22 | G24: 39.66 | H24: 40.15 | I24: 39.76 | J24: 40.54
B25: 5 | C25: 40.01 | D25: 40.05 | E25: 39.78 | F25: 40.61 | G25: 39.7 | H25: 39.93 | I25: 39.67 | J25: 40.4
B26: 6 | C26: 39.96 | D26: 39.91 | E26: 39.77 | F26: 39.7 | G26: 39.71 | H26: 39.87 | I26: 39.61 | J26: 40.17
B27: 7 | C27: 40.02 | D27: 40.69 | E27: 39.58 | F27: 39.88 | G27: 39.61 | H27: 39.89 | I27: 39.82 | J27: 40.18
B28: 8 | C28: 39.98 | D28: 40.01 | E28: 39.67 | F28: 39.92 | G28: 39.76 | H28: 40.33 | I28: 39.67 | J28: 40.07
B29: 9 | C29: 40.32 | D29: 39.96 | E29: 39.73 | F29: 40.03 | G29: 39.84 | H29: 39.96 | I29: 39.76 | J29: 40.07
B30: 10 | C30: 39.92 | D30: 40.09 | E30: 39.62 | F30: 39.82 | G30: 39.94 | H30: 40.15 | I30: 39.8 | J30: 40.29
B31: 11 | C31: 39.89 | D31: 40.31 | E31: 39.76 | F31: 40.23 | G31: 39.77 | H31: 40.09 | I31: 39.72 | J31: 40.23
B32: 12 | C32: 40.12 | D32: 40.05 | E32: 39.61 | F32: 39.84 | G32: 39.73 | H32: 39.88 | I32: 39.69 | J32: 40.15
... B39: 19 | C39: 39.94 | D39: 40.26 | E39: 40.72 | F39: 39.82 | G39: 40.24 | H39: 39.87 | I39: 39.66 | J39: 40.05
B40: 20 | C40: 40.74 | E40: 39.69 | F40: 39.68 | G40: 39.47 | H40: 39.78 | I40: 39.86 | J40: 39.91
B41: 21 | C41: 39.98 | E41: 39.59 | F41: 39.93 | G41: 40.21 | H41: 39.89 | I41: 39.75 | J41: 40.03
B42: 22 | C42: 39.83 | E42: 39.62 | F42: 39.78 | G42: 40.78 | H42: 39.85 | I42: 39.74 | J42: 39.99
B43: 23 | C43: 39.94 | E43: 39.74 | F43: 40.04 | G43: 39.82 | H43: 39.74 | I43: 39.71 | J43: 39.96
B44: 24 | C44: 40.07 | E44: 39.65 | F44: 40.1 | G44: 39.84 | H44: 40.2 | I44: 39.68 | J44: 40.01
B45: 25 | C45: 40.06 | E45: 39.71 | F45: 39.81 | G45: 39.69 | H45: 39.84 | I45: 40.06 | J45: 39.92
B46: 26 | C46: 40.11 | E46: 39.57 | F46: 39.85 | G46: 39.68 | H46: 39.9 | I46: 39.69 | J46: 40.02
B47: 27 | C47: 40.08 | E47: 39.71 | F47: 40.05 | G47: 39.69 | H47: 39.87 | I47: 40.02
B48: 28 | C48: 40.1 | E48: 39.85 | F48: 39.71 | G48: 39.7 | H48: 39.78 | I48: 39.84
B49: 29 | C49: 40.1 | E49: 39.63 | F49: 39.63 | G49: 39.68 | H49: 39.95 | I49: 39.67
B50: 30 | C50: 39.91 | E50: 40.16 | F50: 39.68 | G50: 39.67 | H50: 39.78 | I50: 39.79
...

Sheet NFS Fortuna RT
A2: Чемпионат мини марафон "Большие Гонки", 7-й этап
A4: NFS Fortuna RT
A6: Обяза-тельные | B6: Пилот | C6: карт | D6: Круг | E6: кругов на отрезке | F6: Статистика по кругам | J6: Общее время гонки | K6: Время на трассе
F7: Лучший круг | G7: Среднее на отрезке | H7: Кругов в 0,1 от лучшего | I7: стабильность | K7: отрезок | L7: всего у пилота | M7: Питы | N7: Штрафы/ бонусы (сек)
A8: 1 | B8: Шутка Виталий | C8: 3 | D8: =COUNTA(C21:C85) -> 39 | E8: =COUNTA(C21:C85) -> 39 | F8: =MIN(C21:C84) -> 39.76 | G8: =AVERAGE(C21:C87) -> 40.049487 | I8: =G8-F8 -> 0.28948718 | J8: 0.018113426 | K8: =J8 -> 0.018113426 | L8: =K8 -> 0.018113426 | M8: 2:15.44
A9: 2 | B9: Шутка Виталий | C9: 1 | D9: =COUNTA(D21:D85)+D8+1 -> 98 | E9: =COUNTA(D21:D85)+1 -> 59 | F9: =MIN(D21:D84) -> 39.57 | G9: =AVERAGE(D21:D86) -> 39.822241 | I9: =G9-F9 -> 0.25224138 | J9: 0.046423611 | K9: =J9-J8 -> 0.028310185 | L9: =K9+L8 -> 0.046423611 | M9: 2:16.27
A10: 3 | B10: Фортуна Таня | C10: 10 | D10: =COUNTA(E21:E85)+D9+1 -> 138 | E10: =COUNTA(E21:E85)+1 -> 40 | F10: =MIN(E21:E86) -> 39.74 | G10: =AVERAGE(E21:E87) -> 40.129231 | I10: =G10-F10 -> 0.38923077 | J10: 0.066111111 | K10: =J10-J9 -> 0.0196875 | L10: =K10 -> 0.0196875 | M10: 2:15.73
A11: 4 | B11: Шутка Виталий | C11: 5 | D11: =COUNTA(F21:F85)+D10+1 -> 171 | E11: =COUNTA(F21:F85)+1 -> 33 | F11: =MIN(F21:F86) -> 39.58 | G11: =AVERAGE(F21:F86) -> 39.877813 | I11: =G11-F11 -> 0.2978125 | J11: 0.082453704 | K11: =J11-J10 -> 0.016342593 | L11: =K11+L9 -> 0.062766204 | M11: 2:15.91
A12: 5 | B12: Фортуна Таня | C12: 1 | D12: =COUNTA(G21:G85)+D11+1 -> 236 | E12: =COUNTA(G21:G85)+1 -> 65 | F12: =MIN(G21:G86) -> 39.61 | G12: =AVERAGE(G21:G886) -> 39.882656 | I12: =G12-F12 -> 0.27265625 | J12: 0.11356481 | K12: =J12-J11 -> 0.031111111 | L12: =K12+L10 -> 0.050798611 | M12: 2:16.23
A13: 6 | B13: Шутка Виталий | C13: 9 | D13: =COUNTA(H21:H85)+D12+1 -> 271 | E13: =COUNTA(H21:H85)+1 -> 35 | F13: =MIN(H21:H86) -> 39.84 | G13: =AVERAGE(H21:H86) -> 40.140882 | I13: =G13-F13 -> 0.30088235 | J13: 0.1309375 | K13: =J13-J12 -> 0.017372685 | L13: =K13+L11 -> 0.080138889 | M13: 2:14.62
A14: 7 | B14: Фортуна Таня | C14: 10 | D14: =COUNTA(I21:I85)+D13+1 -> 300 | E14: =COUNTA(I21:I85)+1 -> 29 | F14: =MIN(I21:I86) -> 39.84 | G14: =AVERAGE(I21:I86) -> 40.0275 | I14: =G14-F14 -> 0.1875 | J14: 0.14547454 | K14: =J14-J13 -> 0.014537037 | L14: =K14+L12 -> 0.065335648 | M14: 2:15.51
A15: Финиш | B15: Фортуна Таня | C15: 1 | D15: =COUNTA(J21:J85)+D14+1 -> 344 | E15: =COUNTA(J21:J85)+1 -> 44 | F15: =MIN(J21:J86) -> 39.55 | G15: =AVERAGE(J21:J86) -> 39.802326 | I15: =G15-F15 -> 0.25232558 | J15: ='Общие результаты'!G6 -> 4:00:05 | K15: =J15-J14 -> 0.02125 | L15: =K15+L14 -> 0.086585648
F16: =AVERAGE(F8,F9,F11,F13) -> 39.6875 | G16: =AVERAGE(G8,G10,G12,G14) -> 40.022219 | H16: Виталик | I16: =AVERAGE(I8,I10,I12,I14) -> 0.28471855
F17: =AVERAGE(F10,F12,F14,F15) -> 39.685 | G17: =AVERAGE(G9,G11,G13,G15) -> 39.910815 | H17: Таня | I17: =AVERAGE(I9,I11,I13,I15) -> 0.27581545
F18: =AVERAGE(F8:F15) -> 39.68625 | G18: =AVERAGE(C21:J90) -> 39.947478 | I18: =AVERAGE(I8:I15) -> 0.280267
C20: =B8 -> Шутка Виталий | D20: =B9 -> Шутка Виталий | E20: =B10 -> Фортуна Таня | F20: =B11 -> Шутка Виталий | G20: =B12 -> Фортуна Таня | H20: =B13 -> Шутка Виталий | I20: =B14 -> Фортуна Таня | J20: =B15 -> Фортуна Таня
B21: 1 | C21: 44.75 | D21: 40 | E21: 40.54 | F21: 40.16 | G21: 39.8 | H21: 40.46 | I21: 40.4 | J21: 39.88
B22: 2 | C22: 40.27 | D22: 39.89 | E22: 40.35 | F22: 40.01 | G22: 39.88 | H22: 40.28 | I22: 39.99 | J22: 39.74
B23: 3 | C23: 40.23 | D23: 39.8 | E23: 40.41 | F23: 39.86 | G23: 39.91 | H23: 40.14 | I23: 39.9 | J23: 39.74
B24: 4 | C24: 40.12 | D24: 39.85 | E24: 40.3 | F24: 39.86 | G24: 39.97 | H24: 40.06 | I24: 39.9 | J24: 39.73
B25: 5 | C25: 40.24 | D25: 39.67 | E25: 40.14 | F25: 39.88 | G25: 39.73 | H25: 40.07 | I25: 40 | J25: 39.85
B26: 6 | C26: 40.07 | D26: 39.79 | E26: 40.14 | F26: 40.1 | G26: 39.98 | H26: 39.91 | I26: 39.96 | J26: 39.97
B27: 7 | C27: 39.82 | D27: 39.79 | E27: 40.08 | F27: 39.75 | G27: 39.78 | H27: 40.15 | I27: 39.84 | J27: 40.23
B28: 8 | C28: 39.95 | D28: 39.68 | E28: 40.24 | F28: 39.89 | G28: 40 | H28: 40.04 | I28: 39.98 | J28: 39.82
B29: 9 | C29: 39.92 | D29: 39.86 | E29: 40.29 | F29: 39.72 | G29: 39.69 | H29: 40.2 | I29: 39.84 | J29: 39.87
B30: 10 | C30: 39.79 | D30: 39.63 | E30: 40.24 | F30: 39.93 | G30: 39.83 | H30: 40.29 | I30: 39.94 | J30: 39.73
B31: 11 | C31: 39.93 | D31: 39.57 | E31: 40.31 | F31: 40.06 | G31: 39.98 | H31: 40 | I31: 40.46 | J31: 39.69
B32: 12 | C32: 40.06 | D32: 39.6 | E32: 40.23 | F32: 39.98 | G32: 39.8 | H32: 40.39 | I32: 40.26 | J32: 39.64
... B48: 28 | C48: 39.85 | D48: 39.77 | E48: 39.84 | F48: 39.58 | G48: 39.68 | H48: 39.84 | I48: 39.98 | J48: 39.55
B49: 29 | C49: 39.81 | D49: 39.82 | E49: 39.91 | F49: 39.71 | G49: 39.93 | H49: 40.14 | J49: 39.64
B50: 30 | C50: 39.89 | D50: 40.14 | E50: 39.88 | F50: 39.66 | G50: 39.69 | H50: 40 | J50: 39.58
B51: 31 | C51: 39.76 | D51: 39.77 | E51: 39.85 | F51: 39.74 | G51: 39.9 | H51: 40.16 | J51: 39.81
B52: 32 | C52: 39.84 | D52: 39.75 | E52: 39.74 | F52: 40.4 | G52: 39.82 | H52: 40.3 | J52: 39.68
B53: 33 | C53: 39.92 | D53: 39.71 | E53: 40.79 | G53: 40 | H53: 40.19 | J53: 39.68
B54: 34 | C54: 39.82 | D54: 39.87 | E54: 40.35 | G54: 39.8 | H54: 40.83 | J54: 40.3
B55: 35 | C55: 39.9 | D55: 39.81 | E55: 40.21 | G55: 39.89 | J55: 39.93
B56: 36 | C56: 39.9 | D56: 39.64 | E56: 39.99 | G56: 39.98 | J56: 40.1
B57: 37 | C57: 39.93 | D57: 39.63 | E57: 40.1 | G57: 40 | J57: 39.73
B58: 38 | C58: 39.8 | D58: 39.72 | E58: 39.99 | G58: 39.74 | J58: 39.65
B59: 39 | C59: 40.21 | D59: 39.7 | E59: 40.13 | G59: 39.92 | J59: 39.76
...

Sheet Kart Freedom
A2: Чемпионат мини марафон "Большие Гонки", 7-й этап
A4: Kart Freedom
A6: Обяза-тельные | B6: Пилот | C6: карт | D6: Круг | E6: кругов на отрезке | F6: Статистика по кругам | J6: Общее время гонки | K6: Время на трассе
F7: Лучший круг | G7: Среднее на отрезке | H7: Кругов в 0,1 от лучшего | I7: стабильность | K7: отрезок | L7: всего у пилота | M7: Питы | N7: Штрафы/ бонусы (сек)
A8: 1 | B8: Терещенко Андрей | C8: 1 | D8: =COUNTA(C21:C85) -> 32 | E8: =COUNTA(C21:C85) -> 32 | F8: =MIN(C21:C84) -> 39.65 | G8: =AVERAGE(C21:C87) -> 40.114375 | H8: 2 | I8: =G8-F8 -> 0.464375 | J8: 0.014907407 | K8: =J8 -> 0.014907407 | L8: =K8 -> 0.014907407 | M8: 1:52.44 | N8: -24 | O8: бонус за вес
A9: 2 | B9: Паненко Женя | C9: 9 | D9: =COUNTA(D21:D85)+D8+1 -> 82 | E9: =COUNTA(D21:D85)+1 -> 50 | F9: =MIN(D21:D84) -> 39.66 | G9: =AVERAGE(D21:D86) -> 39.978367 | H9: 0 | I9: =G9-F9 -> 0.31836735 | J9: 0.038877315 | K9: =J9-J8 -> 0.023969907 | L9: =K9 -> 0.023969907 | M9: 2:15.70
A10: 3 | B10: Паненко Женя | C10: 69 | D10: =COUNTA(E21:E85)+D9+1 -> 105 | E10: =COUNTA(E21:E85)+1 -> 23 | F10: =MIN(E21:E86) -> 39.8 | G10: =AVERAGE(E21:E87) -> 40.060909 | H10: 2 | I10: =G10-F10 -> 0.26090909 | J10: 0.050659722 | K10: =J10-J9 -> 0.011782407 | L10: =K10+L9 -> 0.035752315 | M10: 2:21.23 | N10: 5 | O10: разворот №5
A11: 4 | B11: Терещенко Андрей | C11: 5 | D11: =COUNTA(F21:F85)+D10+1 -> 131 | E11: =COUNTA(F21:F85)+1 -> 26 | F11: =MIN(F21:F86) -> 39.73 | G11: =AVERAGE(F21:F86) -> 40.07 | H11: 0 | I11: =G11-F11 -> 0.34 | J11: 0.063888889 | K11: =J11-J10 -> 0.013229167 | L11: =K11+L8 -> 0.028136574 | M11: 2:15.22
A12: 5 | B12: Терещенко Андрей | C12: 4 | D12: =COUNTA(G21:G85)+D11+1 -> 172 | E12: =COUNTA(G21:G85)+1 -> 41 | F12: =MIN(G21:G86) -> 39.75 | G12: =AVERAGE(G21:G886) -> 39.91025 | H12: 10 | I12: =G12-F12 -> 0.16025 | J12: 0.083935185 | K12: =J12-J11 -> 0.020046296 | L12: =K12+L11 -> 0.04818287 | M12: 2:16.43
A13: 6 | B13: Паненко Женя | C13: 8 | D13: =COUNTA(H21:H85)+D12+1 -> 236 | E13: =COUNTA(H21:H85)+1 -> 64 | F13: =MIN(H21:H86) -> 39.81 | G13: =AVERAGE(H21:H86) -> 40.092381 | H13: 9 | I13: =G13-F13 -> 0.28238095 | J13: 0.11474537 | K13: =J13-J12 -> 0.030810185 | L13: =K13+L10 -> 0.0665625 | M13: 2:16.69
A14: 7 | B14: Терещенко Андрей | C14: 2 | D14: =COUNTA(I21:I85)+D13+1 -> 301 | E14: =COUNTA(I21:I85)+1 -> 65 | F14: =MIN(I21:I86) -> 39.84 | G14: =AVERAGE(I21:I86) -> 40.076563 | H14: 11 | I14: =G14-F14 -> 0.2365625 | J14: 0.14601852 | K14: =J14-J13 -> 0.031273148 | L14: =K14+L12 -> 0.079456019 | M14: 2:16.32
A15: Финиш | B15: Паненко Женя | C15: 69 | D15: =COUNTA(J21:J85)+D14+1 -> 344 | E15: =COUNTA(J21:J85)+1 -> 43 | F15: =MIN(J21:J86) -> 39.79 | G15: =AVERAGE(J21:J86) -> 40.050714 | H15: 6 | I15: =G15-F15 -> 0.26071429 | J15: ='Общие результаты'!G6 -> 4:00:05 | K15: =J15-J14 -> 0.020706019 | L15: =K15+L13 -> 0.087268519 | N15: 5 | O15: лимит
F16: =AVERAGE(F8,F11,F12,F14) -> 39.7425 | G16: =AVERAGE(G8,G11,G12,G14) -> 40.042797 | H16: Андрей | I16: =AVERAGE(I8,I11,I12,I14) -> 0.30029687
F17: =AVERAGE(F9,F10,F13,F15) -> 39.765 | G17: =AVERAGE(G9,G10,G13,G15) -> 40.045593 | H17: Женя | I17: =AVERAGE(I9,I10,I13,I15) -> 0.28059292
F18: =AVERAGE(F8:F15) -> 39.75375 | G18: =AVERAGE(C21:J90) -> 40.044362 | I18: =AVERAGE(I8:I15) -> 0.2904449
C20: =B8 -> Терещенко Андрей | D20: =B9 -> Паненко Женя | E20: =B10 -> Паненко Женя | F20: =B11 -> Терещенко Андрей | G20: =B12 -> Терещенко Андрей | H20: =B13 -> Паненко Женя | I20: =B14 -> Терещенко Андрей | J20: =B15 -> Паненко Женя
B21: 1 | C21: 46.27 | D21: 40.25 | E21: 40.03 | F21: 40.26 | G21: 40.08 | H21: 40.62 | I21: 40.44 | J21: 40.22
B22: 2 | C22: 40.76 | D22: 40.08 | E22: 40.08 | F22: 40.18 | G22: 40.01 | H22: 40.25 | I22: 40.2 | J22: 40.12
B23: 3 | C23: 40.28 | D23: 40.04 | E23: 40.03 | F23: 39.98 | G23: 40.03 | H23: 40.03 | I23: 40.36 | J23: 40.3
B24: 4 | C24: 40.08 | D24: 40.14 | E24: 39.96 | F24: 39.94 | G24: 40.05 | H24: 40.23 | I24: 40.18 | J24: 40.08
B25: 5 | C25: 40.02 | D25: 40.15 | E25: 40.02 | F25: 40 | G25: 39.88 | H25: 40.25 | I25: 40.29 | J25: 40.09
B26: 6 | C26: 40.12 | D26: 40.21 | E26: 39.94 | F26: 40.09 | G26: 39.93 | H26: 40.32 | I26: 40.21 | J26: 40.19
B27: 7 | C27: 39.82 | D27: 40.15 | E27: 39.91 | F27: 40.01 | G27: 39.9 | H27: 40.3 | I27: 40.21 | J27: 40.09
B28: 8 | C28: 39.8 | D28: 40.07 | E28: 41.65 | F28: 40.05 | G28: 39.88 | H28: 40.16 | I28: 40.22 | J28: 39.99
B29: 9 | C29: 40.02 | D29: 40.15 | E29: 40.09 | F29: 40.76 | G29: 39.75 | H29: 40.3 | I29: 40.2 | J29: 40.18
B30: 10 | C30: 39.84 | D30: 39.95 | E30: 40.36 | F30: 40.07 | G30: 39.87 | H30: 40.17 | I30: 40.15 | J30: 39.88
B31: 11 | C31: 39.92 | D31: 39.93 | E31: 39.97 | F31: 40.01 | G31: 39.87 | H31: 40.17 | I31: 40.04 | J31: 40.13
B32: 12 | C32: 39.9 | D32: 40.19 | E32: 39.99 | F32: 40.02 | G32: 39.89 | H32: 40.16 | I32: 40.1 | J32: 40.12
... B42: 22 | C42: 39.98 | D42: 39.85 | E42: 40.08 | F42: 39.73 | G42: 40.34 | H42: 40 | I42: 40.05 | J42: 40.08
B43: 23 | C43: 39.84 | D43: 40.01 | F43: 40 | G43: 39.96 | H43: 40.28 | I43: 40.01 | J43: 40.03
B44: 24 | C44: 39.78 | D44: 39.84 | F44: 40.05 | G44: 39.93 | H44: 40.07 | I44: 39.84 | J44: 40.01
B45: 25 | C45: 39.83 | D45: 39.82 | F45: 40.17 | G45: 39.94 | H45: 40.24 | I45: 40.08 | J45: 39.89
B46: 26 | C46: 39.74 | D46: 39.94 | G46: 39.93 | H46: 40.06 | I46: 39.91 | J46: 40.14
B47: 27 | C47: 39.76 | D47: 40.19 | G47: 39.83 | H47: 40 | I47: 39.99 | J47: 40.12
B48: 28 | C48: 39.8 | D48: 39.91 | G48: 39.88 | H48: 40.61 | I48: 39.92 | J48: 39.97
B49: 29 | C49: 39.75 | D49: 39.85 | G49: 39.96 | H49: 39.91 | I49: 39.99 | J49: 39.99
B50: 30 | C50: 39.81 | D50: 39.84 | G50: 39.96 | H50: 39.92 | I50: 39.99 | J50: 40.24
B51: 31 | C51: 40.06 | D51: 39.88 | G51: 39.85 | H51: 40.14 | I51: 39.89 | J51: 39.97
B52: 32 | C52: 40.08 | D52: 39.79 | G52: 39.83 | H52: 40.01 | I52: 40 | J52: 39.98
B53: 33 | D53: 39.86 | G53: 39.88 | H53: 40.05 | I53: 40.18 | J53: 40.09
...

Sheet Hurricane
A2: Чемпионат мини марафон "Большие Гонки", 7-й этап
A4: Hurricane
A6: Обяза-тельные | B6: Пилот | C6: карт | D6: Круг | E6: кругов на отрезке | F6: Статистика по кругам | J6: Общее время гонки | K6: Время на трассе
F7: Лучший круг | G7: Среднее на отрезке | H7: Кругов в 0,1 от лучшего | I7: стабильность | K7: отрезок | L7: всего у пилота | M7: Питы | N7: Штрафы/ бонусы (сек)
A8: 1 | B8: Стоцки Андрей | C8: 6 | D8: =COUNTA(C21:C85) -> 42 | E8: =COUNTA(C21:C85) -> 42 | F8: =MIN(C21:C84) -> 39.67 | G8: =AVERAGE(C21:C87) -> 40.068571 | H8: 7 | I8: =G8-F8 -> 0.39857143 | J8: 0.019525463 | K8: =J8 -> 0.019525463 | L8: =K8 -> 0.019525463 | M8: 2:15.19
A9: 2 | B9: Гаврилюк Олег | C9: 3 | D9: =COUNTA(D21:D85)+D8+1 -> 103 | E9: =COUNTA(D21:D85)+1 -> 61 | F9: =MIN(D21:D84) -> 39.66 | G9: =AVERAGE(D21:D86) -> 39.935833 | H9: 1 | I9: =G9-F9 -> 0.27583333 | J9: 0.048819444 | K9: =J9-J8 -> 0.029293981 | L9: =K9 -> 0.029293981 | M9: 2:16.37
A10: 3 | B10: Стоцки Андрей | C10: 9 | D10: =COUNTA(E21:E85)+D9+1 -> 139 | E10: =COUNTA(E21:E85)+1 -> 36 | F10: =MIN(E21:E86) -> 39.84 | G10: =AVERAGE(E21:E87) -> 40.131714 | H10: 3 | I10: =G10-F10 -> 0.29171429 | J10: 0.066666667 | K10: =J10-J9 -> 0.017847222 | L10: =K10+L8 -> 0.037372685 | M10: 2:13.73
A11: 4 | B11: Гаврилюк Олег | C11: 21 | D11: =COUNTA(F21:F85)+D10+1 -> 196 | E11: =COUNTA(F21:F85)+1 -> 57 | F11: =MIN(F21:F86) -> 39.69 | G11: =AVERAGE(F21:F86) -> 40.083929 | H11: 0 | I11: =G11-F11 -> 0.39392857 | J11: 0.094189815 | K11: =J11-J10 -> 0.027523148 | L11: =K11+L9 -> 0.05681713 | M11: 2:15.90
A12: 5 | B12: Стоцки Андрей | C12: 4 | D12: =COUNTA(G21:G85)+D11+1 -> 248 | E12: =COUNTA(G21:G85)+1 -> 52 | F12: =MIN(G21:G86) -> 39.6 | G12: =AVERAGE(G21:G886) -> 39.99098 | H12: 0 | I12: =G12-F12 -> 0.39098039 | J12: 0.119375 | K12: =J12-J11 -> 0.025185185 | L12: =K12+L10 -> 0.06255787 | M12: 2:15.54
A13: 6 | B13: Гаврилюк Олег | C13: 8 | D13: =COUNTA(H21:H85)+D12+1 -> 268 | E13: =COUNTA(H21:H85)+1 -> 20 | F13: =MIN(H21:H86) -> 39.88 | G13: =AVERAGE(H21:H86) -> 40.132632 | H13: 1 | I13: =G13-F13 -> 0.25263158 | J13: 0.12976852 | K13: =J13-J12 -> 0.010393519 | L13: =K13+L11 -> 0.067210648 | M13: 2:16.05
A14: 7 | B14: Стоцки Андрей | C14: 4 | D14: =COUNTA(I21:I85)+D13+1 -> 320 | E14: =COUNTA(I21:I85)+1 -> 52 | F14: =MIN(I21:I86) -> 39.78 | G14: =AVERAGE(I21:I86) -> 39.943922 | H14: 17 | I14: =G14-F14 -> 0.16392157 | J14: 0.15493056 | K14: =J14-J13 -> 0.025162037 | L14: =K14+L12 -> 0.087719907 | M14: 2:22.79 | N14: +5+2 | O14: лимит+недодержали
A15: Финиш | B15: Гаврилюк Олег | C15: 6 | D15: =COUNTA(J21:J85)+D14+1 -> 344 | E15: =COUNTA(J21:J85)+1 -> 24 | F15: =MIN(J21:J86) -> 39.9 | G15: =AVERAGE(J21:J86) -> 40.11913 | H15: 7 | I15: =G15-F15 -> 0.21913043 | J15: ='Общие результаты'!G6 -> 4:00:05 | K15: =J15-J14 -> 0.011793981 | L15: =K15+L13 -> 0.07900463
F16: =AVERAGE(F8,F10,F12,F14) -> 39.7225 | G16: =AVERAGE(G8,G10,G12,G14) -> 40.033797 | H16: Андре | I16: =AVERAGE(I8,I10,I12,I14) -> 0.31129692
F17: =AVERAGE(F9,F11,F13,F15) -> 39.7825 | G17: =AVERAGE(G9,G11,G13,G15) -> 40.067881 | H17: Олег | I17: =AVERAGE(I9,I11,I13,I15) -> 0.28538098
F18: =AVERAGE(F8:F15) -> 39.7525 | G18: =AVERAGE(C21:J90) -> 40.030504 | I18: =AVERAGE(I8:I15) -> 0.29833895
C20: =B8 -> Стоцки Андрей | D20: =B9 -> Гаврилюк Олег | E20: =B10 -> Стоцки Андрей | F20: =B11 -> Гаврилюк Олег | G20: =B12 -> Стоцки Андрей | H20: =B13 -> Гаврилюк Олег | I20: =B14 -> Стоцки Андрей | J20: =B15 -> Гаврилюк Олег
B21: 1 | C21: 46.15 | D21: 40.2 | E21: 40.61 | F21: 40.41 | G21: 40.32 | H21: 40.45 | I21: 40.08 | J21: 40.08
B22: 2 | C22: 40.64 | D22: 39.9 | E22: 40.37 | F22: 40.15 | G22: 40.13 | H22: 40.33 | I22: 40.03 | J22: 40.34
B23: 3 | C23: 40.28 | D23: 40.05 | E23: 40.44 | F23: 39.93 | G23: 39.91 | H23: 40.08 | I23: 39.9 | J23: 40.1
B24: 4 | C24: 40.23 | D24: 40.02 | E24: 40.1 | F24: 41.02 | G24: 40.28 | H24: 40.2 | I24: 39.91 | J24: 40.46
B25: 5 | C25: 39.98 | D25: 40 | E25: 40.44 | F25: 40.25 | G25: 40.69 | H25: 40.14 | I25: 40.12 | J25: 40.8
B26: 6 | C26: 39.83 | D26: 39.77 | E26: 40.31 | F26: 39.92 | G26: 40.08 | H26: 40.07 | I26: 39.97 | J26: 40.33
B27: 7 | C27: 39.77 | D27: 40.07 | E27: 40.16 | F27: 39.97 | G27: 39.97 | H27: 40.03 | I27: 40 | J27: 39.98
B28: 8 | C28: 40.07 | D28: 39.82 | E28: 40.03 | F28: 39.85 | G28: 40.03 | H28: 40.07 | I28: 39.79 | J28: 40.08
B29: 9 | C29: 39.69 | D29: 39.93 | E29: 40.16 | F29: 39.92 | G29: 40.73 | H29: 40.07 | I29: 40.15 | J29: 40.22
B30: 10 | C30: 40.04 | D30: 39.88 | E30: 40.09 | F30: 39.93 | G30: 39.95 | H30: 40.17 | I30: 39.96 | J30: 39.99
B31: 11 | C31: 39.82 | D31: 39.87 | E31: 40.15 | F31: 40 | G31: 39.99 | H31: 39.94 | I31: 39.86 | J31: 39.91
B32: 12 | C32: 39.67 | D32: 39.66 | E32: 40.05 | F32: 39.81 | G32: 39.89 | H32: 40.08 | I32: 39.82 | J32: 40.1
... B39: 19 | C39: 39.93 | D39: 40.03 | E39: 39.84 | F39: 39.94 | G39: 39.96 | H39: 40.29 | I39: 39.86 | J39: 39.93
B40: 20 | C40: 39.84 | D40: 39.96 | E40: 40.14 | F40: 39.92 | G40: 39.99 | I40: 40.14 | J40: 39.99
B41: 21 | C41: 39.74 | D41: 40.04 | E41: 40.04 | F41: 40.06 | G41: 39.96 | I41: 39.96 | J41: 39.9
B42: 22 | C42: 39.92 | D42: 39.95 | E42: 40.07 | F42: 40.1 | G42: 40.04 | I42: 39.94 | J42: 40.02
B43: 23 | C43: 39.98 | D43: 39.99 | E43: 39.97 | F43: 40.09 | G43: 39.94 | I43: 39.95 | J43: 40.08
B44: 24 | C44: 39.78 | D44: 39.89 | E44: 39.96 | F44: 39.94 | G44: 39.91 | I44: 39.86
B45: 25 | C45: 39.89 | D45: 39.85 | E45: 39.93 | F45: 39.69 | G45: 39.74 | I45: 39.9
B46: 26 | C46: 39.83 | D46: 39.79 | E46: 40.03 | F46: 40.49 | G46: 39.94 | I46: 39.94
B47: 27 | C47: 39.89 | D47: 40.01 | E47: 40.16 | F47: 40.07 | G47: 39.85 | I47: 39.97
B48: 28 | C48: 39.91 | D48: 39.9 | E48: 40.05 | F48: 40 | G48: 39.81 | I48: 39.95
B49: 29 | C49: 39.8 | D49: 40.07 | E49: 40.11 | F49: 39.98 | G49: 39.91 | I49: 39.96
B50: 30 | C50: 39.84 | D50: 39.97 | E50: 40.01 | F50: 40.3 | G50: 39.8 | I50: 39.91
...

Sheet Kozaks
A2: Чемпионат мини марафон "Большие Гонки", 7-й этап
A4: Kozaks
A6: Обяза-тельные | B6: Пилот | C6: карт | D6: Круг | E6: кругов на отрезке | F6: Статистика по кругам | J6: Общее время гонки | K6: Время на трассе
F7: Лучший круг | G7: Среднее на отрезке | H7: Кругов в 0,1 от лучшего | I7: стабильность | K7: отрезок | L7: всего у пилота | M7: Питы | N7: Штрафы/ бонусы (сек)
A8: 1 | B8: Ткаченко Кирилл | C8: 4 | D8: =COUNTA(C21:C85) -> 41 | E8: =COUNTA(C21:C85) -> 41 | F8: =MIN(C21:C84) -> 39.61 | G8: =AVERAGE(C21:C87) -> 40.37439 | H8: 5 | I8: =G8-F8 -> 0.76439024 | J8: 0.019212963 | K8: =J8 -> 0.019212963 | L8: =K8 -> 0.019212963 | M8: 2:13.17 | N8: -12+10 | O8: бонус а вес+разворот №8
A9: 2 | B9: Голубченко Саша | C9: 7 | D9: =COUNTA(D21:D85)+D8+1 -> 92 | E9: =COUNTA(D21:D85)+1 -> 51 | F9: =MIN(D21:D84) -> 39.62 | G9: =AVERAGE(D21:D86) -> 39.9486 | H9: 3 | I9: =G9-F9 -> 0.3286 | J9: 0.043877315 | K9: =J9-J8 -> 0.024664352 | L9: =K9 -> 0.024664352 | M9: 2:17.23
A10: 3 | B10: Ткаченко Кирилл | C10: 21 | D10: =COUNTA(E21:E85)+D9+1 -> 137 | E10: =COUNTA(E21:E85)+1 -> 45 | F10: =MIN(E21:E86) -> 39.68 | G10: =AVERAGE(E21:E87) -> 40.073636 | H10: 11 | I10: =G10-F10 -> 0.39363636 | J10: 0.065914352 | K10: =J10-J9 -> 0.022037037 | L10: =K10+L8 -> 0.04125 | M10: 2:16.16
A11: 4 | B11: Голубченко Саша | C11: 44 | D11: =COUNTA(F21:F85)+D10+1 -> 174 | E11: =COUNTA(F21:F85)+1 -> 37 | F11: =MIN(F21:F86) -> 39.8 | G11: =AVERAGE(F21:F86) -> 40.088889 | H11: 1 | I11: =G11-F11 -> 0.28888889 | J11: 0.084166667 | K11: =J11-J10 -> 0.018252315 | L11: =K11+L9 -> 0.042916667 | M11: 2:14.92
A12: 5 | B12: Ткаченко Кирилл | C12: 5 | D12: =COUNTA(G21:G85)+D11+1 -> 237 | E12: =COUNTA(G21:G85)+1 -> 63 | F12: =MIN(G21:G86) -> 39.57 | G12: =AVERAGE(G21:G886) -> 39.852742 | H12: 6 | I12: =G12-F12 -> 0.28274194 | J12: 0.1143287 | K12: =J12-J11 -> 0.030162037 | L12: =K12+L10 -> 0.071412037 | M12: 2:17.15
A13: 6 | B13: Голубченко Саша | C13: 21 | D13: =COUNTA(H21:H85)+D12+1 -> 291 | E13: =COUNTA(H21:H85)+1 -> 54 | F13: =MIN(H21:H86) -> 39.98 | G13: =AVERAGE(H21:H86) -> 40.251509 | H13: 14 | I13: =G13-F13 -> 0.27150943 | J13: 0.14060185 | K13: =J13-J12 -> 0.026273148 | L13: =K13+L11 -> 0.069189815 | M13: 2:15.86
A14: 7 | B14: Ткаченко Кирилл | C14: 5 | D14: =COUNTA(I21:I85)+D13+1 -> 317 | E14: =COUNTA(I21:I85)+1 -> 26 | F14: =MIN(I21:I86) -> 39.55 | G14: =AVERAGE(I21:I86) -> 39.7584 | H14: 4 | I14: =G14-F14 -> 0.2084 | J14: 0.15368056 | K14: =J14-J13 -> 0.013078704 | L14: =K14+L12 -> 0.084490741 | M14: 2:16.00
A15: Финиш | B15: Голубченко Саша | C15: 9 | D15: =COUNTA(J21:J85)+D14+1 -> 343 | E15: =COUNTA(J21:J85)+1 -> 26 | F15: =MIN(J21:J86) -> 39.72 | G15: =AVERAGE(J21:J86) -> 39.9776 | H15: 1 | I15: =G15-F15 -> 0.2576 | J15: ='Общие результаты'!G6 -> 4:00:05 | K15: =J15-J14 -> 0.013043981 | L15: =K15+L13 -> 0.082233796
F16: =AVERAGE(F8,F10,F12,F14) -> 39.6025 | G16: =AVERAGE(G8,G10,G12,G14) -> 40.014792 | H16: Кирилл | I16: =AVERAGE(I8,I10,I12,I14) -> 0.41229214
F17: =AVERAGE(F9,F11,F13,F15) -> 39.78 | G17: =AVERAGE(G9,G11,G13,G15) -> 40.06665 | H17: Саша | I17: =AVERAGE(I9,I11,I13,I15) -> 0.28664958
F18: =AVERAGE(F8:F15) -> 39.69125 | G18: =AVERAGE(C21:J90) -> 40.05006 | I18: =AVERAGE(I8:I15) -> 0.34947086
C20: =B8 -> Ткаченко Кирилл | D20: =B9 -> Голубченко Саша | E20: =B10 -> Ткаченко Кирилл | F20: =B11 -> Голубченко Саша | G20: =B12 -> Ткаченко Кирилл | H20: =B13 -> Голубченко Саша | I20: =B14 -> Ткаченко Кирилл | J20: =B15 -> Голубченко Саша
B21: 1 | C21: 46.1 | D21: 40.16 | E21: 41.72 | F21: 40.59 | G21: 39.79 | H21: 40.36 | I21: 39.79 | J21: 39.96
B22: 2 | C22: 41.04 | D22: 39.96 | E22: 40.59 | F22: 40.44 | G22: 39.94 | H22: 40.27 | I22: 39.94 | J22: 39.98
B23: 3 | C23: 44.03 | D23: 39.99 | E23: 40.21 | F23: 40.12 | G23: 39.86 | H23: 40.53 | I23: 39.79 | J23: 40.15
B24: 4 | C24: 40.71 | D24: 40.34 | E24: 42.17 | F24: 40.37 | G24: 40.1 | H24: 40.53 | I24: 39.79 | J24: 40.04
B25: 5 | C25: 40.43 | D25: 40.54 | E25: 40.53 | F25: 40.03 | G25: 39.8 | H25: 40.19 | I25: 39.8 | J25: 39.99
B26: 6 | C26: 44.01 | D26: 40.37 | E26: 40.03 | F26: 40.15 | G26: 39.76 | H26: 40.3 | I26: 39.9 | J26: 40.04
B27: 7 | C27: 41.53 | D27: 39.91 | E27: 39.98 | F27: 40 | G27: 39.82 | H27: 40.16 | I27: 39.62 | J27: 39.93
B28: 8 | C28: 39.98 | D28: 39.98 | E28: 40.35 | F28: 39.91 | G28: 39.83 | H28: 40.32 | I28: 39.67 | J28: 40.02
B29: 9 | C29: 40.1 | D29: 40.02 | E29: 40.22 | F29: 39.8 | G29: 39.72 | H29: 40.17 | I29: 39.62 | J29: 40.03
B30: 10 | C30: 40.4 | D30: 40.11 | E30: 40.07 | F30: 40 | G30: 39.76 | H30: 40.59 | I30: 39.63 | J30: 40.16
B31: 11 | C31: 39.89 | D31: 40.01 | E31: 40.05 | F31: 40.01 | G31: 39.57 | H31: 40.2 | I31: 39.72 | J31: 39.85
B32: 12 | C32: 40.12 | D32: 39.78 | E32: 39.85 | F32: 39.97 | G32: 39.87 | H32: 40.04 | I32: 39.71 | J32: 40.48
... B45: 25 | C45: 40.21 | D45: 40.02 | E45: 39.69 | F45: 39.91 | G45: 39.8 | H45: 40.32 | I45: 39.83 | J45: 39.83
B46: 26 | C46: 39.61 | D46: 39.99 | E46: 39.73 | F46: 40.09 | G46: 39.84 | H46: 40.03
B47: 27 | C47: 39.8 | D47: 39.93 | E47: 40.49 | F47: 39.96 | G47: 39.62 | H47: 40.18
B48: 28 | C48: 39.92 | D48: 39.8 | E48: 39.85 | F48: 40.19 | G48: 39.87 | H48: 40.06
B49: 29 | C49: 39.95 | D49: 40 | E49: 40.08 | F49: 40.27 | G49: 39.83 | H49: 40.03
B50: 30 | C50: 40.08 | D50: 39.63 | E50: 39.76 | F50: 40.22 | G50: 39.8 | H50: 40.05
B51: 31 | C51: 39.85 | D51: 39.82 | E51: 39.69 | F51: 40.11 | G51: 39.81 | H51: 40.26
B52: 32 | C52: 40.07 | D52: 39.94 | E52: 39.73 | F52: 39.95 | G52: 39.97 | H52: 40.07
B53: 33 | C53: 39.85 | D53: 39.84 | E53: 39.71 | F53: 40.07 | G53: 39.87 | H53: 40.08
B54: 34 | C54: 39.68 | D54: 39.87 | E54: 39.78 | F54: 40.13 | G54: 39.8 | H54: 40
B55: 35 | C55: 39.74 | D55: 39.78 | E55: 39.68 | F55: 39.95 | G55: 40.21 | H55: 40.39
B56: 36 | C56: 39.85 | D56: 39.89 | E56: 39.73 | F56: 40.34 | G56: 39.69 | H56: 40.51
...

Sheet JustKart
A2: Чемпионат мини марафон "Большие Гонки", 7-й этап
A4: JustKart
A6: Обяза-тельные | B6: Пилот | C6: карт | D6: Круг | E6: кругов на отрезке | F6: Статистика по кругам | J6: Общее время гонки | K6: Время на трассе
F7: Лучший круг | G7: Среднее на отрезке | H7: Кругов в 0,1 от лучшего | I7: стабильность | K7: отрезок | L7: всего у пилота | M7: Питы | N7: Штрафы/ бонусы (сек)
A8: 1 | B8: Соколан Артем | C8: 2 | D8: =COUNTA(C21:C85) -> 41 | E8: =COUNTA(C21:C85) -> 41 | F8: =MIN(C21:C84) -> 39.88 | G8: =AVERAGE(C21:C87) -> 40.377805 | H8: 4 | I8: =G8-F8 -> 0.49780488 | J8: 0.019212963 | K8: =J8 -> 0.019212963 | L8: =K8 -> 0.019212963 | M8: 2:16.34
A9: 2 | B9: Шиленко Саша | C9: 5 | D9: =COUNTA(D21:D85)+D8+1 -> 105 | E9: =COUNTA(D21:D85)+1 -> 64 | F9: =MIN(D21:D84) -> 39.58 | G9: =AVERAGE(D21:D86) -> 39.945873 | H9: 3 | I9: =G9-F9 -> 0.36587302 | J9: 0.049930556 | K9: =J9-J8 -> 0.030717593 | L9: =K9 -> 0.030717593 | M9: 2:16.32
A10: 3 | B10: Соколан Артем | C10: 7 | D10: =COUNTA(E21:E85)+D9+1 -> 169 | E10: =COUNTA(E21:E85)+1 -> 64 | F10: =MIN(E21:E86) -> 39.76 | G10: =AVERAGE(E21:E87) -> 40.248254 | H10: 5 | I10: =G10-F10 -> 0.48825397 | J10: 0.080856481 | K10: =J10-J9 -> 0.030925926 | L10: =K10+L8 -> 0.050138889 | M10: 2:16.60
A11: 4 | B11: Шиленко Саша | C11: 11 | D11: =COUNTA(F21:F85)+D10+1 -> 198 | E11: =COUNTA(F21:F85)+1 -> 29 | F11: =MIN(F21:F86) -> 40.04 | G11: =AVERAGE(F21:F86) -> 40.461429 | H11: 1 | I11: =G11-F11 -> 0.42142857 | J11: 0.09556713 | K11: =J11-J10 -> 0.014710648 | L11: =K11+L9 -> 0.045428241 | M11: 2:17.84
A12: 5 | B12: Соколан Артем | C12: 21 | D12: =COUNTA(G21:G85)+D11+1 -> 235 | E12: =COUNTA(G21:G85)+1 -> 37 | F12: =MIN(G21:G86) -> 40.06 | G12: =AVERAGE(G21:G886) -> 40.382222 | H12: 6 | I12: =G12-F12 -> 0.32222222 | J12: 0.11396991 | K12: =J12-J11 -> 0.018402778 | L12: =K12+L10 -> 0.068541667 | M12: 2:16.75
A13: 6 | B13: Шиленко Саша | C13: 3 | D13: =COUNTA(H21:H85)+D12+1 -> 290 | E13: =COUNTA(H21:H85)+1 -> 55 | F13: =MIN(H21:H86) -> 39.83 | G13: =AVERAGE(H21:H86) -> 40.162407 | H13: 6 | I13: =G13-F13 -> 0.33240741 | J13: 0.14068287 | K13: =J13-J12 -> 0.026712963 | L13: =K13+L11 -> 0.072141204 | M13: 2:15.73
A14: 7 | B14: Соколан Артем | C14: 7 | D14: =COUNTA(I21:I85)+D13+1 -> 318 | E14: =COUNTA(I21:I85)+1 -> 28 | F14: =MIN(I21:I86) -> 39.77 | G14: =AVERAGE(I21:I86) -> 40.398148 | H14: 0 | I14: =G14-F14 -> 0.62814815 | J14: 0.15488426 | K14: =J14-J13 -> 0.014201389 | L14: =K14+L12 -> 0.082743056 | M14: 2:17.34
A15: Финиш | B15: Шиленко Саша | C15: 8 | D15: =COUNTA(J21:J85)+D14+1 -> 342 | E15: =COUNTA(J21:J85)+1 -> 24 | F15: =MIN(J21:J86) -> 39.89 | G15: =AVERAGE(J21:J86) -> 40.171739 | H15: 0 | I15: =G15-F15 -> 0.28173913 | J15: ='Общие результаты'!G6 -> 4:00:05 | K15: =J15-J14 -> 0.011840278 | L15: =K15+L13 -> 0.083981481
F16: =AVERAGE(F8,F10,F12,F14) -> 39.8675 | G16: =AVERAGE(G8,G10,G12,G14) -> 40.351607 | H16: Артем | I16: =AVERAGE(I8,I10,I12,I14) -> 0.4841073
F17: =AVERAGE(F9,F11,F13,F15) -> 39.835 | G17: =AVERAGE(G9,G11,G13,G15) -> 40.185362 | H17: Саша | I17: =AVERAGE(I9,I11,I13,I15) -> 0.35036203
F18: =AVERAGE(F8:F15) -> 39.85125 | G18: =AVERAGE(C21:J90) -> 40.232448 | I18: =AVERAGE(I8:I15) -> 0.41723467
C20: =B8 -> Соколан Артем | D20: =B9 -> Шиленко Саша | E20: =B10 -> Соколан Артем | F20: =B11 -> Шиленко Саша | G20: =B12 -> Соколан Артем | H20: =B13 -> Шиленко Саша | I20: =B14 -> Соколан Артем | J20: =B15 -> Шиленко Саша
B21: 1 | C21: 45.46 | D21: 40.42 | E21: 40.72 | F21: 40.69 | G21: 40.59 | H21: 40.23 | I21: 45.45 | J21: 40.15
B22: 2 | C22: 41 | D22: 40.07 | E22: 40.33 | F22: 40.78 | G22: 40.28 | H22: 40.08 | I22: 40.12 | J22: 40.23
B23: 3 | C23: 41.28 | D23: 40.22 | E23: 40.77 | F23: 40.81 | G23: 40.45 | H23: 40.23 | I23: 40.14 | J23: 40.54
B24: 4 | C24: 40.58 | D24: 39.88 | E24: 40.42 | F24: 40.29 | G24: 40.42 | H24: 39.98 | I24: 40.83 | J24: 40.32
B25: 5 | C25: 40.41 | D25: 39.74 | E25: 40.33 | F25: 40.3 | G25: 40.45 | H25: 40.18 | I25: 40.36 | J25: 40.21
B26: 6 | C26: 40.3 | D26: 40.41 | E26: 40.38 | F26: 40.26 | G26: 41.34 | H26: 40.4 | I26: 40.94 | J26: 40.12
B27: 7 | C27: 40.29 | D27: 39.89 | E27: 40.3 | F27: 40.43 | G27: 40.35 | H27: 40.02 | I27: 40.05 | J27: 40.24
B28: 8 | C28: 40.33 | D28: 39.98 | E28: 41.69 | F28: 40.36 | G28: 40.32 | H28: 40.21 | I28: 40.31 | J28: 40.01
B29: 9 | C29: 40.3 | D29: 39.86 | E29: 40.28 | F29: 40.28 | G29: 40.45 | H29: 40.04 | I29: 40.08 | J29: 40.15
B30: 10 | C30: 39.99 | D30: 39.93 | E30: 40.22 | F30: 40.27 | G30: 40.27 | H30: 40.1 | I30: 40.06 | J30: 40.04
B31: 11 | C31: 40.2 | D31: 39.79 | E31: 40.17 | F31: 40.4 | G31: 40.16 | H31: 39.88 | I31: 39.99 | J31: 40.3
B32: 12 | C32: 40.16 | D32: 39.8 | E32: 40 | F32: 40.16 | G32: 40.23 | H32: 40.09 | I32: 40.58 | J32: 40.51
... B43: 23 | C43: 40.03 | D43: 39.66 | E43: 40.26 | F43: 40.26 | G43: 40.47 | H43: 40.21 | I43: 40.21 | J43: 40.37
B44: 24 | C44: 40.01 | D44: 39.93 | E44: 40.4 | F44: 40.24 | G44: 40.37 | H44: 40 | I44: 39.77
B45: 25 | C45: 40.26 | D45: 39.91 | E45: 41.29 | F45: 40.42 | G45: 40.23 | H45: 39.98 | I45: 40.12
B46: 26 | C46: 40.17 | D46: 39.81 | E46: 40.18 | F46: 40.46 | G46: 40.11 | H46: 39.94 | I46: 40.68
B47: 27 | C47: 40.06 | D47: 40.24 | E47: 40.01 | F47: 40.25 | G47: 40.54 | H47: 39.84 | I47: 40.14
B48: 28 | C48: 40.3 | D48: 39.84 | E48: 40.42 | F48: 41.52 | G48: 40.15 | H48: 40.19
B49: 29 | C49: 40.15 | D49: 39.78 | E49: 39.9 | G49: 40.17 | H49: 39.96
B50: 30 | C50: 40.04 | D50: 39.69 | E50: 40.12 | G50: 40.42 | H50: 39.96
B51: 31 | C51: 40.38 | D51: 39.75 | E51: 39.86 | G51: 40.16 | H51: 40.03
B52: 32 | C52: 39.88 | D52: 39.67 | E52: 39.92 | G52: 40.32 | H52: 40.05
B53: 33 | C53: 39.98 | D53: 39.85 | E53: 40.03 | G53: 40.21 | H53: 39.96
B54: 34 | C54: 40.14 | D54: 39.85 | E54: 40.08 | G54: 40.47 | H54: 41.15
...

Sheet Е-мое
A2: Чемпионат мини марафон "Большие Гонки", 7-й этап
A4: Е-мое
A6: Обяза-тельные | B6: Пилот | C6: карт | D6: Круг | E6: кругов на отрезке | F6: Статистика по кругам | J6: Общее время гонки | K6: Время на трассе
F7: Лучший круг | G7: Среднее на отрезке | H7: Кругов в 0,1 от лучшего | I7: стабильность | K7: отрезок | L7: всего у пилота | M7: Питы | N7: Штрафы/ бонусы (сек)
A8: 1 | B8: Таволжан Виталий | C8: 13 | D8: =COUNTA(C21:C85) -> 25 | E8: =COUNTA(C21:C85) -> 25 | F8: =MIN(C21:C84) -> 39.97 | G8: =AVERAGE(C21:C87) -> 40.7984 | H8: 2 | I8: =G8-F8 -> 0.8284 | J8: 0.011863426 | K8: =J8 -> 0.011863426 | L8: =K8 -> 0.011863426 | M8: 1:34.22 | N8: -36 | O8: бонус за вес
A9: 2 | B9: Лабинский Николай | C9: 8 | D9: =COUNTA(D21:D85)+D8+1 -> 69 | E9: =COUNTA(D21:D85)+1 -> 44 | F9: =MIN(D21:D84) -> 40.21 | G9: =AVERAGE(D21:D86) -> 40.616047 | H9: 5 | I9: =G9-F9 -> 0.40604651 | J9: 0.033171296 | K9: =J9-J8 -> 0.02130787 | L9: =K9 -> 0.02130787 | M9: 2:15.99
A10: 3 | B10: Таволжан Виталий | C10: 2 | D10: =COUNTA(E21:E85)+D9+1 -> 132 | E10: =COUNTA(E21:E85)+1 -> 63 | F10: =MIN(E21:E86) -> 39.82 | G10: =AVERAGE(E21:E87) -> 40.266452 | H10: 2 | I10: =G10-F10 -> 0.44645161 | J10: 0.063645833 | K10: =J10-J9 -> 0.030474537 | L10: =K10+L8 -> 0.042337963 | M10: 2:17.09
A11: 4 | B11: Лабинский Николай | C11: 13 | D11: =COUNTA(F21:F85)+D10+1 -> 172 | E11: =COUNTA(F21:F85)+1 -> 40 | F11: =MIN(F21:F86) -> 40.35 | G11: =AVERAGE(F21:F86) -> 40.697436 | H11: 4 | I11: =G11-F11 -> 0.3474359 | J11: 0.083611111 | K11: =J11-J10 -> 0.019965278 | L11: =K11+L9 -> 0.041273148 | M11: 2:15.90
A12: 5 | B12: Таволжан Виталий | C12: 2 | D12: =COUNTA(G21:G85)+D11+1 -> 235 | E12: =COUNTA(G21:G85)+1 -> 63 | F12: =MIN(G21:G86) -> 39.81 | G12: =AVERAGE(G21:G886) -> 40.125 | H12: 10 | I12: =G12-F12 -> 0.315 | J12: 0.11398148 | K12: =J12-J11 -> 0.03037037 | L12: =K12+L10 -> 0.072708333 | M12: 2:16.91
A13: 6 | B13: Лабинский Николай | C13: 7 | D13: =COUNTA(H21:H85)+D12+1 -> 285 | E13: =COUNTA(H21:H85)+1 -> 50 | F13: =MIN(H21:H86) -> 39.85 | G13: =AVERAGE(H21:H86) -> 40.18449 | H13: 4 | I13: =G13-F13 -> 0.3344898 | J13: 0.13835648 | K13: =J13-J12 -> 0.024375 | L13: =K13+L11 -> 0.065648148 | M13: 2:17.11
A14: 7 | B14: Таволжан Виталий | C14: 11 | D14: =COUNTA(I21:I85)+D13+1 -> 313 | E14: =COUNTA(I21:I85)+1 -> 28 | F14: =MIN(I21:I86) -> 40.1 | G14: =AVERAGE(I21:I86) -> 40.595556 | H14: 4 | I14: =G14-F14 -> 0.49555556 | J14: 0.15262731 | K14: =J14-J13 -> 0.014270833 | L14: =K14+L12 -> 0.086979167 | M14: 2:15.91
A15: Финиш | B15: Лабинский Николай | C15: 44 | D15: =COUNTA(J21:J85)+D14+1 -> 342 | E15: =COUNTA(J21:J85)+1 -> 29 | F15: =MIN(J21:J86) -> 39.97 | G15: =AVERAGE(J21:J86) -> 40.343214 | H15: 1 | I15: =G15-F15 -> 0.37321429 | J15: ='Общие результаты'!G6 -> 4:00:05 | K15: =J15-J14 -> 0.014097222 | L15: =K15+L13 -> 0.07974537
F16: =AVERAGE(F8,F10,F12,F14) -> 39.925 | G16: =AVERAGE(G8,G10,G12,G14) -> 40.446352 | H16: Виталий | I16: =AVERAGE(I8,I10,I12,I14) -> 0.52135179
F17: =AVERAGE(F9,F11,F13,F15) -> 40.095 | G17: =AVERAGE(G9,G11,G13,G15) -> 40.460297 | H17: Коля | I17: =AVERAGE(I9,I11,I13,I15) -> 0.36529662
F18: =AVERAGE(F8:F15) -> 40.01 | G18: =AVERAGE(C21:J90) -> 40.39597 | I18: =AVERAGE(I8:I15) -> 0.44332421
C20: =B8 -> Таволжан Виталий | D20: =B9 -> Лабинский Николай | E20: =B10 -> Таволжан Виталий | F20: =B11 -> Лабинский Николай | G20: =B12 -> Таволжан Виталий | H20: =B13 -> Лабинский Николай | I20: =B14 -> Таволжан Виталий | J20: =B15 -> Лабинский Николай
B21: 1 | C21: 46.27 | D21: 41.02 | E21: 41.41 | F21: 40.91 | G21: 40.27 | H21: 40.38 | I21: 41.01 | J21: 40.34
B22: 2 | C22: 41.3 | D22: 40.92 | E22: 40.26 | F22: 40.62 | G22: 40.15 | H22: 39.99 | I22: 40.92 | J22: 40.27
B23: 3 | C23: 43.2 | D23: 40.77 | E23: 40.08 | F23: 40.63 | G23: 40.05 | H23: 40.04 | I23: 40.53 | J23: 40.27
B24: 4 | C24: 42.12 | D24: 40.89 | E24: 40.09 | F24: 40.66 | G24: 39.99 | H24: 40.15 | I24: 40.45 | J24: 40.7
B25: 5 | C25: 40.56 | D25: 40.67 | E25: 40.02 | F25: 40.88 | G25: 39.84 | H25: 40.19 | I25: 40.48 | J25: 40.38
B26: 6 | C26: 40.85 | D26: 41.27 | E26: 39.96 | F26: 40.77 | G26: 40.22 | H26: 40.18 | I26: 41.55 | J26: 40.3
B27: 7 | C27: 41.25 | D27: 40.45 | E27: 40.11 | F27: 40.67 | G27: 40.38 | H27: 40.22 | I27: 40.1 | J27: 40.4
B28: 8 | C28: 40.23 | D28: 40.51 | E28: 39.95 | F28: 40.82 | G28: 40.01 | H28: 40.26 | I28: 40.25 | J28: 40.5
B29: 9 | C29: 40.27 | D29: 41.09 | E29: 40 | F29: 40.44 | G29: 40.1 | H29: 40.09 | I29: 42.12 | J29: 40.28
B30: 10 | C30: 39.97 | D30: 41.27 | E30: 40.03 | F30: 40.62 | G30: 40.06 | H30: 39.92 | I30: 40.39 | J30: 40.38
B31: 11 | C31: 40.01 | D31: 40.58 | E31: 39.93 | F31: 41.13 | G31: 40.1 | H31: 40.05 | I31: 40.76 | J31: 40.23
B32: 12 | C32: 40.51 | D32: 40.47 | E32: 41.81 | F32: 40.76 | G32: 40.1 | H32: 40.08 | I32: 40.13 | J32: 40.24
