Workbook

Sheet Общие результаты
A1: Серия мини марафонов "Большие Гонки 2019", 7-й этап, 13.07.19
A2: Конфигурация № 9
A4: Место в гонке | B4: Команда | C4: № в гонке | D4: Квала | F4: Гонка | I4: Лучший круг в гонке
D5: Время | E5: Место | F5: Круги | G5: Время/от лидера | H5: От места выше | I5: Время | J5: На круге
A6: 1 | B6: K44 | C6: 10 | F6: 344 | G6: 4:00:05 | H6: - | I6: 39.47 | J6: 192
A7: 2 | B7: NFS Fortuna RT | C7: 3 | F7: 344 | G7: 7.51 | H7: =G7 -> 7.51 | I7: 39.55 | J7: 329
A8: 3 | B8: Kart Freedom | C8: 1 | F8: 344 | G8: 31.31 | H8: =G8-G7 -> 23.8 | I8: 39.65 | J8: 13
A9: 4 | B9: Hurricane | C9: 6 | F9: 344 | G9: 1 Круг | H9: 8.67 | I9: 39.6 | J9: 232
A10: 5 | B10: Kozaks | C10: 4 | F10: 343 | G10: 1 Круг | H10: 3.5 | I10: 39.55 | J10: 305
A11: 6 | B11: JustKart | C11: 2 | F11: 342 | G11: 2 Круга | H11: 1 круг | I11: 39.58 | J11: 78
A12: 7 | B12: Е-мое | C12: 11 | F12: 342 | G12: 2 Круга | H12: 12 | I12: 39.81 | J12: 187
A13: 8 | B13: Kart Freedom JT | C13: 8 | F13: 340 | G13: 4 Круга | H13: 1 круг | I13: 39.6 | J13: 152
A14: 9 | B14: NaCnudax | C14: 12 | F14: 340 | G14: 4 Круга | H14: 18.50 | I14: 39.67 | J14: 174
A15: 10 | B15: 50 grams | C15: 5 | F15: 339 | G15: 5 Кругов | H15: 14 | I15: 39.64 | J15: 285
A16: 11 | B16: F1UA | C16: 7 | F16: 338 | G16: 6 Кругов | H16: 1 круг | I16: 39.83 | J16: 121
A17: 12 | B17: Ягуар | C17: 9 | F17: 337 | G17: 7 Кругов | H17: 16.5 | I17: 39.71 | J17: 330
A18: 13

Sheet Регистрация
A1: Серия мини марафонов "Большие Гонки 2019", 7-й этап, 13.07.19
A3: Регистрационная форма
AF4: 4ч
A5: № в гонке | B5: Команда | C5: Пилот | D5: № | E5: Вес | F5: Бонус | G5: Квалификация | Z5: 3ч | AK5: 2 ел
G6: карт | H6: Время | I6: бонус | J6: Итого | K6: Среднее | L6: Место | M6: 3 | N6: бонусы за вес | Z6: 2 | AA6: 1 | AB6: кол | AC6: бон | AD6: 1 | AE6: 2 | AF6: бон | AG6: уч | AH6: кол> | AI6: 2 уч | AJ6: 3 уч
A7: 1 | B7: Kart Freedom | C7: Терещенко Андрей | D7: 1-1 | E7: 90.3 | F7: 24 | G7: 21 | H7: 40.06 | I7: =IF(E7<84.9,0,IF(E7<87.4,0.1,IF(E7<89.9,0.15,IF(E7<92.4,0.2,IF(E7<94.9,0.25,IF(E7<97.4,0.3,IF(E7<99.9,0.35,0.4))))))) -> 0.2 | J7: =H7-I7 -> 39.86 | K7: =AVERAGE(J7:J8) -> 39.85 | L7: =RANK(K7,K7:K51,1) -> 5 | M7: кв | N7: 0.05 | O7: 0.1 | P7: 0.15 | Q7: 0.2 | R7: 0.25 | S7: 0.3 | T7: 0.35 | U7: =N7*8 -> 0.4 | Z7: =AVERAGE(E7:E8) -> 86.3 | AA7: =IF(E7>84.9,E7,E8) -> 90.3 | AB7: =COUNTIF(E7:E9,">84.9") -> 1 | AC7: =IF(AB7=1,AD7,AE7) -> 18 | AD7: =IF(AA7<84.9,0,IF(AA7<87.4,9,IF(AA7<89.9,13.5,IF(AA7<92.4,18,IF(AA7<94.9,22.5,IF(AA7<97.4,27,IF(AA7<99.9,31.5,36))))))) -> 18 | AE7: =IF(Z7<84.9,0,IF(Z7<87.4,18,IF(Z7<89.9,27,IF(Z7<92.4,36,IF(Z7<94.9,45,IF(Z7<97.4,54,IF(Z7<99.9,63,72))))))) -> 18 | AF7: =IF(AG7=2,AI7,AJ7) -> 0 | AG7: =COUNTIF(E7:E9,">1") -> 2 | AH7: =COUNTIF(E7:E9,">84.9") -> 1 | AI7: =IF(AH7=1,AK7,AL7) -> 0 | AJ7: 4
C8: Паненко Женя | D8: 1-2 | E8: 82.3 | G8: 44 | H8: 39.84 | I8: =IF(E8<84.9,0,IF(E8<87.4,0.1,IF(E8<89.9,0.15,IF(E8<92.4,0.2,IF(E8<94.9,0.25,IF(E8<97.4,0.3,IF(E8<99.9,0.35,0.4))))))) -> 0 | J8: =H8-I8 -> 39.84 | M8: 3 часа | N8: =1.5*3 -> 4.5 | O8: =1.5*3*2 -> 9 | P8: =1.5*3*3 -> 13.5 | Q8: =1.5*3*4 -> 18 | R8: =1.5*3*5 -> 22.5 | S8: =1.5*3*6 -> 27 | T8: =1.5*3*7 -> 31.5 | U8: =1.5*3*8 -> 36 | V8: 1 пилот
D9: 1-3 | I9: =IF(E9<84.9,0,IF(E9<87.4,0.1,IF(E9<89.9,0.15,IF(E9<92.4,0.2,IF(E9<94.9,0.25,IF(E9<97.4,0.3,IF(E9<99.9,0.35,0.4))))))) -> 0 | J9: =H9-I9 -> 0 | N9: =3*3 -> 9 | O9: =3*3*2 -> 18 | P9: =3*3*3 -> 27 | Q9: =3*3*4 -> 36 | R9: =3*3*5 -> 45 | S9: =3*3*6 -> 54 | T9: =3*3*7 -> 63 | U9: =3*3*8 -> 72 | V9: 2 пилота
A10: 2 | B10: JustKart | C10: Шиленко Саша | D10: 2-1 | E10: 83 | G10: 69 | H10: 39.89 | I10: =IF(E10<84.9,0,IF(E10<87.4,0.1,IF(E10<89.9,0.15,IF(E10<92.4,0.2,IF(E10<94.9,0.25,IF(E10<97.4,0.3,IF(E10<99.9,0.35,0.4))))))) -> 0 | J10: =H10-I10 -> 39.89 | K10: =AVERAGE(J10:J11) -> 40.1 | L10: =RANK(K10,K7:K51,1) -> 8 | M10: вес | N10: 82.5 | O10: 85 | P10: 87.5 | Q10: 90 | R10: 92.5 | S10: 95 | T10: 97.5 | U10: 100 | Z10: =AVERAGE(E10:E11) -> 78.35 | AA10: =IF(E10>84.9,E10,E11) -> 73.7 | AB10: =COUNTIF(E10:E12,">84.9") -> 0 | AC10: =IF(AB10=1,AD10,AE10) -> 0 | AD10: =IF(AA10<84.9,0,IF(AA10<87.4,9,IF(AA10<89.9,13.5,IF(AA10<92.4,18,IF(AA10<94.9,22.5,IF(AA10<97.4,27,IF(AA10<99.9,31.5,36))))))) -> 0 | AE10: =IF(Z10<84.9,0,IF(Z10<87.4,18,IF(Z10<89.9,27,IF(Z10<92.4,36,IF(Z10<94.9,45,IF(Z10<97.4,54,IF(Z10<99.9,63,72))))))) -> 0 | AF10: =IF(AG10=2,AI10,AJ10) -> 0 | AG10: =COUNTIF(E10:E12,">1") -> 2 | AH10: =COUNTIF(E10:E12,">84.9") -> 0
C11: Соколан Артем | D11: 2-2 | E11: 73.7 | G11: 44 | H11: 40.31 | I11: =IF(E11<84.9,0,IF(E11<87.4,0.1,IF(E11<89.9,0.15,IF(E11<92.4,0.2,IF(E11<94.9,0.25,IF(E11<97.4,0.3,IF(E11<99.9,0.35,0.4))))))) -> 0 | J11: =H11-I11 -> 40.31 | M11: 4 часа | N11: =1.5*4 -> 6 | O11: =1.5*4*2 -> 12 | P11: =1.5*4*3 -> 18 | Q11: =1.5*4*4 -> 24 | R11: =1.5*4*5 -> 30 | S11: =1.5*4*6 -> 36 | T11: =1.5*4*7 -> 42 | U11: =1.5*4*8 -> 48 | V11: 1 пилот | W11: 2 участника в команде
D12: 2-3 | I12: =IF(E12<84.9,0,IF(E12<87.4,0.1,IF(E12<89.9,0.15,IF(E12<92.4,0.2,IF(E12<94.9,0.25,IF(E12<97.4,0.3,IF(E12<99.9,0.35,0.4))))))) -> 0 | J12: =H12-I12 -> 0 | N12: =3*4 -> 12 | O12: =3*4*2 -> 24 | P12: =3*4*3 -> 36 | Q12: =3*4*4 -> 48 | R12: =3*4*5 -> 60 | S12: =3*4*6 -> 72 | T12: =3*4*7 -> 84 | U12: =3*4*8 -> 96 | V12: 2 пилота
A13: 3 | B13: NFS Fortuna RT | C13: Фортуна Таня | D13: 3-1 | E13: 67.9 | G13: 2 | H13: 39.92 | I13: =IF(E13<84.9,0,IF(E13<87.4,0.1,IF(E13<89.9,0.15,IF(E13<92.4,0.2,IF(E13<94.9,0.25,IF(E13<97.4,0.3,IF(E13<99.9,0.35,0.4))))))) -> 0 | J13: =H13-I13 -> 39.92 | K13: =AVERAGE(J13:J14) -> 39.805 | L13: =RANK(K13,K7:K51,1) -> 2 | N13: =1*4 -> 4 | O13: =1*4*2 -> 8 | P13: =1*4*3 -> 12 | Q13: =1*4*4 -> 16 | R13: =1*4*5 -> 20 | S13: =1*4*6 -> 24 | T13: =1*4*7 -> 28 | U13: =1*4*8 -> 32 | V13: 1 пилот | W13: 3 участника в команде | Z13: =AVERAGE(E13:E14) -> 74.45 | AA13: =IF(E13>84.9,E13,E14) -> 81 | AB13: =COUNTIF(E13:E15,">84.9") -> 0 | AC13: =IF(AB13=1,AD13,AE13) -> 0 | AD13: =IF(AA13<84.9,0,IF(AA13<87.4,9,IF(AA13<89.9,13.5,IF(AA13<92.4,18,IF(AA13<94.9,22.5,IF(AA13<97.4,27,IF(AA13<99.9,31.5,36))))))) -> 0 | AE13: =IF(Z13<84.9,0,IF(Z13<87.4,18,IF(Z13<89.9,27,IF(Z13<92.4,36,IF(Z13<94.9,45,IF(Z13<97.4,54,IF(Z13<99.9,63,72))))))) -> 0 | AF13: =IF(AG13=2,AI13,AJ13) -> 0 | AG13: =COUNTIF(E13:E15,">1") -> 2 | AH13: =COUNTIF(E13:E15,">84.9") -> 0
C14: Шутка Виталий | D14: 3-2 | E14: 81 | G14: 1 | H14: 39.69 | I14: =IF(E14<84.9,0,IF(E14<87.4,0.1,IF(E14<89.9,0.15,IF(E14<92.4,0.2,IF(E14<94.9,0.25,IF(E14<97.4,0.3,IF(E14<99.9,0.35,0.4))))))) -> 0 | J14: =H14-I14 -> 39.69 | N14: =2*4 -> 8 | O14: =2*4*2 -> 16 | P14: =2*4*3 -> 24 | Q14: =2*4*4 -> 32 | R14: =2*4*5 -> 40 | S14: =2*4*6 -> 48 | T14: =2*4*7 -> 56 | U14: =2*4*8 -> 64 | V14: 2 пилота
D15: 3-3 | I15: =IF(E15<84.9,0,IF(E15<87.4,0.1,IF(E15<89.9,0.15,IF(E15<92.4,0.2,IF(E15<94.9,0.25,IF(E15<97.4,0.3,IF(E15<99.9,0.35,0.4))))))) -> 0 | J15: =H15-I15 -> 0 | N15: =3*4 -> 12 | O15: =3*4*2 -> 24 | P15: =3*4*3 -> 36 | Q15: =3*4*4 -> 48 | R15: =3*4*5 -> 60 | S15: =3*4*6 -> 72 | T15: =3*4*7 -> 84 | U15: =3*4*8 -> 96 | V15: 3 пилота
A16: 4 | B16: Kozaks | C16: Голубченко Саша | D16: 4-1 | E16: 85.2 | F16: 12 | G16: 3 | H16: 39.92 | I16: =IF(E16<84.9,0,IF(E16<87.4,0.1,IF(E16<89.9,0.15,IF(E16<92.4,0.2,IF(E16<94.9,0.25,IF(E16<97.4,0.3,IF(E16<99.9,0.35,0.4))))))) -> 0.1 | J16: =H16-I16 -> 39.82 | K16: =AVERAGE(J16:J17) -> 39.885 | L16: =RANK(K16,K7:K51,1) -> 6 | Z16: =AVERAGE(E16:E17) -> 81 | AA16: =IF(E16>84.9,E16,E17) -> 85.2 | AB16: =COUNTIF(E16:E18,">84.9") -> 1 | AC16: =IF(AB16=1,AD16,AE16) -> 9 | AD16: =IF(AA16<84.9,0,IF(AA16<87.4,9,IF(AA16<89.9,13.5,IF(AA16<92.4,18,IF(AA16<94.9,22.5,IF(AA16<97.4,27,IF(AA16<99.9,31.5,36))))))) -> 9 | AE16: =IF(Z16<84.9,0,IF(Z16<87.4,18,IF(Z16<89.9,27,IF(Z16<92.4,36,IF(Z16<94.9,45,IF(Z16<97.4,54,IF(Z16<99.9,63,72))))))) -> 0 | AF16: =IF(AG16=2,AI16,AJ16) -> 0 | AG16: =COUNTIF(E16:E18,">1") -> 2 | AH16: =COUNTIF(E16:E18,">84.9") -> 1
C17: Ткаченко Кирилл | D17: 4-2 | E17: 76.8 | G17: 2 | H17: 39.95 | I17: =IF(E17<84.9,0,IF(E17<87.4,0.1,IF(E17<89.9,0.15,IF(E17<92.4,0.2,IF(E17<94.9,0.25,IF(E17<97.4,0.3,IF(E17<99.9,0.35,0.4))))))) -> 0 | J17: =H17-I17 -> 39.95 | AF17: =IF(AG17=2,AI17,AJ17) -> 0 | AG17: =COUNTIF(E17:E19,">1") -> 2 | AH17: =COUNTIF(E17:E19,">84.9") -> 0
D18: 4-3 | I18: =IF(E18<84.9,0,IF(E18<87.4,0.1,IF(E18<89.9,0.15,IF(E18<92.4,0.2,IF(E18<94.9,0.25,IF(E18<97.4,0.3,IF(E18<99.9,0.35,0.4))))))) -> 0 | J18: =H18-I18 -> 0 | AF18: =IF(AG18=2,AI18,AJ18) -> 0 | AG18: =COUNTIF(E18:E20,">1") -> 2 | AH18: =COUNTIF(E18:E20,">84.9") -> 0
A19: 5 | B19: 50 grams | C19: Сомок Денис | D19: 5-1 | E19: 75.4 | G19: 3 | H19: 39.83 | I19: =IF(E19<84.9,0,IF(E19<87.4,0.1,IF(E19<89.9,0.15,IF(E19<92.4,0.2,IF(E19<94.9,0.25,IF(E19<97.4,0.3,IF(E19<99.9,0.35,0.4))))))) -> 0 | J19: =H19-I19 -> 39.83 | K19: =AVERAGE(J19:J20) -> 40.445 | L19: =RANK(K19,K7:K51,1) -> 12 | Z19: =AVERAGE(E19:E20) -> 74.55 | AA19: =IF(E19>84.9,E19,E20) -> 73.7 | AB19: =COUNTIF(E19:E21,">84.9") -> 0 | AC19: =IF(AB19=1,AD19,AE19) -> 0 | AD19: =IF(AA19<84.9,0,IF(AA19<87.4,9,IF(AA19<89.9,13.5,IF(AA19<92.4,18,IF(AA19<94.9,22.5,IF(AA19<97.4,27,IF(AA19<99.9,31.5,36))))))) -> 0 | AE19: =IF(Z19<84.9,0,IF(Z19<87.4,18,IF(Z19<89.9,27,IF(Z19<92.4,36,IF(Z19<94.9,45,IF(Z19<97.4,54,IF(Z19<99.9,63,72))))))) -> 0 | AF19: =IF(AG19=2,AI19,AJ19) -> 0 | AG19: =COUNTIF(E19:E21,">1") -> 2 | AH19: =COUNTIF(E19:E21,">84.9") -> 0
C20: Морозенко Сергей | D20: 5-2 | E20: 73.7 | G20: 4 | H20: 41.06 | I20: =IF(E20<84.9,0,IF(E20<87.4,0.1,IF(E20<89.9,0.15,IF(E20<92.4,0.2,IF(E20<94.9,0.25,IF(E20<97.4,0.3,IF(E20<99.9,0.35,0.4))))))) -> 0 | J20: =H20-I20 -> 41.06 | AF20: =IF(AG20=2,AI20,AJ20) -> 0 | AG20: =COUNTIF(E20:E22,">1") -> 2 | AH20: =COUNTIF(E20:E22,">84.9") -> 0
D21: 5-3 | I21: =IF(E21<84.9,0,IF(E21<87.4,0.1,IF(E21<89.9,0.15,IF(E21<92.4,0.2,IF(E21<94.9,0.25,IF(E21<97.4,0.3,IF(E21<99.9,0.35,0.4))))))) -> 0 | J21: =H21-I21 -> 0 | AF21: =IF(AG21=2,AI21,AJ21) -> 0 | AG21: =COUNTIF(E21:E23,">1") -> 2 | AH21: =COUNTIF(E21:E23,">84.9") -> 0
A22: 6 | B22: Hurricane | C22: Стоцкий Андрей | D22: 6-1 | E22: 62.5 | G22: 5 | H22: 39.98 | I22: =IF(E22<84.9,0,IF(E22<87.4,0.1,IF(E22<89.9,0.15,IF(E22<92.4,0.2,IF(E22<94.9,0.25,IF(E22<97.4,0.3,IF(E22<99.9,0.35,0.4))))))) -> 0 | J22: =H22-I22 -> 39.98 | K22: =AVERAGE(J22:J23) -> 39.84 | L22: =RANK(K22,K7:K51,1) -> 4 | Z22: =AVERAGE(E22:E23) -> 66.65 | AA22: =IF(E22>84.9,E22,E23) -> 70.8 | AB22: =COUNTIF(E22:E24,">84.9") -> 0 | AC22: =IF(AB22=1,AD22,AE22) -> 0 | AD22: =IF(AA22<84.9,0,IF(AA22<87.4,9,IF(AA22<89.9,13.5,IF(AA22<92.4,18,IF(AA22<94.9,22.5,IF(AA22<97.4,27,IF(AA22<99.9,31.5,36))))))) -> 0 | AE22: =IF(Z22<84.9,0,IF(Z22<87.4,18,IF(Z22<89.9,27,IF(Z22<92.4,36,IF(Z22<94.9,45,IF(Z22<97.4,54,IF(Z22<99.9,63,72))))))) -> 0 | AF22: =IF(AG22=2,AI22,AJ22) -> 0 | AG22: =COUNTIF(E22:E24,">1") -> 2 | AH22: =COUNTIF(E22:E24,">84.9") -> 0
C23: Гаврилюк Олег | D23: 6-2 | E23: 70.8 | G23: 4 | H23: 39.7 | I23: =IF(E23<84.9,0,IF(E23<87.4,0.1,IF(E23<89.9,0.15,IF(E23<92.4,0.2,IF(E23<94.9,0.25,IF(E23<97.4,0.3,IF(E23<99.9,0.35,0.4))))))) -> 0 | J23: =H23-I23 -> 39.7 | AF23: =IF(AG23=2,AI23,AJ23) -> 0 | AG23: =COUNTIF(E23:E25,">1") -> 2 | AH23: =COUNTIF(E23:E25,">84.9") -> 0
D24: 6-3 | I24: =IF(E24<84.9,0,IF(E24<87.4,0.1,IF(E24<89.9,0.15,IF(E24<92.4,0.2,IF(E24<94.9,0.25,IF(E24<97.4,0.3,IF(E24<99.9,0.35,0.4))))))) -> 0 | J24: =H24-I24 -> 0 | AF24: =IF(AG24=2,AI24,AJ24) -> 0 | AG24: =COUNTIF(E24:E26,">1") -> 2 | AH24: =COUNTIF(E24:E26,">84.9") -> 0
A25: 7 | B25: F1UA | C25: Гончаров Рома | D25: 7-1 | E25: 67 | G25: 5 | H25: 40.35 | I25: =IF(E25<84.9,0,IF(E25<87.4,0.1,IF(E25<89.9,0.15,IF(E25<92.4,0.2,IF(E25<94.9,0.25,IF(E25<97.4,0.3,IF(E25<99.9,0.35,0.4))))))) -> 0 | J25: =H25-I25 -> 40.35 | K25: =AVERAGE(J25:J26) -> 40.2 | L25: =RANK(K25,K7:K51,1) -> 9 | Z25: =AVERAGE(E25:E26) -> 70 | AA25: =IF(E25>84.9,E25,E26) -> 73 | AB25: =COUNTIF(E25:E27,">84.9") -> 0 | AC25: =IF(AB25=1,AD25,AE25) -> 0 | AD25: =IF(AA25<84.9,0,IF(AA25<87.4,9,IF(AA25<89.9,13.5,IF(AA25<92.4,18,IF(AA25<94.9,22.5,IF(AA25<97.4,27,IF(AA25<99.9,31.5,36))))))) -> 0 | AE25: =IF(Z25<84.9,0,IF(Z25<87.4,18,IF(Z25<89.9,27,IF(Z25<92.4,36,IF(Z25<94.9,45,IF(Z25<97.4,54,IF(Z25<99.9,63,72))))))) -> 0 | AF25: =IF(AG25=2,AI25,AJ25) -> 0 | AG25: =COUNTIF(E25:E27,">1") -> 2 | AH25: =COUNTIF(E25:E27,">84.9") -> 0
C26: Якусик Дима | D26: 7-2 | E26: 73 | G26: 6 | H26: 40.05 | I26: =IF(E26<84.9,0,IF(E26<87.4,0.1,IF(E26<89.9,0.15,IF(E26<92.4,0.2,IF(E26<94.9,0.25,IF(E26<97.4,0.3,IF(E26<99.9,0.35,0.4))))))) -> 0 | J26: =H26-I26 -> 40.05 | AF26: =IF(AG26=2,AI26,AJ26) -> 0 | AG26: =COUNTIF(E26:E28,">1") -> 2 | AH26: =COUNTIF(E26:E28,">84.9") -> 0
D27: 7-3 | I27: =IF(E27<84.9,0,IF(E27<87.4,0.1,IF(E27<89.9,0.15,IF(E27<92.4,0.2,IF(E27<94.9,0.25,IF(E27<97.4,0.3,IF(E27<99.9,0.35,0.4))))))) -> 0 | J27: =H27-I27 -> 0 | AF27: =IF(AG27=2,AI27,AJ27) -> 0 | AG27: =COUNTIF(E27:E29,">1") -> 2 | AH27: =COUNTIF(E27:E29,">84.9") -> 0
A28: 8 | B28: Kart Freedom GT | C28: Новиков Герман | D28: 8-1 | E28: 55 | G28: 6 | H28: 39.72 | I28: =IF(E28<84.9,0,IF(E28<87.4,0.1,IF(E28<89.9,0.15,IF(E28<92.4,0.2,IF(E28<94.9,0.25,IF(E28<97.4,0.3,IF(E28<99.9,0.35,0.4))))))) -> 0 | J28: =H28-I28 -> 39.72 | K28: =AVERAGE(J28:J29) -> 39.82 | L28: =RANK(K28,K7:K51,1) -> 3 | Z28: =AVERAGE(E28:E29) -> 54.5 | AA28: =IF(E28>84.9,E28,E29) -> 54 | AB28: =COUNTIF(E28:E30,">84.9") -> 0 | AC28: =IF(AB28=1,AD28,AE28) -> 0 | AD28: =IF(AA28<84.9,0,IF(AA28<87.4,9,IF(AA28<89.9,13.5,IF(AA28<92.4,18,IF(AA28<94.9,22.5,IF(AA28<97.4,27,IF(AA28<99.9,31.5,36))))))) -> 0 | AE28: =IF(Z28<84.9,0,IF(Z28<87.4,18,IF(Z28<89.9,27,IF(Z28<92.4,36,IF(Z28<94.9,45,IF(Z28<97.4,54,IF(Z28<99.9,63,72))))))) -> 0 | AF28: =IF(AG28=2,AI28,AJ28) -> 0 | AG28: =COUNTIF(E28:E30,">1") -> 2 | AH28: =COUNTIF(E28:E30,">84.9") -> 0
C29: Медведева Даша | D29: 8-2 | E29: 54 | G29: 7 | H29: 39.92 | I29: =IF(E29<84.9,0,IF(E29<87.4,0.1,IF(E29<89.9,0.15,IF(E29<92.4,0.2,IF(E29<94.9,0.25,IF(E29<97.4,0.3,IF(E29<99.9,0.35,0.4))))))) -> 0 | J29: =H29-I29 -> 39.92 | AF29: =IF(AG29=2,AI29,AJ29) -> 0 | AG29: =COUNTIF(E29:E31,">1") -> 2 | AH29: =COUNTIF(E29:E31,">84.9") -> 0
D30: 8-3 | I30: =IF(E30<84.9,0,IF(E30<87.4,0.1,IF(E30<89.9,0.15,IF(E30<92.4,0.2,IF(E30<94.9,0.25,IF(E30<97.4,0.3,IF(E30<99.9,0.35,0.4))))))) -> 0 | J30: =H30-I30 -> 0 | AF30: =IF(AG30=2,AI30,AJ30) -> 0 | AG30: =COUNTIF(E30:E32,">1") -> 2 | AH30: =COUNTIF(E30:E32,">84.9") -> 0
A31: 9 | B31: Ягуар | C31: Лихошерст Алексей | D31: 9-1 | E31: 70.4 | G31: 9 | H31: 40.08 | I31: =IF(E31<84.9,0,IF(E31<87.4,0.1,IF(E31<89.9,0.15,IF(E31<92.4,0.2,IF(E31<94.9,0.25,IF(E31<97.4,0.3,IF(E31<99.9,0.35,0.4))))))) -> 0 | J31: =H31-I31 -> 40.08 | K31: =AVERAGE(J31:J32) -> 40.275 | L31: =RANK(K31,K7:K51,1) -> 10 | Z31: =AVERAGE(E31:E32) -> 73.3 | AA31: =IF(E31>84.9,E31,E32) -> 76.2 | AB31: =COUNTIF(E31:E33,">84.9") -> 0 | AC31: =IF(AB31=1,AD31,AE31) -> 0 | AD31: =IF(AA31<84.9,0,IF(AA31<87.4,9,IF(AA31<89.9,13.5,IF(AA31<92.4,18,IF(AA31<94.9,22.5,IF(AA31<97.4,27,IF(AA31<99.9,31.5,36))))))) -> 0 | AE31: =IF(Z31<84.9,0,IF(Z31<87.4,18,IF(Z31<89.9,27,IF(Z31<92.4,36,IF(Z31<94.9,45,IF(Z31<97.4,54,IF(Z31<99.9,63,72))))))) -> 0 | AF31: =IF(AG31=2,AI31,AJ31) -> 0 | AG31: =COUNTIF(E31:E33,">1") -> 2 | AH31: =COUNTIF(E31:E33,">84.9") -> 0
C32: Якусик Саша | D32: 9-2 | E32: 76.2 | G32: 8 | H32: 40.47 | I32: =IF(E32<84.9,0,IF(E32<87.4,0.1,IF(E32<89.9,0.15,IF(E32<92.4,0.2,IF(E32<94.9,0.25,IF(E32<97.4,0.3,IF(E32<99.9,0.35,0.4))))))) -> 0 | J32: =H32-I32 -> 40.47 | AF32: =IF(AG32=2,AI32,AJ32) -> 0 | AG32: =COUNTIF(E32:E34,">1") -> 2 | AH32: =COUNTIF(E32:E34,">84.9") -> 0
C33: Карлюк Марина | D33: 9-3 | I33: =IF(E33<84.9,0,IF(E33<87.4,0.1,IF(E33<89.9,0.15,IF(E33<92.4,0.2,IF(E33<94.9,0.25,IF(E33<97.4,0.3,IF(E33<99.9,0.35,0.4))))))) -> 0 | J33: =H33-I33 -> 0 | AF33: =IF(AG33=2,AI33,AJ33) -> 0 | AG33: =COUNTIF(E33:E35,">1") -> 1 | AH33: =COUNTIF(E33:E35,">84.9") -> 0
A34: 10 | B34: К44 | C34: Петушков Андрей | D34: 10-1 | E34: 77.5 | G34: 9 | H34: 39.85 | I34: =IF(E34<84.9,0,IF(E34<87.4,0.1,IF(E34<89.9,0.15,IF(E34<92.4,0.2,IF(E34<94.9,0.25,IF(E34<97.4,0.3,IF(E34<99.9,0.35,0.4))))))) -> 0 | J34: =H34-I34 -> 39.85 | K34: =AVERAGE(J34:J35) -> 39.665 | L34: =RANK(K34,K7:K51,1) -> 1 | Z34: =AVERAGE(E34:E35) -> 77.5 | AA34: =IF(E34>84.9,E34,E35) -> 0 | AB34: =COUNTIF(E34:E36,">84.9") -> 0 | AC34: =IF(AB34=1,AD34,AE34) -> 0 | AD34: =IF(AA34<84.9,0,IF(AA34<87.4,9,IF(AA34<89.9,13.5,IF(AA34<92.4,18,IF(AA34<94.9,22.5,IF(AA34<97.4,27,IF(AA34<99.9,31.5,36))))))) -> 0 | AE34: =IF(Z34<84.9,0,IF(Z34<87.4,18,IF(Z34<89.9,27,IF(Z34<92.4,36,IF(Z34<94.9,45,IF(Z34<97.4,54,IF(Z34<99.9,63,72))))))) -> 0 | AF34: =IF(AG34=2,AI34,AJ34) -> 0 | AG34: =COUNTIF(E34:E36,">1") -> 1 | AH34: =COUNTIF(E34:E36,">84.9") -> 0
C35: Мифтахутдинов Ильяс | D35: 10.2 | G35: 10 | H35: 39.48 | I35: =IF(E35<84.9,0,IF(E35<87.4,0.1,IF(E35<89.9,0.15,IF(E35<92.4,0.2,IF(E35<94.9,0.25,IF(E35<97.4,0.3,IF(E35<99.9,0.35,0.4))))))) -> 0 | J35: =H35-I35 -> 39.48 | AF35: =IF(AG35=2,AI35,AJ35) -> 0 | AG35: =COUNTIF(E35:E37,">1") -> 0 | AH35: =COUNTIF(E35:E37,">84.9") -> 0
D36: 10-3 | I36: =IF(E36<84.9,0,IF(E36<87.4,0.1,IF(E36<89.9,0.15,IF(E36<92.4,0.2,IF(E36<94.9,0.25,IF(E36<97.4,0.3,IF(E36<99.9,0.35,0.4))))))) -> 0 | J36: =H36-I36 -> 0 | AF36: =IF(AG36=2,AI36,AJ36) -> 0 | AG36: =COUNTIF(E36:E38,">1") -> 1 | AH36: =COUNTIF(E36:E38,">84.9") -> 0
A37: 11 | B37: E-мое | C37: Лабинский Ниеолай | D37: 11-1 | E37: 95.8 | F37: 36 | G37: 10 | H37: 40.39 | I37: =IF(E37<84.9,0,IF(E37<87.4,0.1,IF(E37<89.9,0.15,IF(E37<92.4,0.2,IF(E37<94.9,0.25,IF(E37<97.4,0.3,IF(E37<99.9,0.35,0.4))))))) -> 0.4 | J37: =H37-I37 -> 39.99 | K37: =AVERAGE(J37:J38) -> 40.06 | L37: =RANK(K37,K7:K51,1) -> 7 | Z37: =AVERAGE(E37:E38) -> 75.2 | AA37: =IF(E37>84.9,E37,E38) -> 95.8 | AB37: =COUNTIF(E37:E39,">84.9") -> 0 | AC37: =IF(AB37=1,AD37,AE37) -> 0 | AD37: =IF(AA37<84.9,0,IF(AA37<87.4,9,IF(AA37<89.9,13.5,IF(AA37<92.4,18,IF(AA37<94.9,22.5,IF(AA37<97.4,27,IF(AA37<99.9,31.5,36))))))) -> 36 | AE37: =IF(Z37<84.9,0,IF(Z37<87.4,18,IF(Z37<89.9,27,IF(Z37<92.4,36,IF(Z37<94.9,45,IF(Z37<97.4,54,IF(Z37<99.9,63,72))))))) -> 0 | AF37: =IF(AG37=2,AI37,AJ37) -> 0 | AG37: =COUNTIF(E37:E39,">1") -> 1 | AH37: =COUNTIF(E37:E39,">84.9") -> 0
C38: Таволжан Виталий | D38: 11-2 | E38: 75.2 | G38: 11 | H38: 40.13 | I38: =IF(E38<84.9,0,IF(E38<87.4,0.1,IF(E38<89.9,0.15,IF(E38<92.4,0.2,IF(E38<94.9,0.25,IF(E38<97.4,0.3,IF(E38<99.9,0.35,0.4))))))) -> 0 | J38: =H38-I38 -> 40.13 | AF38: =IF(AG38=2,AI38,AJ38) -> 0 | AG38: =COUNTIF(E38:E40,">1") -> 2 | AH38: =COUNTIF(E38:E40,">84.9") -> 0
D39: 11-3 | I39: =IF(E39<84.9,0,IF(E39<87.4,0.1,IF(E39<89.9,0.15,IF(E39<92.4,0.2,IF(E39<94.9,0.25,IF(E39<97.4,0.3,IF(E39<99.9,0.35,0.4))))))) -> 0 | J39: =H39-I39 -> 0 | AF39: =IF(AG39=2,AI39,AJ39) -> 0 | AG39: =COUNTIF(E39:E41,">1") -> 2 | AH39: =COUNTIF(E39:E41,">84.9") -> 0
A40: 12 | B40: NaCnudax | C40: Голуб Сергей | D40: 12-1 | E40: 7 | G40: 11 | H40: 40.35 | I40: =IF(E40<84.9,0,IF(E40<87.4,0.1,IF(E40<89.9,0.15,IF(E40<92.4,0.2,IF(E40<94.9,0.25,IF(E40<97.4,0.3,IF(E40<99.9,0.35,0.4))))))) -> 0 | J40: =H40-I40 -> 40.35 | K40: =AVERAGE(J40:J41) -> 40.315 | L40: =RANK(K40,K7:K51,1) -> 11 | Z40: =AVERAGE(E40:E41) -> 44 | AA40: =IF(E40>84.9,E40,E41) -> 81 | AB40: =COUNTIF(E40:E42,">84.9") -> 0 | AC40: =IF(AB40=1,AD40,AE40) -> 0 | AD40: =IF(AA40<84.9,0,IF(AA40<87.4,9,IF(AA40<89.9,13.5,IF(AA40<92.4,18,IF(AA40<94.9,22.5,IF(AA40<97.4,27,IF(AA40<99.9,31.5,36))))))) -> 0 | AE40: =IF(Z40<84.9,0,IF(Z40<87.4,18,IF(Z40<89.9,27,IF(Z40<92.4,36,IF(Z40<94.9,45,IF(Z40<97.4,54,IF(Z40<99.9,63,72))))))) -> 0 | AF40: =IF(AG40=2,AI40,AJ40) -> 0 | AG40: =COUNTIF(E40:E42,">1") -> 2 | AH40: =COUNTIF(E40:E42,">84.9") -> 0
C41: Харченко Артем | D41: 12-2 | E41: 81 | G41: 13 | H41: 40.28 | I41: =IF(E41<84.9,0,IF(E41<87.4,0.1,IF(E41<89.9,0.15,IF(E41<92.4,0.2,IF(E41<94.9,0.25,IF(E41<97.4,0.3,IF(E41<99.9,0.35,0.4))))))) -> 0 | J41: =H41-I41 -> 40.28 | AF41: =IF(AG41=2,AI41,AJ41) -> 0 | AG41: =COUNTIF(E41:E43,">1") -> 1 | AH41: =COUNTIF(E41:E43,">84.9") -> 0
D42: 12-3 | I42: =IF(E42<84.9,0,IF(E42<87.4,0.1,IF(E42<89.9,0.15,IF(E42<92.4,0.2,IF(E42<94.9,0.25,IF(E42<97.4,0.3,IF(E42<99.9,0.35,0.4))))))) -> 0 | J42: =H42-I42 -> 0 | AF42: =IF(AG42=2,AI42,AJ42) -> 0 | AG42: =COUNTIF(E42:E44,">1") -> 0 | AH42: =COUNTIF(E42:E44,">84.9") -> 0
A43: 13 | D43: 13-1 | I43: =IF(E43<84.9,0,IF(E43<87.4,0.1,IF(E43<89.9,0.15,IF(E43<92.4,0.2,IF(E43<94.9,0.25,IF(E43<97.4,0.3,IF(E43<99.9,0.35,0.4))))))) -> 0 | J43: =H43-I43 -> 0 | L43: =RANK(K43,K7:K51,1) -> #N/A | Z43: =AVERAGE(E43:E44) -> #DIV/0! | AA43: =IF(E43>84.9,E43,E44) -> 0 | AB43: =COUNTIF(E43:E45,">84.9") -> 0 | AC43: =IF(AB43=1,AD43,AE43) -> #DIV/0! | AD43: =IF(AA43<84.9,0,IF(AA43<87.4,9,IF(AA43<89.9,13.5,IF(AA43<92.4,18,IF(AA43<94.9,22.5,IF(AA43<97.4,27,IF(AA43<99.9,31.5,36))))))) -> 0 | AE43: =IF(Z43<84.9,0,IF(Z43<87.4,18,IF(Z43<89.9,27,IF(Z43<92.4,36,IF(Z43<94.9,45,IF(Z43<97.4,54,IF(Z43<99.9,63,72))))))) -> #DIV/0! | AF43: =IF(AG43=2,AI43,AJ43) -> 0 | AG43: =COUNTIF(E43:E45,">1") -> 0 | AH43: =COUNTIF(E43:E45,">84.9") -> 0
D44: 13-2 | I44: =IF(E44<84.9,0,IF(E44<87.4,0.1,IF(E44<89.9,0.15,IF(E44<92.4,0.2,IF(E44<94.9,0.25,IF(E44<97.4,0.3,IF(E44<99.9,0.35,0.4))))))) -> 0 | J44: =H44-I44 -> 0 | AF44: =IF(AG44=2,AI44,AJ44) -> 0 | AG44: =COUNTIF(E44:E46,">1") -> 0 | AH44: =COUNTIF(E44:E46,">84.9") -> 0
D45: 13-3 | I45: =IF(E45<84.9,0,IF(E45<87.4,0.1,IF(E45<89.9,0.15,IF(E45<92.4,0.2,IF(E45<94.9,0.25,IF(E45<97.4,0.3,IF(E45<99.9,0.35,0.4))))))) -> 0 | J45: =H45-I45 -> 0 | AF45: =IF(AG45=2,AI45,AJ45) -> 0 | AG45: =COUNTIF(E45:E47,">1") -> 0 | AH45: =COUNTIF(E45:E47,">84.9") -> 0
A46: 14 | D46: 14-1 | I46: =IF(E46<84.9,0,IF(E46<87.4,0.1,IF(E46<89.9,0.15,IF(E46<92.4,0.2,IF(E46<94.9,0.25,IF(E46<97.4,0.3,IF(E46<99.9,0.35,0.4))))))) -> 0 | J46: =H46-I46 -> 0 | L46: =RANK(K46,K7:K51,1) -> #N/A | Z46: =AVERAGE(E46:E47) -> #DIV/0! | AA46: =IF(E46>84.9,E46,E47) -> 0 | AB46: =COUNTIF(E46:E48,">84.9") -> 0 | AC46: =IF(AB46=1,AD46,AE46) -> #DIV/0! | AD46: =IF(AA46<84.9,0,IF(AA46<87.4,9,IF(AA46<89.9,13.5,IF(AA46<92.4,18,IF(AA46<94.9,22.5,IF(AA46<97.4,27,IF(AA46<99.9,31.5,36))))))) -> 0 | AE46: =IF(Z46<84.9,0,IF(Z46<87.4,18,IF(Z46<89.9,27,IF(Z46<92.4,36,IF(Z46<94.9,45,IF(Z46<97.4,54,IF(Z46<99.9,63,72))))))) -> #DIV/0! | AF46: =IF(AG46=2,AI46,AJ46) -> 0 | AG46: =COUNTIF(E46:E48,">1") -> 0 | AH46: =COUNTIF(E46:E48,">84.9") -> 0
D47: 14-2 | I47: =IF(E47<84.9,0,IF(E47<87.4,0.1,IF(E47<89.9,0.15,IF(E47<92.4,0.2,IF(E47<94.9,0.25,IF(E47<97.4,0.3,IF(E47<99.9,0.35,0.4))))))) -> 0 | J47: =H47-I47 -> 0 | AF47: =IF(AG47=2,AI47,AJ47) -> 0 | AG47: =COUNTIF(E47:E49,">1") -> 0 | AH47: =COUNTIF(E47:E49,">84.9") -> 0
D48: 14-3 | I48: =IF(E48<84.9,0,IF(E48<87.4,0.1,IF(E48<89.9,0.15,IF(E48<92.4,0.2,IF(E48<94.9,0.25,IF(E48<97.4,0.3,IF(E48<99.9,0.35,0.4))))))) -> 0 | J48: =H48-I48 -> 0 | AF48: =IF(AG48=2,AI48,AJ48) -> 0 | AG48: =COUNTIF(E48:E50,">1") -> 0 | AH48: =COUNTIF(E48:E50,">84.9") -> 0
A49: 15 | D49: 15-1 | I49: =IF(E49<84.9,0,IF(E49<87.4,0.1,IF(E49<89.9,0.15,IF(E49<92.4,0.2,IF(E49<94.9,0.25,IF(E49<97.4,0.3,IF(E49<99.9,0.35,0.4))))))) -> 0 | J49: =H49-I49 -> 0 | L49: =RANK(K49,K7:K51,1) -> #N/A | Z49: =AVERAGE(E49:E50) -> #DIV/0! | AA49: =IF(E49>84.9,E49,E50) -> 0 | AB49: =COUNTIF(E49:E51,">84.9") -> 0 | AC49: =IF(AB49=1,AD49,AE49) -> #DIV/0! | AD49: =IF(AA49<84.9,0,IF(AA49<87.4,9,IF(AA49<89.9,13.5,IF(AA49<92.4,18,IF(AA49<94.9,22.5,IF(AA49<97.4,27,IF(AA49<99.9,31.5,36))))))) -> 0 | AE49: =IF(Z49<84.9,0,IF(Z49<87.4,18,IF(Z49<89.9,27,IF(Z49<92.4,36,IF(Z49<94.9,45,IF(Z49<97.4,54,IF(Z49<99.9,63,72))))))) -> #DIV/0! | AF49: =IF(AG49=2,AI49,AJ49) -> 0 | AG49: =COUNTIF(E49:E51,">1") -> 0 | AH49: =COUNTIF(E49:E51,">84.9") -> 0
D50: 15-2 | I50: =IF(E50<84.9,0,IF(E50<87.4,0.1,IF(E50<89.9,0.15,IF(E50<92.4,0.2,IF(E50<94.9,0.25,IF(E50<97.4,0.3,IF(E50<99.9,0.35,0.4))))))) -> 0 | J50: =H50-I50 -> 0
D51: 15-3 | I51: =IF(E51<84.9,0,IF(E51<87.4,0.1,IF(E51<89.9,0.15,IF(E51<92.4,0.2,IF(E51<94.9,0.25,IF(E51<97.4,0.3,IF(E51<99.9,0.35,0.4))))))) -> 0 | J51: =H51-I51 -> 0

Sheet К44
A2: Чемпионат мини марафон "Большие Гонки", 7-й этап
A4: К44
A6: Обяза-тельные | B6: Пилот | C6: карт | D6: Круг | E6: кругов на отрезке | F6: Статистика по кругам | J6: Общее время гонки | K6: Время на трассе
F7: Лучший круг | G7: Среднее на отрезке | H7: Кругов в 0,1 от лучшего | I7: стабильность | K7: отрезок | L7: всего у пилота | M7: Питы | N7: Штрафы/ бонусы (сек)
A8: 1 | B8: Петушков Андрей | C8: 11 | D8: =COUNTA(C21:C85) -> 31 | E8: =COUNTA(C21:C85) -> 31 | F8: =MIN(C21:C84) -> 39.83 | G8: =AVERAGE(C21:C87) -> 40.264839 | H8: 5 | I8: =G8-F8 -> 0.43483871 | J8: 0.014479167 | K8: =J8 -> 0.014479167 | L8: =K8 -> 0.014479167 | M8: 2:16.74
A9: 2 | B9: Мифтахутдинов Ильяс | C9: 13 | D9: =COUNTA(D21:D85)+D8+1 -> 51 | E9: =COUNTA(D21:D85)+1 -> 20 | F9: =MIN(D21:D84) -> 39.91 | G9: =AVERAGE(D21:D86) -> 40.176842 | H9: 2 | I9: =G9-F9 -> 0.26684211 | J9: 0.024895833 | K9: =J9-J8 -> 0.010416667 | L9: =K9 -> 0.010416667 | M9: 2:15.94
A10: 3 | B10: Петушков Андрей | C10: 4 | D10: =COUNTA(E21:E85)+D9+1 -> 106 | E10: =COUNTA(E21:E85)+1 -> 55 | F10: =MIN(E21:E86) -> 39.57 | G10: =AVERAGE(E21:E87) -> 39.811296 | H10: 11 | I10: =G10-F10 -> 0.2412963 | J10: 0.051354167 | K10: =J10-J9 -> 0.026458333 | L10: =K10+L8 -> 0.0409375 | M10: 2:16.85
A11: 4 | B11: Мифтахутдинов Ильяс | C11: 8 | D11: =COUNTA(F21:F85)+D10+1 -> 171 | E11: =COUNTA(F21:F85)+1 -> 65 | F11: =MIN(F21:F86) -> 39.49 | G11: =AVERAGE(F21:F86) -> 39.814688 | H11: 4 | I11: =G11-F11 -> 0.3246875 | J11: 0.082430556 | K11: =J11-J10 -> 0.031076389 | L11: =K11+L9 -> 0.041493056 | M11: 2:14.89
A12: 5 | B12: Петушков Андрей | C12: 7 | D12: =COUNTA(G21:G85)+D11+1 -> 234 | E12: =COUNTA(G21:G85)+1 -> 63 | F12: =MIN(G21:G86) -> 39.47 | G12: =AVERAGE(G21:G886) -> 39.755323 | H12: 5 | I12: =G12-F12 -> 0.28532258 | J12: 0.11252315 | K12: =J12-J11 -> 0.030092593 | L12: =K12+L10 -> 0.071030093 | M12: 2:16.17
A13: 6 | B13: Мифтахутдинов Ильяс | C13: 11 | D13: =COUNTA(H21:H85)+D12+1 -> 269 | E13: =COUNTA(H21:H85)+1 -> 35 | F13: =MIN(H21:H86) -> 39.73 | G13: =AVERAGE(H21:H86) -> 39.953235 | H13: 7 | I13: =G13-F13 -> 0.22323529 | J13: 0.12983796 | K13: =J13-J12 -> 0.017314815 | L13: =K13+L11 -> 0.05880787 | M13: 2:16.80
A14: 7 | B14: Мифтахутдинов Ильяс | C14: 6 | D14: =COUNTA(I21:I85)+D13+1 -> 317 | E14: =COUNTA(I21:I85)+1 -> 48 | F14: =MIN(I21:I86) -> 39.53 | G14: =AVERAGE(I21:I86) -> 39.840213 | H14: 3 | I14: =G14-F14 -> 0.31021277 | J14: 0.15309028 | K14: =J14-J13 -> 0.023252315 | L14: =K14+L13 -> 0.082060185 | M14: 2:22.90
A15: Финиш | B15: Петушков Андрей | C15: 11 | D15: =COUNTA(J21:J85)+D14+1 -> 344 | E15: =COUNTA(J21:J85)+1 -> 27 | F15: =MIN(J21:J86) -> 39.91 | G15: =AVERAGE(J21:J86) -> 40.149231 | H15: 4 | I15: =G15-F15 -> 0.23923077 | J15: ='Общие результаты'!G6 -> 4:00:05 | K15: =J15-J14 -> 0.013634259 | L15: =K15+L12 -> 0.084664352 | N15: -5 | O15: передержали напите
F16: =AVERAGE(F8,F10,F12,F15) -> 39.695 | G16: =AVERAGE(G8,G10,G12,G15) -> 39.995172 | H16: Андрей | I16: =AVERAGE(I8,I10,I12,I15) -> 0.30017209
F17: =AVERAGE(F9,F11,F13,F14) -> 39.665 | G17: =AVERAGE(G9,G11,G13,G14) -> 39.946244 | H17: Ильяс | I17: =AVERAGE(I9,I11,I13,I14) -> 0.28124442
F18: =AVERAGE(F8:F15) -> 39.68 | G18: =AVERAGE(C21:J90) -> 39.908398 | I18: =AVERAGE(I8:I15) -> 0.29070825
C20: =B8 -> Петушков Андрей | D20: =B9 -> Мифтахутдинов Ильяс | E20: =B10 -> Петушков Андрей | F20: =B11 -> Мифтахутдинов Ильяс | G20: =B12 -> Петушков Андрей | H20: =B13 -> Мифтахутдинов Ильяс | I20: =B14 -> Мифтахутдинов Ильяс | J20: =B15 -> Петушков Андрей
B21: 1 | C21: 43.93 | D21: 40.69 | E21: 40.17 | F21: 39.88 | G21: 39.82 | H21: 40.22 | I21: 39.94 | J21: 40.52
B22: 2 | C22: 40.52 | D22: 40.44 | E22: 40.14 | F22: 39.86 | G22: 39.69 | H22: 40.15 | I22: 39.91 | J22: 40.4
B23: 3 | C23: 41.06 | D23: 40.02 | E23: 39.88 | F23: 40.11 | G23: 39.51 | H23: 40.21 | I23: 39.8 | J23: 40.29
B24: 4 | C24: 40.55 | D24: 40.07 | E24: 39.83 | F24: 40.22 | G24: 39.66 | H24: 40.15 | I24: 39.76 | J24: 40.54
B25: 5 | C25: 40.01 | D25: 40.05 | E25: 39.78 | F25: 40.61 | G25: 39.7 | H25: 39.93 | I25: 39.67 | J25: 40.4
B26: 6 | C26: 39.96 | D26: 39.91 | E26: 39.77 | F26: 39.7 | G26: 39.71 | H26: 39.87 | I26: 39.61 | J26: 40.17
B27: 7 | C27: 40.02 | D27: 40.69 | E27: 39.58 | F27: 39.88 | G27: 39.61 | H27: 39.89 | I27: 39.82 | J27: 40.18
B28: 8 | C28: 39.98 | D28: 40.01 | E28: 39.67 | F28: 39.92 | G28: 39.76 | H28: 40.33 | I28: 39.67 | J28: 40.07
B29: 9 | C29: 40.32 | D29: 39.96 | E29: 39.73 | F29: 40.03 | G29: 39.84 | H29: 39.96 | I29: 39.76 | J29: 40.07
B30: 10 | C30: 39.92 | D30: 40.09 | E30: 39.62 | F30: 39.82 | G30: 39.94 | H30: 40.15 | I30: 39.8 | J30: 40.29
B31: 11 | C31: 39.89 | D31: 40.31 | E31: 39.76 | F31: 40.23 | G31: 39.77 | H31: 40.09 | I31: 39.72 | J31: 40.23
B32: 12 | C32: 40.12 | D32: 40.05 | E32: 39.61 | F32: 39.84 | G32: 39.73 | H32: 39.88 | I32: 39.69 | J32: 40.15
... B39: 19 | C39: 39.94 | D39: 40.26 | E39: 40.72 | F39: 39.82 | G39: 40.24 | H39: 39.87 | I39: 39.66 | J39: 40.05
B40: 20 | C40: 40.74 | E40: 39.69 | F40: 39.68 | G40: 39.47 | H40: 39.78 | I40: 39.86 | J40: 39.91
B41: 21 | C41: 39.98 | E41: 39.59 | F41: 39.93 | G41: 40.21 | H41: 39.89 | I41: 39.75 | J41: 40.03
B42: 22 | C42: 39.83 | E42: 39.62 | F42: 39.78 | G42: 40.78 | H42: 39.85 | I42: 39.74 | J42: 39.99
B43: 23 | C43: 39.94 | E43: 39.74 | F43: 40.04 | G43: 39.82 | H43: 39.74 | I43: 39.71 | J43: 39.96
B44: 24 | C44: 40.07 | E44: 39.65 | F44: 40.1 | G44: 39.84 | H44: 40.2 | I44: 39.68 | J44: 40.01
B45: 25 | C45: 40.06 | E45: 39.71 | F45: 39.81 | G45: 39.69 | H45: 39.84 | I45: 40.06 | J45: 39.92
B46: 26 | C46: 40.11 | E46: 39.57 | F46: 39.85 | G46: 39.68 | H46: 39.9 | I46: 39.69 | J46: 40.02
B47: 27 | C47: 40.08 | E47: 39.71 | F47: 40.05 | G47: 39.69 | H47: 39.87 | I47: 40.02
B48: 28 | C48: 40.1 | E48: 39.85 | F48: 39.71 | G48: 39.7 | H48: 39.78 | I48: 39.84
B49: 29 | C49: 40.1 | E49: 39.63 | F49: 39.63 | G49: 39.68 | H49: 39.95 | I49: 39.67
B50: 30 | C50: 39.91 | E50: 40.16 | F50: 39.68 | G50: 39.67 | H50: 39.78 | I50: 39.79
B51: 31 | C51: 40.33 | E51: 39.79 | F51: 39.77 | G51: 39.64 | H51: 39.79 | I51: 39.59
B52: 32 | E52: 40.25 | F52: 39.69 | G52: 39.75 | H52: 39.76 | I52: 39.53
B53: 33 | E53: 39.77 | F53: 39.68 | G53: 39.67 | H53: 39.73 | I53: 39.64
B54: 34 | E54: 39.85 | F54: 40.01 | G54: 39.68 | H54: 40.21 | I54: 39.79
B55: 35 | E55: 39.75 | F55: 39.71 | G55: 39.73 | I55: 39.84
B56: 36 | E56: 39.84 | F56: 40.04 | G56: 39.79 | I56: 39.75
B57: 37 | E57: 39.78 | F57: 39.71 | G57: 39.63 | I57: 39.72
B58: 38 | E58: 39.94 | F58: 39.64 | G58: 39.74 | I58: 40.11
B59: 39 | E59: 39.86 | F59: 39.63 | G59: 39.68 | I59: 39.79
B60: 40 | E60: 39.82 | F60: 39.86 | G60: 39.61 | I60: 39.95
B61: 41 | E61: 39.82 | F61: 39.86 | G61: 39.6 | I61: 39.99
B62: 42 | E62: 39.87 | F62: 39.49 | G62: 39.63 | I62: 39.55
B63: 43 | E63: 39.74 | F63: 40.13 | G63: 39.63 | I63: 40.5
B64: 44 | E64: 39.88 | F64: 40 | G64: 39.97 | I64: 39.72
B65: 45 | E65: 39.95 | F65: 39.77 | G65: 39.74 | I65: 40.08
B66: 46 | E66: 39.8 | F66: 39.77 | G66: 39.7 | I66: 40.13
B67: 47 | E67: 39.81 | F67: 39.66 | G67: 39.5 | I67: 40.16
B68: 48 | E68: 39.84 | F68: 39.56 | G68: 40.54
B69: 49 | E69: 39.83 | F69: 39.74 | G69: 39.84
B70: 50 | E70: 39.61 | F70: 39.9 | G70: 39.71
B71: 51 | E71: 39.79 | F71: 39.77 | G71: 39.65
B72: 52 | E72: 39.92 | F72: 39.64 | G72: 39.59
B73: 53 | E73: 39.73 | F73: 39.85 | G73: 39.61
B74: 54 | E74: 40.03 | F74: 39.55 | G74: 39.54
B75: 55 | F75: 39.68 | G75: 39.7
B76: 56 | F76: 39.74 | G76: 39.9
B77: 57 | F77: 39.64 | G77: 39.54
B78: 58 | F78: 39.61 | G78: 39.7
B79: 59 | F79: 39.59 | G79: 39.66
B80: 60 | F80: 39.74 | G80: 39.62
B81: 61 | F81: 39.53 | G81: 39.68
B82: 62 | F82: 39.77 | G82: 39.98
B83: 63 | F83: 39.71
F84: 39.96

Sheet NFS Fortuna RT
A2: Чемпионат мини марафон "Большие Гонки", 7-й этап
A4: NFS Fortuna RT
A6: Обяза-тельные | B6: Пилот | C6: карт | D6: Круг | E6: кругов на отрезке | F6: Статистика по кругам | J6: Общее время гонки | K6: Время на трассе
F7: Лучший круг | G7: Среднее на отрезке | H7: Кругов в 0,1 от лучшего | I7: стабильность | K7: отрезок | L7: всего у пилота | M7: Питы | N7: Штрафы/ бонусы (сек)
A8: 1 | B8: Шутка Виталий | C8: 3 | D8: =COUNTA(C21:C85) -> 39 | E8: =COUNTA(C21:C85) -> 39 | F8: =MIN(C21:C84) -> 39.76 | G8: =AVERAGE(C21:C87) -> 40.049487 | I8: =G8-F8 -> 0.28948718 | J8: 0.018113426 | K8: =J8 -> 0.018113426 | L8: =K8 -> 0.018113426 | M8: 2:15.44
A9: 2 | B9: Шутка Виталий | C9: 1 | D9: =COUNTA(D21:D85)+D8+1 -> 98 | E9: =COUNTA(D21:D85)+1 -> 59 | F9: =MIN(D21:D84) -> 39.57 | G9: =AVERAGE(D21:D86) -> 39.822241 | I9: =G9-F9 -> 0.25224138 | J9: 0.046423611 | K9: =J9-J8 -> 0.028310185 | L9: =K9+L8 -> 0.046423611 | M9: 2:16.27
A10: 3 | B10: Фортуна Таня | C10: 10 | D10: =COUNTA(E21:E85)+D9+1 -> 138 | E10: =COUNTA(E21:E85)+1 -> 40 | F10: =MIN(E21:E86) -> 39.74 | G10: =AVERAGE(E21:E87) -> 40.129231 | I10: =G10-F10 -> 0.38923077 | J10: 0.066111111 | K10: =J10-J9 -> 0.0196875 | L10: =K10 -> 0.0196875 | M10: 2:15.73
A11: 4 | B11: Шутка Виталий | C11: 5 | D11: =COUNTA(F21:F85)+D10+1 -> 171 | E11: =COUNTA(F21:F85)+1 -> 33 | F11: =MIN(F21:F86) -> 39.58 | G11: =AVERAGE(F21:F86) -> 39.877813 | I11: =G11-F11 -> 0.2978125 | J11: 0.082453704 | K11: =J11-J10 -> 0.016342593 | L11: =K11+L9 -> 0.062766204 | M11: 2:15.91
A12: 5 | B12: Фортуна Таня | C12: 1 | D12: =COUNTA(G21:G85)+D11+1 -> 236 | E12: =COUNTA(G21:G85)+1 -> 65 | F12: =MIN(G21:G86) -> 39.61 | G12: =AVERAGE(G21:G886) -> 39.882656 | I12: =G12-F12 -> 0.27265625 | J12: 0.11356481 | K12: =J12-J11 -> 0.031111111 | L12: =K12+L10 -> 0.050798611 | M12: 2:16.23
A13: 6 | B13: Шутка Виталий | C13: 9 | D13: =COUNTA(H21:H85)+D12+1 -> 271 | E13: =COUNTA(H21:H85)+1 -> 35 | F13: =MIN(H21:H86) -> 39.84 | G13: =AVERAGE(H21:H86) -> 40.140882 | I13: =G13-F13 -> 0.30088235 | J13: 0.1309375 | K13: =J13-J12 -> 0.017372685 | L13: =K13+L11 -> 0.080138889 | M13: 2:14.62
A14: 7 | B14: Фортуна Таня | C14: 10 | D14: =COUNTA(I21:I85)+D13+1 -> 300 | E14: =COUNTA(I21:I85)+1 -> 29 | F14: =MIN(I21:I86) -> 39.84 | G14: =AVERAGE(I21:I86) -> 40.0275 | I14: =G14-F14 -> 0.1875 | J14: 0.14547454 | K14: =J14-J13 -> 0.014537037 | L14: =K14+L12 -> 0.065335648 | M14: 2:15.51
A15: Финиш | B15: Фортуна Таня | C15: 1 | D15: =COUNTA(J21:J85)+D14+1 -> 344 | E15: =COUNTA(J21:J85)+1 -> 44 | F15: =MIN(J21:J86) -> 39.55 | G15: =AVERAGE(J21:J86) -> 39.802326 | I15: =G15-F15 -> 0.25232558 | J15: ='Общие результаты'!G6 -> 4:00:05 | K15: =J15-J14 -> 0.02125 | L15: =K15+L14 -> 0.086585648
F16: =AVERAGE(F8,F9,F11,F13) -> 39.6875 | G16: =AVERAGE(G8,G10,G12,G14) -> 40.022219 | H16: Виталик | I16: =AVERAGE(I8,I10,I12,I14) -> 0.28471855
F17: =AVERAGE(F10,F12,F14,F15) -> 39.685 | G17: =AVERAGE(G9,G11,G13,G15) -> 39.910815 | H17: Таня | I17: =AVERAGE(I9,I11,I13,I15) -> 0.27581545
F18: =AVERAGE(F8:F15) -> 39.68625 | G18: =AVERAGE(C21:J90) -> 39.947478 | I18: =AVERAGE(I8:I15) -> 0.280267
C20: =B8 -> Шутка Виталий | D20: =B9 -> Шутка Виталий | E20: =B10 -> Фортуна Таня | F20: =B11 -> Шутка Виталий | G20: =B12 -> Фортуна Таня | H20: =B13 -> Шутка Виталий | I20: =B14 -> Фортуна Таня | J20: =B15 -> Фортуна Таня
B21: 1 | C21: 44.75 | D21: 40 | E21: 40.54 | F21: 40.16 | G21: 39.8 | H21: 40.46 | I21: 40.4 | J21: 39.88
B22: 2 | C22: 40.27 | D22: 39.89 | E22: 40.35 | F22: 40.01 | G22: 39.88 | H22: 40.28 | I22: 39.99 | J22: 39.74
B23: 3 | C23: 40.23 | D23: 39.8 | E23: 40.41 | F23: 39.86 | G23: 39.91 | H23: 40.14 | I23: 39.9 | J23: 39.74
B24: 4 | C24: 40.12 | D24: 39.85 | E24: 40.3 | F24: 39.86 | G24: 39.97 | H24: 40.06 | I24: 39.9 | J24: 39.73
B25: 5 | C25: 40.24 | D25: 39.67 | E25: 40.14 | F25: 39.88 | G25: 39.73 | H25: 40.07 | I25: 40 | J25: 39.85
B26: 6 | C26: 40.07 | D26: 39.79 | E26: 40.14 | F26: 40.1 | G26: 39.98 | H26: 39.91 | I26: 39.96 | J26: 39.97
B27: 7 | C27: 39.82 | D27: 39.79 | E27: 40.08 | F27: 39.75 | G27: 39.78 | H27: 40.15 | I27: 39.84 | J27: 40.23
B28: 8 | C28: 39.95 | D28: 39.68 | E28: 40.24 | F28: 39.89 | G28: 40 | H28: 40.04 | I28: 39.98 | J28: 39.82
B29: 9 | C29: 39.92 | D29: 39.86 | E29: 40.29 | F29: 39.72 | G29: 39.69 | H29: 40.2 | I29: 39.84 | J29: 39.87
B30: 10 | C30: 39.79 | D30: 39.63 | E30: 40.24 | F30: 39.93 | G30: 39.83 | H30: 40.29 | I30: 39.94 | J30: 39.73
B31: 11 | C31: 39.93 | D31: 39.57 | E31: 40.31 | F31: 40.06 | G31: 39.98 | H31: 40 | I31: 40.46 | J31: 39.69
B32: 12 | C32: 40.06 | D32: 39.6 | E32: 40.23 | F32: 39.98 | G32: 39.8 | H32: 40.39 | I32: 40.26 | J32: 39.64
... B48: 28 | C48: 39.85 | D48: 39.77 | E48: 39.84 | F48: 39.58 | G48: 39.68 | H48: 39.84 | I48: 39.98 | J48: 39.55
B49: 29 | C49: 39.81 | D49: 39.82 | E49: 39.91 | F49: 39.71 | G49: 39.93 | H49: 40.14 | J49: 39.64
B50: 30 | C50: 39.89 | D50: 40.14 | E50: 39.88 | F50: 39.66 | G50: 39.69 | H50: 40 | J50: 39.58
B51: 31 | C51: 39.76 | D51: 39.77 | E51: 39.85 | F51: 39.74 | G51: 39.9 | H51: 40.16 | J51: 39.81
B52: 32 | C52: 39.84 | D52: 39.75 | E52: 39.74 | F52: 40.4 | G52: 39.82 | H52: 40.3 | J52: 39.68
B53: 33 | C53: 39.92 | D53: 39.71 | E53: 40.79 | G53: 40 | H53: 40.19 | J53: 39.68
B54: 34 | C54: 39.82 | D54: 39.87 | E54: 40.35 | G54: 39.8 | H54: 40.83 | J54: 40.3
B55: 35 | C55: 39.9 | D55: 39.81 | E55: 40.21 | G55: 39.89 | J55: 39.93
B56: 36 | C56: 39.9 | D56: 39.64 | E56: 39.99 | G56: 39.98 | J56: 40.1
B57: 37 | C57: 39.93 | D57: 39.63 | E57: 40.1 | G57: 40 | J57: 39.73
B58: 38 | C58: 39.8 | D58: 39.72 | E58: 39.99 | G58: 39.74 | J58: 39.65
B59: 39 | C59: 40.21 | D59: 39.7 | E59: 40.13 | G59: 39.92 | J59: 39.76
B60: 40 | D60: 39.82 | G60: 39.75 | J60: 39.7
B61: 41 | D61: 39.63 | G61: 39.69 | J61: 39.7
B62: 42 | D62: 39.69 | G62: 40.08 | J62: 39.6
B63: 43 | D63: 40.07 | G63: 39.77 | J63: 39.79
B64: 44 | D64: 39.81 | G64: 39.76
B65: 45 | D65: 39.73 | G65: 39.94
B66: 46 | D66: 39.8 | G66: 40.04
B67: 47 | D67: 39.73 | G67: 40.02
B68: 48 | D68: 40.68 | G68: 39.74
B69: 49 | D69: 39.75 | G69: 39.82
B70: 50 | D70: 39.95 | G70: 39.8
B71: 51 | D71: 39.95 | G71: 40.28
B72: 52 | D72: 39.99 | G72: 39.95
B73: 53 | D73: 39.71 | G73: 39.8
B74: 54 | D74: 39.76 | G74: 39.91
B75: 55 | D75: 39.78 | G75: 39.71
... B78: 58 | D78: 40.26 | G78: 39.88
B79: 59 | G79: 40.03
B80: 60 | G80: 39.86
B81: 61 | G81: 39.8
B82: 62 | G82: 39.77
B83: 63 | G83: 39.93
G84: 39.96

Sheet Kart Freedom
A2: Чемпионат мини марафон "Большие Гонки", 7-й этап
A4: Kart Freedom
A6: Обяза-тельные | B6: Пилот | C6: карт | D6: Круг | E6: кругов на отрезке | F6: Статистика по кругам | J6: Общее время гонки | K6: Время на трассе
F7: Лучший круг | G7: Среднее на отрезке | H7: Кругов в 0,1 от лучшего | I7: стабильность | K7: отрезок | L7: всего у пилота | M7: Питы | N7: Штрафы/ бонусы (сек)
A8: 1 | B8: Терещенко Андрей | C8: 1 | D8: =COUNTA(C21:C85) -> 32 | E8: =COUNTA(C21:C85) -> 32 | F8: =MIN(C21:C84) -> 39.65 | G8: =AVERAGE(C21:C87) -> 40.114375 | H8: 2 | I8: =G8-F8 -> 0.464375 | J8: 0.014907407 | K8: =J8 -> 0.014907407 | L8: =K8 -> 0.014907407 | M8: 1:52.44 | N8: -24 | O8: бонус за вес
A9: 2 | B9: Паненко Женя | C9: 9 | D9: =COUNTA(D21:D85)+D8+1 -> 82 | E9: =COUNTA(D21:D85)+1 -> 50 | F9: =MIN(D21:D84) -> 39.66 | G9: =AVERAGE(D21:D86) -> 39.978367 | H9: 0 | I9: =G9-F9 -> 0.31836735 | J9: 0.038877315 | K9: =J9-J8 -> 0.023969907 | L9: =K9 -> 0.023969907 | M9: 2:15.70
A10: 3 | B10: Паненко Женя | C10: 69 | D10: =COUNTA(E21:E85)+D9+1 -> 105 | E10: =COUNTA(E21:E85)+1 -> 23 | F10: =MIN(E21:E86) -> 39.8 | G10: =AVERAGE(E21:E87) -> 40.060909 | H10: 2 | I10: =G10-F10 -> 0.26090909 | J10: 0.050659722 | K10: =J10-J9 -> 0.011782407 | L10: =K10+L9 -> 0.035752315 | M10: 2:21.23 | N10: 5 | O10: разворот №5
A11: 4 | B11: Терещенко Андрей | C11: 5 | D11: =COUNTA(F21:F85)+D10+1 -> 131 | E11: =COUNTA(F21:F85)+1 -> 26 | F11: =MIN(F21:F86) -> 39.73 | G11: =AVERAGE(F21:F86) -> 40.07 | H11: 0 | I11: =G11-F11 -> 0.34 | J11: 0.063888889 | K11: =J11-J10 -> 0.013229167 | L11: =K11+L8 -> 0.028136574 | M11: 2:15.22
A12: 5 | B12: Терещенко Андрей | C12: 4 | D12: =COUNTA(G21:G85)+D11+1 -> 172 | E12: =COUNTA(G21:G85)+1 -> 41 | F12: =MIN(G21:G86) -> 39.75 | G12: =AVERAGE(G21:G886) -> 39.91025 | H12: 10 | I12: =G12-F12 -> 0.16025 | J12: 0.083935185 | K12: =J12-J11 -> 0.020046296 | L12: =K12+L11 -> 0.04818287 | M12: 2:16.43
A13: 6 | B13: Паненко Женя | C13: 8 | D13: =COUNTA(H21:H85)+D12+1 -> 236 | E13: =COUNTA(H21:H85)+1 -> 64 | F13: =MIN(H21:H86) -> 39.81 | G13: =AVERAGE(H21:H86) -> 40.092381 | H13: 9 | I13: =G13-F13 -> 0.28238095 | J13: 0.11474537 | K13: =J13-J12 -> 0.030810185 | L13: =K13+L10 -> 0.0665625 | M13: 2:16.69
A14: 7 | B14: Терещенко Андрей | C14: 2 | D14: =COUNTA(I21:I85)+D13+1 -> 301 | E14: =COUNTA(I21:I85)+1 -> 65 | F14: =MIN(I21:I86) -> 39.84 | G14: =AVERAGE(I21:I86) -> 40.076563 | H14: 11 | I14: =G14-F14 -> 0.2365625 | J14: 0.14601852 | K14: =J14-J13 -> 0.031273148 | L14: =K14+L12 -> 0.079456019 | M14: 2:16.32
A15: Финиш | B15: Паненко Женя | C15: 69 | D15: =COUNTA(J21:J85)+D14+1 -> 344 | E15: =COUNTA(J21:J85)+1 -> 43 | F15: =MIN(J21:J86) -> 39.79 | G15: =AVERAGE(J21:J86) -> 40.050714 | H15: 6 | I15: =G15-F15 -> 0.26071429 | J15: ='Общие результаты'!G6 -> 4:00:05 | K15: =J15-J14 -> 0.020706019 | L15: =K15+L13 -> 0.087268519 | N15: 5 | O15: лимит
F16: =AVERAGE(F8,F11,F12,F14) -> 39.7425 | G16: =AVERAGE(G8,G11,G12,G14) -> 40.042797 | H16: Андрей | I16: =AVERAGE(I8,I11,I12,I14) -> 0.30029687
F17: =AVERAGE(F9,F10,F13,F15) -> 39.765 | G17: =AVERAGE(G9,G10,G13,G15) -> 40.045593 | H17: Женя | I17: =AVERAGE(I9,I10,I13,I15) -> 0.28059292
F18: =AVERAGE(F8:F15) -> 39.75375 | G18: =AVERAGE(C21:J90) -> 40.044362 | I18: =AVERAGE(I8:I15) -> 0.2904449
C20: =B8 -> Терещенко Андрей | D20: =B9 -> Паненко Женя | E20: =B10 -> Паненко Женя | F20: =B11 -> Терещенко Андрей | G20: =B12 -> Терещенко Андрей | H20: =B13 -> Паненко Женя | I20: =B14 -> Терещенко Андрей | J20: =B15 -> Паненко Женя
B21: 1 | C21: 46.27 | D21: 40.25 | E21: 40.03 | F21: 40.26 | G21: 40.08 | H21: 40.62 | I21: 40.44 | J21: 40.22
B22: 2 | C22: 40.76 | D22: 40.08 | E22: 40.08 | F22: 40.18 | G22: 40.01 | H22: 40.25 | I22: 40.2 | J22: 40.12
B23: 3 | C23: 40.28 | D23: 40.04 | E23: 40.03 | F23: 39.98 | G23: 40.03 | H23: 40.03 | I23: 40.36 | J23: 40.3
B24: 4 | C24: 40.08 | D24: 40.14 | E24: 39.96 | F24: 39.94 | G24: 40.05 | H24: 40.23 | I24: 40.18 | J24: 40.08
B25: 5 | C25: 40.02 | D25: 40.15 | E25: 40.02 | F25: 40 | G25: 39.88 | H25: 40.25 | I25: 40.29 | J25: 40.09
B26: 6 | C26: 40.12 | D26: 40.21 | E26: 39.94 | F26: 40.09 | G26: 39.93 | H26: 40.32 | I26: 40.21 | J26: 40.19
B27: 7 | C27: 39.82 | D27: 40.15 | E27: 39.91 | F27: 40.01 | G27: 39.9 | H27: 40.3 | I27: 40.21 | J27: 40.09
B28: 8 | C28: 39.8 | D28: 40.07 | E28: 41.65 | F28: 40.05 | G28: 39.88 | H28: 40.16 | I28: 40.22 | J28: 39.99
B29: 9 | C29: 40.02 | D29: 40.15 | E29: 40.09 | F29: 40.76 | G29: 39.75 | H29: 40.3 | I29: 40.2 | J29: 40.18
B30: 10 | C30: 39.84 | D30: 39.95 | E30: 40.36 | F30: 40.07 | G30: 39.87 | H30: 40.17 | I30: 40.15 | J30: 39.88
B31: 11 | C31: 39.92 | D31: 39.93 | E31: 39.97 | F31: 40.01 | G31: 39.87 | H31: 40.17 | I31: 40.04 | J31: 40.13
B32: 12 | C32: 39.9 | D32: 40.19 | E32: 39.99 | F32: 40.02 | G32: 39.89 | H32: 40.16 | I32: 40.1 | J32: 40.12
... B42: 22 | C42: 39.98 | D42: 39.85 | E42: 40.08 | F42: 39.73 | G42: 40.34 | H42: 40 | I42: 40.05 | J42: 40.08
B43: 23 | C43: 39.84 | D43: 40.01 | F43: 40 | G43: 39.96 | H43: 40.28 | I43: 40.01 | J43: 40.03
B44: 24 | C44: 39.78 | D44: 39.84 | F44: 40.05 | G44: 39.93 | H44: 40.07 | I44: 39.84 | J44: 40.01
B45: 25 | C45: 39.83 | D45: 39.82 | F45: 40.17 | G45: 39.94 | H45: 40.24 | I45: 40.08 | J45: 39.89
B46: 26 | C46: 39.74 | D46: 39.94 | G46: 39.93 | H46: 40.06 | I46: 39.91 | J46: 40.14
B47: 27 | C47: 39.76 | D47: 40.19 | G47: 39.83 | H47: 40 | I47: 39.99 | J47: 40.12
B48: 28 | C48: 39.8 | D48: 39.91 | G48: 39.88 | H48: 40.61 | I48: 39.92 | J48: 39.97
B49: 29 | C49: 39.75 | D49: 39.85 | G49: 39.96 | H49: 39.91 | I49: 39.99 | J49: 39.99
B50: 30 | C50: 39.81 | D50: 39.84 | G50: 39.96 | H50: 39.92 | I50: 39.99 | J50: 40.24
B51: 31 | C51: 40.06 | D51: 39.88 | G51: 39.85 | H51: 40.14 | I51: 39.89 | J51: 39.97
B52: 32 | C52: 40.08 | D52: 39.79 | G52: 39.83 | H52: 40.01 | I52: 40 | J52: 39.98
B53: 33 | D53: 39.86 | G53: 39.88 | H53: 40.05 | I53: 40.18 | J53: 40.09
B54: 34 | D54: 39.94 | G54: 39.81 | H54: 39.96 | I54: 40.19 | J54: 39.89
B55: 35 | D55: 39.86 | G55: 39.83 | H55: 40.09 | I55: 39.92 | J55: 40.02
B56: 36 | D56: 40.08 | G56: 39.93 | H56: 40.16 | I56: 39.97 | J56: 40.09
B57: 37 | D57: 39.91 | G57: 39.86 | H57: 39.95 | I57: 39.97 | J57: 39.99
B58: 38 | D58: 39.85 | G58: 39.85 | H58: 39.89 | I58: 40.03 | J58: 39.86
B59: 39 | D59: 39.89 | G59: 39.84 | H59: 39.97 | I59: 39.99 | J59: 39.94
B60: 40 | D60: 40.31 | G60: 39.94 | H60: 40.33 | I60: 40.1 | J60: 39.79
B61: 41 | D61: 39.97 | H61: 39.83 | I61: 40.07 | J61: 39.8
B62: 42 | D62: 39.78 | H62: 40.04 | I62: 40.04 | J62: 39.87
B63: 43 | D63: 39.99 | H63: 39.94 | I63: 40.02
B64: 44 | D64: 39.86 | H64: 39.99 | I64: 39.94
B65: 45 | D65: 39.87 | H65: 39.91 | I65: 40.04
B66: 46 | D66: 39.82 | H66: 40.02 | I66: 39.89
B67: 47 | D67: 39.83 | H67: 40.17 | I67: 40.14
B68: 48 | D68: 39.66 | H68: 40.06 | I68: 40.05
B69: 49 | D69: 39.94 | H69: 40.06 | I69: 40
B70: 50 | H70: 39.84 | I70: 40.01
B71: 51 | H71: 40.19 | I71: 40.05
B72: 52 | H72: 39.89 | I72: 39.92
B73: 53 | H73: 39.83 | I73: 39.93
B74: 54 | H74: 40.05 | I74: 40.24
B75: 55 | H75: 39.9 | I75: 40.11
B76: 56 | H76: 39.88 | I76: 40.06
B77: 57 | H77: 40.06 | I77: 40.76
B78: 58 | H78: 39.81 | I78: 39.94
B79: 59 | H79: 40.21 | I79: 40.04
B80: 60 | H80: 40.06 | I80: 40
B81: 61 | H81: 39.99 | I81: 39.93
... B83: 63 | H83: 40.67 | I83: 39.88
I84: 40.74

Sheet Hurricane
A2: Чемпионат мини марафон "Большие Гонки", 7-й этап
A4: Hurricane
A6: Обяза-тельные | B6: Пилот | C6: карт | D6: Круг | E6: кругов на отрезке | F6: Статистика по кругам | J6: Общее время гонки | K6: Время на трассе
F7: Лучший круг | G7: Среднее на отрезке | H7: Кругов в 0,1 от лучшего | I7: стабильность | K7: отрезок | L7: всего у пилота | M7: Питы | N7: Штрафы/ бонусы (сек)
A8: 1 | B8: Стоцки Андрей | C8: 6 | D8: =COUNTA(C21:C85) -> 42 | E8: =COUNTA(C21:C85) -> 42 | F8: =MIN(C21:C84) -> 39.67 | G8: =AVERAGE(C21:C87) -> 40.068571 | H8: 7 | I8: =G8-F8 -> 0.39857143 | J8: 0.019525463 | K8: =J8 -> 0.019525463 | L8: =K8 -> 0.019525463 | M8: 2:15.19
A9: 2 | B9: Гаврилюк Олег | C9: 3 | D9: =COUNTA(D21:D85)+D8+1 -> 103 | E9: =COUNTA(D21:D85)+1 -> 61 | F9: =MIN(D21:D84) -> 39.66 | G9: =AVERAGE(D21:D86) -> 39.935833 | H9: 1 | I9: =G9-F9 -> 0.27583333 | J9: 0.048819444 | K9: =J9-J8 -> 0.029293981 | L9: =K9 -> 0.029293981 | M9: 2:16.37
A10: 3 | B10: Стоцки Андрей | C10: 9 | D10: =COUNTA(E21:E85)+D9+1 -> 139 | E10: =COUNTA(E21:E85)+1 -> 36 | F10: =MIN(E21:E86) -> 39.84 | G10: =AVERAGE(E21:E87) -> 40.131714 | H10: 3 | I10: =G10-F10 -> 0.29171429 | J10: 0.066666667 | K10: =J10-J9 -> 0.017847222 | L10: =K10+L8 -> 0.037372685 | M10: 2:13.73
A11: 4 | B11: Гаврилюк Олег | C11: 21 | D11: =COUNTA(F21:F85)+D10+1 -> 196 | E11: =COUNTA(F21:F85)+1 -> 57 | F11: =MIN(F21:F86) -> 39.69 | G11: =AVERAGE(F21:F86) -> 40.083929 | H11: 0 | I11: =G11-F11 -> 0.39392857 | J11: 0.094189815 | K11: =J11-J10 -> 0.027523148 | L11: =K11+L9 -> 0.05681713 | M11: 2:15.90
A12: 5 | B12: Стоцки Андрей | C12: 4 | D12: =COUNTA(G21:G85)+D11+1 -> 248 | E12: =COUNTA(G21:G85)+1 -> 52 | F12: =MIN(G21:G86) -> 39.6 | G12: =AVERAGE(G21:G886) -> 39.99098 | H12: 0 | I12: =G12-F12 -> 0.39098039 | J12: 0.119375 | K12: =J12-J11 -> 0.025185185 | L12: =K12+L10 -> 0.06255787 | M12: 2:15.54
A13: 6 | B13: Гаврилюк Олег | C13: 8 | D13: =COUNTA(H21:H85)+D12+1 -> 268 | E13: =COUNTA(H21:H85)+1 -> 20 | F13: =MIN(H21:H86) -> 39.88 | G13: =AVERAGE(H21:H86) -> 40.132632 | H13: 1 | I13: =G13-F13 -> 0.25263158 | J13: 0.12976852 | K13: =J13-J12 -> 0.010393519 | L13: =K13+L11 -> 0.067210648 | M13: 2:16.05
A14: 7 | B14: Стоцки Андрей | C14: 4 | D14: =COUNTA(I21:I85)+D13+1 -> 320 | E14: =COUNTA(I21:I85)+1 -> 52 | F14: =MIN(I21:I86) -> 39.78 | G14: =AVERAGE(I21:I86) -> 39.943922 | H14: 17 | I14: =G14-F14 -> 0.16392157 | J14: 0.15493056 | K14: =J14-J13 -> 0.025162037 | L14: =K14+L12 -> 0.087719907 | M14: 2:22.79 | N14: +5+2 | O14: лимит+недодержали
A15: Финиш | B15: Гаврилюк Олег | C15: 6 | D15: =COUNTA(J21:J85)+D14+1 -> 344 | E15: =COUNTA(J21:J85)+1 -> 24 | F15: =MIN(J21:J86) -> 39.9 | G15: =AVERAGE(J21:J86) -> 40.11913 | H15: 7 | I15: =G15-F15 -> 0.21913043 | J15: ='Общие результаты'!G6 -> 4:00:05 | K15: =J15-J14 -> 0.011793981 | L15: =K15+L13 -> 0.07900463
F16: =AVERAGE(F8,F10,F12,F14) -> 39.7225 | G16: =AVERAGE(G8,G10,G12,G14) -> 40.033797 | H16: Андре | I16: =AVERAGE(I8,I10,I12,I14) -> 0.31129692
F17: =AVERAGE(F9,F11,F13,F15) -> 39.7825 | G17: =AVERAGE(G9,G11,G13,G15) -> 40.067881 | H17: Олег | I17: =AVERAGE(I9,I11,I13,I15) -> 0.28538098
F18: =AVERAGE(F8:F15) -> 39.7525 | G18: =AVERAGE(C21:J90) -> 40.030504 | I18: =AVERAGE(I8:I15) -> 0.29833895
C20: =B8 -> Стоцки Андрей | D20: =B9 -> Гаврилюк Олег | E20: =B10 -> Стоцки Андрей | F20: =B11 -> Гаврилюк Олег | G20: =B12 -> Стоцки Андрей | H20: =B13 -> Гаврилюк Олег | I20: =B14 -> Стоцки Андрей | J20: =B15 -> Гаврилюк Олег
B21: 1 | C21: 46.15 | D21: 40.2 | E21: 40.61 | F21: 40.41 | G21: 40.32 | H21: 40.45 | I21: 40.08 | J21: 40.08
B22: 2 | C22: 40.64 | D22: 39.9 | E22: 40.37 | F22: 40.15 | G22: 40.13 | H22: 40.33 | I22: 40.03 | J22: 40.34
B23: 3 | C23: 40.28 | D23: 40.05 | E23: 40.44 | F23: 39.93 | G23: 39.91 | H23: 40.08 | I23: 39.9 | J23: 40.1
B24: 4 | C24: 40.23 | D24: 40.02 | E24: 40.1 | F24: 41.02 | G24: 40.28 | H24: 40.2 | I24: 39.91 | J24: 40.46
B25: 5 | C25: 39.98 | D25: 40 | E25: 40.44 | F25: 40.25 | G25: 40.69 | H25: 40.14 | I25: 40.12 | J25: 40.8
B26: 6 | C26: 39.83 | D26: 39.77 | E26: 40.31 | F26: 39.92 | G26: 40.08 | H26: 40.07 | I26: 39.97 | J26: 40.33
B27: 7 | C27: 39.77 | D27: 40.07 | E27: 40.16 | F27: 39.97 | G27: 39.97 | H27: 40.03 | I27: 40 | J27: 39.98
B28: 8 | C28: 40.07 | D28: 39.82 | E28: 40.03 | F28: 39.85 | G28: 40.03 | H28: 40.07 | I28: 39.79 | J28: 40.08
B29: 9 | C29: 39.69 | D29: 39.93 | E29: 40.16 | F29: 39.92 | G29: 40.73 | H29: 40.07 | I29: 40.15 | J29: 40.22
B30: 10 | C30: 40.04 | D30: 39.88 | E30: 40.09 | F30: 39.93 | G30: 39.95 | H30: 40.17 | I30: 39.96 | J30: 39.99
B31: 11 | C31: 39.82 | D31: 39.87 | E31: 40.15 | F31: 40 | G31: 39.99 | H31: 39.94 | I31: 39.86 | J31: 39.91
B32: 12 | C32: 39.67 | D32: 39.66 | E32: 40.05 | F32: 39.81 | G32: 39.89 | H32: 40.08 | I32: 39.82 | J32: 40.1
... B39: 19 | C39: 39.93 | D39: 40.03 | E39: 39.84 | F39: 39.94 | G39: 39.96 | H39: 40.29 | I39: 39.86 | J39: 39.93
B40: 20 | C40: 39.84 | D40: 39.96 | E40: 40.14 | F40: 39.92 | G40: 39.99 | I40: 40.14 | J40: 39.99
B41: 21 | C41: 39.74 | D41: 40.04 | E41: 40.04 | F41: 40.06 | G41: 39.96 | I41: 39.96 | J41: 39.9
B42: 22 | C42: 39.92 | D42: 39.95 | E42: 40.07 | F42: 40.1 | G42: 40.04 | I42: 39.94 | J42: 40.02
B43: 23 | C43: 39.98 | D43: 39.99 | E43: 39.97 | F43: 40.09 | G43: 39.94 | I43: 39.95 | J43: 40.08
B44: 24 | C44: 39.78 | D44: 39.89 | E44: 39.96 | F44: 39.94 | G44: 39.91 | I44: 39.86
B45: 25 | C45: 39.89 | D45: 39.85 | E45: 39.93 | F45: 39.69 | G45: 39.74 | I45: 39.9
B46: 26 | C46: 39.83 | D46: 39.79 | E46: 40.03 | F46: 40.49 | G46: 39.94 | I46: 39.94
B47: 27 | C47: 39.89 | D47: 40.01 | E47: 40.16 | F47: 40.07 | G47: 39.85 | I47: 39.97
B48: 28 | C48: 39.91 | D48: 39.9 | E48: 40.05 | F48: 40 | G48: 39.81 | I48: 39.95
B49: 29 | C49: 39.8 | D49: 40.07 | E49: 40.11 | F49: 39.98 | G49: 39.91 | I49: 39.96
B50: 30 | C50: 39.84 | D50: 39.97 | E50: 40.01 | F50: 40.3 | G50: 39.8 | I50: 39.91
B51: 31 | C51: 40.07 | D51: 39.8 | E51: 39.99 | F51: 40.08 | G51: 39.77 | I51: 39.91
B52: 32 | C52: 39.9 | D52: 40.13 | E52: 40.15 | F52: 40.13 | G52: 39.72 | I52: 39.83
B53: 33 | C53: 39.84 | D53: 40.08 | E53: 39.88 | F53: 40.22 | G53: 39.79 | I53: 39.83
B54: 34 | C54: 39.99 | D54: 40.02 | E54: 39.93 | F54: 40.03 | G54: 39.76 | I54: 39.91
B55: 35 | C55: 39.81 | D55: 39.81 | E55: 40.3 | F55: 40.15 | G55: 39.6 | I55: 39.81
B56: 36 | C56: 40 | D56: 39.89 | F56: 39.99 | G56: 39.72 | I56: 39.86
B57: 37 | C57: 39.86 | D57: 39.95 | F57: 40.71 | G57: 39.82 | I57: 39.85
B58: 38 | C58: 39.83 | D58: 40.02 | F58: 40.07 | G58: 40.03 | I58: 40.07
B59: 39 | C59: 39.87 | D59: 39.85 | F59: 39.87 | G59: 40.04 | I59: 39.84
B60: 40 | C60: 39.96 | D60: 39.81 | F60: 40.09 | G60: 40.07 | I60: 39.92
B61: 41 | C61: 40.02 | D61: 39.81 | F61: 39.88 | G61: 40.42 | I61: 39.84
B62: 42 | C62: 40.3 | D62: 39.93 | F62: 39.82 | G62: 39.95 | I62: 39.83
B63: 43 | D63: 39.78 | F63: 39.94 | G63: 39.97 | I63: 40.07
B64: 44 | D64: 39.82 | F64: 40.09 | G64: 40.07 | I64: 39.82
B65: 45 | D65: 39.9 | F65: 40.01 | G65: 39.82 | I65: 40.06
B66: 46 | D66: 39.98 | F66: 39.9 | G66: 39.8 | I66: 40.41
B67: 47 | D67: 39.78 | F67: 39.85 | G67: 40.05 | I67: 39.85
B68: 48 | D68: 39.97 | F68: 40.01 | G68: 39.97 | I68: 39.87
B69: 49 | D69: 39.87 | F69: 39.96 | G69: 39.95 | I69: 39.78
B70: 50 | D70: 40.3 | F70: 41.05 | G70: 40.06 | I70: 39.96
B71: 51 | D71: 40.12 | F71: 40.41 | G71: 40.2 | I71: 40.24
B72: 52 | D72: 41.01 | F72: 39.95
B73: 53 | D73: 39.97 | F73: 39.94
B74: 54 | D74: 39.88 | F74: 40.05
B75: 55 | D75: 39.85 | F75: 39.86
B76: 56 | D76: 39.88 | F76: 40.46
B77: 57 | D77: 39.77
B78: 58 | D78: 39.71
B79: 59 | D79: 39.74
B80: 60 | D80: 40.05
B81: 61
B82: 62
B83: 63

Sheet Kozaks
A2: Чемпионат мини марафон "Большие Гонки", 7-й этап
A4: Kozaks
A6: Обяза-тельные | B6: Пилот | C6: карт | D6: Круг | E6: кругов на отрезке | F6: Статистика по кругам | J6: Общее время гонки | K6: Время на трассе
F7: Лучший круг | G7: Среднее на отрезке | H7: Кругов в 0,1 от лучшего | I7: стабильность | K7: отрезок | L7: всего у пилота | M7: Питы | N7: Штрафы/ бонусы (сек)
A8: 1 | B8: Ткаченко Кирилл | C8: 4 | D8: =COUNTA(C21:C85) -> 41 | E8: =COUNTA(C21:C85) -> 41 | F8: =MIN(C21:C84) -> 39.61 | G8: =AVERAGE(C21:C87) -> 40.37439 | H8: 5 | I8: =G8-F8 -> 0.76439024 | J8: 0.019212963 | K8: =J8 -> 0.019212963 | L8: =K8 -> 0.019212963 | M8: 2:13.17 | N8: -12+10 | O8: бонус а вес+разворот №8
A9: 2 | B9: Голубченко Саша | C9: 7 | D9: =COUNTA(D21:D85)+D8+1 -> 92 | E9: =COUNTA(D21:D85)+1 -> 51 | F9: =MIN(D21:D84) -> 39.62 | G9: =AVERAGE(D21:D86) -> 39.9486 | H9: 3 | I9: =G9-F9 -> 0.3286 | J9: 0.043877315 | K9: =J9-J8 -> 0.024664352 | L9: =K9 -> 0.024664352 | M9: 2:17.23
A10: 3 | B10: Ткаченко Кирилл | C10: 21 | D10: =COUNTA(E21:E85)+D9+1 -> 137 | E10: =COUNTA(E21:E85)+1 -> 45 | F10: =MIN(E21:E86) -> 39.68 | G10: =AVERAGE(E21:E87) -> 40.073636 | H10: 11 | I10: =G10-F10 -> 0.39363636 | J10: 0.065914352 | K10: =J10-J9 -> 0.022037037 | L10: =K10+L8 -> 0.04125 | M10: 2:16.16
A11: 4 | B11: Голубченко Саша | C11: 44 | D11: =COUNTA(F21:F85)+D10+1 -> 174 | E11: =COUNTA(F21:F85)+1 -> 37 | F11: =MIN(F21:F86) -> 39.8 | G11: =AVERAGE(F21:F86) -> 40.088889 | H11: 1 | I11: =G11-F11 -> 0.28888889 | J11: 0.084166667 | K11: =J11-J10 -> 0.018252315 | L11: =K11+L9 -> 0.042916667 | M11: 2:14.92
A12: 5 | B12: Ткаченко Кирилл | C12: 5 | D12: =COUNTA(G21:G85)+D11+1 -> 237 | E12: =COUNTA(G21:G85)+1 -> 63 | F12: =MIN(G21:G86) -> 39.57 | G12: =AVERAGE(G21:G886) -> 39.852742 | H12: 6 | I12: =G12-F12 -> 0.28274194 | J12: 0.1143287 | K12: =J12-J11 -> 0.030162037 | L12: =K12+L10 -> 0.071412037 | M12: 2:17.15
A13: 6 | B13: Голубченко Саша | C13: 21 | D13: =COUNTA(H21:H85)+D12+1 -> 291 | E13: =COUNTA(H21:H85)+1 -> 54 | F13: =MIN(H21:H86) -> 39.98 | G13: =AVERAGE(H21:H86) -> 40.251509 | H13: 14 | I13: =G13-F13 -> 0.27150943 | J13: 0.14060185 | K13: =J13-J12 -> 0.026273148 | L13: =K13+L11 -> 0.069189815 | M13: 2:15.86
A14: 7 | B14: Ткаченко Кирилл | C14: 5 | D14: =COUNTA(I21:I85)+D13+1 -> 317 | E14: =COUNTA(I21:I85)+1 -> 26 | F14: =MIN(I21:I86) -> 39.55 | G14: =AVERAGE(I21:I86) -> 39.7584 | H14: 4 | I14: =G14-F14 -> 0.2084 | J14: 0.15368056 | K14: =J14-J13 -> 0.013078704 | L14: =K14+L12 -> 0.084490741 | M14: 2:16.00
A15: Финиш | B15: Голубченко Саша | C15: 9 | D15: =COUNTA(J21:J85)+D14+1 -> 343 | E15: =COUNTA(J21:J85)+1 -> 26 | F15: =MIN(J21:J86) -> 39.72 | G15: =AVERAGE(J21:J86) -> 39.9776 | H15: 1 | I15: =G15-F15 -> 0.2576 | J15: ='Общие результаты'!G6 -> 4:00:05 | K15: =J15-J14 -> 0.013043981 | L15: =K15+L13 -> 0.082233796
F16: =AVERAGE(F8,F10,F12,F14) -> 39.6025 | G16: =AVERAGE(G8,G10,G12,G14) -> 40.014792 | H16: Кирилл | I16: =AVERAGE(I8,I10,I12,I14) -> 0.41229214
F17: =AVERAGE(F9,F11,F13,F15) -> 39.78 | G17: =AVERAGE(G9,G11,G13,G15) -> 40.06665 | H17: Саша | I17: =AVERAGE(I9,I11,I13,I15) -> 0.28664958
F18: =AVERAGE(F8:F15) -> 39.69125 | G18: =AVERAGE(C21:J90) -> 40.05006 | I18: =AVERAGE(I8:I15) -> 0.34947086
C20: =B8 -> Ткаченко Кирилл | D20: =B9 -> Голубченко Саша | E20: =B10 -> Ткаченко Кирилл | F20: =B11 -> Голубченко Саша | G20: =B12 -> Ткаченко Кирилл | H20: =B13 -> Голубченко Саша | I20: =B14 -> Ткаченко Кирилл | J20: =B15 -> Голубченко Саша
B21: 1 | C21: 46.1 | D21: 40.16 | E21: 41.72 | F21: 40.59 | G21: 39.79 | H21: 40.36 | I21: 39.79 | J21: 39.96
B22: 2 | C22: 41.04 | D22: 39.96 | E22: 40.59 | F22: 40.44 | G22: 39.94 | H22: 40.27 | I22: 39.94 | J22: 39.98
B23: 3 | C23: 44.03 | D23: 39.99 | E23: 40.21 | F23: 40.12 | G23: 39.86 | H23: 40.53 | I23: 39.79 | J23: 40.15
B24: 4 | C24: 40.71 | D24: 40.34 | E24: 42.17 | F24: 40.37 | G24: 40.1 | H24: 40.53 | I24: 39.79 | J24: 40.04
B25: 5 | C25: 40.43 | D25: 40.54 | E25: 40.53 | F25: 40.03 | G25: 39.8 | H25: 40.19 | I25: 39.8 | J25: 39.99
B26: 6 | C26: 44.01 | D26: 40.37 | E26: 40.03 | F26: 40.15 | G26: 39.76 | H26: 40.3 | I26: 39.9 | J26: 40.04
B27: 7 | C27: 41.53 | D27: 39.91 | E27: 39.98 | F27: 40 | G27: 39.82 | H27: 40.16 | I27: 39.62 | J27: 39.93
B28: 8 | C28: 39.98 | D28: 39.98 | E28: 40.35 | F28: 39.91 | G28: 39.83 | H28: 40.32 | I28: 39.67 | J28: 40.02
B29: 9 | C29: 40.1 | D29: 40.02 | E29: 40.22 | F29: 39.8 | G29: 39.72 | H29: 40.17 | I29: 39.62 | J29: 40.03
B30: 10 | C30: 40.4 | D30: 40.11 | E30: 40.07 | F30: 40 | G30: 39.76 | H30: 40.59 | I30: 39.63 | J30: 40.16
B31: 11 | C31: 39.89 | D31: 40.01 | E31: 40.05 | F31: 40.01 | G31: 39.57 | H31: 40.2 | I31: 39.72 | J31: 39.85
B32: 12 | C32: 40.12 | D32: 39.78 | E32: 39.85 | F32: 39.97 | G32: 39.87 | H32: 40.04 | I32: 39.71 | J32: 40.48
... B45: 25 | C45: 40.21 | D45: 40.02 | E45: 39.69 | F45: 39.91 | G45: 39.8 | H45: 40.32 | I45: 39.83 | J45: 39.83
B46: 26 | C46: 39.61 | D46: 39.99 | E46: 39.73 | F46: 40.09 | G46: 39.84 | H46: 40.03
B47: 27 | C47: 39.8 | D47: 39.93 | E47: 40.49 | F47: 39.96 | G47: 39.62 | H47: 40.18
B48: 28 | C48: 39.92 | D48: 39.8 | E48: 39.85 | F48: 40.19 | G48: 39.87 | H48: 40.06
B49: 29 | C49: 39.95 | D49: 40 | E49: 40.08 | F49: 40.27 | G49: 39.83 | H49: 40.03
B50: 30 | C50: 40.08 | D50: 39.63 | E50: 39.76 | F50: 40.22 | G50: 39.8 | H50: 40.05
B51: 31 | C51: 39.85 | D51: 39.82 | E51: 39.69 | F51: 40.11 | G51: 39.81 | H51: 40.26
B52: 32 | C52: 40.07 | D52: 39.94 | E52: 39.73 | F52: 39.95 | G52: 39.97 | H52: 40.07
B53: 33 | C53: 39.85 | D53: 39.84 | E53: 39.71 | F53: 40.07 | G53: 39.87 | H53: 40.08
B54: 34 | C54: 39.68 | D54: 39.87 | E54: 39.78 | F54: 40.13 | G54: 39.8 | H54: 40
B55: 35 | C55: 39.74 | D55: 39.78 | E55: 39.68 | F55: 39.95 | G55: 40.21 | H55: 40.39
B56: 36 | C56: 39.85 | D56: 39.89 | E56: 39.73 | F56: 40.34 | G56: 39.69 | H56: 40.51
B57: 37 | C57: 40.3 | D57: 39.71 | E57: 39.81 | G57: 39.86 | H57: 40.15
B58: 38 | C58: 39.95 | D58: 39.78 | E58: 39.84 | G58: 39.66 | H58: 41.23
B59: 39 | C59: 39.93 | D59: 39.91 | E59: 39.7 | G59: 39.7 | H59: 40.05
B60: 40 | C60: 39.94 | D60: 40.1 | E60: 40.14 | G60: 39.76 | H60: 40.02
B61: 41 | C61: 41.01 | D61: 39.71 | E61: 39.96 | G61: 39.85 | H61: 40.14
B62: 42 | D62: 39.75 | E62: 39.83 | G62: 40.5 | H62: 40.19
B63: 43 | D63: 39.78 | E63: 40.05 | G63: 40.54 | H63: 40.42
B64: 44 | D64: 40.09 | E64: 39.86 | G64: 40.41 | H64: 40.11
B65: 45 | D65: 39.92 | G65: 39.9 | H65: 40.12
B66: 46 | D66: 39.95 | G66: 39.86 | H66: 40.02
B67: 47 | D67: 39.97 | G67: 39.77 | H67: 40.05
B68: 48 | D68: 39.89 | G68: 39.73 | H68: 40.17
B69: 49 | D69: 39.82 | G69: 39.71 | H69: 39.98
B70: 50 | D70: 40.22 | G70: 39.83 | H70: 40.27
B71: 51 | G71: 39.68 | H71: 40.14
B72: 52 | G72: 39.66 | H72: 40.18
B73: 53 | G73: 39.62 | H73: 40.98
B74: 54 | G74: 39.73
B75: 55 | G75: 39.9
B76: 56 | G76: 39.63
B77: 57 | G77: 39.67
B78: 58 | G78: 39.69
B79: 59 | G79: 39.8
B80: 60 | G80: 39.72
B81: 61 | G81: 39.82
B82: 62 | G82: 39.9
B83: 63

Sheet JustKart
A2: Чемпионат мини марафон "Большие Гонки", 7-й этап
A4: JustKart
A6: Обяза-тельные | B6: Пилот | C6: карт | D6: Круг | E6: кругов на отрезке | F6: Статистика по кругам | J6: Общее время гонки | K6: Время на трассе
F7: Лучший круг | G7: Среднее на отрезке | H7: Кругов в 0,1 от лучшего | I7: стабильность | K7: отрезок | L7: всего у пилота | M7: Питы | N7: Штрафы/ бонусы (сек)
A8: 1 | B8: Соколан Артем | C8: 2 | D8: =COUNTA(C21:C85) -> 41 | E8: =COUNTA(C21:C85) -> 41 | F8: =MIN(C21:C84) -> 39.88 | G8: =AVERAGE(C21:C87) -> 40.377805 | H8: 4 | I8: =G8-F8 -> 0.49780488 | J8: 0.019212963 | K8: =J8 -> 0.019212963 | L8: =K8 -> 0.019212963 | M8: 2:16.34
A9: 2 | B9: Шиленко Саша | C9: 5 | D9: =COUNTA(D21:D85)+D8+1 -> 105 | E9: =COUNTA(D21:D85)+1 -> 64 | F9: =MIN(D21:D84) -> 39.58 | G9: =AVERAGE(D21:D86) -> 39.945873 | H9: 3 | I9: =G9-F9 -> 0.36587302 | J9: 0.049930556 | K9: =J9-J8 -> 0.030717593 | L9: =K9 -> 0.030717593 | M9: 2:16.32
A10: 3 | B10: Соколан Артем | C10: 7 | D10: =COUNTA(E21:E85)+D9+1 -> 169 | E10: =COUNTA(E21:E85)+1 -> 64 | F10: =MIN(E21:E86) -> 39.76 | G10: =AVERAGE(E21:E87) -> 40.248254 | H10: 5 | I10: =G10-F10 -> 0.48825397 | J10: 0.080856481 | K10: =J10-J9 -> 0.030925926 | L10: =K10+L8 -> 0.050138889 | M10: 2:16.60
A11: 4 | B11: Шиленко Саша | C11: 11 | D11: =COUNTA(F21:F85)+D10+1 -> 198 | E11: =COUNTA(F21:F85)+1 -> 29 | F11: =MIN(F21:F86) -> 40.04 | G11: =AVERAGE(F21:F86) -> 40.461429 | H11: 1 | I11: =G11-F11 -> 0.42142857 | J11: 0.09556713 | K11: =J11-J10 -> 0.014710648 | L11: =K11+L9 -> 0.045428241 | M11: 2:17.84
A12: 5 | B12: Соколан Артем | C12: 21 | D12: =COUNTA(G21:G85)+D11+1 -> 235 | E12: =COUNTA(G21:G85)+1 -> 37 | F12: =MIN(G21:G86) -> 40.06 | G12: =AVERAGE(G21:G886) -> 40.382222 | H12: 6 | I12: =G12-F12 -> 0.32222222 | J12: 0.11396991 | K12: =J12-J11 -> 0.018402778 | L12: =K12+L10 -> 0.068541667 | M12: 2:16.75
A13: 6 | B13: Шиленко Саша | C13: 3 | D13: =COUNTA(H21:H85)+D12+1 -> 290 | E13: =COUNTA(H21:H85)+1 -> 55 | F13: =MIN(H21:H86) -> 39.83 | G13: =AVERAGE(H21:H86) -> 40.162407 | H13: 6 | I13: =G13-F13 -> 0.33240741 | J13: 0.14068287 | K13: =J13-J12 -> 0.026712963 | L13: =K13+L11 -> 0.072141204 | M13: 2:15.73
A14: 7 | B14: Соколан Артем | C14: 7 | D14: =COUNTA(I21:I85)+D13+1 -> 318 | E14: =COUNTA(I21:I85)+1 -> 28 | F14: =MIN(I21:I86) -> 39.77 | G14: =AVERAGE(I21:I86) -> 40.398148 | H14: 0 | I14: =G14-F14 -> 0.62814815 | J14: 0.15488426 | K14: =J14-J13 -> 0.014201389 | L14: =K14+L12 -> 0.082743056 | M14: 2:17.34
A15: Финиш | B15: Шиленко Саша | C15: 8 | D15: =COUNTA(J21:J85)+D14+1 -> 342 | E15: =COUNTA(J21:J85)+1 -> 24 | F15: =MIN(J21:J86) -> 39.89 | G15: =AVERAGE(J21:J86) -> 40.171739 | H15: 0 | I15: =G15-F15 -> 0.28173913 | J15: ='Общие результаты'!G6 -> 4:00:05 | K15: =J15-J14 -> 0.011840278 | L15: =K15+L13 -> 0.083981481
F16: =AVERAGE(F8,F10,F12,F14) -> 39.8675 | G16: =AVERAGE(G8,G10,G12,G14) -> 40.351607 | H16: Артем | I16: =AVERAGE(I8,I10,I12,I14) -> 0.4841073
F17: =AVERAGE(F9,F11,F13,F15) -> 39.835 | G17: =AVERAGE(G9,G11,G13,G15) -> 40.185362 | H17: Саша | I17: =AVERAGE(I9,I11,I13,I15) -> 0.35036203
F18: =AVERAGE(F8:F15) -> 39.85125 | G18: =AVERAGE(C21:J90) -> 40.232448 | I18: =AVERAGE(I8:I15) -> 0.41723467
C20: =B8 -> Соколан Артем | D20: =B9 -> Шиленко Саша | E20: =B10 -> Соколан Артем | F20: =B11 -> Шиленко Саша | G20: =B12 -> Соколан Артем | H20: =B13 -> Шиленко Саша | I20: =B14 -> Соколан Артем | J20: =B15 -> Шиленко Саша
B21: 1 | C21: 45.46 | D21: 40.42 | E21: 40.72 | F21: 40.69 | G21: 40.59 | H21: 40.23 | I21: 45.45 | J21: 40.15
B22: 2 | C22: 41 | D22: 40.07 | E22: 40.33 | F22: 40.78 | G22: 40.28 | H22: 40.08 | I22: 40.12 | J22: 40.23
B23: 3 | C23: 41.28 | D23: 40.22 | E23: 40.77 | F23: 40.81 | G23: 40.45 | H23: 40.23 | I23: 40.14 | J23: 40.54
B24: 4 | C24: 40.58 | D24: 39.88 | E24: 40.42 | F24: 40.29 | G24: 40.42 | H24: 39.98 | I24: 40.83 | J24: 40.32
B25: 5 | C25: 40.41 | D25: 39.74 | E25: 40.33 | F25: 40.3 | G25: 40.45 | H25: 40.18 | I25: 40.36 | J25: 40.21
B26: 6 | C26: 40.3 | D26: 40.41 | E26: 40.38 | F26: 40.26 | G26: 41.34 | H26: 40.4 | I26: 40.94 | J26: 40.12
B27: 7 | C27: 40.29 | D27: 39.89 | E27: 40.3 | F27: 40.43 | G27: 40.35 | H27: 40.02 | I27: 40.05 | J27: 40.24
B28: 8 | C28: 40.33 | D28: 39.98 | E28: 41.69 | F28: 40.36 | G28: 40.32 | H28: 40.21 | I28: 40.31 | J28: 40.01
B29: 9 | C29: 40.3 | D29: 39.86 | E29: 40.28 | F29: 40.28 | G29: 40.45 | H29: 40.04 | I29: 40.08 | J29: 40.15
B30: 10 | C30: 39.99 | D30: 39.93 | E30: 40.22 | F30: 40.27 | G30: 40.27 | H30: 40.1 | I30: 40.06 | J30: 40.04
B31: 11 | C31: 40.2 | D31: 39.79 | E31: 40.17 | F31: 40.4 | G31: 40.16 | H31: 39.88 | I31: 39.99 | J31: 40.3
B32: 12 | C32: 40.16 | D32: 39.8 | E32: 40 | F32: 40.16 | G32: 40.23 | H32: 40.09 | I32: 40.58 | J32: 40.51
... B43: 23 | C43: 40.03 | D43: 39.66 | E43: 40.26 | F43: 40.26 | G43: 40.47 | H43: 40.21 | I43: 40.21 | J43: 40.37
B44: 24 | C44: 40.01 | D44: 39.93 | E44: 40.4 | F44: 40.24 | G44: 40.37 | H44: 40 | I44: 39.77
B45: 25 | C45: 40.26 | D45: 39.91 | E45: 41.29 | F45: 40.42 | G45: 40.23 | H45: 39.98 | I45: 40.12
B46: 26 | C46: 40.17 | D46: 39.81 | E46: 40.18 | F46: 40.46 | G46: 40.11 | H46: 39.94 | I46: 40.68
B47: 27 | C47: 40.06 | D47: 40.24 | E47: 40.01 | F47: 40.25 | G47: 40.54 | H47: 39.84 | I47: 40.14
B48: 28 | C48: 40.3 | D48: 39.84 | E48: 40.42 | F48: 41.52 | G48: 40.15 | H48: 40.19
B49: 29 | C49: 40.15 | D49: 39.78 | E49: 39.9 | G49: 40.17 | H49: 39.96
B50: 30 | C50: 40.04 | D50: 39.69 | E50: 40.12 | G50: 40.42 | H50: 39.96
B51: 31 | C51: 40.38 | D51: 39.75 | E51: 39.86 | G51: 40.16 | H51: 40.03
B52: 32 | C52: 39.88 | D52: 39.67 | E52: 39.92 | G52: 40.32 | H52: 40.05
B53: 33 | C53: 39.98 | D53: 39.85 | E53: 40.03 | G53: 40.21 | H53: 39.96
B54: 34 | C54: 40.14 | D54: 39.85 | E54: 40.08 | G54: 40.47 | H54: 41.15
B55: 35 | C55: 39.9 | D55: 39.82 | E55: 40.07 | G55: 40.42 | H55: 40.3
B56: 36 | C56: 40.24 | D56: 39.58 | E56: 39.96 | G56: 40.49 | H56: 39.83
B57: 37 | C57: 40.75 | D57: 39.66 | E57: 40.02 | H57: 39.89
B58: 38 | C58: 40.17 | D58: 40.57 | E58: 40.11 | H58: 39.93
B59: 39 | C59: 40.06 | D59: 39.91 | E59: 40.25 | H59: 39.87
B60: 40 | C60: 40.23 | D60: 39.7 | E60: 40.22 | H60: 39.94
B61: 41 | C61: 41.69 | D61: 39.82 | E61: 40.19 | H61: 40.1
B62: 42 | D62: 39.71 | E62: 40.07 | H62: 40.04
B63: 43 | D63: 39.8 | E63: 39.76 | H63: 39.91
B64: 44 | D64: 39.79 | E64: 40.18 | H64: 40.34
B65: 45 | D65: 39.86 | E65: 39.88 | H65: 40.22
B66: 46 | D66: 39.89 | E66: 39.96 | H66: 40.66
B67: 47 | D67: 39.76 | E67: 40.07 | H67: 40.31
B68: 48 | D68: 40.4 | E68: 40.14 | H68: 40.26
B69: 49 | D69: 40.25 | E69: 40.19 | H69: 41.19
B70: 50 | D70: 40.1 | E70: 40.17 | H70: 40.63
B71: 51 | D71: 39.93 | E71: 39.99 | H71: 40.25
B72: 52 | D72: 39.82 | E72: 40.33 | H72: 40.2
B73: 53 | D73: 39.95 | E73: 40.19 | H73: 40.43
B74: 54 | D74: 39.94 | E74: 40.49 | H74: 40.69
B75: 55 | D75: 40.04 | E75: 40.43
B76: 56 | D76: 39.9 | E76: 41
B77: 57 | D77: 39.76 | E77: 39.82
B78: 58 | D78: 40.07 | E78: 39.97
B79: 59 | D79: 39.96 | E79: 39.76
B80: 60 | D80: 39.86 | E80: 40.29
B81: 61 | D81: 40.07 | E81: 40.03
B82: 62 | D82: 40.48 | E82: 40.1
B83: 63 | D83: 41.89 | E83: 40.32

Sheet Е-мое
A2: Чемпионат мини марафон "Большие Гонки", 7-й этап
A4: Е-мое
A6: Обяза-тельные | B6: Пилот | C6: карт | D6: Круг | E6: кругов на отрезке | F6: Статистика по кругам | J6: Общее время гонки | K6: Время на трассе
F7: Лучший круг | G7: Среднее на отрезке | H7: Кругов в 0,1 от лучшего | I7: стабильность | K7: отрезок | L7: всего у пилота | M7: Питы | N7: Штрафы/ бонусы (сек)
A8: 1 | B8: Таволжан Виталий | C8: 13 | D8: =COUNTA(C21:C85) -> 25 | E8: =COUNTA(C21:C85) -> 25 | F8: =MIN(C21:C84) -> 39.97 | G8: =AVERAGE(C21:C87) -> 40.7984 | H8: 2 | I8: =G8-F8 -> 0.8284 | J8: 0.011863426 | K8: =J8 -> 0.011863426 | L8: =K8 -> 0.011863426 | M8: 1:34.22 | N8: -36 | O8: бонус за вес
A9: 2 | B9: Лабинский Николай | C9: 8 | D9: =COUNTA(D21:D85)+D8+1 -> 69 | E9: =COUNTA(D21:D85)+1 -> 44 | F9: =MIN(D21:D84) -> 40.21 | G9: =AVERAGE(D21:D86) -> 40.616047 | H9: 5 | I9: =G9-F9 -> 0.40604651 | J9: 0.033171296 | K9: =J9-J8 -> 0.02130787 | L9: =K9 -> 0.02130787 | M9: 2:15.99
A10: 3 | B10: Таволжан Виталий | C10: 2 | D10: =COUNTA(E21:E85)+D9+1 -> 132 | E10: =COUNTA(E21:E85)+1 -> 63 | F10: =MIN(E21:E86) -> 39.82 | G10: =AVERAGE(E21:E87) -> 40.266452 | H10: 2 | I10: =G10-F10 -> 0.44645161 | J10: 0.063645833 | K10: =J10-J9 -> 0.030474537 | L10: =K10+L8 -> 0.042337963 | M10: 2:17.09
A11: 4 | B11: Лабинский Николай | C11: 13 | D11: =COUNTA(F21:F85)+D10+1 -> 172 | E11: =COUNTA(F21:F85)+1 -> 40 | F11: =MIN(F21:F86) -> 40.35 | G11: =AVERAGE(F21:F86) -> 40.697436 | H11: 4 | I11: =G11-F11 -> 0.3474359 | J11: 0.083611111 | K11: =J11-J10 -> 0.019965278 | L11: =K11+L9 -> 0.041273148 | M11: 2:15.90
A12: 5 | B12: Таволжан Виталий | C12: 2 | D12: =COUNTA(G21:G85)+D11+1 -> 235 | E12: =COUNTA(G21:G85)+1 -> 63 | F12: =MIN(G21:G86) -> 39.81 | G12: =AVERAGE(G21:G886) -> 40.125 | H12: 10 | I12: =G12-F12 -> 0.315 | J12: 0.11398148 | K12: =J12-J11 -> 0.03037037 | L12: =K12+L10 -> 0.072708333 | M12: 2:16.91
A13: 6 | B13: Лабинский Николай | C13: 7 | D13: =COUNTA(H21:H85)+D12+1 -> 285 | E13: =COUNTA(H21:H85)+1 -> 50 | F13: =MIN(H21:H86) -> 39.85 | G13: =AVERAGE(H21:H86) -> 40.18449 | H13: 4 | I13: =G13-F13 -> 0.3344898 | J13: 0.13835648 | K13: =J13-J12 -> 0.024375 | L13: =K13+L11 -> 0.065648148 | M13: 2:17.11
A14: 7 | B14: Таволжан Виталий | C14: 11 | D14: =COUNTA(I21:I85)+D13+1 -> 313 | E14: =COUNTA(I21:I85)+1 -> 28 | F14: =MIN(I21:I86) -> 40.1 | G14: =AVERAGE(I21:I86) -> 40.595556 | H14: 4 | I14: =G14-F14 -> 0.49555556 | J14: 0.15262731 | K14: =J14-J13 -> 0.014270833 | L14: =K14+L12 -> 0.086979167 | M14: 2:15.91
A15: Финиш | B15: Лабинский Николай | C15: 44 | D15: =COUNTA(J21:J85)+D14+1 -> 342 | E15: =COUNTA(J21:J85)+1 -> 29 | F15: =MIN(J21:J86) -> 39.97 | G15: =AVERAGE(J21:J86) -> 40.343214 | H15: 1 | I15: =G15-F15 -> 0.37321429 | J15: ='Общие результаты'!G6 -> 4:00:05 | K15: =J15-J14 -> 0.014097222 | L15: =K15+L13 -> 0.07974537
F16: =AVERAGE(F8,F10,F12,F14) -> 39.925 | G16: =AVERAGE(G8,G10,G12,G14) -> 40.446352 | H16: Виталий | I16: =AVERAGE(I8,I10,I12,I14) -> 0.52135179
F17: =AVERAGE(F9,F11,F13,F15) -> 40.095 | G17: =AVERAGE(G9,G11,G13,G15) -> 40.460297 | H17: Коля | I17: =AVERAGE(I9,I11,I13,I15) -> 0.36529662
F18: =AVERAGE(F8:F15) -> 40.01 | G18: =AVERAGE(C21:J90) -> 40.39597 | I18: =AVERAGE(I8:I15) -> 0.44332421
C20: =B8 -> Таволжан Виталий | D20: =B9 -> Лабинский Николай | E20: =B10 -> Таволжан Виталий | F20: =B11 -> Лабинский Николай | G20: =B12 -> Таволжан Виталий | H20: =B13 -> Лабинский Николай | I20: =B14 -> Таволжан Виталий | J20: =B15 -> Лабинский Николай
B21: 1 | C21: 46.27 | D21: 41.02 | E21: 41.41 | F21: 40.91 | G21: 40.27 | H21: 40.38 | I21: 41.01 | J21: 40.34
B22: 2 | C22: 41.3 | D22: 40.92 | E22: 40.26 | F22: 40.62 | G22: 40.15 | H22: 39.99 | I22: 40.92 | J22: 40.27
B23: 3 | C23: 43.2 | D23: 40.77 | E23: 40.08 | F23: 40.63 | G23: 40.05 | H23: 40.04 | I23: 40.53 | J23: 40.27
B24: 4 | C24: 42.12 | D24: 40.89 | E24: 40.09 | F24: 40.66 | G24: 39.99 | H24: 40.15 | I24: 40.45 | J24: 40.7
B25: 5 | C25: 40.56 | D25: 40.67 | E25: 40.02 | F25: 40.88 | G25: 39.84 | H25: 40.19 | I25: 40.48 | J25: 40.38
B26: 6 | C26: 40.85 | D26: 41.27 | E26: 39.96 | F26: 40.77 | G26: 40.22 | H26: 40.18 | I26: 41.55 | J26: 40.3
B27: 7 | C27: 41.25 | D27: 40.45 | E27: 40.11 | F27: 40.67 | G27: 40.38 | H27: 40.22 | I27: 40.1 | J27: 40.4
B28: 8 | C28: 40.23 | D28: 40.51 | E28: 39.95 | F28: 40.82 | G28: 40.01 | H28: 40.26 | I28: 40.25 | J28: 40.5
B29: 9 | C29: 40.27 | D29: 41.09 | E29: 40 | F29: 40.44 | G29: 40.1 | H29: 40.09 | I29: 42.12 | J29: 40.28
B30: 10 | C30: 39.97 | D30: 41.27 | E30: 40.03 | F30: 40.62 | G30: 40.06 | H30: 39.92 | I30: 40.39 | J30: 40.38
B31: 11 | C31: 40.01 | D31: 40.58 | E31: 39.93 | F31: 41.13 | G31: 40.1 | H31: 40.05 | I31: 40.76 | J31: 40.23
B32: 12 | C32: 40.51 | D32: 40.47 | E32: 41.81 | F32: 40.76 | G32: 40.1 | H32: 40.08 | I32: 40.13 | J32: 40.24
... B45: 25 | C45: 40.38 | D45: 40.66 | E45: 39.94 | F45: 41.21 | G45: 39.83 | H45: 39.99 | I45: 40.53 | J45: 40.09
B46: 26 | D46: 40.39 | E46: 40.27 | F46: 40.51 | G46: 39.87 | H46: 39.93 | I46: 40.38 | J46: 40.28
B47: 27 | D47: 40.36 | E47: 40.74 | F47: 41.28 | G47: 39.88 | H47: 40.05 | I47: 41.81 | J47: 40.1
B48: 28 | D48: 40.25 | E48: 39.91 | F48: 40.4 | G48: 40.14 | H48: 39.86 | J48: 40.3
B49: 29 | D49: 40.33 | E49: 40.3 | F49: 40.49 | G49: 40.05 | H49: 40.39
B50: 30 | D50: 40.21 | E50: 40.56 | F50: 40.69 | G50: 40.04 | H50: 40.03
B51: 31 | D51: 40.42 | E51: 40.77 | F51: 40.61 | G51: 40.12 | H51: 40.14
B52: 32 | D52: 40.42 | E52: 40.29 | F52: 40.73 | G52: 40.04 | H52: 39.85
B53: 33 | D53: 40.7 | E53: 40.81 | F53: 40.75 | G53: 40.1 | H53: 39.98
B54: 34 | D54: 40.36 | E54: 40.36 | F54: 40.66 | G54: 40.05 | H54: 41
B55: 35 | D55: 40.21 | E55: 40.12 | F55: 40.49 | G55: 40.63 | H55: 40.57
B56: 36 | D56: 40.4 | E56: 40.17 | F56: 40.69 | G56: 40.21 | H56: 40.4
B57: 37 | D57: 41.95 | E57: 40.53 | F57: 40.59 | G57: 41.36 | H57: 40.16
B58: 38 | D58: 40.46 | E58: 40.08 | F58: 40.92 | G58: 40.17 | H58: 40.24
B59: 39 | D59: 40.33 | E59: 40.12 | F59: 40.84 | G59: 40.1 | H59: 40.52
B60: 40 | D60: 40.32 | E60: 40.12 | G60: 40.07 | H60: 40.27
B61: 41 | D61: 40.31 | E61: 40.07 | G61: 40.07 | H61: 41.05
B62: 42 | D62: 40.39 | E62: 40.07 | G62: 40.11 | H62: 39.97
B63: 43 | D63: 40.79 | E63: 40.02 | G63: 40.05 | H63: 39.98
B64: 44 | E64: 40.15 | G64: 40.4 | H64: 40.17
B65: 45 | E65: 40 | G65: 40.91 | H65: 40.15
B66: 46 | E66: 39.94 | G66: 40.95 | H66: 40.09
B67: 47 | E67: 40.05 | G67: 39.92 | H67: 40.06
B68: 48 | E68: 39.82 | G68: 39.92 | H68: 40.24
B69: 49 | E69: 39.87 | G69: 40.35 | H69: 40.26
B70: 50 | E70: 40.11 | G70: 39.96
B71: 51 | E71: 40.4 | G71: 40.16
B72: 52 | E72: 40.8 | G72: 39.89
B73: 53 | E73: 40.64 | G73: 39.89
B74: 54 | E74: 40.2 | G74: 39.89
B75: 55 | E75: 40.08 | G75: 40
B76: 56 | E76: 40 | G76: 40.15
B77: 57 | E77: 40.11 | G77: 39.95
B78: 58 | E78: 39.98 | G78: 40.09
B79: 59 | E79: 40.03 | G79: 39.84
B80: 60 | E80: 40.02 | G80: 40.22
B81: 61 | E81: 39.94 | G81: 40.45
B82: 62 | E82: 40.53 | G82: 40.27
B83: 63

Sheet Kart Freedom JT
A2: Чемпионат мини марафон "Большие Гонки", 7-й этап
A4: Kart Freedom JT
A6: Обяза-тельные | B6: Пилот | C6: карт | D6: Круг | E6: кругов на отрезке | F6: Статистика по кругам | J6: Общее время гонки | K6: Время на трассе
F7: Лучший круг | G7: Среднее на отрезке | H7: Кругов в 0,1 от лучшего | I7: стабильность | K7: отрезок | L7: всего у пилота | M7: Питы | N7: Штрафы/ бонусы (сек)
A8: 1 | B8: Медведева Даша | C8: 9 | D8: =COUNTA(C21:C85) -> 25 | E8: =COUNTA(C21:C85) -> 25 | F8: =MIN(C21:C84) -> 40.01 | G8: =AVERAGE(C21:C87) -> 41.1632 | H8: 2 | I8: =G8-F8 -> 1.1532 | J8: 0.011956019 | K8: =J8 -> 0.011956019 | L8: =K8 -> 0.011956019 | M8: 2:17.41
A9: 2 | B9: Новиков Герман | C9: 69 | D9: =COUNTA(D21:D85)+D8+1 -> 76 | E9: =COUNTA(D21:D85)+1 -> 51 | F9: =MIN(D21:D84) -> 39.94 | G9: =AVERAGE(D21:D86) -> 40.2082 | H9: 10 | I9: =G9-F9 -> 0.2682 | J9: 0.036828704 | K9: =J9-J8 -> 0.024872685 | L9: =K9 -> 0.024872685 | M9: 2:17.19
A10: 3 | B10: Медведева Даша | C10: 8 | D10: =COUNTA(E21:E85)+D9+1 -> 102 | E10: =COUNTA(E21:E85)+1 -> 26 | F10: =MIN(E21:E86) -> 40.17 | G10: =AVERAGE(E21:E87) -> 40.6152 | H10: 1 | I10: =G10-F10 -> 0.4452 | J10: 0.050162037 | K10: =J10-J9 -> 0.013333333 | L10: =K10+L8 -> 0.025289352 | M10: 2:17.00
A11: 4 | B11: Новиков Герман | C11: 1 | D11: =COUNTA(F21:F85)+D10+1 -> 166 | E11: =COUNTA(F21:F85)+1 -> 64 | F11: =MIN(F21:F86) -> 39.6 | G11: =AVERAGE(F21:F86) -> 39.936508 | H11: 2 | I11: =G11-F11 -> 0.33650794 | J11: 0.080868056 | K11: =J11-J10 -> 0.030706019 | L11: =K11+L9 -> 0.055578704 | M11: 2:46.42
A12: 5 | B12: Медведева Даша | C12: 9 | D12: =COUNTA(G21:G85)+D11+1 -> 195 | E12: =COUNTA(G21:G85)+1 -> 29 | F12: =MIN(G21:G86) -> 40.15 | G12: =AVERAGE(G21:G886) -> 40.831786 | H12: 2 | I12: =G12-F12 -> 0.68178571 | J12: 0.096030093 | K12: =J12-J11 -> 0.015162037 | L12: =K12+L10 -> 0.040451389 | M12: 1:56.87 | N12: -30 | O12: передержали
A13: 6 | B13: Новиков Герман | C13: 6 | D13: =COUNTA(H21:H85)+D12+1 -> 257 | E13: =COUNTA(H21:H85)+1 -> 62 | F13: =MIN(H21:H86) -> 39.77 | G13: =AVERAGE(H21:H86) -> 40.144098 | H13: 4 | I13: =G13-F13 -> 0.37409836 | J13: 0.12563657 | K13: =J13-J12 -> 0.029606481 | L13: =K13+L11 -> 0.085185185 | M13: 2:17.35
A14: 7 | B14: Медведева Даша | C14: 69 | D14: =COUNTA(I21:I85)+D13+1 -> 296 | E14: =COUNTA(I21:I85)+1 -> 39 | F14: =MIN(I21:I86) -> 40.16 | G14: =AVERAGE(I21:I86) -> 40.769474 | H14: 0 | I14: =G14-F14 -> 0.60947368 | J14: 0.14513889 | K14: =J14-J13 -> 0.019502315 | L14: =K14+L12 -> 0.059953704 | M14: 2:16.86
A15: Финиш | B15: Медведева Даша | C15: 21 | D15: =COUNTA(J21:J85)+D14+1 -> 340 | E15: =COUNTA(J21:J85)+1 -> 44 | F15: =MIN(J21:J86) -> 40.09 | G15: =AVERAGE(J21:J86) -> 40.590233 | H15: 1 | I15: =G15-F15 -> 0.50023256 | J15: ='Общие результаты'!G6 -> 4:00:05 | K15: =J15-J14 -> 0.021585648 | L15: =K15+L14 -> 0.081539352
F16: =AVERAGE(F8,F10,F12,F14,F15) -> 40.116 | G16: =AVERAGE(G8,G10,G12,G14,G15) -> 40.793978 | H16: Даша | I16: =AVERAGE(I8,I10,I12,I14,I15) -> 0.67797839
F17: =AVERAGE(F9,F11,F13) -> 39.77 | G17: =AVERAGE(G9,G11,G13) -> 40.096269 | H17: Герман | I17: =AVERAGE(I9,I11,I13) -> 0.32626877
F18: =AVERAGE(F8:F15) -> 39.98625 | G18: =AVERAGE(C21:J90) -> 40.413123 | I18: =AVERAGE(I8:I15) -> 0.54608728
C20: =B8 -> Медведева Даша | D20: =B9 -> Новиков Герман | E20: =B10 -> Медведева Даша | F20: =B11 -> Новиков Герман | G20: =B12 -> Медведева Даша | H20: =B13 -> Новиков Герман | I20: =B14 -> Медведева Даша | J20: =B15 -> Медведева Даша
B21: 1 | C21: 47.84 | D21: 40.97 | E21: 40.79 | F21: 40.31 | G21: 40.62 | H21: 40.15 | I21: 41.91 | J21: 41.39
B22: 2 | C22: 41.31 | D22: 40.39 | E22: 40.56 | F22: 40.14 | G22: 41.62 | H22: 40.19 | I22: 40.5 | J22: 40.76
B23: 3 | C23: 43.01 | D23: 40.34 | E23: 40.56 | F23: 40.26 | G23: 40.68 | H23: 40.15 | I23: 40.6 | J23: 40.54
B24: 4 | C24: 40.43 | D24: 40.55 | E24: 41.3 | F24: 40.1 | G24: 40.36 | H24: 40.04 | I24: 40.71 | J24: 40.71
B25: 5 | C25: 40.87 | D25: 40.3 | E25: 40.58 | F25: 40.02 | G25: 40.41 | H25: 40.11 | I25: 40.43 | J25: 41
B26: 6 | C26: 49.11 | D26: 40.11 | E26: 40.67 | F26: 40.11 | G26: 40.47 | H26: 40.2 | I26: 40.92 | J26: 40.48
B27: 7 | C27: 40.54 | D27: 39.97 | E27: 40.58 | F27: 39.95 | G27: 40.59 | H27: 39.96 | I27: 40.58 | J27: 40.9
B28: 8 | C28: 40.36 | D28: 40.22 | E28: 40.5 | F28: 40.02 | G28: 40.5 | H28: 39.89 | I28: 40.56 | J28: 40.35
B29: 9 | C29: 40.5 | D29: 40.04 | E29: 40.48 | F29: 39.85 | G29: 40.36 | H29: 39.85 | I29: 40.7 | J29: 40.73
B30: 10 | C30: 40.33 | D30: 40.01 | E30: 40.71 | F30: 39.87 | G30: 40.44 | H30: 39.93 | I30: 41.47 | J30: 40.85
B31: 11 | C31: 40.36 | D31: 40.23 | E31: 40.51 | F31: 39.65 | G31: 40.4 | H31: 40.16 | I31: 41.16 | J31: 40.7
B32: 12 | C32: 40.67 | D32: 40.08 | E32: 40.39 | F32: 39.99 | G32: 41.07 | H32: 40.52 | I32: 40.69 | J32: 40.81
... B45: 25 | C45: 40.56 | D45: 40.25 | E45: 40.69 | F45: 40.26 | G45: 40.23 | H45: 40.05 | I45: 40.73 | J45: 40.25
B46: 26 | D46: 40.02 | F46: 39.87 | G46: 40.48 | H46: 40.11 | I46: 40.86 | J46: 40.53
B47: 27 | D47: 40.61 | F47: 39.86 | G47: 40.49 | H47: 39.99 | I47: 40.47 | J47: 41.09
B48: 28 | D48: 40.27 | F48: 39.83 | G48: 41.42 | H48: 39.77 | I48: 40.6 | J48: 40.5
B49: 29 | D49: 40.76 | F49: 40.03 | H49: 39.85 | I49: 41.1 | J49: 40.31
B50: 30 | D50: 40.33 | F50: 39.79 | H50: 40.06 | I50: 40.54 | J50: 41.48
B51: 31 | D51: 41.01 | F51: 39.86 | H51: 39.97 | I51: 41.13 | J51: 40.46
B52: 32 | D52: 40.07 | F52: 39.92 | H52: 40.15 | I52: 40.38 | J52: 40.51
B53: 33 | D53: 39.96 | F53: 39.94 | H53: 39.8 | I53: 41.17 | J53: 40.7
B54: 34 | D54: 40.07 | F54: 39.89 | H54: 40.32 | I54: 40.29 | J54: 40.49
B55: 35 | D55: 39.99 | F55: 40.02 | H55: 40.93 | I55: 40.36 | J55: 40.3
B56: 36 | D56: 40.05 | F56: 39.82 | H56: 40.29 | I56: 40.78 | J56: 40.82
B57: 37 | D57: 40.24 | F57: 39.79 | H57: 40.44 | I57: 40.16 | J57: 40.51
B58: 38 | D58: 40.08 | F58: 39.8 | H58: 40.33 | I58: 41.17 | J58: 40.54
B59: 39 | D59: 39.94 | F59: 39.77 | H59: 40.07 | J59: 40.4
B60: 40 | D60: 40.34 | F60: 39.96 | H60: 39.95 | J60: 40.48
B61: 41 | D61: 40.12 | F61: 39.87 | H61: 40.85 | J61: 40.35
B62: 42 | D62: 40.11 | F62: 39.75 | H62: 40.18 | J62: 40.63
B63: 43 | D63: 40.05 | F63: 39.68 | H63: 39.91 | J63: 40.6
B64: 44 | D64: 40.08 | F64: 39.81 | H64: 39.9
B65: 45 | D65: 40.28 | F65: 39.87 | H65: 39.88
B66: 46 | D66: 40.04 | F66: 39.82 | H66: 40.21
B67: 47 | D67: 40.05 | F67: 39.9 | H67: 40.02
B68: 48 | D68: 40.76 | F68: 39.74 | H68: 40.11
B69: 49 | D69: 40.05 | F69: 39.6 | H69: 40.25
B70: 50 | D70: 40.43 | F70: 40.18 | H70: 40.05
B71: 51 | F71: 39.85 | H71: 40.18
B72: 52 | F72: 39.91 | H72: 39.97
B73: 53 | F73: 40.01 | H73: 40.02
B74: 54 | F74: 39.82 | H74: 40.21
B75: 55 | F75: 39.92 | H75: 39.87
B76: 56 | F76: 41.07 | H76: 40.5
B77: 57 | F77: 39.77 | H77: 39.91
B78: 58 | F78: 39.88 | H78: 39.98
B79: 59 | F79: 39.85 | H79: 40.27
B80: 60 | F80: 40.21 | H80: 40.5
B81: 61 | F81: 40.1 | H81: 40.52
B82: 62 | F82: 39.96
B83: 63 | F83: 40.61

Sheet NaCnuDaX
A2: Чемпионат мини марафон "Большие Гонки", 7-й этап
A4: NaCnuDaX
A6: Обяза-тельные | B6: Пилот | C6: карт | D6: Круг | E6: кругов на отрезке | F6: Статистика по кругам | J6: Общее время гонки | K6: Время на трассе
F7: Лучший круг | G7: Среднее на отрезке | H7: Кругов в 0,1 от лучшего | I7: стабильность | K7: отрезок | L7: всего у пилота | M7: Питы | N7: Штрафы/ бонусы (сек)
A8: 1 | B8: Харченко Артем | C8: 21 | D8: =COUNTA(C21:C85) -> 31 | E8: =COUNTA(C21:C85) -> 31 | F8: =MIN(C21:C84) -> 40 | G8: =AVERAGE(C21:C87) -> 40.732903 | H8: 1 | I8: =G8-F8 -> 0.73290323 | J8: 0.014699074 | K8: =J8 -> 0.014699074 | L8: =K8 -> 0.014699074 | M8: 2:17.43
A9: 2 | B9: Голуб Сергей | C9: 10 | D9: =COUNTA(D21:D85)+D8+1 -> 80 | E9: =COUNTA(D21:D85)+1 -> 49 | F9: =MIN(D21:D84) -> 39.95 | G9: =AVERAGE(D21:D86) -> 40.387292 | H9: 0 | I9: =G9-F9 -> 0.43729167 | J9: 0.038715278 | K9: =J9-J8 -> 0.024016204 | L9: =K9 -> 0.024016204 | M9: 2:18.41
A10: 3 | B10: Харченко Артем | C10: 44 | D10: =COUNTA(E21:E85)+D9+1 -> 130 | E10: =COUNTA(E21:E85)+1 -> 50 | F10: =MIN(E21:E86) -> 40.85 | G10: =AVERAGE(E21:E87) -> 41.384082 | H10: 1 | I10: =G10-F10 -> 0.53408163 | J10: 0.063796296 | K10: =J10-J9 -> 0.025081019 | L10: =K10+L8 -> 0.039780093 | M10: 2:14.87 | N10: -2 | O10: передержали
A11: 4 | B11: Голуб Сергей | C11: 69 | D11: =COUNTA(F21:F85)+D10+1 -> 193 | E11: =COUNTA(F21:F85)+1 -> 63 | F11: =MIN(F21:F86) -> 39.67 | G11: =AVERAGE(F21:F86) -> 40.075806 | H11: 2 | I11: =G11-F11 -> 0.40580645 | J11: 0.09412037 | K11: =J11-J10 -> 0.030324074 | L11: =K11+L9 -> 0.054340278 | M11: 2:16.80
A12: 5 | B12: Харченко Артем | C12: 13 | D12: =COUNTA(G21:G85)+D11+1 -> 244 | E12: =COUNTA(G21:G85)+1 -> 51 | F12: =MIN(G21:G86) -> 40.07 | G12: =AVERAGE(G21:G886) -> 40.5126 | H12: 3 | I12: =G12-F12 -> 0.4426 | J12: 0.11915509 | K12: =J12-J11 -> 0.025034722 | L12: =K12+L10 -> 0.064814815 | M12: 2:15.46
A13: 6 | B13: Голуб Сергей | C13: 5 | D13: =COUNTA(H21:H85)+D12+1 -> 273 | E13: =COUNTA(H21:H85)+1 -> 29 | F13: =MIN(H21:H86) -> 39.75 | G13: =AVERAGE(H21:H86) -> 39.984643 | H13: 12 | I13: =G13-F13 -> 0.23464286 | J13: 0.13368056 | K13: =J13-J12 -> 0.014525463 | L13: =K13+L11 -> 0.068865741 | M13: 2:16.06
A14: 7 | B14: Харченко Артем | C14: 8 | D14: =COUNTA(I21:I85)+D13+1 -> 312 | E14: =COUNTA(I21:I85)+1 -> 39 | F14: =MIN(I21:I86) -> 40 | G14: =AVERAGE(I21:I86) -> 40.397632 | H14: 2 | I14: =G14-F14 -> 0.39763158 | J14: 0.15302083 | K14: =J14-J13 -> 0.019340278 | L14: =K14+L12 -> 0.084155093 | M14: 2:27.04 | N14: +10 | O14: разворот №2
A15: Финиш | B15: Голуб Сергей | C15: 2 | D15: =COUNTA(J21:J85)+D14+1 -> 340 | E15: =COUNTA(J21:J85)+1 -> 28 | F15: =MIN(J21:J86) -> 39.8 | G15: =AVERAGE(J21:J86) -> 40.104074 | H15: 3 | I15: =G15-F15 -> 0.30407407 | J15: ='Общие результаты'!G6 -> 4:00:05 | K15: =J15-J14 -> 0.013703704 | L15: =K15+L13 -> 0.082569444
F16: =AVERAGE(F8,F10,F12,F14) -> 40.23 | G16: =AVERAGE(G8,G10,G12,G14) -> 40.756804 | H16: Артем | I16: =AVERAGE(I8,I10,I12,I14) -> 0.52680411
F17: =AVERAGE(F9,F11,F13,F15) -> 39.7925 | G17: =AVERAGE(G9,G11,G13,G15) -> 40.137954 | H17: Сергей | I17: =AVERAGE(I9,I11,I13,I15) -> 0.34545376
F18: =AVERAGE(F8:F15) -> 40.01125 | G18: =AVERAGE(C21:J90) -> 40.471321 | I18: =AVERAGE(I8:I15) -> 0.43612894
C20: =B8 -> Харченко Артем | D20: =B9 -> Голуб Сергей | E20: =B10 -> Харченко Артем | F20: =B11 -> Голуб Сергей | G20: =B12 -> Харченко Артем | H20: =B13 -> Голуб Сергей | I20: =B14 -> Харченко Артем | J20: =B15 -> Голуб Сергей
B21: 1 | C21: 45.86 | D21: 41.02 | E21: 41.53 | F21: 40.66 | G21: 40.96 | H21: 40.21 | I21: 40.64 | J21: 40.33
B22: 2 | C22: 43.58 | D22: 40.39 | E22: 41.54 | F22: 40.37 | G22: 40.98 | H22: 40.07 | I22: 40.46 | J22: 40.37
B23: 3 | C23: 41.11 | D23: 40.39 | E23: 41.58 | F23: 40.52 | G23: 40.76 | H23: 40.11 | I23: 40.17 | J23: 40.12
B24: 4 | C24: 42.25 | D24: 40.4 | E24: 41.69 | F24: 40.31 | G24: 40.57 | H24: 40.99 | I24: 40.32 | J24: 40.66
B25: 5 | C25: 40.44 | D25: 40.37 | E25: 41.58 | F25: 40.17 | G25: 40.59 | H25: 40.04 | I25: 41.23 | J25: 40.24
B26: 6 | C26: 40.58 | D26: 40.38 | E26: 41.17 | F26: 40.28 | G26: 41.17 | H26: 40.12 | I26: 40.33 | J26: 40
B27: 7 | C27: 41.99 | D27: 40.16 | E27: 41.35 | F27: 40.12 | G27: 40.38 | H27: 39.84 | I27: 40.22 | J27: 39.91
B28: 8 | C28: 40.35 | D28: 40.4 | E28: 41.5 | F28: 40.04 | G28: 40.47 | H28: 39.95 | I28: 40.21 | J28: 40.29
B29: 9 | C29: 40.25 | D29: 40.49 | E29: 41.15 | F29: 40.95 | G29: 40.34 | H29: 39.99 | I29: 40.22 | J29: 40.29
B30: 10 | C30: 41.17 | D30: 40.38 | E30: 43.51 | F30: 39.98 | G30: 40.51 | H30: 39.96 | I30: 40.37 | J30: 39.9
B31: 11 | C31: 40.13 | D31: 40.42 | E31: 41.26 | F31: 40.11 | G31: 40.44 | H31: 39.92 | I31: 40.35 | J31: 40.08
B32: 12 | C32: 40.16 | D32: 40.53 | E32: 41.27 | F32: 40.15 | G32: 40.49 | H32: 39.83 | I32: 40.21 | J32: 40.17
... B47: 27 | C47: 40.25 | D47: 40.34 | E47: 41.38 | F47: 40.1 | G47: 40.23 | H47: 39.83 | I47: 40.2 | J47: 40.29
B48: 28 | C48: 40.41 | D48: 40.73 | E48: 41.37 | F48: 40.11 | G48: 40.21 | H48: 40.21 | I48: 40.26
B49: 29 | C49: 40.49 | D49: 41.25 | E49: 41.12 | F49: 40.03 | G49: 40.46 | I49: 40.25
B50: 30 | C50: 40.45 | D50: 40.35 | E50: 41.1 | F50: 40.04 | G50: 40.26 | I50: 40.19
B51: 31 | C51: 40.78 | D51: 40.32 | E51: 41.13 | F51: 39.92 | G51: 40.1 | I51: 40.34
B52: 32 | D52: 40.2 | E52: 41.21 | F52: 40.06 | G52: 40.14 | I52: 40.27
B53: 33 | D53: 40.32 | E53: 41.1 | F53: 40.15 | G53: 40.2 | I53: 40.12
B54: 34 | D54: 40.22 | E54: 41.08 | F54: 40.14 | G54: 40.36 | I54: 40.14
B55: 35 | D55: 40.26 | E55: 41.26 | F55: 39.98 | G55: 40.29 | I55: 40.24
B56: 36 | D56: 40.49 | E56: 41.11 | F56: 40 | G56: 40.11 | I56: 40.23
B57: 37 | D57: 40.23 | E57: 42.08 | F57: 39.98 | G57: 40.47 | I57: 40.25
B58: 38 | D58: 40.17 | E58: 41.95 | F58: 39.85 | G58: 41.37 | I58: 41.17
B59: 39 | D59: 40.17 | E59: 41.05 | F59: 39.89 | G59: 40.3
B60: 40 | D60: 40.11 | E60: 42.48 | F60: 39.95 | G60: 40.32
B61: 41 | D61: 40.13 | E61: 41.1 | F61: 39.96 | G61: 40.32
B62: 42 | D62: 40.17 | E62: 40.85 | F62: 39.77 | G62: 40.88
B63: 43 | D63: 40.3 | E63: 41.09 | F63: 39.67 | G63: 40.37
B64: 44 | D64: 40.18 | E64: 41.16 | F64: 39.99 | G64: 40.96
B65: 45 | D65: 39.95 | E65: 41.22 | F65: 40.09 | G65: 40.34
B66: 46 | D66: 40.06 | E66: 41.15 | F66: 39.87 | G66: 40.37
B67: 47 | D67: 40.32 | E67: 41.11 | F67: 39.94 | G67: 40.33
B68: 48 | D68: 40.18 | E68: 41.46 | F68: 39.79 | G68: 40.38
B69: 49 | E69: 41.81 | F69: 39.73 | G69: 40.48
B70: 50 | F70: 40 | G70: 41.17
B71: 51 | F71: 40.35
B72: 52 | F72: 40.25
B73: 53 | F73: 40.02
B74: 54 | F74: 40.29
B75: 55 | F75: 40.05
B76: 56 | F76: 40.01
B77: 57 | F77: 40.19
B78: 58 | F78: 40.09
B79: 59 | F79: 39.97
B80: 60 | F80: 40.14
B81: 61 | F81: 40.82
B82: 62 | F82: 40.05
B83: 63

Sheet 50 grams
A2: Чемпионат мини марафон "Большие Гонки", 7-й этап
A4: 50 grams
A6: Обяза-тельные | B6: Пилот | C6: карт | D6: Круг | E6: кругов на отрезке | F6: Статистика по кругам | J6: Общее время гонки | K6: Время на трассе
F7: Лучший круг | G7: Среднее на отрезке | H7: Кругов в 0,1 от лучшего | I7: стабильность | K7: отрезок | L7: всего у пилота | M7: Питы | N7: Штрафы/ бонусы (сек)
A8: 1 | B8: Морозенко Сергей | C8: 5 | D8: =COUNTA(C21:C85) -> 38 | E8: =COUNTA(C21:C85) -> 38 | F8: =MIN(C21:C84) -> 40.07 | G8: =AVERAGE(C21:C87) -> 40.740263 | H8: 10 | I8: =G8-F8 -> 0.67026316 | J8: 0.017997685 | K8: =J8 -> 0.017997685 | L8: =K8 -> 0.017997685 | M8: 2:16.04
A9: 2 | B9: Сомок Денис | C9: 21 | D9: =COUNTA(D21:D85)+D8+1 -> 79 | E9: =COUNTA(D21:D85)+1 -> 41 | F9: =MIN(D21:D84) -> 39.98 | G9: =AVERAGE(D21:D86) -> 40.36725 | H9: 8 | I9: =G9-F9 -> 0.38725 | J9: 0.038252315 | K9: =J9-J8 -> 0.02025463 | L9: =K9 -> 0.02025463 | M9: 2:16.92
A10: 3 | B10: Морозенко Сергей | C10: 11 | D10: =COUNTA(E21:E85)+D9+1 -> 136 | E10: =COUNTA(E21:E85)+1 -> 57 | F10: =MIN(E21:E86) -> 40.12 | G10: =AVERAGE(E21:E87) -> 40.916964 | H10: 0 | I10: =G10-F10 -> 0.79696429 | J10: 0.066377315 | K10: =J10-J9 -> 0.028125 | L10: =K10+L8 -> 0.046122685 | M10: 2:21.64 | N10: 5 | O10: линия
A11: 4 | B11: Сомок Денис | C11: 6 | D11: =COUNTA(F21:F85)+D10+1 -> 194 | E11: =COUNTA(F21:F85)+1 -> 58 | F11: =MIN(F21:F86) -> 39.92 | G11: =AVERAGE(F21:F86) -> 40.319825 | H11: 6 | I11: =G11-F11 -> 0.39982456 | J11: 0.094606481 | K11: =J11-J10 -> 0.028229167 | L11: =K11+L9 -> 0.048483796 | M11: 2:18.19
A12: 5 | B12: Морозенко Сергей | C12: 44 | D12: =COUNTA(G21:G85)+D11+1 -> 233 | E12: =COUNTA(G21:G85)+1 -> 39 | F12: =MIN(G21:G86) -> 40.38 | G12: =AVERAGE(G21:G886) -> 40.788421 | H12: 2 | I12: =G12-F12 -> 0.40842105 | J12: 0.11415509 | K12: =J12-J11 -> 0.019548611 | L12: =K12+L10 -> 0.065671296 | M12: 2:15.60
A13: 6 | B13: Сомок Денис | C13: 1 | D13: =COUNTA(H21:H85)+D12+1 -> 295 | E13: =COUNTA(H21:H85)+1 -> 62 | F13: =MIN(H21:H86) -> 39.64 | G13: =AVERAGE(H21:H86) -> 39.94541 | H13: 0 | I13: =G13-F13 -> 0.30540984 | J13: 0.14394676 | K13: =J13-J12 -> 0.029791667 | L13: =K13+L11 -> 0.078275463 | M13: 2:18.11
A14: 7 | B14: Морозенко Сергей | C14: 13 | D14: =COUNTA(I21:I85)+D13+1 -> 316 | E14: =COUNTA(I21:I85)+1 -> 21 | F14: =MIN(I21:I86) -> 40.47 | G14: =AVERAGE(I21:I86) -> 41.1105 | H14: 0 | I14: =G14-F14 -> 0.6405 | J14: 0.1550463 | K14: =J14-J13 -> 0.011099537 | L14: =K14+L12 -> 0.076770833 | M14: 2:15.86
A15: Финиш | B15: Морозенко Сергей | C15: 5 | D15: =COUNTA(J21:J85)+D14+1 -> 339 | E15: =COUNTA(J21:J85)+1 -> 23 | F15: =MIN(J21:J86) -> 39.88 | G15: =AVERAGE(J21:J86) -> 40.487273 | H15: 1 | I15: =G15-F15 -> 0.60727273 | J15: ='Общие результаты'!G6 -> 4:00:05 | K15: =J15-J14 -> 0.011678241 | L15: =K15+L14 -> 0.088449074
F16: =AVERAGE(F8,F10,F12,F14,F15) -> 40.184 | G16: =AVERAGE(G8,G10,G12,G14,G15) -> 40.808684 | H16: Сергей | I16: =AVERAGE(I8,I10,I12,I14,I15) -> 0.62468424
F17: =AVERAGE(F9,F11,F13) -> 39.846667 | G17: =AVERAGE(G9,G11,G13) -> 40.210828 | H17: Денис | I17: =AVERAGE(I9,I11,I13) -> 0.36416147
F18: =AVERAGE(F8:F15) -> 40.0575 | G18: =AVERAGE(C21:J90) -> 40.517952 | I18: =AVERAGE(I8:I15) -> 0.5269882
C20: =B8 -> Морозенко Сергей | D20: =B9 -> Сомок Денис | E20: =B10 -> Морозенко Сергей | F20: =B11 -> Сомок Денис | G20: =B12 -> Морозенко Сергей | H20: =B13 -> Сомок Денис | I20: =B14 -> Морозенко Сергей | J20: =B15 -> Морозенко Сергей
B21: 1 | C21: 45.54 | D21: 40.28 | E21: 42.75 | F21: 40.25 | G21: 40.85 | H21: 40.62 | I21: 42.07 | J21: 40.63
B22: 2 | C22: 42.06 | D22: 41.5 | E22: 42.19 | F22: 40.26 | G22: 40.65 | H22: 40.01 | I22: 41.53 | J22: 40.01
B23: 3 | C23: 41.95 | D23: 40.88 | E23: 42.04 | F23: 40.38 | G23: 40.72 | H23: 40.05 | I23: 41.01 | J23: 40.14
B24: 4 | C24: 41.89 | D24: 40.31 | E24: 42.12 | F24: 40.3 | G24: 41.34 | H24: 39.85 | I24: 40.84 | J24: 40.32
B25: 5 | C25: 40.76 | D25: 40.02 | E25: 40.64 | F25: 40.14 | G25: 40.7 | H25: 40.01 | I25: 41.59 | J25: 39.88
B26: 6 | C26: 40.68 | D26: 40.9 | E26: 40.68 | F26: 40.22 | G26: 40.67 | H26: 40.04 | I26: 40.69 | J26: 41.6
B27: 7 | C27: 44.55 | D27: 40.29 | E27: 40.7 | F27: 40.21 | G27: 40.68 | H27: 40.05 | I27: 41.28 | J27: 40.78
B28: 8 | C28: 40.92 | D28: 40.31 | E28: 40.74 | F28: 40.11 | G28: 40.8 | H28: 40.05 | I28: 41.15 | J28: 40.49
B29: 9 | C29: 40.37 | D29: 40.34 | E29: 47.08 | F29: 40.05 | G29: 40.66 | H29: 39.89 | I29: 40.62 | J29: 40.62
B30: 10 | C30: 40.34 | D30: 40.18 | E30: 40.37 | F30: 40.05 | G30: 40.67 | H30: 39.99 | I30: 40.47 | J30: 40.16
B31: 11 | C31: 40.35 | D31: 40.25 | E31: 40.64 | F31: 39.96 | G31: 40.48 | H31: 39.96 | I31: 40.64 | J31: 40.35
B32: 12 | C32: 40.37 | D32: 40.23 | E32: 40.73 | F32: 40.14 | G32: 41.35 | H32: 39.93 | I32: 42.48 | J32: 40.5
... B40: 20 | C40: 40.1 | D40: 40.13 | E40: 40.73 | F40: 40.12 | G40: 40.88 | H40: 39.92 | I40: 41.58 | J40: 40.28
B41: 21 | C41: 40.36 | D41: 41.61 | E41: 40.26 | F41: 40.16 | G41: 41.04 | H41: 39.83 | J41: 40.57
B42: 22 | C42: 40.12 | D42: 40.36 | E42: 40.68 | F42: 40.05 | G42: 40.61 | H42: 39.97 | J42: 40.66
B43: 23 | C43: 40.21 | D43: 41.85 | E43: 40.9 | F43: 40.19 | G43: 41.04 | H43: 39.78
B44: 24 | C44: 40.23 | D44: 40.03 | E44: 40.57 | F44: 40.13 | G44: 41.25 | H44: 40
B45: 25 | C45: 40.09 | D45: 40.14 | E45: 40.59 | F45: 40.06 | G45: 40.68 | H45: 39.94
B46: 26 | C46: 40.34 | D46: 40.03 | E46: 40.5 | F46: 40.03 | G46: 40.38 | H46: 40.19
B47: 27 | C47: 40.3 | D47: 39.98 | E47: 40.78 | F47: 40.03 | G47: 40.79 | H47: 39.85
B48: 28 | C48: 40.24 | D48: 40.26 | E48: 40.53 | F48: 40.26 | G48: 40.54 | H48: 39.75
B49: 29 | C49: 41.24 | D49: 40.02 | E49: 40.53 | F49: 40.28 | G49: 40.49 | H49: 39.88
B50: 30 | C50: 40.14 | D50: 40.26 | E50: 40.59 | F50: 39.92 | G50: 40.8 | H50: 39.97
B51: 31 | C51: 40.07 | D51: 40.08 | E51: 40.6 | F51: 40 | G51: 40.6 | H51: 39.9
B52: 32 | C52: 40.74 | D52: 40.17 | E52: 40.48 | F52: 40.23 | G52: 40.48 | H52: 39.85
B53: 33 | C53: 40.42 | D53: 40.02 | E53: 40.52 | F53: 40.23 | G53: 40.53 | H53: 39.8
B54: 34 | C54: 40.1 | D54: 40.16 | E54: 40.7 | F54: 40.12 | G54: 40.49 | H54: 40.07
... B58: 38 | C58: 40.86 | D58: 40.01 | E58: 40.57 | F58: 40.58 | G58: 41.24 | H58: 39.86
B59: 39 | D59: 40.21 | E59: 40.36 | F59: 40.4 | H59: 39.99
B60: 40 | D60: 40.24 | E60: 40.61 | F60: 40.22 | H60: 39.95
B61: 41 | E61: 40.76 | F61: 40.11 | H61: 39.78
B62: 42 | E62: 40.8 | F62: 40.2 | H62: 39.79
B63: 43 | E63: 40.89 | F63: 40.13 | H63: 39.92
B64: 44 | E64: 40.91 | F64: 40.03 | H64: 39.94
B65: 45 | E65: 40.7 | F65: 40.11 | H65: 39.96
B66: 46 | E66: 40.46 | F66: 40.16 | H66: 39.91
B67: 47 | E67: 40.82 | F67: 40.21 | H67: 39.96
B68: 48 | E68: 40.66 | F68: 40.03 | H68: 39.96
B69: 49 | E69: 40.65 | F69: 40.35 | H69: 39.65
B70: 50 | E70: 40.54 | F70: 40.42 | H70: 39.94
B71: 51 | E71: 40.52 | F71: 40.89 | H71: 39.64
B72: 52 | E72: 40.4 | F72: 41.1 | H72: 39.8
... B76: 56 | E76: 40.74 | F76: 40.85 | H76: 39.84
B77: 57 | F77: 40.71 | H77: 40.01
B78: 58 | H78: 39.96
B79: 59 | H79: 40.13
B80: 60 | H80: 39.78
B81: 61 | H81: 40.2
B82: 62
B83: 63

Sheet F1UA
A2: Чемпионат мини марафон "Большие Гонки", 7-й этап
A4: F1UA
A6: Обяза-тельные | B6: Пилот | C6: карт | D6: Круг | E6: кругов на отрезке | F6: Статистика по кругам | J6: Общее время гонки | K6: Время на трассе
F7: Лучший круг | G7: Среднее на отрезке | H7: Кругов в 0,1 от лучшего | I7: стабильность | K7: отрезок | L7: всего у пилота | M7: Питы | N7: Штрафы/ бонусы (сек)
A8: 1 | B8: Якусик Дима | C8: 7 | D8: =COUNTA(C22:C86) -> 37 | E8: =COUNTA(C22:C86) -> 37 | F8: =MIN(C22:C85) -> 39.87 | G8: =AVERAGE(C22:C88) -> 40.697027 | H8: 4 | I8: =G8-F8 -> 0.82702703 | J8: 0.0175 | K8: =J8 -> 0.0175 | L8: =K8 -> 0.0175 | M8: 2:20.15
A9: 2 | B9: Гончаров Рома | C9: 11 | D9: =COUNTA(D22:D86)+D8+1 -> 68 | E9: =COUNTA(D22:D86)+1 -> 31 | F9: =MIN(D22:D85) -> 40.41 | G9: =AVERAGE(D22:D87) -> 40.856 | H9: 3 | I9: =G9-F9 -> 0.446 | J9: 0.033310185 | K9: =J9-J8 -> 0.015810185 | L9: =K9 -> 0.015810185 | M9: 2:16.68
A10: 3 | B10: Якусик Дима | C10: 6 | D10: =COUNTA(E22:E86)+D9+1 -> 132 | E10: =COUNTA(E22:E86)+1 -> 64 | F10: =MIN(E22:E87) -> 39.83 | G10: =AVERAGE(E22:E88) -> 40.110794 | H10: 8 | I10: =G10-F10 -> 0.28079365 | J10: 0.064143519 | K10: =J10-J9 -> 0.030833333 | L10: =K10+L8 -> 0.048333333 | M10: 2:19.29
A11: 4 | B11: Гончаров Рома | C11: 2 | D11: =COUNTA(F22:F86)+D10+1 -> 166 | E11: =COUNTA(F22:F86)+1 -> 34 | F11: =MIN(F22:F87) -> 40 | G11: =AVERAGE(F22:F87) -> 40.478182 | H11: 2 | I11: =G11-F11 -> 0.47818182 | J11: 0.081215278 | K11: =J11-J10 -> 0.017071759 | L11: =K11+L9 -> 0.032881944 | M11: 2:16.68
A12: 5 | B12: Якусик Дима | C12: 3 | D12: =COUNTA(G22:G86)+D11+1 -> 201 | E12: =COUNTA(G22:G86)+1 -> 35 | F12: =MIN(G22:G87) -> 39.95 | G12: =AVERAGE(G22:G887) -> 40.244118 | H12: 6 | I12: =G12-F12 -> 0.29411765 | J12: 0.098645833 | K12: =J12-J11 -> 0.017430556 | L12: =K12+L10 -> 0.065763889 | M12: 2:16.40
A13: 6 | B13: Гончаров Рома | C13: 10 | D13: =COUNTA(H22:H86)+D12+1 -> 265 | E13: =COUNTA(H22:H86)+1 -> 64 | F13: =MIN(H22:H87) -> 39.92 | G13: =AVERAGE(H22:H87) -> 40.410952 | H13: 4 | I13: =G13-F13 -> 0.49095238 | J13: 0.1296875 | K13: =J13-J12 -> 0.031041667 | L13: =K13+L11 -> 0.063923611 | M13: 2:16.97
A14: 7 | B14: Якусик Дима | C14: 13 | D14: =COUNTA(I22:I85)+D13+1 -> 285 | E14: =COUNTA(I22:I86)+1 -> 20 | F14: =MIN(I22:I87) -> 40.13 | G14: =AVERAGE(I22:I87) -> 40.58 | H14: 1 | I14: =G14-F14 -> 0.45 | J14: 0.14019676 | K14: =J14-J13 -> 0.010509259 | L14: =K14+L12 -> 0.076273148 | M14: 2:17.38
A15: 8 | B15: Якусик Дима | C15: 9 | D15: =COUNTA(J22:J85)+D14+1 -> 310 | E15: =COUNTA(J22:J86)+1 -> 25 | F15: =MIN(J22:J87) -> 39.83 | G15: =AVERAGE(J22:J87) -> 40.16875 | H15: 3 | I15: =G15-F15 -> 0.33875 | J15: 0.15295139 | K15: =J15-J14 -> 0.01275463 | L15: =K15+L14 -> 0.089027778 | M15: 2:16.25
A16: Финиш | B16: Гончаров Рома | C16: 10 | D16: =COUNTA(K22:K86)+D15+1 -> 338 | E16: =COUNTA(K22:K86)+1 -> 28 | F16: =MIN(K22:K87) -> 40.03 | G16: =AVERAGE(K22:K87) -> 40.374444 | H16: 3 | I16: =G16-F16 -> 0.34444444 | J16: ='Общие результаты'!G6 -> 4:00:05 | K16: =J16-J15 -> 0.013773148 | L16: =K16+L13 -> 0.077696759
F17: =AVERAGE(F8,F10,F12,F14,F15) -> 39.922 | G17: =AVERAGE(G8,G10,G12,G14,G15) -> 40.360138 | H17: Дима | I17: =AVERAGE(I8,I10,I12,I14,I15) -> 0.43813766
F18: =AVERAGE(F9,F11,F13,F16) -> 40.09 | G18: =AVERAGE(G9,G11,G13,G16) -> 40.529895 | H18: Рома | I18: =AVERAGE(I9,I11,I13,I16) -> 0.43989466
F19: =AVERAGE(F8:F16) -> 39.996667 | G19: =AVERAGE(C22:J91) -> 40.407558 | I19: =AVERAGE(I8:I16) -> 0.43891855
C21: =B8 -> Якусик Дима | D21: =B9 -> Гончаров Рома | E21: =B10 -> Якусик Дима | F21: =B11 -> Гончаров Рома | G21: =B12 -> Якусик Дима | H21: =B13 -> Гончаров Рома | I21: =B14 -> Якусик Дима | J21: =B15 -> Якусик Дима | K21: =B16 -> Гончаров Рома
B22: 1 | C22: 45.81 | D22: 40.73 | E22: 40.18 | F22: 40.56 | G22: 40.44 | H22: 40.52 | I22: 40.78 | J22: 40.91 | K22: 40.44
B23: 2 | C23: 41.58 | D23: 41.93 | E23: 39.97 | F23: 40.56 | G23: 40.81 | H23: 40.12 | I23: 40.31 | J23: 41.5 | K23: 40.5
B24: 3 | C24: 43.18 | D24: 40.66 | E24: 40.03 | F24: 40.39 | G24: 40.41 | H24: 40.04 | I24: 40.42 | J24: 40.35 | K24: 40.42
B25: 4 | C25: 43.07 | D25: 40.91 | E25: 40.11 | F25: 40.21 | G25: 40.23 | H25: 40.5 | I25: 40.48 | J25: 40.14 | K25: 40.45
B26: 5 | C26: 40.38 | D26: 40.49 | E26: 40.18 | F26: 40.28 | G26: 40.12 | H26: 40.12 | I26: 42.57 | J26: 40.01 | K26: 40.61
B27: 6 | C27: 40.81 | D27: 40.9 | E27: 40 | F27: 40.21 | G27: 40.36 | H27: 40.37 | I27: 40.48 | J27: 40.19 | K27: 40.23
B28: 7 | C28: 42.93 | D28: 41.61 | E28: 39.96 | F28: 40.25 | G28: 40.27 | H28: 40.21 | I28: 40.29 | J28: 40.1 | K28: 40.45
B29: 8 | C29: 40.39 | D29: 40.72 | E29: 40.16 | F29: 40.08 | G29: 40.25 | H29: 40.5 | I29: 40.47 | J29: 39.99 | K29: 40.24
B30: 9 | C30: 40.03 | D30: 40.47 | E30: 40.08 | F30: 40.13 | G30: 40.07 | H30: 40.31 | I30: 40.54 | J30: 40.5 | K30: 40.11
B31: 10 | C31: 40.28 | D31: 40.74 | E31: 40.24 | F31: 40.47 | G31: 40.24 | H31: 40.3 | I31: 40.65 | J31: 39.93 | K31: 40.33
B32: 11 | C32: 40.31 | D32: 41.63 | E32: 39.93 | F32: 40.33 | G32: 40.29 | H32: 40.2 | I32: 40.36 | J32: 40.03 | K32: 40.94
B33: 12 | C33: 40.27 | D33: 40.54 | E33: 39.99 | F33: 40.36 | G33: 40.34 | H33: 40.26 | I33: 40.48 | J33: 40.06 | K33: 40.13
... B40: 19 | C40: 40.31 | D40: 40.77 | E40: 40.14 | F40: 40.31 | G40: 40.23 | H40: 39.92 | I40: 40.57 | J40: 40.02 | K40: 40.42
B41: 20 | C41: 40.3 | D41: 40.82 | E41: 41.56 | F41: 40.36 | G41: 40.04 | H41: 40.04 | J41: 39.88 | K41: 40.34
B42: 21 | C42: 40.17 | D42: 40.7 | E42: 40.04 | F42: 41.31 | G42: 40.16 | H42: 40 | J42: 40.08 | K42: 40.39
B43: 22 | C43: 40.15 | D43: 40.64 | E43: 40.54 | F43: 40.12 | G43: 40.05 | H43: 40 | J43: 39.99 | K43: 40.61
B44: 23 | C44: 40.17 | D44: 40.66 | E44: 40.14 | F44: 40 | G44: 40.09 | H44: 40.32 | J44: 39.99 | K44: 40.16
B45: 24 | C45: 40.2 | D45: 40.91 | E45: 40.01 | F45: 40.29 | G45: 40.22 | H45: 40.1 | J45: 40.47 | K45: 40.06
B46: 25 | C46: 40.39 | D46: 40.95 | E46: 40.05 | F46: 40.41 | G46: 40.28 | H46: 40.12 | K46: 40.17
B47: 26 | C47: 43.47 | D47: 41.74 | E47: 39.89 | F47: 40.41 | G47: 41.29 | H47: 40.12 | K47: 40.03
B48: 27 | C48: 39.91 | D48: 41.17 | E48: 40.06 | F48: 40.5 | G48: 40.03 | H48: 40.8 | K48: 40.54
B49: 28 | C49: 39.87 | D49: 40.73 | E49: 39.98 | F49: 41.1 | G49: 39.95 | H49: 40.48
B50: 29 | C50: 40.63 | D50: 40.51 | E50: 39.93 | F50: 40.64 | G50: 40.1 | H50: 40.16
B51: 30 | C51: 39.91 | D51: 40.82 | E51: 40.01 | F51: 40.41 | G51: 40.03 | H51: 40.64
B52: 31 | C52: 40.11 | E52: 40.11 | F52: 41.26 | G52: 39.95 | H52: 40.53
B53: 32 | C53: 40.13 | E53: 39.88 | F53: 40.37 | G53: 40.06 | H53: 40.33
B54: 33 | C54: 40.21 | E54: 40.07 | F54: 40.91 | G54: 39.98 | H54: 40.4
B55: 34 | C55: 40.28 | E55: 39.97 | G55: 40.31 | H55: 40.31
B56: 35 | C56: 40.05 | E56: 39.99 | H56: 40.38
B57: 36 | C57: 40.02 | E57: 40.02 | H57: 40.41
B58: 37 | C58: 39.89 | E58: 39.9 | H58: 40.86
B59: 38 | E59: 39.92 | H59: 40.82
B60: 39 | E60: 39.94 | H60: 40.39
B61: 40 | E61: 40.16 | H61: 40.37
B62: 41 | E62: 39.97 | H62: 40.71
B63: 42 | E63: 40.08 | H63: 40.36
B64: 43 | E64: 39.98 | H64: 40.57
B65: 44 | E65: 40 | H65: 40.68
B66: 45 | E66: 40.09 | H66: 40.45
B67: 46 | E67: 39.92 | H67: 40.54
B68: 47 | E68: 40.15 | H68: 40.79
B69: 48 | E69: 40.11 | H69: 40.38
B70: 49 | E70: 40.39 | H70: 40.11
... B84: 63 | E84: 40.71 | H84: 40.96

Sheet Лист1
A1: 43659 | B1: 0.42707176
A2: Место: | B2: 1 | C2: 2 | D2: 3 | E2: 4 | F2: 5 | G2: 6 | H2: 7 | I2: 8 | J2: 9 | K2: 10 | L2: 11 | M2: 12
A3: Имя: | B3: K44 | C3: Kozaks | D3: NFS Fortuna RT | E3: JustKart | F3: Hurricane | G3: Kart Freedom JT | H3: 50 grams | I3: Kart Freedom | J3: NaCnudax | K3: Ягуар | L3: Е-мое | M3: F1UA
A4: Карт: | B4: 10 | C4: 4 | D4: 3 | E4: 2 | F4: 6 | G4: 8 | H4: 5 | I4: 1 | J4: 12 | K4: 9 | L4: 11 | M4: 7
A5: 1 | B5: 43.93 | C5: 46.1 | D5: 44.75 | E5: 45.46 | F5: 46.15 | G5: 47.84 | H5: 45.54 | I5: 46.27 | J5: 45.86 | K5: 46.23 | L5: 46.27 | M5: 45.81
A6: 2 | B6: 40.52 | C6: 41.04 | D6: 40.27 | E6: 41 | F6: 40.64 | G6: 41.31 | H6: 42.06 | I6: 40.76 | J6: 43.58 | K6: 43.72 | L6: 41.3 | M6: 41.58
A7: 3 | B7: 41.06 | C7: 44.03 | D7: 40.23 | E7: 41.28 | F7: 40.28 | G7: 43.01 | H7: 41.95 | I7: 40.28 | J7: 41.11 | K7: 41.07 | L7: 43.2 | M7: 43.18
A8: 4 | B8: 40.55 | C8: 40.71 | D8: 40.12 | E8: 40.58 | F8: 40.23 | G8: 40.43 | H8: 41.89 | I8: 40.08 | J8: 42.25 | K8: 42.44 | L8: 42.12 | M8: 43.07
A9: 5 | B9: 40.01 | C9: 40.43 | D9: 40.24 | E9: 40.41 | F9: 39.98 | G9: 40.87 | H9: 40.76 | I9: 40.02 | J9: 40.44 | K9: 40.31 | L9: 40.56 | M9: 40.38
A10: 6 | B10: 39.96 | C10: 44.01 | D10: 40.07 | E10: 40.3 | F10: 39.83 | G10: 49.11 | H10: 40.68 | I10: 40.12 | J10: 40.58 | K10: 40.61 | L10: 40.85 | M10: 40.81
A11: 7 | B11: 40.02 | C11: 41.53 | D11: 39.82 | E11: 40.29 | F11: 39.77 | G11: 40.54 | H11: 44.55 | I11: 39.82 | J11: 41.99 | K11: 42.79 | L11: 41.25 | M11: 42.93
A12: 8 | B12: 39.98 | C12: 39.98 | D12: 39.95 | E12: 40.33 | F12: 40.07 | G12: 40.36 | H12: 40.92 | I12: 39.8 | J12: 40.35 | K12: 40.05 | L12: 40.23 | M12: 40.39
A13: 9 | B13: 40.32 | C13: 40.1 | D13: 39.92 | E13: 40.3 | F13: 39.69 | G13: 40.5 | H13: 40.37 | I13: 40.02 | J13: 40.25 | K13: 40.24 | L13: 40.27 | M13: 40.03
A14: 10 | B14: 39.92 | C14: 40.4 | D14: 39.79 | E14: 39.99 | F14: 40.04 | G14: 40.33 | H14: 40.34 | I14: 39.84 | J14: 41.17 | K14: 40.58 | L14: 39.97 | M14: 40.28
A15: 11 | B15: 39.89 | C15: 39.89 | D15: 39.93 | E15: 40.2 | F15: 39.82 | G15: 40.36 | H15: 40.35 | I15: 39.92 | J15: 40.13 | K15: 40.21 | L15: 40.01 | M15: 40.31
A16: 12 | B16: 40.12 | C16: 40.12 | D16: 40.06 | E16: 40.16 | F16: 39.67 | G16: 40.67 | H16: 40.37 | I16: 39.9 | J16: 40.16 | K16: 40.34 | L16: 40.51 | M16: 40.27
... A29: 25 | B29: 40.06 | C29: 40.21 | D29: 40.07 | E29: 40.26 | F29: 39.89 | G29: 40.56 | H29: 40.09 | I29: 39.83 | J29: 40.33 | K29: 40.33 | L29: 40.38 | M29: 40.39
A30: 26 | B30: 40.11 | C30: 39.61 | D30: 39.8 | E30: 40.17 | F30: 39.83 | G30: 2:17.41 | H30: 40.34 | I30: 39.74 | J30: 40.22 | K30: 2:18.02 | L30: 1:34.22 | M30: 43.47
A31: 27 | B31: 40.08 | C31: 39.8 | D31: 39.84 | E31: 40.06 | F31: 39.89 | G31: 40.97 | H31: 40.3 | I31: 39.76 | J31: 40.25 | K31: 41.91 | L31: 41.02 | M31: 39.91
A32: 28 | B32: 40.1 | C32: 39.92 | D32: 39.85 | E32: 40.3 | F32: 39.91 | G32: 40.39 | H32: 40.24 | I32: 39.8 | J32: 40.41 | K32: 42.84 | L32: 40.92 | M32: 39.87
A33: 29 | B33: 40.1 | C33: 39.95 | D33: 39.81 | E33: 40.15 | F33: 39.8 | G33: 40.34 | H33: 41.24 | I33: 39.75 | J33: 40.49 | K33: 41.55 | L33: 40.77 | M33: 40.63
A34: 30 | B34: 39.91 | C34: 40.08 | D34: 39.89 | E34: 40.04 | F34: 39.84 | G34: 40.55 | H34: 40.14 | I34: 39.81 | J34: 40.45 | K34: 41.91 | L34: 40.89 | M34: 39.91
A35: 31 | B35: 40.33 | C35: 39.85 | D35: 39.76 | E35: 40.38 | F35: 40.07 | G35: 40.3 | H35: 40.07 | I35: 40.06 | J35: 40.78 | K35: 41.19 | L35: 40.67 | M35: 40.11
A36: 32 | B36: 2:16.74 | C36: 40.07 | D36: 39.84 | E36: 39.88 | F36: 39.9 | G36: 40.11 | H36: 40.74 | I36: 40.08 | J36: 2:17.43 | K36: 41.33 | L36: 41.27 | M36: 40.13
A37: 33 | B37: 40.69 | C37: 39.85 | D37: 39.92 | E37: 39.98 | F37: 39.84 | G37: 39.97 | H37: 40.42 | I37: 1:52.44 | J37: 41.02 | K37: 41.44 | L37: 40.45 | M37: 40.21
A38: 34 | B38: 40.44 | C38: 39.68 | D38: 39.82 | E38: 40.14 | F38: 39.99 | G38: 40.22 | H38: 40.1 | I38: 40.25 | J38: 40.39 | K38: 42.24 | L38: 40.51 | M38: 40.28
A39: 35 | B39: 40.02 | C39: 39.74 | D39: 39.9 | E39: 39.9 | F39: 39.81 | G39: 40.04 | H39: 40.12 | I39: 40.08 | J39: 40.39 | K39: 41.45 | L39: 41.09 | M39: 40.05
A40: 36 | B40: 40.07 | C40: 39.85 | D40: 39.9 | E40: 40.24 | F40: 40 | G40: 40.01 | H40: 40.4 | I40: 40.04 | J40: 40.4 | K40: 41.18 | L40: 41.27 | M40: 40.02
A41: 37 | B41: 40.05 | C41: 40.3 | D41: 39.93 | E41: 40.75 | F41: 39.86 | G41: 40.23 | H41: 40.3 | I41: 40.14 | J41: 40.37 | K41: 40.67 | L41: 40.58 | M41: 39.89
A42: 38 | B42: 39.91 | C42: 39.95 | D42: 39.8 | E42: 40.17 | F42: 39.83 | G42: 40.08 | H42: 40.86 | I42: 40.15 | J42: 40.38 | K42: 40.98 | L42: 40.47 | M42: 2:20.15
A43: 39 | B43: 40.69 | C43: 39.93 | D43: 40.21 | E43: 40.06 | F43: 39.87 | G43: 39.96 | H43: 2:16.04 | I43: 40.21 | J43: 40.16 | K43: 41.41 | L43: 41.21 | M43: 40.73
A44: 40 | B44: 40.01 | C44: 39.94 | D44: 2:15.44 | E44: 40.23 | F44: 39.96 | G44: 40.13 | H44: 40.28 | I44: 40.15 | J44: 40.4 | K44: 41.39 | L44: 40.25 | M44: 41.93
A45: 41 | B45: 39.96 | C45: 41.01 | D45: 40 | E45: 41.69 | F45: 40.02 | G45: 40.1 | H45: 41.5 | I45: 40.07 | J45: 40.49 | K45: 41.56 | L45: 40.4 | M45: 40.66
A46: 42 | B46: 40.09 | C46: 2:13.17 | D46: 39.89 | E46: 2:16.34 | F46: 40.3 | G46: 40.08 | H46: 40.88 | I46: 40.15 | J46: 40.38 | K46: 42.21 | L46: 40.62 | M46: 40.91
A47: 43 | B47: 40.31 | C47: 40.16 | D47: 39.8 | E47: 40.42 | F47: 2:15.19 | G47: 40.27 | H47: 40.31 | I47: 39.95 | J47: 40.42 | K47: 41.17 | L47: 40.79 | M47: 40.49
A48: 44 | B48: 40.05 | C48: 39.96 | D48: 39.85 | E48: 40.07 | F48: 40.2 | G48: 40.14 | H48: 40.02 | I48: 39.93 | J48: 40.53 | K48: 41.58 | L48: 40.5 | M48: 40.9
A49: 45 | B49: 40.09 | C49: 39.99 | D49: 39.67 | E49: 40.22 | F49: 39.9 | G49: 40.19 | H49: 40.9 | I49: 40.19 | J49: 40.36 | K49: 42.12 | L49: 41.46 | M49: 41.61
A50: 46 | B50: 40.06 | C50: 40.34 | D50: 39.79 | E50: 39.88 | F50: 40.05 | G50: 40.13 | H50: 40.29 | I50: 39.94 | J50: 40.68 | K50: 41.67 | L50: 40.35 | M50: 40.72
A51: 47 | B51: 40.1 | C51: 40.54 | D51: 39.79 | E51: 39.74 | F51: 40.02 | G51: 40.09 | H51: 40.31 | I51: 40.07 | J51: 40.45 | K51: 41.94 | L51: 40.29 | M51: 40.47
A52: 48 | B52: 40.14 | C52: 40.37 | D52: 39.68 | E52: 40.41 | F52: 40 | G52: 40.03 | H52: 40.34 | I52: 40.06 | J52: 40.31 | K52: 41.82 | L52: 40.4 | M52: 40.74
A53: 49 | B53: 40.08 | C53: 39.91 | D53: 39.86 | E53: 39.89 | F53: 39.77 | G53: 39.97 | H53: 40.18 | I53: 40.09 | J53: 40.31 | K53: 41.15 | L53: 40.63 | M53: 41.63
A54: 50 | B54: 40.34 | C54: 39.98 | D54: 39.63 | E54: 39.98 | F54: 40.07 | G54: 40.15 | H54: 40.25 | I54: 40.09 | J54: 40.18 | K54: 41.89 | L54: 40.42 | M54: 40.54
A55: 51 | B55: 40.26 | C55: 40.02 | D55: 39.57 | E55: 39.86 | F55: 39.82 | G55: 40.25 | H55: 40.23 | I55: 39.97 | J55: 40.36 | K55: 41.25 | L55: 40.66 | M55: 40.41
A56: 52 | B56: 2:15.94 | C56: 40.11 | D56: 39.6 | E56: 39.93 | F56: 39.93 | G56: 40.02 | H56: 41.41 | I56: 40.09 | J56: 40.16 | K56: 41.5 | L56: 40.39 | M56: 40.8
A57: 53 | B57: 40.17 | C57: 40.01 | D57: 40.08 | E57: 39.79 | F57: 39.88 | G57: 40.61 | H57: 40.33 | I57: 40.01 | J57: 40.67 | K57: 42.21 | L57: 40.36 | M57: 40.7
A58: 54 | B58: 40.14 | C58: 39.78 | D58: 39.68 | E58: 39.8 | F58: 39.87 | G58: 40.27 | H58: 40.63 | I58: 39.97 | J58: 40.24 | K58: 41.66 | L58: 40.25 | M58: 40.54
A59: 55 | B59: 39.88 | C59: 39.8 | D59: 39.69 | E59: 39.65 | F59: 39.66 | G59: 40.76 | H59: 40.16 | I59: 39.85 | J59: 40.19 | K59: 41.73 | L59: 40.33 | M59: 40.68
A60: 56 | B60: 39.83 | C60: 40.09 | D60: 39.89 | E60: 39.81 | F60: 39.83 | G60: 40.33 | H60: 40.15 | I60: 40.01 | J60: 40.83 | K60: 41.76 | L60: 40.21 | M60: 40.8
A61: 57 | B61: 39.78 | C61: 39.85 | D61: 39.82 | E61: 39.91 | F61: 39.74 | G61: 41.01 | H61: 40.2 | I61: 39.84 | J61: 41.78 | K61: 41.64 | L61: 40.42 | M61: 40.77
A62: 58 | B62: 39.77 | C62: 40.13 | D62: 39.92 | E62: 39.94 | F62: 39.83 | G62: 40.07 | H62: 40.06 | I62: 39.82 | J62: 40.29 | K62: 41.82 | L62: 40.42 | M62: 40.82
A63: 59 | B63: 39.58 | C63: 39.95 | D63: 39.72 | E63: 39.87 | F63: 39.83 | G63: 39.96 | H63: 40.13 | I63: 39.94 | J63: 40.34 | K63: 41.88 | L63: 40.7 | M63: 40.7
A64: 60 | B64: 39.67 | C64: 39.94 | D64: 39.89 | E64: 39.78 | F64: 39.87 | G64: 40.07 | H64: 41.61 | I64: 40.19 | J64: 40.73 | K64: 41.24 | L64: 40.36 | M64: 40.64
A65: 61 | B65: 39.73 | C65: 39.62 | D65: 39.91 | E65: 39.94 | F65: 39.95 | G65: 39.99 | H65: 40.36 | I65: 39.91 | J65: 41.25 | K65: 43.74 | L65: 40.21 | M65: 40.66
A66: 62 | B66: 39.62 | C66: 39.8 | D66: 39.81 | E66: 39.89 | F66: 40.03 | G66: 40.05 | H66: 41.85 | I66: 39.85 | J66: 40.35 | K66: 41.69 | L66: 40.4 | M66: 40.91
A67: 63 | B67: 39.76 | C67: 39.78 | D67: 39.82 | E67: 39.8 | F67: 39.96 | G67: 40.24 | H67: 40.03 | I67: 39.84 | J67: 40.32 | K67: 41.65 | L67: 41.95 | M67: 40.95
A68: 64 | B68: 39.61 | C68: 39.79 | D68: 39.83 | E68: 39.74 | F68: 40.04 | G68: 40.08 | H68: 40.14 | I68: 39.88 | J68: 40.2 | K68: 41.37 | L68: 40.46 | M68: 41.74
... A72: 68 | B72: 39.7 | C72: 39.99 | D72: 39.77 | E72: 39.81 | F72: 39.85 | G72: 40.11 | H72: 40.02 | I72: 39.86 | J72: 40.49 | K72: 41.93 | L72: 40.39 | M72: 40.82
A73: 69 | B73: 39.67 | C73: 39.93 | D73: 39.82 | E73: 40.24 | F73: 39.79 | G73: 40.05 | H73: 40.26 | I73: 40.08 | J73: 40.23 | K73: 41.92 | L73: 40.79 | M73: 2:16.68
A74: 70 | B74: 39.76 | C74: 39.8 | D74: 40.14 | E74: 39.84 | F74: 40.01 | G74: 40.08 | H74: 40.08 | I74: 39.91 | J74: 40.17 | K74: 42.66 | L74: 2:15.99 | M74: 40.18
A75: 71 | B75: 40.72 | C75: 40 | D75: 39.77 | E75: 39.78 | F75: 39.9 | G75: 40.28 | H75: 40.17 | I75: 39.85 | J75: 40.17 | K75: 43.41 | L75: 41.41 | M75: 39.97
A76: 72 | B76: 39.69 | C76: 39.63 | D76: 39.75 | E76: 39.69 | F76: 40.07 | G76: 40.04 | H76: 40.02 | I76: 39.89 | J76: 40.11 | K76: 41.65 | L76: 40.26 | M76: 40.03
A77: 73 | B77: 39.59 | C77: 39.82 | D77: 39.71 | E77: 39.75 | F77: 39.97 | G77: 40.05 | H77: 40.16 | I77: 40.31 | J77: 40.13 | K77: 41.65 | L77: 40.08 | M77: 40.11
A78: 74 | B78: 39.62 | C78: 39.94 | D78: 39.87 | E78: 39.67 | F78: 39.8 | G78: 40.76 | H78: 40.25 | I78: 39.97 | J78: 40.17 | K78: 42.87 | L78: 40.09 | M78: 40.18
A79: 75 | B79: 39.74 | C79: 39.84 | D79: 39.81 | E79: 39.85 | F79: 40.13 | G79: 40.05 | H79: 40.24 | I79: 39.78 | J79: 40.3 | K79: 2:23.13 | L79: 40.02 | M79: 40
A80: 76 | B80: 39.65 | C80: 39.87 | D80: 39.64 | E80: 39.85 | F80: 40.08 | G80: 40.43 | H80: 40.21 | I80: 39.99 | J80: 40.18 | K80: 41.32 | L80: 39.96 | M80: 39.96
A81: 77 | B81: 39.71 | C81: 39.78 | D81: 39.63 | E81: 39.82 | F81: 40.02 | G81: 2:17.19 | H81: 40.01 | I81: 39.86 | J81: 39.95 | K81: 41.05 | L81: 40.11 | M81: 40.16
A82: 78 | B82: 39.57 | C82: 39.89 | D82: 39.72 | E82: 39.58 | F82: 39.81 | G82: 40.79 | H82: 40.21 | I82: 39.87 | J82: 40.06 | K82: 41.08 | L82: 39.95 | M82: 40.08
A83: 79 | B83: 39.71 | C83: 39.71 | D83: 39.7 | E83: 39.66 | F83: 39.89 | G83: 40.56 | H83: 40.24 | I83: 39.82 | J83: 40.32 | K83: 40.93 | L83: 40 | M83: 40.24
A84: 80 | B84: 39.85 | C84: 39.78 | D84: 39.82 | E84: 40.57 | F84: 39.95 | G84: 40.56 | H84: 2:16.92 | I84: 39.83 | J84: 40.18 | K84: 40.65 | L84: 40.03 | M84: 39.93
A85: 81 | B85: 39.63 | C85: 39.91 | D85: 39.63 | E85: 39.91 | F85: 40.02 | G85: 41.3 | H85: 42.75 | I85: 39.66 | J85: 2:18.41 | K85: 41.39 | L85: 39.93 | M85: 39.99
A86: 82 | B86: 40.16 | C86: 40.1 | D86: 39.69 | E86: 39.7 | F86: 39.85 | G86: 40.58 | H86: 42.19 | I86: 39.94 | J86: 41.53 | K86: 40.61 | L86: 41.81 | M86: 40.2
A87: 83 | B87: 39.79 | C87: 39.71 | D87: 40.07 | E87: 39.82 | F87: 39.81 | G87: 40.67 | H87: 42.04 | I87: 2:15.70 | J87: 41.54 | K87: 40.56 | L87: 41.68 | M87: 40.06
A88: 84 | B88: 40.25 | C88: 39.75 | D88: 39.81 | E88: 39.71 | F88: 39.81 | G88: 40.58 | H88: 42.12 | I88: 40.03 | J88: 41.58 | K88: 40.73 | L88: 41.22 | M88: 40.01
A89: 85 | B89: 39.77 | C89: 39.78 | D89: 39.73 | E89: 39.8 | F89: 39.93 | G89: 40.5 | H89: 40.64 | I89: 40.08 | J89: 41.69 | K89: 40.77 | L89: 40.09 | M89: 39.95
A90: 86 | B90: 39.85 | C90: 40.09 | D90: 39.8 | E90: 39.79 | F90: 39.78 | G90: 40.48 | H90: 40.68 | I90: 40.03 | J90: 41.58 | K90: 40.68 | L90: 40.67 | M90: 40.03
A91: 87 | B91: 39.75 | C91: 39.92 | D91: 39.73 | E91: 39.86 | F91: 39.82 | G91: 40.71 | H91: 40.7 | I91: 39.96 | J91: 41.17 | K91: 40.97 | L91: 40.21 | M91: 39.94
A92: 88 | B92: 39.84 | C92: 39.95 | D92: 40.68 | E92: 39.89 | F92: 39.9 | G92: 40.51 | H92: 40.74 | I92: 40.02 | J92: 41.35 | K92: 40.76 | L92: 40.05 | M92: 40.14
A93: 89 | B93: 39.78 | C93: 39.97 | D93: 39.75 | E93: 39.76 | F93: 39.98 | G93: 40.39 | H93: 47.08 | I93: 39.94 | J93: 41.5 | K93: 40.61 | L93: 41.03 | M93: 41.56
A94: 90 | B94: 39.94 | C94: 39.89 | D94: 39.95 | E94: 40.4 | F94: 39.78 | G94: 40.84 | H94: 40.37 | I94: 39.91 | J94: 41.15 | K94: 40.84 | L94: 39.97 | M94: 40.04
A95: 91 | B95: 39.86 | C95: 39.82 | D95: 39.95 | E95: 40.25 | F95: 39.97 | G95: 40.71 | H95: 40.64 | I95: 41.65 | J95: 43.51 | K95: 40.61 | L95: 39.97 | M95: 40.54
A96: 92 | B96: 39.82 | C96: 40.22 | D96: 39.99 | E96: 40.1 | F96: 39.87 | G96: 41.4 | H96: 40.73 | I96: 40.09 | J96: 41.26 | K96: 40.7 | L96: 40.01 | M96: 40.14
A97: 93 | B97: 39.82 | C97: 2:17.23 | D97: 39.71 | E97: 39.93 | F97: 40.3 | G97: 40.58 | H97: 40.12 | I97: 40.36 | J97: 41.27 | K97: 40.71 | L97: 40.1 | M97: 40.01
A98: 94 | B98: 39.87 | C98: 41.72 | D98: 39.76 | E98: 39.82 | F98: 40.12 | G98: 40.86 | H98: 41.03 | I98: 39.97 | J98: 41.25 | K98: 40.56 | L98: 39.95 | M98: 40.05
A99: 95 | B99: 39.74 | C99: 40.59 | D99: 39.78 | E99: 39.95 | F99: 41.01 | G99: 40.17 | H99: 41.15 | I99: 39.99 | J99: 41.36 | K99: 41.17 | L99: 39.94 | M99: 39.89
A100: 96 | B100: 39.88 | C100: 40.21 | D100: 39.59 | E100: 39.94 | F100: 39.97 | G100: 40.19 | H100: 41.29 | I100: 39.94 | J100: 41.9 | K100: 40.68 | L100: 40.27 | M100: 40.06
A101: 97 | B101: 39.95 | C101: 42.17 | D101: 40.28 | E101: 40.04 | F101: 39.88 | G101: 40.57 | H101: 40.77 | I101: 39.98 | J101: 40.91 | K101: 40.51 | L101: 40.74 | M101: 39.98
A102: 98 | B102: 39.8 | C102: 40.53 | D102: 40.26 | E102: 39.9 | F102: 39.85 | G102: 40.4 | H102: 40.31 | I102: 39.8 | J102: 40.98 | K102: 41.42 | L102: 39.91 | M102: 39.93
A103: 99 | B103: 39.81 | C103: 40.03 | D103: 2:16.27 | E103: 39.76 | F103: 39.88 | G103: 40.36 | H103: 40.45 | I103: 39.98 | J103: 41.25 | K103: 41.31 | L103: 40.3 | M103: 40.01
A104: 100 | B104: 39.84 | C104: 39.98 | D104: 40.54 | E104: 40.07 | F104: 39.77 | G104: 40.45 | H104: 40.73 | I104: 39.91 | J104: 41.32 | K104: 41.05 | L104: 40.56 | M104: 40.11
A105: 101 | B105: 39.83 | C105: 40.35 | D105: 40.35 | E105: 39.96 | F105: 39.71 | G105: 40.53 | H105: 40.26 | I105: 39.81 | J105: 41.24 | K105: 2:15.27 | L105: 40.77 | M105: 39.88
A106: 102 | B106: 39.61 | C106: 40.22 | D106: 40.41 | E106: 39.86 | F106: 39.74 | G106: 40.69 | H106: 40.68 | I106: 39.95 | J106: 41 | K106: 39.85 | L106: 40.29 | M106: 40.07
A107: 103 | B107: 39.79 | C107: 40.07 | D107: 40.3 | E107: 40.07 | F107: 40.05 | G107: 2:17.00 | H107: 40.9 | I107: 40.05 | J107: 41.73 | K107: 39.82 | L107: 40.81 | M107: 39.97
A108: 104 | B108: 39.92 | C108: 40.05 | D108: 40.14 | E108: 40.48 | F108: 2:16.37 | G108: 40.31 | H108: 40.57 | I108: 39.81 | J108: 41.38 | K108: 40.2 | L108: 40.36 | M108: 39.99
A109: 105 | B109: 39.73 | C109: 39.85 | D109: 40.14 | E109: 41.89 | F109: 40.61 | G109: 40.14 | H109: 40.59 | I109: 40.08 | J109: 41.19 | K109: 40.05 | L109: 40.12 | M109: 40.02
A110: 106 | B110: 40.03 | C110: 39.85 | D110: 40.08 | E110: 2:16.32 | F110: 40.37 | G110: 40.26 | H110: 40.5 | I110: 2:21.23 | J110: 41.4 | K110: 40.27 | L110: 40.17 | M110: 39.9
A111: 107 | B111: 2:16.85 | C111: 39.86 | D111: 40.24 | E111: 40.72 | F111: 40.44 | G111: 40.1 | H111: 40.78 | I111: 40.26 | J111: 41.41 | K111: 40.12 | L111: 40.53 | M111: 39.92
A112: 108 | B112: 39.88 | C112: 39.78 | D112: 40.29 | E112: 40.33 | F112: 40.1 | G112: 40.02 | H112: 40.53 | I112: 40.18 | J112: 41.38 | K112: 39.96 | L112: 40.08 | M112: 39.94
A113: 109 | B113: 39.86 | C113: 40.29 | D113: 40.24 | E113: 40.77 | F113: 40.44 | G113: 40.11 | H113: 40.53 | I113: 39.98 | J113: 41.37 | K113: 39.85 | L113: 40.12 | M113: 40.16
A114: 110 | B114: 40.11 | C114: 39.93 | D114: 40.31 | E114: 40.42 | F114: 40.31 | G114: 39.95 | H114: 40.59 | I114: 39.94 | J114: 41.12 | K114: 39.95 | L114: 40.12 | M114: 39.97
A115: 111 | B115: 40.22 | C115: 40.07 | D115: 40.23 | E115: 40.33 | F115: 40.16 | G115: 40.02 | H115: 40.6 | I115: 40 | J115: 41.1 | K115: 40.05 | L115: 40.07 | M115: 40.08
...

Sheet Ягуар
A2: Чемпионат мини марафон "Большие Гонки", 7-й этап
A4: Ягуар
A6: Обяза-тельные | B6: Пилот | C6: карт | D6: Круг | E6: кругов на отрезке | F6: Статистика по кругам | J6: Общее время гонки | K6: Время на трассе
F7: Лучший круг | G7: Среднее на отрезке | H7: Кругов в 0,1 от лучшего | I7: стабильность | K7: отрезок | L7: всего у пилота | M7: Питы | N7: Штрафы/ бонусы (сек)
A8: 1 | B8: Лихошерст Алексей | C8: 10 | D8: =COUNTA(C22:C86) -> 25 | E8: =COUNTA(C22:C86) -> 25 | F8: =MIN(C22:C85) -> 39.94 | G8: =AVERAGE(C22:C88) -> 40.8356 | H8: 0 | I8: =G8-F8 -> 0.8956 | J8: 0.011898148 | K8: =J8 -> 0.011898148 | L8: =K8 -> 0.011898148 | M8: 2:18.02
A9: 2 | B9: Карлюк Марина | C9: 44 | D9: =COUNTA(D22:D86)+D8+1 -> 74 | E9: =COUNTA(D22:D86)+1 -> 49 | F9: =MIN(D22:D85) -> 40.67 | G9: =AVERAGE(D22:D87) -> 41.794375 | H9: 0 | I9: =G9-F9 -> 1.124375 | J9: 0.036701389 | K9: =J9-J8 -> 0.024803241 | L9: =K9 -> 0.024803241 | M9: 2:23.13 | N9: +5 | O9: линия
A10: 3 | B10: Якусик Саша | C10: 13 | D10: =COUNTA(E22:E86)+D9+1 -> 100 | E10: =COUNTA(E22:E86)+1 -> 26 | F10: =MIN(E22:E87) -> 40.51 | G10: =AVERAGE(E22:E88) -> 40.8668 | H10: 5 | I10: =G10-F10 -> 0.3568 | J10: 0.050196759 | K10: =J10-J9 -> 0.01349537 | L10: =K10 -> 0.01349537 | M10: 2:15.27
A11: 4 | B11: Лихошерст Алексей | C11: 3 | D11: =COUNTA(F22:F86)+D10+1 -> 149 | E11: =COUNTA(F22:F86)+1 -> 49 | F11: =MIN(F22:F87) -> 39.82 | G11: =AVERAGE(F22:F87) -> 40.100625 | H11: 2 | I11: =G11-F11 -> 0.280625 | J11: 0.074039352 | K11: =J11-J10 -> 0.023842593 | L11: =K11+L8 -> 0.035740741 | M11: 2:18.85
A12: 5 | B12: Карлюк Марина | C12: 10 | D12: =COUNTA(G22:G86)+D11+1 -> 191 | E12: =COUNTA(G22:G86)+1 -> 42 | F12: =MIN(G22:G87) -> 40.59 | G12: =AVERAGE(G22:G887) -> 41.239024 | H12: 1 | I12: =G12-F12 -> 0.64902439 | J12: 0.095219907 | K12: =J12-J11 -> 0.021180556 | L12: =K12+L9 -> 0.045983796 | M12: 2:17.76
A13: 6 | B13: Якусик Саша | C13: 6 | D13: =COUNTA(H22:H86)+D12+1 -> 239 | E13: =COUNTA(H22:H86)+1 -> 48 | F13: =MIN(H22:H87) -> 40 | G13: =AVERAGE(H22:H87) -> 40.452128 | H13: 2 | I13: =G13-F13 -> 0.45212766 | J13: 0.11881944 | K13: =J13-J12 -> 0.023599537 | L13: =K13+L10 -> 0.037094907 | M13: 2:16.54
A14: 7 | B14: Лихошерст Алексей | C14: 44 | D14: =COUNTA(I22:I86)+D13+1 -> 293 | E14: =COUNTA(I22:I86)+1 -> 54 | F14: =MIN(I22:I87) -> 40.22 | G14: =AVERAGE(I22:I87) -> 40.539811 | H14: 5 | I14: =G14-F14 -> 0.31981132 | J14: 0.1452662 | K14: =J14-J13 -> 0.026446759 | L14: =K14+L11 -> 0.0621875 | M14: 2:16.78
A15: Финиш | B15: Якусик Саша | C15: 3 | D15: =COUNTA(J22:J86)+D14+1 -> 337 | E15: =COUNTA(J22:J86)+1 -> 44 | F15: =MIN(J22:J87) -> 39.71 | G15: =AVERAGE(J22:J87) -> 40.19 | H15: 0 | I15: =G15-F15 -> 0.48 | J15: ='Общие результаты'!G6 -> 4:00:05 | K15: =J15-J14 -> 0.021458333 | L15: =K15+L13 -> 0.058553241
F16: =AVERAGE(F8,F11,F14) -> 39.993333 | G16: =AVERAGE(G8,G11,G14) -> 40.492012 | H16: Леша | I16: =AVERAGE(I8,I11,I14) -> 0.49867877
F17: =AVERAGE(F9,F12) -> 40.63 | G17: =AVERAGE(G9,G12) -> 41.5167 | H17: Марина | I17: =AVERAGE(I9,I12) -> 0.8866997
F18: =AVERAGE(F10,F13,F15) -> 40.073333 | G18: =AVERAGE(G10,G13,G15) -> 40.502976 | H18: Саша | I18: =AVERAGE(I10,I13,I15) -> 0.42964255
F19: =AVERAGE(F8:F15) -> 40.1825 | G19: =AVERAGE(C22:J91) -> 40.734394 | I19: =AVERAGE(I8:I15) -> 0.56979542
C21: =B8 -> Лихошерст Алексей | D21: =B9 -> Карлюк Марина | E21: =B10 -> Якусик Саша | F21: =B11 -> Лихошерст Алексей | G21: =B12 -> Карлюк Марина | H21: =B13 -> Якусик Саша | I21: =B14 -> Лихошерст Алексей | J21: =B15 -> Якусик Саша
B22: 1 | C22: 46.23 | D22: 41.91 | E22: 41.32 | F22: 39.85 | G22: 41.75 | H22: 40.58 | I22: 40.88 | J22: 40.35
B23: 2 | C23: 43.72 | D23: 42.84 | E23: 41.05 | F23: 39.82 | G23: 41.49 | H23: 40.51 | I23: 40.58 | J23: 40.52
B24: 3 | C24: 41.07 | D24: 41.55 | E24: 41.08 | F24: 40.2 | G24: 41.55 | H24: 40.74 | I24: 40.57 | J24: 40.31
B25: 4 | C25: 42.44 | D25: 41.91 | E25: 40.93 | F25: 40.05 | G25: 40.76 | H25: 40.47 | I25: 40.54 | J25: 40.25
B26: 5 | C26: 40.31 | D26: 41.19 | E26: 40.65 | F26: 40.27 | G26: 41.96 | H26: 40.5 | I26: 40.42 | J26: 40.28
B27: 6 | C27: 40.61 | D27: 41.33 | E27: 41.39 | F27: 40.12 | G27: 40.87 | H27: 40.44 | I27: 40.44 | J27: 40.06
B28: 7 | C28: 42.79 | D28: 41.44 | E28: 40.61 | F28: 39.96 | G28: 41.19 | H28: 40.49 | I28: 40.76 | J28: 40.41
B29: 8 | C29: 40.05 | D29: 42.24 | E29: 40.56 | F29: 39.85 | G29: 41.72 | H29: 40.53 | I29: 40.76 | J29: 40.48
B30: 9 | C30: 40.24 | D30: 41.45 | E30: 40.73 | F30: 39.95 | G30: 41.02 | H30: 41.46 | I30: 40.39 | J30: 40.1
B31: 10 | C31: 40.58 | D31: 41.18 | E31: 40.77 | F31: 40.05 | G31: 41.91 | H31: 40.75 | I31: 40.41 | J31: 40.37
B32: 11 | C32: 40.21 | D32: 40.67 | E32: 40.68 | F32: 40.05 | G32: 41.69 | H32: 40.85 | I32: 40.42 | J32: 40.11
B33: 12 | C33: 40.34 | D33: 40.98 | E33: 40.97 | F33: 40.1 | G33: 40.96 | H33: 40.68 | I33: 40.53 | J33: 40.29
... B46: 25 | C46: 40.33 | D46: 41.25 | E46: 41.05 | F46: 40.12 | G46: 41.9 | H46: 40.2 | I46: 40.94 | J46: 40.19
B47: 26 | D47: 41.5 | F47: 40.1 | G47: 40.59 | H47: 40.26 | I47: 40.45 | J47: 40.04
B48: 27 | D48: 42.21 | F48: 40.34 | G48: 41.09 | H48: 40.19 | I48: 40.68 | J48: 40.63
B49: 28 | D49: 41.66 | F49: 40.05 | G49: 42.7 | H49: 40.23 | I49: 40.6 | J49: 39.98
B50: 29 | D50: 41.73 | F50: 40 | G50: 41.01 | H50: 40.29 | I50: 40.48 | J50: 40.39
B51: 30 | D51: 41.76 | F51: 40.05 | G51: 40.98 | H51: 40.18 | I51: 40.55 | J51: 40.24
B52: 31 | D52: 41.64 | F52: 40.11 | G52: 41.69 | H52: 40.04 | I52: 40.57 | J52: 40.07
B53: 32 | D53: 41.82 | F53: 40.08 | G53: 41.02 | H53: 40.2 | I53: 40.63 | J53: 39.98
B54: 33 | D54: 41.88 | F54: 40.24 | G54: 40.64 | H54: 40.27 | I54: 40.5 | J54: 39.99
B55: 34 | D55: 41.24 | F55: 40.19 | G55: 42.29 | H55: 40.13 | I55: 40.56 | J55: 39.97
B56: 35 | D56: 43.74 | F56: 40.31 | G56: 40.89 | H56: 40.23 | I56: 40.73 | J56: 39.93
B57: 36 | D57: 41.69 | F57: 40.32 | G57: 41.03 | H57: 40.23 | I57: 40.64 | J57: 39.71
B58: 37 | D58: 41.65 | F58: 39.98 | G58: 40.9 | H58: 40.28 | I58: 40.43 | J58: 39.93
... B62: 41 | D62: 42.6 | F62: 40.11 | G62: 42.05 | H62: 40.18 | I62: 40.46 | J62: 40.12
B63: 42 | D63: 41.93 | F63: 39.99 | H63: 40.15 | I63: 40.57 | J63: 40.08
B64: 43 | D64: 41.92 | F64: 40.18 | H64: 40.14 | I64: 40.77 | J64: 40.84
B65: 44 | D65: 42.66 | F65: 40.34 | H65: 40.59 | I65: 40.88
B66: 45 | D66: 43.41 | F66: 40.15 | H66: 40.15 | I66: 40.89
B67: 46 | D67: 41.65 | F67: 40.1 | H67: 40.17 | I67: 40.43
B68: 47 | D68: 41.65 | F68: 40.24 | H68: 40.44 | I68: 40.29
B69: 48 | D69: 42.87 | F69: 40.21 | I69: 40.72
B70: 49 | I70: 40.79
B71: 50 | I71: 40.35
B72: 51 | I72: 40.63
B73: 52 | I73: 40.52
B74: 53 | I74: 40.82
B75: 54
B76: 55
B77: 56
B78: 57
B79: 58
B80: 59
B81: 60
B82: 61
B83: 62
B84: 63
