Workbook

Sheet Общие результаты
A1: Серия мини марафонов "Большие Гонки 2019", 8-й этап, 27.07.19
A2: Конфигурация № 10
A4: Место в гонке | B4: Команда | C4: № в гонке | D4: Квала | F4: Гонка | I4: Лучший круг в гонке
D5: Время | E5: Место | F5: Круги | G5: Время/от лидера | H5: От места выше | I5: Время | J5: На круге
A6: 1 | B6: Kozaks | C6: 7 | D6: 42.405 | E6: 6 | F6: 244 | G6: 3:00:06 | H6: - | I6: 41.78 | J6: 240
A7: 2 | B7: K44 | C7: 6 | D7: 41.99 | E7: 1 | F7: 244 | G7: 4.57 | H7: =G7 -> 4.57 | I7: 41.84 | J7: 194
A8: 3 | B8: NSJ | C8: 2 | D8: 42.04 | E8: 4 | F8: 244 | G8: 23.26 | H8: =G8-G7 -> 18.69 | I8: 41.68 | J8: 207
A9: 4 | B9: Hurricane Racing | C9: 3 | D9: 41.96 | E9: 3 | F9: 243 | G9: 1 круг | H9: 16.5 | I9: 41.85 | J9: 11
A10: 5 | B10: Kozak i razboiniki | C10: 8 | D10: 42.11 | E10: 5 | F10: 243 | G10: 1 круг | H10: 3.5 | I10: 41.95 | J10: 224
A11: 6 | B11: Fortuna Racing | C11: 5 | D11: 42.015 | E11: 2 | F11: 243 | G11: 1 круг | H11: 6.5 | I11: 41.95 | J11: 170
A12: 7 | B12: Kozaks 22 | C12: 9 | D12: 42.425 | E12: 7 | F12: 243 | G12: 1 круг | H12: 22.5 | I12: 42.08 | J12: 14
A13: 8 | B13: 50 Grams | C13: 1 | D13: 42.46 | E13: 8 | F13: 242 | G13: 2 круга | H13: 22.5 | I13: 41.86 | J13: 77
A14: 9 | B14: Jaguar | C14: 10 | D14: 43.005 | E14: 10 | F14: 240 | G14: 4 круга | H14: 1 круг | I14: 42.15 | J14: 10
A15: 10 | B15: Buro 11 | C15: 4 | D15: 42.82 | E15: 9 | F15: 239 | G15: 5 кругов | H15: 1 круг | I15: 42.13 | J15: 157
A16: 11 | B16: No give up | C16: 12 | D16: 43.27 | E16: 11 | F16: 234 | G16: 10 кругов | H16: 4 круга | I16: 42.91 | J16: 182

Sheet Регистрация (2)
A1: Серия мини марафонов "Большие Гонки 2019", 8-й этап, 27.07.19
A3: Регистрационная форма
AF4: 4ч
A5: № в гонке | B5: Команда | C5: Пилот | D5: № | E5: Вес | F5: Бонус | G5: Квалификация | Z5: 3ч | AK5: 2 ел
G6: карт | H6: Время | I6: бонус | J6: Итого | K6: Среднее | L6: Место | M6: 3 | N6: бонусы за вес | Z6: 2 | AA6: 1 | AB6: кол | AC6: бон | AD6: 1 | AE6: 2 | AF6: бон | AG6: уч | AH6: кол> | AI6: 2 уч | AJ6: 3 уч | AK6: 1из2 | AL6: 2из2 3из3
A7: 1 | B7: 50 Grams | C7: Морозенко Сергей | D7: 1-1 | E7: 74.3 | F7: =IF(M6=3,AC7,AF6) -> 0 | G7: 2 | H7: 42.5 | I7: =IF(E7<84.9,0,IF(E7<87.4,0.1,IF(E7<89.9,0.15,IF(E7<92.4,0.2,IF(E7<94.9,0.25,IF(E7<97.4,0.3,IF(E7<99.9,0.35,0.4))))))) -> 0 | J7: =H7-I7 -> 42.5 | K7: =AVERAGE(J7:J8) -> 42.46 | L7: =RANK(K7,K7:K39,1) -> 8 | M7: кв | N7: 0.05 | O7: 0.1 | P7: 0.15 | Q7: 0.2 | R7: 0.25 | S7: 0.3 | T7: 0.35 | U7: =N7*8 -> 0.4 | Z7: =AVERAGE(E7:E8) -> 77.83 | AA7: =IF(E7>84.9,E7,E8) -> 81.36 | AB7: =COUNTIF(E7:E9,">84.9") -> 0 | AC7: =IF(AB7=1,AD7,AE7) -> 0 | AD7: =IF(AA7<84.9,0,IF(AA7<87.4,9,IF(AA7<89.9,13.5,IF(AA7<92.4,18,IF(AA7<94.9,22.5,IF(AA7<97.4,27,IF(AA7<99.9,31.5,36))))))) -> 0 | AE7: =IF(Z7<84.9,0,IF(Z7<87.4,18,IF(Z7<89.9,27,IF(Z7<92.4,36,IF(Z7<94.9,45,IF(Z7<97.4,54,IF(Z7<99.9,63,72))))))) -> 0 | AF7: =IF(AG7=2,AI7,AJ7) -> 0 | AG7: =COUNTIF(E7:E9,">1") -> 2 | AH7: =COUNTIF(E7:E9,">84.9") -> 0 | AI7: =IF(AH7=1,AK7,AL7) -> 0 | AK7: =IF(AA7<84.9,0,IF(AA7<87.4,9,IF(AA7<89.9,13.5,IF(AA7<92.4,18,IF(AA7<94.9,22.5,IF(AA7<97.4,27,IF(AA7<99.9,31.5,36))))))) -> 0
C8: Шиленко Саша | D8: 1-2 | E8: 81.36 | G8: 3 | H8: 42.42 | I8: =IF(E8<84.9,0,IF(E8<87.4,0.1,IF(E8<89.9,0.15,IF(E8<92.4,0.2,IF(E8<94.9,0.25,IF(E8<97.4,0.3,IF(E8<99.9,0.35,0.4))))))) -> 0 | J8: =H8-I8 -> 42.42 | M8: 3 часа | N8: =1.5*3 -> 4.5 | O8: =1.5*3*2 -> 9 | P8: =1.5*3*3 -> 13.5 | Q8: =1.5*3*4 -> 18 | R8: =1.5*3*5 -> 22.5 | S8: =1.5*3*6 -> 27 | T8: =1.5*3*7 -> 31.5 | U8: =1.5*3*8 -> 36 | V8: 1 пилот | AI8: =IF(AH8=1,AK8,AL8) -> 0
D9: 1-3 | I9: =IF(E9<84.9,0,IF(E9<87.4,0.1,IF(E9<89.9,0.15,IF(E9<92.4,0.2,IF(E9<94.9,0.25,IF(E9<97.4,0.3,IF(E9<99.9,0.35,0.4))))))) -> 0 | J9: =H9-I9 -> 0 | N9: =3*3 -> 9 | O9: =3*3*2 -> 18 | P9: =3*3*3 -> 27 | Q9: =3*3*4 -> 36 | R9: =3*3*5 -> 45 | S9: =3*3*6 -> 54 | T9: =3*3*7 -> 63 | U9: =3*3*8 -> 72 | V9: 2 пилота | AI9: =IF(AH9=1,AK9,AL9) -> 0
A10: 2 | B10: NSJ | C10: Мифтахутдинов Ильяс | D10: 2-1 | F10: =IF(M6=3,AC10,AF9) -> 0 | G10: 4 | H10: 41.87 | I10: =IF(E10<84.9,0,IF(E10<87.4,0.1,IF(E10<89.9,0.15,IF(E10<92.4,0.2,IF(E10<94.9,0.25,IF(E10<97.4,0.3,IF(E10<99.9,0.35,0.4))))))) -> 0 | J10: =H10-I10 -> 41.87 | K10: =AVERAGE(J10:J11) -> 42.04 | L10: =RANK(K10,K7:K39,1) -> 4 | M10: вес | N10: 82.5 | O10: 85 | P10: 87.5 | Q10: 90 | R10: 92.5 | S10: 95 | T10: 97.5 | U10: 100 | Z10: =AVERAGE(E10:E11) -> 72.8 | AA10: =IF(E10>84.9,E10,E11) -> 72.8 | AB10: =COUNTIF(E10:E12,">84.9") -> 0 | AC10: =IF(AB10=1,AD10,AE10) -> 0 | AD10: =IF(AA10<84.9,0,IF(AA10<87.4,9,IF(AA10<89.9,13.5,IF(AA10<92.4,18,IF(AA10<94.9,22.5,IF(AA10<97.4,27,IF(AA10<99.9,31.5,36))))))) -> 0 | AE10: =IF(Z10<84.9,0,IF(Z10<87.4,18,IF(Z10<89.9,27,IF(Z10<92.4,36,IF(Z10<94.9,45,IF(Z10<97.4,54,IF(Z10<99.9,63,72))))))) -> 0 | AF10: =IF(AG10=2,AI10,AJ10) -> 0 | AG10: =COUNTIF(E10:E12,">1") -> 1 | AH10: =COUNTIF(E10:E12,">84.9") -> 0 | AI10: =IF(AH10=1,AK10,AL10) -> 0
C11: Якусик Дима | D11: 2-2 | E11: 72.8 | G11: 3 | H11: 42.21 | I11: =IF(E11<84.9,0,IF(E11<87.4,0.1,IF(E11<89.9,0.15,IF(E11<92.4,0.2,IF(E11<94.9,0.25,IF(E11<97.4,0.3,IF(E11<99.9,0.35,0.4))))))) -> 0 | J11: =H11-I11 -> 42.21 | M11: 4 часа | N11: =1.5*4 -> 6 | O11: =1.5*4*2 -> 12 | P11: =1.5*4*3 -> 18 | Q11: =1.5*4*4 -> 24 | R11: =1.5*4*5 -> 30 | S11: =1.5*4*6 -> 36 | T11: =1.5*4*7 -> 42 | U11: =1.5*4*8 -> 48 | V11: 1 пилот | W11: 2 участника в команде | AI11: =IF(AH11=1,AK11,AL11) -> 0
D12: 2-3 | I12: =IF(E12<84.9,0,IF(E12<87.4,0.1,IF(E12<89.9,0.15,IF(E12<92.4,0.2,IF(E12<94.9,0.25,IF(E12<97.4,0.3,IF(E12<99.9,0.35,0.4))))))) -> 0 | J12: =H12-I12 -> 0 | N12: =3*4 -> 12 | O12: =3*4*2 -> 24 | P12: =3*4*3 -> 36 | Q12: =3*4*4 -> 48 | R12: =3*4*5 -> 60 | S12: =3*4*6 -> 72 | T12: =3*4*7 -> 84 | U12: =3*4*8 -> 96 | V12: 2 пилота | AI12: =IF(AH12=1,AK12,AL12) -> 0
A13: 3 | B13: Hurricane Racing | C13: Стоцкий Андрей | D13: 3-1 | E13: 62.1 | F13: =IF(M6=3,AC13,AF12) -> 0 | G13: 5 | H13: 41.98 | I13: =IF(E13<84.9,0,IF(E13<87.4,0.1,IF(E13<89.9,0.15,IF(E13<92.4,0.2,IF(E13<94.9,0.25,IF(E13<97.4,0.3,IF(E13<99.9,0.35,0.4))))))) -> 0 | J13: =H13-I13 -> 41.98 | K13: =AVERAGE(J13:J14) -> 41.96 | L13: =RANK(K13,K7:K39,1) -> 1 | N13: =1*4 -> 4 | O13: =1*4*2 -> 8 | P13: =1*4*3 -> 12 | Q13: =1*4*4 -> 16 | R13: =1*4*5 -> 20 | S13: =1*4*6 -> 24 | T13: =1*4*7 -> 28 | U13: =1*4*8 -> 32 | V13: 1 пилот | W13: 3 участника в команде | Z13: =AVERAGE(E13:E14) -> 68.9 | AA13: =IF(E13>84.9,E13,E14) -> 75.7 | AB13: =COUNTIF(E13:E15,">84.9") -> 0 | AC13: =IF(AB13=1,AD13,AE13) -> 0 | AD13: =IF(AA13<84.9,0,IF(AA13<87.4,9,IF(AA13<89.9,13.5,IF(AA13<92.4,18,IF(AA13<94.9,22.5,IF(AA13<97.4,27,IF(AA13<99.9,31.5,36))))))) -> 0 | AE13: =IF(Z13<84.9,0,IF(Z13<87.4,18,IF(Z13<89.9,27,IF(Z13<92.4,36,IF(Z13<94.9,45,IF(Z13<97.4,54,IF(Z13<99.9,63,72))))))) -> 0 | AF13: =IF(AG13=2,AI13,AJ13) -> 0 | AG13: =COUNTIF(E13:E15,">1") -> 2 | AH13: =COUNTIF(E13:E15,">84.9") -> 0 | AI13: =IF(AH13=1,AK13,AL13) -> 0
C14: Ткаченко Кирилл | D14: 3-2 | E14: 75.7 | G14: 4 | H14: 41.94 | I14: =IF(E14<84.9,0,IF(E14<87.4,0.1,IF(E14<89.9,0.15,IF(E14<92.4,0.2,IF(E14<94.9,0.25,IF(E14<97.4,0.3,IF(E14<99.9,0.35,0.4))))))) -> 0 | J14: =H14-I14 -> 41.94 | N14: =2*4 -> 8 | O14: =2*4*2 -> 16 | P14: =2*4*3 -> 24 | Q14: =2*4*4 -> 32 | R14: =2*4*5 -> 40 | S14: =2*4*6 -> 48 | T14: =2*4*7 -> 56 | U14: =2*4*8 -> 64 | V14: 2 пилота | AI14: =IF(AH14=1,AK14,AL14) -> 0
D15: 3-3 | I15: =IF(E15<84.9,0,IF(E15<87.4,0.1,IF(E15<89.9,0.15,IF(E15<92.4,0.2,IF(E15<94.9,0.25,IF(E15<97.4,0.3,IF(E15<99.9,0.35,0.4))))))) -> 0 | J15: =H15-I15 -> 0 | N15: =3*4 -> 12 | O15: =3*4*2 -> 24 | P15: =3*4*3 -> 36 | Q15: =3*4*4 -> 48 | R15: =3*4*5 -> 60 | S15: =3*4*6 -> 72 | T15: =3*4*7 -> 84 | U15: =3*4*8 -> 96 | V15: 3 пилота | AI15: =IF(AH15=1,AK15,AL15) -> 0
A16: 4 | B16: Buro 11 | C16: Якусик Саша | D16: 4-1 | E16: 75.5 | F16: =IF(M6=3,AC16,AF15) -> 0 | G16: 5 | H16: 42.31 | I16: =IF(E16<84.9,0,IF(E16<87.4,0.1,IF(E16<89.9,0.15,IF(E16<92.4,0.2,IF(E16<94.9,0.25,IF(E16<97.4,0.3,IF(E16<99.9,0.35,0.4))))))) -> 0 | J16: =H16-I16 -> 42.31 | K16: =AVERAGE(J16:J17) -> 42.82 | L16: =RANK(K16,K7:K39,1) -> 9 | Z16: =AVERAGE(E16:E17) -> 75.5 | AA16: =IF(E16>84.9,E16,E17) -> 0 | AB16: =COUNTIF(E16:E18,">84.9") -> 0 | AC16: =IF(AB16=1,AD16,AE16) -> 0 | AD16: =IF(AA16<84.9,0,IF(AA16<87.4,9,IF(AA16<89.9,13.5,IF(AA16<92.4,18,IF(AA16<94.9,22.5,IF(AA16<97.4,27,IF(AA16<99.9,31.5,36))))))) -> 0 | AE16: =IF(Z16<84.9,0,IF(Z16<87.4,18,IF(Z16<89.9,27,IF(Z16<92.4,36,IF(Z16<94.9,45,IF(Z16<97.4,54,IF(Z16<99.9,63,72))))))) -> 0 | AF16: =IF(AG16=2,AI16,AJ16) -> 0 | AG16: =COUNTIF(E16:E18,">1") -> 1 | AH16: =COUNTIF(E16:E18,">84.9") -> 0 | AI16: =IF(AH16=1,AK16,AL16) -> 0
C17: Карлюк Марина | D17: 4-2 | G17: 6 | H17: 43.33 | I17: =IF(E17<84.9,0,IF(E17<87.4,0.1,IF(E17<89.9,0.15,IF(E17<92.4,0.2,IF(E17<94.9,0.25,IF(E17<97.4,0.3,IF(E17<99.9,0.35,0.4))))))) -> 0 | J17: =H17-I17 -> 43.33 | AF17: =IF(AG17=2,AI17,AJ17) -> 0 | AG17: =COUNTIF(E17:E19,">1") -> 1 | AH17: =COUNTIF(E17:E19,">84.9") -> 0 | AI17: =IF(AH17=1,AK17,AL17) -> 0
D18: 4-3 | I18: =IF(E18<84.9,0,IF(E18<87.4,0.1,IF(E18<89.9,0.15,IF(E18<92.4,0.2,IF(E18<94.9,0.25,IF(E18<97.4,0.3,IF(E18<99.9,0.35,0.4))))))) -> 0 | J18: =H18-I18 -> 0 | AF18: =IF(AG18=2,AI18,AJ18) -> 0 | AG18: =COUNTIF(E18:E20,">1") -> 2 | AH18: =COUNTIF(E18:E20,">84.9") -> 0 | AI18: =IF(AH18=1,AK18,AL18) -> 0
A19: 5 | B19: Fortuna Racing | C19: Фортуна Таня | D19: 5-1 | E19: 67.5 | F19: =IF(M6=3,AC19,AF18) -> 0 | G19: 7 | H19: 42.01 | I19: =IF(E19<84.9,0,IF(E19<87.4,0.1,IF(E19<89.9,0.15,IF(E19<92.4,0.2,IF(E19<94.9,0.25,IF(E19<97.4,0.3,IF(E19<99.9,0.35,0.4))))))) -> 0 | J19: =H19-I19 -> 42.01 | K19: =AVERAGE(J19:J20) -> 42.015 | L19: =RANK(K19,K7:K39,1) -> 3 | Z19: =AVERAGE(E19:E20) -> 75.1 | AA19: =IF(E19>84.9,E19,E20) -> 82.7 | AB19: =COUNTIF(E19:E21,">84.9") -> 0 | AC19: =IF(AB19=1,AD19,AE19) -> 0 | AD19: =IF(AA19<84.9,0,IF(AA19<87.4,9,IF(AA19<89.9,13.5,IF(AA19<92.4,18,IF(AA19<94.9,22.5,IF(AA19<97.4,27,IF(AA19<99.9,31.5,36))))))) -> 0 | AE19: =IF(Z19<84.9,0,IF(Z19<87.4,18,IF(Z19<89.9,27,IF(Z19<92.4,36,IF(Z19<94.9,45,IF(Z19<97.4,54,IF(Z19<99.9,63,72))))))) -> 0 | AF19: =IF(AG19=2,AI19,AJ19) -> 0 | AG19: =COUNTIF(E19:E21,">1") -> 2 | AH19: =COUNTIF(E19:E21,">84.9") -> 0 | AI19: =IF(AH19=1,AK19,AL19) -> 0
C20: Шутка Виталий | D20: 5-2 | E20: 82.7 | G20: 6 | H20: 42.02 | I20: =IF(E20<84.9,0,IF(E20<87.4,0.1,IF(E20<89.9,0.15,IF(E20<92.4,0.2,IF(E20<94.9,0.25,IF(E20<97.4,0.3,IF(E20<99.9,0.35,0.4))))))) -> 0 | J20: =H20-I20 -> 42.02 | AF20: =IF(AG20=2,AI20,AJ20) -> 0 | AG20: =COUNTIF(E20:E22,">1") -> 2 | AH20: =COUNTIF(E20:E22,">84.9") -> 0 | AI20: =IF(AH20=1,AK20,AL20) -> 0
D21: 5-3 | I21: =IF(E21<84.9,0,IF(E21<87.4,0.1,IF(E21<89.9,0.15,IF(E21<92.4,0.2,IF(E21<94.9,0.25,IF(E21<97.4,0.3,IF(E21<99.9,0.35,0.4))))))) -> 0 | J21: =H21-I21 -> 0 | AF21: =IF(AG21=2,AI21,AJ21) -> 0 | AG21: =COUNTIF(E21:E23,">1") -> 2 | AH21: =COUNTIF(E21:E23,">84.9") -> 0 | AI21: =IF(AH21=1,AK21,AL21) -> 0
A22: 6 | B22: K44 | C22: Петушков Андрей | D22: 6-1 | E22: 78.8 | F22: =IF(M6=3,AC22,AF21) -> 0 | G22: 8 | H22: 42.02 | I22: =IF(E22<84.9,0,IF(E22<87.4,0.1,IF(E22<89.9,0.15,IF(E22<92.4,0.2,IF(E22<94.9,0.25,IF(E22<97.4,0.3,IF(E22<99.9,0.35,0.4))))))) -> 0 | J22: =H22-I22 -> 42.02 | K22: =AVERAGE(J22:J23) -> 41.99 | L22: =RANK(K22,K7:K39,1) -> 2 | Z22: =AVERAGE(E22:E23) -> 78.25 | AA22: =IF(E22>84.9,E22,E23) -> 77.7 | AB22: =COUNTIF(E22:E24,">84.9") -> 0 | AC22: =IF(AB22=1,AD22,AE22) -> 0 | AD22: =IF(AA22<84.9,0,IF(AA22<87.4,9,IF(AA22<89.9,13.5,IF(AA22<92.4,18,IF(AA22<94.9,22.5,IF(AA22<97.4,27,IF(AA22<99.9,31.5,36))))))) -> 0 | AE22: =IF(Z22<84.9,0,IF(Z22<87.4,18,IF(Z22<89.9,27,IF(Z22<92.4,36,IF(Z22<94.9,45,IF(Z22<97.4,54,IF(Z22<99.9,63,72))))))) -> 0 | AF22: =IF(AG22=2,AI22,AJ22) -> 0 | AG22: =COUNTIF(E22:E24,">1") -> 2 | AH22: =COUNTIF(E22:E24,">84.9") -> 0 | AI22: =IF(AH22=1,AK22,AL22) -> 0
C23: Наум | D23: 6-2 | E23: 77.7 | G23: 9 | H23: 41.96 | I23: =IF(E23<84.9,0,IF(E23<87.4,0.1,IF(E23<89.9,0.15,IF(E23<92.4,0.2,IF(E23<94.9,0.25,IF(E23<97.4,0.3,IF(E23<99.9,0.35,0.4))))))) -> 0 | J23: =H23-I23 -> 41.96 | AF23: =IF(AG23=2,AI23,AJ23) -> 0 | AG23: =COUNTIF(E23:E25,">1") -> 2 | AH23: =COUNTIF(E23:E25,">84.9") -> 0 | AI23: =IF(AH23=1,AK23,AL23) -> 0
D24: 6-3 | I24: =IF(E24<84.9,0,IF(E24<87.4,0.1,IF(E24<89.9,0.15,IF(E24<92.4,0.2,IF(E24<94.9,0.25,IF(E24<97.4,0.3,IF(E24<99.9,0.35,0.4))))))) -> 0 | J24: =H24-I24 -> 0 | AF24: =IF(AG24=2,AI24,AJ24) -> 0 | AG24: =COUNTIF(E24:E26,">1") -> 2 | AH24: =COUNTIF(E24:E26,">84.9") -> 0 | AI24: =IF(AH24=1,AK24,AL24) -> 0
A25: 7 | B25: Kozaks | C25: Пикулин Паша | D25: 75.2 | E25: 75.8 | F25: =IF(M6=3,AC25,AF24) -> 0 | G25: 9 | H25: 41.9 | I25: =IF(E25<84.9,0,IF(E25<87.4,0.1,IF(E25<89.9,0.15,IF(E25<92.4,0.2,IF(E25<94.9,0.25,IF(E25<97.4,0.3,IF(E25<99.9,0.35,0.4))))))) -> 0 | J25: =H25-I25 -> 41.9 | K25: =AVERAGE(J25:J26) -> 42.405 | L25: =RANK(K25,K7:K39,1) -> 6 | Z25: =AVERAGE(E25:E26) -> 78.2 | AA25: =IF(E25>84.9,E25,E26) -> 80.6 | AB25: =COUNTIF(E25:E27,">84.9") -> 0 | AC25: =IF(AB25=1,AD25,AE25) -> 0 | AD25: =IF(AA25<84.9,0,IF(AA25<87.4,9,IF(AA25<89.9,13.5,IF(AA25<92.4,18,IF(AA25<94.9,22.5,IF(AA25<97.4,27,IF(AA25<99.9,31.5,36))))))) -> 0 | AE25: =IF(Z25<84.9,0,IF(Z25<87.4,18,IF(Z25<89.9,27,IF(Z25<92.4,36,IF(Z25<94.9,45,IF(Z25<97.4,54,IF(Z25<99.9,63,72))))))) -> 0 | AF25: =IF(AG25=2,AI25,AJ25) -> 0 | AG25: =COUNTIF(E25:E27,">1") -> 2 | AH25: =COUNTIF(E25:E27,">84.9") -> 0 | AI25: =IF(AH25=1,AK25,AL25) -> 0
C26: Лантушенко Игорь | D26: 7-2 | E26: 80.6 | G26: 10 | H26: 42.91 | I26: =IF(E26<84.9,0,IF(E26<87.4,0.1,IF(E26<89.9,0.15,IF(E26<92.4,0.2,IF(E26<94.9,0.25,IF(E26<97.4,0.3,IF(E26<99.9,0.35,0.4))))))) -> 0 | J26: =H26-I26 -> 42.91 | AF26: =IF(AG26=2,AI26,AJ26) -> 0 | AG26: =COUNTIF(E26:E28,">1") -> 1 | AH26: =COUNTIF(E26:E28,">84.9") -> 0 | AI26: =IF(AH26=1,AK26,AL26) -> 0
D27: 7-3 | I27: =IF(E27<84.9,0,IF(E27<87.4,0.1,IF(E27<89.9,0.15,IF(E27<92.4,0.2,IF(E27<94.9,0.25,IF(E27<97.4,0.3,IF(E27<99.9,0.35,0.4))))))) -> 0 | J27: =H27-I27 -> 0 | AF27: =IF(AG27=2,AI27,AJ27) -> 0 | AG27: =COUNTIF(E27:E29,">1") -> 1 | AH27: =COUNTIF(E27:E29,">84.9") -> 0 | AI27: =IF(AH27=1,AK27,AL27) -> 0
A28: 8 | B28: kozak I razboiniki | C28: Манило Денис | D28: 8-1 | F28: =IF(M6=3,AC28,AF27) -> 0 | G28: 13 | H28: 41.92 | I28: =IF(E28<84.9,0,IF(E28<87.4,0.1,IF(E28<89.9,0.15,IF(E28<92.4,0.2,IF(E28<94.9,0.25,IF(E28<97.4,0.3,IF(E28<99.9,0.35,0.4))))))) -> 0 | J28: =H28-I28 -> 41.92 | K28: =AVERAGE(J28:J29) -> 42.11 | L28: =RANK(K28,K7:K39,1) -> 5 | Z28: =AVERAGE(E28:E29) -> 71.2 | AA28: =IF(E28>84.9,E28,E29) -> 71.2 | AB28: =COUNTIF(E28:E30,">84.9") -> 0 | AC28: =IF(AB28=1,AD28,AE28) -> 0 | AD28: =IF(AA28<84.9,0,IF(AA28<87.4,9,IF(AA28<89.9,13.5,IF(AA28<92.4,18,IF(AA28<94.9,22.5,IF(AA28<97.4,27,IF(AA28<99.9,31.5,36))))))) -> 0 | AE28: =IF(Z28<84.9,0,IF(Z28<87.4,18,IF(Z28<89.9,27,IF(Z28<92.4,36,IF(Z28<94.9,45,IF(Z28<97.4,54,IF(Z28<99.9,63,72))))))) -> 0 | AF28: =IF(AG28=2,AI28,AJ28) -> 0 | AG28: =COUNTIF(E28:E30,">1") -> 1 | AH28: =COUNTIF(E28:E30,">84.9") -> 0 | AI28: =IF(AH28=1,AK28,AL28) -> 0
C29: Гаврилюк Олег | D29: 8-2 | E29: 71.2 | G29: 11 | H29: 42.3 | I29: =IF(E29<84.9,0,IF(E29<87.4,0.1,IF(E29<89.9,0.15,IF(E29<92.4,0.2,IF(E29<94.9,0.25,IF(E29<97.4,0.3,IF(E29<99.9,0.35,0.4))))))) -> 0 | J29: =H29-I29 -> 42.3 | AF29: =IF(AG29=2,AI29,AJ29) -> 0 | AG29: =COUNTIF(E29:E31,">1") -> 2 | AH29: =COUNTIF(E29:E31,">84.9") -> 0 | AI29: =IF(AH29=1,AK29,AL29) -> 0
D30: 8-3 | I30: =IF(E30<84.9,0,IF(E30<87.4,0.1,IF(E30<89.9,0.15,IF(E30<92.4,0.2,IF(E30<94.9,0.25,IF(E30<97.4,0.3,IF(E30<99.9,0.35,0.4))))))) -> 0 | J30: =H30-I30 -> 0 | AF30: =IF(AG30=2,AI30,AJ30) -> 0 | AG30: =COUNTIF(E30:E32,">1") -> 2 | AH30: =COUNTIF(E30:E32,">84.9") -> 0 | AI30: =IF(AH30=1,AK30,AL30) -> 0
A31: 9 | B31: Kozaks 22 | C31: Лысенкий Денис | D31: 9-1 | E31: 81.8 | F31: =IF(M6=3,AC31,AF30) -> 0 | G31: 13 | H31: 42.05 | I31: =IF(E31<84.9,0,IF(E31<87.4,0.1,IF(E31<89.9,0.15,IF(E31<92.4,0.2,IF(E31<94.9,0.25,IF(E31<97.4,0.3,IF(E31<99.9,0.35,0.4))))))) -> 0 | J31: =H31-I31 -> 42.05 | K31: =AVERAGE(J31:J32) -> 42.425 | L31: =RANK(K31,K7:K39,1) -> 7 | Z31: =AVERAGE(E31:E32) -> 79.3 | AA31: =IF(E31>84.9,E31,E32) -> 76.8 | AB31: =COUNTIF(E31:E33,">84.9") -> 0 | AC31: =IF(AB31=1,AD31,AE31) -> 0 | AD31: =IF(AA31<84.9,0,IF(AA31<87.4,9,IF(AA31<89.9,13.5,IF(AA31<92.4,18,IF(AA31<94.9,22.5,IF(AA31<97.4,27,IF(AA31<99.9,31.5,36))))))) -> 0 | AE31: =IF(Z31<84.9,0,IF(Z31<87.4,18,IF(Z31<89.9,27,IF(Z31<92.4,36,IF(Z31<94.9,45,IF(Z31<97.4,54,IF(Z31<99.9,63,72))))))) -> 0 | AF31: =IF(AG31=2,AI31,AJ31) -> 0 | AG31: =COUNTIF(E31:E33,">1") -> 2 | AH31: =COUNTIF(E31:E33,">84.9") -> 0 | AI31: =IF(AH31=1,AK31,AL31) -> 0
C32: Кравец Олег | D32: 9-2 | E32: 76.8 | G32: 21 | H32: 42.8 | I32: =IF(E32<84.9,0,IF(E32<87.4,0.1,IF(E32<89.9,0.15,IF(E32<92.4,0.2,IF(E32<94.9,0.25,IF(E32<97.4,0.3,IF(E32<99.9,0.35,0.4))))))) -> 0 | J32: =H32-I32 -> 42.8 | AF32: =IF(AG32=2,AI32,AJ32) -> 0 | AG32: =COUNTIF(E32:E34,">1") -> 2 | AH32: =COUNTIF(E32:E34,">84.9") -> 0 | AI32: =IF(AH32=1,AK32,AL32) -> 0
D33: 9-3 | I33: =IF(E33<84.9,0,IF(E33<87.4,0.1,IF(E33<89.9,0.15,IF(E33<92.4,0.2,IF(E33<94.9,0.25,IF(E33<97.4,0.3,IF(E33<99.9,0.35,0.4))))))) -> 0 | J33: =H33-I33 -> 0 | AF33: =IF(AG33=2,AI33,AJ33) -> 0 | AG33: =COUNTIF(E33:E35,">1") -> 2 | AH33: =COUNTIF(E33:E35,">84.9") -> 0 | AI33: =IF(AH33=1,AK33,AL33) -> 0
A34: 10 | B34: Jaguar | C34: Лихошерст Леша | D34: 10-1 | E34: 70.5 | F34: =IF(M6=3,AC34,AF33) -> 0 | G34: 21 | H34: 42.48 | I34: =IF(E34<84.9,0,IF(E34<87.4,0.1,IF(E34<89.9,0.15,IF(E34<92.4,0.2,IF(E34<94.9,0.25,IF(E34<97.4,0.3,IF(E34<99.9,0.35,0.4))))))) -> 0 | J34: =H34-I34 -> 42.48 | K34: =AVERAGE(J34:J35) -> 43.005 | L34: =RANK(K34,K7:K39,1) -> 10 | Z34: =AVERAGE(E34:E35) -> 75.15 | AA34: =IF(E34>84.9,E34,E35) -> 79.8 | AB34: =COUNTIF(E34:E36,">84.9") -> 0 | AC34: =IF(AB34=1,AD34,AE34) -> 0 | AD34: =IF(AA34<84.9,0,IF(AA34<87.4,9,IF(AA34<89.9,13.5,IF(AA34<92.4,18,IF(AA34<94.9,22.5,IF(AA34<97.4,27,IF(AA34<99.9,31.5,36))))))) -> 0 | AE34: =IF(Z34<84.9,0,IF(Z34<87.4,18,IF(Z34<89.9,27,IF(Z34<92.4,36,IF(Z34<94.9,45,IF(Z34<97.4,54,IF(Z34<99.9,63,72))))))) -> 0 | AF34: =IF(AG34=2,AI34,AJ34) -> 0 | AG34: =COUNTIF(E34:E36,">1") -> 2 | AH34: =COUNTIF(E34:E36,">84.9") -> 0 | AI34: =IF(AH34=1,AK34,AL34) -> 0
C35: Старовой Андрей | D35: 10.2 | E35: 79.8 | G35: 44 | H35: 43.53 | I35: =IF(E35<84.9,0,IF(E35<87.4,0.1,IF(E35<89.9,0.15,IF(E35<92.4,0.2,IF(E35<94.9,0.25,IF(E35<97.4,0.3,IF(E35<99.9,0.35,0.4))))))) -> 0 | J35: =H35-I35 -> 43.53 | AF35: =IF(AG35=2,AI35,AJ35) -> 0 | AG35: =COUNTIF(E35:E36,">1") -> 1 | AH35: =COUNTIF(E35:E36,">84.9") -> 0 | AI35: =IF(AH35=1,AK35,AL35) -> 0
D36: 10-3 | I36: =IF(E36<84.9,0,IF(E36<87.4,0.1,IF(E36<89.9,0.15,IF(E36<92.4,0.2,IF(E36<94.9,0.25,IF(E36<97.4,0.3,IF(E36<99.9,0.35,0.4))))))) -> 0 | J36: =H36-I36 -> 0 | AF36: =IF(AG36=2,AI36,AJ36) -> 0 | AG36: =COUNTIF(E36:E36,">1") -> 0 | AH36: =COUNTIF(E36:E36,">84.9") -> 0 | AI36: =IF(AH36=1,AK36,AL36) -> 0
A37: 12 | B37: No give up | C37: Рыбкин Иван | D37: 12-1 | E37: 70.3 | F37: =IF(M6=3,AC37,#REF!) -> 0 | G37: 69 | H37: 43.14 | I37: =IF(E37<84.9,0,IF(E37<87.4,0.1,IF(E37<89.9,0.15,IF(E37<92.4,0.2,IF(E37<94.9,0.25,IF(E37<97.4,0.3,IF(E37<99.9,0.35,0.4))))))) -> 0 | J37: =H37-I37 -> 43.14 | K37: =AVERAGE(J37:J38) -> 43.27 | L37: =RANK(K37,K7:K39,1) -> 11 | Z37: =AVERAGE(E37:E38) -> 77.2 | AA37: =IF(E37>84.9,E37,E38) -> 84.1 | AB37: =COUNTIF(E37:E39,">84.9") -> 0 | AC37: =IF(AB37=1,AD37,AE37) -> 0 | AD37: =IF(AA37<84.9,0,IF(AA37<87.4,9,IF(AA37<89.9,13.5,IF(AA37<92.4,18,IF(AA37<94.9,22.5,IF(AA37<97.4,27,IF(AA37<99.9,31.5,36))))))) -> 0 | AE37: =IF(Z37<84.9,0,IF(Z37<87.4,18,IF(Z37<89.9,27,IF(Z37<92.4,36,IF(Z37<94.9,45,IF(Z37<97.4,54,IF(Z37<99.9,63,72))))))) -> 0 | AF37: =IF(AG37=2,AI37,AJ37) -> 0 | AG37: =COUNTIF(E37:E39,">1") -> 2 | AH37: =COUNTIF(E37:E39,">84.9") -> 0 | AI37: =IF(AH37=1,AK37,AL37) -> 0
C38: Ивченко Саша | D38: 12-2 | E38: 84.1 | G38: 1 | H38: 43.4 | I38: =IF(E38<84.9,0,IF(E38<87.4,0.1,IF(E38<89.9,0.15,IF(E38<92.4,0.2,IF(E38<94.9,0.25,IF(E38<97.4,0.3,IF(E38<99.9,0.35,0.4))))))) -> 0 | J38: =H38-I38 -> 43.4 | AF38: =IF(AG38=2,AI38,AJ38) -> 0 | AG38: =COUNTIF(E38:E39,">1") -> 1 | AH38: =COUNTIF(E38:E39,">84.9") -> 0 | AI38: =IF(AH38=1,AK38,AL38) -> 0
D39: 12-3 | I39: =IF(E39<84.9,0,IF(E39<87.4,0.1,IF(E39<89.9,0.15,IF(E39<92.4,0.2,IF(E39<94.9,0.25,IF(E39<97.4,0.3,IF(E39<99.9,0.35,0.4))))))) -> 0 | J39: =H39-I39 -> 0 | AF39: =IF(AG39=2,AI39,AJ39) -> 0 | AG39: =COUNTIF(E39:E39,">1") -> 0 | AH39: =COUNTIF(E39:E39,">84.9") -> 0 | AI39: =IF(AH39=1,AK39,AL39) -> 0

Sheet Kozaks
A2: Чемпионат мини марафон "Большие Гонки", 8-й этап
A4: Kozaks
A6: Обяза-тельные | B6: Пилот | C6: карт | D6: Круг | E6: кругов на отрезке | F6: Статистика по кругам | J6: Общее время гонки | K6: Время на трассе
F7: Лучший круг | G7: Среднее на отрезке | H7: Кругов в 0,1 от лучшего | I7: стабильность | K7: отрезок | L7: всего у пилота | M7: Питы | N7: Штрафы/ бонусы (сек)
A8: 1 | B8: Пикулин Паша | C8: 8 | D8: =COUNTA(C19:C83) -> 42 | E8: =COUNTA(C19:C83) -> 42 | F8: =MIN(C19:C82) -> 41.85 | G8: =AVERAGE(C19:C85) -> 42.285714 | H8: 4 | I8: =G8-F8 -> 0.43571429 | J8: 0.020616968 | K8: =J8 -> 0.020616968 | L8: =K8 -> 0.020616968 | M8: 2:17.06
A9: 2 | B9: Лантушенко Игорь | C9: 7 | D9: =COUNTA(D19:D83)+D8+1 -> 103 | E9: =COUNTA(D19:D83)+1 -> 61 | F9: =MIN(D19:D82) -> 41.94 | G9: =AVERAGE(D19:D84) -> 42.269667 | H9: 2 | I9: =G9-F9 -> 0.32966667 | J9: 0.051563947 | K9: =J9-J8 -> 0.030946979 | L9: =K9 -> 0.030946979 | M9: 2:17.70
A10: 3 | B10: Пикулин Паша | C10: 1 | D10: =COUNTA(E19:E83)+D9+1 -> 145 | E10: =COUNTA(E19:E83)+1 -> 42 | F10: =MIN(E19:E84) -> 41.89 | G10: =AVERAGE(E19:E85) -> 42.213659 | H10: 8 | I10: =G10-F10 -> 0.32365854 | J10: 0.073235324 | K10: =J10-J9 -> 0.021671377 | L10: =K10+L8 -> 0.042288345 | M10: 2:17.26
A11: 4 | B11: Пикулин Паша | C11: 44 | D11: =COUNTA(F19:F83)+D10+1 -> 165 | E11: =COUNTA(F19:F83)+1 -> 20 | F11: =MIN(F19:F84) -> 41.96 | G11: =AVERAGE(F19:F84) -> 42.077368 | H11: 9 | I11: =G11-F11 -> 0.11736842 | J11: 0.084029803 | K11: =J11-J10 -> 0.010794479 | L11: =K11+L10 -> 0.053082824 | M11: 2:17.13
A12: 5 | B12: Лантушенко Игорь | C12: 6 | D12: =COUNTA(G19:G83)+D11+1 -> 214 | E12: =COUNTA(G19:G83)+1 -> 49 | F12: =MIN(G19:G84) -> 41.88 | G12: =AVERAGE(G19:G884) -> 42.184792 | H12: 5 | I12: =G12-F12 -> 0.30479167 | J12: 0.10905985 | K12: =J12-J11 -> 0.025030046 | L12: =K12+L9 -> 0.055977025 | M12: 2:47.20
A13: Финиш | B13: Пикулин Паша | C13: 2 | D13: =COUNTA(H19:H83)+D12+1 -> 244 | E13: =COUNTA(H19:H83)+1 -> 30 | F13: =MIN(H19:H84) -> 41.78 | G13: =AVERAGE(H19:H84) -> 42.03931 | H13: 1 | I13: =G13-F13 -> 0.25931034 | J13: ='Общие результаты'!G6 -> 3:00:06 | K13: =J13-J12 -> 0.016009595 | L13: =K13+L11 -> 0.069092419
F14: =AVERAGE(F8,F10,F11,F13) -> 41.87 | G14: =AVERAGE(G8,G10,G11,G13) -> 42.154013 | H14: Паша | I14: =AVERAGE(I8,I10,I11,I13) -> 0.2840129
F15: =AVERAGE(F9,F12) -> 41.91 | G15: =AVERAGE(G9,G12) -> 42.227229 | H15: Игорь | I15: =AVERAGE(I9,I12) -> 0.31722917
F16: =AVERAGE(F8:F13) -> 41.883333 | G16: =AVERAGE(C19:H90) -> 42.202594 | I16: =AVERAGE(I8:I13) -> 0.29508499
C18: =B8 -> Пикулин Паша | D18: =B9 -> Лантушенко Игорь | E18: =B10 -> Пикулин Паша | F18: =B11 -> Пикулин Паша | G18: =B12 -> Лантушенко Игорь | H18: =B13 -> Пикулин Паша
B19: 1 | C19: 48.03 | D19: 42.47 | E19: 42.05 | F19: 42.01 | G19: 42.22 | H19: 42.15
B20: 2 | C20: 42.48 | D20: 42.25 | E20: 42.07 | F20: 42 | G20: 42.35 | H20: 42.14
B21: 3 | C21: 43.27 | D21: 42.2 | E21: 42.01 | F21: 42.04 | G21: 42.27 | H21: 41.99
B22: 4 | C22: 42.41 | D22: 42.45 | E22: 42.29 | F22: 42.11 | G22: 42.15 | H22: 42.17
B23: 5 | C23: 42.08 | D23: 42.22 | E23: 41.91 | F23: 42.17 | G23: 42.26 | H23: 42.22
B24: 6 | C24: 42.4 | D24: 42.25 | E24: 42.12 | F24: 42.39 | G24: 42.23 | H24: 41.97
B25: 7 | C25: 42.2 | D25: 42.29 | E25: 42.23 | F25: 42.09 | G25: 41.88 | H25: 42.06
B26: 8 | C26: 41.93 | D26: 42.43 | E26: 41.97 | F26: 42.19 | G26: 42.35 | H26: 42.41
B27: 9 | C27: 41.93 | D27: 42.09 | E27: 42.05 | F27: 42.17 | G27: 42.13 | H27: 41.95
B28: 10 | C28: 42.01 | D28: 42.21 | E28: 42.02 | F28: 41.99 | G28: 42.04 | H28: 42.07
B29: 11 | C29: 42.06 | D29: 42.23 | E29: 41.89 | F29: 42 | G29: 42.14 | H29: 41.96
B30: 12 | C30: 41.99 | D30: 42.67 | E30: 42.52 | F30: 41.96 | G30: 42.18 | H30: 42
... B37: 19 | C37: 42.08 | D37: 43.15 | E37: 42.07 | F37: 42.19 | G37: 42.25 | H37: 42
B38: 20 | C38: 42.11 | D38: 42.24 | E38: 42.64 | G38: 42.05 | H38: 42.11
B39: 21 | C39: 42.16 | D39: 42.38 | E39: 42 | G39: 42.06 | H39: 42.16
B40: 22 | C40: 42.12 | D40: 42.08 | E40: 42.09 | G40: 42.54 | H40: 41.85
B41: 23 | C41: 41.96 | D41: 42.07 | E41: 41.94 | G41: 42.26 | H41: 41.9
B42: 24 | C42: 41.96 | D42: 42.44 | E42: 41.99 | G42: 41.98 | H42: 42.04
B43: 25 | C43: 42.15 | D43: 42.05 | E43: 42.06 | G43: 42.18 | H43: 41.78
B44: 26 | C44: 42.13 | D44: 42.22 | E44: 41.91 | G44: 42.03 | H44: 41.94
B45: 27 | C45: 41.96 | D45: 42.01 | E45: 42 | G45: 42.09 | H45: 42.01
B46: 28 | C46: 41.95 | D46: 42.22 | E46: 42.09 | G46: 42.16 | H46: 41.96
B47: 29 | C47: 42.11 | D47: 42.22 | E47: 42.06 | G47: 42.11 | H47: 41.92
B48: 30 | C48: 41.99 | D48: 42.15 | E48: 42.01 | G48: 42.04
B49: 31 | C49: 41.91 | D49: 42.18 | E49: 42.15 | G49: 42.02
B50: 32 | C50: 42.48 | D50: 42.37 | E50: 42.26 | G50: 42.46
...

Sheet K44
A2: Чемпионат мини марафон "Большие Гонки", 8-й этап
A4: K44
A6: Обяза-тельные | B6: Пилот | C6: карт | D6: Круг | E6: кругов на отрезке | F6: Статистика по кругам | J6: Общее время гонки | K6: Время на трассе
F7: Лучший круг | G7: Среднее на отрезке | H7: Кругов в 0,1 от лучшего | I7: стабильность | K7: отрезок | L7: всего у пилота | M7: Питы | N7: Штрафы/ бонусы (сек)
A8: 1 | B8: Петушков Андрей | C8: 7 | D8: =COUNTA(C19:C83) -> 39 | E8: =COUNTA(C19:C83) -> 39 | F8: =MIN(C19:C82) -> 42.07 | G8: =AVERAGE(C19:C85) -> 42.358974 | H8: 14 | I8: =G8-F8 -> 0.28897436 | J8: 0.019155093 | K8: =J8 -> 0.019155093 | L8: =K8 -> 0.019155093 | M8: 2:17.19
A9: 2 | B9: Наум | C9: 69 | D9: =COUNTA(D19:D83)+D8+1 -> 59 | E9: =COUNTA(D19:D83)+1 -> 20 | F9: =MIN(D19:D82) -> 42.04 | G9: =AVERAGE(D19:D84) -> 42.269474 | H9: 5 | I9: =G9-F9 -> 0.22947368 | J9: 0.030035741 | K9: =J9-J8 -> 0.010880648 | L9: =K9 -> 0.010880648 | M9: 2:17.34
A10: 3 | B10: Наум | C10: 8 | D10: =COUNTA(E19:E83)+D9+1 -> 116 | E10: =COUNTA(E19:E83)+1 -> 57 | F10: =MIN(E19:E84) -> 41.87 | G10: =AVERAGE(E19:E85) -> 42.18 | H10: 4 | I10: =G10-F10 -> 0.31 | J10: 0.058969907 | K10: =J10-J9 -> 0.028934167 | L10: =K10+L9 -> 0.039814815 | M10: 2:23.37 | N10: 5 | O10: линия
A11: 4 | B11: Петушков Андрей | C11: 4 | D11: =COUNTA(F19:F83)+D10+1 -> 153 | E11: =COUNTA(F19:F83)+1 -> 37 | F11: =MIN(F19:F84) -> 42.03 | G11: =AVERAGE(F19:F84) -> 42.295833 | H11: 3 | I11: =G11-F11 -> 0.26583333 | J11: 0.078252315 | K11: =J11-J10 -> 0.019282407 | L11: =K11+L8 -> 0.0384375 | M11: 2:16.80
A12: 5 | B12: Наум | C12: 1 | D12: =COUNTA(G19:G83)+D11+1 -> 209 | E12: =COUNTA(G19:G83)+1 -> 56 | F12: =MIN(G19:G84) -> 41.84 | G12: =AVERAGE(G19:G884) -> 42.069455 | H12: 10 | I12: =G12-F12 -> 0.22945455 | J12: 0.1066088 | K12: =J12-J11 -> 0.028356481 | L12: =K12+L10 -> 0.068171296 | M12: 2:47.40
A13: Финиш | B13: Петушков Андрей | C13: 7 | D13: =COUNTA(H19:H83)+D12+1 -> 244 | E13: =COUNTA(H19:H83)+1 -> 35 | F13: =MIN(H19:H84) -> 41.98 | G13: =AVERAGE(H19:H84) -> 42.173824 | H13: 11 | I13: =G13-F13 -> 0.19382353 | J13: ='Общие результаты'!G6 -> 3:00:06 | K13: =J13-J12 -> 0.018460648 | L13: =K13+L11 -> 0.056898148
F14: =AVERAGE(F8,F11,F13) -> 42.026667 | G14: =AVERAGE(G8,G11,G13) -> 42.27621 | H14: Андрей | I14: =AVERAGE(I8,I11,I13) -> 0.24954374
F15: =AVERAGE(F9,F10,F12) -> 41.916667 | G15: =AVERAGE(G9,G10,G12) -> 42.172976 | H15: Наум | I15: =AVERAGE(I9,I10,I12) -> 0.25630941
F16: =AVERAGE(F8:F13) -> 41.971667 | G16: =AVERAGE(C19:H90) -> 42.207448 | I16: =AVERAGE(I8:I13) -> 0.25292658
C18: =B8 -> Петушков Андрей | D18: =B9 -> Наум | E18: =B10 -> Наум | F18: =B11 -> Петушков Андрей | G18: =B12 -> Наум | H18: =B13 -> Петушков Андрей
B19: 1 | C19: 46.35 | D19: 42.43 | E19: 42.2 | F19: 42.29 | G19: 42.23 | H19: 42.25
B20: 2 | C20: 42.52 | D20: 42.48 | E20: 42.16 | F20: 42.42 | G20: 42.25 | H20: 42.39
B21: 3 | C21: 42.58 | D21: 42.47 | E21: 42.16 | F21: 42.18 | G21: 42.31 | H21: 42.46
B22: 4 | C22: 42.41 | D22: 42.78 | E22: 42.31 | F22: 42.21 | G22: 42.09 | H22: 42.66
B23: 5 | C23: 42.18 | D23: 42.18 | E23: 42.33 | F23: 42.4 | G23: 42.55 | H23: 42.38
B24: 6 | C24: 42.3 | D24: 42.43 | E24: 42.23 | F24: 42.36 | G24: 41.98 | H24: 42.26
B25: 7 | C25: 42.22 | D25: 42.09 | E25: 42.01 | F25: 42.84 | G25: 42.14 | H25: 42.12
B26: 8 | C26: 42.22 | D26: 42.16 | E26: 42.29 | F26: 42.25 | G26: 42.21 | H26: 42.27
B27: 9 | C27: 42.09 | D27: 42.24 | E27: 42.03 | F27: 42.28 | G27: 42.12 | H27: 42.07
B28: 10 | C28: 42.11 | D28: 42.23 | E28: 42.98 | F28: 42.18 | G28: 42.15 | H28: 42.2
B29: 11 | C29: 42.12 | D29: 42.1 | E29: 42.35 | F29: 42.13 | G29: 42.2 | H29: 42.06
B30: 12 | C30: 42.25 | D30: 42.04 | E30: 42.01 | F30: 42.11 | G30: 42.09 | H30: 42.15
... B37: 19 | C37: 42.16 | D37: 42.36 | E37: 42.29 | F37: 42.43 | G37: 42 | H37: 42.09
B38: 20 | C38: 42.21 | E38: 42 | F38: 42.18 | G38: 42.01 | H38: 42.15
B39: 21 | C39: 42.34 | E39: 42.06 | F39: 42.3 | G39: 41.85 | H39: 42.25
B40: 22 | C40: 42.31 | E40: 42.2 | F40: 42.3 | G40: 41.91 | H40: 42.06
B41: 23 | C41: 42.29 | E41: 42.2 | F41: 42.19 | G41: 42.03 | H41: 41.98
B42: 24 | C42: 42.13 | E42: 42.15 | F42: 42.24 | G42: 42.03 | H42: 42
B43: 25 | C43: 42.18 | E43: 42.04 | F43: 42.03 | G43: 41.98 | H43: 42.03
B44: 26 | C44: 42.16 | E44: 42.19 | F44: 42.27 | G44: 42.06 | H44: 42.34
B45: 27 | C45: 42.33 | E45: 42.03 | F45: 42.34 | G45: 42.06 | H45: 42.08
B46: 28 | C46: 42.42 | E46: 42.15 | F46: 42.34 | G46: 42.12 | H46: 42.11
B47: 29 | C47: 42.26 | E47: 42.01 | F47: 42.52 | G47: 41.96 | H47: 42.05
B48: 30 | C48: 42.14 | E48: 42.1 | F48: 42.06 | G48: 42.21 | H48: 42.03
B49: 31 | C49: 42.3 | E49: 42.06 | F49: 42.35 | G49: 41.92 | H49: 42.11
... B52: 34 | C52: 42.1 | E52: 42.24 | F52: 42.27 | G52: 42.31 | H52: 42.13
...

Sheet NSJ
A2: Чемпионат мини марафон "Большие Гонки", 8-й этап
A4: NSJ
A6: Обяза-тельные | B6: Пилот | C6: карт | D6: Круг | E6: кругов на отрезке | F6: Статистика по кругам | J6: Общее время гонки | K6: Время на трассе
F7: Лучший круг | G7: Среднее на отрезке | H7: Кругов в 0,1 от лучшего | I7: стабильность | K7: отрезок | L7: всего у пилота | M7: Питы | N7: Штрафы/ бонусы (сек)
A8: 1 | B8: Якусик Дима | C8: 2 | D8: =COUNTA(C19:C83) -> 41 | E8: =COUNTA(C19:C83) -> 41 | F8: =MIN(C19:C82) -> 42.08 | G8: =AVERAGE(C19:C85) -> 42.696341 | H8: 2 | I8: =G8-F8 -> 0.61634146 | J8: 0.0203125 | K8: =J8 -> 0.0203125 | L8: =K8 -> 0.0203125 | M8: 2:18.41
A9: 2 | B9: Мифтахутдинов Ильяс | C9: 21 | D9: =COUNTA(D19:D83)+D8+1 -> 69 | E9: =COUNTA(D19:D83)+1 -> 28 | F9: =MIN(D19:D82) -> 41.95 | G9: =AVERAGE(D19:D84) -> 42.329259 | H9: 4 | I9: =G9-F9 -> 0.37925926 | J9: 0.035138889 | K9: =J9-J8 -> 0.014826389 | L9: =K9 -> 0.014826389 | M9: 2:17.79
A10: 3 | B10: Мифтахутдинов Ильяс | C10: 9 | D10: =COUNTA(E19:E83)+D9+1 -> 115 | E10: =COUNTA(E19:E83)+1 -> 46 | F10: =MIN(E19:E84) -> 41.82 | G10: =AVERAGE(E19:E85) -> 42.086 | H10: 5 | I10: =G10-F10 -> 0.266 | J10: 0.058657407 | K10: =J10-J9 -> 0.023518519 | L10: =K10+L9 -> 0.038344907 | M10: 2:24.12
A11: 4 | B11: Якусик Дима | C11: 3 | D11: =COUNTA(F19:F83)+D10+1 -> 141 | E11: =COUNTA(F19:F83)+1 -> 26 | F11: =MIN(F19:F84) -> 42.25 | G11: =AVERAGE(F19:F84) -> 42.6648 | H11: 2 | I11: =G11-F11 -> 0.4148 | J11: 0.073773148 | K11: =J11-J10 -> 0.015115741 | L11: =K11+L8 -> 0.035428241 | M11: 2:06.33 | N11: -58 | O11: поломка
A12: 5 | B12: Якусик Дима | C12: 11 | D12: =COUNTA(G19:G83)+D11+1 -> 182 | E12: =COUNTA(G19:G83)+1 -> 41 | F12: =MIN(G19:G84) -> 42.02 | G12: =AVERAGE(G19:G884) -> 42.3115 | H12: 4 | I12: =G12-F12 -> 0.2915 | J12: 0.094826389 | K12: =J12-J11 -> 0.021053241 | L12: =K12+L11 -> 0.056481481 | M12: 1:59.14
A13: Финиш | B13: Мифтахутдинов Ильяс | C13: 8 | D13: =COUNTA(H19:H83)+D12+1 -> 243 | E13: =COUNTA(H19:H83)+1 -> 61 | F13: =MIN(H19:H84) -> 41.68 | G13: =AVERAGE(H19:H84) -> 41.99 | H13: 2 | I13: =G13-F13 -> 0.31 | J13: ='Общие результаты'!G6 -> 3:00:06 | K13: =J13-J12 -> 0.030243056 | L13: =K13+L10 -> 0.068587963
F14: =AVERAGE(F8,F11,F12) -> 42.116667 | G14: =AVERAGE(G8,G11,G12) -> 42.557547 | H14: Дима | I14: =AVERAGE(I8,I11,I12) -> 0.44088049
F15: =AVERAGE(F9,F10,F13) -> 41.816667 | G15: =AVERAGE(G9,G10,G13) -> 42.135086 | H15: Ильяс | I15: =AVERAGE(I9,I10,I13) -> 0.31841975
F16: =AVERAGE(F8:F13) -> 41.966667 | G16: =AVERAGE(C19:H90) -> 42.293235 | I16: =AVERAGE(I8:I13) -> 0.37965012
C18: =B8 -> Якусик Дима | D18: =B9 -> Мифтахутдинов Ильяс | E18: =B10 -> Мифтахутдинов Ильяс | F18: =B11 -> Якусик Дима | G18: =B12 -> Якусик Дима | H18: =B13 -> Мифтахутдинов Ильяс
B19: 1 | C19: 47.11 | D19: 42.43 | E19: 42.27 | F19: 42.34 | G19: 42.67 | H19: 42.19
B20: 2 | C20: 44.04 | D20: 42.31 | E20: 42.3 | F20: 43.41 | G20: 42.47 | H20: 42.04
B21: 3 | C21: 44.04 | D21: 42.01 | E21: 42.12 | F21: 43.08 | G21: 42.4 | H21: 41.92
B22: 4 | C22: 42.75 | D22: 42.39 | E22: 41.96 | F22: 42.54 | G22: 42.39 | H22: 42.02
B23: 5 | C23: 42.51 | D23: 42.27 | E23: 41.92 | F23: 42.94 | G23: 43.07 | H23: 42.05
B24: 6 | C24: 42.35 | D24: 42.39 | E24: 42.15 | F24: 44.13 | G24: 42.3 | H24: 42.07
B25: 7 | C25: 42.37 | D25: 42.58 | E25: 42.12 | F25: 43.03 | G25: 42.24 | H25: 41.94
B26: 8 | C26: 42.4 | D26: 42.48 | E26: 42 | F26: 42.58 | G26: 42.3 | H26: 42.03
B27: 9 | C27: 42.25 | D27: 42.41 | E27: 42.02 | F27: 42.74 | G27: 42.11 | H27: 41.91
B28: 10 | C28: 42.39 | D28: 42.37 | E28: 42.14 | F28: 42.44 | G28: 42.22 | H28: 42.19
B29: 11 | C29: 42.22 | D29: 42.33 | E29: 42.05 | F29: 42.62 | G29: 42.14 | H29: 41.93
B30: 12 | C30: 42.35 | D30: 42.15 | E30: 42.03 | F30: 42.57 | G30: 42.5 | H30: 42.2
... B43: 25 | C43: 42.09 | D43: 42.53 | E43: 41.82 | F43: 42.54 | G43: 42.16 | H43: 41.81
B44: 26 | C44: 42.08 | D44: 43.11 | E44: 41.96 | G44: 42.16 | H44: 41.85
B45: 27 | C45: 42.19 | D45: 42.52 | E45: 41.99 | G45: 42.27 | H45: 42.01
B46: 28 | C46: 42.2 | E46: 42.02 | G46: 42.02 | H46: 41.77
B47: 29 | C47: 42.61 | E47: 42.07 | G47: 42.06 | H47: 41.71
B48: 30 | C48: 42.36 | E48: 42.15 | G48: 42.19 | H48: 41.99
B49: 31 | C49: 42.26 | E49: 42.13 | G49: 42.34 | H49: 41.99
B50: 32 | C50: 42.51 | E50: 42.22 | G50: 42.19 | H50: 41.9
B51: 33 | C51: 42.24 | E51: 42.1 | G51: 42.15 | H51: 42.02
B52: 34 | C52: 42.27 | E52: 42.05 | G52: 42.15 | H52: 41.82
B53: 35 | C53: 43.11 | E53: 42.01 | G53: 42.26 | H53: 42.26
B54: 36 | C54: 42.64 | E54: 41.91 | G54: 42.28 | H54: 42.14
B55: 37 | C55: 42.44 | E55: 42.11 | G55: 42.58 | H55: 42.4
B56: 38 | C56: 42.39 | E56: 42.04 | G56: 42.29 | H56: 41.86
...

Sheet Hurricane RT
A2: Чемпионат мини марафон "Большие Гонки", 8-й этап
A4: Hurricane RT
A6: Обяза-тельные | B6: Пилот | C6: карт | D6: Круг | E6: кругов на отрезке | F6: Статистика по кругам | J6: Общее время гонки | K6: Время на трассе
F7: Лучший круг | G7: Среднее на отрезке | H7: Кругов в 0,1 от лучшего | I7: стабильность | K7: отрезок | L7: всего у пилота | M7: Питы | N7: Штрафы/ бонусы (сек)
A8: 1 | B8: Ткаченко Кирилл | C8: 3 | D8: =COUNTA(C19:C83) -> 42 | E8: =COUNTA(C19:C83) -> 42 | F8: =MIN(C19:C82) -> 41.85 | G8: =AVERAGE(C19:C85) -> 42.513333 | H8: 3 | I8: =G8-F8 -> 0.66333333 | J8: 0.020720718 | K8: =J8 -> 0.020720718 | L8: =K8 -> 0.020720718 | M8: 2:35.80
A9: 2 | B9: Стоцкий Андрей | C9: 13 | D9: =COUNTA(D19:D83)+D8+1 -> 71 | E9: =COUNTA(D19:D83)+1 -> 29 | F9: =MIN(D19:D82) -> 41.96 | G9: =AVERAGE(D19:D84) -> 42.336786 | H9: 1 | I9: =G9-F9 -> 0.37678571 | J9: 0.036239572 | K9: =J9-J8 -> 0.015518854 | L9: =K9 -> 0.015518854 | M9: 2:17.32
A10: 3 | B10: Ткаченко Кирилл | C10: 5 | D10: =COUNTA(E19:E83)+D9+1 -> 121 | E10: =COUNTA(E19:E83)+1 -> 50 | F10: =MIN(E19:E84) -> 41.89 | G10: =AVERAGE(E19:E85) -> 42.210816 | H10: 1 | I10: =G10-F10 -> 0.32081633 | J10: 0.061770023 | K10: =J10-J9 -> 0.025530451 | L10: =K10+L8 -> 0.046251169 | M10: 2:17.80
A11: 4 | B11: Стоцкий Андрей | C11: 8 | D11: =COUNTA(F19:F83)+D10+1 -> 159 | E11: =COUNTA(F19:F83)+1 -> 38 | F11: =MIN(F19:F84) -> 42.03 | G11: =AVERAGE(F19:F84) -> 42.355135 | H11: 2 | I11: =G11-F11 -> 0.32513514 | J11: 0.081500741 | K11: =J11-J10 -> 0.019730718 | L11: =K11+L9 -> 0.035249572 | M11: 2:16.79
A12: 5 | B12: Ткаченко Кирилл | C12: 4 | D12: =COUNTA(G19:G83)+D11+1 -> 203 | E12: =COUNTA(G19:G83)+1 -> 44 | F12: =MIN(G19:G84) -> 41.91 | G12: =AVERAGE(G19:G884) -> 42.073488 | H12: 15 | I12: =G12-F12 -> 0.16348837 | J12: 0.1040292 | K12: =J12-J11 -> 0.022528461 | L12: =K12+L10 -> 0.06877963 | M12: 2:52.33 | N12: 5 | O12: подбивание
A13: Финиш | B13: Стоцкий Андрей | C13: 10 | D13: =COUNTA(H19:H83)+D12+1 -> 243 | E13: =COUNTA(H19:H83)+1 -> 40 | F13: =MIN(H19:H84) -> 42.17 | G13: =AVERAGE(H19:H84) -> 42.445385 | H13: 3 | I13: =G13-F13 -> 0.27538462 | J13: ='Общие результаты'!G6 -> 3:00:06 | K13: =J13-J12 -> 0.021040243 | L13: =K13+L11 -> 0.056289815
F14: =AVERAGE(F8,F10,F12) -> 41.883333 | G14: =AVERAGE(G8,G10,G12) -> 42.265879 | H14: Кирилл | I14: =AVERAGE(I8,I10,I12) -> 0.38254601
F15: =AVERAGE(F9,F11,F13) -> 42.053333 | G15: =AVERAGE(G9,G11,G13) -> 42.379102 | H15: Андрей | I15: =AVERAGE(I9,I11,I13) -> 0.32576849
F16: =AVERAGE(F8:F13) -> 41.968333 | G16: =AVERAGE(C19:H90) -> 42.315084 | I16: =AVERAGE(I8:I13) -> 0.35415725
C18: =B8 -> Ткаченко Кирилл | D18: =B9 -> Стоцкий Андрей | E18: =B10 -> Ткаченко Кирилл | F18: =B11 -> Стоцкий Андрей | G18: =B12 -> Ткаченко Кирилл | H18: =B13 -> Стоцкий Андрей
B19: 1 | C19: 51.19 | D19: 42.65 | E19: 42.21 | F19: 42.53 | G19: 42.21 | H19: 42.43
B20: 2 | C20: 45.16 | D20: 42.35 | E20: 42.23 | F20: 42.54 | G20: 42.02 | H20: 42.36
B21: 3 | C21: 43.79 | D21: 42.19 | E21: 42.42 | F21: 42.66 | G21: 42.29 | H21: 42.45
B22: 4 | C22: 42.8 | D22: 42.27 | E22: 42.24 | F22: 42.37 | G22: 42.09 | H22: 42.54
B23: 5 | C23: 42.17 | D23: 42.17 | E23: 42.11 | F23: 42.27 | G23: 42.07 | H23: 42.32
B24: 6 | C24: 41.94 | D24: 42.45 | E24: 42.28 | F24: 42.4 | G24: 42.16 | H24: 42.54
B25: 7 | C25: 42.16 | D25: 42.32 | E25: 42.22 | F25: 42.88 | G25: 42.49 | H25: 42.45
B26: 8 | C26: 42.54 | D26: 42.69 | E26: 42.23 | F26: 42.34 | G26: 42.37 | H26: 42.54
B27: 9 | C27: 42.29 | D27: 42.15 | E27: 42.17 | F27: 42.38 | G27: 41.94 | H27: 42.38
B28: 10 | C28: 42.18 | D28: 42.42 | E28: 42.34 | F28: 42.29 | G28: 42 | H28: 42.73
B29: 11 | C29: 41.85 | D29: 42.22 | E29: 42.27 | F29: 42.22 | G29: 41.97 | H29: 42.43
B30: 12 | C30: 41.91 | D30: 42.16 | E30: 41.97 | F30: 42.7 | G30: 42.05 | H30: 42.35
... B46: 28 | C46: 42.05 | D46: 42.6 | E46: 42.07 | F46: 42.45 | G46: 42 | H46: 42.43
B47: 29 | C47: 42.27 | E47: 42.09 | F47: 42.2 | G47: 42.04 | H47: 42.31
B48: 30 | C48: 42.17 | E48: 42.14 | F48: 42.32 | G48: 42.05 | H48: 42.56
B49: 31 | C49: 42.36 | E49: 42.18 | F49: 42.21 | G49: 41.91 | H49: 43.08
B50: 32 | C50: 42.07 | E50: 42.14 | F50: 42.22 | G50: 42.09 | H50: 42.17
B51: 33 | C51: 42.21 | E51: 42.06 | F51: 42.3 | G51: 41.97 | H51: 42.2
B52: 34 | C52: 41.86 | E52: 42.23 | F52: 42.32 | G52: 42.07 | H52: 42.26
B53: 35 | C53: 42.1 | E53: 42.19 | F53: 42.42 | G53: 41.97 | H53: 42.45
B54: 36 | C54: 41.97 | E54: 42.24 | F54: 42.5 | G54: 41.92 | H54: 42.44
B55: 37 | C55: 42.19 | E55: 42.11 | F55: 42.2 | G55: 41.97 | H55: 42.43
B56: 38 | C56: 42.1 | E56: 42.18 | G56: 42.15 | H56: 42.33
B57: 39 | C57: 41.95 | E57: 42.16 | G57: 42.12 | H57: 42.56
B58: 40 | C58: 42.37 | E58: 42.2 | G58: 42.12
B59: 41 | C59: 42.24 | E59: 42.35 | G59: 42.04
...

Sheet Kozak i razboiniki
A2: Чемпионат мини марафон "Большие Гонки", 8-й этап
A4: Kozak i razboiniki
A6: Обяза-тельные | B6: Пилот | C6: карт | D6: Круг | E6: кругов на отрезке | F6: Статистика по кругам | J6: Общее время гонки | K6: Время на трассе
F7: Лучший круг | G7: Среднее на отрезке | H7: Кругов в 0,1 от лучшего | I7: стабильность | K7: отрезок | L7: всего у пилота | M7: Питы | N7: Штрафы/ бонусы (сек)
A8: 1 | B8: Гаврилюк Олег | C8: 9 | D8: =COUNTA(C19:C83) -> 42 | E8: =COUNTA(C19:C83) -> 42 | F8: =MIN(C19:C82) -> 42.2 | G8: =AVERAGE(C19:C85) -> 42.673095 | H8: 3 | I8: =G8-F8 -> 0.47309524 | J8: 0.020798252 | K8: =J8 -> 0.020798252 | L8: =K8 -> 0.020798252 | M8: 2:17.84
A9: 2 | B9: Манило Денис | C9: 2 | D9: =COUNTA(D19:D83)+D8+1 -> 103 | E9: =COUNTA(D19:D83)+1 -> 61 | F9: =MIN(D19:D82) -> 42.01 | G9: =AVERAGE(D19:D84) -> 42.305167 | H9: 5 | I9: =G9-F9 -> 0.29516667 | J9: 0.051780729 | K9: =J9-J8 -> 0.030982477 | L9: =K9 -> 0.030982477 | M9: 2:17.71
A10: 3 | B10: Гаврилюк Олег | C10: 11 | D10: =COUNTA(E19:E83)+D9+1 -> 133 | E10: =COUNTA(E19:E83)+1 -> 30 | F10: =MIN(E19:E84) -> 42.31 | G10: =AVERAGE(E19:E85) -> 42.545172 | H10: 6 | I10: =G10-F10 -> 0.23517241 | J10: 0.0676486 | K10: =J10-J9 -> 0.01586787 | L10: =K10+L8 -> 0.036666123 | M10: 2:17.75
A11: 4 | B11: Манило Денис | C11: 21 | D11: =COUNTA(F19:F83)+D10+1 -> 156 | E11: =COUNTA(F19:F83)+1 -> 23 | F11: =MIN(F19:F84) -> 42.12 | G11: =AVERAGE(F19:F84) -> 42.412727 | H11: 6 | I11: =G11-F11 -> 0.29272727 | J11: 0.080048692 | K11: =J11-J10 -> 0.012400093 | L11: =K11+L9 -> 0.043382569 | M11: 2:17.80
A12: 5 | B12: Гаврилюк Олег | C12: 3 | D12: =COUNTA(G19:G83)+D11+1 -> 208 | E12: =COUNTA(G19:G83)+1 -> 52 | F12: =MIN(G19:G84) -> 42.03 | G12: =AVERAGE(G19:G884) -> 42.363529 | H12: 5 | I12: =G12-F12 -> 0.33352941 | J12: 0.1066481 | K12: =J12-J11 -> 0.02659941 | L12: =K12+L10 -> 0.063265532 | M12: 2:47.60
A13: Финиш | B13: Манило Денис | C13: 13 | D13: =COUNTA(H19:H83)+D12+1 -> 243 | E13: =COUNTA(H19:H83)+1 -> 35 | F13: =MIN(H19:H84) -> 41.95 | G13: =AVERAGE(H19:H84) -> 42.265294 | H13: 1 | I13: =G13-F13 -> 0.31529412 | J13: ='Общие результаты'!G6 -> 3:00:06 | K13: =J13-J12 -> 0.018421343 | L13: =K13+L11 -> 0.061803912
F14: =AVERAGE(F8,F10,F12) -> 42.18 | G14: =AVERAGE(G8,G10,G12) -> 42.527266 | H14: Олег | I14: =AVERAGE(I8,I10,I12) -> 0.34726569
F15: =AVERAGE(F9,F11,F13) -> 42.026667 | G15: =AVERAGE(G9,G11,G13) -> 42.327729 | H15: Денис | I15: =AVERAGE(I9,I11,I13) -> 0.30106269
F16: =AVERAGE(F8:F13) -> 42.103333 | G16: =AVERAGE(C19:H90) -> 42.416092 | I16: =AVERAGE(I8:I13) -> 0.32416419
C18: =B8 -> Гаврилюк Олег | D18: =B9 -> Манило Денис | E18: =B10 -> Гаврилюк Олег | F18: =B11 -> Манило Денис | G18: =B12 -> Гаврилюк Олег | H18: =B13 -> Манило Денис
B19: 1 | C19: 49.69 | D19: 42.43 | E19: 42.73 | F19: 42.57 | G19: 42.54 | H19: 42.43
B20: 2 | C20: 43.14 | D20: 42.31 | E20: 42.99 | F20: 42.99 | G20: 42.36 | H20: 42.52
B21: 3 | C21: 43 | D21: 42.34 | E21: 42.68 | F21: 42.47 | G21: 42.39 | H21: 42.5
B22: 4 | C22: 42.68 | D22: 42.49 | E22: 42.63 | F22: 42.48 | G22: 42.32 | H22: 42.42
B23: 5 | C23: 42.57 | D23: 42.49 | E23: 42.73 | F23: 42.21 | G23: 42.39 | H23: 42.38
B24: 6 | C24: 42.31 | D24: 42.6 | E24: 42.68 | F24: 42.32 | G24: 42.32 | H24: 42.21
B25: 7 | C25: 42.37 | D25: 42.29 | E25: 42.41 | F25: 42.24 | G25: 42.41 | H25: 42.46
B26: 8 | C26: 42.36 | D26: 42.44 | E26: 42.44 | F26: 42.34 | G26: 42.28 | H26: 42.3
B27: 9 | C27: 42.63 | D27: 42.27 | E27: 42.64 | F27: 42.38 | G27: 42.42 | H27: 42.33
B28: 10 | C28: 42.25 | D28: 42.31 | E28: 42.39 | F28: 42.15 | G28: 42.32 | H28: 42.34
B29: 11 | C29: 42.22 | D29: 42.18 | E29: 42.51 | F29: 42.22 | G29: 42.43 | H29: 42.16
B30: 12 | C30: 42.2 | D30: 44.21 | E30: 42.48 | F30: 42.15 | G30: 42.36 | H30: 42.24
... B40: 22 | C40: 42.59 | D40: 42.15 | E40: 42.49 | F40: 42.4 | G40: 42.21 | H40: 42.18
B41: 23 | C41: 42.95 | D41: 42.03 | E41: 42.87 | G41: 42.3 | H41: 42.24
B42: 24 | C42: 42.5 | D42: 42.55 | E42: 42.33 | G42: 42.17 | H42: 42.28
B43: 25 | C43: 42.32 | D43: 43.18 | E43: 42.53 | G43: 42.29 | H43: 42.24
B44: 26 | C44: 42.56 | D44: 42.53 | E44: 42.35 | G44: 42.22 | H44: 42.02
B45: 27 | C45: 42.6 | D45: 42.44 | E45: 42.6 | G45: 42.58 | H45: 42.08
B46: 28 | C46: 42.43 | D46: 42.17 | E46: 42.4 | G46: 42.26 | H46: 42.19
B47: 29 | C47: 42.68 | D47: 42.28 | E47: 42.31 | G47: 42.23 | H47: 42.25
B48: 30 | C48: 42.36 | D48: 42.14 | G48: 43.88 | H48: 42.08
B49: 31 | C49: 42.34 | D49: 42.29 | G49: 42.27 | H49: 42.12
B50: 32 | C50: 42.34 | D50: 42.3 | G50: 42.12 | H50: 42.18
B51: 33 | C51: 42.34 | D51: 42.14 | G51: 42.11 | H51: 42.2
B52: 34 | C52: 42.4 | D52: 42.22 | G52: 42.2 | H52: 42.34
B53: 35 | C53: 43.09 | D53: 42.17 | G53: 42.16
...

Sheet Fortuna Racing
A2: Чемпионат мини марафон "Большие Гонки", 8-й этап
A4: Fortuna Racing
A6: Обяза-тельные | B6: Пилот | C6: карт | D6: Круг | E6: кругов на отрезке | F6: Статистика по кругам | J6: Общее время гонки | K6: Время на трассе
F7: Лучший круг | G7: Среднее на отрезке | H7: Кругов в 0,1 от лучшего | I7: стабильность | K7: отрезок | L7: всего у пилота | M7: Питы | N7: Штрафы/ бонусы (сек)
A8: 1 | B8: Шутка Виталий | C8: 5 | D8: =COUNTA(C19:C83) -> 39 | E8: =COUNTA(C19:C83) -> 39 | F8: =MIN(C19:C82) -> 42.18 | G8: =AVERAGE(C19:C85) -> 42.52359 | H8: 8 | I8: =G8-F8 -> 0.34358974 | J8: 0.019229063 | K8: =J8 -> 0.019229063 | L8: =K8 -> 0.019229063 | M8: 2:18.23
A9: 2 | B9: Фортуна Таня | C9: 4 | D9: =COUNTA(D19:D83)+D8+1 -> 59 | E9: =COUNTA(D19:D83)+1 -> 20 | F9: =MIN(D19:D82) -> 42.21 | G9: =AVERAGE(D19:D84) -> 42.414211 | H9: 4 | I9: =G9-F9 -> 0.20421053 | J9: 0.030154757 | K9: =J9-J8 -> 0.010925694 | L9: =K9 -> 0.010925694 | M9: 2:17.81
A10: 3 | B10: Шутка Виталий | C10: 10 | D10: =COUNTA(E19:E83)+D9+1 -> 101 | E10: =COUNTA(E19:E83)+1 -> 42 | F10: =MIN(E19:E84) -> 42.19 | G10: =AVERAGE(E19:E85) -> 42.477073 | H10: 6 | I10: =G10-F10 -> 0.28707317 | J10: 0.051929213 | K10: =J10-J9 -> 0.021774456 | L10: =K10+L8 -> 0.041003519 | M10: 2:26.46
A11: 4 | B11: Фортуна Таня | C11: 7 | D11: =COUNTA(F19:F83)+D10+1 -> 143 | E11: =COUNTA(F19:F83)+1 -> 42 | F11: =MIN(F19:F84) -> 42.09 | G11: =AVERAGE(F19:F84) -> 42.404878 | H11: 1 | I11: =G11-F11 -> 0.31487805 | J11: 0.073745162 | K11: =J11-J10 -> 0.021815949 | L11: =K11+L9 -> 0.032741644 | M11: 2:16.64
A12: 5 | B12: Фортуна Таня | C12: 2 | D12: =COUNTA(G19:G83)+D11+1 -> 204 | E12: =COUNTA(G19:G83)+1 -> 61 | F12: =MIN(G19:G84) -> 41.95 | G12: =AVERAGE(G19:G884) -> 42.289667 | H12: 1 | I12: =G12-F12 -> 0.33966667 | J12: 0.10467968 | K12: =J12-J11 -> 0.030934514 | L12: =K12+L11 -> 0.063676157 | M12: 2:48.35
A13: Финиш | B13: Шутка Виталий | C13: 4 | D13: =COUNTA(H19:H83)+D12+1 -> 243 | E13: =COUNTA(H19:H83)+1 -> 39 | F13: =MIN(H19:H84) -> 42.13 | G13: =AVERAGE(H19:H84) -> 42.445526 | H13: 4 | I13: =G13-F13 -> 0.31552632 | J13: ='Общие результаты'!G6 -> 3:00:06 | K13: =J13-J12 -> 0.020389769 | L13: =K13+L10 -> 0.061393287
F14: =AVERAGE(F8,F10,F13) -> 42.166667 | G14: =AVERAGE(G8,G10,G13) -> 42.482063 | H14: Виталий | I14: =AVERAGE(I8,I10,I13) -> 0.31539641
F15: =AVERAGE(F9,F11,F12) -> 42.083333 | G15: =AVERAGE(G9,G11,G12) -> 42.369585 | H15: Таня | I15: =AVERAGE(I9,I11,I12) -> 0.28625175
F16: =AVERAGE(F8:F13) -> 42.125 | G16: =AVERAGE(C19:H90) -> 42.414958 | I16: =AVERAGE(I8:I13) -> 0.30082408
C18: =B8 -> Шутка Виталий | D18: =B9 -> Фортуна Таня | E18: =B10 -> Шутка Виталий | F18: =B11 -> Фортуна Таня | G18: =B12 -> Фортуна Таня | H18: =B13 -> Шутка Виталий
B19: 1 | C19: 45.98 | D19: 42.21 | E19: 42.62 | F19: 42.36 | G19: 42.5 | H19: 42.64
B20: 2 | C20: 42.86 | D20: 42.26 | E20: 42.77 | F20: 42.26 | G20: 42.21 | H20: 43.18
B21: 3 | C21: 42.95 | D21: 42.28 | E21: 42.52 | F21: 42.12 | G21: 42.07 | H21: 42.62
B22: 4 | C22: 42.71 | D22: 42.5 | E22: 42.55 | F22: 42.23 | G22: 42.35 | H22: 42.57
B23: 5 | C23: 42.27 | D23: 42.23 | E23: 42.51 | F23: 42.42 | G23: 42.35 | H23: 42.5
B24: 6 | C24: 42.31 | D24: 42.35 | E24: 42.3 | F24: 42.43 | G24: 42.27 | H24: 42.69
B25: 7 | C25: 42.36 | D25: 42.27 | E25: 42.47 | F25: 42.36 | G25: 42.4 | H25: 42.63
B26: 8 | C26: 42.18 | D26: 42.45 | E26: 42.33 | F26: 42.21 | G26: 42.44 | H26: 42.41
B27: 9 | C27: 42.31 | D27: 42.41 | E27: 42.38 | F27: 42.27 | G27: 42.23 | H27: 42.25
B28: 10 | C28: 42.28 | D28: 42.97 | E28: 42.64 | F28: 42.41 | G28: 42.3 | H28: 42.13
B29: 11 | C29: 42.23 | D29: 42.59 | E29: 42.5 | F29: 42.41 | G29: 42.2 | H29: 42.44
B30: 12 | C30: 42.25 | D30: 42.44 | E30: 42.49 | F30: 42.31 | G30: 42.22 | H30: 42.43
... B37: 19 | C37: 42.26 | D37: 42.32 | E37: 42.19 | F37: 43.08 | G37: 42.35 | H37: 42.36
B38: 20 | C38: 42.94 | E38: 42.33 | F38: 42.61 | G38: 42.19 | H38: 42.3
B39: 21 | C39: 42.39 | E39: 42.36 | F39: 42.6 | G39: 42.28 | H39: 42.92
B40: 22 | C40: 42.26 | E40: 42.38 | F40: 43.79 | G40: 42.23 | H40: 42.44
B41: 23 | C41: 42.36 | E41: 42.55 | F41: 42.66 | G41: 42.04 | H41: 42.44
B42: 24 | C42: 42.29 | E42: 42.41 | F42: 42.28 | G42: 42.15 | H42: 42.34
B43: 25 | C43: 42.32 | E43: 42.3 | F43: 42.33 | G43: 42.18 | H43: 42.4
B44: 26 | C44: 42.37 | E44: 43.02 | F44: 42.43 | G44: 41.95 | H44: 42.2
B45: 27 | C45: 42.39 | E45: 43.34 | F45: 42.26 | G45: 42.07 | H45: 42.33
B46: 28 | C46: 42.35 | E46: 42.26 | F46: 42.35 | G46: 42.14 | H46: 42.38
B47: 29 | C47: 42.32 | E47: 42.24 | F47: 42.23 | G47: 42.3 | H47: 42.24
B48: 30 | C48: 42.43 | E48: 42.26 | F48: 42.27 | G48: 42.11 | H48: 42.48
B49: 31 | C49: 42.53 | E49: 42.36 | F49: 42.22 | G49: 42.14 | H49: 42.23
... B56: 38 | C56: 42.78 | E56: 42.4 | F56: 42.09 | G56: 42.52 | H56: 42.4
...

Sheet Kozaks 22
A2: Чемпионат мини марафон "Большие Гонки", 8-й этап
A4: Kozaks 22
A6: Обяза-тельные | B6: Пилот | C6: карт | D6: Круг | E6: кругов на отрезке | F6: Статистика по кругам | J6: Общее время гонки | K6: Время на трассе
F7: Лучший круг | G7: Среднее на отрезке | H7: Кругов в 0,1 от лучшего | I7: стабильность | K7: отрезок | L7: всего у пилота | M7: Питы | N7: Штрафы/ бонусы (сек)
A8: 1 | B8: Лысенский Денис | C8: 10 | D8: =COUNTA(C19:C83) -> 42 | E8: =COUNTA(C19:C83) -> 42 | F8: =MIN(C19:C82) -> 42.08 | G8: =AVERAGE(C19:C85) -> 42.45119 | H8: 4 | I8: =G8-F8 -> 0.37119048 | J8: 0.020694444 | K8: =J8 -> 0.020694444 | L8: =K8 -> 0.020694444 | M8: 2:19.28
A9: 2 | B9: Кравец Олег | C9: 5 | D9: =COUNTA(D19:D83)+D8+1 -> 61 | E9: =COUNTA(D19:D83)+1 -> 19 | F9: =MIN(D19:D82) -> 42.42 | G9: =AVERAGE(D19:D84) -> 42.662778 | H9: 2 | I9: =G9-F9 -> 0.24277778 | J9: 0.031203704 | K9: =J9-J8 -> 0.010509259 | L9: =K9 -> 0.010509259 | M9: 2:20.02
A10: 3 | B10: Кравец Олег | C10: 3 | D10: =COUNTA(E19:E83)+D9+1 -> 114 | E10: =COUNTA(E19:E83)+1 -> 53 | F10: =MIN(E19:E84) -> 42.21 | G10: =AVERAGE(E19:E85) -> 42.738846 | H10: 0 | I10: =G10-F10 -> 0.52884615 | J10: 0.058541667 | K10: =J10-J9 -> 0.027337963 | L10: =K10+L9 -> 0.037847222 | M10: 2:18.31
A11: 4 | B11: Лысенский Денис | C11: 69 | D11: =COUNTA(F19:F83)+D10+1 -> 155 | E11: =COUNTA(F19:F83)+1 -> 41 | F11: =MIN(F19:F84) -> 42.12 | G11: =AVERAGE(F19:F84) -> 42.32725 | H11: 7 | I11: =G11-F11 -> 0.20725 | J11: 0.079748449 | K11: =J11-J10 -> 0.021206782 | L11: =K11+L8 -> 0.041901227 | M11: 2:18.26
A12: 5 | B12: Кравец Олег | C12: 7 | D12: =COUNTA(G19:G83)+D11+1 -> 203 | E12: =COUNTA(G19:G83)+1 -> 48 | F12: =MIN(G19:G84) -> 42.22 | G12: =AVERAGE(G19:G884) -> 42.510213 | H12: 5 | I12: =G12-F12 -> 0.29021277 | J12: 0.1044769 | K12: =J12-J11 -> 0.024728449 | L12: =K12+L10 -> 0.062575671 | M12: 2:47.23
A13: Финиш | B13: Лысенский Денис | C13: 11 | D13: =COUNTA(H19:H83)+D12+1 -> 243 | E13: =COUNTA(H19:H83)+1 -> 40 | F13: =MIN(H19:H84) -> 42.15 | G13: =AVERAGE(H19:H84) -> 42.416667 | H13: 4 | I13: =G13-F13 -> 0.26666667 | J13: ='Общие результаты'!G6 -> 3:00:06 | K13: =J13-J12 -> 0.020592546 | L13: =K13+L11 -> 0.062493773
F14: =AVERAGE(F8,F11,F13) -> 42.116667 | G14: =AVERAGE(G8,G11,G13) -> 42.398369 | H14: Денис | I14: =AVERAGE(I8,I11,I13) -> 0.28170238
F15: =AVERAGE(F9,F10,F12) -> 42.283333 | G15: =AVERAGE(G9,G10,G12) -> 42.637279 | H15: Олег | I15: =AVERAGE(I9,I10,I12) -> 0.35394557
F16: =AVERAGE(F8:F13) -> 42.2 | G16: =AVERAGE(C19:H90) -> 42.51521 | I16: =AVERAGE(I8:I13) -> 0.31782397
C18: =B8 -> Лысенский Денис | D18: =B9 -> Кравец Олег | E18: =B10 -> Кравец Олег | F18: =B11 -> Лысенский Денис | G18: =B12 -> Кравец Олег | H18: =B13 -> Лысенский Денис
B19: 1 | C19: 46.18 | D19: 42.82 | E19: 42.74 | F19: 42.4 | G19: 43.6 | H19: 42.39
B20: 2 | C20: 43.28 | D20: 42.65 | E20: 42.58 | F20: 42.33 | G20: 42.97 | H20: 42.36
B21: 3 | C21: 42.89 | D21: 42.63 | E21: 42.48 | F21: 42.46 | G21: 42.98 | H21: 43.13
B22: 4 | C22: 42.62 | D22: 42.48 | E22: 42.74 | F22: 42.12 | G22: 42.62 | H22: 42.41
B23: 5 | C23: 42.35 | D23: 42.62 | E23: 42.68 | F23: 42.32 | G23: 42.71 | H23: 42.37
B24: 6 | C24: 43.24 | D24: 42.91 | E24: 43.1 | F24: 42.32 | G24: 42.53 | H24: 42.56
B25: 7 | C25: 42.27 | D25: 42.7 | E25: 42.68 | F25: 42.3 | G25: 42.73 | H25: 42.45
B26: 8 | C26: 42.15 | D26: 42.42 | E26: 42.83 | F26: 42.3 | G26: 42.48 | H26: 42.52
B27: 9 | C27: 42.28 | D27: 43.06 | E27: 42.89 | F27: 42.3 | G27: 42.52 | H27: 42.64
B28: 10 | C28: 42.31 | D28: 42.78 | E28: 42.53 | F28: 42.2 | G28: 42.71 | H28: 42.4
B29: 11 | C29: 42.13 | D29: 42.6 | E29: 42.65 | F29: 42.28 | G29: 42.79 | H29: 42.31
B30: 12 | C30: 42.08 | D30: 42.43 | E30: 42.81 | F30: 42.21 | G30: 42.58 | H30: 42.29
... B36: 18 | C36: 42.26 | D36: 42.83 | E36: 42.57 | F36: 42.24 | G36: 42.25 | H36: 42.39
B37: 19 | C37: 42.46 | E37: 42.72 | F37: 42.39 | G37: 42.35 | H37: 42.2
B38: 20 | C38: 42.39 | E38: 43.07 | F38: 42.27 | G38: 42.49 | H38: 42.55
B39: 21 | C39: 42.22 | E39: 42.87 | F39: 42.52 | G39: 42.36 | H39: 42.3
B40: 22 | C40: 42.14 | E40: 42.44 | F40: 42.43 | G40: 42.34 | H40: 42.5
B41: 23 | C41: 42.2 | E41: 42.62 | F41: 42.17 | G41: 42.25 | H41: 42.51
B42: 24 | C42: 42.32 | E42: 42.81 | F42: 42.23 | G42: 42.52 | H42: 42.57
B43: 25 | C43: 42.31 | E43: 43.24 | F43: 42.16 | G43: 42.38 | H43: 42.33
B44: 26 | C44: 42.16 | E44: 42.68 | F44: 42.14 | G44: 42.28 | H44: 42.37
B45: 27 | C45: 42.24 | E45: 42.63 | F45: 42.38 | G45: 42.33 | H45: 42.45
B46: 28 | C46: 42.3 | E46: 42.71 | F46: 42.23 | G46: 42.38 | H46: 42.55
B47: 29 | C47: 42.39 | E47: 42.8 | F47: 42.58 | G47: 42.24 | H47: 42.59
B48: 30 | C48: 42.29 | E48: 43.04 | F48: 42.49 | G48: 42.45 | H48: 42.15
... B57: 39 | C57: 42.31 | E57: 42.7 | F57: 42.38 | G57: 42.42 | H57: 42.29
...

Sheet 50 Grams
A2: Чемпионат мини марафон "Большие Гонки", 8-й этап
A4: 50 Grams
A6: Обяза-тельные | B6: Пилот | C6: карт | D6: Круг | E6: кругов на отрезке | F6: Статистика по кругам | J6: Общее время гонки | K6: Время на трассе
F7: Лучший круг | G7: Среднее на отрезке | H7: Кругов в 0,1 от лучшего | I7: стабильность | K7: отрезок | L7: всего у пилота | M7: Питы | N7: Штрафы/ бонусы (сек)
A8: 1 | B8: Морозенко Сергей | C8: 1 | D8: =COUNTA(C19:C83) -> 35 | E8: =COUNTA(C19:C83) -> 35 | F8: =MIN(C19:C82) -> 42.39 | G8: =AVERAGE(C19:C85) -> 43.003429 | H8: 1 | I8: =G8-F8 -> 0.61342857 | J8: 0.017500243 | K8: =J8 -> 0.017500243 | L8: =K8 -> 0.017500243 | M8: 2:17.55
A9: 2 | B9: Шиленко Саша | C9: 6 | D9: =COUNTA(D19:D83)+D8+1 -> 88 | E9: =COUNTA(D19:D83)+1 -> 53 | F9: =MIN(D19:D82) -> 41.86 | G9: =AVERAGE(D19:D84) -> 42.279231 | H9: 2 | I9: =G9-F9 -> 0.41923077 | J9: 0.044532419 | K9: =J9-J8 -> 0.027032176 | L9: =K9 -> 0.027032176 | M9: 2:19.42
A10: 3 | B10: Морозенко Сергей | C10: 44 | D10: =COUNTA(E19:E83)+D9+1 -> 118 | E10: =COUNTA(E19:E83)+1 -> 30 | F10: =MIN(E19:E84) -> 42.45 | G10: =AVERAGE(E19:E85) -> 42.903793 | H10: 1 | I10: =G10-F10 -> 0.4537931 | J10: 0.060543576 | K10: =J10-J9 -> 0.016011157 | L10: =K10+L8 -> 0.0335114 | M10: 2:18.29
A11: 4 | B11: Шиленко Саша | C11: 9 | D11: =COUNTA(F19:F83)+D10+1 -> 177 | E11: =COUNTA(F19:F83)+1 -> 59 | F11: =MIN(F19:F84) -> 41.98 | G11: =AVERAGE(F19:F84) -> 42.296034 | H11: 4 | I11: =G11-F11 -> 0.31603448 | J11: 0.090543102 | K11: =J11-J10 -> 0.029999525 | L11: =K11+L9 -> 0.057031701 | M11: 2:18.01
A12: 5 | B12: Морозенко Сергей | C12: 21 | D12: =COUNTA(G19:G83)+D11+1 -> 202 | E12: =COUNTA(G19:G83)+1 -> 25 | F12: =MIN(G19:G84) -> 42.51 | G12: =AVERAGE(G19:G884) -> 42.9525 | H12: 0 | I12: =G12-F12 -> 0.4425 | J12: 0.10407682 | K12: =J12-J11 -> 0.013533715 | L12: =K12+L10 -> 0.047045116 | M12: 2:49.73
A13: Финиш | B13: Морозенко Сергей | C13: 9 | D13: =COUNTA(H19:H83)+D12+1 -> 242 | E13: =COUNTA(H19:H83)+1 -> 40 | F13: =MIN(H19:H84) -> 42.38 | G13: =AVERAGE(H19:H84) -> 42.754615 | H13: 5 | I13: =G13-F13 -> 0.37461538 | J13: ='Общие результаты'!G6 -> 3:00:06 | K13: =J13-J12 -> 0.020992627 | L13: =K13+L12 -> 0.068037743
F14: =AVERAGE(F8,F10,F12,F13) -> 42.4325 | G14: =AVERAGE(G8,G10,G12,G13) -> 42.903584 | H14: Сергей | I14: =AVERAGE(I8,I10,I12,I13) -> 0.47108426
F15: =AVERAGE(F9,F11) -> 41.92 | G15: =AVERAGE(G9,G11) -> 42.287633 | H15: Саша | I15: =AVERAGE(I9,I11) -> 0.36763263
F16: =AVERAGE(F8:F13) -> 42.261667 | G16: =AVERAGE(C19:H90) -> 42.613122 | I16: =AVERAGE(I8:I13) -> 0.43660039
C18: =B8 -> Морозенко Сергей | D18: =B9 -> Шиленко Саша | E18: =B10 -> Морозенко Сергей | F18: =B11 -> Шиленко Саша | G18: =B12 -> Морозенко Сергей | H18: =B13 -> Морозенко Сергей
B19: 1 | C19: 48.92 | D19: 42.57 | E19: 43.16 | F19: 42.65 | G19: 43.32 | H19: 42.62
B20: 2 | C20: 43.22 | D20: 42.52 | E20: 42.93 | F20: 42.4 | G20: 43.38 | H20: 42.5
B21: 3 | C21: 42.98 | D21: 42.41 | E21: 43.02 | F21: 42.21 | G21: 42.98 | H21: 42.39
B22: 4 | C22: 42.97 | D22: 42.32 | E22: 43.56 | F22: 42.22 | G22: 43.16 | H22: 42.53
B23: 5 | C23: 42.81 | D23: 42.2 | E23: 42.88 | F23: 42.55 | G23: 42.94 | H23: 42.43
B24: 6 | C24: 42.84 | D24: 42.16 | E24: 42.98 | F24: 42.46 | G24: 42.64 | H24: 42.61
B25: 7 | C25: 42.75 | D25: 42.16 | E25: 42.76 | F25: 42.35 | G25: 42.86 | H25: 42.54
B26: 8 | C26: 43.53 | D26: 43.05 | E26: 42.83 | F26: 42.48 | G26: 43.39 | H26: 42.75
B27: 9 | C27: 43.36 | D27: 42.78 | E27: 42.85 | F27: 42.32 | G27: 42.68 | H27: 42.88
B28: 10 | C28: 42.45 | D28: 42.33 | E28: 43.03 | F28: 42.06 | G28: 43.01 | H28: 42.63
B29: 11 | C29: 42.39 | D29: 42.3 | E29: 43.56 | F29: 42.16 | G29: 42.9 | H29: 42.38
B30: 12 | C30: 42.61 | D30: 42.38 | E30: 43.29 | F30: 42.02 | G30: 42.51 | H30: 42.53
... B42: 24 | C42: 42.65 | D42: 42.22 | E42: 42.74 | F42: 42.14 | G42: 42.8 | H42: 42.67
B43: 25 | C43: 42.68 | D43: 42.52 | E43: 42.79 | F43: 42.2 | H43: 42.72
B44: 26 | C44: 42.81 | D44: 42.13 | E44: 42.75 | F44: 42.1 | H44: 43.53
B45: 27 | C45: 42.71 | D45: 42.28 | E45: 42.74 | F45: 42.38 | H45: 42.64
B46: 28 | C46: 42.63 | D46: 42.46 | E46: 42.62 | F46: 42.28 | H46: 43.01
B47: 29 | C47: 42.86 | D47: 42.05 | E47: 42.76 | F47: 42.12 | H47: 42.69
B48: 30 | C48: 42.71 | D48: 42.08 | F48: 42.27 | H48: 42.66
B49: 31 | C49: 42.65 | D49: 42.16 | F49: 42.14 | H49: 42.51
B50: 32 | C50: 42.95 | D50: 42.31 | F50: 43.06 | H50: 42.6
B51: 33 | C51: 42.82 | D51: 42.36 | F51: 42.17 | H51: 42.67
B52: 34 | C52: 42.69 | D52: 42.74 | F52: 42.25 | H52: 42.42
B53: 35 | C53: 43.68 | D53: 42.16 | F53: 42.19 | H53: 44.78
B54: 36 | D54: 42.34 | F54: 42.85 | H54: 43.25
B55: 37 | D55: 42.4 | F55: 42.49 | H55: 42.59
...

Sheet Jaguar
A2: Чемпионат мини марафон "Большие Гонки", 8-й этап
A4: Jaguar
A6: Обяза-тельные | B6: Пилот | C6: карт | D6: Круг | E6: кругов на отрезке | F6: Статистика по кругам | J6: Общее время гонки | K6: Время на трассе
F7: Лучший круг | G7: Среднее на отрезке | H7: Кругов в 0,1 от лучшего | I7: стабильность | K7: отрезок | L7: всего у пилота | M7: Питы | N7: Штрафы/ бонусы (сек)
A8: 1 | B8: Лихошерст Алексей | C8: 13 | D8: =COUNTA(C19:C83) -> 39 | E8: =COUNTA(C19:C83) -> 39 | F8: =MIN(C19:C82) -> 42.15 | G8: =AVERAGE(C19:C85) -> 42.794872 | H8: 1 | I8: =G8-F8 -> 0.64487179 | J8: 0.019391007 | K8: =J8 -> 0.019391007 | L8: =K8 -> 0.019391007 | M8: 2:18.24
A9: 2 | B9: Старовой Андрей | C9: 1 | D9: =COUNTA(D19:D83)+D8+1 -> 70 | E9: =COUNTA(D19:D83)+1 -> 31 | F9: =MIN(D19:D82) -> 42.64 | G9: =AVERAGE(D19:D84) -> 43.209333 | H9: 1 | I9: =G9-F9 -> 0.56933333 | J9: 0.035995544 | K9: =J9-J8 -> 0.016604537 | L9: =K9 -> 0.016604537 | M9: 2:18.69
A10: 3 | B10: Лихошерст Алексей | C10: 4 | D10: =COUNTA(E19:E83)+D9+1 -> 100 | E10: =COUNTA(E19:E83)+1 -> 30 | F10: =MIN(E19:E84) -> 42.31 | G10: =AVERAGE(E19:E85) -> 42.582069 | H10: 3 | I10: =G10-F10 -> 0.27206897 | J10: 0.051899641 | K10: =J10-J9 -> 0.015904097 | L10: =K10+L8 -> 0.035295104 | M10: 2:18.65
A11: 4 | B11: Старовой Андрей | C11: 6 | D11: =COUNTA(F19:F83)+D10+1 -> 151 | E11: =COUNTA(F19:F83)+1 -> 51 | F11: =MIN(F19:F84) -> 42.52 | G11: =AVERAGE(F19:F84) -> 43.1166 | H11: 0 | I11: =G11-F11 -> 0.5966 | J11: 0.078454039 | K11: =J11-J10 -> 0.026554398 | L11: =K11+L9 -> 0.043158935 | M11: 2:17.28
