Workbook

Sheet Общие результаты
A1: Серия мини марафонов "Большие Гонки 2019", 6-й этап, 29.06.19
A2: Конфигурация № 6
A4: Место в гонке | B4: Команда | C4: № в гонке | D4: Квала | F4: Гонка | I4: Лучший круг в гонке
D5: Время | E5: Место | F5: Круги | G5: Время/от лидера | H5: От места выше | I5: Время | J5: На круге
A6: 1 | B6: К44 | C6: 13 | D6: 41.97 | E6: 2 | F6: 245 | G6: 3:00:18 | H6: - | I6: 41.7 | J6: 214
A7: 2 | B7: KartFreedom | C7: 9 | D7: 42.025 | E7: 3 | F7: 245 | G7: =5-4.42 -> 0.58 | H7: =G7 -> 0.58 | I7: 41.5 | J7: 130
A8: 3 | B8: Vpered ta vgoru | C8: 14 | D8: 41.76 | E8: 1 | F8: 245 | G8: =10.06-5 -> 5.06 | H8: =G8-G7 -> 4.48 | I8: 41.72 | J8: 113
A9: 4 | B9: Hurricane RT | C9: 7 | D9: 42.14 | E9: 7 | F9: 245 | G9: =33.48-5 -> 28.48 | H9: =G9-G8 -> 23.42 | I9: 41.84 | J9: 198
A10: 5 | B10: Battle Master | C10: 11 | D10: 42.195 | E10: 8 | F10: 244 | G10: 1 Круг | H10: 19 | I10: 41.87 | J10: 214
A11: 6 | B11: EK motorsport | C11: 4 | D11: 42.14 | E11: 6 | F11: 244 | G11: 1 Круг | H11: 10 | I11: 41.88 | J11: 199
A12: 7 | B12: ASS RT | C12: 8 | D12: 42.09 | E12: 5 | F12: 244 | G12: 1 Круг | H12: =4+5 -> 9 | I12: 41.76 | J12: 10
A13: 8 | B13: Fortuna RT | C13: 12 | D13: 42.045 | E13: 4 | F13: 244 | G13: 1 Круг | H13: =7-5 -> 2 | I13: 41.88 | J13: 55
A14: 9 | B14: Kozaks | C14: 10 | D14: 42.34 | E14: 9 | F14: 244 | G14: 1 Круг | H14: 6 | I14: 41.91 | J14: 55
A15: 10 | B15: Flash | C15: 3 | D15: 42.39 | E15: 11 | F15: 243 | G15: 2 Круга | H15: 1 круг | I15: 42.03 | J15: 47
A16: 11 | B16: F1UA | C16: 5 | D16: 42.355 | E16: 10 | F16: 242 | G16: 3 Круга | H16: =4-3 -> 1 | I16: 42.09 | J16: 14
A17: 12 | B17: Na spidah | C17: 2 | D17: 42.725 | E17: 15 | F17: 242 | G17: 3 Круга | H17: 3 | I17: 41.98 | J17: 138
A18: 13 | B18: Fossa | C18: 1 | D18: 42.505 | E18: 13 | F18: 242 | G18: 3 Круга | H18: =33+5 -> 38 | I18: 42.11 | J18: 9
A19: 14 | B19: Arta Rcing | C19: 15 | D19: 42.505 | E19: 12 | F19: 241 | G19: 4 Круга | H19: =29-5+5 -> 29 | I19: 42.01 | J19: 95
A20: 15 | B20: KartFreedom JT | C20: 6 | D20: 42.715 | E20: 14 | F20: 241 | G20: 4 Круга | H20: =12-5 -> 7 | I20: 42.09 | J20: 26

Sheet Регистрация
A1: Серия мини марафонов "Большие Гонки 2019", 6-й этап, 29.06.19
A3: Регистрационная форма
A5: № в гонке | B5: Команда | C5: Пилот | D5: № | E5: Вес | F5: Бонус | G5: Квалификация
G6: карт | H6: Время | I6: бонус | J6: Итого | K6: Среднее | L6: Место | N6: бонусы за вес
A7: 1 | B7: Fossa | C7: Бурим Серге | D7: 1-1 | E7: 63.7 | G7: 16 | H7: 42.56 | J7: =H7-I7 -> 42.56 | K7: =AVERAGE(J7:J8) -> 42.505 | L7: =RANK(K7,K7:K51,1) -> 13 | M7: кв | N7: 0.05 | O7: 0.1 | P7: 0.15 | Q7: 0.2 | R7: 0.25 | S7: 0.3 | T7: 0.35 | U7: =N7*8 -> 0.4
C8: Гончаров Алексей | D8: 1-2 | E8: 79.8 | G8: 21 | H8: 42.45 | J8: =H8-I8 -> 42.45 | M8: 3 часа | N8: =1.5*3 -> 4.5 | O8: =1.5*3*2 -> 9 | P8: =1.5*3*3 -> 13.5 | Q8: =1.5*3*4 -> 18 | R8: =1.5*3*5 -> 22.5 | S8: =1.5*3*6 -> 27 | T8: =1.5*3*7 -> 31.5 | U8: =1.5*3*8 -> 36 | V8: 1 пилот
D9: 1-3 | J9: =H9-I9 -> 0 | N9: =3*3 -> 9 | O9: =3*3*2 -> 18 | P9: =3*3*3 -> 27 | Q9: =3*3*4 -> 36 | R9: =3*3*5 -> 45 | S9: =3*3*6 -> 54 | T9: =3*3*7 -> 63 | U9: =3*3*8 -> 72 | V9: 2 пилота
A10: 2 | B10: Na spidah | C10: Харченко Артем | D10: 2-1 | E10: 79.2 | G10: 69 | H10: 42.39 | J10: =H10-I10 -> 42.39 | K10: =AVERAGE(J10:J11) -> 42.725 | L10: =RANK(K10,K7:K51,1) -> 15 | M10: вес | N10: 82.5 | O10: 85 | P10: 87.5 | Q10: 90 | R10: 92.5 | S10: 95 | T10: 97.5 | U10: 100
C11: Голуб Сергей | D11: 2-2 | E11: 77.7 | G11: 44 | H11: 43.06 | J11: =H11-I11 -> 43.06 | M11: 4 часа | N11: =1.5*4 -> 6 | O11: =1.5*4*2 -> 12 | P11: =1.5*4*3 -> 18 | Q11: =1.5*4*4 -> 24 | R11: =1.5*4*5 -> 30 | S11: =1.5*4*6 -> 36 | T11: =1.5*4*7 -> 42 | U11: =1.5*4*8 -> 48 | V11: 1 пилот | W11: 2 участника в команде
D12: 2-3 | J12: =H12-I12 -> 0 | N12: =3*4 -> 12 | O12: =3*4*2 -> 24 | P12: =3*4*3 -> 36 | Q12: =3*4*4 -> 48 | R12: =3*4*5 -> 60 | S12: =3*4*6 -> 72 | T12: =3*4*7 -> 84 | U12: =3*4*8 -> 96 | V12: 2 пилота
A13: 3 | B13: Flash | C13: Загорулько Иван | D13: 3-1 | E13: 95 | F13: 27 | G13: 2 | H13: 42.59 | I13: 0.3 | J13: =H13-I13 -> 42.29 | K13: =AVERAGE(J13:J14) -> 42.39 | L13: =RANK(K13,K7:K51,1) -> 11 | N13: =1*4 -> 4 | O13: =1*4*2 -> 8 | P13: =1*4*3 -> 12 | Q13: =1*4*4 -> 16 | R13: =1*4*5 -> 20 | S13: =1*4*6 -> 24 | T13: =1*4*7 -> 28 | U13: =1*4*8 -> 32 | V13: 1 пилот | W13: 3 участника в команде
C14: Звягин Григорий | D14: 3-2 | E14: 73.1 | G14: 1 | H14: 42.49 | J14: =H14-I14 -> 42.49 | N14: =2*4 -> 8 | O14: =2*4*2 -> 16 | P14: =2*4*3 -> 24 | Q14: =2*4*4 -> 32 | R14: =2*4*5 -> 40 | S14: =2*4*6 -> 48 | T14: =2*4*7 -> 56 | U14: =2*4*8 -> 64 | V14: 2 пилота
D15: 3-3 | J15: =H15-I15 -> 0 | N15: =3*4 -> 12 | O15: =3*4*2 -> 24 | P15: =3*4*3 -> 36 | Q15: =3*4*4 -> 48 | R15: =3*4*5 -> 60 | S15: =3*4*6 -> 72 | T15: =3*4*7 -> 84 | U15: =3*4*8 -> 96 | V15: 3 пилота
A16: 4 | B16: EK motorsport | C16: Коруз Вадим | D16: 4-1 | E16: 75.4 | G16: 2 | H16: 42.36 | J16: =H16-I16 -> 42.36 | K16: =AVERAGE(J16:J17) -> 42.14 | L16: =RANK(K16,K7:K51,1) -> 6
C17: Шиленко Саша | D17: 4-2 | E17: 85.6 | F17: 9 | G17: 3 | H17: 42.02 | I17: 0.1 | J17: =H17-I17 -> 41.92
D18: 4-3 | J18: =H18-I18 -> 0
A19: 5 | B19: F1UA | C19: Якусик Саша | D19: 5-1 | E19: 75.8 | G19: 3 | H19: 42.29 | J19: =H19-I19 -> 42.29 | K19: =AVERAGE(J19:J20) -> 42.355 | L19: =RANK(K19,K7:K51,1) -> 10
C20: Гончаров Рома | D20: 5-2 | E20: 66.9 | G20: 4 | H20: 42.42 | J20: =H20-I20 -> 42.42
D21: 5-3 | J21: =H21-I21 -> 0
A22: 6 | B22: KartFreedom JT | C22: Медведьева Даша | D22: 6-1 | E22: - | G22: 5 | H22: 43.05 | J22: =H22-I22 -> 43.05 | K22: =AVERAGE(J22:J23) -> 42.715 | L22: =RANK(K22,K7:K51,1) -> 14
C23: Юрченко Вова | D23: 6-2 | E23: 73.3 | G23: 4 | H23: 42.38 | J23: =H23-I23 -> 42.38
D24: 6-3 | J24: =H24-I24 -> 0
A25: 7 | B25: Hurricane RT | C25: Стоцкий Андрей | D25: 7-1 | E25: 59.9 | G25: 6 | H25: 41.98 | J25: =H25-I25 -> 41.98 | K25: =AVERAGE(J25:J26) -> 42.14 | L25: 7
C26: Ткаченко Антон | D26: 7-2 | E26: 83.8 | G26: 5 | H26: 42.3 | J26: =H26-I26 -> 42.3
D27: 7-3 | J27: =H27-I27 -> 0
A28: 8 | B28: ASS RT | C28: Ткаченко Кирилл | D28: 8-1 | E28: 78 | G28: 7 | H28: 42.04 | J28: =H28-I28 -> 42.04 | K28: =AVERAGE(J28:J29) -> 42.09 | L28: =RANK(K28,K7:K51,1) -> 5
C29: Якусик Дима | D29: 8-2 | E29: 74 | G29: 6 | H29: 42.14 | J29: =H29-I29 -> 42.14
D30: 8-3 | J30: =H30-I30 -> 0
A31: 9 | B31: KartFreedom | C31: Паненко Женя | D31: 9-1 | E31: 81.6 | G31: 9 | H31: 42.21 | J31: =H31-I31 -> 42.21 | K31: =AVERAGE(J31:J32) -> 42.025 | L31: =RANK(K31,K7:K51,1) -> 3
C32: Пикулин Паша | D32: 9-2 | E32: 75.1 | G32: 7 | H32: 41.84 | J32: =H32-I32 -> 41.84
D33: 9-3 | J33: =H33-I33 -> 0
A34: 10 | B34: Kozaks | C34: Денис Лысенский | D34: 10-1 | E34: 82.5 | G34: 10 | H34: 42.39 | J34: =H34-I34 -> 42.39 | K34: =AVERAGE(J34:J35) -> 42.34 | L34: =RANK(K34,K7:K51,1) -> 9 | P34: =(91+86)/2 -> 88.5
C35: Соколан Артем | D35: 10.2 | E35: 75 | G35: 9 | H35: 42.29 | J35: =H35-I35 -> 42.29
D36: 10-3 | J36: =H36-I36 -> 0
A37: 11 | B37: Battle Master | C37: Терещенко Андрей | D37: 11-1 | E37: 91.3 | F37: 27 | G37: 10 | H37: 42.26 | I37: 0.1 | J37: =H37-I37 -> 42.16 | K37: =AVERAGE(J37:J38) -> 42.195 | L37: =RANK(K37,K7:K51,1) -> 8
C38: Голубченко Саша | D38: 11-2 | E38: 86.1 | G38: 11 | H38: 42.43 | I38: 0.2 | J38: =H38-I38 -> 42.23
D39: 11-3 | J39: =H39-I39 -> 0
A40: 12 | B40: Fortuna RT | C40: Фортуна Таня | D40: 12-1 | E40: - | G40: 12 | H40: 42.06 | J40: =H40-I40 -> 42.06 | K40: =AVERAGE(J40:J41) -> 42.045 | L40: =RANK(K40,K7:K51,1) -> 4
C41: Шутка Виталий | D41: 12-2 | E41: 81.5 | G41: 11 | H41: 42.03 | J41: =H41-I41 -> 42.03
D42: 12-3 | J42: =H42-I42 -> 0
...

Sheet К44
A2: Чемпионат мини марафон "Большие Гонки", 6-й этап
A4: К44
A6: Обяза-тельные | B6: Пилот | C6: карт | D6: Круг | E6: кругов на отрезке | F6: Статистика по кругам | J6: Общее время гонки | K6: Время на трассе
F7: Лучший круг | G7: Среднее на отрезке | H7: Кругов в 0,1 от лучшего | I7: стабильность | K7: отрезок | L7: всего у пилота | M7: Питы | N7: Штрафы/ бонусы (сек)
A8: 1 | B8: Винтонив Иван | C8: 21 | D8: =COUNTA(C19:C83) -> 29 | E8: =COUNTA(C19:C83) -> 29 | F8: =MIN(C19:C82) -> 41.73 | G8: =AVERAGE(C19:C85) -> 42.069655 | H8: 4 | I8: =G8-F8 -> 0.33965517 | J8: 0.014166667 | K8: =J8 -> 0.014166667 | L8: =K8 -> 0.014166667 | M8: 2:21.05
A9: 2 | B9: Гаврилюк Олег | C9: 15 | D9: =COUNTA(D19:D83)+D8+1 -> 89 | E9: =COUNTA(D19:D83)+1 -> 60 | F9: =MIN(D19:D82) -> 41.75 | G9: =AVERAGE(D19:D84) -> 42.085593 | H9: 7 | I9: =G9-F9 -> 0.33559322 | J9: 0.044537037 | K9: =J9-J8 -> 0.03037037 | L9: =K9 -> 0.03037037 | M9: 2:20.37
A10: 3 | B10: Винтонив Иван | C10: 1 | D10: =COUNTA(E19:E83)+D9+1 -> 118 | E10: =COUNTA(E19:E83)+1 -> 29 | F10: =MIN(E19:E84) -> 41.85 | G10: =AVERAGE(E19:E85) -> 42.1825 | H10: 5 | I10: =G10-F10 -> 0.3325 | J10: 0.059849537 | K10: =J10-J9 -> 0.0153125 | L10: =K10+L8 -> 0.029479167 | M10: 2:20.25
A11: 4 | B11: Гаврилюк Олег | C11: 44 | D11: =COUNTA(F19:F83)+D10+1 -> 138 | E11: =COUNTA(F19:F83)+1 -> 20 | F11: =MIN(F19:F84) -> 42.03 | G11: =AVERAGE(F19:F84) -> 42.303684 | H11: 1 | I11: =G11-F11 -> 0.27368421 | J11: 0.070763889 | K11: =J11-J10 -> 0.010914352 | L11: =K11+L9 -> 0.041284722 | M11: 2:20.02
A12: 5 | B12: Гаврилюк Олег | C12: 3 | D12: =COUNTA(G19:G83)+D11+1 -> 189 | E12: =COUNTA(G19:G83)+1 -> 51 | F12: =MIN(G19:G84) -> 42.08 | G12: =AVERAGE(G19:G884) -> 42.3732 | H12: 4 | I12: =G12-F12 -> 0.2932 | J12: 0.096898148 | K12: =J12-J11 -> 0.026134259 | L12: =K12+L11 -> 0.067418981 | M12: 2:20.54
A13: Финиш | B13: Винтонив Иван | C13: 16 | D13: =COUNTA(H19:H83)+D12+1 -> 245 | E13: =COUNTA(H19:H83)+1 -> 56 | F13: =MIN(H19:H84) -> 41.7 | G13: =AVERAGE(H19:H84) -> 41.99 | H13: 4 | I13: =G13-F13 -> 0.29 | J13: ='Общие результаты'!G6 -> 3:00:18 | K13: =J13-J12 -> 0.028310185 | L13: =K13+L10 -> 0.057789352
F14: =AVERAGE(F8,F10,F13) -> 41.76 | G14: =AVERAGE(G8,G10,G13) -> 42.080718 | H14: Ваня | I14: =AVERAGE(I8,I10,I13) -> 0.32071839
F15: =AVERAGE(F9,F11,F12) -> 41.953333 | G15: =AVERAGE(G9,G11,G12) -> 42.254159 | H15: Олег | I15: =AVERAGE(I9,I11,I12) -> 0.30082581
F16: =AVERAGE(F8:F13) -> 41.856667 | G16: =AVERAGE(C19:H81) -> 42.15025 | I16: =AVERAGE(I8:I13) -> 0.3107721
C18: =B8 -> Винтонив Иван | D18: =B9 -> Гаврилюк Олег | E18: =B10 -> Винтонив Иван | F18: =B11 -> Гаврилюк Олег | G18: =B12 -> Гаврилюк Олег | H18: =B13 -> Винтонив Иван
B19: 1 | C19: 44.91 | D19: 42.57 | E19: 42.22 | F19: 42.27 | G19: 42.48 | H19: 42
B20: 2 | C20: 42.52 | D20: 42.97 | E20: 42.49 | F20: 42.39 | G20: 42.38 | H20: 42.37
B21: 3 | C21: 42.44 | D21: 43.34 | E21: 43.15 | F21: 42.21 | G21: 42.24 | H21: 41.74
B22: 4 | C22: 42.07 | D22: 42.15 | E22: 42.47 | F22: 42.12 | G22: 42.19 | H22: 41.93
B23: 5 | C23: 41.76 | D23: 41.91 | E23: 42.1 | F23: 42.61 | G23: 42.24 | H23: 42.04
B24: 6 | C24: 41.98 | D24: 41.85 | E24: 42.02 | F24: 42.35 | G24: 42.26 | H24: 41.77
B25: 7 | C25: 42.03 | D25: 42 | E25: 42.04 | F25: 42.03 | G25: 43.57 | H25: 41.77
B26: 8 | C26: 41.99 | D26: 42.03 | E26: 42 | F26: 42.46 | G26: 42.23 | H26: 41.89
B27: 9 | C27: 41.73 | D27: 42 | E27: 41.95 | F27: 42.2 | G27: 42.3 | H27: 42.01
B28: 10 | C28: 41.77 | D28: 42.06 | E28: 41.96 | F28: 42.21 | G28: 42.22 | H28: 41.99
B29: 11 | C29: 41.83 | D29: 41.83 | E29: 41.88 | F29: 42.35 | G29: 42.19 | H29: 42.03
B30: 12 | C30: 42.05 | D30: 42.8 | E30: 41.94 | F30: 42.38 | G30: 42.44 | H30: 42.05
... B37: 19 | C37: 41.87 | D37: 42.19 | E37: 42 | F37: 42.4 | G37: 42.2 | H37: 42.12
B38: 20 | C38: 41.86 | D38: 41.91 | E38: 41.9 | G38: 42.33 | H38: 41.97
B39: 21 | C39: 41.91 | D39: 42.06 | E39: 42.27 | G39: 42.12 | H39: 42.08
B40: 22 | C40: 42.01 | D40: 42.2 | E40: 42.1 | G40: 42.25 | H40: 41.96
B41: 23 | C41: 41.87 | D41: 41.85 | E41: 42.23 | G41: 42.23 | H41: 41.92
B42: 24 | C42: 41.89 | D42: 42.85 | E42: 42.11 | G42: 42.78 | H42: 41.7
B43: 25 | C43: 42.03 | D43: 42.01 | E43: 42.05 | G43: 42.25 | H43: 42.48
B44: 26 | C44: 42.01 | D44: 41.87 | E44: 42.25 | G44: 42.35 | H44: 41.82
B45: 27 | C45: 41.99 | D45: 42.04 | E45: 42.4 | G45: 42.39 | H45: 42.22
B46: 28 | C46: 41.94 | D46: 41.75 | E46: 42.64 | G46: 42.6 | H46: 42.05
B47: 29 | C47: 42.2 | D47: 41.95 | G47: 42.25 | H47: 42.11
B48: 30 | D48: 42.13 | G48: 42.41 | H48: 42.02
B49: 31 | D49: 42.2 | G49: 42.23 | H49: 42.07
B50: 32 | D50: 41.93 | G50: 42.41 | H50: 42.16
...

Sheet KartFreedom
A2: Чемпионат мини марафон "Большие Гонки", 6-й этап
A4: KartFreedom
A6: Обяза-тельные | B6: Пилот | C6: карт | D6: Круг | E6: кругов на отрезке | F6: Статистика по кругам | J6: Общее время гонки | K6: Время на трассе
F7: Лучший круг | G7: Среднее на отрезке | H7: Кругов в 0,1 от лучшего | I7: стабильность | K7: отрезок | L7: всего у пилота | M7: Питы | N7: Штрафы/ бонусы (сек)
A8: 1 | B8: Пикулин Паша | C8: 11 | D8: =COUNTA(C19:C83) -> 30 | E8: =COUNTA(C19:C83) -> 30 | F8: =MIN(C19:C82) -> 41.86 | G8: =AVERAGE(C19:C85) -> 42.154333 | H8: 6 | I8: =G8-F8 -> 0.29433333 | J8: 0.014930556 | K8: =J8 -> 0.014930556 | L8: =K8 -> 0.014930556 | M8: 2:20.16
A9: 2 | B9: Паненко Женя | C9: 21 | D9: =COUNTA(D19:D83)+D8+1 -> 68 | E9: =COUNTA(D19:D83)+1 -> 38 | F9: =MIN(D19:D82) -> 41.73 | G9: =AVERAGE(D19:D84) -> 42.090811 | H9: 1 | I9: =G9-F9 -> 0.36081081 | J9: 0.035092593 | K9: =J9-J8 -> 0.020162037 | L9: =K9 -> 0.020162037 | M9: 2:25.15 | N9: 5 | O9: против 10
A10: 3 | B10: Пикулин Паша | C10: 2 | D10: =COUNTA(E19:E83)+D9+1 -> 90 | E10: =COUNTA(E19:E83)+1 -> 22 | F10: =MIN(E19:E84) -> 41.93 | G10: =AVERAGE(E19:E85) -> 42.147143 | H10: 4 | I10: =G10-F10 -> 0.21714286 | J10: 0.046261574 | K10: =J10-J9 -> 0.011168981 | L10: =K10+L8 -> 0.026099537 | M10: 2:19.35
A11: 4 | B11: Пикулин Паша | C11: 15 | D11: =COUNTA(F19:F83)+D10+1 -> 150 | E11: =COUNTA(F19:F83)+1 -> 60 | F11: =MIN(F19:F84) -> 41.5 | G11: =AVERAGE(F19:F84) -> 41.924915 | H11: 1 | I11: =G11-F11 -> 0.42491525 | J11: 0.076493056 | K11: =J11-J10 -> 0.030231481 | L11: =K11+L10 -> 0.056331019 | M11: 2:20.05
A12: 5 | B12: Паненко Женя | C12: 44 | D12: =COUNTA(G19:G83)+D11+1 -> 190 | E12: =COUNTA(G19:G83)+1 -> 40 | F12: =MIN(G19:G84) -> 42.05 | G12: =AVERAGE(G19:G884) -> 42.337949 | H12: 4 | I12: =G12-F12 -> 0.28794872 | J12: 0.097222222 | K12: =J12-J11 -> 0.020729167 | L12: =K12+L9 -> 0.040891204 | M12: 2:22.13
A13: Финиш | B13: Паненко Женя | C13: 9 | D13: =COUNTA(H19:H83)+D12+1 -> 245 | E13: =COUNTA(H19:H83)+1 -> 55 | F13: =MIN(H19:H84) -> 41.82 | G13: =AVERAGE(H19:H84) -> 42.110926 | H13: 3 | I13: =G13-F13 -> 0.29092593 | J13: ='Общие результаты'!G6 -> 3:00:18 | K13: =J13-J12 -> 0.027986111 | L13: =K13+L12 -> 0.068877315 | N13: 5 | O13: выезд с пита
F14: =AVERAGE(F8,F10,F11) -> 41.763333 | G14: =AVERAGE(G8,G10,G11) -> 42.075464 | H14: Паша | I14: =AVERAGE(I8,I10,I11) -> 0.31213048
F15: =AVERAGE(F9,F12,F13) -> 41.866667 | G15: =AVERAGE(G9,G12,G13) -> 42.179895 | H15: Женя | I15: =AVERAGE(I9,I12,I13) -> 0.31322848
F16: =AVERAGE(F8:F13) -> 41.815 | G16: =AVERAGE(C19:H81) -> 42.107583 | I16: =AVERAGE(I8:I13) -> 0.31267948
C18: =B8 -> Пикулин Паша | D18: =B9 -> Паненко Женя | E18: =B10 -> Пикулин Паша | F18: =B11 -> Пикулин Паша | G18: =B12 -> Паненко Женя | H18: =B13 -> Паненко Женя
B19: 1 | C19: 44.3 | D19: 42.26 | E19: 42.17 | F19: 42.03 | G19: 42.72 | H19: 42.11
B20: 2 | C20: 42.5 | D20: 42.36 | E20: 42.17 | F20: 41.91 | G20: 42.58 | H20: 42.17
B21: 3 | C21: 42.17 | D21: 42.03 | E21: 42.21 | F21: 41.86 | G21: 42.49 | H21: 42.06
B22: 4 | C22: 42.3 | D22: 42.24 | E22: 41.93 | F22: 41.77 | G22: 42.29 | H22: 41.89
B23: 5 | C23: 42.12 | D23: 42.17 | E23: 42.27 | F23: 41.82 | G23: 42.05 | H23: 42.08
B24: 6 | C24: 41.92 | D24: 42.07 | E24: 42.05 | F24: 41.86 | G24: 42.45 | H24: 42.14
B25: 7 | C25: 41.9 | D25: 42.13 | E25: 42.02 | F25: 41.74 | G25: 42.36 | H25: 42.05
B26: 8 | C26: 41.88 | D26: 42.17 | E26: 42.07 | F26: 41.82 | G26: 42.36 | H26: 42.06
B27: 9 | C27: 42.06 | D27: 42.08 | E27: 42.13 | F27: 41.71 | G27: 42.17 | H27: 42.06
B28: 10 | C28: 41.86 | D28: 41.95 | E28: 42.06 | F28: 41.76 | G28: 42.25 | H28: 42.09
B29: 11 | C29: 41.97 | D29: 42.01 | E29: 42.33 | F29: 41.79 | G29: 42.08 | H29: 42.16
B30: 12 | C30: 42.01 | D30: 42.13 | E30: 42.02 | F30: 41.6 | G30: 42.79 | H30: 41.88
... B39: 21 | C39: 42.17 | D39: 41.89 | E39: 42.33 | F39: 41.99 | G39: 42.41 | H39: 42.12
B40: 22 | C40: 42.31 | D40: 41.99 | F40: 41.7 | G40: 42.4 | H40: 41.82
B41: 23 | C41: 42.01 | D41: 42.29 | F41: 41.81 | G41: 42.3 | H41: 42.33
B42: 24 | C42: 42.31 | D42: 42.16 | F42: 41.66 | G42: 42.21 | H42: 42.03
B43: 25 | C43: 42.01 | D43: 42.03 | F43: 41.69 | G43: 42.3 | H43: 41.97
B44: 26 | C44: 42.13 | D44: 41.99 | F44: 41.63 | G44: 42.39 | H44: 42.04
B45: 27 | C45: 42.07 | D45: 41.73 | F45: 42.2 | G45: 42.42 | H45: 42.03
B46: 28 | C46: 41.87 | D46: 42 | F46: 42.02 | G46: 42.21 | H46: 41.99
B47: 29 | C47: 42.14 | D47: 43.01 | F47: 41.98 | G47: 42.21 | H47: 42.13
B48: 30 | C48: 42.35 | D48: 42 | F48: 41.9 | G48: 42.24 | H48: 41.91
B49: 31 | D49: 42.11 | F49: 41.66 | G49: 42.19 | H49: 42.05
B50: 32 | D50: 42 | F50: 41.8 | G50: 42.22 | H50: 42.29
B51: 33 | D51: 41.97 | F51: 41.95 | G51: 42.24 | H51: 42.53
B52: 34 | D52: 41.89 | F52: 41.79 | G52: 42.33 | H52: 42.02
...

Sheet Vpered ta vgoru
A2: Чемпионат мини марафон "Большие Гонки", 6-й этап
A4: Vpered ta vgoru
A6: Обяза-тельные | B6: Пилот | C6: карт | D6: Круг | E6: кругов на отрезке | F6: Статистика по кругам | J6: Общее время гонки | K6: Время на трассе
F7: Лучший круг | G7: Среднее на отрезке | H7: Кругов в 0,1 от лучшего | I7: стабильность | K7: отрезок | L7: всего у пилота | M7: Питы | N7: Штрафы/ бонусы (сек)
A8: 1 | B8: Манило Денис | C8: 44 | D8: =COUNTA(C19:C83) -> 30 | E8: =COUNTA(C19:C83) -> 30 | F8: =MIN(C19:C82) -> 41.82 | G8: =AVERAGE(C19:C85) -> 42.429 | H8: 4 | I8: =G8-F8 -> 0.609 | J8: 0.014803241 | K8: =J8 -> 0.014803241 | L8: =K8 -> 0.014803241 | M8: 2:22.45
A9: 2 | B9: Мифтахутдинов Иьяс | C9: 13 | D9: =COUNTA(D19:D83)+D8+1 -> 91 | E9: =COUNTA(D19:D83)+1 -> 61 | F9: =MIN(D19:D82) -> 41.82 | G9: =AVERAGE(D19:D84) -> 42.148667 | H9: 6 | I9: =G9-F9 -> 0.32866667 | J9: 0.045717593 | K9: =J9-J8 -> 0.030914352 | L9: =K9 -> 0.030914352 | M9: 2:20.71
A10: 3 | B10: Мифтахутдинов Иьяс | C10: 4 | D10: =COUNTA(E19:E83)+D9+1 -> 119 | E10: =COUNTA(E19:E83)+1 -> 28 | F10: =MIN(E19:E84) -> 41.72 | G10: =AVERAGE(E19:E85) -> 42.322963 | H10: 0 | I10: =G10-F10 -> 0.60296296 | J10: 0.060601852 | K10: =J10-J9 -> 0.014884259 | L10: =K10+L9 -> 0.045798611 | M10: 2:19.88
A11: 4 | B11: Манило Денис | C11: 14 | D11: =COUNTA(F19:F83)+D10+1 -> 180 | E11: =COUNTA(F19:F83)+1 -> 61 | F11: =MIN(F19:F84) -> 41.84 | G11: =AVERAGE(F19:F84) -> 42.077167 | H11: 8 | I11: =G11-F11 -> 0.23716667 | J11: 0.091412037 | K11: =J11-J10 -> 0.030810185 | L11: =K11+L8 -> 0.045613426 | M11: 2:19.71
A12: 5 | B12: Мифтахутдинов Иьяс | C12: 1 | D12: =COUNTA(G19:G83)+D11+1 -> 212 | E12: =COUNTA(G19:G83)+1 -> 32 | F12: =MIN(G19:G84) -> 41.8 | G12: =AVERAGE(G19:G884) -> 42.148387 | H12: 2 | I12: =G12-F12 -> 0.3483871 | J12: 0.10813657 | K12: =J12-J11 -> 0.016724537 | L12: =K12+L10 -> 0.062523148 | M12: 2:20.18
A13: Финиш | B13: Манило Денис | C13: 6 | D13: =COUNTA(H19:H83)+D12+1 -> 245 | E13: =COUNTA(H19:H83)+1 -> 33 | F13: =MIN(H19:H84) -> 41.79 | G13: =AVERAGE(H19:H84) -> 42.041563 | H13: 2 | I13: =G13-F13 -> 0.2515625 | J13: ='Общие результаты'!G6 -> 3:00:18 | K13: =J13-J12 -> 0.017071759 | L13: =K13+L11 -> 0.062685185
F14: =AVERAGE(F8,F11,F13) -> 41.816667 | G14: =AVERAGE(G8,G11,G13) -> 42.182576 | H14: Денис | I14: =AVERAGE(I8,I11,I13) -> 0.36590972
F15: =AVERAGE(F9,F10,F12) -> 41.78 | G15: =AVERAGE(G9,G10,G12) -> 42.206672 | H15: Ильяс | I15: =AVERAGE(I9,I10,I12) -> 0.42667224
F16: =AVERAGE(F8:F13) -> 41.798333 | G16: =AVERAGE(C19:H81) -> 42.171125 | I16: =AVERAGE(I8:I13) -> 0.39629098
C18: =B8 -> Манило Денис | D18: =B9 -> Мифтахутдинов Иьяс | E18: =B10 -> Мифтахутдинов Иьяс | F18: =B11 -> Манило Денис | G18: =B12 -> Мифтахутдинов Иьяс | H18: =B13 -> Манило Денис
B19: 1 | C19: 48.71 | D19: 42.11 | E19: 42.13 | F19: 42.27 | G19: 42.41 | H19: 42.28
B20: 2 | C20: 43.54 | D20: 42.29 | E20: 42.07 | F20: 42.19 | G20: 42.06 | H20: 42.14
B21: 3 | C21: 42.6 | D21: 42.07 | E21: 42.37 | F21: 41.9 | G21: 42.25 | H21: 42.45
B22: 4 | C22: 42.08 | D22: 42.41 | E22: 42.05 | F22: 42.06 | G22: 41.89 | H22: 42.1
B23: 5 | C23: 42.78 | D23: 42.37 | E23: 42.07 | F23: 42.03 | G23: 42.53 | H23: 42.42
B24: 6 | C24: 42.56 | D24: 42.08 | E24: 42.36 | F24: 42.08 | G24: 42.2 | H24: 42.04
B25: 7 | C25: 42.38 | D25: 41.94 | E25: 42.64 | F25: 42.05 | G25: 41.9 | H25: 42.17
B26: 8 | C26: 42.4 | D26: 42.63 | E26: 41.86 | F26: 42.3 | G26: 42.2 | H26: 41.94
B27: 9 | C27: 42.42 | D27: 42.41 | E27: 42.29 | F27: 42.13 | G27: 42.44 | H27: 42.47
B28: 10 | C28: 42.23 | D28: 42.21 | E28: 42.19 | F28: 41.99 | G28: 42.1 | H28: 42.08
B29: 11 | C29: 42.65 | D29: 42.03 | E29: 42.03 | F29: 42.11 | G29: 41.97 | H29: 42.18
B30: 12 | C30: 42.09 | D30: 41.82 | E30: 42.08 | F30: 42.26 | G30: 42.24 | H30: 42.09
... B45: 27 | C45: 41.91 | D45: 42.21 | E45: 42.24 | F45: 41.94 | G45: 42.43 | H45: 41.92
B46: 28 | C46: 42.01 | D46: 41.85 | F46: 42.63 | G46: 41.8 | H46: 42.05
B47: 29 | C47: 41.82 | D47: 42.36 | F47: 42.23 | G47: 42.18 | H47: 41.92
B48: 30 | C48: 42.12 | D48: 42.1 | F48: 42.04 | G48: 42.07 | H48: 42.03
B49: 31 | D49: 42.01 | F49: 42.15 | G49: 42.25 | H49: 41.88
B50: 32 | D50: 42.53 | F50: 42.14 | H50: 41.95
B51: 33 | D51: 42.33 | F51: 42.02
B52: 34 | D52: 43.33 | F52: 41.95
B53: 35 | D53: 41.93 | F53: 42
B54: 36 | D54: 42.06 | F54: 41.89
B55: 37 | D55: 42.09 | F55: 42.11
B56: 38 | D56: 42.07 | F56: 42.01
B57: 39 | D57: 42.14 | F57: 42.04
B58: 40 | D58: 42.03 | F58: 42
...

Sheet Hurricane RT
A2: Чемпионат мини марафон "Большие Гонки", 6-й этап
A4: Hurricane RT
A6: Обяза-тельные | B6: Пилот | C6: карт | D6: Круг | E6: кругов на отрезке | F6: Статистика по кругам | J6: Общее время гонки | K6: Время на трассе
F7: Лучший круг | G7: Среднее на отрезке | H7: Кругов в 0,1 от лучшего | I7: стабильность | K7: отрезок | L7: всего у пилота | M7: Питы | N7: Штрафы/ бонусы (сек)
A8: 1 | B8: Стоцкий Андрей | C8: 7 | D8: =COUNTA(C19:C83) -> 35 | E8: =COUNTA(C19:C83) -> 35 | F8: =MIN(C19:C82) -> 41.92 | G8: =AVERAGE(C19:C85) -> 42.250571 | H8: 5 | I8: =G8-F8 -> 0.33057143 | J8: 0.017523148 | K8: =J8 -> 0.017523148 | L8: =K8 -> 0.017523148 | M8: 2:21.19
A9: 2 | B9: Ткаченко Антон | C9: 69 | D9: =COUNTA(D19:D83)+D8+1 -> 56 | E9: =COUNTA(D19:D83)+1 -> 21 | F9: =MIN(D19:D82) -> 42.04 | G9: =AVERAGE(D19:D84) -> 42.5335 | H9: 0 | I9: =G9-F9 -> 0.4935 | J9: 0.02900463 | K9: =J9-J8 -> 0.011481481 | L9: =K9 -> 0.011481481 | M9: 2:20.34
A10: 3 | B10: Ткаченко Антон | C10: 9 | D10: =COUNTA(E19:E83)+D9+1 -> 117 | E10: =COUNTA(E19:E83)+1 -> 61 | F10: =MIN(E19:E84) -> 41.92 | G10: =AVERAGE(E19:E85) -> 42.220833 | H10: 3 | I10: =G10-F10 -> 0.30083333 | J10: 0.059953704 | K10: =J10-J9 -> 0.030949074 | L10: =K10+L9 -> 0.042430556 | M10: 2:20.47
A11: 4 | B11: Стоцкий Андрей | C11: 5 | D11: =COUNTA(F19:F83)+D10+1 -> 138 | E11: =COUNTA(F19:F83)+1 -> 21 | F11: =MIN(F19:F84) -> 42.05 | G11: =AVERAGE(F19:F84) -> 42.297 | H11: 6 | I11: =G11-F11 -> 0.247 | J11: 0.071354167 | K11: =J11-J10 -> 0.011400463 | L11: =K11+L8 -> 0.028923611 | M11: 2:19.81
A12: 5 | B12: Стоцкий Андрей | C12: 21 | D12: =COUNTA(G19:G83)+D11+1 -> 199 | E12: =COUNTA(G19:G83)+1 -> 61 | F12: =MIN(G19:G84) -> 41.84 | G12: =AVERAGE(G19:G884) -> 42.106833 | H12: 5 | I12: =G12-F12 -> 0.26683333 | J12: 0.10219907 | K12: =J12-J11 -> 0.030844907 | L12: =K12+L11 -> 0.059768519 | M12: 2:24.93 | N12: 5 | O12: против 6
A13: Финиш | B13: Ткаченко Антон | C13: 3 | D13: =COUNTA(H19:H83)+D12+1 -> 245 | E13: =COUNTA(H19:H83)+1 -> 46 | F13: =MIN(H19:H84) -> 41.91 | G13: =AVERAGE(H19:H84) -> 42.291556 | H13: 0 | I13: =G13-F13 -> 0.38155556 | J13: ='Общие результаты'!G6 -> 3:00:18 | K13: =J13-J12 -> 0.023009259 | L13: =K13+L10 -> 0.065439815
F14: =AVERAGE(F8,F11,F12) -> 41.936667 | G14: =AVERAGE(G8,G11,G12) -> 42.218135 | H14: Андрей | I14: =AVERAGE(I8,I11,I12) -> 0.28146825
F15: =AVERAGE(F9,F10,F13) -> 41.956667 | G15: =AVERAGE(G9,G10,G13) -> 42.34863 | H15: Антон | I15: =AVERAGE(I9,I10,I13) -> 0.39196296
F16: =AVERAGE(F8:F13) -> 41.946667 | G16: =AVERAGE(C19:H81) -> 42.242333 | I16: =AVERAGE(I8:I13) -> 0.33671561
C18: =B8 -> Стоцкий Андрей | D18: =B9 -> Ткаченко Антон | E18: =B10 -> Ткаченко Антон | F18: =B11 -> Стоцкий Андрей | G18: =B12 -> Стоцкий Андрей | H18: =B13 -> Ткаченко Антон
B19: 1 | C19: 44.25 | D19: 45.59 | E19: 42.32 | F19: 42.22 | G19: 42.28 | H19: 42.44
B20: 2 | C20: 42.63 | D20: 42.48 | E20: 42.27 | F20: 42.69 | G20: 42.17 | H20: 42.41
B21: 3 | C21: 42.27 | D21: 42.56 | E21: 42.12 | F21: 42.61 | G21: 42.5 | H21: 42.31
B22: 4 | C22: 42.29 | D22: 43 | E22: 42.46 | F22: 42.88 | G22: 42.18 | H22: 42.65
B23: 5 | C23: 42.09 | D23: 42.21 | E23: 42.23 | F23: 42.3 | G23: 42.02 | H23: 42.18
B24: 6 | C24: 42.04 | D24: 42.17 | E24: 42.19 | F24: 42.09 | G24: 41.98 | H24: 42.57
B25: 7 | C25: 42.1 | D25: 42.2 | E25: 42.19 | F25: 42.15 | G25: 42.07 | H25: 42.37
B26: 8 | C26: 42.12 | D26: 42.38 | E26: 42.1 | F26: 42.07 | G26: 42.11 | H26: 42.6
B27: 9 | C27: 42.14 | D27: 42.22 | E27: 42.06 | F27: 42.06 | G27: 41.99 | H27: 42.28
B28: 10 | C28: 41.98 | D28: 42.35 | E28: 42.28 | F28: 42.24 | G28: 43.52 | H28: 42.24
B29: 11 | C29: 42.21 | D29: 43.09 | E29: 42.24 | F29: 42.15 | G29: 42.08 | H29: 42.17
B30: 12 | C30: 42.15 | D30: 42.31 | E30: 42.21 | F30: 42.22 | G30: 41.94 | H30: 42.27
... B38: 20 | C38: 42.02 | D38: 42.48 | E38: 42.02 | F38: 42.51 | G38: 42.14 | H38: 42.23
B39: 21 | C39: 42.34 | E39: 42.32 | G39: 42.22 | H39: 42.18
B40: 22 | C40: 42.07 | E40: 42.2 | G40: 42.01 | H40: 42.15
B41: 23 | C41: 42.08 | E41: 42.23 | G41: 42.14 | H41: 41.91
B42: 24 | C42: 42.02 | E42: 42.19 | G42: 42.36 | H42: 42.09
B43: 25 | C43: 41.92 | E43: 42.31 | G43: 42.12 | H43: 42.36
B44: 26 | C44: 41.98 | E44: 42.42 | G44: 42.18 | H44: 42.14
B45: 27 | C45: 42.15 | E45: 42.28 | G45: 42.13 | H45: 42.22
B46: 28 | C46: 42.07 | E46: 42.3 | G46: 41.92 | H46: 42.08
B47: 29 | C47: 42.03 | E47: 42.29 | G47: 41.95 | H47: 42.19
B48: 30 | C48: 42.1 | E48: 42.33 | G48: 41.94 | H48: 42.12
B49: 31 | C49: 42.21 | E49: 42.28 | G49: 41.94 | H49: 42.12
B50: 32 | C50: 42.16 | E50: 42.32 | G50: 42.09 | H50: 42.09
... B53: 35 | C53: 42.5 | E53: 42.26 | G53: 42.05 | H53: 42.32
...

Sheet Battle Master
A2: Чемпионат мини марафон "Большие Гонки", 6-й этап
A4: Battle Master
A6: Обяза-тельные | B6: Пилот | C6: карт | D6: Круг | E6: кругов на отрезке | F6: Статистика по кругам | J6: Общее время гонки | K6: Время на трассе
F7: Лучший круг | G7: Среднее на отрезке | H7: Кругов в 0,1 от лучшего | I7: стабильность | K7: отрезок | L7: всего у пилота | M7: Питы | N7: Штрафы/ бонусы (сек)
A8: 1 | B8: Терещенко Андрей | C8: 14 | D8: =COUNTA(C19:C83) -> 37 | E8: =COUNTA(C19:C83) -> 37 | F8: =MIN(C19:C82) -> 41.98 | G8: =AVERAGE(C19:C85) -> 42.460541 | H8: 11 | I8: =G8-F8 -> 0.48054054 | J8: 0.018252315 | K8: =J8 -> 0.018252315 | L8: =K8 -> 0.018252315 | M8: 2:03.41 | N8: -18 | O8: бонус за вес
A9: 2 | B9: Голубченко Саша | C9: 2 | D9: =COUNTA(D19:D83)+D8+1 -> 59 | E9: =COUNTA(D19:D83)+1 -> 22 | F9: =MIN(D19:D82) -> 42.23 | G9: =AVERAGE(D19:D84) -> 42.504286 | H9: 8 | I9: =G9-F9 -> 0.27428571 | J9: 0.033599537 | K9: =J9-J8 -> 0.015347222 | L9: =K9 -> 0.015347222 | M9: 2:19.94
A10: 3 | B10: Терещенко Андрей | C10: 3 | D10: =COUNTA(E19:E853)+D9+1 -> 127 | E10: =COUNTA(E19:E85)+1 -> 68 | F10: =MIN(E19:E85) -> 42 | G10: =AVERAGE(E19:E85) -> 42.332388 | H10: 11 | I10: =G10-F10 -> 0.33238806 | J10: 0.064467593 | K10: =J10-J9 -> 0.030868056 | L10: =K10+L8 -> 0.04912037 | M10: 2:20.31
A11: 4 | B11: Голубченко Саша | C11: 1 | D11: =COUNTA(F19:F83)+D10+1 -> 165 | E11: =COUNTA(F19:F83)+1 -> 38 | F11: =MIN(F19:F84) -> 42.4 | G11: =AVERAGE(F19:F84) -> 42.715135 | H11: 6 | I11: =G11-F11 -> 0.31513514 | J11: 0.084398148 | K11: =J11-J10 -> 0.019930556 | L11: =K11+L9 -> 0.035277778 | M11: 2:20.30
A12: 5 | B12: Голубченко Саша | C12: 15 | D12: =COUNTA(G19:G83)+D11+1 -> 220 | E12: =COUNTA(G19:G83)+1 -> 55 | F12: =MIN(G19:G84) -> 41.87 | G12: =AVERAGE(G19:G884) -> 42.305926 | H12: 5 | I12: =G12-F12 -> 0.43592593 | J12: 0.11246528 | K12: =J12-J11 -> 0.02806713 | L12: =K12+L11 -> 0.063344907 | M12: 2:30.39 | N12: 5 | O12: линия
A13: Финиш | B13: Терещенко Андрей | C13: 69 | D13: =COUNTA(H19:H83)+D12+1 -> 244 | E13: =COUNTA(H19:H83)+1 -> 24 | F13: =MIN(H19:H84) -> 42.01 | G13: =AVERAGE(H19:H84) -> 42.233913 | H13: 4 | I13: =G13-F13 -> 0.22391304 | J13: ='Общие результаты'!G6 -> 3:00:18 | K13: =J13-J12 -> 0.012743056 | L13: =K13+L10 -> 0.061863426 | N13: -5-9 | O13: бонус за вес и передержали на пите
F14: =AVERAGE(F8,F10,F13) -> 41.996667 | G14: =AVERAGE(G8,G10,G13) -> 42.342281 | H14: Андрей | I14: =AVERAGE(I8,I10,I13) -> 0.34561388
F15: =AVERAGE(F9,F11,F12) -> 42.166667 | G15: =AVERAGE(G9,G11,G12) -> 42.508449 | H15: Саша | I15: =AVERAGE(I9,I11,I12) -> 0.34178226
F16: =AVERAGE(F8:F13) -> 42.081667 | G16: =AVERAGE(C19:H85) -> 42.41113 | I16: =AVERAGE(I8:I13) -> 0.34369807
C18: =B8 -> Терещенко Андрей | D18: =B9 -> Голубченко Саша | E18: =B10 -> Терещенко Андрей | F18: =B11 -> Голубченко Саша | G18: =B12 -> Голубченко Саша | H18: =B13 -> Терещенко Андрей
B19: 1 | C19: 46.03 | D19: 42.69 | E19: 43.05 | F19: 42.45 | G19: 42.72 | H19: 42.34
B20: 2 | C20: 43.82 | D20: 42.95 | E20: 42.28 | F20: 42.89 | G20: 42.69 | H20: 42.19
B21: 3 | C21: 42.67 | D21: 42.66 | E21: 42.52 | F21: 42.9 | G21: 42.33 | H21: 42.17
B22: 4 | C22: 42.05 | D22: 43.32 | E22: 44.66 | F22: 42.63 | G22: 42.87 | H22: 42.56
B23: 5 | C23: 42.7 | D23: 42.49 | E23: 42.33 | F23: 42.79 | G23: 42.55 | H23: 42.16
B24: 6 | C24: 42.43 | D24: 42.69 | E24: 42.33 | F24: 42.68 | G24: 42.48 | H24: 42.22
B25: 7 | C25: 43.92 | D25: 42.56 | E25: 42.37 | F25: 42.57 | G25: 42.43 | H25: 42.1
B26: 8 | C26: 42.56 | D26: 42.59 | E26: 42.33 | F26: 43.22 | G26: 42.46 | H26: 42.39
B27: 9 | C27: 42.2 | D27: 42.56 | E27: 42.47 | F27: 42.48 | G27: 42.33 | H27: 42.01
B28: 10 | C28: 42.12 | D28: 42.23 | E28: 42.36 | F28: 42.75 | G28: 42.69 | H28: 42.08
B29: 11 | C29: 42.12 | D29: 42.51 | E29: 42.23 | F29: 43.09 | G29: 42.63 | H29: 42.22
B30: 12 | C30: 42.49 | D30: 42.26 | E30: 42.27 | F30: 42.93 | G30: 42.64 | H30: 42.19
... B39: 21 | C39: 42 | D39: 42.68 | E39: 42.27 | F39: 42.6 | G39: 42.46 | H39: 42.28
B40: 22 | C40: 42.49 | E40: 42.34 | F40: 42.5 | G40: 42.32 | H40: 42.36
B41: 23 | C41: 42.1 | E41: 42.33 | F41: 42.4 | G41: 42.3 | H41: 42.11
B42: 24 | C42: 41.98 | E42: 42.36 | F42: 42.85 | G42: 42.57
B43: 25 | C43: 42.25 | E43: 42.27 | F43: 42.72 | G43: 42.11
B44: 26 | C44: 42.35 | E44: 42.4 | F44: 42.81 | G44: 42.22
B45: 27 | C45: 42 | E45: 42.16 | F45: 42.61 | G45: 42.3
B46: 28 | C46: 42.01 | E46: 42.15 | F46: 42.53 | G46: 42.37
B47: 29 | C47: 42.24 | E47: 42.32 | F47: 42.45 | G47: 42.38
B48: 30 | C48: 42.02 | E48: 42.4 | F48: 42.63 | G48: 41.95
B49: 31 | C49: 42.06 | E49: 42.33 | F49: 42.69 | G49: 42.14
B50: 32 | C50: 42.04 | E50: 42.17 | F50: 42.9 | G50: 42.1
B51: 33 | C51: 41.98 | E51: 42.19 | F51: 42.52 | G51: 42.12
B52: 34 | C52: 42.42 | E52: 42.16 | F52: 43.03 | G52: 41.9
...

Sheet EK motorsport
A2: Чемпионат мини марафон "Большие Гонки", 6-й этап
A4: EK motorsport
A6: Обяза-тельные | B6: Пилот | C6: карт | D6: Круг | E6: кругов на отрезке | F6: Статистика по кругам | J6: Общее время гонки | K6: Время на трассе
F7: Лучший круг | G7: Среднее на отрезке | H7: Кругов в 0,1 от лучшего | I7: стабильность | K7: отрезок | L7: всего у пилота | M7: Питы | N7: Штрафы/ бонусы (сек)
A8: 1 | B8: Коруз Вадим | C8: 4 | D8: =COUNTA(C19:C83) -> 33 | E8: =COUNTA(C19:C83) -> 33 | F8: =MIN(C19:C82) -> 42.18 | G8: =AVERAGE(C19:C85) -> 42.610909 | H8: 6 | I8: =G8-F8 -> 0.43090909 | J8: 0.016678241 | K8: =J8 -> 0.016678241 | L8: =K8 -> 0.016678241 | M8: 2:12.17
A9: 2 | B9: Шиленко Саша | C9: 1 | D9: =COUNTA(D19:D83)+D8+1 -> 70 | E9: =COUNTA(D19:D83)+1 -> 37 | F9: =MIN(D19:D82) -> 42.2 | G9: =AVERAGE(D19:D84) -> 42.518611 | H9: 7 | I9: =G9-F9 -> 0.31861111 | J9: 0.03662037 | K9: =J9-J8 -> 0.01994213 | L9: =K9 -> 0.01994213 | M9: 2:20.84
A10: 3 | B10: Коруз Вадим | C10: 11 | D10: =COUNTA(E19:E83)+D9+1 -> 110 | E10: =COUNTA(E19:E83)+1 -> 40 | F10: =MIN(E19:E84) -> 42.14 | G10: =AVERAGE(E19:E85) -> 42.435385 | H10: 6 | I10: =G10-F10 -> 0.29538462 | J10: 0.056388889 | K10: =J10-J9 -> 0.019768519 | L10: =K10+L8 -> 0.036446759 | M10: 2:20.55
A11: 4 | B11: Шиленко Саша | C11: 2 | D11: =COUNTA(F19:F83)+D10+1 -> 164 | E11: =COUNTA(F19:F83)+1 -> 54 | F11: =MIN(F19:F84) -> 42.06 | G11: =AVERAGE(F19:F84) -> 42.399623 | H11: 4 | I11: =G11-F11 -> 0.33962264 | J11: 0.084027778 | K11: =J11-J10 -> 0.027638889 | L11: =K11+L9 -> 0.047581019 | M11: 2:20.90
A12: 5 | B12: Коруз Вадим | C12: 6 | D12: =COUNTA(G19:G83)+D11+1 -> 210 | E12: =COUNTA(G19:G83)+1 -> 46 | F12: =MIN(G19:G84) -> 41.88 | G12: =AVERAGE(G19:G884) -> 42.306 | H12: 3 | I12: =G12-F12 -> 0.426 | J12: 0.10768519 | K12: =J12-J11 -> 0.023657407 | L12: =K12+L10 -> 0.060104167 | M12: 2:19.27
A13: Финиш | B13: Шиленко Саша | C13: 4 | D13: =COUNTA(H19:H83)+D12+1 -> 244 | E13: =COUNTA(H19:H83)+1 -> 34 | F13: =MIN(H19:H84) -> 41.97 | G13: =AVERAGE(H19:H84) -> 42.296667 | H13: 1 | I13: =G13-F13 -> 0.32666667 | J13: ='Общие результаты'!G6 -> 3:00:18 | K13: =J13-J12 -> 0.017523148 | L13: =K13+L11 -> 0.065104167
F14: =AVERAGE(F8,F10,F12) -> 42.066667 | G14: =AVERAGE(G8,G10,G12) -> 42.450765 | H14: Вадим | I14: =AVERAGE(I8,I10,I12) -> 0.3840979
F15: =AVERAGE(F9,F11,F13) -> 42.076667 | G15: =AVERAGE(G9,G11,G13) -> 42.404967 | H15: Саша | I15: =AVERAGE(I9,I11,I13) -> 0.32830014
F16: =AVERAGE(F8:F13) -> 42.071667 | G16: =AVERAGE(C19:H81) -> 42.420711 | I16: =AVERAGE(I8:I13) -> 0.35619902
C18: =B8 -> Коруз Вадим | D18: =B9 -> Шиленко Саша | E18: =B10 -> Коруз Вадим | F18: =B11 -> Шиленко Саша | G18: =B12 -> Коруз Вадим | H18: =B13 -> Шиленко Саша
B19: 1 | C19: 45.63 | D19: 42.8 | E19: 42.41 | F19: 42.64 | G19: 42.58 | H19: 42.3
B20: 2 | C20: 42.86 | D20: 43.27 | E20: 42.6 | F20: 42.28 | G20: 42.4 | H20: 42.14
B21: 3 | C21: 42.46 | D21: 42.49 | E21: 43.23 | F21: 42.41 | G21: 43.09 | H21: 42.27
B22: 4 | C22: 42.36 | D22: 42.96 | E22: 42.42 | F22: 42.29 | G22: 42.75 | H22: 42.22
B23: 5 | C23: 42.19 | D23: 42.34 | E23: 42.45 | F23: 42.24 | G23: 42.89 | H23: 42.41
B24: 6 | C24: 42.22 | D24: 42.54 | E24: 42.57 | F24: 43.72 | G24: 42.26 | H24: 43.17
B25: 7 | C25: 42.56 | D25: 42.39 | E25: 42.59 | F25: 42.74 | G25: 42.2 | H25: 42.34
B26: 8 | C26: 42.28 | D26: 42.42 | E26: 42.2 | F26: 42.33 | G26: 42.74 | H26: 42.66
B27: 9 | C27: 42.32 | D27: 42.33 | E27: 42.55 | F27: 42.59 | G27: 42.32 | H27: 42.13
B28: 10 | C28: 42.33 | D28: 42.27 | E28: 42.3 | F28: 42.17 | G28: 42.33 | H28: 42.26
B29: 11 | C29: 42.21 | D29: 42.29 | E29: 43.66 | F29: 42.41 | G29: 42.3 | H29: 42.21
B30: 12 | C30: 42.37 | D30: 42.29 | E30: 42.55 | F30: 42.3 | G30: 42.38 | H30: 42.17
... B51: 33 | C51: 42.55 | D51: 42.22 | E51: 42.27 | F51: 42.34 | G51: 42.1 | H51: 42.21
B52: 34 | D52: 42.51 | E52: 42.31 | F52: 42.18 | G52: 41.88
B53: 35 | D53: 42.38 | E53: 42.14 | F53: 42.53 | G53: 42.03
B54: 36 | D54: 42.9 | E54: 42.45 | F54: 42.13 | G54: 41.98
B55: 37 | E55: 42.28 | F55: 42.24 | G55: 42.19
B56: 38 | E56: 42.4 | F56: 42.22 | G56: 42.36
B57: 39 | E57: 42.47 | F57: 42.26 | G57: 42.32
B58: 40 | F58: 42.52 | G58: 42.27
B59: 41 | F59: 42.47 | G59: 42.3
B60: 42 | F60: 42.65 | G60: 42.27
B61: 43 | F61: 42.11 | G61: 42.16
B62: 44 | F62: 42.06 | G62: 42.29
B63: 45 | F63: 42.28 | G63: 42.8
B64: 46 | F64: 42.53
...

Sheet ASS RT
A2: Чемпионат мини марафон "Большие Гонки", 6-й этап
A4: ASS RT
A6: Обяза-тельные | B6: Пилот | C6: карт | D6: Круг | E6: кругов на отрезке | F6: Статистика по кругам | J6: Общее время гонки | K6: Время на трассе
F7: Лучший круг | G7: Среднее на отрезке | H7: Кругов в 0,1 от лучшего | I7: стабильность | K7: отрезок | L7: всего у пилота | M7: Питы | N7: Штрафы/ бонусы (сек)
A8: 1 | B8: Ткаченко Кирилл | C8: 9 | D8: =COUNTA(C19:C83) -> 36 | E8: =COUNTA(C19:C83) -> 36 | F8: =MIN(C19:C82) -> 41.76 | G8: =AVERAGE(C19:C85) -> 42.196944 | H8: 1 | I8: =G8-F8 -> 0.43694444 | J8: 0.017662037 | K8: =J8 -> 0.017662037 | L8: =K8 -> 0.017662037 | M8: 2:37.62
A9: 2 | B9: Якусик Дима | C9: 6 | D9: =COUNTA(D19:D83)+D8+1 -> 84 | E9: =COUNTA(D19:D83)+1 -> 48 | F9: =MIN(D19:D82) -> 42.01 | G9: =AVERAGE(D19:D84) -> 42.386809 | H9: 3 | I9: =G9-F9 -> 0.37680851 | J9: 0.04119213 | K9: =J9-J8 -> 0.023530093 | L9: =K9 -> 0.023530093 | M9: 2:25.89 | N9: 5 | O9: линия
A10: 3 | B10: Ткаченко Кирилл | C10: 21 | D10: =COUNTA(E19:E83)+D9+1 -> 127 | E10: =COUNTA(E19:E83)+1 -> 43 | F10: =MIN(E19:E84) -> 41.78 | G10: =AVERAGE(E19:E85) -> 42.064762 | H10: 6 | I10: =G10-F10 -> 0.2847619 | J10: 0.063275463 | K10: =J10-J9 -> 0.022083333 | L10: =K10+L8 -> 0.03974537 | M10: 2:21.01
A11: 4 | B11: Якусик Дима | C11: 69 | D11: =COUNTA(F19:F83)+D10+1 -> 165 | E11: =COUNTA(F19:F83)+1 -> 38 | F11: =MIN(F19:F84) -> 42.11 | G11: =AVERAGE(F19:F84) -> 42.436216 | H11: 6 | I11: =G11-F11 -> 0.32621622 | J11: 0.083090278 | K11: =J11-J10 -> 0.019814815 | L11: =K11+L9 -> 0.043344907 | M11: 2:22.38
A12: 5 | B12: Ткаченко Кирилл | C12: 7 | D12: =COUNTA(G19:G83)+D11+1 -> 199 | E12: =COUNTA(G19:G83)+1 -> 34 | F12: =MIN(G19:G84) -> 41.9 | G12: =AVERAGE(G19:G884) -> 42.187879 | H12: 2 | I12: =G12-F12 -> 0.28787879 | J12: 0.10084491 | K12: =J12-J11 -> 0.01775463 | L12: =K12+L10 -> 0.0575 | M12: 2:20.49
A13: Финиш | B13: Якусик Дима | C13: 13 | D13: =COUNTA(H19:H83)+D12+1 -> 244 | E13: =COUNTA(H19:H83)+1 -> 45 | F13: =MIN(H19:H84) -> 42.13 | G13: =AVERAGE(H19:H84) -> 42.486364 | H13: 5 | I13: =G13-F13 -> 0.35636364 | J13: ='Общие результаты'!G6 -> 3:00:18 | K13: =J13-J12 -> 0.024363426 | L13: =K13+L11 -> 0.067708333 | N13: 5 | O13: против 6
F14: =AVERAGE(F8,F10,F12) -> 41.813333 | G14: =AVERAGE(G8,G10,G12) -> 42.149862 | H14: Кирилл | I14: =AVERAGE(I8,I10,I12) -> 0.33652838
F15: =AVERAGE(F9,F11,F13) -> 42.083333 | G15: =AVERAGE(G9,G11,G13) -> 42.436463 | H15: Дима | I15: =AVERAGE(I9,I11,I13) -> 0.35312945
F16: =AVERAGE(F8:F13) -> 41.948333 | G16: =AVERAGE(C19:H81) -> 42.300126 | I16: =AVERAGE(I8:I13) -> 0.34482892
C18: =B8 -> Ткаченко Кирилл | D18: =B9 -> Якусик Дима | E18: =B10 -> Ткаченко Кирилл | F18: =B11 -> Якусик Дима | G18: =B12 -> Ткаченко Кирилл | H18: =B13 -> Якусик Дима
B19: 1 | C19: 45.82 | D19: 42.7 | E19: 42.38 | F19: 42.39 | G19: 42.38 | H19: 43.1
B20: 2 | C20: 42.92 | D20: 42.53 | E20: 41.85 | F20: 42.5 | G20: 42.37 | H20: 43.86
B21: 3 | C21: 42.32 | D21: 42.66 | E21: 42.09 | F21: 42.45 | G21: 42.25 | H21: 42.78
B22: 4 | C22: 42.04 | D22: 42.21 | E22: 42.13 | F22: 42.49 | G22: 42.19 | H22: 42.45
B23: 5 | C23: 42.17 | D23: 42.44 | E23: 42.35 | F23: 42.34 | G23: 42.04 | H23: 42.31
B24: 6 | C24: 42.47 | D24: 42.52 | E24: 42.23 | F24: 42.35 | G24: 42.19 | H24: 42.45
B25: 7 | C25: 42.42 | D25: 42.19 | E25: 42.31 | F25: 42.3 | G25: 42.22 | H25: 42.47
B26: 8 | C26: 41.98 | D26: 42.19 | E26: 42.08 | F26: 42.45 | G26: 42.3 | H26: 42.29
B27: 9 | C27: 42.02 | D27: 42.38 | E27: 41.95 | F27: 42.4 | G27: 42.74 | H27: 42.29
B28: 10 | C28: 41.76 | D28: 43.16 | E28: 42 | F28: 42.37 | G28: 42.29 | H28: 42.29
B29: 11 | C29: 41.97 | D29: 42.3 | E29: 41.94 | F29: 42.18 | G29: 42.48 | H29: 42.58
B30: 12 | C30: 41.99 | D30: 42.22 | E30: 41.99 | F30: 42.39 | G30: 42.13 | H30: 42.35
... B51: 33 | C51: 42.04 | D51: 43.15 | E51: 42 | F51: 42.47 | G51: 42.14 | H51: 42.38
B52: 34 | C52: 41.95 | D52: 42.17 | E52: 42.16 | F52: 42.19 | H52: 42.28
B53: 35 | C53: 42.25 | D53: 42.34 | E53: 41.91 | F53: 42.15 | H53: 42.43
B54: 36 | C54: 42.25 | D54: 42.45 | E54: 41.81 | F54: 42.32 | H54: 42.39
B55: 37 | D55: 43.27 | E55: 41.89 | F55: 42.79 | H55: 42.28
B56: 38 | D56: 42.33 | E56: 42.6 | H56: 42.38
B57: 39 | D57: 42.69 | E57: 42.35 | H57: 42.53
B58: 40 | D58: 42.88 | E58: 41.97 | H58: 42.44
B59: 41 | D59: 42.41 | E59: 41.96 | H59: 42.81
B60: 42 | D60: 42.17 | E60: 42.32 | H60: 42.32
B61: 43 | D61: 42.29 | H61: 42.49
B62: 44 | D62: 42.09 | H62: 42.57
B63: 45 | D63: 42.21
B64: 46 | D64: 42.35
...

Sheet Fortuna RT
A2: Чемпионат мини марафон "Большие Гонки", 6-й этап
A4: Fortuna RT
A6: Обяза-тельные | B6: Пилот | C6: карт | D6: Круг | E6: кругов на отрезке | F6: Статистика по кругам | J6: Общее время гонки | K6: Время на трассе
F7: Лучший круг | G7: Среднее на отрезке | H7: Кругов в 0,1 от лучшего | I7: стабильность | K7: отрезок | L7: всего у пилота | M7: Питы | N7: Штрафы/ бонусы (сек)
A8: 1 | B8: Шутка Виталий | C8: 16 | D8: =COUNTA(C19:C83) -> 29 | E8: =COUNTA(C19:C83) -> 29 | F8: =MIN(C19:C82) -> 42 | G8: =AVERAGE(C19:C85) -> 42.559655 | H8: 1 | I8: =G8-F8 -> 0.55965517 | J8: 0.014409722 | K8: =J8 -> 0.014409722 | L8: =K8 -> 0.014409722 | M8: 2:22.07
A9: 2 | B9: Шутка Виталий | C9: 12 | D9: =COUNTA(D19:D83)+D8+1 -> 84 | E9: =COUNTA(D19:D83)+1 -> 55 | F9: =MIN(D19:D82) -> 41.88 | G9: =AVERAGE(D19:D84) -> 42.302778 | H9: 1 | I9: =G9-F9 -> 0.42277778 | J9: 0.042453704 | K9: =J9-J8 -> 0.028043981 | L9: =K9+L8 -> 0.042453704 | M9: 2:22.53
A10: 3 | B10: Фортуна Таня | C10: 8 | D10: =COUNTA(E19:E83)+D9+1 -> 121 | E10: =COUNTA(E19:E83)+1 -> 37 | F10: =MIN(E19:E84) -> 42.04 | G10: =AVERAGE(E19:E85) -> 42.424722 | H10: 0 | I10: =G10-F10 -> 0.38472222 | J10: 0.061770833 | K10: =J10-J9 -> 0.01931713 | L10: =K10 -> 0.01931713 | M10: 2:28.28 | N10: 5 | O10: выезд с пита
A11: 4 | B11: Фортуна Таня | C11: 9 | D11: =COUNTA(F19:F83)+D10+1 -> 179 | E11: =COUNTA(F19:F83)+1 -> 58 | F11: =MIN(F19:F84) -> 42 | G11: =AVERAGE(F19:F84) -> 42.432281 | H11: 0 | I11: =G11-F11 -> 0.4322807 | J11: 0.091481481 | K11: =J11-J10 -> 0.029710648 | L11: =K11+L10 -> 0.049027778 | M11: 2:21.15
A12: 5 | B12: Шутка Виталий | C12: 69 | D12: =COUNTA(G19:G83)+D11+1 -> 210 | E12: =COUNTA(G19:G83)+1 -> 31 | F12: =MIN(G19:G84) -> 42.03 | G12: =AVERAGE(G19:G884) -> 42.333667 | H12: 6 | I12: =G12-F12 -> 0.30366667 | J12: 0.1078125 | K12: =J12-J11 -> 0.016331019 | L12: =K12+L9 -> 0.058784722 | M12: 2:20.54
A13: Финиш | B13: Фортуна Таня | C13: 21 | D13: =COUNTA(H19:H83)+D12+1 -> 244 | E13: =COUNTA(H19:H83)+1 -> 34 | F13: =MIN(H19:H84) -> 42.05 | G13: =AVERAGE(H19:H84) -> 42.263636 | H13: 5 | I13: =G13-F13 -> 0.21363636 | J13: ='Общие результаты'!G6 -> 3:00:18 | K13: =J13-J12 -> 0.017395833 | L13: =K13+L11 -> 0.066423611
F14: =AVERAGE(F8,F9,F12) -> 41.97 | G14: =AVERAGE(G8,G9,G12) -> 42.3987 | H14: Виталий | I14: =AVERAGE(I8,I9,I12) -> 0.42869987
F15: =AVERAGE(F10,F11,F13) -> 42.03 | G15: =AVERAGE(G10,G11,G13) -> 42.373546 | H15: Таня | I15: =AVERAGE(I10,I11,I13) -> 0.34354643
F16: =AVERAGE(F8:F13) -> 42 | G16: =AVERAGE(C19:H81) -> 42.381674 | I16: =AVERAGE(I8:I13) -> 0.38612315
C18: =B8 -> Шутка Виталий | D18: =B9 -> Шутка Виталий | E18: =B10 -> Фортуна Таня | F18: =B11 -> Фортуна Таня | G18: =B12 -> Шутка Виталий | H18: =B13 -> Фортуна Таня
B19: 1 | C19: 44.64 | D19: 42.59 | E19: 42.55 | F19: 42.56 | G19: 42.56 | H19: 42.24
B20: 2 | C20: 42.81 | D20: 42.31 | E20: 42.6 | F20: 42.67 | G20: 42.3 | H20: 42.05
B21: 3 | C21: 42.87 | D21: 42.28 | E21: 42.58 | F21: 42.4 | G21: 42.38 | H21: 42.1
B22: 4 | C22: 42.6 | D22: 42.25 | E22: 42.48 | F22: 42.12 | G22: 42.38 | H22: 42.07
B23: 5 | C23: 42.5 | D23: 42.29 | E23: 42.53 | F23: 42.29 | G23: 42.11 | H23: 42.24
B24: 6 | C24: 42.49 | D24: 42.07 | E24: 42.4 | F24: 42.33 | G24: 43.25 | H24: 42.23
B25: 7 | C25: 43.04 | D25: 42.14 | E25: 42.41 | F25: 42.39 | G25: 42.51 | H25: 42.31
B26: 8 | C26: 42.2 | D26: 41.9 | E26: 42.64 | F26: 42.29 | G26: 42.33 | H26: 42.15
B27: 9 | C27: 42.37 | D27: 42.65 | E27: 42.57 | F27: 42.58 | G27: 42.16 | H27: 42.13
B28: 10 | C28: 42.43 | D28: 42.12 | E28: 42.47 | F28: 42.24 | G28: 42.46 | H28: 42.16
B29: 11 | C29: 42.77 | D29: 42.33 | E29: 42.32 | F29: 42.29 | G29: 42.2 | H29: 42.21
B30: 12 | C30: 42.45 | D30: 42.11 | E30: 42.5 | F30: 42.37 | G30: 42.11 | H30: 42.3
... B47: 29 | C47: 42.47 | D47: 42.21 | E47: 42.44 | F47: 42.52 | G47: 42.19 | H47: 43.23
B48: 30 | D48: 42.14 | E48: 42.22 | F48: 42.56 | G48: 42.77 | H48: 42.2
B49: 31 | D49: 42.34 | E49: 42.04 | F49: 42.39 | H49: 42.32
B50: 32 | D50: 43 | E50: 42.43 | F50: 42.32 | H50: 42.24
B51: 33 | D51: 43.34 | E51: 42.2 | F51: 42.17 | H51: 42.26
B52: 34 | D52: 42.06 | E52: 43.01 | F52: 42.27
B53: 35 | D53: 42.44 | E53: 42.47 | F53: 42
B54: 36 | D54: 42.92 | E54: 42.61 | F54: 42.5
B55: 37 | D55: 42.35 | F55: 42.46
B56: 38 | D56: 42.15 | F56: 42.37
B57: 39 | D57: 42.22 | F57: 42.49
B58: 40 | D58: 42.37 | F58: 42.19
B59: 41 | D59: 42.29 | F59: 42.39
B60: 42 | D60: 42.37 | F60: 43.49
...

Sheet Kozaks
A2: Чемпионат мини марафон "Большие Гонки", 6-й этап
A4: Kozaks
A6: Обяза-тельные | B6: Пилот | C6: карт | D6: Круг | E6: кругов на отрезке | F6: Статистика по кругам | J6: Общее время гонки | K6: Время на трассе
F7: Лучший круг | G7: Среднее на отрезке | H7: Кругов в 0,1 от лучшего | I7: стабильность | K7: отрезок | L7: всего у пилота | M7: Питы | N7: Штрафы/ бонусы (сек)
A8: 1 | B8: Лысенский Денис | C8: 13 | D8: =COUNTA(C19:C83) -> 29 | E8: =COUNTA(C19:C83) -> 29 | F8: =MIN(C19:C82) -> 41.96 | G8: =AVERAGE(C19:C85) -> 42.471379 | H8: 3 | I8: =G8-F8 -> 0.51137931 | J8: 0.014375 | K8: =J8 -> 0.014375 | L8: =K8 -> 0.014375 | M8: 2:22.00
A9: 2 | B9: Соколан Артем | D9: =COUNTA(D19:D83)+D8+1 -> 48 | E9: =COUNTA(D19:D83)+1 -> 19 | F9: =MIN(D19:D82) -> 42.38 | G9: =AVERAGE(D19:D84) -> 42.784444 | H9: 2 | I9: =G9-F9 -> 0.40444444 | J9: 0.024907407 | K9: =J9-J8 -> 0.010532407 | L9: =K9 -> 0.010532407 | M9: 2:20.36
A10: 3 | B10: Лысенский Денис | C10: 5 | D10: =COUNTA(E19:E83)+D9+1 -> 109 | E10: =COUNTA(E19:E83)+1 -> 61 | F10: =MIN(E19:E84) -> 41.91 | G10: =AVERAGE(E19:E85) -> 42.3415 | H10: 1 | I10: =G10-F10 -> 0.4315 | J10: 0.055925926 | K10: =J10-J9 -> 0.031018519 | L10: =K10+L8 -> 0.045393519 | M10: 2:21.15
A11: 4 | B11: Соколан Артем | C11: 10 | D11: =COUNTA(F19:F83)+D10+1 -> 164 | E11: =COUNTA(F19:F83)+1 -> 55 | F11: =MIN(F19:F84) -> 41.98 | G11: =AVERAGE(F19:F84) -> 42.588148 | H11: 0 | I11: =G11-F11 -> 0.60814815 | J11: 0.084178241 | K11: =J11-J10 -> 0.028252315 | L11: =K11+L9 -> 0.038784722 | M11: 2:20.46
A12: 5 | B12: Лысенский Денис | C12: 12 | D12: =COUNTA(G19:G83)+D11+1 -> 209 | E12: =COUNTA(G19:G83)+1 -> 45 | F12: =MIN(G19:G84) -> 41.93 | G12: =AVERAGE(G19:G884) -> 42.233636 | H12: 2 | I12: =G12-F12 -> 0.30363636 | J12: 0.10731481 | K12: =J12-J11 -> 0.023136574 | L12: =K12+L10 -> 0.068530093 | M12: 2:21.25
A13: Финиш | B13: Соколан Артем | C13: 44 | D13: =COUNTA(H19:H83)+D12+1 -> 244 | E13: =COUNTA(H19:H83)+1 -> 35 | F13: =MIN(H19:H84) -> 41.94 | G13: =AVERAGE(H19:H84) -> 42.418235 | H13: 0 | I13: =G13-F13 -> 0.47823529 | J13: ='Общие результаты'!G6 -> 3:00:18 | K13: =J13-J12 -> 0.017893519 | L13: =K13+L11 -> 0.056678241
F14: =AVERAGE(F8,F10,F12) -> 41.933333 | G14: =AVERAGE(G8,G10,G12) -> 42.348839 | H14: Денис | I14: =AVERAGE(I8,I10,I12) -> 0.41550522
F15: =AVERAGE(F9,F11,F13) -> 42.1 | G15: =AVERAGE(G9,G11,G13) -> 42.596943 | H15: Артем | I15: =AVERAGE(I9,I11,I13) -> 0.49694263
F16: =AVERAGE(F8:F13) -> 42.016667 | G16: =AVERAGE(C19:H81) -> 42.437406 | I16: =AVERAGE(I8:I13) -> 0.45622393
C18: =B8 -> Лысенский Денис | D18: =B9 -> Соколан Артем | E18: =B10 -> Лысенский Денис | F18: =B11 -> Соколан Артем | G18: =B12 -> Лысенский Денис | H18: =B13 -> Соколан Артем
B19: 1 | C19: 45.48 | D19: 43.64 | E19: 42.99 | F19: 43.22 | G19: 42.39 | H19: 42.79
B20: 2 | C20: 43.8 | D20: 42.97 | E20: 42.42 | F20: 45.25 | G20: 42.38 | H20: 42.41
B21: 3 | C21: 43.07 | D21: 42.58 | E21: 42.09 | F21: 43.66 | G21: 42.35 | H21: 42.7
B22: 4 | C22: 42.24 | D22: 42.53 | E22: 42.19 | F22: 42.49 | G22: 42.04 | H22: 42.11
B23: 5 | C23: 42.33 | D23: 42.52 | E23: 42.38 | F23: 43.55 | G23: 43.08 | H23: 42.09
B24: 6 | C24: 42.21 | D24: 42.49 | E24: 41.91 | F24: 42.75 | G24: 42.22 | H24: 42.23
B25: 7 | C25: 42.8 | D25: 42.68 | E25: 42.14 | F25: 42.42 | G25: 42.25 | H25: 43.24
B26: 8 | C26: 41.99 | D26: 42.38 | E26: 43.96 | F26: 42.31 | G26: 42.04 | H26: 42.55
B27: 9 | C27: 42.35 | D27: 42.87 | E27: 42.42 | F27: 42.86 | G27: 42.22 | H27: 42.45
B28: 10 | C28: 42.63 | D28: 42.39 | E28: 42.37 | F28: 42.18 | G28: 42.17 | H28: 42.4
B29: 11 | C29: 42.41 | D29: 42.43 | E29: 42.08 | F29: 41.98 | G29: 42.12 | H29: 42.41
B30: 12 | C30: 42.69 | D30: 42.69 | E30: 42.18 | F30: 42.48 | G30: 42.16 | H30: 42.13
... B36: 18 | C36: 42.22 | D36: 42.8 | E36: 42.08 | F36: 42.45 | G36: 42.35 | H36: 42.18
B37: 19 | C37: 42.09 | E37: 42.31 | F37: 42.66 | G37: 42.57 | H37: 42.19
B38: 20 | C38: 42.21 | E38: 42.16 | F38: 42.57 | G38: 42.09 | H38: 42.16
B39: 21 | C39: 42.41 | E39: 42.32 | F39: 42.31 | G39: 42.25 | H39: 42.24
B40: 22 | C40: 42.42 | E40: 42.29 | F40: 42.29 | G40: 42.21 | H40: 41.94
B41: 23 | C41: 42.21 | E41: 42.22 | F41: 42.59 | G41: 42.1 | H41: 42.25
B42: 24 | C42: 42.44 | E42: 42.41 | F42: 42.63 | G42: 42.04 | H42: 42.29
B43: 25 | C43: 42 | E43: 42.38 | F43: 42.62 | G43: 42.09 | H43: 42.44
B44: 26 | C44: 42.12 | E44: 42.17 | F44: 43.02 | G44: 42.37 | H44: 42.06
B45: 27 | C45: 41.96 | E45: 42.23 | F45: 42.7 | G45: 42.31 | H45: 42.11
B46: 28 | C46: 42 | E46: 42.23 | F46: 42.44 | G46: 42.25 | H46: 42.38
B47: 29 | C47: 42.36 | E47: 42.12 | F47: 42.74 | G47: 42.08 | H47: 42.37
B48: 30 | E48: 42.47 | F48: 42.34 | G48: 42.02 | H48: 42.18
B49: 31 | E49: 42.55 | F49: 42.53 | G49: 42.67 | H49: 43.51
...

Sheet Flash
A2: Чемпионат мини марафон "Большие Гонки", 6-й этап
A4: Flash
A6: Обяза-тельные | B6: Пилот | C6: карт | D6: Круг | E6: кругов на отрезке | F6: Статистика по кругам | J6: Общее время гонки | K6: Время на трассе
F7: Лучший круг | G7: Среднее на отрезке | H7: Кругов в 0,1 от лучшего | I7: стабильность | K7: отрезок | L7: всего у пилота | M7: Питы | N7: Штрафы/ бонусы (сек)
A8: 1 | B8: Звягин Григорий | C8: 3 | D8: =COUNTA(C19:C83) -> 38 | E8: =COUNTA(C19:C83) -> 38 | F8: =MIN(C19:C82) -> 42.09 | G8: =AVERAGE(C19:C85) -> 42.547895 | H8: 10 | I8: =G8-F8 -> 0.45789474 | J8: 0.018796296 | K8: =J8 -> 0.018796296 | L8: =K8 -> 0.018796296 | M8: 1:53.96 | N8: -27 | O8: бонус за вес
A9: 2 | B9: Звягин Григорий | C9: 7 | D9: =COUNTA(D19:D83)+D8+1 -> 92 | E9: =COUNTA(D19:D83)+1 -> 54 | F9: =MIN(D19:D82) -> 42.03 | G9: =AVERAGE(D19:D84) -> 42.305849 | H9: 7 | I9: =G9-F9 -> 0.27584906 | J9: 0.046076389 | K9: =J9-J8 -> 0.027280093 | L9: =K9+L8 -> 0.046076389 | M9: 2:20.66
A10: 3 | B10: Загорулько Иван | C10: 6 | D10: =COUNTA(E19:E83)+D9+1 -> 144 | E10: =COUNTA(E19:E83)+1 -> 52 | F10: =MIN(E19:E84) -> 42.4 | G10: =AVERAGE(E19:E85) -> 42.854314 | H10: 2 | I10: =G10-F10 -> 0.45431373 | J10: 0.072997685 | K10: =J10-J9 -> 0.026921296 | L10: =K10 -> 0.026921296 | M10: 2:21.31
A11: 4 | B11: Загорулько Иван | C11: 16 | D11: =COUNTA(F19:F83)+D10+1 -> 177 | E11: =COUNTA(F19:F83)+1 -> 33 | F11: =MIN(F19:F84) -> 42.61 | G11: =AVERAGE(F19:F84) -> 43.12125 | H11: 1 | I11: =G11-F11 -> 0.51125 | J11: 0.090659722 | K11: =J11-J10 -> 0.017662037 | L11: =K11+L10 -> 0.044583333 | M11: 2:23.25
A12: 5 | B12: Загорулько Иван | C12: 10 | D12: =COUNTA(G19:G83)+D11+1 -> 221 | E12: =COUNTA(G19:G83)+1 -> 44 | F12: =MIN(G19:G84) -> 42.63 | G12: =AVERAGE(G19:G884) -> 43.138605 | H12: 1 | I12: =G12-F12 -> 0.50860465 | J12: 0.11372685 | K12: =J12-J11 -> 0.02306713 | L12: =K12+L11 -> 0.067650463 | M12: 2:20.89
A13: Финиш | B13: Звягин Григорий | C13: 5 | D13: =COUNTA(H19:H83)+D12+1 -> 243 | E13: =COUNTA(H19:H83)+1 -> 22 | F13: =MIN(H19:H84) -> 42.04 | G13: =AVERAGE(H19:H84) -> 42.313333 | H13: 0 | I13: =G13-F13 -> 0.27333333 | J13: ='Общие результаты'!G6 -> 3:00:18 | K13: =J13-J12 -> 0.011481481 | L13: =K13+L9 -> 0.05755787 | N13: 3 | O13: фишка
F14: =AVERAGE(F8,F9,F13) -> 42.053333 | G14: =AVERAGE(G8,G9,G13) -> 42.389026 | H14: Гриша | I14: =AVERAGE(I8,I9,I13) -> 0.33569238
F15: =AVERAGE(F10,F11,F12) -> 42.546667 | G15: =AVERAGE(G10,G11,G12) -> 43.038056 | H15: Ваня | I15: =AVERAGE(I10,I11,I12) -> 0.49138946
F16: =AVERAGE(F8:F13) -> 42.3 | G16: =AVERAGE(C19:H81) -> 42.722773 | I16: =AVERAGE(I8:I13) -> 0.41354092
C18: =B8 -> Звягин Григорий | D18: =B9 -> Звягин Григорий | E18: =B10 -> Загорулько Иван | F18: =B11 -> Загорулько Иван | G18: =B12 -> Загорулько Иван | H18: =B13 -> Звягин Григорий
B19: 1 | C19: 45.55 | D19: 42.35 | E19: 42.96 | F19: 42.83 | G19: 43.46 | H19: 42.36
B20: 2 | C20: 44.3 | D20: 42.17 | E20: 42.86 | F20: 43.81 | G20: 43.52 | H20: 42.28
B21: 3 | C21: 42.8 | D21: 42.21 | E21: 42.67 | F21: 42.99 | G21: 43.28 | H21: 42.18
B22: 4 | C22: 42.27 | D22: 42.28 | E22: 43.65 | F22: 42.79 | G22: 43.1 | H22: 42.23
B23: 5 | C23: 42.11 | D23: 42.46 | E23: 42.56 | F23: 42.76 | G23: 43.1 | H23: 42.04
B24: 6 | C24: 42.19 | D24: 42.65 | E24: 42.54 | F24: 42.67 | G24: 43.58 | H24: 42.62
B25: 7 | C25: 44.13 | D25: 42.33 | E25: 42.85 | F25: 42.87 | G25: 43.64 | H25: 42.29
B26: 8 | C26: 42.58 | D26: 42.03 | E26: 42.99 | F26: 45.2 | G26: 43.32 | H26: 42.27
B27: 9 | C27: 42.33 | D27: 42.16 | E27: 42.72 | F27: 42.98 | G27: 43.33 | H27: 42.29
B28: 10 | C28: 42.27 | D28: 42.4 | E28: 42.69 | F28: 42.72 | G28: 42.86 | H28: 42.2
B29: 11 | C29: 42.12 | D29: 43.1 | E29: 42.9 | F29: 42.95 | G29: 42.97 | H29: 42.44
B30: 12 | C30: 42.16 | D30: 42.93 | E30: 42.82 | F30: 42.81 | G30: 43.06 | H30: 42.39
... B39: 21 | C39: 42.35 | D39: 42.17 | E39: 42.82 | F39: 43.65 | G39: 43.33 | H39: 42.71
B40: 22 | C40: 42.11 | D40: 42.43 | E40: 42.7 | F40: 43.23 | G40: 43.19
B41: 23 | C41: 42.14 | D41: 42.1 | E41: 42.6 | F41: 43.51 | G41: 43.04
B42: 24 | C42: 42.18 | D42: 42.16 | E42: 42.41 | F42: 42.61 | G42: 43.91
B43: 25 | C43: 42.12 | D43: 42.13 | E43: 43.03 | F43: 43.34 | G43: 43.12
B44: 26 | C44: 42.24 | D44: 42.31 | E44: 43.25 | F44: 43.3 | G44: 43.01
B45: 27 | C45: 42.27 | D45: 42.12 | E45: 43.45 | F45: 42.77 | G45: 42.86
B46: 28 | C46: 42.14 | D46: 42.16 | E46: 42.76 | F46: 42.88 | G46: 43.12
B47: 29 | C47: 42.3 | D47: 42.24 | E47: 42.57 | F47: 42.85 | G47: 42.82
B48: 30 | C48: 42.53 | D48: 42.65 | E48: 42.54 | F48: 44.55 | G48: 42.98
B49: 31 | C49: 42.69 | D49: 42.29 | E49: 42.74 | F49: 42.83 | G49: 43.03
B50: 32 | C50: 42.36 | D50: 42.03 | E50: 43.02 | F50: 42.98 | G50: 43.11
B51: 33 | C51: 42.28 | D51: 42.16 | E51: 42.83 | G51: 43.37
B52: 34 | C52: 42.37 | D52: 42.05 | E52: 42.55 | G52: 42.82
...

Sheet F1UA
A2: Чемпионат мини марафон "Большие Гонки", 6-й этап
A4: F1UA
A6: Обяза-тельные | B6: Пилот | C6: карт | D6: Круг | E6: кругов на отрезке | F6: Статистика по кругам | J6: Общее время гонки | K6: Время на трассе
F7: Лучший круг | G7: Среднее на отрезке | H7: Кругов в 0,1 от лучшего | I7: стабильность | K7: отрезок | L7: всего у пилота | M7: Питы | N7: Штрафы/ бонусы (сек)
A8: 1 | B8: Якусик Саша | C8: 5 | D8: =COUNTA(C19:C83) -> 35 | E8: =COUNTA(C19:C83) -> 35 | F8: =MIN(C19:C82) -> 42.09 | G8: =AVERAGE(C19:C85) -> 42.638571 | H8: 3 | I8: =G8-F8 -> 0.54857143 | J8: 0.017361111 | K8: =J8 -> 0.017361111 | L8: =K8 -> 0.017361111 | M8: 2:21.42
A9: 2 | B9: Гончаров Рома | C9: 4 | D9: =COUNTA(D19:D83)+D8+1 -> 74 | E9: =COUNTA(D19:D83)+1 -> 39 | F9: =MIN(D19:D82) -> 42.3 | G9: =AVERAGE(D19:D84) -> 42.627105 | H9: 5 | I9: =G9-F9 -> 0.32710526 | J9: 0.037743056 | K9: =J9-J8 -> 0.020381944 | L9: =K9 -> 0.020381944 | M9: 2:29.43 | N9: 5 | O9: линия
A10: 3 | B10: Якусик Саша | C10: 44 | D10: =COUNTA(E19:E83)+D9+1 -> 109 | E10: =COUNTA(E19:E83)+1 -> 35 | F10: =MIN(E19:E84) -> 42.35 | G10: =AVERAGE(E19:E85) -> 42.705294 | H10: 4 | I10: =G10-F10 -> 0.35529412 | J10: 0.056273148 | K10: =J10-J9 -> 0.018530093 | L10: =K10+L8 -> 0.035891204 | M10: 2:20.48
A11: 4 | B11: Гончаров Рома | C11: 7 | D11: =COUNTA(F19:F83)+D10+1 -> 162 | E11: =COUNTA(F19:F83)+1 -> 53 | F11: =MIN(F19:F84) -> 42.22 | G11: =AVERAGE(F19:F84) -> 42.635962 | H11: 4 | I11: =G11-F11 -> 0.41596154 | J11: 0.083553241 | K11: =J11-J10 -> 0.027280093 | L11: =K11+L9 -> 0.047662037 | M11: 2:20.65
A12: 5 | B12: Якусик Саша | C12: 5 | D12: =COUNTA(G19:G83)+D11+1 -> 209 | E12: =COUNTA(G19:G83)+1 -> 47 | F12: =MIN(G19:G84) -> 42.15 | G12: =AVERAGE(G19:G884) -> 42.574348 | H12: 0 | I12: =G12-F12 -> 0.42434783 | J12: 0.1078588 | K12: =J12-J11 -> 0.024305556 | L12: =K12+L10 -> 0.060196759 | M12: 2:19.21
A13: Финиш | B13: Гончаров Рома | C13: 7 | D13: =COUNTA(H19:H83)+D12+1 -> 242 | E13: =COUNTA(H19:H83)+1 -> 33 | F13: =MIN(H19:H84) -> 42.17 | G13: =AVERAGE(H19:H84) -> 42.550313 | H13: 1 | I13: =G13-F13 -> 0.3803125 | J13: ='Общие результаты'!G6 -> 3:00:18 | K13: =J13-J12 -> 0.017349537 | L13: =K13+L11 -> 0.065011574
F14: =AVERAGE(F8,F10,F12) -> 42.196667 | G14: =AVERAGE(G8,G10,G12) -> 42.639404 | H14: Саша | I14: =AVERAGE(I8,I10,I12) -> 0.44273779
F15: =AVERAGE(F9,F11,F13) -> 42.23 | G15: =AVERAGE(G9,G11,G13) -> 42.60446 | H15: Рома | I15: =AVERAGE(I9,I11,I13) -> 0.37445977
F16: =AVERAGE(F8:F13) -> 42.213333 | G16: =AVERAGE(C19:H81) -> 42.62135 | I16: =AVERAGE(I8:I13) -> 0.40859878
C18: =B8 -> Якусик Саша | D18: =B9 -> Гончаров Рома | E18: =B10 -> Якусик Саша | F18: =B11 -> Гончаров Рома | G18: =B12 -> Якусик Саша | H18: =B13 -> Гончаров Рома
B19: 1 | C19: 45.09 | D19: 42.92 | E19: 42.69 | F19: 42.57 | G19: 42.72 | H19: 42.45
B20: 2 | C20: 42.81 | D20: 42.8 | E20: 42.68 | F20: 42.47 | G20: 42.76 | H20: 42.71
B21: 3 | C21: 42.8 | D21: 42.5 | E21: 43.3 | F21: 42.55 | G21: 42.59 | H21: 43.55
B22: 4 | C22: 42.55 | D22: 42.71 | E22: 43.26 | F22: 42.94 | G22: 42.67 | H22: 42.48
B23: 5 | C23: 42.66 | D23: 42.33 | E23: 42.62 | F23: 42.75 | G23: 42.48 | H23: 42.37
B24: 6 | C24: 42.61 | D24: 42.3 | E24: 43.09 | F24: 42.56 | G24: 42.67 | H24: 42.39
B25: 7 | C25: 42.45 | D25: 42.48 | E25: 42.77 | F25: 42.63 | G25: 42.65 | H25: 42.6
B26: 8 | C26: 42.32 | D26: 42.72 | E26: 42.78 | F26: 42.34 | G26: 42.42 | H26: 42.6
B27: 9 | C27: 42.47 | D27: 43.54 | E27: 42.49 | F27: 42.63 | G27: 42.43 | H27: 42.37
B28: 10 | C28: 42.19 | D28: 42.85 | E28: 42.35 | F28: 42.4 | G28: 42.5 | H28: 42.4
B29: 11 | C29: 43.21 | D29: 42.68 | E29: 42.52 | F29: 42.37 | G29: 42.43 | H29: 42.53
B30: 12 | C30: 42.64 | D30: 42.61 | E30: 42.58 | F30: 42.41 | G30: 42.43 | H30: 42.17
... B50: 32 | C50: 42.63 | D50: 42.33 | E50: 42.4 | F50: 42.3 | G50: 42.55 | H50: 42.38
B51: 33 | C51: 42.32 | D51: 42.72 | E51: 42.88 | F51: 42.84 | G51: 42.46
B52: 34 | C52: 42.54 | D52: 42.56 | E52: 42.82 | F52: 42.63 | G52: 42.44
B53: 35 | C53: 42.68 | D53: 42.57 | F53: 42.32 | G53: 42.33
B54: 36 | D54: 42.54 | F54: 42.72 | G54: 42.44
B55: 37 | D55: 42.99 | F55: 43.27 | G55: 42.15
B56: 38 | D56: 42.76 | F56: 42.52 | G56: 42.38
B57: 39 | F57: 42.97 | G57: 42.37
B58: 40 | F58: 42.44 | G58: 42.39
B59: 41 | F59: 42.77 | G59: 42.47
B60: 42 | F60: 43.1 | G60: 42.4
B61: 43 | F61: 42.22 | G61: 42.43
B62: 44 | F62: 42.5 | G62: 42.59
B63: 45 | F63: 42.4 | G63: 42.54
...

Sheet Na spidah
A2: Чемпионат мини марафон "Большие Гонки", 6-й этап
A4: Na spidah
A6: Обяза-тельные | B6: Пилот | C6: карт | D6: Круг | E6: кругов на отрезке | F6: Статистика по кругам | J6: Общее время гонки | K6: Время на трассе
F7: Лучший круг | G7: Среднее на отрезке | H7: Кругов в 0,1 от лучшего | I7: стабильность | K7: отрезок | L7: всего у пилота | M7: Питы | N7: Штрафы/ бонусы (сек)
A8: 1 | B8: Харченко Артем | C8: 2 | D8: =COUNTA(C19:C83) -> 33 | E8: =COUNTA(C19:C83) -> 33 | F8: =MIN(C19:C82) -> 42.17 | G8: =AVERAGE(C19:C85) -> 42.732424 | H8: 5 | I8: =G8-F8 -> 0.56242424 | J8: 0.01712963 | K8: =J8 -> 0.01712963 | L8: =K8 -> 0.01712963 | M8: 2:42.15
A9: 2 | B9: Голуб Сергей | C9: 4 | D9: =COUNTA(D19:D83)+D8+1 -> 64 | E9: =COUNTA(D19:D83)+1 -> 31 | F9: =MIN(D19:D82) -> 42.28 | G9: =AVERAGE(D19:D84) -> 42.831333 | H9: 0 | I9: =G9-F9 -> 0.55133333 | J9: 0.033865741 | K9: =J9-J8 -> 0.016736111 | L9: =K9 -> 0.016736111 | M9: 2::20.47
A10: 3 | B10: Харченко Артем | C10: 6 | D10: =COUNTA(E19:E83)+D9+1 -> 117 | E10: =COUNTA(E19:E83)+1 -> 53 | F10: =MIN(E19:E84) -> 42.02 | G10: =AVERAGE(E19:E85) -> 42.420577 | H10: 2 | I10: =G10-F10 -> 0.40057692 | J10: 0.061018519 | K10: =J10-J9 -> 0.027152778 | L10: =K10+L8 -> 0.044282407 | M10: 2:21.46
A11: 4 | B11: Голуб Сергей | C11: 11 | D11: =COUNTA(F19:F83)+D10+1 -> 166 | E11: =COUNTA(F19:F83)+1 -> 49 | F11: =MIN(F19:F84) -> 41.98 | G11: =AVERAGE(F19:F84) -> 42.347083 | H11: 3 | I11: =G11-F11 -> 0.36708333 | J11: 0.086180556 | K11: =J11-J10 -> 0.025162037 | L11: =K11+L9 -> 0.041898148 | M11: 2:21.32
