Workbook

Sheet Общие результаты
A1: Серия мини марафонов "Большие Гонки 2018", 5-й этап, 15.06.19
A2: Конфигурация № 4R
A4: Место в гонке | B4: Команда | C4: № в гонке | D4: Квала | F4: Гонка | I4: Лучший круг в гонке
D5: Время | E5: Место | F5: Круги | G5: Время/от лидера | H5: От места выше | I5: Время | J5: На круге
A6: 1 | B6: K-44 | C6: 5 | D6: 42.115 | E6: 4 | F6: 241 | G6: 3:00:05 | H6: - | I6: 42.06 | J6: 90
A7: 2 | B7: NFS Kozaks | C7: 3 | D7: 42.105 | E7: 2 | F7: 241 | G7: 3.06 | H7: =G7 -> 3.06 | I7: 42.04 | J7: 19
A8: 3 | B8: MST | C8: 8 | D8: 42.11 | E8: 3 | F8: 241 | G8: =2.33+5 -> 7.33 | H8: =G8-G7 -> 4.27 | I8: 42.01 | J8: 19
A9: 4 | B9: Fortuna Racing Team | C9: 9 | D9: 42.045 | E9: 1 | F9: 241 | G9: =29.23+5 -> 34.23 | H9: =G9-G8 -> 26.9 | I9: 42.19 | J9: 12
A10: 5 | B10: Kozak I Razboiniki | C10: 1 | D10: 42.115 | E10: 5 | F10: 240 | G10: 1 Круг | H10: 11 | I10: 42.33 | J10: 219
A11: 6 | B11: Mesnyki | C11: 11 | D11: 42.52 | E11: 11 | F11: 240 | G11: 1 Круг | H11: 14 | I11: 42.01 | J11: 28
A12: 7 | B12: ASS Racing team | C12: 10 | D12: 42.26 | E12: 6 | F12: 240 | G12: 1 Круг | H12: 4 | I12: 42.23 | J12: 16
A13: 8 | B13: KartFreedom | C13: 2 | D13: 42.65 | E13: 12 | F13: 239 | G13: 2 Круга | H13: 29 | I13: 42.42 | J13: 23
A14: 9 | B14: Just Karting | C14: 12 | D14: 42.285 | E14: 7 | F14: 239 | G14: 2 Круга | H14: 1.5 | I14: 42.44 | J14: 104
A15: 10 | B15: Ne fart | C15: 4 | D15: 42.395 | E15: 9 | F15: 239 | G15: 2 Круга | H15: 9 | I15: 42.23 | J15: 33
A16: 11 | B16: Buro11 | C16: 6 | D16: 42.395 | E16: 9 | F16: 239 | G16: 3 Круга | H16: 41 | I16: 42.06 | J16: 26
A17: 12 | B17: KartFreedom RT | C17: 7 | D17: 42.65 | E17: 12 | F17: 236 | G17: 5 Кругов | H17: 1 круг | I17: 42.53 | J17: 4

Sheet Регистрация
A1: Серия мини марафонов "Большие Гонки 2018", 5-й этап, 15.06.19
A3: Регистрационная форма
A5: № в гонке | B5: Команда | C5: Пилот | D5: № | E5: Вес | F5: Бонус | G5: Квалификация
G6: карт | H6: Время | I6: бонус | J6: Итого | K6: Среднее | L6: Место | N6: 82.5 | O6: 85 | P6: 87.5 | Q6: 90 | R6: 92.5 | S6: 95 | T6: 97.5 | U6: 100
A7: 1 | B7: Kozak I Razboiniki | C7: Манило Денис | D7: 1-1 | E7: 82 | G7: 3 | H7: 42.16 | J7: =H7-I7 -> 42.16 | K7: =AVERAGE(J7:J8) -> 42.115 | L7: 5 | M7: кв | N7: 0.05 | O7: 0.1 | P7: 0.15 | Q7: 0.2 | R7: 0.25 | S7: 0.3 | T7: 0.35 | U7: =N7*8 -> 0.4
C8: Тыщенко Миша | D8: 1-2 | E8: 87.8 | F8: 13.5 | G8: 2 | H8: 42.22 | I8: 0.15 | J8: =H8-I8 -> 42.07 | M8: 1 | N8: 4.5 | O8: =N8*2 -> 9 | P8: =N8*3 -> 13.5 | Q8: =N8*4 -> 18 | R8: =N8*5 -> 22.5 | S8: =N8*6 -> 27 | T8: =N8*7 -> 31.5 | U8: =N8*8 -> 36
J9: =H9-I9 -> 0 | M9: 2 | N9: 9 | O9: =N9*2 -> 18 | P9: =N9*3 -> 27 | Q9: =N9*4 -> 36 | R9: =N9*5 -> 45 | S9: =N9*6 -> 54 | T9: =N9*7 -> 63 | U9: =N9*8 -> 72
A10: 2 | B10: KartFreedom | C10: Паненко Женя | D10: 2-1 | E10: 81.1 | G10: 5 | H10: 42.17 | J10: =H10-I10 -> 42.17 | K10: =AVERAGE(J10:J11) -> 42.325 | L10: =RANK(K10,K7:K42,1) -> 8
C11: Медведева Дарья | D11: 2-2 | E11: - | G11: 4 | H11: 42.48 | J11: =H11-I11 -> 42.48
J12: =H12-I12 -> 0
A13: 3 | B13: Kozaks | C13: Пикулин Паша | D13: 3-1 | E13: 75.4 | G13: 5 | H13: 42.02 | J13: =H13-I13 -> 42.02 | K13: =AVERAGE(J13:J14) -> 42.105 | L13: =RANK(K13,K7:K42,1) -> 2
C14: Мифтахутдинов Ильяс | D14: 3-2 | G14: 6 | H14: 42.19 | J14: =H14-I14 -> 42.19
J15: =H15-I15 -> 0
A16: 4 | B16: Ne fart | C16: Онащук Максим | D16: 4-1 | E16: 78.8 | G16: 6 | H16: 42.31 | J16: =H16-I16 -> 42.31 | K16: =AVERAGE(J16:J17) -> 42.395 | L16: =RANK(K16,K7:K42,1) -> 9
C17: Хлопонин Андрей | D17: 4-2 | E17: 72.1 | G17: 7 | H17: 42.48 | J17: =H17-I17 -> 42.48
J18: =H18-I18 -> 0
A19: 5 | B19: К-44 | C19: Ткаченко Антон | D19: 5-1 | E19: 82.5 | G19: 8 | H19: 41.92 | J19: =H19-I19 -> 41.92 | K19: =AVERAGE(J19:J20) -> 42.115 | L19: 4
C20: Лысенский Денис | D20: 5-2 | E20: 81.7 | G20: 9 | H20: 42.31 | J20: =H20-I20 -> 42.31
J21: =H21-I21 -> 0
A22: 6 | B22: Buro11 | C22: Якусик Саша | D22: 6-1 | E22: 76 | G22: 10 | H22: 42.72 | J22: =H22-I22 -> 42.72 | K22: =AVERAGE(J22:J23) -> 42.395 | L22: =RANK(K22,K7:K42,1) -> 9
C23: Якусик Дима | D23: 6-2 | E23: 75.1 | G23: 9 | H23: 42.07 | J23: =H23-I23 -> 42.07
A25: 7 | B25: KartFreedom RT | C25: Литвиненко Олег | D25: 7-1 | E25: 69.7 | G25: 10 | H25: 42.59 | J25: =H25-I25 -> 42.59 | K25: =AVERAGE(J25:J26) -> 42.65 | L25: =RANK(K25,K7:K42,1) -> 12
C26: Новиков Герман | D26: 7-2 | E26: 53.2 | G26: 11 | H26: 42.71 | J26: =H26-I26 -> 42.71
J27: =H27-I27 -> 0
A28: 8 | B28: MST | C28: Стоцкий Андрей | D28: 8-1 | E28: 60 | G28: 11 | H28: 42.05 | J28: =H28-I28 -> 42.05 | K28: =AVERAGE(J28:J29) -> 42.11 | L28: =RANK(K28,K7:K42,1) -> 3
C29: Петушков Андрей | D29: 8-2 | E29: 77.5 | G29: 13 | H29: 42.17 | J29: =H29-I29 -> 42.17
J30: =H30-I30 -> 0
A31: 9 | B31: Fortuna Racing | C31: Фортуна Таня | D31: 9.1 | E31: 67.7 | G31: 13 | H31: 42.03 | J31: =H31-I31 -> 42.03 | K31: =AVERAGE(J31:J32) -> 42.045 | L31: =RANK(K31,K7:K42,1) -> 1
C32: Шутка Виталий | D32: 9.2 | E32: 81.3 | G32: 21 | H32: 42.06 | J32: =H32-I32 -> 42.06
J33: =H33-I33 -> 0
A34: 10 | B34: ASS Racing team | C34: Ткаченко Кирилл | D34: 10-1 | E34: 76.6 | G34: 21 | H34: 42.1 | J34: =H34-I34 -> 42.1 | K34: =AVERAGE(J34:J35) -> 42.26 | L34: =RANK(K34,K7:K42,1) -> 6
C35: Гаврилюк Олег | D35: 10-2 | E35: 70.0 | G35: 44 | H35: 42.42 | J35: =H35-I35 -> 42.42
A37: 11 | B37: mesnyki | C37: Наум | D37: 11.1 | E37: 79.1 | G37: 69 | H37: 42.2 | J37: =H37-I37 -> 42.2 | K37: =AVERAGE(J37:J38) -> 42.52 | L37: =RANK(K37,K7:K42,1) -> 11
C38: Загорулько Иван | D38: 11-2 | E38: 94.6 | F38: 22.5 | G38: 44 | H38: 43.09 | I38: 0.25 | J38: =H38-I38 -> 42.84
J39: =H39-I39 -> 0
A40: 12 | B40: Just Karting | C40: Шиленко Саша | D40: 12-1 | E40: 85.2 | F40: 9 | G40: 1 | H40: 42.35 | I40: 0.1 | J40: =H40-I40 -> 42.25 | K40: =AVERAGE(J40:J41) -> 42.285 | L40: =RANK(K40,K7:K42,1) -> 7
C41: Сомок Денис | D41: 12-2 | E41: 74.4 | G41: 69 | H41: 42.32 | J41: =H41-I41 -> 42.32
J42: =H42-I42 -> 0
A43: 13 | J43: =H43-I43 -> 0 | K43: =AVERAGE(J43:J44) -> 0 | L43: =RANK(K43,K7:K48,1) -> 1
J44: =H44-I44 -> 0
...

Sheet K-44
A2: Чемпионат мини марафон "Большие Гонки", 5-й этап
A4: K-44
A6: Обяза-тельные | B6: Пилот | C6: карт | D6: Круг | E6: кругов на отрезке | F6: Статистика по кругам | J6: Общее время гонки | K6: Время на трассе
F7: Лучший круг | G7: Среднее на отрезке | H7: Кругов в 0,1 от лучшего | I7: стабильность | K7: отрезок | L7: всего у пилота | M7: Питы | N7: Штрафы/ бонусы (сек)
A8: 1 | B8: Ткаченко Антон | C8: 7 | D8: =COUNTA(C19:C83) -> 19 | E8: =COUNTA(C19:C83) -> 19 | F8: =MIN(C19:C82) -> 42.32 | G8: =AVERAGE(C19:C85) -> 43.071579 | H8: 5 | I8: =G8-F8 -> 0.75157895 | J8: 0.0099768519 | K8: =J8 -> 0.0099768519 | L8: =K8 -> 0.0099768519 | M8: 2:22.49 | N8: 5 | O8: лимит
A9: 2 | B9: Лысенский Денис | C9: 2 | D9: =COUNTA(D19:D83)+D8+1 -> 48 | E9: =COUNTA(D19:D83)+1 -> 29 | F9: =MIN(D19:D82) -> 42.17 | G9: =AVERAGE(D19:D84) -> 42.413571 | H9: 1 | I9: =G9-F9 -> 0.24357143 | J9: 0.025358796 | K9: =J9-J8 -> 0.015381944 | L9: =K9 -> 0.015381944 | M9: 2:17.26
A10: 3 | B10: Ткаченко Антон | C10: 8 | D10: =COUNTA(E19:E83)+D9+1 -> 94 | E10: =COUNTA(E19:E83)+1 -> 46 | F10: =MIN(E19:E84) -> 42.06 | G10: =AVERAGE(E19:E85) -> 42.401111 | H10: 11 | I10: =G10-F10 -> 0.34111111 | J10: 0.049039352 | K10: =J10-J9 -> 0.023680556 | L10: =K10+L8 -> 0.033657407 | M10: 2:16.97
A11: 4 | B11: Лысенский Денис | C11: 2 | D11: =COUNTA(F19:F83)+D10+1 -> 155 | E11: =COUNTA(F19:F83)+1 -> 61 | F11: =MIN(F19:F84) -> 42.36 | G11: =AVERAGE(F19:F84) -> 42.599833 | H11: 11 | I11: =G11-F11 -> 0.23983333 | J11: 0.080208333 | K11: =J11-J10 -> 0.031168981 | L11: =K11+L9 -> 0.046550926 | M11: 2:17.26
A12: 5 | B12: Ткаченко Антон | C12: 44 | D12: =COUNTA(G19:G83)+D11+1 -> 198 | E12: =COUNTA(G19:G83)+1 -> 43 | F12: =MIN(G19:G84) -> 42.36 | G12: =AVERAGE(G19:G84) -> 42.651905 | H12: 6 | I12: =G12-F12 -> 0.29190476 | J12: 0.10253472 | K12: =J12-J11 -> 0.022326389 | L12: =K12+L10 -> 0.055983796 | M12: 3:17.44
A13: Финиш | B13: Лысенский Денис | C13: 21 | D13: =COUNTA(H19:H83)+D12+1 -> 241 | E13: =COUNTA(H19:H92)+1 -> 43 | F13: =MIN(H19:H77) -> 42.3 | G13: =AVERAGE(H19:H77) -> 42.640714 | H13: 7 | I13: =G13-F13 -> 0.34071429 | J13: ='Общие результаты'!G6 -> 3:00:05 | K13: =J13-J12 -> 0.022523148 | L13: =K13+L11 -> 0.069074074
F14: =AVERAGE(F8,F10,F12) -> 42.246667 | G14: =AVERAGE(G8,G10,G12) -> 42.708198 | H14: Антон | I14: =AVERAGE(I8,I10,I12) -> 0.46153161
F15: =AVERAGE(F9,F11,F13) -> 42.276667 | G15: =AVERAGE(G9,G11,G13) -> 42.551373 | H15: Денис | I15: =AVERAGE(I9,I11,I13) -> 0.27470635
F16: =AVERAGE(F8:F13) -> 42.261667 | G16: =AVERAGE(C19:H95) -> 42.594364 | I16: =AVERAGE(I8:I13) -> 0.36811898
C18: =B8 -> Ткаченко Антон | D18: =B9 -> Лысенский Денис | E18: =B10 -> Ткаченко Антон | F18: =B11 -> Лысенский Денис | G18: =B12 -> Ткаченко Антон | H18: =B12 -> Ткаченко Антон
B19: 1 | C19: 43.85 | D19: 43.48 | E19: 42.96 | F19: 42.88 | G19: 43.34 | H19: 42.98
B20: 2 | C20: 42.54 | D20: 42.5 | E20: 42.48 | F20: 42.76 | G20: 42.85 | H20: 42.35
B21: 3 | C21: 42.8 | D21: 42.33 | E21: 42.27 | F21: 42.91 | G21: 43.07 | H21: 42.41
B22: 4 | C22: 45.15 | D22: 42.31 | E22: 42.25 | F22: 43.03 | G22: 42.64 | H22: 42.43
B23: 5 | C23: 45.05 | D23: 42.45 | E23: 42.32 | F23: 42.72 | G23: 42.54 | H23: 42.52
B24: 6 | C24: 42.84 | D24: 42.35 | E24: 42.25 | F24: 42.59 | G24: 42.63 | H24: 42.5
B25: 7 | C25: 44.13 | D25: 42.45 | E25: 42.12 | F25: 42.49 | G25: 42.8 | H25: 42.4
B26: 8 | C26: 42.51 | D26: 42.37 | E26: 42.63 | F26: 42.54 | G26: 42.55 | H26: 42.46
B27: 9 | C27: 42.77 | D27: 42.38 | E27: 42.3 | F27: 42.62 | G27: 42.64 | H27: 42.46
B28: 10 | C28: 44.44 | D28: 42.29 | E28: 42.24 | F28: 42.8 | G28: 42.57 | H28: 42.56
B29: 11 | C29: 42.37 | D29: 42.24 | E29: 42.27 | F29: 42.51 | G29: 42.61 | H29: 42.6
B30: 12 | C30: 42.84 | D30: 42.34 | E30: 43.61 | F30: 43.31 | G30: 42.52 | H30: 42.6
... B37: 19 | C37: 42.38 | D37: 42.43 | E37: 42.37 | F37: 42.88 | G37: 43.52 | H37: 42.3
B38: 20 | D38: 42.29 | E38: 42.43 | F38: 42.64 | G38: 42.68 | H38: 42.47
B39: 21 | D39: 42.28 | E39: 42.26 | F39: 42.54 | G39: 42.43 | H39: 42.3
B40: 22 | D40: 42.44 | E40: 42.22 | F40: 42.63 | G40: 42.59 | H40: 42.95
B41: 23 | D41: 42.45 | E41: 42.32 | F41: 42.46 | G41: 42.52 | H41: 42.52
B42: 24 | D42: 42.44 | E42: 42.1 | F42: 42.53 | G42: 42.43 | H42: 43.37
B43: 25 | D43: 42.61 | E43: 42.28 | F43: 42.48 | G43: 42.54 | H43: 42.49
B44: 26 | D44: 42.48 | E44: 42.09 | F44: 42.51 | G44: 42.62 | H44: 42.57
B45: 27 | D45: 42.38 | E45: 42.3 | F45: 42.58 | G45: 42.54 | H45: 42.6
B46: 28 | D46: 42.35 | E46: 42.13 | F46: 42.46 | G46: 42.58 | H46: 42.34
B47: 29 | E47: 42.26 | F47: 42.41 | G47: 42.43 | H47: 42.35
B48: 30 | E48: 42.12 | F48: 42.52 | G48: 42.36 | H48: 42.36
B49: 31 | E49: 42.22 | F49: 42.49 | G49: 42.77 | H49: 42.88
B50: 32 | E50: 42.31 | F50: 42.94 | G50: 42.46 | H50: 43.36
...

Sheet NFS Kozaks
A2: Чемпионат мини марафон "Большие Гонки", 5-й этап
A4: NFS Kozaks
A6: Обяза-тельные | B6: Пилот | C6: карт | D6: Круг | E6: кругов на отрезке | F6: Статистика по кругам | J6: Общее время гонки | K6: Время на трассе
F7: Лучший круг | G7: Среднее на отрезке | H7: Кругов в 0,1 от лучшего | I7: стабильность | K7: отрезок | L7: всего у пилота | M7: Питы | N7: Штрафы/ бонусы (сек)
A8: 1 | B8: Пикулин Павел | C8: 4 | D8: =COUNTA(C19:C83) -> 41 | E8: =COUNTA(C19:C83) -> 41 | F8: =MIN(C19:C82) -> 42.04 | G8: =AVERAGE(C19:C85) -> 42.363902 | H8: 4 | I8: =G8-F8 -> 0.32390244 | J8: 0.020590278 | K8: =J8 -> 0.020590278 | L8: =K8 -> 0.020590278 | M8: 2:16.81
A9: 2 | B9: Мифтахутдинов Ильяс | C9: 44 | D9: =COUNTA(D19:D83)+D8+1 -> 93 | E9: =COUNTA(D19:D83)+1 -> 52 | F9: =MIN(D19:D82) -> 42.37 | G9: =AVERAGE(D19:D84) -> 42.713333 | H9: 6 | I9: =G9-F9 -> 0.34333333 | J9: 0.047407407 | K9: =J9-J8 -> 0.02681713 | L9: =K9 -> 0.02681713 | M9: 2:17.64
A10: 3 | B10: Пикулин Павел | C10: 10 | D10: =COUNTA(E19:E83)+D9+1 -> 132 | E10: =COUNTA(E19:E83)+1 -> 39 | F10: =MIN(E19:E84) -> 42.25 | G10: =AVERAGE(E19:E85) -> 42.504474 | H10: 7 | I10: =G10-F10 -> 0.25447368 | J10: 0.067685185 | K10: =J10-J9 -> 0.020277778 | L10: =K10+L8 -> 0.040868056 | M10: 2:17.14
A11: 4 | B11: Мифтахутдинов Ильяс | C11: 69 | D11: =COUNTA(F19:F83)+D10+1 -> 155 | E11: =COUNTA(F19:F83)+1 -> 23 | F11: =MIN(F19:F84) -> 42.46 | G11: =AVERAGE(F19:F84) -> 42.711818 | H11: 2 | I11: =G11-F11 -> 0.25181818 | J11: 0.080162037 | K11: =J11-J10 -> 0.012476852 | L11: =K11+L9 -> 0.039293981 | M11: 2:18.85
A12: 5 | B12: Мифтахутдинов Ильяс | C12: 13 | D12: =COUNTA(G19:G83)+D11+1 -> 187 | E12: =COUNTA(G19:G83)+1 -> 32 | F12: =MIN(G19:G84) -> 42.42 | G12: =AVERAGE(G19:G84) -> 42.849032 | H12: 2 | I12: =G12-F12 -> 0.42903226 | J12: 0.09712963 | K12: =J12-J11 -> 0.016967593 | L12: =K12+L11 -> 0.056261574 | M12: 3:18.02
A13: Финиш | B13: Пикулин Павел | C13: 9 | D13: =COUNTA(H19:H83)+D12+1 -> 241 | E13: =COUNTA(H19:H92)+1 -> 54 | F13: =MIN(H19:H77) -> 42.25 | G13: =AVERAGE(H19:H77) -> 42.646604 | H13: 1 | I13: =G13-F13 -> 0.39660377 | J13: ='Общие результаты'!G6 -> 3:00:05 | K13: =J13-J12 -> 0.027928241 | L13: =K13+L10 -> 0.068796296
F14: =AVERAGE(F8,F10,F13) -> 42.18 | G14: =AVERAGE(G8,G10,G13) -> 42.504993 | H14: Паша | I14: =AVERAGE(I8,I10,I13) -> 0.3249933
F15: =AVERAGE(F9,F11,F12) -> 42.416667 | G15: =AVERAGE(G9,G11,G12) -> 42.758061 | H15: Ильяс | I15: =AVERAGE(I9,I11,I12) -> 0.34139459
F16: =AVERAGE(F8:F13) -> 42.298333 | G16: =AVERAGE(C19:H95) -> 42.621695 | I16: =AVERAGE(I8:I13) -> 0.33319395
C18: =B8 -> Пикулин Павел | D18: =B9 -> Мифтахутдинов Ильяс | E18: =B10 -> Пикулин Павел | F18: =B11 -> Мифтахутдинов Ильяс | G18: =B12 -> Мифтахутдинов Ильяс | H18: =B12 -> Мифтахутдинов Ильяс
B19: 1 | C19: 42.82 | D19: 43.31 | E19: 43.12 | F19: 43.11 | G19: 43.38 | H19: 43.02
B20: 2 | C20: 42.48 | D20: 42.56 | E20: 42.63 | F20: 42.64 | G20: 42.73 | H20: 42.6
B21: 3 | C21: 43.61 | D21: 42.7 | E21: 42.42 | F21: 42.8 | G21: 42.74 | H21: 42.45
B22: 4 | C22: 42.11 | D22: 42.62 | E22: 42.36 | F22: 42.94 | G22: 42.77 | H22: 42.41
B23: 5 | C23: 42.43 | D23: 42.56 | E23: 42.42 | F23: 42.49 | G23: 43.02 | H23: 42.44
B24: 6 | C24: 42.35 | D24: 42.69 | E24: 42.26 | F24: 42.85 | G24: 42.56 | H24: 42.42
B25: 7 | C25: 42.36 | D25: 42.44 | E25: 42.25 | F25: 42.66 | G25: 42.64 | H25: 42.58
B26: 8 | C26: 42.39 | D26: 42.57 | E26: 42.38 | F26: 42.75 | G26: 42.63 | H26: 42.62
B27: 9 | C27: 42.21 | D27: 42.46 | E27: 42.4 | F27: 42.68 | G27: 42.52 | H27: 42.52
B28: 10 | C28: 42.34 | D28: 42.61 | E28: 42.42 | F28: 42.65 | G28: 42.79 | H28: 42.7
B29: 11 | C29: 42.23 | D29: 42.62 | E29: 42.52 | F29: 42.74 | G29: 42.67 | H29: 42.6
B30: 12 | C30: 42.31 | D30: 42.44 | E30: 42.42 | F30: 42.95 | G30: 42.87 | H30: 42.47
... B40: 22 | C40: 42.18 | D40: 42.46 | E40: 42.54 | F40: 42.48 | G40: 42.46 | H40: 42.46
B41: 23 | C41: 42.11 | D41: 42.54 | E41: 42.47 | G41: 42.44 | H41: 42.53
B42: 24 | C42: 42.09 | D42: 42.69 | E42: 42.52 | G42: 42.73 | H42: 42.45
B43: 25 | C43: 42.47 | D43: 42.64 | E43: 42.36 | G43: 42.56 | H43: 42.45
B44: 26 | C44: 42.48 | D44: 42.75 | E44: 42.59 | G44: 42.55 | H44: 42.46
B45: 27 | C45: 42.33 | D45: 42.67 | E45: 42.34 | G45: 42.77 | H45: 42.55
B46: 28 | C46: 42.85 | D46: 42.71 | E46: 43.03 | G46: 42.42 | H46: 42.32
B47: 29 | C47: 42.39 | D47: 42.8 | E47: 42.38 | G47: 42.86 | H47: 42.41
B48: 30 | C48: 42.24 | D48: 42.61 | E48: 42.55 | G48: 42.65 | H48: 42.43
B49: 31 | C49: 42.24 | D49: 42.97 | E49: 42.54 | G49: 42.68 | H49: 42.45
B50: 32 | C50: 42.34 | D50: 42.82 | E50: 42.3 | H50: 42.41
B51: 33 | C51: 42.28 | D51: 42.86 | E51: 42.43 | H51: 42.56
B52: 34 | C52: 42.21 | D52: 43.5 | E52: 42.86 | H52: 42.51
B53: 35 | C53: 42.4 | D53: 42.59 | E53: 42.49 | H53: 43.11
...

Sheet MST
A2: Чемпионат мини марафон "Большие Гонки", 5-й этап
A4: MST
A6: Обяза-тельные | B6: Пилот | C6: карт | D6: Круг | E6: кругов на отрезке | F6: Статистика по кругам | J6: Общее время гонки | K6: Время на трассе
F7: Лучший круг | G7: Среднее на отрезке | H7: Кругов в 0,1 от лучшего | I7: стабильность | K7: отрезок | L7: всего у пилота | M7: Питы | N7: Штрафы/ бонусы (сек)
A8: 1 | B8: Стоцкий Андрей | C8: 10 | D8: =COUNTA(C19:C83) -> 41 | E8: =COUNTA(C19:C83) -> 41 | F8: =MIN(C19:C82) -> 42.01 | G8: =AVERAGE(C19:C85) -> 42.618537 | H8: 6 | I8: =G8-F8 -> 0.60853659 | J8: 0.020717593 | K8: =J8 -> 0.020717593 | L8: =K8 -> 0.020717593 | M8: 2:16.33
A9: 2 | B9: Петушков Андрей | C9: 13 | D9: =COUNTA(D19:D83)+D8+1 -> 96 | E9: =COUNTA(D19:D83)+1 -> 55 | F9: =MIN(D19:D82) -> 42.34 | G9: =AVERAGE(D19:D84) -> 42.556111 | H9: 12 | I9: =G9-F9 -> 0.21611111 | J9: 0.048900463 | K9: =J9-J8 -> 0.02818287 | L9: =K9 -> 0.02818287 | M9: 2:17.40
A10: 3 | B10: Стоцкий Андрей | C10: 1 | D10: =COUNTA(E19:E83)+D9+1 -> 136 | E10: =COUNTA(E19:E83)+1 -> 40 | F10: =MIN(E19:E84) -> 42.39 | G10: =AVERAGE(E19:E85) -> 42.563846 | H10: 14 | I10: =G10-F10 -> 0.17384615 | J10: 0.069699074 | K10: =J10-J9 -> 0.020798611 | L10: =K10+L8 -> 0.041516204 | M10: 2:17.50
A11: 4 | B11: Петушков Андрей | C11: 4 | D11: =COUNTA(F19:F83)+D10+1 -> 173 | E11: =COUNTA(F19:F83)+1 -> 37 | F11: =MIN(F19:F84) -> 42.46 | G11: =AVERAGE(F19:F84) -> 42.756389 | H11: 5 | I11: =G11-F11 -> 0.29638889 | J11: 0.089108796 | K11: =J11-J10 -> 0.019409722 | L11: =K11+L9 -> 0.047592593 | M11: 2:41.55
A12: 5 | B12: Стоцкий Андрей | C12: 4 | D12: =COUNTA(G19:G83)+D11+1 -> 219 | E12: =COUNTA(G19:G83)+1 -> 46 | F12: =MIN(G19:G84) -> 42.15 | G12: =AVERAGE(G20:G84) -> 42.430909 | H12: 4 | I12: =G12-F12 -> 0.28090909 | J12: 0.11363426 | K12: =J12-J11 -> 0.024525463 | L12: =K12+L10 -> 0.066041667 | M12: 2:07.52 | N12: -70 | O12: компенсаия поломки
A13: Финиш | B13: Петушков Андрей | C13: 69 | D13: =COUNTA(H19:H83)+D12+1 -> 241 | E13: =COUNTA(H19:H92)+1 -> 22 | F13: =MIN(H19:H77) -> 42.52 | G13: =AVERAGE(H19:H77) -> 43.020952 | H13: 4 | I13: =G13-F13 -> 0.50095238 | J13: ='Общие результаты'!G6 -> 3:00:05 | K13: =J13-J12 -> 0.011423611 | L13: =K13+L11 -> 0.059016204 | N13: 5 | O13: линия
F14: =AVERAGE(F8,F10,F12) -> 42.183333 | G14: =AVERAGE(G8,G10,G12) -> 42.537764 | H14: Андре С | I14: =AVERAGE(I8,I10,I12) -> 0.35443061
F15: =AVERAGE(F9,F11,F13) -> 42.44 | G15: =AVERAGE(G9,G11,G13) -> 42.777817 | H15: Андрей П | I15: =AVERAGE(I9,I11,I13) -> 0.33781746
F16: =AVERAGE(F8:F13) -> 42.311667 | G16: =AVERAGE(C19:F95,G20:G81,H19:H81) -> 42.617064 | I16: =AVERAGE(I8:I13) -> 0.34612404
C18: =B8 -> Стоцкий Андрей | D18: =B9 -> Петушков Андрей | E18: =B10 -> Стоцкий Андрей | F18: =B11 -> Петушков Андрей | G18: =B12 -> Стоцкий Андрей | H18: =B12 -> Стоцкий Андрей
B19: 1 | C19: 43.16 | D19: 43.21 | E19: 42.95 | F19: 43.15 | G19: 90.96 | H19: 44.92
B20: 2 | C20: 42.64 | D20: 42.54 | E20: 42.56 | F20: 42.66 | G20: 43 | H20: 42.95
B21: 3 | C21: 43.27 | D21: 42.65 | E21: 42.48 | F21: 42.73 | G21: 42.3 | H21: 44.1
B22: 4 | C22: 45.1 | D22: 42.62 | E22: 42.55 | F22: 42.77 | G22: 42.32 | H22: 43.08
B23: 5 | C23: 45.17 | D23: 42.6 | E23: 42.69 | F23: 42.82 | G23: 42.41 | H23: 42.52
B24: 6 | C24: 43.18 | D24: 42.66 | E24: 42.73 | F24: 42.85 | G24: 42.32 | H24: 42.57
B25: 7 | C25: 44.31 | D25: 42.51 | E25: 42.44 | F25: 42.79 | G25: 42.29 | H25: 42.63
B26: 8 | C26: 43.29 | D26: 42.37 | E26: 42.44 | F26: 42.72 | G26: 42.26 | H26: 42.59
B27: 9 | C27: 42.29 | D27: 42.46 | E27: 42.6 | F27: 42.61 | G27: 42.47 | H27: 42.59
B28: 10 | C28: 43.36 | D28: 42.58 | E28: 42.59 | F28: 42.66 | G28: 42.36 | H28: 42.59
B29: 11 | C29: 42.19 | D29: 42.99 | E29: 42.47 | F29: 42.54 | G29: 42.49 | H29: 42.86
B30: 12 | C30: 42.27 | D30: 42.53 | E30: 42.46 | F30: 42.54 | G30: 42.16 | H30: 43.52
... B39: 21 | C39: 42.13 | D39: 42.62 | E39: 42.52 | F39: 42.69 | G39: 42.44 | H39: 42.84
B40: 22 | C40: 42.19 | D40: 42.48 | E40: 42.49 | F40: 42.56 | G40: 42.32
B41: 23 | C41: 42.25 | D41: 42.45 | E41: 42.61 | F41: 42.62 | G41: 42.34
B42: 24 | C42: 42.06 | D42: 42.54 | E42: 42.57 | F42: 42.78 | G42: 42.46
B43: 25 | C43: 42.23 | D43: 42.45 | E43: 42.73 | F43: 42.77 | G43: 42.55
B44: 26 | C44: 42.33 | D44: 42.37 | E44: 42.49 | F44: 42.86 | G44: 43.15
B45: 27 | C45: 42.04 | D45: 42.85 | E45: 42.43 | F45: 43.12 | G45: 42.35
B46: 28 | C46: 42.28 | D46: 42.79 | E46: 42.5 | F46: 42.77 | G46: 42.43
B47: 29 | C47: 42.09 | D47: 42.6 | E47: 42.66 | F47: 43.43 | G47: 42.26
B48: 30 | C48: 42.26 | D48: 42.4 | E48: 42.66 | F48: 42.78 | G48: 42.5
B49: 31 | C49: 42.04 | D49: 42.44 | E49: 42.69 | F49: 42.79 | G49: 42.4
B50: 32 | C50: 42.15 | D50: 42.6 | E50: 42.54 | F50: 42.98 | G50: 42.46
B51: 33 | C51: 42.31 | D51: 42.35 | E51: 42.95 | F51: 42.72 | G51: 42.39
... B54: 36 | C54: 42.49 | D54: 42.38 | E54: 42.41 | F54: 42.85 | G54: 42.53
...

Sheet Fortuna Racing
A2: Чемпионат мини марафон "Большие Гонки", 5-й этап
A4: Fortuna Racing
A6: Обяза-тельные | B6: Пилот | C6: карт | D6: Круг | E6: кругов на отрезке | F6: Статистика по кругам | J6: Общее время гонки | K6: Время на трассе
F7: Лучший круг | G7: Среднее на отрезке | H7: Кругов в 0,1 от лучшего | I7: стабильность | K7: отрезок | L7: всего у пилота | M7: Питы | N7: Штрафы/ бонусы (сек)
A8: 1 | B8: Шутка Виталий | C8: 11 | D8: =COUNTA(C19:C83) -> 42 | E8: =COUNTA(C19:C83) -> 42 | F8: =MIN(C19:C82) -> 42.19 | G8: =AVERAGE(C19:C85) -> 42.680952 | H8: 0 | I8: =G8-F8 -> 0.49095238 | J8: 0.021238426 | K8: =J8 -> 0.021238426 | L8: =K8 -> 0.021238426 | M8: 2:18.23
A9: 2 | B9: Фортуна Таня | C9: 4 | D9: =COUNTA(D19:D83)+D8+1 -> 97 | E9: =COUNTA(D19:D83)+1 -> 55 | F9: =MIN(D19:D82) -> 42.54 | G9: =AVERAGE(D19:D84) -> 42.789444 | H9: 6 | I9: =G9-F9 -> 0.24944444 | J9: 0.049583333 | K9: =J9-J8 -> 0.028344907 | L9: =K9 -> 0.028344907 | M9: 2:23.16 | N9: 5 | O9: лимит
A10: 3 | B10: Фортуна Таня | C10: 8 | D10: =COUNTA(E19:E83)+D9+1 -> 157 | E10: =COUNTA(E19:E83)+1 -> 60 | F10: =MIN(E19:E84) -> 42.2 | G10: =AVERAGE(E19:E85) -> 42.571017 | H10: 3 | I10: =G10-F10 -> 0.37101695 | J10: 0.0803125 | K10: =J10-J9 -> 0.030729167 | L10: =K10+L9 -> 0.059074074 | M10: 2:16.05
A11: 4 | B11: Шутка Виталий | C11: 3 | D11: =COUNTA(F19:F83)+D10+1 -> 197 | E11: =COUNTA(F19:F83)+1 -> 40 | F11: =MIN(F19:F84) -> 42.36 | G11: =AVERAGE(F19:F84) -> 42.660769 | H11: 1 | I11: =G11-F11 -> 0.30076923 | J11: 0.10115741 | K11: =J11-J10 -> 0.020844907 | L11: =K11+L8 -> 0.042083333 | M11: 2:18.46
A12: 5 | B12: Шутка Виталий | C12: 10 | D12: =COUNTA(G19:G83)+D11+1 -> 216 | E12: =COUNTA(G19:G83)+1 -> 19 | F12: =MIN(G19:G84) -> 42.63 | G12: =AVERAGE(G19:G84) -> 42.836111 | H12: 7 | I12: =G12-F12 -> 0.20611111 | J12: 0.11167824 | K12: =J12-J11 -> 0.010520833 | L12: =K12+L11 -> 0.052604167 | M12: 3:18.03
A13: Финиш | B13: Шутка Виталий | C13: 44 | D13: =COUNTA(H19:H83)+D12+1 -> 241 | E13: =COUNTA(H19:H92)+1 -> 25 | F13: =MIN(H19:H77) -> 42.62 | G13: =AVERAGE(H19:H77) -> 42.917917 | H13: 1 | I13: =G13-F13 -> 0.29791667 | J13: ='Общие результаты'!G6 -> 3:00:05 | K13: =J13-J12 -> 0.01337963 | L13: =K13+L12 -> 0.065983796 | N13: 5 | O13: подбивание на пите
F14: =AVERAGE(F8,F11,F12,F13) -> 42.45 | G14: =AVERAGE(G8,G11,G12,G13) -> 42.773937 | H14: Виталик | I14: =AVERAGE(I8,I11,I12,I13) -> 0.32393735
F15: =AVERAGE(F9,F10) -> 42.37 | G15: =AVERAGE(G9,G10) -> 42.680231 | H15: Таня | I15: =AVERAGE(I9,I10) -> 0.3102307
F16: =AVERAGE(F8:F13) -> 42.423333 | G16: =AVERAGE(C19:H95) -> 42.71089 | I16: =AVERAGE(I8:I13) -> 0.31936846
C18: =B8 -> Шутка Виталий | D18: =B9 -> Фортуна Таня | E18: =B10 -> Фортуна Таня | F18: =B11 -> Шутка Виталий | G18: =B12 -> Шутка Виталий | H18: =B12 -> Шутка Виталий
B19: 1 | C19: 42.82 | D19: 43.53 | E19: 42.95 | F19: 43.25 | G19: 43.76 | H19: 43.39
B20: 2 | C20: 42.56 | D20: 42.73 | E20: 42.48 | F20: 42.6 | G20: 42.84 | H20: 42.93
B21: 3 | C21: 43.16 | D21: 42.75 | E21: 42.46 | F21: 42.7 | G21: 42.87 | H21: 42.66
B22: 4 | C22: 42.81 | D22: 42.65 | E22: 42.52 | F22: 42.81 | G22: 42.66 | H22: 42.79
B23: 5 | C23: 42.69 | D23: 42.92 | E23: 42.61 | F23: 42.53 | G23: 42.92 | H23: 43.55
B24: 6 | C24: 42.39 | D24: 42.81 | E24: 42.44 | F24: 42.61 | G24: 42.63 | H24: 42.9
B25: 7 | C25: 42.32 | D25: 42.69 | E25: 42.42 | F25: 42.61 | G25: 42.65 | H25: 42.79
B26: 8 | C26: 42.39 | D26: 42.78 | E26: 42.38 | F26: 42.54 | G26: 42.9 | H26: 42.85
B27: 9 | C27: 42.38 | D27: 42.8 | E27: 42.5 | F27: 42.66 | G27: 42.71 | H27: 42.96
B28: 10 | C28: 42.32 | D28: 42.67 | E28: 42.3 | F28: 42.54 | G28: 42.65 | H28: 42.81
B29: 11 | C29: 42.32 | D29: 42.63 | E29: 42.41 | F29: 42.69 | G29: 42.67 | H29: 42.96
B30: 12 | C30: 42.19 | D30: 42.68 | E30: 42.82 | F30: 42.61 | G30: 43.16 | H30: 42.76
... B36: 18 | C36: 42.53 | D36: 42.87 | E36: 42.55 | F36: 42.8 | G36: 42.92 | H36: 42.78
B37: 19 | C37: 42.46 | D37: 42.88 | E37: 42.84 | F37: 42.68 | H37: 42.97
B38: 20 | C38: 42.46 | D38: 42.86 | E38: 43.59 | F38: 42.81 | H38: 42.8
B39: 21 | C39: 42.6 | D39: 42.63 | E39: 44.84 | F39: 42.86 | H39: 43.14
B40: 22 | C40: 42.62 | D40: 42.6 | E40: 42.66 | F40: 42.59 | H40: 42.96
B41: 23 | C41: 42.43 | D41: 42.75 | E41: 42.53 | F41: 42.5 | H41: 43
B42: 24 | C42: 43.02 | D42: 42.63 | E42: 42.41 | F42: 42.48 | H42: 42.92
B43: 25 | C43: 42.61 | D43: 42.66 | E43: 42.84 | F43: 42.36
B44: 26 | C44: 43.4 | D44: 42.65 | E44: 42.53 | F44: 42.92
B45: 27 | C45: 43.01 | D45: 42.66 | E45: 42.31 | F45: 43.07
B46: 28 | C46: 42.75 | D46: 42.7 | E46: 42.42 | F46: 42.5
B47: 29 | C47: 42.54 | D47: 42.88 | E47: 42.42 | F47: 42.58
B48: 30 | C48: 42.71 | D48: 42.85 | E48: 42.5 | F48: 42.44
B49: 31 | C49: 42.84 | D49: 42.67 | E49: 42.55 | F49: 42.74
...

Sheet Kozak I Razboiniki
A2: Чемпионат мини марафон "Большие Гонки", 5-й этап
A4: Kozak I Razboiniki
A6: Обяза-тельные | B6: Пилот | C6: карт | D6: Круг | E6: кругов на отрезке | F6: Статистика по кругам | J6: Общее время гонки | K6: Время на трассе
F7: Лучший круг | G7: Среднее на отрезке | H7: Кругов в 0,1 от лучшего | I7: стабильность | K7: отрезок | L7: всего у пилота | M7: Питы | N7: Штрафы/ бонусы (сек)
A8: 1 | B8: Тыщенко Миша | C8: 1 | D8: =COUNTA(C19:C83) -> 23 | E8: =COUNTA(C19:C83) -> 23 | F8: =MIN(C19:C82) -> 42.35 | G8: =AVERAGE(C19:C85) -> 43.262609 | H8: 2 | I8: =G8-F8 -> 0.9126087 | J8: 0.012013889 | K8: =J8 -> 0.012013889 | L8: =K8 -> 0.012013889 | M8: 2:03.80 | N8: -13.5 | O8: бонус за вес
A9: 2 | B9: Манило Денис | C9: 6 | D9: =COUNTA(D19:D83)+D8+1 -> 48 | E9: =COUNTA(D19:D83)+1 -> 25 | F9: =MIN(D19:D82) -> 42.44 | G9: =AVERAGE(D19:D84) -> 42.678333 | H9: 2 | I9: =G9-F9 -> 0.23833333 | J9: 0.025300926 | K9: =J9-J8 -> 0.013287037 | L9: =K9 -> 0.013287037 | M9: 2:17.73
A10: 3 | B10: Тыщенко Миша | C10: 33 | D10: =COUNTA(E19:E83)+D9+1 -> 94 | E10: =COUNTA(E19:E83)+1 -> 46 | F10: =MIN(E19:E84) -> 42.59 | G10: =AVERAGE(E19:E85) -> 42.965556 | H10: 2 | I10: =G10-F10 -> 0.37555556 | J10: 0.049282407 | K10: =J10-J9 -> 0.023981481 | L10: =K10+L8 -> 0.03599537 | M10: 2:18.24
A11: 4 | B11: Манило Денис | C11: 44 | D11: =COUNTA(F19:F83)+D10+1 -> 154 | E11: =COUNTA(F19:F83)+1 -> 60 | F11: =MIN(F19:F84) -> 42.35 | G11: =AVERAGE(F19:F84) -> 42.702881 | H11: 4 | I11: =G11-F11 -> 0.35288136 | J11: 0.080069444 | K11: =J11-J10 -> 0.030787037 | L11: =K11+L9 -> 0.044074074 | M11: 2:18.01
A12: 5 | B12: Тыщенко Миша | C12: 1 | D12: =COUNTA(G19:G83)+D11+1 -> 194 | E12: =COUNTA(G19:G83)+1 -> 40 | F12: =MIN(G19:G84) -> 42.62 | G12: =AVERAGE(G19:G84) -> 42.892051 | H12: 2 | I12: =G12-F12 -> 0.27205128 | J12: 0.10100694 | K12: =J12-J11 -> 0.0209375 | L12: =K12+L10 -> 0.05693287 | M12: 3:17.71
A13: Финиш | B13: Манило Денис | C13: 2 | D13: =COUNTA(H19:H83)+D12+1 -> 240 | E13: =COUNTA(H19:H92)+1 -> 46 | F13: =MIN(H19:H77) -> 42.33 | G13: =AVERAGE(H19:H77) -> 42.793556 | H13: 2 | I13: =G13-F13 -> 0.46355556 | J13: ='Общие результаты'!G6 -> 3:00:05 | K13: =J13-J12 -> 0.024050926 | L13: =K13+L11 -> 0.068125
F14: =AVERAGE(F8,F10,F12) -> 42.52 | G14: =AVERAGE(G8,G10,G12) -> 43.040072 | H14: Миша | I14: =AVERAGE(I8,I10,I12) -> 0.52007184
F15: =AVERAGE(F9,F11,F13) -> 42.373333 | G15: =AVERAGE(G9,G11,G13) -> 42.724923 | H15: Денис | I15: =AVERAGE(I9,I11,I13) -> 0.35159008
F16: =AVERAGE(F8:F13) -> 42.446667 | G16: =AVERAGE(C19:H95) -> 42.854213 | I16: =AVERAGE(I8:I13) -> 0.43583096
C18: =B8 -> Тыщенко Миша | D18: =B9 -> Манило Денис | E18: =B10 -> Тыщенко Миша | F18: =B11 -> Манило Денис | G18: =B12 -> Тыщенко Миша | H18: =B12 -> Тыщенко Миша
B19: 1 | C19: 45.85 | D19: 43.43 | E19: 43.52 | F19: 43.49 | G19: 43.14 | H19: 43.46
B20: 2 | C20: 43.71 | D20: 42.65 | E20: 43 | F20: 42.81 | G20: 42.94 | H20: 42.77
B21: 3 | C21: 43.72 | D21: 42.61 | E21: 42.94 | F21: 42.76 | G21: 42.84 | H21: 42.6
B22: 4 | C22: 42.43 | D22: 42.55 | E22: 42.86 | F22: 42.78 | G22: 42.73 | H22: 42.63
B23: 5 | C23: 45.3 | D23: 42.68 | E23: 42.98 | F23: 42.69 | G23: 42.77 | H23: 42.59
B24: 6 | C24: 43.95 | D24: 42.65 | E24: 42.72 | F24: 42.76 | G24: 43.34 | H24: 42.78
B25: 7 | C25: 45.12 | D25: 42.61 | E25: 43.07 | F25: 42.79 | G25: 43.49 | H25: 42.68
B26: 8 | C26: 43.01 | D26: 42.52 | E26: 43.58 | F26: 42.7 | G26: 42.79 | H26: 42.5
B27: 9 | C27: 42.48 | D27: 42.71 | E27: 42.91 | F27: 42.69 | G27: 42.73 | H27: 42.57
B28: 10 | C28: 42.7 | D28: 42.44 | E28: 43.05 | F28: 42.57 | G28: 42.92 | H28: 42.63
B29: 11 | C29: 42.58 | D29: 42.68 | E29: 42.84 | F29: 42.61 | G29: 42.89 | H29: 42.61
B30: 12 | C30: 43.25 | D30: 42.58 | E30: 43.63 | F30: 42.7 | G30: 43.27 | H30: 43.25
... B41: 23 | C41: 42.44 | D41: 42.74 | E41: 42.71 | F41: 42.74 | G41: 42.94 | H41: 42.54
B42: 24 | D42: 42.68 | E42: 43.46 | F42: 43.55 | G42: 42.78 | H42: 42.33
B43: 25 | E43: 42.9 | F43: 42.64 | G43: 42.9 | H43: 43.38
B44: 26 | E44: 42.74 | F44: 42.53 | G44: 42.68 | H44: 42.84
B45: 27 | E45: 42.7 | F45: 42.51 | G45: 42.85 | H45: 42.56
B46: 28 | E46: 42.71 | F46: 42.62 | G46: 42.89 | H46: 42.51
B47: 29 | E47: 42.83 | F47: 42.43 | G47: 42.88 | H47: 42.53
B48: 30 | E48: 42.71 | F48: 42.87 | G48: 42.95 | H48: 42.43
B49: 31 | E49: 42.67 | F49: 42.43 | G49: 42.77 | H49: 42.61
B50: 32 | E50: 42.92 | F50: 42.61 | G50: 42.72 | H50: 42.53
B51: 33 | E51: 42.65 | F51: 42.58 | G51: 42.95 | H51: 43.15
B52: 34 | E52: 42.72 | F52: 42.64 | G52: 42.76 | H52: 43.61
B53: 35 | E53: 42.79 | F53: 42.5 | G53: 42.75 | H53: 43.33
B54: 36 | E54: 42.9 | F54: 42.81 | G54: 42.77 | H54: 44.45
...

Sheet Mesnyki
A2: Чемпионат мини марафон "Большие Гонки", 5-й этап
A4: Mesnyki
A6: Обяза-тельные | B6: Пилот | C6: карт | D6: Круг | E6: кругов на отрезке | F6: Статистика по кругам | J6: Общее время гонки | K6: Время на трассе
F7: Лучший круг | G7: Среднее на отрезке | H7: Кругов в 0,1 от лучшего | I7: стабильность | K7: отрезок | L7: всего у пилота | M7: Питы | N7: Штрафы/ бонусы (сек)
A8: 1 | B8: Наум | C8: 21 | D8: =COUNTA(C19:C83) -> 42 | E8: =COUNTA(C19:C83) -> 42 | F8: =MIN(C19:C82) -> 42.01 | G8: =AVERAGE(C19:C85) -> 42.600714 | H8: 3 | I8: =G8-F8 -> 0.59071429 | J8: 0.021215278 | K8: =J8 -> 0.021215278 | L8: =K8 -> 0.021215278 | M8: 1:54.99 | N8: -22.5 | O8: бонус за вес
A9: 2 | B9: Наум | C9: 3 | D9: =COUNTA(D19:D83)+D8+1 -> 64 | E9: =COUNTA(D19:D83)+1 -> 22 | F9: =MIN(D19:D82) -> 42.41 | G9: =AVERAGE(D19:D84) -> 42.710952 | H9: 5 | I9: =G9-F9 -> 0.30095238 | J9: 0.032939815 | K9: =J9-J8 -> 0.011724537 | L9: =K9+L8 -> 0.032939815 | M9: 2:22.92 | N9: 5 | O9: лимит
A10: 3 | B10: Загорулько Иван | C10: 69 | D10: =COUNTA(E19:E83)+D9+1 -> 123 | E10: =COUNTA(E19:E83)+1 -> 59 | F10: =MIN(E19:E84) -> 42.79 | G10: =AVERAGE(E19:E85) -> 43.282414 | H10: 4 | I10: =G10-F10 -> 0.49241379 | J10: 0.063657407 | K10: =J10-J9 -> 0.030717593 | L10: =K10 -> 0.030717593 | M10: 2:18.08
A11: 4 | B11: Наум | C11: 6 | D11: =COUNTA(F19:F83)+D10+1 -> 173 | E11: =COUNTA(F19:F83)+1 -> 50 | F11: =MIN(F19:F84) -> 42.29 | G11: =AVERAGE(F19:F84) -> 42.639796 | H11: 2 | I11: =G11-F11 -> 0.34979592 | J11: 0.08943287 | K11: =J11-J10 -> 0.025775463 | L11: =K11+L9 -> 0.058715278 | M11: 2:19.01
A12: 5 | B12: Загорулько Иван | C12: 8 | D12: =COUNTA(G19:G83)+D11+1 -> 219 | E12: =COUNTA(G19:G83)+1 -> 46 | F12: =MIN(G19:G84) -> 42.65 | G12: =AVERAGE(G19:G84) -> 42.989333 | H12: 2 | I12: =G12-F12 -> 0.33933333 | J12: 0.1134375 | K12: =J12-J11 -> 0.02400463 | L12: =K12+L10 -> 0.054722222 | M12: 3:17.90
A13: Финиш | B13: Наум | C13: 11 | D13: =COUNTA(H19:H83)+D12+1 -> 240 | E13: =COUNTA(H19:H92)+1 -> 21 | F13: =MIN(H19:H77) -> 42.46 | G13: =AVERAGE(H19:H77) -> 42.777 | H13: 7 | I13: =G13-F13 -> 0.317 | J13: ='Общие результаты'!G6 -> 3:00:05 | K13: =J13-J12 -> 0.01162037 | L13: =K13+L11 -> 0.070335648 | N13: 10 | O13: минималка на пилота
F14: =AVERAGE(F8,F9,F11,F13) -> 42.2925 | G14: =AVERAGE(G8,G9,G11,G13) -> 42.682116 | H14: Наум | I14: =AVERAGE(I8,I9,I11,I13) -> 0.38961565
F15: =AVERAGE(F10,F12) -> 42.72 | G15: =AVERAGE(G10,G12) -> 43.135874 | H15: Ваня | I15: =AVERAGE(I10,I12) -> 0.41587356
F16: =AVERAGE(F8:F13) -> 42.435 | G16: =AVERAGE(C19:H95) -> 42.876383 | I16: =AVERAGE(I8:I13) -> 0.39836829
C18: =B8 -> Наум | D18: =B9 -> Наум | E18: =B10 -> Загорулько Иван | F18: =B11 -> Наум | G18: =B12 -> Загорулько Иван | H18: =B12 -> Загорулько Иван
B19: 1 | C19: 45.06 | D19: 42.7 | E19: 44.07 | F19: 43.02 | G19: 43.31 | H19: 43.11
B20: 2 | C20: 43.36 | D20: 42.74 | E20: 43.64 | F20: 42.35 | G20: 43.19 | H20: 42.59
B21: 3 | C21: 42.71 | D21: 42.52 | E21: 43.64 | F21: 43.21 | G21: 42.92 | H21: 42.64
B22: 4 | C22: 42.33 | D22: 43.28 | E22: 43.48 | F22: 42.49 | G22: 42.72 | H22: 42.54
B23: 5 | C23: 45.47 | D23: 43.01 | E23: 43.34 | F23: 42.46 | G23: 43.32 | H23: 42.5
B24: 6 | C24: 43.2 | D24: 42.62 | E24: 43.07 | F24: 42.76 | G24: 42.8 | H24: 42.5
B25: 7 | C25: 43.2 | D25: 43.15 | E25: 42.98 | F25: 42.51 | G25: 42.65 | H25: 42.77
B26: 8 | C26: 42.29 | D26: 42.97 | E26: 43.16 | F26: 42.38 | G26: 42.67 | H26: 42.99
B27: 9 | C27: 42.64 | D27: 43.13 | E27: 43.32 | F27: 42.61 | G27: 42.9 | H27: 43.51
B28: 10 | C28: 43.11 | D28: 42.83 | E28: 44.36 | F28: 42.61 | G28: 42.73 | H28: 42.64
B29: 11 | C29: 42.39 | D29: 42.8 | E29: 43.31 | F29: 42.43 | G29: 42.81 | H29: 42.53
B30: 12 | C30: 42.2 | D30: 42.55 | E30: 42.99 | F30: 42.43 | G30: 42.92 | H30: 42.7
... B38: 20 | C38: 42.47 | D38: 42.76 | E38: 43.52 | F38: 42.4 | G38: 43.02 | H38: 43.54
B39: 21 | C39: 42.26 | D39: 42.58 | E39: 42.88 | F39: 42.46 | G39: 42.89
B40: 22 | C40: 42.21 | E40: 42.86 | F40: 42.56 | G40: 43.22
B41: 23 | C41: 42.05 | E41: 43.08 | F41: 42.62 | G41: 42.97
B42: 24 | C42: 42.16 | E42: 42.79 | F42: 42.46 | G42: 42.92
B43: 25 | C43: 42.36 | E43: 43.09 | F43: 42.53 | G43: 43.14
B44: 26 | C44: 42.21 | E44: 42.99 | F44: 42.5 | G44: 42.92
B45: 27 | C45: 42.11 | E45: 42.89 | F45: 42.94 | G45: 43.22
B46: 28 | C46: 42.01 | E46: 43.07 | F46: 42.61 | G46: 43.07
B47: 29 | C47: 42.14 | E47: 43.25 | F47: 42.66 | G47: 42.94
B48: 30 | C48: 42.19 | E48: 43.13 | F48: 42.54 | G48: 43.24
B49: 31 | C49: 42.15 | E49: 43.08 | F49: 42.63 | G49: 43
B50: 32 | C50: 42.24 | E50: 43.07 | F50: 43.08 | G50: 43.14
B51: 33 | C51: 42.25 | E51: 43.16 | F51: 42.72 | G51: 42.83
...

Sheet ASS Racing team
A2: Чемпионат мини марафон "Большие Гонки", 5-й этап
A4: ASS Racing team
A6: Обяза-тельные | B6: Пилот | C6: карт | D6: Круг | E6: кругов на отрезке | F6: Статистика по кругам | J6: Общее время гонки | K6: Время на трассе
F7: Лучший круг | G7: Среднее на отрезке | H7: Кругов в 0,1 от лучшего | I7: стабильность | K7: отрезок | L7: всего у пилота | M7: Питы | N7: Штрафы/ бонусы (сек)
A8: 1 | B8: Ткаченко Кирилл | C8: 13 | D8: =COUNTA(C19:C83) -> 25 | E8: =COUNTA(C19:C83) -> 25 | F8: =MIN(C19:C82) -> 42.23 | G8: =AVERAGE(C19:C85) -> 42.9892 | H8: 5 | I8: =G8-F8 -> 0.7592 | J8: 0.012928241 | K8: =J8 -> 0.012928241 | L8: =K8 -> 0.012928241 | M8: 2:17.03
A9: 2 | B9: Ткаченко Кирилл | C9: 9 | D9: =COUNTA(D19:D83)+D8+1 -> 59 | E9: =COUNTA(D19:D83)+1 -> 34 | F9: =MIN(D19:D82) -> 42.35 | G9: =AVERAGE(D19:D84) -> 42.667576 | H9: 3 | I9: =G9-F9 -> 0.31757576 | J9: 0.030821759 | K9: =J9-J8 -> 0.017893519 | L9: =K9+L8 -> 0.030821759 | M9: 2:17.29
A10: 3 | B10: Гаврилюк Олег | C10: 2 | D10: =COUNTA(E19:E83)+D9+1 -> 90 | E10: =COUNTA(E19:E83)+1 -> 31 | F10: =MIN(E19:E84) -> 42.37 | G10: =AVERAGE(E19:E85) -> 42.653667 | H10: 4 | I10: =G10-F10 -> 0.28366667 | J10: 0.047222222 | K10: =J10-J9 -> 0.016400463 | L10: =K10 -> 0.016400463 | M10: 2:17.74
A11: 4 | B11: Гаврилюк Олег | C11: 3 | D11: =COUNTA(F19:F83)+D10+1 -> 125 | E11: =COUNTA(F19:F83)+1 -> 35 | F11: =MIN(F19:F84) -> 42.42 | G11: =AVERAGE(F19:F84) -> 42.625294 | H11: 9 | I11: =G11-F11 -> 0.20529412 | J11: 0.065590278 | K11: =J11-J10 -> 0.018368056 | L11: =K11+L10 -> 0.034768519 | M11: 2:17.31
A12: 5 | B12: Ткаченко Кирилл | C12: 7 | D12: =COUNTA(G19:G83)+D11+1 -> 184 | E12: =COUNTA(G19:G83)+1 -> 59 | F12: =MIN(G19:G84) -> 42.5 | G12: =AVERAGE(G19:G84) -> 42.82931 | H12: 9 | I12: =G12-F12 -> 0.32931034 | J12: 0.0959375 | K12: =J12-J11 -> 0.030347222 | L12: =K12+L9 -> 0.061168981 | M12: 3:17.83
A13: Финиш | B13: Гаврилюк Олег | C13: 6 | D13: =COUNTA(H19:H83)+D12+1 -> 240 | E13: =COUNTA(H19:H92)+1 -> 56 | F13: =MIN(H19:H77) -> 42.64 | G13: =AVERAGE(H19:H77) -> 43.289273 | H13: 13 | I13: =G13-F13 -> 0.64927273 | J13: ='Общие результаты'!G6 -> 3:00:05 | K13: =J13-J12 -> 0.02912037 | L13: =K13+L11 -> 0.063888889
F14: =AVERAGE(F8,F9,F12) -> 42.36 | G14: =AVERAGE(G8,G9,G12) -> 42.828695 | H14: Кирилл | I14: =AVERAGE(I8,I9,I12) -> 0.46869537
F15: =AVERAGE(F10,F11,F13) -> 42.476667 | G15: =AVERAGE(G10,G11,G13) -> 42.856078 | H15: Олег | I15: =AVERAGE(I10,I11,I13) -> 0.37941117
F16: =AVERAGE(F8:F13) -> 42.418333 | G16: =AVERAGE(C19:H95) -> 42.879319 | I16: =AVERAGE(I8:I13) -> 0.42405327
C18: =B8 -> Ткаченко Кирилл | D18: =B9 -> Ткаченко Кирилл | E18: =B10 -> Гаврилюк Олег | F18: =B11 -> Гаврилюк Олег | G18: =B12 -> Ткаченко Кирилл | H18: =B12 -> Ткаченко Кирилл
B19: 1 | C19: 44.51 | D19: 43.23 | E19: 42.96 | F19: 43.09 | G19: 44.73 | H19: 43.27
B20: 2 | C20: 42.48 | D20: 42.92 | E20: 42.61 | F20: 42.58 | G20: 43.2 | H20: 42.65
B21: 3 | C21: 42.39 | D21: 42.35 | E21: 43.11 | F21: 42.5 | G21: 42.94 | H21: 42.7
B22: 4 | C22: 45.2 | D22: 42.51 | E22: 42.69 | F22: 42.49 | G22: 42.88 | H22: 42.73
B23: 5 | C23: 45.5 | D23: 42.49 | E23: 42.52 | F23: 42.58 | G23: 43.63 | H23: 42.79
B24: 6 | C24: 43.38 | D24: 42.36 | E24: 42.86 | F24: 42.42 | G24: 42.62 | H24: 42.77
B25: 7 | C25: 44.92 | D25: 42.36 | E25: 42.45 | F25: 42.46 | G25: 42.97 | H25: 43.01
B26: 8 | C26: 42.36 | D26: 42.58 | E26: 42.41 | F26: 42.56 | G26: 42.82 | H26: 42.66
B27: 9 | C27: 42.35 | D27: 42.51 | E27: 42.37 | F27: 42.45 | G27: 42.64 | H27: 42.67
B28: 10 | C28: 43.46 | D28: 42.53 | E28: 42.54 | F28: 42.66 | G28: 42.63 | H28: 42.72
B29: 11 | C29: 42.44 | D29: 42.67 | E29: 42.7 | F29: 42.69 | G29: 42.63 | H29: 42.86
B30: 12 | C30: 43.9 | D30: 42.72 | E30: 42.81 | F30: 42.68 | G30: 42.83 | H30: 42.83
... B43: 25 | C43: 42.28 | D43: 42.57 | E43: 42.56 | F43: 42.67 | G43: 42.55 | H43: 43.33
B44: 26 | D44: 42.9 | E44: 42.73 | F44: 43.12 | G44: 42.82 | H44: 42.78
B45: 27 | D45: 43.41 | E45: 42.69 | F45: 42.69 | G45: 43.01 | H45: 42.88
B46: 28 | D46: 42.53 | E46: 42.62 | F46: 42.49 | G46: 42.79 | H46: 42.69
B47: 29 | D47: 42.6 | E47: 42.61 | F47: 42.67 | G47: 42.68 | H47: 42.72
B48: 30 | D48: 43.18 | E48: 42.72 | F48: 42.49 | G48: 42.62 | H48: 42.64
B49: 31 | D49: 42.57 | F49: 42.42 | G49: 42.94 | H49: 42.75
B50: 32 | D50: 42.57 | F50: 42.52 | G50: 42.87 | H50: 42.89
B51: 33 | D51: 42.82 | F51: 42.63 | G51: 42.52 | H51: 42.72
B52: 34 | F52: 42.68 | G52: 42.75 | H52: 43.3
B53: 35 | G53: 43 | H53: 42.92
B54: 36 | G54: 42.58 | H54: 42.95
B55: 37 | G55: 42.77 | H55: 43.57
B56: 38 | G56: 42.84 | H56: 65.85
...

Sheet KartFreedom
A2: Чемпионат мини марафон "Большие Гонки", 5-й этап
A4: KartFreedom
A6: Обяза-тельные | B6: Пилот | C6: карт | D6: Круг | E6: кругов на отрезке | F6: Статистика по кругам | J6: Общее время гонки | K6: Время на трассе
F7: Лучший круг | G7: Среднее на отрезке | H7: Кругов в 0,1 от лучшего | I7: стабильность | K7: отрезок | L7: всего у пилота | M7: Питы | N7: Штрафы/ бонусы (сек)
A8: 1 | B8: Медведева Даша | C8: 3 | D8: =COUNTA(C19:C83) -> 40 | E8: =COUNTA(C19:C83) -> 40 | F8: =MIN(C19:C82) -> 42.42 | G8: =AVERAGE(C19:C85) -> 43.02 | H8: 7 | I8: =G8-F8 -> 0.6 | J8: 0.020439815 | K8: =J8 -> 0.020439815 | L8: =K8 -> 0.020439815 | M8: 2:17.89
A9: 2 | B9: Медведева Даша | C9: 1 | D9: =COUNTA(D19:D83)+D8+1 -> 74 | E9: =COUNTA(D19:D83)+1 -> 34 | F9: =MIN(D19:D82) -> 42.66 | G9: =AVERAGE(D19:D84) -> 43.031212 | H9: 6 | I9: =G9-F9 -> 0.37121212 | J9: 0.038483796 | K9: =J9-J8 -> 0.018043981 | L9: =K9+L8 -> 0.038483796 | M9: 2:19.07
A10: 3 | B10: Паненко Женя | C10: 9 | D10: =COUNTA(E19:E83)+D9+1 -> 101 | E10: =COUNTA(E19:E83)+1 -> 27 | F10: =MIN(E19:E84) -> 42.67 | G10: =AVERAGE(E19:E85) -> 42.898077 | H10: 4 | I10: =G10-F10 -> 0.22807692 | J10: 0.052986111 | K10: =J10-J9 -> 0.014502315 | L10: =K10 -> 0.014502315 | M10: 2:17.58
A11: 4 | B11: Паненко Женя | C11: 21 | D11: =COUNTA(F19:F83)+D10+1 -> 133 | E11: =COUNTA(F19:F83)+1 -> 32 | F11: =MIN(F19:F84) -> 42.53 | G11: =AVERAGE(F19:F84) -> 42.763548 | H11: 6 | I11: =G11-F11 -> 0.23354839 | J11: 0.069918981 | K11: =J11-J10 -> 0.01693287 | L11: =K11+L10 -> 0.031435185 | M11: 2:16.61
A12: 5 | B12: Паненко Женя | C12: 10 | D12: =COUNTA(G19:G83)+D11+1 -> 193 | E12: =COUNTA(G19:G83)+1 -> 60 | F12: =MIN(G19:G84) -> 42.58 | G12: =AVERAGE(G19:G84) -> 42.817119 | H12: 9 | I12: =G12-F12 -> 0.23711864 | J12: 0.10074074 | K12: =J12-J11 -> 0.030821759 | L12: =K12+L11 -> 0.062256944 | M12: 3:17.55
A13: Финиш | B13: Медведева Даша | C13: 7 | D13: =COUNTA(H19:H83)+D12+1 -> 239 | E13: =COUNTA(H19:H92)+1 -> 46 | F13: =MIN(H19:H77) -> 42.51 | G13: =AVERAGE(H19:H77) -> 43.374 | H13: 0 | I13: =G13-F13 -> 0.864 | J13: ='Общие результаты'!G6 -> 3:00:05 | K13: =J13-J12 -> 0.02431713 | L13: =K13+L9 -> 0.062800926
F14: =AVERAGE(F8,F9,F13) -> 42.53 | G14: =AVERAGE(G8,G9,G13) -> 43.141737 | H14: Даша | I14: =AVERAGE(I8,I9,I13) -> 0.61173737
F15: =AVERAGE(F10,F11,F12) -> 42.593333 | G15: =AVERAGE(G10,G11,G12) -> 42.826248 | H15: Женя | I15: =AVERAGE(I10,I11,I12) -> 0.23291465
F16: =AVERAGE(F8:F13) -> 42.561667 | G16: =AVERAGE(C19:H95) -> 42.990983 | I16: =AVERAGE(I8:I13) -> 0.42232601
C18: =B8 -> Медведева Даша | D18: =B9 -> Медведева Даша | E18: =B10 -> Паненко Женя | F18: =B11 -> Паненко Женя | G18: =B12 -> Паненко Женя | H18: =B12 -> Паненко Женя
B19: 1 | C19: 44.52 | D19: 43.77 | E19: 43.79 | F19: 43.49 | G19: 43.44 | H19: 43.81
B20: 2 | C20: 42.83 | D20: 43.14 | E20: 42.94 | F20: 42.81 | G20: 42.77 | H20: 43.61
B21: 3 | C21: 42.82 | D21: 43.69 | E21: 42.83 | F21: 42.78 | G21: 42.69 | H21: 43.52
B22: 4 | C22: 43.56 | D22: 42.94 | E22: 42.83 | F22: 42.8 | G22: 43.14 | H22: 43.21
B23: 5 | C23: 45.99 | D23: 42.85 | E23: 42.78 | F23: 42.83 | G23: 42.78 | H23: 43.1
B24: 6 | C24: 43.37 | D24: 43.14 | E24: 42.81 | F24: 42.55 | G24: 42.73 | H24: 43.74
B25: 7 | C25: 45.32 | D25: 42.7 | E25: 42.9 | F25: 42.65 | G25: 42.67 | H25: 44.52
B26: 8 | C26: 42.44 | D26: 43.14 | E26: 42.76 | F26: 42.62 | G26: 42.65 | H26: 43.12
B27: 9 | C27: 42.68 | D27: 43.1 | E27: 42.86 | F27: 42.57 | G27: 43.09 | H27: 43.48
B28: 10 | C28: 42.61 | D28: 43.1 | E28: 42.85 | F28: 42.86 | G28: 42.65 | H28: 43.19
B29: 11 | C29: 42.57 | D29: 42.66 | E29: 42.95 | F29: 43.35 | G29: 42.82 | H29: 43.59
B30: 12 | C30: 43.76 | D30: 43.49 | E30: 43.07 | F30: 42.77 | G30: 42.67 | H30: 43.42
... B44: 26 | C44: 42.47 | D44: 43.4 | E44: 42.83 | F44: 42.69 | G44: 42.71 | H44: 43.11
B45: 27 | C45: 42.64 | D45: 42.84 | F45: 42.66 | G45: 42.82 | H45: 43.55
B46: 28 | C46: 42.67 | D46: 43.24 | F46: 42.72 | G46: 42.93 | H46: 43.18
B47: 29 | C47: 42.89 | D47: 42.87 | F47: 42.73 | G47: 42.91 | H47: 43.59
B48: 30 | C48: 42.42 | D48: 43.09 | F48: 42.57 | G48: 42.74 | H48: 43.16
B49: 31 | C49: 42.46 | D49: 42.99 | F49: 42.7 | G49: 43.01 | H49: 43.11
B50: 32 | C50: 42.78 | D50: 42.81 | G50: 42.76 | H50: 43.33
B51: 33 | C51: 42.51 | D51: 42.93 | G51: 42.81 | H51: 43.01
B52: 34 | C52: 42.73 | G52: 42.82 | H52: 43.35
B53: 35 | C53: 42.86 | G53: 42.8 | H53: 43.46
B54: 36 | C54: 42.87 | G54: 42.71 | H54: 43.72
B55: 37 | C55: 42.74 | G55: 42.94 | H55: 44.13
B56: 38 | C56: 42.49 | G56: 42.83 | H56: 45.59
B57: 39 | C57: 44.38 | G57: 43.02 | H57: 42.51
...

Sheet Just Karting
A2: Чемпионат мини марафон "Большие Гонки", 5-й этап
A4: Just Karting
A6: Обяза-тельные | B6: Пилот | C6: карт | D6: Круг | E6: кругов на отрезке | F6: Статистика по кругам | J6: Общее время гонки | K6: Время на трассе
F7: Лучший круг | G7: Среднее на отрезке | H7: Кругов в 0,1 от лучшего | I7: стабильность | K7: отрезок | L7: всего у пилота | M7: Питы | N7: Штрафы/ бонусы (сек)
A8: 1 | B8: Шиленко Саша | C8: 44 | D8: =COUNTA(C19:C83) -> 24 | E8: =COUNTA(C19:C83) -> 24 | F8: =MIN(C19:C82) -> 42.46 | G8: =AVERAGE(C19:C85) -> 43.502083 | H8: 0 | I8: =G8-F8 -> 1.0420833 | J8: 0.012592593 | K8: =J8 -> 0.012592593 | L8: =K8 -> 0.012592593 | M8: 2:09.66 | N8: -9 | O8: бонус за вес
A9: 2 | B9: Сомок Денис | C9: 7 | D9: =COUNTA(D19:D83)+D8+1 -> 58 | E9: =COUNTA(D19:D83)+1 -> 34 | F9: =MIN(D19:D82) -> 42.69 | G9: =AVERAGE(D19:D84) -> 42.987576 | H9: 4 | I9: =G9-F9 -> 0.29757576 | J9: 0.030509259 | K9: =J9-J8 -> 0.017916667 | L9: =K9 -> 0.017916667 | M9: 2:22.79 | N9: 5 | O9: линия
A10: 3 | B10: Шиленко Саша | C10: 6 | D10: =COUNTA(E19:E83)+D9+1 -> 100 | E10: =COUNTA(E19:E83)+1 -> 42 | F10: =MIN(E19:E84) -> 42.52 | G10: =AVERAGE(E19:E85) -> 42.899024 | H10: 4 | I10: =G10-F10 -> 0.37902439 | J10: 0.052523148 | K10: =J10-J9 -> 0.022013889 | L10: =K10+L8 -> 0.034606481 | M10: 2:18.35
A11: 4 | B11: Сомок Денис | C11: 5 | D11: =COUNTA(F19:F83)+D10+1 -> 156 | E11: =COUNTA(F19:F83)+1 -> 56 | F11: =MIN(F19:F84) -> 42.44 | G11: =AVERAGE(F19:F84) -> 42.874545 | H11: 2 | I11: =G11-F11 -> 0.43454545 | J11: 0.081435185 | K11: =J11-J10 -> 0.028912037 | L11: =K11+L9 -> 0.046828704 | M11: 2:17.96
A12: 5 | B12: Шиленко Саша | C12: 69 | D12: =COUNTA(G19:G83)+D11+1 -> 210 | E12: =COUNTA(G19:G83)+1 -> 54 | F12: =MIN(G19:G84) -> 42.59 | G12: =AVERAGE(G19:G84) -> 42.893962 | H12: 8 | I12: =G12-F12 -> 0.30396226 | J12: 0.10934028 | K12: =J12-J11 -> 0.027905093 | L12: =K12+L10 -> 0.062511574 | M12: 3:18.50
A13: Финиш | B13: Сомок Денис | C13: 3 | D13: =COUNTA(H19:H83)+D12+1 -> 239 | E13: =COUNTA(H19:H92)+1 -> 29 | F13: =MIN(H19:H77) -> 42.63 | G13: =AVERAGE(H19:H77) -> 43.220357 | H13: 1 | I13: =G13-F13 -> 0.59035714 | J13: ='Общие результаты'!G6 -> 3:00:05 | K13: =J13-J12 -> 0.015717593 | L13: =K13+L11 -> 0.062546296 | N13: 5 | O13: нарушение против 8
F14: =AVERAGE(F8,F10,F12) -> 42.523333 | G14: =AVERAGE(G8,G10,G12) -> 43.098357 | H14: Саша | I14: =AVERAGE(I8,I10,I12) -> 0.57502333
F15: =AVERAGE(F9,F11,F13) -> 42.586667 | G15: =AVERAGE(G9,G11,G13) -> 43.027493 | H15: Денис | I15: =AVERAGE(I9,I11,I13) -> 0.44082612
F16: =AVERAGE(F8:F13) -> 42.555 | G16: =AVERAGE(C19:H95) -> 43.004915 | I16: =AVERAGE(I8:I13) -> 0.50792472
C18: =B8 -> Шиленко Саша | D18: =B9 -> Сомок Денис | E18: =B10 -> Шиленко Саша | F18: =B11 -> Сомок Денис | G18: =B12 -> Шиленко Саша | H18: =B12 -> Шиленко Саша
B19: 1 | C19: 45.08 | D19: 43.72 | E19: 43.58 | F19: 43.62 | G19: 43.34 | H19: 44.12
B20: 2 | C20: 45.26 | D20: 43.05 | E20: 43.48 | F20: 42.76 | G20: 42.9 | H20: 43
B21: 3 | C21: 43.12 | D21: 42.95 | E21: 43.01 | F21: 42.44 | G21: 43.17 | H21: 42.98
B22: 4 | C22: 42.73 | D22: 42.79 | E22: 42.97 | F22: 43.04 | G22: 42.99 | H22: 43
B23: 5 | C23: 44.64 | D23: 43.02 | E23: 42.75 | F23: 42.68 | G23: 43.05 | H23: 42.77
B24: 6 | C24: 44.23 | D24: 42.81 | E24: 42.7 | F24: 42.7 | G24: 42.96 | H24: 42.75
B25: 7 | C25: 44.42 | D25: 43.04 | E25: 42.9 | F25: 42.79 | G25: 42.83 | H25: 43.32
B26: 8 | C26: 42.89 | D26: 42.95 | E26: 42.95 | F26: 42.52 | G26: 43.18 | H26: 45.89
B27: 9 | C27: 42.46 | D27: 42.86 | E27: 42.52 | F27: 43.57 | G27: 42.72 | H27: 43.12
B28: 10 | C28: 42.74 | D28: 42.76 | E28: 42.68 | F28: 42.85 | G28: 42.86 | H28: 43.72
B29: 11 | C29: 42.78 | D29: 42.84 | E29: 42.62 | F29: 43.39 | G29: 43.06 | H29: 42.63
B30: 12 | C30: 43.16 | D30: 43.17 | E30: 42.71 | F30: 42.82 | G30: 42.98 | H30: 42.88
... B42: 24 | C42: 46.43 | D42: 42.69 | E42: 42.86 | F42: 42.87 | G42: 42.85 | H42: 44.1
B43: 25 | D43: 42.99 | E43: 42.7 | F43: 42.69 | G43: 42.69 | H43: 43.1
B44: 26 | D44: 43.01 | E44: 42.6 | F44: 42.72 | G44: 43 | H44: 42.87
B45: 27 | D45: 42.92 | E45: 42.65 | F45: 42.95 | G45: 42.61 | H45: 42.83
B46: 28 | D46: 43.22 | E46: 42.96 | F46: 43.36 | G46: 42.59 | H46: 43.21
B47: 29 | D47: 42.74 | E47: 42.76 | F47: 42.74 | G47: 42.95
B48: 30 | D48: 42.83 | E48: 42.86 | F48: 42.87 | G48: 42.65
B49: 31 | D49: 42.81 | E49: 42.6 | F49: 42.82 | G49: 42.83
B50: 32 | D50: 42.94 | E50: 42.67 | F50: 42.74 | G50: 42.71
B51: 33 | D51: 43.09 | E51: 44.35 | F51: 42.6 | G51: 42.93
B52: 34 | E52: 42.87 | F52: 42.66 | G52: 43.84
B53: 35 | E53: 42.78 | F53: 42.75 | G53: 42.93
B54: 36 | E54: 42.86 | F54: 42.84 | G54: 42.97
B55: 37 | E55: 42.66 | F55: 42.61 | G55: 42.6
...

Sheet Ne fart
A2: Чемпионат мини марафон "Большие Гонки", 5-й этап
A4: Ne fart
A6: Обяза-тельные | B6: Пилот | C6: карт | D6: Круг | E6: кругов на отрезке | F6: Статистика по кругам | J6: Общее время гонки | K6: Время на трассе
F7: Лучший круг | G7: Среднее на отрезке | H7: Кругов в 0,1 от лучшего | I7: стабильность | K7: отрезок | L7: всего у пилота | M7: Питы | N7: Штрафы/ бонусы (сек)
A8: 1 | B8: Хлопонин Андрей | C8: 5 | D8: =COUNTA(C19:C83) -> 44 | E8: =COUNTA(C19:C83) -> 44 | F8: =MIN(C19:C82) -> 42.23 | G8: =AVERAGE(C19:C85) -> 42.965682 | H8: 3 | I8: =G8-F8 -> 0.73568182 | J8: 0.022395833 | K8: =J8 -> 0.022395833 | L8: =K8 -> 0.022395833 | M8: 2:17.68
A9: 2 | B9: Онащук Максим | C9: 21 | D9: =COUNTA(D19:D83)+D8+1 -> 102 | E9: =COUNTA(D19:D83)+1 -> 58 | F9: =MIN(D19:D82) -> 42.28 | G9: =AVERAGE(D19:D84) -> 42.610351 | H9: 8 | I9: =G9-F9 -> 0.33035088 | J9: 0.052094907 | K9: =J9-J8 -> 0.029699074 | L9: =K9 -> 0.029699074 | M9: 2:57.55 | N9: 35 | O9: лимит
A10: 3 | B10: Хлопонин Андрей | C10: 33 | D10: =COUNTA(E19:E83)+D9+1 -> 131 | E10: =COUNTA(E19:E83)+1 -> 29 | F10: =MIN(E19:E84) -> 42.68 | G10: =AVERAGE(E19:E85) -> 43.031786 | H10: 4 | I10: =G10-F10 -> 0.35178571 | J10: 0.068101852 | K10: =J10-J9 -> 0.016006944 | L10: =K10+L8 -> 0.038402778 | M10: 2:17.93
A11: 4 | B11: Онащук Максим | C11: 3 | D11: =COUNTA(F19:F83)+D10+1 -> 153 | E11: =COUNTA(F19:F83)+1 -> 22 | F11: =MIN(F19:F84) -> 42.44 | G11: =AVERAGE(F19:F84) -> 42.70619 | H11: 2 | I11: =G11-F11 -> 0.26619048 | J11: 0.080104167 | K11: =J11-J10 -> 0.012002315 | L11: =K11+L9 -> 0.041701389 | M11: 2:18.19
A12: 5 | B12: Хлопонин Андрей | C12: 21 | D12: =COUNTA(G19:G83)+D11+1 -> 193 | E12: =COUNTA(G19:G83)+1 -> 40 | F12: =MIN(G19:G84) -> 42.43 | G12: =AVERAGE(G19:G84) -> 42.665385 | H12: 9 | I12: =G12-F12 -> 0.23538462 | J12: 0.1009375 | K12: =J12-J11 -> 0.020833333 | L12: =K12+L10 -> 0.059236111 | M12: 3:16.65
A13: Финиш | B13: Онащук Максим | C13: 13 | D13: =COUNTA(H19:H83)+D12+1 -> 239 | E13: =COUNTA(H19:H92)+1 -> 46 | F13: =MIN(H19:H77) -> 42.3 | G13: =AVERAGE(H19:H77) -> 43.019111 | H13: 0 | I13: =G13-F13 -> 0.71911111 | J13: ='Общие результаты'!G6 -> 3:00:05 | K13: =J13-J12 -> 0.02412037 | L13: =K13+L11 -> 0.065821759 | N13: 10 | O13: нарушение против 10
F14: =AVERAGE(F8,F10,F12) -> 42.446667 | G14: =AVERAGE(G8,G10,G12) -> 42.887617 | H14: Андрей | I14: =AVERAGE(I8,I10,I12) -> 0.44095072
F15: =AVERAGE(F9,F11,F13) -> 42.34 | G15: =AVERAGE(G9,G11,G13) -> 42.778551 | H15: Максим | I15: =AVERAGE(I9,I11,I13) -> 0.43855082
F16: =AVERAGE(F8:F13) -> 42.393333 | G16: =AVERAGE(C19:H95) -> 42.823974 | I16: =AVERAGE(I8:I13) -> 0.43975077
C18: =B8 -> Хлопонин Андрей | D18: =B9 -> Онащук Максим | E18: =B10 -> Хлопонин Андрей | F18: =B11 -> Онащук Максим | G18: =B12 -> Хлопонин Андрей | H18: =B12 -> Хлопонин Андрей
B19: 1 | C19: 45.56 | D19: 43.55 | E19: 43.43 | F19: 43.17 | G19: 43.28 | H19: 43.37
B20: 2 | C20: 44.11 | D20: 42.68 | E20: 42.78 | F20: 42.86 | G20: 42.56 | H20: 42.86
B21: 3 | C21: 43.4 | D21: 42.95 | E21: 42.91 | F21: 42.52 | G21: 42.48 | H21: 42.89
B22: 4 | C22: 42.66 | D22: 42.81 | E22: 42.95 | F22: 42.75 | G22: 42.53 | H22: 42.69
B23: 5 | C23: 44.04 | D23: 43.04 | E23: 42.8 | F23: 42.84 | G23: 42.5 | H23: 42.63
B24: 6 | C24: 43.51 | D24: 42.65 | E24: 42.91 | F24: 42.44 | G24: 42.51 | H24: 42.93
B25: 7 | C25: 44.8 | D25: 42.68 | E25: 43.63 | F25: 42.89 | G25: 42.5 | H25: 42.94
B26: 8 | C26: 42.49 | D26: 42.42 | E26: 42.84 | F26: 42.78 | G26: 43.66 | H26: 42.75
B27: 9 | C27: 42.46 | D27: 42.45 | E27: 42.91 | F27: 42.79 | G27: 42.77 | H27: 42.92
B28: 10 | C28: 42.66 | D28: 42.7 | E28: 42.77 | F28: 42.94 | G28: 42.8 | H28: 42.58
B29: 11 | C29: 42.47 | D29: 42.52 | E29: 42.78 | F29: 42.65 | G29: 42.63 | H29: 42.62
B30: 12 | C30: 43.89 | D30: 42.65 | E30: 43.07 | F30: 42.53 | G30: 42.59 | H30: 42.75
... B39: 21 | C39: 42.75 | D39: 42.48 | E39: 42.98 | F39: 42.73 | G39: 42.47 | H39: 42.71
B40: 22 | C40: 42.91 | D40: 42.41 | E40: 42.83 | G40: 42.6 | H40: 43
B41: 23 | C41: 42.48 | D41: 42.76 | E41: 42.85 | G41: 42.66 | H41: 42.3
B42: 24 | C42: 43.05 | D42: 42.96 | E42: 43.29 | G42: 42.68 | H42: 42.59
B43: 25 | C43: 42.36 | D43: 42.86 | E43: 43.15 | G43: 42.57 | H43: 42.49
B44: 26 | C44: 42.4 | D44: 42.82 | E44: 42.97 | G44: 42.43 | H44: 42.52
B45: 27 | C45: 42.62 | D45: 42.81 | E45: 42.89 | G45: 42.59 | H45: 43.44
B46: 28 | C46: 42.36 | D46: 42.46 | E46: 42.77 | G46: 42.63 | H46: 45.34
B47: 29 | C47: 43.02 | D47: 42.28 | G47: 42.61 | H47: 42.57
B48: 30 | C48: 42.56 | D48: 42.58 | G48: 42.65 | H48: 42.85
B49: 31 | C49: 42.4 | D49: 42.5 | G49: 42.88 | H49: 42.67
B50: 32 | C50: 43.08 | D50: 42.52 | G50: 42.66 | H50: 42.64
B51: 33 | C51: 42.23 | D51: 42.48 | G51: 42.78 | H51: 43.2
B52: 34 | C52: 43.15 | D52: 42.57 | G52: 42.53 | H52: 43.21
...

Sheet Buro11
A2: Чемпионат мини марафон "Большие Гонки", 5-й этап
A4: Buro11
A6: Обяза-тельные | B6: Пилот | C6: карт | D6: Круг | E6: кругов на отрезке | F6: Статистика по кругам | J6: Общее время гонки | K6: Время на трассе
F7: Лучший круг | G7: Среднее на отрезке | H7: Кругов в 0,1 от лучшего | I7: стабильность | K7: отрезок | L7: всего у пилота | M7: Питы | N7: Штрафы/ бонусы (сек)
A8: 1 | B8: Якусик Дима | C8: 8 | D8: =COUNTA(C19:C83) -> 44 | E8: =COUNTA(C19:C83) -> 44 | F8: =MIN(C19:C82) -> 42.06 | G8: =AVERAGE(C19:C85) -> 42.668636 | H8: 5 | I8: =G8-F8 -> 0.60863636 | J8: 0.022233796 | K8: =J8 -> 0.022233796 | L8: =K8 -> 0.022233796 | M8: 2:19.01
A9: 2 | B9: Якусик Саша | C9: 10 | D9: =COUNTA(D19:D83)+D8+1 -> 74 | E9: =COUNTA(D19:D83)+1 -> 30 | F9: =MIN(D19:D82) -> 42.67 | G9: =AVERAGE(D19:D84) -> 43.16069 | H9: 0 | I9: =G9-F9 -> 0.49068966 | J9: 0.038356481 | K9: =J9-J8 -> 0.016122685 | L9: =K9 -> 0.016122685 | M9: 2:54.45 | N9: 35 | O9: лимит
A10: 3 | B10: Якусик Дима | C10: 7 | D10: =COUNTA(E19:E83)+D9+1 -> 100 | E10: =COUNTA(E19:E83)+1 -> 26 | F10: =MIN(E19:E84) -> 42.47 | G10: =AVERAGE(E19:E85) -> 42.7952 | H10: 2 | I10: =G10-F10 -> 0.3252 | J10: 0.052743056 | K10: =J10-J9 -> 0.014386574 | L10: =K10+L8 -> 0.03662037 | M10: 2:18.33
A11: 4 | B11: Якусик Саша | C11: 4 | D11: =COUNTA(F19:F83)+D10+1 -> 124 | E11: =COUNTA(F19:F83)+1 -> 24 | F11: =MIN(F19:F84) -> 43.08 | G11: =AVERAGE(F19:F84) -> 43.505217 | H11: 2 | I11: =G11-F11 -> 0.42521739 | J11: 0.065949074 | K11: =J11-J10 -> 0.013206019 | L11: =K11+L9 -> 0.029328704 | M11: 2:18.77
A12: 5 | B12: Якусик Дима | C12: 9 | D12: =COUNTA(G19:G83)+D11+1 -> 179 | E12: =COUNTA(G19:G83)+1 -> 55 | F12: =MIN(G19:G84) -> 42.46 | G12: =AVERAGE(G19:G84) -> 42.831852 | H12: 1 | I12: =G12-F12 -> 0.37185185 | J12: 0.094305556 | K12: =J12-J11 -> 0.028356481 | L12: =K12+L10 -> 0.064976852 | M12: 2:18.46
A13: Финиш | B13: Якусик Саша | C13: 4 | D13: =COUNTA(H19:H83)+D12+1 -> 239 | E13: =COUNTA(H19:H92)+1 -> 60 | F13: =MIN(H19:H77) -> 43.03 | G13: =AVERAGE(H19:H77) -> 43.435932 | H13: 9 | I13: =G13-F13 -> 0.4059322 | J13: ='Общие результаты'!G6 -> 3:00:05 | K13: =J13-J12 -> 0.030752315 | L13: =K13+L11 -> 0.060081019 | N13: 60 | O13: недодержали пит
F14: =AVERAGE(F8,F10,F12) -> 42.33 | G14: =AVERAGE(G8,G10,G12) -> 42.765229 | H14: Дима | I14: =AVERAGE(I8,I10,I12) -> 0.43522941
F15: =AVERAGE(F9,F11,F13) -> 42.926667 | G15: =AVERAGE(G9,G11,G13) -> 43.36728 | H15: Саша | I15: =AVERAGE(I9,I11,I13) -> 0.44061308
F16: =AVERAGE(F8:F13) -> 42.628333 | G16: =AVERAGE(C19:H95) -> 43.056496 | I16: =AVERAGE(I8:I13) -> 0.43792124
C18: =B8 -> Якусик Дима | D18: =B9 -> Якусик Саша | E18: =B10 -> Якусик Дима | F18: =B11 -> Якусик Саша | G18: =B12 -> Якусик Дима | H18: =B12 -> Якусик Дима
B19: 1 | C19: 44.03 | D19: 43.75 | E19: 43.38 | F19: 44.77 | G19: 43.51 | H19: 45.42
B20: 2 | C20: 42.39 | D20: 43.02 | E20: 42.84 | F20: 43.36 | G20: 42.86 | H20: 43.08
B21: 3 | C21: 42.5 | D21: 43.4 | E21: 42.67 | F21: 43.53 | G21: 42.73 | H21: 43.22
B22: 4 | C22: 44.18 | D22: 43.11 | E22: 42.66 | F22: 43.95 | G22: 42.81 | H22: 44.35
B23: 5 | C23: 46.6 | D23: 43.22 | E23: 42.68 | F23: 43.43 | G23: 42.76 | H23: 43.41
B24: 6 | C24: 43.12 | D24: 43.05 | E24: 42.93 | F24: 43.49 | G24: 42.65 | H24: 43.37
B25: 7 | C25: 43.27 | D25: 43.12 | E25: 42.7 | F25: 43.59 | G25: 42.81 | H25: 43.5
B26: 8 | C26: 43.09 | D26: 43.89 | E26: 42.65 | F26: 43.55 | G26: 42.69 | H26: 43.07
B27: 9 | C27: 42.32 | D27: 43.37 | E27: 42.78 | F27: 43.54 | G27: 42.69 | H27: 43.64
B28: 10 | C28: 43.75 | D28: 43.08 | E28: 42.62 | F28: 43.22 | G28: 42.56 | H28: 43.46
B29: 11 | C29: 42.52 | D29: 42.8 | E29: 42.66 | F29: 43.24 | G29: 42.9 | H29: 43.23
B30: 12 | C30: 43.87 | D30: 42.81 | E30: 42.47 | F30: 43.29 | G30: 42.77 | H30: 43.17
... B41: 23 | C41: 42.2 | D41: 43.77 | E41: 42.87 | F41: 43.08 | G41: 42.65 | H41: 43.32
B42: 24 | C42: 42.17 | D42: 42.87 | E42: 42.56 | G42: 42.77 | H42: 43.22
B43: 25 | C43: 42.19 | D43: 43.87 | E43: 42.67 | G43: 42.89 | H43: 43.23
B44: 26 | C44: 42.06 | D44: 43.04 | G44: 42.92 | H44: 43.22
B45: 27 | C45: 42.23 | D45: 42.95 | G45: 42.79 | H45: 43.35
B46: 28 | C46: 42.19 | D46: 42.91 | G46: 42.8 | H46: 43.91
B47: 29 | C47: 42.21 | D47: 42.83 | G47: 43.45 | H47: 43.54
B48: 30 | C48: 42.27 | G48: 43.14 | H48: 43.35
B49: 31 | C49: 42.26 | G49: 42.93 | H49: 43.52
B50: 32 | C50: 42.34 | G50: 42.75 | H50: 43.4
B51: 33 | C51: 42.2 | G51: 42.95 | H51: 43.45
B52: 34 | C52: 42.31 | G52: 42.63 | H52: 43.11
B53: 35 | C53: 42.15 | G53: 42.83 | H53: 43.03
B54: 36 | C54: 42.08 | G54: 42.66 | H54: 43.37
...

Sheet KartFreedom RT
A2: Чемпионат мини марафон "Большие Гонки", 5-й этап
A4: KartFreedom RT
A6: Обяза-тельные | B6: Пилот | C6: карт | D6: Круг | E6: кругов на отрезке | F6: Статистика по кругам | J6: Общее время гонки | K6: Время на трассе
F7: Лучший круг | G7: Среднее на отрезке | H7: Кругов в 0,1 от лучшего | I7: стабильность | K7: отрезок | L7: всего у пилота | M7: Питы | N7: Штрафы/ бонусы (сек)
A8: 1 | B8: Литвиненко Олег | C8: 9 | D8: =COUNTA(C19:C83) -> 22 | E8: =COUNTA(C19:C83) -> 22 | F8: =MIN(C19:C82) -> 42.53 | G8: =AVERAGE(C19:C85) -> 43.490455 | H8: 0 | I8: =G8-F8 -> 0.96045455 | J8: 0.011608796 | K8: =J8 -> 0.011608796 | L8: =K8 -> 0.011608796 | M8: 2:19.15
A9: 2 | B9: Новиков Герман | C9: 69 | D9: =COUNTA(D19:D83)+D8+1 -> 51 | E9: =COUNTA(D19:D83)+1 -> 29 | F9: =MIN(D19:D82) -> 42.68 | G9: =AVERAGE(D19:D84) -> 43.271071 | H9: 0 | I9: =G9-F9 -> 0.59107143 | J9: 0.027233796 | K9: =J9-J8 -> 0.015625 | L9: =K9 -> 0.015625 | M9: 2:17.77
A10: 3 | B10: Литвиненко Олег | C10: 5 | D10: =COUNTA(E19:E83)+D9+1 -> 93 | E10: =COUNTA(E19:E83)+1 -> 42 | F10: =MIN(E19:E84) -> 42.66 | G10: =AVERAGE(E19:E85) -> 43.396341 | H10: 0 | I10: =G10-F10 -> 0.73634146 | J10: 0.04943287 | K10: =J10-J9 -> 0.022199074 | L10: =K10+L8 -> 0.03380787 | M10: 2:19.88
A11: 4 | B11: Новиков Герман | C11: 13 | D11: =COUNTA(F19:F83)+D10+1 -> 144 | E11: =COUNTA(F19:F83)+1 -> 51 | F11: =MIN(F19:F84) -> 43.06 | G11: =AVERAGE(F19:F84) -> 43.86 | H11: 2 | I11: =G11-F11 -> 0.8 | J11: 0.076446759 | K11: =J11-J10 -> 0.027013889 | L11: =K11+L9 -> 0.042638889 | M11: 2:19.39
A12: 5 | B12: Литвиненко Олег | C12: 11 | D12: =COUNTA(G19:G83)+D11+1 -> 197 | E12: =COUNTA(G19:G83)+1 -> 53 | F12: =MIN(G19:G84) -> 42.99 | G12: =AVERAGE(G19:G84) -> 43.666731 | H12: 3 | I12: =G12-F12 -> 0.67673077 | J12: 0.10431713 | K12: =J12-J11 -> 0.02787037 | L12: =K12+L10 -> 0.061678241 | M12: 3:17.92
