Workbook

Sheet Общие результаты
A1: Серия мини марафонов "Большие Гонки 2019", 4-й этап, 01.06.19
A2: Конфигурация № 9
A4: Место в гонке | B4: Команда | C4: № в гонке | D4: Квала | F4: Гонка | I4: Лучший круг в гонке
D5: Время | E5: Место | F5: Круги | G5: Время/от лидера | H5: От места выше | I5: Время | J5: На круге
A6: 1 | B6: Kозак и разбойники | C6: 11 | D6: 39.665 | E6: 3 | F6: 345 | G6: 4:00:04 | H6: - | I6: 39.14 | J6: 31
A7: 2 | B7: KartFreedom | C7: 9 | D7: 39.635 | E7: 2 | F7: 345 | G7: 0.34 | H7: =G7 -> 0.34 | I7: 39.4 | J7: 76
A8: 3 | B8: NSJ | C8: 3 | D8: 39.85 | E8: 7 | F8: 345 | G8: 14.27 | H8: =G8-G7 -> 13.93 | I8: 39.32 | J8: 295
A9: 4 | B9: Kozaks | C9: 7 | D9: 39.67 | E9: 4 | F9: 345 | G9: 18.2 | H9: =G9-G8 -> 3.93 | I9: 39.37 | J9: 338
A10: 5 | B10: MST | C10: 5 | D10: 39.73 | E10: 5 | F10: 345 | G10: =7.4+15 -> 22.4 | H10: =G10-G9 -> 4.2 | I10: 39.31 | J10: 19
A11: 6 | B11: Fortuna Racing | C11: 10 | D11: 39.885 | E11: 8 | F11: 345 | G11: =28.26 -> 28.26 | H11: =G11-G10 -> 5.86 | I11: 39.42 | J11: 65
A12: 7 | B12: ASS Racing Team | C12: 1 | D12: 39.73 | E12: 6 | F12: 345 | G12: =29.73 -> 29.73 | H12: =G12-G11 -> 1.47 | I12: 39.45 | J12: 189
A13: 8 | B13: Ne Fart | C13: 14 | D13: 39.57 | E13: 1 | F13: 344 | G13: 1 Круг | H13: 13 | I13: 39.32 | J13: 169
A14: 9 | B14: KartFreedom RT | C14: 2 | D14: 40.155 | E14: 9 | F14: 342 | G14: 3 Круга | H14: 2 круга | I14: 39.51 | J14: 296
A15: 10 | B15: KartFreedom GT | C15: 8 | D15: 40.36 | E15: 12 | F15: 339 | G15: 6 Кругов | H15: 2 круга | I15: 39.85 | J15: 36
A16: 11 | B16: 15a18 | C16: 4 | D16: 40.205 | E16: 10 | F16: 338 | G16: 7 Кругов | H16: 1 круг | I16: 39.56 | J16: 101
A17: 12 | B17: Grebi | C17: 12 | D17: 41.115 | E17: 14 | F17: 337 | G17: 8 Кругов | H17: 35 | I17: 39.82 | J17: 254

Sheet Регистрация
A1: Серия мини марафонов "Большие Гонки 2019", 4-й этап, 01.06.19
A3: Регистрационная форма
A5: № в гонке | B5: Команда | C5: Пилот | D5: № | E5: Вес | F5: Бонус | G5: Квалификация
G6: карт | H6: Время | I6: бонус | J6: Итого | K6: Среднее | L6: Место | N6: 82.5 | O6: 85 | P6: 87.5 | Q6: 90 | R6: 92.5 | S6: 95 | T6: 97.5 | U6: 100
A7: 1 | B7: ASS racing team | C7: Ткаченко Кирилл | D7: 1-1 | E7: 75.7 | G7: 2 | H7: 39.82 | J7: =H7-I7 -> 39.82 | K7: =AVERAGE(J7:J8) -> 39.73 | L7: =RANK(K7,K7:K48,1) -> 6 | M7: кв | N7: 0.05 | O7: 0.1 | P7: 0.15 | Q7: 0.2 | R7: 0.25 | S7: 0.3 | T7: 0.35 | U7: =N7*8 -> 0.4
C8: Лысенcкий Денис | D8: 1-2 | E8: 81.9 | G8: 1 | H8: 39.64 | J8: =H8-I8 -> 39.64 | M8: 1 | N8: =1.5*4 -> 6 | O8: =1.5*4*2 -> 12 | P8: =1.5*4*3 -> 18 | Q8: =1.5*4*4 -> 24 | R8: =1.5*4*5 -> 30 | S8: =1.5*4*6 -> 36 | T8: =1.5*4*7 -> 42 | U8: =1.5*4*8 -> 48
J9: =H9-I9 -> 0
A10: 2 | B10: KartFreedom RT | C10: Медведева Дарья | D10: 2-1 | E10: 56.1 | G10: 2 | H10: 40.23 | J10: =H10-I10 -> 40.23 | K10: =AVERAGE(J10:J11) -> 40.155 | L10: =RANK(K10,K7:K48,1) -> 9
C11: Юриченко Вова | D11: 2-2 | E11: 75.4 | G11: 1 | H11: 40.08 | J11: =H11-I11 -> 40.08
J12: =H12-I12 -> 0
A13: 3 | B13: NSJ | C13: Мифтахутдинов Ильяс | D13: 3-1 | G13: 2 | H13: 39.9 | J13: =H13-I13 -> 39.9 | K13: =AVERAGE(J13:J14) -> 39.85 | L13: =RANK(K13,K7:K48,1) -> 7
C14: Гаврилюк Олег | D14: 3-2 | E14: 70.5 | G14: 3 | H14: 39.8 | J14: =H14-I14 -> 39.8
J15: =H15-I15 -> 0
A16: 4 | B16: 15а18 | C16: Таволжан Виталий | D16: 4-1 | E16: 75.3 | G16: 3 | H16: 40.18 | J16: =H16-I16 -> 40.18 | K16: =AVERAGE(J16:J17) -> 40.205 | L16: =RANK(K16,K7:K48,1) -> 10
C17: Плакидюк Виталий | D17: 4-2 | E17: 100.7 | F17: 48 | G17: 4 | H17: 40.63 | I17: 0.4 | J17: =H17-I17 -> 40.23
C18: Киселев Максим | D18: 4-3 | E18: 77.2 | G18: 33 | H18: 41.92 | J18: =H18-I18 -> 41.92
A19: 5 | B19: MST | C19: Петушков Андрей | D19: 5-1 | E19: 77.5 | G19: 4 | H19: 39.9 | J19: =H19-I19 -> 39.9 | K19: =AVERAGE(J19:J20) -> 39.73 | L19: =RANK(K19,K7:K48,1) -> 5
C20: Бахмацкий Олег | D20: 5-2 | E20: 85.2 | F20: 12 | G20: 5 | H20: 39.66 | I20: 0.1 | J20: =H20-I20 -> 39.56
J21: =H21-I21 -> 0
A22: 6 | B22: Just Kart | C22: Шиленко Саша | D22: 6-1 | E22: 86.2 | F22: 12 | G22: 6 | H22: 40.42 | I22: 0.1 | J22: =H22-I22 -> 40.32 | K22: =AVERAGE(J22:J23) -> 40.235 | L22: =RANK(K22,K7:K48,1) -> 11
C23: Сомок Денис | D23: 6-2 | E23: 74.7 | G23: 5 | H23: 40.15 | J23: =H23-I23 -> 40.15
A25: 7 | B25: Kozaks | C25: Наум | D25: 7-1 | E25: 79.3 | G25: 6 | H25: 39.7 | J25: =H25-I25 -> 39.7 | K25: =AVERAGE(J25:J26) -> 39.67 | L25: =RANK(K25,K7:K48,1) -> 4
C26: Стоцкий Андрей | D26: 7-2 | E26: 60.5 | G26: 7 | H26: 39.64 | J26: =H26-I26 -> 39.64
J27: =H27-I27 -> 0
A28: 8 | B28: KartFreedom GT | C28: Загорулько Иван | D28: 8-1 | E28: 97.8 | F28: 42 | G28: 4 | H28: 40.77 | I28: 0.35 | J28: =H28-I28 -> 40.42 | K28: =AVERAGE(J28:J29) -> 40.36 | L28: =RANK(K28,K7:K48,1) -> 12
C29: Новиков Герман | D29: 8-2 | E29: 54.4 | G29: 3 | H29: 40.3 | J29: =H29-I29 -> 40.3
J30: =H30-I30 -> 0
A31: 9 | B31: KartFreedom | C31: Паненко Женя | D31: 9-1 | E31: 81.2 | G31: 9 | H31: 39.79 | J31: =H31-I31 -> 39.79 | K31: =AVERAGE(J31:J32) -> 39.635 | L31: =RANK(K31,K7:K48,1) -> 2
C32: Терещенко Андрей | D32: 9-2 | E32: 90.9 | F32: 24 | G32: 7 | H32: 39.68 | I32: 0.2 | J32: =H32-I32 -> 39.48
J33: =H33-I33 -> 0
A34: 10 | B34: Fortuna Racing | C34: Фортуна Таня | D34: 10-1 | G34: 10 | H34: 39.93 | J34: =H34-I34 -> 39.93 | K34: =AVERAGE(J34:J35) -> 39.885 | L34: =RANK(K34,K7:K48,1) -> 8
C35: Шутка Виталий | D35: 10-2 | E35: 80.9 | G35: 9 | H35: 39.84 | J35: =H35-I35 -> 39.84
A37: 11 | B37: Kozak I Razboiniki | C37: Манило Денис | D37: 11-1 | G37: 13 | H37: 39.63 | J37: =H37-I37 -> 39.63 | K37: =AVERAGE(J37:J38) -> 39.665 | L37: =RANK(K37,K7:K48,1) -> 3
C38: Пикулин Павел | D38: 11-2 | E38: 77.6 | G38: 10 | H38: 39.7 | J38: =H38-I38 -> 39.7
J39: =H39-I39 -> 0
A40: 12 | B40: Grebi | C40: Шутеев Евгений | D40: 12-1 | E40: 75.3 | G40: 13 | H40: 40.72 | J40: =H40-I40 -> 40.72 | K40: =AVERAGE(J40:J41) -> 41.115 | L40: =RANK(K40,K7:K48,1) -> 14
C41: Гаркин Владимир | D41: 12-3 | E41: 94.5 | F41: 30 | G41: 33 | H41: 41.51 | J41: =H41-I41 -> 41.51
C42: Сериченко Мария | D42: 12-2 | G42: 69 | H42: 40.74 | J42: =H42-I42 -> 40.74
A43: 13 | B43: Buro 11 | C43: Якусик Дима | D43: 13-1 | G43: 69 | H43: 39.91 | J43: =H43-I43 -> 39.91 | K43: =AVERAGE(J43:J44) -> 40.5 | L43: =RANK(K43,K7:K48,1) -> 13
C44: Якусик Саша | D44: 13-2 | E44: 77.2 | G44: 33 | H44: 41.09 | J44: =H44-I44 -> 41.09
...

Sheet Kозак и разбойники
A2: Чемпионат мини марафон "Большие Гонки", 4-й этап
A4: Kозак и разбойники
A6: Обяза-тельные | B6: Пилот | C6: карт | D6: Круг | E6: кругов на отрезке | F6: Статистика по кругам | J6: Общее время гонки | K6: Время на трассе
F7: Лучший круг | G7: Среднее на отрезке | H7: Кругов в 0,1 от лучшего | I7: стабильность | K7: отрезок | L7: всего у пилота | M7: Питы | N7: Штрафы/ бонусы (сек)
A8: 1 | B8: Пикулин Паша | C8: 69 | D8: =COUNTA(C22:C86) -> 35 | E8: =COUNTA(C22:C86) -> 35 | F8: =MIN(C22:C85) -> 39.14 | G8: =AVERAGE(C22:C88) -> 40.169429 | H8: 2 | I8: =G8-F8 -> 1.0294286 | J8: 0.016770833 | K8: =J8 -> 0.016770833 | L8: =K8 -> 0.016770833 | M8: 2:15.71
A9: 2 | B9: Манило Денис | C9: 2 | D9: =COUNTA(D22:D86)+D8+1 -> 80 | E9: =COUNTA(D21:D39)+1 -> 20 | F9: =MIN(D22:D39) -> 39.7 | G9: =AVERAGE(D22:D39) -> 40.102222 | H9: 1 | I9: =G9-F9 -> 0.40222222 | J9: 0.039884259 | K9: =J9-J8 -> 0.023113426 | L9: =K9 -> 0.023113426 | M9: 1:53.08 | N9: -94 | O9: поломка
C10: 33 | E10: =COUNTA(D40:D86)+1 -> 27 | F10: =MIN(D41:D85) -> 39.71 | G10: =AVERAGE(D41:D87) -> 39.9604 | H10: 3 | I10: =G10-F10 -> 0.2504
A11: 3 | B11: Пикулин Паша | C11: 13 | D11: =COUNTA(E22:E86)+D9+1 -> 145 | E11: =COUNTA(E22:E86)+1 -> 65 | F11: =MIN(E22:E87) -> 39.37 | G11: =AVERAGE(E22:E88) -> 39.577344 | H11: 12 | I11: =G11-F11 -> 0.20734375 | J11: 0.070451389 | K11: =J11-J9 -> 0.03056713 | L11: =K11+L8 -> 0.047337963 | M11: 1:49.51
A12: 4 | B12: Манило Денис | C12: 2 | D12: =COUNTA(F22:F86)+D11+1 -> 181 | E12: =COUNTA(F22:F86)+1 -> 36 | F12: =MIN(F22:F87) -> 39.63 | G12: =AVERAGE(F22:F87) -> 39.897714 | H12: 5 | I12: =G12-F12 -> 0.26771429 | J12: 0.087881944 | K12: =J12-J11 -> 0.017430556 | L12: =K12+L9 -> 0.040543981 | M12: 1:22.96
A13: 5 | B13: Пикулин Паша | C13: 21 | D13: =COUNTA(G22:G86)+D12+1 -> 209 | E13: =COUNTA(G22:G86)+1 -> 28 | F13: =MIN(G22:G87) -> 39.44 | G13: =AVERAGE(G22:G887) -> 39.650741 | H13: 5 | I13: =G13-F13 -> 0.21074074 | J13: 0.10123843 | K13: =J13-J12 -> 0.013356481 | L13: =K13+L11 -> 0.060694444 | M13: 2:23.22 | N13: 6 | O13: раньше выпустили
A14: 6 | B14: Манило Денис | C14: 69 | D14: =COUNTA(H22:H86)+D13+1 -> 267 | E14: =COUNTA(H22:H86)+1 -> 58 | F14: =MIN(H22:H87) -> 39.46 | G14: =AVERAGE(H22:H87) -> 39.675965 | H14: 5 | I14: =G14-F14 -> 0.21596491 | J14: 0.12998843 | K14: =J14-J13 -> 0.02875 | L14: =K14+L12 -> 0.069293981 | M14: 2:15.29
A15: 7 | B15: Пикулин Паша | C15: 3 | D15: =COUNTA(I22:I86)+D14+1 -> 319 | E15: =COUNTA(I22:I86)+1 -> 52 | F15: =MIN(I22:I87) -> 39.43 | G15: =AVERAGE(I22:I87) -> 39.649412 | H15: 10 | I15: =G15-F15 -> 0.21941176 | J15: 0.15497685 | K15: =J15-J14 -> 0.024988426 | L15: =K15+L13 -> 0.08568287 | M15: 2:16.91
A16: Финиш | B16: Манило Денис | C16: 21 | D16: =COUNTA(J22:J86)+D15+1 -> 342 | E16: =COUNTA(J22:J86)+1 -> 23 | F16: =MIN(J22:J87) -> 39.8 | G16: =AVERAGE(J22:J87) -> 40.049091 | H16: 10 | I16: =G16-F16 -> 0.24909091 | J16: ='Общие результаты'!G6 -> 4:00:04 | K16: =J16-J15 -> 0.011736111 | L16: =K16+L14 -> 0.081030093
F17: =AVERAGE(F8,F11,F13,F15) -> 39.345 | G17: =AVERAGE(G8,G11,G13,G15) -> 39.761731 | H17: Паша | I17: =AVERAGE(I8,I11,I13,I15) -> 0.41673121
F18: =AVERAGE(F10,F12,F14,F16) -> 39.65 | G18: =AVERAGE(G10,G12,G14,G16) -> 39.895793 | H18: Денис | I18: =AVERAGE(I10,I12,I14,I16) -> 0.24579253
F19: =AVERAGE(F8:F16) -> 39.52 | G19: =AVERAGE(C22:J88) -> 40.07597 | I19: =AVERAGE(I8:I16) -> 0.33914635
C21: =B8 -> Пикулин Паша | D21: =B9 -> Манило Денис | E21: =B11 -> Пикулин Паша | F21: =B12 -> Манило Денис | G21: =B13 -> Пикулин Паша | H21: =B14 -> Манило Денис | I21: =B15 -> Пикулин Паша | J21: =B16 -> Манило Денис
B22: 1 | C22: 42.86 | D22: 40.46 | E22: 39.82 | F22: 39.9 | G22: 39.52 | H22: 40.01 | I22: 39.8 | J22: 40.76
B23: 2 | C23: 41.25 | D23: 40.13 | E23: 39.66 | F23: 39.63 | G23: 39.58 | H23: 39.88 | I23: 39.81 | J23: 40.29
B24: 3 | C24: 39.8 | D24: 39.99 | E24: 39.73 | F24: 39.94 | G24: 39.5 | H24: 39.75 | I24: 39.74 | J24: 40
B25: 4 | C25: 39.45 | D25: 39.87 | E25: 39.69 | F25: 40.02 | G25: 39.59 | H25: 39.82 | I25: 39.68 | J25: 39.98
B26: 5 | C26: 56.92 | D26: 42.08 | E26: 39.68 | F26: 39.83 | G26: 39.54 | H26: 39.87 | I26: 39.62 | J26: 39.91
B27: 6 | C27: 39.89 | D27: 40.44 | E27: 39.8 | F27: 39.9 | G27: 39.55 | H27: 39.78 | I27: 39.61 | J27: 39.89
B28: 7 | C28: 39.57 | D28: 39.93 | E28: 39.81 | F28: 39.75 | G28: 39.67 | H28: 39.66 | I28: 39.6 | J28: 39.84
B29: 8 | C29: 39.25 | D29: 39.7 | E29: 39.62 | F29: 39.67 | G29: 39.49 | H29: 39.55 | I29: 39.85 | J29: 39.91
B30: 9 | C30: 39.33 | D30: 39.87 | E30: 39.37 | F30: 39.64 | G30: 40.31 | H30: 39.61 | I30: 39.67 | J30: 39.83
B31: 10 | C31: 39.29 | D31: 39.92 | E31: 39.57 | F31: 39.71 | G31: 39.77 | H31: 39.61 | I31: 39.63 | J31: 39.85
B32: 11 | C32: 39.83 | D32: 39.83 | E32: 39.6 | F32: 39.73 | G32: 39.66 | H32: 39.66 | I32: 39.72 | J32: 39.85
B33: 12 | C33: 40.36 | D33: 39.89 | E33: 39.52 | F33: 39.82 | G33: 39.63 | H33: 39.53 | I33: 39.57 | J33: 39.87
... B43: 22 | C43: 39.87 | D43: 39.93 | E43: 39.65 | F43: 40.42 | G43: 39.57 | H43: 39.62 | I43: 39.55 | J43: 41
B44: 23 | C44: 40.37 | D44: 39.91 | E44: 39.5 | F44: 39.85 | G44: 39.55 | H44: 39.63 | I44: 39.81
B45: 24 | C45: 39.36 | D45: 40.52 | E45: 39.44 | F45: 39.88 | G45: 39.69 | H45: 39.76 | I45: 39.84
B46: 25 | C46: 39.65 | D46: 39.85 | E46: 39.55 | F46: 39.91 | G46: 40.22 | H46: 39.64 | I46: 39.52
B47: 26 | C47: 39.89 | D47: 39.99 | E47: 39.57 | F47: 39.91 | G47: 39.62 | H47: 39.6 | I47: 39.66
B48: 27 | C48: 39.38 | D48: 39.87 | E48: 39.67 | F48: 39.9 | G48: 39.91 | H48: 39.68 | I48: 39.44
B49: 28 | C49: 39.32 | D49: 39.87 | E49: 39.44 | F49: 39.97 | H49: 39.71 | I49: 39.48
B50: 29 | C50: 39.25 | D50: 39.74 | E50: 39.57 | F50: 40 | H50: 39.67 | I50: 39.57
B51: 30 | C51: 39.14 | D51: 39.84 | E51: 39.37 | F51: 39.92 | H51: 39.61 | I51: 39.5
B52: 31 | C52: 39.23 | D52: 39.71 | E52: 39.6 | F52: 39.97 | H52: 39.69 | I52: 39.62
B53: 32 | C53: 39.34 | D53: 39.73 | E53: 39.45 | F53: 39.84 | H53: 39.66 | I53: 39.61
...

Sheet KartFreedom
A2: Чемпионат мини марафон "Большие Гонки", 4-й этап
A4: KartFreedom
A6: Обяза-тельные | B6: Пилот | C6: карт | D6: Круг | E6: кругов на отрезке | F6: Статистика по кругам | J6: Общее время гонки | K6: Время на трассе
F7: Лучший круг | G7: Среднее на отрезке | H7: Кругов в 0,1 от лучшего | I7: стабильность | K7: отрезок | L7: всего у пилота | M7: Питы | N7: Штрафы/ бонусы (сек)
A8: 1 | B8: Терещенко Андрей | C8: 21 | D8: =COUNTA(C21:C85) -> 21 | E8: =COUNTA(C21:C85) -> 21 | F8: =MIN(C21:C84) -> 39.68 | G8: =AVERAGE(C21:C87) -> 40.21381 | H8: 6 | I8: =G8-F8 -> 0.53380952 | J8: 0.0098032407 | K8: =J8 -> 0.0098032407 | L8: =K8 -> 0.0098032407 | M8: 1:33.03 | N8: -24+5 | O8: бонус за вес+лимит
A9: 2 | B9: Паненко Женя | C9: 13 | D9: =COUNTA(D21:D85)+D8+1 -> 85 | E9: =COUNTA(D21:D85)+1 -> 64 | F9: =MIN(D21:D84) -> 39.4 | G9: =AVERAGE(D21:D86) -> 39.675873 | H9: 3 | I9: =G9-F9 -> 0.27587302 | J9: 0.039814815 | K9: =J9-J8 -> 0.030011574 | L9: =K9 -> 0.030011574 | M9: 2:39.15 | N9: 24 | O9: раньше выпустили
A10: 3 | B10: Терещенко Андрей | C10: 21 | D10: =COUNTA(E21:E85)+D9+1 -> 120 | E10: =COUNTA(E21:E85)+1 -> 35 | F10: =MIN(E21:E86) -> 39.79 | G10: =AVERAGE(E21:E87) -> 39.963529 | H10: 5 | I10: =G10-F10 -> 0.17352941 | J10: 0.057395833 | K10: =J10-J9 -> 0.017581019 | L10: =K10+L8 -> 0.027384259 | M10: 2:16.30
A11: 4 | B11: Терещенко Андрей | C11: 4 | D11: =COUNTA(F21:F85)+D10+1 -> 149 | E11: =COUNTA(F21:F85)+1 -> 29 | F11: =MIN(F21:F86) -> 39.95 | G11: =AVERAGE(F21:F86) -> 40.218214 | H11: 2 | I11: =G11-F11 -> 0.26821429 | J11: 0.072002315 | K11: =J11-J10 -> 0.014606481 | L11: =K11+L10 -> 0.041990741 | M11: 2:15.16
A12: 5 | B12: Паненко Женя | C12: 9 | D12: =COUNTA(G21:G85)+D11+1 -> 211 | E12: =COUNTA(G21:G85)+1 -> 62 | F12: =MIN(G21:G86) -> 39.42 | G12: =AVERAGE(G21:G886) -> 39.810492 | H12: 6 | I12: =G12-F12 -> 0.3904918 | J12: 0.10166667 | K12: =J12-J11 -> 0.029664352 | L12: =K12+L9 -> 0.059675926 | M12: 2:15.66
A13: 6 | B13: Терещенко Андрей | C13: 5 | D13: =COUNTA(H21:H85)+D12+1 -> 257 | E13: =COUNTA(H21:H85)+1 -> 46 | F13: =MIN(H21:H86) -> 39.7 | G13: =AVERAGE(H21:H86) -> 39.807778 | H13: 24 | I13: =G13-F13 -> 0.10777778 | J13: 0.12398148 | K13: =J13-J12 -> 0.022314815 | L13: =K13+L11 -> 0.064305556 | M13: 2:27.07
A14: 7 | B14: Паненко Женя | C14: 9 | D14: =COUNTA(I21:I85)+D13+1 -> 299 | E14: =COUNTA(I21:I85)+1 -> 42 | F14: =MIN(I21:I86) -> 39.52 | G14: =AVERAGE(I21:I86) -> 39.73 | H14: 2 | I14: =G14-F14 -> 0.21 | J14: 0.14453704 | K14: =J14-J13 -> 0.020555556 | L14: =K14+L12 -> 0.080231481 | M14: 2:08.72 | N14: +5-12 | O14: подбили на пите-передержали
A15: Финиш | B15: Терещенко Андрей | C15: 33 | D15: =COUNTA(J21:J85)+D14+1 -> 345 | E15: =COUNTA(J21:J85)+1 -> 46 | F15: =MIN(J21:J86) -> 39.5 | G15: =AVERAGE(J21:J86) -> 39.792444 | H15: 8 | I15: =G15-F15 -> 0.29244444 | J15: ='Общие результаты'!G6 -> 4:00:04 | K15: =J15-J14 -> 0.022175926 | L15: =K15+L13 -> 0.086481481
F16: =AVERAGE(F8,F10,F11,F13,F15) -> 39.724 | G16: =AVERAGE(G8,G10,G11,G13,G15) -> 39.999155 | H16: Андрей | I16: =AVERAGE(I8,I10,I11,I13,I15) -> 0.27515509
F17: =AVERAGE(F9,F12,F14) -> 39.446667 | G17: =AVERAGE(G9,G12,G14) -> 39.738788 | H17: Женя | I17: =AVERAGE(I9,I12,I14) -> 0.29212161
F18: =AVERAGE(F8:F15) -> 39.62 | G18: =AVERAGE(C21:J90) -> 39.847101 | I18: =AVERAGE(I8:I15) -> 0.28151753
C20: =B8 -> Терещенко Андрей | D20: =B9 -> Паненко Женя | E20: =B10 -> Терещенко Андрей | F20: =B11 -> Терещенко Андрей | G20: =B12 -> Паненко Женя | H20: =B13 -> Терещенко Андрей | I20: =B14 -> Паненко Женя | J20: =B15 -> Терещенко Андрей
B21: 1 | C21: 43.84 | D21: 39.96 | E21: 40.02 | F21: 40.46 | G21: 39.79 | H21: 40 | I21: 39.73 | J21: 39.88
B22: 2 | C22: 40.45 | D22: 39.84 | E22: 40.03 | F22: 40.73 | G22: 39.97 | H22: 39.98 | I22: 39.69 | J22: 39.63
B23: 3 | C23: 40.14 | D23: 39.69 | E23: 40.12 | F23: 40.13 | G23: 39.46 | H23: 40.01 | I23: 39.65 | J23: 39.62
B24: 4 | C24: 40.03 | D24: 39.61 | E24: 39.98 | F24: 40.29 | G24: 39.82 | H24: 39.75 | I24: 39.92 | J24: 39.69
B25: 5 | C25: 42.34 | D25: 39.63 | E25: 39.96 | F25: 39.95 | G25: 39.53 | H25: 39.74 | I25: 39.64 | J25: 39.56
B26: 6 | C26: 40 | D26: 39.69 | E26: 39.86 | F26: 40.05 | G26: 39.67 | H26: 39.85 | I26: 39.85 | J26: 39.62
B27: 7 | C27: 39.82 | D27: 39.66 | E27: 39.98 | F27: 40.33 | G27: 39.63 | H27: 39.83 | I27: 39.87 | J27: 39.74
B28: 8 | C28: 39.93 | D28: 39.83 | E28: 39.9 | F28: 40.07 | G28: 39.64 | H28: 39.8 | I28: 39.78 | J28: 39.54
B29: 9 | C29: 39.8 | D29: 39.74 | E29: 39.96 | F29: 40.11 | G29: 39.69 | H29: 39.72 | I29: 39.69 | J29: 39.56
B30: 10 | C30: 40.59 | D30: 39.73 | E30: 39.92 | F30: 40.23 | G30: 39.98 | H30: 39.8 | I30: 39.59 | J30: 39.62
B31: 11 | C31: 39.72 | D31: 39.68 | E31: 39.94 | F31: 40.3 | G31: 39.56 | H31: 39.74 | I31: 39.69 | J31: 39.61
B32: 12 | C32: 39.74 | D32: 39.58 | E32: 40.03 | F32: 40.17 | G32: 39.68 | H32: 39.78 | I32: 39.72 | J32: 39.69
... B41: 21 | C41: 39.94 | D41: 39.68 | E41: 39.98 | F41: 40.32 | G41: 39.59 | H41: 39.84 | I41: 39.65 | J41: 40.25
B42: 22 | D42: 39.73 | E42: 40.06 | F42: 40.26 | G42: 40.01 | H42: 39.8 | I42: 39.68 | J42: 39.94
B43: 23 | D43: 39.65 | E43: 39.82 | F43: 40.22 | G43: 39.83 | H43: 39.8 | I43: 39.69 | J43: 39.5
B44: 24 | D44: 39.55 | E44: 39.92 | F44: 39.99 | G44: 39.68 | H44: 39.87 | I44: 39.76 | J44: 39.67
B45: 25 | D45: 39.51 | E45: 40.07 | F45: 40.15 | G45: 39.56 | H45: 39.81 | I45: 39.6 | J45: 39.93
B46: 26 | D46: 39.52 | E46: 39.83 | F46: 40.32 | G46: 39.61 | H46: 39.83 | I46: 39.72 | J46: 39.66
B47: 27 | D47: 39.53 | E47: 39.89 | F47: 40.25 | G47: 39.67 | H47: 39.73 | I47: 39.69 | J47: 39.62
B48: 28 | D48: 40.43 | E48: 39.9 | F48: 40.16 | G48: 39.66 | H48: 39.73 | I48: 39.94 | J48: 39.63
B49: 29 | D49: 39.62 | E49: 39.92 | G49: 39.62 | H49: 39.78 | I49: 39.68 | J49: 39.61
B50: 30 | D50: 39.85 | E50: 39.94 | G50: 39.66 | H50: 39.87 | I50: 39.64 | J50: 39.55
B51: 31 | D51: 39.75 | E51: 40.03 | G51: 39.49 | H51: 39.79 | I51: 39.68 | J51: 41.16
B52: 32 | D52: 39.52 | E52: 39.97 | G52: 39.42 | H52: 39.72 | I52: 39.52 | J52: 39.69
...

Sheet NSJ
A2: Чемпионат мини марафон "Большие Гонки", 4-й этап
A4: NSJ
A6: Обяза-тельные | B6: Пилот | C6: карт | D6: Круг | E6: кругов на отрезке | F6: Статистика по кругам | J6: Общее время гонки | K6: Время на трассе
F7: Лучший круг | G7: Среднее на отрезке | H7: Кругов в 0,1 от лучшего | I7: стабильность | K7: отрезок | L7: всего у пилота | M7: Питы | N7: Штрафы/ бонусы (сек)
A8: 1 | B8: Гаврилюк Олег | C8: 5 | D8: =COUNTA(C21:C85) -> 24 | E8: =COUNTA(C21:C85) -> 24 | F8: =MIN(C21:C84) -> 39.59 | G8: =AVERAGE(C21:C87) -> 40.3125 | H8: 5 | I8: =G8-F8 -> 0.7225 | J8: 0.011261574 | K8: =J8 -> 0.011261574 | L8: =K8 -> 0.011261574 | M8: 2:15.72
A9: 2 | B9: Мифтахутдинов Ильяс | C9: 10 | D9: =COUNTA(D21:D85)+D8+1 -> 89 | E9: =COUNTA(D21:D85)+1 -> 65 | F9: =MIN(D21:D84) -> 39.53 | G9: =AVERAGE(D21:D86) -> 39.842344 | H9: 4 | I9: =G9-F9 -> 0.31234375 | J9: 0.042372685 | K9: =J9-J8 -> 0.031111111 | L9: =K9 -> 0.031111111 | M9: 2:32.75
A10: 3 | B10: Гаврилюк Олег | C10: 69 | D10: =COUNTA(E21:E85)+D9+1 -> 150 | E10: =COUNTA(E21:E85)+1 -> 61 | F10: =MIN(E21:E86) -> 39.39 | G10: =AVERAGE(E21:E87) -> 39.650833 | H10: 9 | I10: =G10-F10 -> 0.26083333 | J10: 0.071655093 | K10: =J10-J9 -> 0.029282407 | L10: =K10+L8 -> 0.040543981 | M10: 2:15.86
A11: 4 | B11: Мифтахутдинов Ильяс | C11: 10 | D11: =COUNTA(F21:F85)+D10+1 -> 212 | E11: =COUNTA(F21:F85)+1 -> 62 | F11: =MIN(F21:F86) -> 39.45 | G11: =AVERAGE(F21:F86) -> 39.71 | H11: 6 | I11: =G11-F11 -> 0.26 | J11: 0.10128472 | K11: =J11-J10 -> 0.02962963 | L11: =K11+L9 -> 0.060740741 | M11: 2:16.50
A12: 5 | B12: Гаврилюк Олег | C12: 21 | D12: =COUNTA(G21:G85)+D11+1 -> 260 | E12: =COUNTA(G21:G85)+1 -> 48 | F12: =MIN(G21:G86) -> 39.62 | G12: =AVERAGE(G21:G886) -> 39.90617 | H12: 7 | I12: =G12-F12 -> 0.28617021 | J12: 0.12456019 | K12: =J12-J11 -> 0.023275463 | L12: =K12+L10 -> 0.063819444 | M12: 2:13.54
A13: 6 | B13: Гаврилюк Олег | C13: 33 | D13: =COUNTA(H21:H85)+D12+1 -> 301 | E13: =COUNTA(H21:H85)+1 -> 41 | F13: =MIN(H21:H86) -> 39.32 | G13: =AVERAGE(H21:H86) -> 39.599 | H13: 3 | I13: =G13-F13 -> 0.279 | J13: 0.14443287 | K13: =J13-J12 -> 0.019872685 | L13: =K13+L12 -> 0.08369213 | M13: 2:15.37
A14: 7 | B14: Мифтахутдинов Ильяс | C14: 2 | D14: =COUNTA(I21:I85)+D13+1 -> 322 | E14: =COUNTA(I21:I85)+1 -> 21 | F14: =MIN(I21:I86) -> 39.58 | G14: =AVERAGE(I21:I86) -> 39.814 | H14: 4 | I14: =G14-F14 -> 0.234 | J14: 0.15521991 | K14: =J14-J13 -> 0.010787037 | L14: =K14+L11 -> 0.071527778 | M14: 2:15.96
A15: Финиш | B15: Мифтахутдинов Ильяс | C15: 3 | D15: =COUNTA(J21:J85)+D14+1 -> 345 | E15: =COUNTA(J21:J85)+1 -> 23 | F15: =MIN(J21:J86) -> 39.55 | G15: =AVERAGE(J21:J86) -> 39.728636 | H15: 8 | I15: =G15-F15 -> 0.17863636 | J15: ='Общие результаты'!G6 -> 4:00:04 | K15: =J15-J14 -> 0.011493056 | L15: =K15+L14 -> 0.083020833
F16: =AVERAGE(F8,F10,F12,F13) -> 39.48 | G16: =AVERAGE(G8,G10,G12,G13) -> 39.867126 | H16: Олег | I16: =AVERAGE(I8,I10,I12,I13) -> 0.38712589
F17: =AVERAGE(F9,F11,F14,F15) -> 39.5275 | G17: =AVERAGE(G9,G11,G14,G15) -> 39.773745 | H17: Ильяс | I17: =AVERAGE(I9,I11,I14,I15) -> 0.24624503
F18: =AVERAGE(F8:F15) -> 39.50375 | G18: =AVERAGE(C21:J87) -> 39.788846 | I18: =AVERAGE(I8:I15) -> 0.31668546
C20: =B8 -> Гаврилюк Олег | D20: =B9 -> Мифтахутдинов Ильяс | E20: =B10 -> Гаврилюк Олег | F20: =B11 -> Мифтахутдинов Ильяс | G20: =B12 -> Гаврилюк Олег | H20: =B13 -> Гаврилюк Олег | I20: =B14 -> Мифтахутдинов Ильяс | J20: =B15 -> Мифтахутдинов Ильяс
B21: 1 | C21: 42.7 | D21: 39.76 | E21: 39.97 | F21: 39.62 | G21: 40.34 | H21: 39.76 | I21: 39.76 | J21: 39.92
B22: 2 | C22: 42.05 | D22: 39.93 | E22: 39.58 | F22: 39.58 | G22: 40.05 | H22: 39.71 | I22: 39.78 | J22: 39.92
B23: 3 | C23: 40.7 | D23: 39.87 | E23: 39.78 | F23: 39.69 | G23: 40.06 | H23: 39.53 | I23: 39.91 | J23: 39.81
B24: 4 | C24: 39.84 | D24: 39.93 | E24: 39.56 | F24: 39.7 | G24: 39.91 | H24: 39.55 | I24: 40.06 | J24: 39.67
B25: 5 | C25: 42.25 | D25: 40.23 | E25: 39.59 | F25: 41.45 | G25: 40 | H25: 39.55 | I25: 39.63 | J25: 39.78
B26: 6 | C26: 41.42 | D26: 39.81 | E26: 39.7 | F26: 39.62 | G26: 39.84 | H26: 39.56 | I26: 39.75 | J26: 39.77
B27: 7 | C27: 40.22 | D27: 39.97 | E27: 40.12 | F27: 39.54 | G27: 39.82 | H27: 39.65 | I27: 39.77 | J27: 39.61
B28: 8 | C28: 39.87 | D28: 39.7 | E28: 40.33 | F28: 39.59 | G28: 40.01 | H28: 39.53 | I28: 39.61 | J28: 39.59
B29: 9 | C29: 40.29 | D29: 39.6 | E29: 40.04 | F29: 39.57 | G29: 39.84 | H29: 39.83 | I29: 39.71 | J29: 39.65
B30: 10 | C30: 39.61 | D30: 39.85 | E30: 39.86 | F30: 39.65 | G30: 40.09 | H30: 39.58 | I30: 39.65 | J30: 39.61
B31: 11 | C31: 39.72 | D31: 39.7 | E31: 39.52 | F31: 39.68 | G31: 39.93 | H31: 39.84 | I31: 39.78 | J31: 39.58
B32: 12 | C32: 41.29 | D32: 39.71 | E32: 39.7 | F32: 39.68 | G32: 39.79 | H32: 39.59 | I32: 39.71 | J32: 39.58
... B40: 20 | C40: 39.67 | D40: 39.8 | E40: 39.75 | F40: 39.7 | G40: 39.84 | H40: 39.6 | I40: 40.09 | J40: 39.77
B41: 21 | C41: 39.66 | D41: 39.7 | E41: 39.66 | F41: 39.69 | G41: 39.7 | H41: 39.48 | J41: 39.76
B42: 22 | C42: 39.79 | D42: 39.63 | E42: 39.9 | F42: 39.57 | G42: 39.72 | H42: 39.71 | J42: 39.99
B43: 23 | C43: 39.59 | D43: 39.62 | E43: 39.51 | F43: 39.64 | G43: 39.78 | H43: 39.6
B44: 24 | C44: 40.03 | D44: 39.9 | E44: 39.67 | F44: 39.63 | G44: 40.63 | H44: 39.57
B45: 25 | D45: 39.96 | E45: 39.67 | F45: 39.64 | G45: 39.86 | H45: 39.45
B46: 26 | D46: 40.44 | E46: 39.7 | F46: 39.84 | G46: 39.71 | H46: 39.53
B47: 27 | D47: 39.83 | E47: 39.58 | F47: 39.66 | G47: 39.82 | H47: 39.58
B48: 28 | D48: 40.1 | E48: 39.49 | F48: 39.57 | G48: 39.62 | H48: 39.9
B49: 29 | D49: 39.59 | E49: 39.46 | F49: 39.56 | G49: 39.69 | H49: 39.62
B50: 30 | D50: 39.8 | E50: 39.48 | F50: 39.61 | G50: 39.81 | H50: 39.52
B51: 31 | D51: 39.71 | E51: 39.52 | F51: 39.63 | G51: 39.74 | H51: 39.37
...

Sheet Kozaks
A2: Чемпионат мини марафон "Большие Гонки", 4-й этап
A4: Kozaks
A6: Обяза-тельные | B6: Пилот | C6: карт | D6: Круг | E6: кругов на отрезке | F6: Статистика по кругам | J6: Общее время гонки | K6: Время на трассе
F7: Лучший круг | G7: Среднее на отрезке | H7: Кругов в 0,1 от лучшего | I7: стабильность | K7: отрезок | L7: всего у пилота | M7: Питы | N7: Штрафы/ бонусы (сек)
A8: 1 | B8: Наум | C8: 9 | D8: =COUNTA(C21:C85) -> 43 | E8: =COUNTA(C21:C85) -> 43 | F8: =MIN(C21:C84) -> 39.41 | G8: =AVERAGE(C21:C87) -> 39.770698 | H8: 6 | I8: =G8-F8 -> 0.36069767 | J8: 0.019837963 | K8: =J8 -> 0.019837963 | L8: =K8 -> 0.019837963 | M8: 2:15.66
A9: 2 | B9: Стоцки Андрей | C9: 1 | D9: =COUNTA(D21:D85)+D8+1 -> 90 | E9: =COUNTA(D21:D85)+1 -> 47 | F9: =MIN(D21:D84) -> 39.73 | G9: =AVERAGE(D21:D86) -> 40.042391 | H9: 3 | I9: =G9-F9 -> 0.3123913 | J9: 0.042731481 | K9: =J9-J8 -> 0.022893519 | L9: =K9 -> 0.022893519 | M9: 2:52.87 | O9: попали в очередь
A10: 3 | B10: Наум | C10: 9 | D10: =COUNTA(E21:E85)+D9+1 -> 150 | E10: =COUNTA(E21:E85)+1 -> 60 | F10: =MIN(E21:E86) -> 39.37 | G10: =AVERAGE(E21:E87) -> 39.614576 | I10: =G10-F10 -> 0.24457627 | J10: 0.071782407 | K10: =J10-J9 -> 0.029050926 | L10: =K10+L8 -> 0.048888889 | M10: 2:15.58
A11: 4 | B11: Стоцки Андрей | C11: 5 | D11: =COUNTA(F21:F85)+D10+1 -> 212 | E11: =COUNTA(F21:F85)+1 -> 62 | F11: =MIN(F21:F86) -> 39.58 | G11: =AVERAGE(F21:F86) -> 39.898525 | I11: =G11-F11 -> 0.31852459 | J11: 0.10152778 | K11: =J11-J10 -> 0.02974537 | L11: =K11+L9 -> 0.052638889 | M11: 2:15.81
A12: 5 | B12: Наум | C12: 10 | D12: =COUNTA(G21:G85)+D11+1 -> 266 | E12: =COUNTA(G21:G85)+1 -> 54 | F12: =MIN(G21:G86) -> 39.4 | G12: =AVERAGE(G21:G886) -> 39.578679 | I12: =G12-F12 -> 0.17867925 | J12: 0.12738426 | K12: =J12-J11 -> 0.025856481 | L12: =K12+L10 -> 0.07474537 | M12: 2:15.16
A13: 6 | B13: Стоцки Андрей | C13: 7 | D13: =COUNTA(H21:H85)+D12+1 -> 301 | E13: =COUNTA(H21:H85)+1 -> 35 | F13: =MIN(H21:H86) -> 39.51 | G13: =AVERAGE(H21:H86) -> 39.686471 | I13: =G13-F13 -> 0.17647059 | J13: 0.14458333 | K13: =J13-J12 -> 0.017199074 | L13: =K13+L11 -> 0.069837963 | M13: 2:14.88
A14: 7 | B14: Стоцки Андрей | C14: 9 | D14: =COUNTA(I21:I85)+D13+1 -> 324 | E14: =COUNTA(I21:I85)+1 -> 23 | F14: =MIN(I21:I86) -> 39.48 | G14: =AVERAGE(I21:I86) -> 39.667727 | I14: =G14-F14 -> 0.18772727 | J14: 0.15623843 | K14: =J14-J13 -> 0.011655093 | L14: =K14+L13 -> 0.081493056 | M14: 2:15.04
A15: Финиш | B15: Наум | C15: 2 | D15: =COUNTA(J21:J85)+D14+1 -> 345 | E15: =COUNTA(J21:J85)+1 -> 21 | F15: =MIN(J21:J86) -> 39.37 | G15: =AVERAGE(J21:J86) -> 39.5785 | I15: =G15-F15 -> 0.2085 | J15: ='Общие результаты'!G6 -> 4:00:04 | K15: =J15-J14 -> 0.010474537 | L15: =K15+L12 -> 0.085219907
F16: =AVERAGE(F8,F10,F12,F15) -> 39.3875 | G16: =AVERAGE(G8,G10,G12,G15) -> 39.635613 | H16: Наум | I16: =AVERAGE(I8,I10,I12,I15) -> 0.2481133
F17: =AVERAGE(F9,F11,F13,F14) -> 39.575 | G17: =AVERAGE(G9,G11,G13,G14) -> 39.823778 | H17: Андрей | I17: =AVERAGE(I9,I11,I13,I14) -> 0.24877844
F18: =AVERAGE(F8:F15) -> 39.48125 | G18: =AVERAGE(C21:J87) -> 39.746834 | I18: =AVERAGE(I8:I15) -> 0.24844587
C20: =B8 -> Наум | D20: =B9 -> Стоцки Андрей | E20: =B10 -> Наум | F20: =B11 -> Стоцки Андрей | G20: =B12 -> Наум | H20: =B13 -> Стоцки Андрей | I20: =B14 -> Стоцки Андрей | J20: =B15 -> Наум
B21: 1 | C21: 42.64 | D21: 40.09 | E21: 39.97 | F21: 40.01 | G21: 39.53 | H21: 39.92 | I21: 39.87 | J21: 39.48
B22: 2 | C22: 41.55 | D22: 40.2 | E22: 39.5 | F22: 39.86 | G22: 39.56 | H22: 39.76 | I22: 39.75 | J22: 39.57
B23: 3 | C23: 39.9 | D23: 40.24 | E23: 39.85 | F23: 39.93 | G23: 39.62 | H23: 39.88 | I23: 39.69 | J23: 39.47
B24: 4 | C24: 39.64 | D24: 40.13 | E24: 39.73 | F24: 39.81 | G24: 39.57 | H24: 39.75 | I24: 39.76 | J24: 39.57
B25: 5 | C25: 40.71 | D25: 41.06 | E25: 39.48 | F25: 39.8 | G25: 39.45 | H25: 39.89 | I25: 39.75 | J25: 39.49
B26: 6 | C26: 39.77 | D26: 39.9 | E26: 39.67 | F26: 39.87 | G26: 39.63 | H26: 39.69 | I26: 39.63 | J26: 39.46
B27: 7 | C27: 39.56 | D27: 39.94 | E27: 39.68 | F27: 39.71 | G27: 39.59 | H27: 39.66 | I27: 39.58 | J27: 39.53
B28: 8 | C28: 39.76 | D28: 39.76 | E28: 39.65 | F28: 39.84 | G28: 39.65 | H28: 39.75 | I28: 39.59 | J28: 39.66
B29: 9 | C29: 39.75 | D29: 40.05 | E29: 39.53 | F29: 39.86 | G29: 39.56 | H29: 39.65 | I29: 39.76 | J29: 39.42
B30: 10 | C30: 39.52 | D30: 39.99 | E30: 39.54 | F30: 39.79 | G30: 39.89 | H30: 39.86 | I30: 39.63 | J30: 39.54
B31: 11 | C31: 39.62 | D31: 39.84 | E31: 39.45 | F31: 39.92 | G31: 39.51 | H31: 39.74 | I31: 39.59 | J31: 39.52
B32: 12 | C32: 39.64 | D32: 40.11 | E32: 39.49 | F32: 39.75 | G32: 39.46 | H32: 39.6 | I32: 39.51 | J32: 39.58
... B40: 20 | C40: 39.68 | D40: 39.73 | E40: 39.62 | F40: 39.84 | G40: 39.47 | H40: 39.66 | I40: 39.7 | J40: 39.83
B41: 21 | C41: 39.57 | D41: 40.25 | E41: 39.49 | F41: 39.94 | G41: 39.62 | H41: 39.52 | I41: 39.72
B42: 22 | C42: 39.5 | D42: 39.85 | E42: 40.28 | F42: 39.9 | G42: 39.49 | H42: 39.7 | I42: 39.83
B43: 23 | C43: 39.54 | D43: 40.03 | E43: 39.59 | F43: 39.74 | G43: 39.57 | H43: 39.63
B44: 24 | C44: 39.63 | D44: 39.99 | E44: 39.81 | F44: 39.8 | G44: 39.55 | H44: 39.54
B45: 25 | C45: 39.55 | D45: 39.95 | E45: 39.44 | F45: 39.8 | G45: 39.57 | H45: 39.51
B46: 26 | C46: 39.46 | D46: 39.96 | E46: 39.53 | F46: 39.8 | G46: 39.66 | H46: 39.66
B47: 27 | C47: 39.52 | D47: 40.12 | E47: 39.66 | F47: 39.75 | G47: 39.58 | H47: 39.66
B48: 28 | C48: 39.52 | D48: 39.85 | E48: 39.55 | F48: 39.86 | G48: 39.46 | H48: 39.65
B49: 29 | C49: 39.54 | D49: 40.44 | E49: 39.91 | F49: 39.85 | G49: 40.04 | H49: 39.57
B50: 30 | C50: 39.52 | D50: 40.07 | E50: 39.5 | F50: 40.11 | G50: 39.85 | H50: 39.67
B51: 31 | C51: 39.51 | D51: 40.23 | E51: 39.56 | F51: 39.92 | G51: 39.57 | H51: 39.54
...

Sheet MST
A2: Чемпионат мини марафон "Большие Гонки", 4-й этап
A4: MST
A6: Обяза-тельные | B6: Пилот | C6: карт | D6: Круг | E6: кругов на отрезке | F6: Статистика по кругам | J6: Общее время гонки | K6: Время на трассе
F7: Лучший круг | G7: Среднее на отрезке | H7: Кругов в 0,1 от лучшего | I7: стабильность | K7: отрезок | L7: всего у пилота | M7: Питы | N7: Штрафы/ бонусы (сек)
A8: 1 | B8: Петушков Андрей | C8: 7 | D8: =COUNTA(C21:C85) -> 25 | E8: =COUNTA(C21:C85) -> 25 | F8: =MIN(C21:C84) -> 39.31 | G8: =AVERAGE(C21:C87) -> 40.2112 | H8: 3 | I8: =G8-F8 -> 0.9012 | J8: 0.011701389 | K8: =J8 -> 0.011701389 | L8: =K8 -> 0.011701389 | M8: 1:51.30 | N8: -12 | O8: бонус за вес
A9: 2 | B9: Бахмацкий Олег | C9: 5 | D9: =COUNTA(D21:D85)+D8+1 -> 90 | E9: =COUNTA(D21:D85)+1 -> 65 | F9: =MIN(D21:D84) -> 39.48 | G9: =AVERAGE(D21:D86) -> 39.709688 | H9: 21 | I9: =G9-F9 -> 0.2296875 | J9: 0.042407407 | K9: =J9-J8 -> 0.030706019 | L9: =K9 -> 0.030706019 | M9: 2:35.46 | O9: попали в очередь
A10: 3 | B10: Петушков Андрей | C10: 10 | D10: =COUNTA(E21:E85)+D9+1 -> 148 | E10: =COUNTA(E21:E85)+1 -> 58 | F10: =MIN(E21:E86) -> 39.58 | G10: =AVERAGE(E21:E87) -> 39.84807 | H10: 7 | I10: =G10-F10 -> 0.26807018 | J10: 0.07056713 | K10: =J10-J9 -> 0.028159722 | L10: =K10+L8 -> 0.039861111 | M10: 2:31.17 | N10: 5+12 | O10: борьба+выпустили раньше
A11: 4 | B11: Бахмацкий Олег | C11: 1 | D11: =COUNTA(F21:F85)+D10+1 -> 170 | E11: =COUNTA(F21:F85)+1 -> 22 | F11: =MIN(F21:F86) -> 39.67 | G11: =AVERAGE(F21:F86) -> 39.864762 | H11: 6 | I11: =G11-F11 -> 0.1947619 | J11: 0.08193287 | K11: =J11-J10 -> 0.011365741 | L11: =K11+L9 -> 0.042071759 | M11: 2:15.34
A12: 5 | B12: Бахмацкий Олег | C12: 13 | D12: =COUNTA(G21:G85)+D11+1 -> 200 | E12: =COUNTA(G21:G85)+1 -> 30 | F12: =MIN(G21:G86) -> 39.53 | G12: =AVERAGE(G21:G886) -> 39.787241 | H12: 4 | I12: =G12-F12 -> 0.25724138 | J12: 0.096851852 | K12: =J12-J11 -> 0.014918981 | L12: =K12+L11 -> 0.056990741 | M12: 2:15.38
A13: 6 | B13: Петушков Андрей | C13: 7 | D13: =COUNTA(H21:H85)+D12+1 -> 264 | E13: =COUNTA(H21:H85)+1 -> 64 | F13: =MIN(H21:H86) -> 39.41 | G13: =AVERAGE(H21:H86) -> 39.688889 | H13: 7 | I13: =G13-F13 -> 0.27888889 | J13: 0.12736111 | K13: =J13-J12 -> 0.030509259 | L13: =K13+L10 -> 0.07037037 | M13: 2:15.30
A14: 7 | B14: Петушков Андрей | C14: 21 | D14: =COUNTA(I21:I85)+D13+1 -> 291 | E14: =COUNTA(I21:I85)+1 -> 27 | F14: =MIN(I21:I86) -> 39.37 | G14: =AVERAGE(I21:I86) -> 39.809231 | H14: 0 | I14: =G14-F14 -> 0.43923077 | J14: 0.14090278 | K14: =J14-J13 -> 0.013541667 | L14: =K14+L13 -> 0.083912037 | M14: 2:14.34
A15: Финиш | B15: Бахмацкий Олег | C15: 13 | D15: =COUNTA(J21:J85)+D14+1 -> 345 | E15: =COUNTA(J21:J85)+1 -> 54 | F15: =MIN(J21:J86) -> 39.55 | G15: =AVERAGE(J21:J86) -> 39.719057 | H15: 15 | I15: =G15-F15 -> 0.1690566 | J15: ='Общие результаты'!G6 -> 4:00:04 | K15: =J15-J14 -> 0.025810185 | L15: =K15+L12 -> 0.082800926
F16: =AVERAGE(F8,F10,F13,F14) -> 39.4175 | G16: =AVERAGE(G8,G10,G13,G14) -> 39.889347 | H16: Андрей | I16: =AVERAGE(I8,I10,I13,I14) -> 0.47184746
F17: =AVERAGE(F9,F11,F12,F15) -> 39.5575 | G17: =AVERAGE(G9,G11,G12,G15) -> 39.770187 | H17: Олег | I17: =AVERAGE(I9,I11,I12,I15) -> 0.21268685
F18: =AVERAGE(F8:F15) -> 39.4875 | G18: =AVERAGE(C21:J87) -> 39.791657 | I18: =AVERAGE(I8:I15) -> 0.34226715
C20: =B8 -> Петушков Андрей | D20: =B9 -> Бахмацкий Олег | E20: =B10 -> Петушков Андрей | F20: =B11 -> Бахмацкий Олег | G20: =B12 -> Бахмацкий Олег | H20: =B13 -> Петушков Андрей | I20: =B14 -> Петушков Андрей | J20: =B15 -> Бахмацкий Олег
B21: 1 | C21: 42.48 | D21: 39.83 | E21: 39.99 | F21: 40.17 | G21: 39.81 | H21: 40.78 | I21: 39.68 | J21: 39.73
B22: 2 | C22: 41.73 | D22: 39.75 | E22: 40.11 | F22: 40.06 | G22: 39.63 | H22: 39.55 | I22: 39.89 | J22: 39.7
B23: 3 | C23: 39.81 | D23: 39.64 | E23: 39.97 | F23: 39.86 | G23: 39.61 | H23: 39.7 | I23: 39.73 | J23: 39.63
B24: 4 | C24: 39.58 | D24: 39.9 | E24: 39.98 | F24: 39.89 | G24: 39.71 | H24: 40.93 | I24: 39.98 | J24: 39.58
B25: 5 | C25: 44.96 | D25: 39.58 | E25: 39.99 | F25: 39.86 | G25: 39.62 | H25: 39.81 | I25: 40.05 | J25: 39.7
B26: 6 | C26: 41.33 | D26: 39.75 | E26: 39.82 | F26: 39.74 | G26: 39.64 | H26: 39.71 | I26: 39.97 | J26: 39.55
B27: 7 | C27: 39.98 | D27: 39.69 | E27: 39.94 | F27: 39.72 | G27: 39.7 | H27: 39.7 | I27: 39.71 | J27: 39.75
B28: 8 | C28: 39.8 | D28: 39.75 | E28: 39.8 | F28: 39.82 | G28: 39.77 | H28: 39.68 | I28: 39.89 | J28: 39.63
B29: 9 | C29: 40.31 | D29: 39.63 | E29: 39.78 | F29: 39.71 | G29: 39.84 | H29: 39.7 | I29: 39.83 | J29: 39.7
B30: 10 | C30: 39.77 | D30: 40.4 | E30: 39.9 | F30: 39.87 | G30: 39.7 | H30: 39.66 | I30: 39.73 | J30: 39.77
B31: 11 | C31: 39.54 | D31: 39.69 | E31: 39.93 | F31: 39.68 | G31: 39.7 | H31: 39.46 | I31: 39.87 | J31: 39.76
B32: 12 | C32: 41.15 | D32: 39.81 | E32: 39.72 | F32: 40.2 | G32: 39.79 | H32: 39.61 | I32: 39.8 | J32: 39.67
... B41: 21 | C41: 39.53 | D41: 39.6 | E41: 39.87 | F41: 40.04 | G41: 40.1 | H41: 39.68 | I41: 39.7 | J41: 39.63
B42: 22 | C42: 39.59 | D42: 39.64 | E42: 39.68 | G42: 39.79 | H42: 39.54 | I42: 39.37 | J42: 39.72
B43: 23 | C43: 39.34 | D43: 39.84 | E43: 40.95 | G43: 39.95 | H43: 39.64 | I43: 39.72 | J43: 39.55
B44: 24 | C44: 39.37 | D44: 39.72 | E44: 39.69 | G44: 39.75 | H44: 39.62 | I44: 39.83 | J44: 39.68
B45: 25 | C45: 39.81 | D45: 39.57 | E45: 39.6 | G45: 39.93 | H45: 39.56 | I45: 39.67 | J45: 39.74
B46: 26 | D46: 39.63 | E46: 39.74 | G46: 40.18 | H46: 39.54 | I46: 39.53 | J46: 40.52
B47: 27 | D47: 39.68 | E47: 39.86 | G47: 39.72 | H47: 39.45 | J47: 39.72
B48: 28 | D48: 39.66 | E48: 39.88 | G48: 39.87 | H48: 39.52 | J48: 39.66
B49: 29 | D49: 39.88 | E49: 39.82 | G49: 39.91 | H49: 39.51 | J49: 39.84
B50: 30 | D50: 39.52 | E50: 39.73 | H50: 40.07 | J50: 39.73
B51: 31 | D51: 40.14 | E51: 39.96 | H51: 39.63 | J51: 39.63
B52: 32 | D52: 40.15 | E52: 39.58 | H52: 39.41 | J52: 39.71
...

Sheet Fortuna Racing
A2: Чемпионат мини марафон "Большие Гонки", 4-й этап
A4: Fortuna Racing
A6: Обяза-тельные | B6: Пилот | C6: карт | D6: Круг | E6: кругов на отрезке | F6: Статистика по кругам | J6: Общее время гонки | K6: Время на трассе
F7: Лучший круг | G7: Среднее на отрезке | H7: Кругов в 0,1 от лучшего | I7: стабильность | K7: отрезок | L7: всего у пилота | M7: Питы | N7: Штрафы/ бонусы (сек)
A8: 1 | B8: Шутка Виталий | C8: 33 | D8: =COUNTA(C21:C85) -> 25 | E8: =COUNTA(C21:C85) -> 25 | F8: =MIN(C21:C84) -> 39.46 | G8: =AVERAGE(C21:C87) -> 40.314 | H8: 1 | I8: =G8-F8 -> 0.854 | J8: 0.011747685 | K8: =J8 -> 0.011747685 | L8: =K8 -> 0.011747685 | M8: 2:16.18
A9: 2 | B9: Фортуна Таня | C9: 7 | D9: =COUNTA(D21:D85)+D8+1 -> 89 | E9: =COUNTA(D21:D85)+1 -> 64 | F9: =MIN(D21:D84) -> 39.42 | G9: =AVERAGE(D21:D86) -> 39.772857 | H9: 7 | I9: =G9-F9 -> 0.35285714 | J9: 0.042314815 | K9: =J9-J8 -> 0.03056713 | L9: =K9 -> 0.03056713 | M9: 2:16.10
A10: 3 | B10: Шутка Виталий | C10: 6 | D10: =COUNTA(E21:E85)+D9+1 -> 139 | E10: =COUNTA(E21:E85)+1 -> 50 | F10: =MIN(E21:E86) -> 39.77 | G10: =AVERAGE(E21:E87) -> 40.029388 | H10: 8 | I10: =G10-F10 -> 0.25938776 | J10: 0.066597222 | K10: =J10-J9 -> 0.024282407 | L10: =K10+L8 -> 0.036030093 | M10: 2:15.91
A11: 4 | B11: Фортуна Таня | C11: 7 | D11: =COUNTA(F21:F85)+D10+1 -> 202 | E11: =COUNTA(F21:F85)+1 -> 63 | F11: =MIN(F21:F86) -> 39.47 | G11: =AVERAGE(F21:F86) -> 39.761935 | H11: 10 | I11: =G11-F11 -> 0.29193548 | J11: 0.096701389 | K11: =J11-J10 -> 0.030104167 | L11: =K11+L9 -> 0.060671296 | M11: 2:16.02
A12: 5 | B12: Шутка Виталий | C12: 33 | D12: =COUNTA(G21:G85)+D11+1 -> 260 | E12: =COUNTA(G21:G85)+1 -> 58 | F12: =MIN(G21:G86) -> 39.47 | G12: =AVERAGE(G21:G886) -> 39.731404 | H12: 13 | I12: =G12-F12 -> 0.26140351 | J12: 0.12449074 | K12: =J12-J11 -> 0.027789352 | L12: =K12+L10 -> 0.063819444 | M12: 2:14.87
A13: 6 | B13: Фортуна Таня | C13: 13 | D13: =COUNTA(H21:H85)+D12+1 -> 293 | E13: =COUNTA(H21:H85)+1 -> 33 | F13: =MIN(H21:H86) -> 39.5 | G13: =AVERAGE(H21:H86) -> 39.785313 | H13: 6 | I13: =G13-F13 -> 0.2853125 | J13: 0.14078704 | K13: =J13-J12 -> 0.016296296 | L13: =K13+L11 -> 0.076967593 | M13: 2:16.17
A14: 7 | B14: Шутка Виталий | C14: 6 | D14: =COUNTA(I21:I85)+D13+1 -> 324 | E14: =COUNTA(I21:I85)+1 -> 31 | F14: =MIN(I21:I86) -> 39.78 | G14: =AVERAGE(I21:I86) -> 40.042 | H14: 4 | I14: =G14-F14 -> 0.262 | J14: 0.15627315 | K14: =J14-J13 -> 0.015486111 | L14: =K14+L12 -> 0.079305556 | M14: 2:16.38
A15: Финиш | B15: Фортуна Таня | C15: 9 | D15: =COUNTA(J21:J85)+D14+1 -> 345 | E15: =COUNTA(J21:J85)+1 -> 21 | F15: =MIN(J21:J86) -> 39.73 | G15: =AVERAGE(J21:J86) -> 39.858 | H15: 10 | I15: =G15-F15 -> 0.128 | J15: ='Общие результаты'!G6 -> 4:00:04 | K15: =J15-J14 -> 0.010439815 | L15: =K15+L13 -> 0.087407407
F16: =AVERAGE(F8,F10,F12,F14) -> 39.62 | G16: =AVERAGE(G8,G10,G12,G14) -> 40.029198 | H16: Виталий | I16: =AVERAGE(I8,I10,I12,I14) -> 0.40919782
F17: =AVERAGE(F9,F11,F13,F15) -> 39.53 | G17: =AVERAGE(G9,G11,G13,G15) -> 39.794526 | H17: Таня | I17: =AVERAGE(I9,I11,I13,I15) -> 0.26452628
F18: =AVERAGE(F8:F15) -> 39.575 | G18: =AVERAGE(C21:J87) -> 39.871183 | I18: =AVERAGE(I8:I15) -> 0.33686205
C20: =B8 -> Шутка Виталий | D20: =B9 -> Фортуна Таня | E20: =B10 -> Шутка Виталий | F20: =B11 -> Фортуна Таня | G20: =B12 -> Шутка Виталий | H20: =B13 -> Фортуна Таня | I20: =B14 -> Шутка Виталий | J20: =B15 -> Фортуна Таня
B21: 1 | C21: 42.87 | D21: 39.65 | E21: 40.62 | F21: 39.94 | G21: 39.78 | H21: 40.04 | I21: 39.96 | J21: 40.01
B22: 2 | C22: 41.42 | D22: 39.49 | E22: 39.96 | F22: 39.92 | G22: 40.92 | H22: 39.79 | I22: 40.2 | J22: 39.95
B23: 3 | C23: 42.34 | D23: 39.55 | E23: 39.79 | F23: 39.71 | G23: 40.24 | H23: 39.8 | I23: 39.92 | J23: 39.98
B24: 4 | C24: 39.89 | D24: 39.65 | E24: 39.77 | F24: 40.04 | G24: 39.76 | H24: 39.82 | I24: 39.81 | J24: 39.79
B25: 5 | C25: 40.95 | D25: 39.66 | E25: 39.97 | F25: 39.75 | G25: 39.8 | H25: 39.72 | I25: 40.26 | J25: 39.79
B26: 6 | C26: 42.16 | D26: 39.97 | E26: 41.16 | F26: 39.7 | G26: 39.99 | H26: 39.95 | I26: 40.1 | J26: 39.73
B27: 7 | C27: 39.85 | D27: 39.79 | E27: 39.96 | F27: 39.66 | G27: 41.13 | H27: 39.88 | I27: 40.03 | J27: 39.79
B28: 8 | C28: 40.02 | D28: 39.64 | E28: 40.69 | F28: 40.07 | G28: 40.27 | H28: 39.83 | I28: 40 | J28: 39.82
B29: 9 | C29: 40.04 | D29: 39.58 | E29: 39.89 | F29: 40.01 | G29: 39.92 | H29: 39.83 | I29: 39.91 | J29: 39.95
B30: 10 | C30: 40.35 | D30: 39.64 | E30: 40.38 | F30: 39.84 | G30: 39.9 | H30: 39.76 | I30: 39.92 | J30: 39.89
B31: 11 | C31: 39.69 | D31: 39.92 | E31: 39.92 | F31: 39.75 | G31: 39.53 | H31: 39.6 | I31: 39.89 | J31: 39.74
B32: 12 | C32: 40.37 | D32: 39.71 | E32: 39.99 | F32: 39.57 | G32: 39.79 | H32: 39.77 | I32: 39.87 | J32: 39.81
... B40: 20 | C40: 39.63 | D40: 39.63 | E40: 40.09 | F40: 39.63 | G40: 39.58 | H40: 39.58 | I40: 39.94 | J40: 39.9
B41: 21 | C41: 39.66 | D41: 39.53 | E41: 39.9 | F41: 39.82 | G41: 39.85 | H41: 39.61 | I41: 39.89
B42: 22 | C42: 39.61 | D42: 39.7 | E42: 39.92 | F42: 39.61 | G42: 39.62 | H42: 39.59 | I42: 39.98
B43: 23 | C43: 39.52 | D43: 40.25 | E43: 39.91 | F43: 39.49 | G43: 39.47 | H43: 39.82 | I43: 40.03
B44: 24 | C44: 39.6 | D44: 40.47 | E44: 39.86 | F44: 39.51 | G44: 39.57 | H44: 39.53 | I44: 40.46
B45: 25 | C45: 40.03 | D45: 40.22 | E45: 39.97 | F45: 39.62 | G45: 39.49 | H45: 39.56 | I45: 39.9
B46: 26 | D46: 39.75 | E46: 40.04 | F46: 39.87 | G46: 39.57 | H46: 39.61 | I46: 41.49
B47: 27 | D47: 40.56 | E47: 39.92 | F47: 39.66 | G47: 39.72 | H47: 40.05 | I47: 39.89
B48: 28 | D48: 39.5 | E48: 39.97 | F48: 39.7 | G48: 39.62 | H48: 40.7 | I48: 39.78
B49: 29 | D49: 39.78 | E49: 40.02 | F49: 39.53 | G49: 39.63 | H49: 39.74 | I49: 39.81
B50: 30 | D50: 39.76 | E50: 39.8 | F50: 39.49 | G50: 39.64 | H50: 39.7 | I50: 40
B51: 31 | D51: 40.49 | E51: 39.8 | F51: 39.78 | G51: 39.72 | H51: 39.5
...

Sheet ASS Racing Team
A2: Чемпионат мини марафон "Большие Гонки", 4-й этап
A4: ASS Racing Team
A6: Обяза-тельные | B6: Пилот | C6: карт | D6: Круг | E6: кругов на отрезке | F6: Статистика по кругам | J6: Общее время гонки | K6: Время на трассе
F7: Лучший круг | G7: Среднее на отрезке | H7: Кругов в 0,1 от лучшего | I7: стабильность | K7: отрезок | L7: всего у пилота | M7: Питы | N7: Штрафы/ бонусы (сек)
A8: 1 | B8: Ткаченко Кирилл | C8: 3 | D8: =COUNTA(C21:C85) -> 36 | E8: =COUNTA(C21:C85) -> 36 | F8: =MIN(C21:C84) -> 39.46 | G8: =AVERAGE(C21:C87) -> 40.147222 | H8: 6 | I8: =G8-F8 -> 0.68722222 | J8: 0.016793981 | K8: =J8 -> 0.016793981 | L8: =K8 -> 0.016793981 | M8: 2:15.48
A9: 2 | B9: Лысенский Денис | C9: 69 | D9: =COUNTA(D21:D85)+D8+1 -> 89 | E9: =COUNTA(D21:D85)+1 -> 53 | F9: =MIN(D21:D84) -> 39.47 | G9: =AVERAGE(D21:D86) -> 39.813269 | H9: 6 | I9: =G9-F9 -> 0.34326923 | J9: 0.042326389 | K9: =J9-J8 -> 0.025532407 | L9: =K9 -> 0.025532407 | M9: 2:16.43
A10: 3 | B10: Ткаченко Кирилл | C10: 7 | D10: =COUNTA(E21:E85)+D9+1 -> 139 | E10: =COUNTA(E21:E85)+1 -> 50 | F10: =MIN(E21:E86) -> 39.47 | G10: =AVERAGE(E21:E87) -> 39.795102 | H10: 0 | I10: =G10-F10 -> 0.32510204 | J10: 0.066469907 | K10: =J10-J9 -> 0.024143519 | L10: =K10+L8 -> 0.0409375 | M10: 2:15.74
A11: 4 | B11: Лысенский Денис | C11: 33 | D11: =COUNTA(F21:F85)+D10+1 -> 202 | E11: =COUNTA(F21:F85)+1 -> 63 | F11: =MIN(F21:F86) -> 39.45 | G11: =AVERAGE(F21:F86) -> 39.750968 | H11: 11 | I11: =G11-F11 -> 0.30096774 | J11: 0.096574074 | K11: =J11-J10 -> 0.030104167 | L11: =K11+L9 -> 0.055636574 | M11: 2:15.96
A12: 5 | B12: Ткаченко Кирилл | C12: 6 | D12: =COUNTA(G21:G85)+D11+1 -> 227 | E12: =COUNTA(G21:G85)+1 -> 25 | F12: =MIN(G21:G86) -> 39.78 | G12: =AVERAGE(G21:G886) -> 39.997917 | H12: 6 | I12: =G12-F12 -> 0.21791667 | J12: 0.10924769 | K12: =J12-J11 -> 0.012673611 | L12: =K12+L10 -> 0.053611111 | M12: 2:16.13
A13: 6 | B13: Лысенский Денис | C13: 4 | D13: =COUNTA(H21:H85)+D12+1 -> 264 | E13: =COUNTA(H21:H85)+1 -> 37 | F13: =MIN(H21:H86) -> 39.82 | G13: =AVERAGE(H21:H86) -> 40.070278 | H13: 10 | I13: =G13-F13 -> 0.25027778 | J13: 0.12753472 | K13: =J13-J12 -> 0.018287037 | L13: =K13+L11 -> 0.073923611 | M13: 2:15.56
A14: 7 | B14: Ткаченко Кирилл | C14: 10 | D14: =COUNTA(I21:I85)+D13+1 -> 324 | E14: =COUNTA(I21:I85)+1 -> 60 | F14: =MIN(I21:I86) -> 39.65 | G14: =AVERAGE(I21:I86) -> 39.85661 | H14: 12 | I14: =G14-F14 -> 0.20661017 | J14: 0.15631944 | K14: =J14-J13 -> 0.028784722 | L14: =K14+L12 -> 0.082395833 | M14: 2:15.24
A15: Финиш | B15: Лысенский Денис | C15: 6 | D15: =COUNTA(J21:J85)+D14+1 -> 345 | E15: =COUNTA(J21:J85)+1 -> 21 | F15: =MIN(J21:J86) -> 39.53 | G15: =AVERAGE(J21:J86) -> 39.789 | H15: 1 | I15: =G15-F15 -> 0.259 | J15: ='Общие результаты'!G6 -> 4:00:04 | K15: =J15-J14 -> 0.010393519 | L15: =K15+L13 -> 0.08431713 | N15: 5 | O15: лимит
F16: =AVERAGE(F8,F10,F12,F14) -> 39.59 | G16: =AVERAGE(G8,G10,G12,G14) -> 39.949213 | H16: Кирилл | I16: =AVERAGE(I8,I10,I12,I14) -> 0.35921277
F17: =AVERAGE(F9,F11,F13,F15) -> 39.5675 | G17: =AVERAGE(G9,G11,G13,G15) -> 39.855879 | H17: Денис | I17: =AVERAGE(I9,I11,I13,I15) -> 0.28837869
F18: =AVERAGE(F8:F15) -> 39.57875 | G18: =AVERAGE(C21:J90) -> 39.881391 | I18: =AVERAGE(I8:I15) -> 0.32379573
C20: =B8 -> Ткаченко Кирилл | D20: =B9 -> Лысенский Денис | E20: =B10 -> Ткаченко Кирилл | F20: =B11 -> Лысенский Денис | G20: =B12 -> Ткаченко Кирилл | H20: =B13 -> Лысенский Денис | I20: =B14 -> Ткаченко Кирилл | J20: =B15 -> Лысенский Денис
B21: 1 | C21: 43.1 | D21: 39.99 | E21: 40.03 | F21: 39.74 | G21: 40.24 | H21: 40.22 | I21: 40.02 | J21: 39.77
B22: 2 | C22: 42 | D22: 39.89 | E22: 39.98 | F22: 39.53 | G22: 40.13 | H22: 40.05 | I22: 39.97 | J22: 39.85
B23: 3 | C23: 40.63 | D23: 39.61 | E23: 39.86 | F23: 39.74 | G23: 40.39 | H23: 40.5 | I23: 39.82 | J23: 39.53
B24: 4 | C24: 39.56 | D24: 39.67 | E24: 39.69 | F24: 39.61 | G24: 40.02 | H24: 40.09 | I24: 39.94 | J24: 39.8
B25: 5 | C25: 44.39 | D25: 42.39 | E25: 40.06 | F25: 39.5 | G25: 40.06 | H25: 40.02 | I25: 39.89 | J25: 40.05
B26: 6 | C26: 41.23 | D26: 40.1 | E26: 41.61 | F26: 39.55 | G26: 40.16 | H26: 39.98 | I26: 39.86 | J26: 39.78
B27: 7 | C27: 39.88 | D27: 39.67 | E27: 39.64 | F27: 40.16 | G27: 40.04 | H27: 40.09 | I27: 39.87 | J27: 39.92
B28: 8 | C28: 40.18 | D28: 39.61 | E28: 40.05 | F28: 39.84 | G28: 40.18 | H28: 39.97 | I28: 40.08 | J28: 39.83
B29: 9 | C29: 39.74 | D29: 39.64 | E29: 39.7 | F29: 39.47 | G29: 39.95 | H29: 39.88 | I29: 39.91 | J29: 39.74
B30: 10 | C30: 40.34 | D30: 39.77 | E30: 39.75 | F30: 39.56 | G30: 39.92 | H30: 40.11 | I30: 39.94 | J30: 39.76
B31: 11 | C31: 39.87 | D31: 39.63 | E31: 39.8 | F31: 39.5 | G31: 40.21 | H31: 39.91 | I31: 39.91 | J31: 39.79
B32: 12 | C32: 40.02 | D32: 40.48 | E32: 39.63 | F32: 39.99 | G32: 40.29 | H32: 40.64 | I32: 39.82 | J32: 39.74
... B40: 20 | C40: 39.74 | D40: 40.41 | E40: 39.86 | F40: 39.63 | G40: 39.84 | H40: 39.98 | I40: 39.76 | J40: 39.92
B41: 21 | C41: 39.56 | D41: 39.71 | E41: 39.63 | F41: 39.67 | G41: 39.79 | H41: 39.97 | I41: 39.76
B42: 22 | C42: 39.76 | D42: 39.62 | E42: 39.71 | F42: 39.62 | G42: 39.8 | H42: 39.94 | I42: 39.95
B43: 23 | C43: 39.48 | D43: 39.47 | E43: 39.71 | F43: 39.57 | G43: 39.9 | H43: 39.98 | I43: 39.75
B44: 24 | C44: 39.67 | D44: 39.62 | E44: 39.63 | F44: 39.78 | G44: 39.95 | H44: 39.93 | I44: 39.65
B45: 25 | C45: 39.62 | D45: 39.64 | E45: 39.7 | F45: 39.52 | H45: 39.98 | I45: 39.79
B46: 26 | C46: 39.58 | D46: 39.65 | E46: 39.78 | F46: 39.71 | H46: 39.9 | I46: 39.82
B47: 27 | C47: 39.62 | D47: 39.6 | E47: 39.69 | F47: 39.77 | H47: 39.98 | I47: 39.72
B48: 28 | C48: 39.48 | D48: 39.59 | E48: 39.69 | F48: 39.73 | H48: 39.86 | I48: 39.88
B49: 29 | C49: 39.46 | D49: 39.6 | E49: 39.76 | F49: 39.49 | H49: 39.88 | I49: 39.82
B50: 30 | C50: 39.58 | D50: 39.77 | E50: 39.74 | F50: 39.64 | H50: 39.94 | I50: 39.88
B51: 31 | C51: 39.75 | D51: 39.68 | E51: 39.88 | F51: 39.63 | H51: 39.82 | I51: 39.7
...

Sheet Ne Fart
A2: Чемпионат мини марафон "Большие Гонки", 4-й этап
A4: Ne Fart
A6: Обяза-тельные | B6: Пилот | C6: карт | D6: Круг | E6: кругов на отрезке | F6: Статистика по кругам | J6: Общее время гонки | K6: Время на трассе
F7: Лучший круг | G7: Среднее на отрезке | H7: Кругов в 0,1 от лучшего | I7: стабильность | K7: отрезок | L7: всего у пилота | M7: Питы | N7: Штрафы/ бонусы (сек)
A8: 1 | B8: Онащук Маким | C8: 2 | D8: =COUNTA(C21:C85) -> 43 | E8: =COUNTA(C21:C85) -> 43 | F8: =MIN(C21:C84) -> 39.51 | G8: =AVERAGE(C21:C87) -> 39.976279 | H8: 6 | I8: =G8-F8 -> 0.46627907 | J8: 0.019930556 | K8: =J8 -> 0.019930556 | L8: =K8 -> 0.019930556 | M8: 2:15.83
A9: 2 | B9: Хлопонин Андрей | C9: 9 | D9: =COUNTA(D21:D85)+D8+1 -> 94 | E9: =COUNTA(D21:D85)+1 -> 51 | F9: =MIN(D21:D84) -> 39.39 | G9: =AVERAGE(D21:D86) -> 39.6656 | H9: 5 | I9: =G9-F9 -> 0.2756 | J9: 0.042615741 | K9: =J9-J8 -> 0.022685185 | L9: =K9 -> 0.022685185 | M9: 2:44.15 | O9: опали в очередь
A10: 3 | B10: Онащук Маким | C10: 5 | D10: =COUNTA(E21:E85)+D9+1 -> 154 | E10: =COUNTA(E21:E85)+1 -> 60 | F10: =MIN(E21:E86) -> 39.5 | G10: =AVERAGE(E21:E87) -> 39.795085 | H10: 7 | I10: =G10-F10 -> 0.29508475 | J10: 0.071701389 | K10: =J10-J9 -> 0.029085648 | L10: =K10+L8 -> 0.049016204 | M10: 2:13.15
A11: 4 | B11: Хлопонин Андрей | C11: 69 | D11: =COUNTA(F21:F85)+D10+1 -> 216 | E11: =COUNTA(F21:F85)+1 -> 62 | F11: =MIN(F21:F86) -> 39.32 | G11: =AVERAGE(F21:F86) -> 39.638525 | H11: 7 | I11: =G11-F11 -> 0.31852459 | J11: 0.10122685 | K11: =J11-J10 -> 0.029525463 | L11: =K11+L9 -> 0.052210648 | M11: 2:16.18
A12: 5 | B12: Онащук Маким | C12: 1 | D12: =COUNTA(G21:G85)+D11+1 -> 238 | E12: =COUNTA(G21:G85)+1 -> 22 | F12: =MIN(G21:G86) -> 39.68 | G12: =AVERAGE(G21:G886) -> 40.01619 | H12: 2 | I12: =G12-F12 -> 0.33619048 | J12: 0.11252315 | K12: =J12-J11 -> 0.011296296 | L12: =K12+L10 -> 0.0603125 | M12: 2:16.91
A13: 6 | B13: Онащук Маким | C13: 2 | D13: =COUNTA(H21:H85)+D12+1 -> 297 | E13: =COUNTA(H21:H85)+1 -> 59 | F13: =MIN(H21:H86) -> 39.6 | G13: =AVERAGE(H21:H86) -> 40.039828 | H13: 1 | I13: =G13-F13 -> 0.43982759 | J13: 0.14099537 | K13: =J13-J12 -> 0.028472222 | L13: =K13+L12 -> 0.088784722 | M13: 2:14.78
A14: 7 | B14: Хлопонин Андрей | C14: 21 | D14: =COUNTA(I21:I85)+D13+1 -> 325 | E14: =COUNTA(I21:I85)+1 -> 28 | F14: =MIN(I21:I86) -> 39.49 | G14: =AVERAGE(I21:I86) -> 39.70963 | H14: 4 | I14: =G14-F14 -> 0.21962963 | J14: 0.15496528 | K14: =J14-J13 -> 0.013969907 | L14: =K14+L11 -> 0.066180556 | M14: 2:17.02
A15: Финиш | B15: Хлопонин Андрей | C15: 4 | D15: =COUNTA(J21:J85)+D14+1 -> 348 | E15: =COUNTA(J21:J85)+1 -> 23 | F15: =MIN(J21:J86) -> 39.87 | G15: =AVERAGE(J21:J86) -> 40.183636 | H15: 5 | I15: =G15-F15 -> 0.31363636 | J15: ='Общие результаты'!G6 -> 4:00:04 | K15: =J15-J14 -> 0.011747685 | L15: =K15+L14 -> 0.077928241
F16: =AVERAGE(F8,F10,F12,F13) -> 39.5725 | G16: =AVERAGE(G8,G10,G12,G13) -> 39.956845 | H16: Максим | I16: =AVERAGE(I8,I10,I12,I13) -> 0.38434547
F17: =AVERAGE(F9,F11,F14:F15) -> 39.5175 | G17: =AVERAGE(G9,G11,G14:G15) -> 39.799348 | H17: Андрей | I17: =AVERAGE(I9,I11,I14:I15) -> 0.28184765
F18: =AVERAGE(F8:F15) -> 39.545 | G18: =AVERAGE(C21:J87) -> 39.844487 | I18: =AVERAGE(I8:I15) -> 0.33309656
C20: =B8 -> Онащук Маким | D20: =B9 -> Хлопонин Андрей | E20: =B10 -> Онащук Маким | F20: =B11 -> Хлопонин Андрей | G20: =B12 -> Онащук Маким | H20: =B13 -> Онащук Маким | I20: =B14 -> Хлопонин Андрей | J20: =B15 -> Хлопонин Андрей
B21: 1 | C21: 43.77 | D21: 39.76 | E21: 39.98 | F21: 39.78 | G21: 40.12 | H21: 39.96 | I21: 39.89 | J21: 40.84
B22: 2 | C22: 43.17 | D22: 39.88 | E22: 39.71 | F22: 39.61 | G22: 40 | H22: 39.8 | I22: 39.72 | J22: 40.84
B23: 3 | C23: 39.94 | D23: 39.89 | E23: 39.88 | F23: 39.56 | G23: 40.09 | H23: 40.03 | I23: 39.64 | J23: 40.02
B24: 4 | C24: 39.58 | D24: 39.72 | E24: 39.86 | F24: 39.45 | G24: 39.95 | H24: 39.78 | I24: 39.82 | J24: 39.93
B25: 5 | C25: 40.69 | D25: 39.56 | E25: 39.62 | F25: 39.84 | G25: 39.92 | H25: 39.85 | I25: 39.76 | J25: 40.01
B26: 6 | C26: 39.71 | D26: 39.85 | E26: 39.63 | F26: 39.38 | G26: 40.05 | H26: 40.36 | I26: 39.67 | J26: 40.11
B27: 7 | C27: 39.85 | D27: 39.77 | E27: 40.08 | F27: 39.56 | G27: 39.79 | H27: 39.84 | I27: 39.82 | J27: 40.08
B28: 8 | C28: 39.83 | D28: 39.53 | E28: 39.87 | F28: 39.64 | G28: 40 | H28: 39.82 | I28: 39.65 | J28: 41.4
B29: 9 | C29: 39.7 | D29: 39.62 | E29: 39.82 | F29: 39.55 | G29: 39.68 | H29: 39.6 | I29: 39.58 | J29: 40.84
B30: 10 | C30: 40 | D30: 39.69 | E30: 39.72 | F30: 39.52 | G30: 39.78 | H30: 40.02 | I30: 39.58 | J30: 40.09
B31: 11 | C31: 39.59 | D31: 39.48 | E31: 39.78 | F31: 39.51 | G31: 40.12 | H31: 40 | I31: 39.71 | J31: 39.95
B32: 12 | C32: 39.97 | D32: 39.79 | E32: 39.69 | F32: 39.39 | G32: 40.18 | H32: 40.99 | I32: 39.62 | J32: 40.06
... B41: 21 | C41: 39.67 | D41: 39.47 | E41: 39.97 | F41: 39.48 | G41: 40.58 | H41: 40.04 | I41: 39.71 | J41: 39.95
B42: 22 | C42: 39.75 | D42: 39.59 | E42: 40.01 | F42: 39.49 | H42: 39.87 | I42: 39.83 | J42: 39.96
B43: 23 | C43: 39.73 | D43: 39.54 | E43: 39.99 | F43: 39.42 | H43: 40.15 | I43: 39.75
B44: 24 | C44: 39.51 | D44: 39.39 | E44: 39.87 | F44: 40.23 | H44: 40.05 | I44: 39.7
B45: 25 | C45: 39.78 | D45: 39.46 | E45: 39.84 | F45: 39.57 | H45: 39.97 | I45: 39.65
B46: 26 | C46: 39.93 | D46: 39.78 | E46: 39.89 | F46: 39.65 | H46: 39.9 | I46: 39.59
B47: 27 | C47: 39.74 | D47: 39.54 | E47: 39.6 | F47: 39.43 | H47: 39.88 | I47: 40.09
B48: 28 | C48: 39.8 | D48: 39.56 | E48: 39.73 | F48: 39.36 | H48: 39.85
B49: 29 | C49: 39.75 | D49: 39.7 | E49: 39.89 | F49: 39.44 | H49: 39.97
B50: 30 | C50: 39.6 | D50: 39.45 | E50: 39.79 | F50: 39.5 | H50: 39.98
B51: 31 | C51: 39.7 | D51: 39.53 | E51: 39.8 | F51: 39.83 | H51: 40.09
B52: 32 | C52: 39.71 | D52: 39.55 | E52: 39.79 | F52: 39.62 | H52: 39.94
...

Sheet KartFreedom RT
A2: Чемпионат мини марафон "Большие Гонки", 4-й этап
A4: KartFreedom RT
A6: Обяза-тельные | B6: Пилот | C6: карт | D6: Круг | E6: кругов на отрезке | F6: Статистика по кругам | J6: Общее время гонки | K6: Время на трассе
F7: Лучший круг | G7: Среднее на отрезке | H7: Кругов в 0,1 от лучшего | I7: стабильность | K7: отрезок | L7: всего у пилота | M7: Питы | N7: Штрафы/ бонусы (сек)
A8: 1 | B8: Медведева Даша | C8: 4 | D8: =COUNTA(C21:C85) -> 36 | E8: =COUNTA(C21:C85) -> 36 | F8: =MIN(C21:C84) -> 39.53 | G8: =AVERAGE(C21:C87) -> 40.366389 | H8: 0 | I8: =G8-F8 -> 0.83638889 | J8: 0.016886574 | K8: =J8 -> 0.016886574 | L8: =K8 -> 0.016886574 | M8: 2:17.16
A9: 2 | B9: Юрченко Вова | C9: 3 | D9: =COUNTA(D21:D85)+D8+1 -> 90 | E9: =COUNTA(D21:D85)+1 -> 54 | F9: =MIN(D21:D84) -> 39.67 | G9: =AVERAGE(D21:D86) -> 40.16 | H9: 1 | I9: =G9-F9 -> 0.49 | J9: 0.043113426 | K9: =J9-J8 -> 0.026226852 | L9: =K9 -> 0.026226852 | M9: 2:43.71 | O9: попали в очередь
A10: 3 | B10: Медведева Даша | C10: 1 | D10: =COUNTA(E21:E85)+D9+1 -> 146 | E10: =COUNTA(E21:E85)+1 -> 56 | F10: =MIN(E21:E86) -> 39.54 | G10: =AVERAGE(E21:E87) -> 40.001636 | H10: 1 | I10: =G10-F10 -> 0.46163636 | J10: 0.070543981 | K10: =J10-J9 -> 0.027430556 | L10: =K10+L8 -> 0.04431713 | M10: 2:15.68
A11: 4 | B11: Юрченко Вова | C11: 13 | D11: =COUNTA(F21:F85)+D10+1 -> 167 | E11: =COUNTA(F21:F85)+1 -> 21 | F11: =MIN(F21:F86) -> 39.75 | G11: =AVERAGE(F21:F86) -> 40.119 | H11: 1 | I11: =G11-F11 -> 0.369 | J11: 0.081331019 | K11: =J11-J10 -> 0.010787037 | L11: =K11+L9 -> 0.037013889 | M11: 2:15.81
A12: 5 | B12: Медведева Даша | C12: 3 | D12: =COUNTA(G21:G85)+D11+1 -> 198 | E12: =COUNTA(G21:G85)+1 -> 31 | F12: =MIN(G21:G86) -> 39.78 | G12: =AVERAGE(G21:G886) -> 40.253667 | H12: 0 | I12: =G12-F12 -> 0.47366667 | J12: 0.096898148 | K12: =J12-J11 -> 0.01556713 | L12: =K12+L10 -> 0.059884259 | M12: 2:15.88
A13: 6 | B13: Юрченко Вова | C13: 13 | D13: =COUNTA(H21:H85)+D12+1 -> 255 | E13: =COUNTA(H21:H85)+1 -> 57 | F13: =MIN(H21:H86) -> 39.71 | G13: =AVERAGE(H21:H86) -> 39.9825 | H13: 6 | I13: =G13-F13 -> 0.2725 | J13: 0.124375 | K13: =J13-J12 -> 0.027476852 | L13: =K13+L11 -> 0.064490741 | M13: 2:15.05
A14: 7 | B14: Медведева Даша | C14: 5 | D14: =COUNTA(I21:I85)+D13+1 -> 297 | E14: =COUNTA(I21:I85)+1 -> 42 | F14: =MIN(I21:I86) -> 39.51 | G14: =AVERAGE(I21:I86) -> 39.920976 | H14: 3 | I14: =G14-F14 -> 0.41097561 | J14: 0.14489583 | K14: =J14-J13 -> 0.020520833 | L14: =K14+L12 -> 0.080405093 | M14: 2:37.94 | N14: 20 | O14: штраф за вынос пита
A15: Финиш | B15: Юрченко Вова | C15: 7 | D15: =COUNTA(J21:J85)+D14+1 -> 342 | E15: =COUNTA(J21:J85)+1 -> 45 | F15: =MIN(J21:J86) -> 39.87 | G15: =AVERAGE(J21:J86) -> 40.162273 | H15: 10 | I15: =G15-F15 -> 0.29227273 | J15: ='Общие результаты'!G6 -> 4:00:04 | K15: =J15-J14 -> 0.02181713 | L15: =K15+L13 -> 0.08630787
F16: =AVERAGE(F8,F10,F12,F14) -> 39.59 | G16: =AVERAGE(G8,G10,G12,G14) -> 40.135667 | H16: Даша | I16: =AVERAGE(I8,I10,I12,I14) -> 0.54566688
F17: =AVERAGE(F9,F11,F13,F15) -> 39.75 | G17: =AVERAGE(G9,G11,G13,G15) -> 40.105943 | H17: Юра | I17: =AVERAGE(I9,I11,I13,I15) -> 0.35594318
F18: =AVERAGE(F8:F15) -> 39.67 | G18: =AVERAGE(C21:J87) -> 40.103493 | I18: =AVERAGE(I8:I15) -> 0.45080503
C20: =B8 -> Медведева Даша | D20: =B9 -> Юрченко Вова | E20: =B10 -> Медведева Даша | F20: =B11 -> Юрченко Вова | G20: =B12 -> Медведева Даша | H20: =B13 -> Юрченко Вова | I20: =B14 -> Медведева Даша | J20: =B15 -> Юрченко Вова
B21: 1 | C21: 42.88 | D21: 40.26 | E21: 40.2 | F21: 40.35 | G21: 40.38 | H21: 39.99 | I21: 40.28 | J21: 40.34
B22: 2 | C22: 41.6 | D22: 40.32 | E22: 40.07 | F22: 40.13 | G22: 40.32 | H22: 39.86 | I22: 40.24 | J22: 40.29
B23: 3 | C23: 42.23 | D23: 39.84 | E23: 40.38 | F23: 40.21 | G23: 40.1 | H23: 39.97 | I23: 40.04 | J23: 40.1
B24: 4 | C24: 40.76 | D24: 40.16 | E24: 39.99 | F24: 40.1 | G24: 40.12 | H24: 40.93 | I24: 40.13 | J24: 39.98
B25: 5 | C25: 40.79 | D25: 40.9 | E25: 40.07 | F25: 39.91 | G25: 40.2 | H25: 39.87 | I25: 40.01 | J25: 39.99
B26: 6 | C26: 41.55 | D26: 40.99 | E26: 40.34 | F26: 40.02 | G26: 40.52 | H26: 39.93 | I26: 40.1 | J26: 39.92
B27: 7 | C27: 40.43 | D27: 40.12 | E27: 40.75 | F27: 40.01 | G27: 40.27 | H27: 40.15 | I27: 40.04 | J27: 40.1
B28: 8 | C28: 40.25 | D28: 39.98 | E28: 39.99 | F28: 39.75 | G28: 40.38 | H28: 39.76 | I28: 39.97 | J28: 40.33
B29: 9 | C29: 40.04 | D29: 40.11 | E29: 40.07 | F29: 39.85 | G29: 40.07 | H29: 40.04 | I29: 39.69 | J29: 40.13
B30: 10 | C30: 40.06 | D30: 40.28 | E30: 40.01 | F30: 39.97 | G30: 39.78 | H30: 41.22 | I30: 40.04 | J30: 40.12
B31: 11 | C31: 39.83 | D31: 40.33 | E31: 40.36 | F31: 40 | G31: 40.53 | H31: 39.81 | I31: 41.14 | J31: 40.03
B32: 12 | C32: 39.53 | D32: 39.88 | E32: 39.88 | F32: 39.8 | G32: 40.19 | H32: 39.82 | I32: 39.82 | J32: 40.16
... B40: 20 | C40: 39.96 | D40: 40.36 | E40: 39.68 | F40: 40.26 | G40: 41.11 | H40: 39.93 | I40: 39.71 | J40: 39.93
B41: 21 | C41: 40.04 | D41: 40.85 | E41: 39.88 | G41: 40.08 | H41: 39.84 | I41: 39.57 | J41: 39.93
B42: 22 | C42: 39.8 | D42: 40.34 | E42: 39.69 | G42: 40.12 | H42: 39.73 | I42: 40.13 | J42: 40.02
B43: 23 | C43: 40.97 | D43: 40.06 | E43: 39.92 | G43: 40.26 | H43: 40.02 | I43: 39.82 | J43: 40.02
B44: 24 | C44: 39.91 | D44: 40.08 | E44: 39.78 | G44: 40.25 | H44: 39.84 | I44: 39.67 | J44: 40.01
B45: 25 | C45: 39.89 | D45: 39.97 | E45: 40.06 | G45: 39.89 | H45: 39.73 | I45: 39.83 | J45: 39.92
B46: 26 | C46: 39.84 | D46: 40.39 | E46: 40.36 | G46: 39.93 | H46: 39.9 | I46: 39.79 | J46: 40.27
B47: 27 | C47: 40.08 | D47: 40.41 | E47: 39.73 | G47: 39.93 | H47: 39.71 | I47: 39.72 | J47: 39.88
B48: 28 | C48: 40.1 | D48: 40.11 | E48: 39.93 | G48: 40.33 | H48: 39.9 | I48: 39.79 | J48: 40.09
B49: 29 | C49: 40.03 | D49: 40.03 | E49: 40.11 | G49: 40.33 | H49: 40.04 | I49: 39.87 | J49: 40.91
B50: 30 | C50: 39.86 | D50: 40.03 | E50: 39.74 | G50: 40.53 | H50: 39.93 | I50: 39.88 | J50: 40.18
B51: 31 | C51: 40.76 | D51: 40.05 | E51: 39.86 | H51: 39.8 | I51: 39.77 | J51: 39.88
...

Sheet KartFreedom GT
A2: Чемпионат мини марафон "Большие Гонки", 4-й этап
A4: KartFreedom GT
A6: Обяза-тельные | B6: Пилот | C6: карт | D6: Круг | E6: кругов на отрезке | F6: Статистика по кругам | J6: Общее время гонки | K6: Время на трассе
F7: Лучший круг | G7: Среднее на отрезке | H7: Кругов в 0,1 от лучшего | I7: стабильность | K7: отрезок | L7: всего у пилота | M7: Питы | N7: Штрафы/ бонусы (сек)
A8: 1 | B8: Новиков Герман | C8: 10 | D8: =COUNTA(C21:C85) -> 23 | E8: =COUNTA(C21:C85) -> 23 | F8: =MIN(C21:C84) -> 39.96 | G8: =AVERAGE(C21:C87) -> 41.086957 | H8: 0 | I8: =G8-F8 -> 1.1269565 | J8: 0.011018519 | K8: =J8 -> 0.011018519 | L8: =K8 -> 0.011018519 | M8: 1:50.84 | N8: -42+5 | O8: бонус за вес
