Workbook

Sheet Очки
A1: До 12 человек | F1: 13-14 человек | K1: 15-16 человек | P1: 17-18 человек | U1: 19-20 человек | Z1: 21-22 человек | AE1: 23-24 человек | AJ1: 25 человек | AO1: 26-27 человек | AT1: 28 человек | AY1: 29-30 человек | BD1: 29-30 человек
B2: I | C2: II | D2: III | G2: I | H2: II | I2: III | L2: I | M2: II | N2: III | Q2: I | R2: II | S2: III | V2: I | W2: II | X2: III | AA2: I | AB2: II | AC2: III | AF2: I | AG2: II | AH2: III | AK2: I | AL2: II | AM2: III | AP2: I | AQ2: II | AR2: III | AU2: I | AV2: II | AW2: III | AZ2: I | BA2: II | BB2: III | BE2: I | BF2: II | BG2: III
A3: 1 | B3: 15 | F3: 1 | G3: 15 | H3: 10.5 | K3: 1 | L3: 15 | M3: 10.5 | P3: 1 | Q3: 15 | R3: 10 | U3: 1 | V3: 15 | W3: 9.5 | Z3: 1 | AA3: 15 | AB3: 9 | AE3: 1 | AF3: 16 | AG3: 11.5 | AH3: 7 | AJ3: 1 | AK3: 16 | AL3: 11 | AM3: 6.5 | AO3: 1 | AP3: 17 | AQ3: 12 | AR3: 7 | AT3: 1 | AU3: 17 | AV3: 11.5 | AW3: 6.5 | AY3: 1 | AZ3: 17 | BA3: 11.5 | BB3: 6 | BD3: 1 | BE3: 17 | BF3: 11.5 | BG3: 6
A4: 2 | B4: 14 | F4: 2 | G4: 14 | H4: 9.5 | K4: 2 | L4: 14 | M4: 9.5 | P4: 2 | Q4: 14 | R4: 9 | U4: 2 | V4: 14 | W4: 8.5 | Z4: 2 | AA4: 14 | AB4: 8 | AE4: 2 | AF4: 15 | AG4: 10.5 | AH4: 6 | AJ4: 2 | AK4: 15 | AL4: 10 | AM4: 5.5 | AO4: 2 | AP4: 16 | AQ4: 11 | AR4: 6 | AT4: 2 | AU4: 16 | AV4: 10.5 | AW4: 5.5 | AY4: 2 | AZ4: 16 | BA4: 10.5 | BB4: 5 | BD4: 2 | BE4: 16 | BF4: 10.5 | BG4: 5
A5: 3 | B5: 13 | F5: 3 | G5: 13 | H5: 8.5 | K5: 3 | L5: 13 | M5: 8.5 | P5: 3 | Q5: 13 | R5: 8 | U5: 3 | V5: 13 | W5: 7.5 | Z5: 3 | AA5: 13 | AB5: 7 | AE5: 3 | AF5: 14 | AG5: 9.5 | AH5: 5 | AJ5: 3 | AK5: 14 | AL5: 9 | AM5: 4.5 | AO5: 3 | AP5: 15 | AQ5: 10 | AR5: 5 | AT5: 3 | AU5: 15 | AV5: 9.5 | AW5: 4.5 | AY5: 3 | AZ5: 15 | BA5: 9.5 | BB5: 4 | BD5: 3 | BE5: 15 | BF5: 9.5 | BG5: 4
A6: 4 | B6: 12 | F6: 4 | G6: 12 | H6: 7.5 | K6: 4 | L6: 12 | M6: 7.5 | P6: 4 | Q6: 12 | R6: 7 | U6: 4 | V6: 12 | W6: 6.5 | Z6: 4 | AA6: 12 | AB6: 6 | AE6: 4 | AF6: 13 | AG6: 8.5 | AH6: 4 | AJ6: 4 | AK6: 13 | AL6: 8 | AM6: 3.5 | AO6: 4 | AP6: 14 | AQ6: 9 | AR6: 4 | AT6: 4 | AU6: 14 | AV6: 8.5 | AW6: 3.5 | AY6: 4 | AZ6: 14 | BA6: 8.5 | BB6: 3 | BD6: 4 | BE6: 14 | BF6: 8.5 | BG6: 3
A7: 5 | B7: 11 | F7: 5 | G7: 11 | H7: 6.5 | K7: 5 | L7: 11 | M7: 6.5 | P7: 5 | Q7: 11 | R7: 6 | U7: 5 | V7: 11 | W7: 5.5 | Z7: 5 | AA7: 11 | AB7: 5 | AE7: 5 | AF7: 12 | AG7: 7.5 | AH7: 3 | AJ7: 5 | AK7: 12 | AL7: 7 | AM7: 2.5 | AO7: 5 | AP7: 13 | AQ7: 8 | AR7: 3 | AT7: 5 | AU7: 13 | AV7: 7.5 | AW7: 2.5 | AY7: 5 | AZ7: 13 | BA7: 7.5 | BB7: 2 | BD7: 5 | BE7: 13 | BF7: 7.5 | BG7: 2
A8: 6 | B8: 10.5 | F8: 6 | G8: 10.5 | H8: 6 | K8: 6 | L8: 10.5 | M8: 6 | P8: 6 | Q8: 10.5 | R8: 5.5 | U8: 6 | V8: 10.5 | W8: 5 | Z8: 6 | AA8: 10.5 | AB8: 4.5 | AE8: 6 | AF8: 11.5 | AG8: 7 | AH8: 2.5 | AJ8: 6 | AK8: 11.5 | AL8: 6.5 | AM8: 2 | AO8: 6 | AP8: 12.5 | AQ8: 7.5 | AR8: 2.5 | AT8: 6 | AU8: 12.5 | AV8: 7 | AW8: 2 | AY8: 6 | AZ8: 12.5 | BA8: 7 | BB8: 1.5 | BD8: 6 | BE8: 12.5 | BF8: 7 | BG8: 1.5
A9: 7 | B9: 10 | F9: 7 | G9: 10 | H9: 5.5 | K9: 7 | L9: 10 | M9: 5.5 | P9: 7 | Q9: 10 | R9: 5 | U9: 7 | V9: 10 | W9: 4.5 | Z9: 7 | AA9: 10 | AB9: 4 | AE9: 7 | AF9: 11 | AG9: 6.5 | AH9: 2 | AJ9: 7 | AK9: 11 | AL9: 6 | AM9: 1.5 | AO9: 7 | AP9: 12 | AQ9: 7 | AR9: 2 | AT9: 7 | AU9: 12 | AV9: 6.5 | AW9: 1.5 | AY9: 7 | AZ9: 12 | BA9: 6.5 | BB9: 1 | BD9: 7 | BE9: 12 | BF9: 6.5 | BG9: 1
A10: 8 | B10: 9.5 | K10: 8 | L10: 9.5 | M10: 5 | P10: 8 | Q10: 9.5 | R10: 4.5 | U10: 8 | V10: 9.5 | W10: 4 | Z10: 8 | AA10: 9.5 | AB10: 3.5 | AE10: 8 | AF10: 10.5 | AG10: 6 | AH10: 1.5 | AJ10: 8 | AK10: 10.5 | AL10: 5.5 | AM10: 1 | AO10: 8 | AP10: 11.5 | AQ10: 6.5 | AR10: 1.5 | AT10: 8 | AU10: 11.5 | AV10: 6 | AW10: 1 | AY10: 8 | AZ10: 11.5 | BA10: 6 | BB10: 0.5 | BD10: 8 | BE10: 11.5 | BF10: 6 | BG10: 0.5
A11: 9 | B11: 9 | P11: 9 | Q11: 9 | R11: 4 | U11: 9 | V11: 9 | W11: 3.5 | Z11: 9 | AA11: 9 | AB11: 3 | AF11: 10 | AG11: 5.5 | AJ11: 9 | AK11: 10 | AO11: 9 | AP11: 11 | AQ11: 6 | AR11: 1 | AT11: 9 | AU11: 11 | AV11: 5.5 | AW11: 0.5 | AY11: 9 | AZ11: 11 | BA11: 5.5 | BB11: 0 | BD11: 9 | BE11: 11 | BF11: 5.5 | BG11: 0
A12: 10 | B12: 8.5 | U12: 10 | V12: 8.5 | W12: 3 | Z12: 10 | AA12: 8.5 | AB12: 2.5 | AF12: 9.5 | AG12: 5 | AT12: 10 | AU12: 10.5 | AY12: 10 | AZ12: 10.5 | BA12: 5 | BB12: 0 | BD12: 10 | BE12: 10.5 | BF12: 5 | BG12: 0
A13: 11 | B13: 8 | Z13: 11 | AA13: 8 | AF13: 9 | AG13: 4.5 | BD13: 11 | BE13: 10 | BF13: 4.5
A14: 12 | B14: 7.5 | AF14: 8.5 | AG14: 4
A16: число людей / колонка для очков
A17: 1 | B17: 2 | C17: 3 | D17: 4 | E17: 5 | F17: 6 | G17: 7 | H17: 8 | I17: 9 | J17: 10 | K17: 11 | L17: 12 | M17: 13 | N17: 14 | O17: 15 | P17: 16 | Q17: 17 | R17: 18 | S17: 19 | T17: 20 | U17: 21 | V17: 22 | W17: 23 | X17: 24 | Y17: 25 | Z17: 26 | AA17: 27 | AB17: 28 | AC17: 29 | AD17: 30 | AE17: 31 | AF17: 32 | AG17: 33
A18: 1 | B18: 1 | C18: 1 | D18: 1 | E18: 1 | F18: 1 | G18: 1 | H18: 1 | I18: 1 | J18: 1 | K18: 1 | L18: 1 | M18: 6 | N18: 6 | O18: 11 | P18: 11 | Q18: 16 | R18: 16 | S18: 21 | T18: 21 | U18: 26 | V18: 26 | W18: 31 | X18: 31 | Y18: 36 | Z18: 41 | AA18: 41 | AB18: 46 | AC18: 51 | AD18: 51 | AE18: 56 | AF18: 56 | AG18: 56
A20: ОБГОНЫ
B21: I гр | M21: II гр | N21: III гр
B22: с 12 | C22: с 11 | D22: с 10 | E22: с 9 | F22: с 8 | G22: с 7 | H22: с 6 | I22: с 5 | J22: с 4 | K22: с 3 | L22: со 2
A23: 1 | B23: 1.3 | C23: 1.3 | D23: 1.2 | E23: 1.2 | F23: 1.2 | G23: 1.1 | H23: 1 | I23: 0.9 | J23: 0.8 | K23: 0.7 | L23: 0.7 | M23: 0.7 | N23: 0.5
A24: 2 | B24: =B23+C23 -> 2.6 | C24: =C23+D23 -> 2.5 | D24: =D23+E23 -> 2.4 | E24: =E23+F23 -> 2.4 | F24: =F23+G23 -> 2.3 | G24: =G23+H23 -> 2.1 | H24: =H23+I23 -> 1.9 | I24: =I23+J23 -> 1.7 | ... K24: =K23+L23 -> 1.4 | M24: 1.4 | N24: 1
A25: 3 | B25: =B24+D23 -> 3.8 | C25: =C24+E23 -> 3.7 | D25: =D24+F23 -> 3.6 | E25: =E24+G23 -> 3.5 | F25: =F24+H23 -> 3.3 | G25: =G24+I23 -> 3 | H25: =H24+J23 -> 2.7 | I25: =I24+K23 -> 2.4 | J25: =J24+L23 -> 2.2 | M25: 2.1 | N25: 1.5
A26: 4 | B26: =B25+E23 -> 5 | C26: =C25+F23 -> 4.9 | D26: =D25+G23 -> 4.7 | E26: =E25+H23 -> 4.5 | F26: =F25+I23 -> 4.2 | G26: =G25+J23 -> 3.8 | H26: =H25+K23 -> 3.4 | I26: =I25+L23 -> 3.1 | M26: 2.8 | N26: 2
A27: 5 | B27: =B26+F23 -> 6.2 | C27: =C26+G23 -> 6 | D27: =D26+H23 -> 5.7 | E27: =E26+I23 -> 5.4 | F27: =F26+J23 -> 5 | G27: =G26+K23 -> 4.5 | H27: =H26+L23 -> 4.1 | M27: 3.5 | N27: 2.5
A28: 6 | B28: =B27+G23 -> 7.3 | C28: =C27+H23 -> 7 | D28: =D27+I23 -> 6.6 | E28: =E27+J23 -> 6.2 | F28: =F27+K23 -> 5.7 | G28: =G27+L23 -> 5.2 | M28: 4.2 | N28: 3
A29: 7 | B29: =B28+H23 -> 8.3 | C29: =C28+I23 -> 7.9 | D29: =D28+J23 -> 7.4 | E29: =E28+K23 -> 6.9 | F29: =F28+L23 -> 6.4 | M29: 4.9 | N29: 3.5
A30: 8 | B30: =B29+I23 -> 9.2 | C30: =C29+J23 -> 8.7 | D30: =D29+K23 -> 8.1 | E30: =E29+L23 -> 7.6 | M30: 5.6 | N30: 4
A31: 9 | B31: =B30+J23 -> 10 | C31: =C30+K23 -> 9.4 | D31: =D30+L23 -> 8.8 | M31: 6.3 | N31: 4.5
A32: 10 | B32: =B31+K23 -> 10.7 | C32: =C31+L23 -> 10.1 | M32: 7 | N32: 5
A33: 11 | B33: =B32+L23 -> 11.4 | M33: 7.7 | N33: 5.5

Sheet 24.04
A1: Лайт Лига 09.04.2017 (конфигурация 4)
A3: Место | B3: Участник | D3: 1 | G3: 2 | J3: Очки | S3: Сумма
C4: Довес | D4: группа | E4: Старт | F4: Финиш | G4: группа | H4: Старт | I4: Финиш | J4: Квала | K4: 1 | O4: 2
K5: очки | L5: обгоны | M5: время | N5: штрафы | O5: очки | P5: обгоны | Q5: время | R5: штрафы
A6: =RANK(S6,S$6:OFFSET(S$6,0,0,COUNTA(B$6:B$40))) -> 1 | B6: Якусик Саша/Yakusik Alex | D6: 1 | E6: 3 | F6: 3 | G6: 1 | H6: 9 | I6: 3 | K6: =OFFSET(Очки!$A$2,F6,D6+OFFSET(Очки!$A$18,0,$C$41-1)-1) -> 14 | L6: =IF(F6<E6,OFFSET(Очки!$A$20,2+E6-F6,IF(D6=1,13-E6,10+D6)),0) -> 0 | M6: 2.5 | O6: =OFFSET(Очки!$A$2,I6,G6+OFFSET(Очки!$A$18,0,$C$41-1)-1) -> 14 | P6: =IF(I6<H6,OFFSET(Очки!$A$20,2+H6-I6,IF(G6=1,13-H6,10+G6)),0) -> 6.2 | Q6: 0.5 | S6: =SUM(J6:R6) -> 37.2
A7: =RANK(S7,S$6:OFFSET(S$6,0,0,COUNTA(B$6:B$40))) -> 2 | B7: Кочмарев Юра/Kochmarev Uriy | D7: 1 | E7: 6 | F7: 2 | G7: 1 | H7: 1 | I7: 1 | J7: 1 | K7: =OFFSET(Очки!$A$2,F7,D7+OFFSET(Очки!$A$18,0,$C$41-1)-1) -> 15 | L7: =IF(F7<E7,OFFSET(Очки!$A$20,2+E7-F7,IF(D7=1,13-E7,10+D7)),0) -> 3.4 | O7: =OFFSET(Очки!$A$2,I7,G7+OFFSET(Очки!$A$18,0,$C$41-1)-1) -> 16 | P7: =IF(I7<H7,OFFSET(Очки!$A$20,2+H7-I7,IF(G7=1,13-H7,10+G7)),0) -> 0 | S7: =SUM(J7:R7) -> 35.4
A8: =RANK(S8,S$6:OFFSET(S$6,0,0,COUNTA(B$6:B$40))) -> 3 | B8: Якусик Дима/Yakusik Dima | C8: 5 | D8: 1 | E8: 8 | F8: 4 | G8: 1 | H8: 7 | I8: 6 | J8: 2 | K8: =OFFSET(Очки!$A$2,F8,D8+OFFSET(Очки!$A$18,0,$C$41-1)-1) -> 13 | L8: =IF(F8<E8,OFFSET(Очки!$A$20,2+E8-F8,IF(D8=1,13-E8,10+D8)),0) -> 4.2 | M8: 1.5 | N8: -4 | O8: =OFFSET(Очки!$A$2,I8,G8+OFFSET(Очки!$A$18,0,$C$41-1)-1) -> 11.5 | P8: =IF(I8<H8,OFFSET(Очки!$A$20,2+H8-I8,IF(G8=1,13-H8,10+G8)),0) -> 1.1 | Q8: 1.5 | S8: =SUM(J8:R8) -> 30.8
A9: =RANK(S9,S$6:OFFSET(S$6,0,0,COUNTA(B$6:B$40))) -> 4 | B9: Лихошерст Алексей/Lykhoshers Aleksey | C9: 10 | D9: 1 | E9: 9 | F9: 8 | G9: 1 | H9: 8 | I9: 7 | J9: 2.5 | K9: =OFFSET(Очки!$A$2,F9,D9+OFFSET(Очки!$A$18,0,$C$41-1)-1) -> 10.5 | L9: =IF(F9<E9,OFFSET(Очки!$A$20,2+E9-F9,IF(D9=1,13-E9,10+D9)),0) -> 1.2 | M9: 2 | O9: =OFFSET(Очки!$A$2,I9,G9+OFFSET(Очки!$A$18,0,$C$41-1)-1) -> 11 | P9: =IF(I9<H9,OFFSET(Очки!$A$20,2+H9-I9,IF(G9=1,13-H9,10+G9)),0) -> 1.2 | Q9: 2 | S9: =SUM(J9:R9) -> 30.4
A10: 2 | B10: Синани Влад/Sinani Vlad | D10: 1 | E10: 2 | F10: 1 | G10: 2 | H10: 6 | I10: 2 | K10: =OFFSET(Очки!$A$2,F10,D10+OFFSET(Очки!$A$18,0,$C$41-1)-1) -> 16 | L10: =IF(F10<E10,OFFSET(Очки!$A$20,2+E10-F10,IF(D10=1,13-E10,10+D10)),0) -> 0.7 | O10: =OFFSET(Очки!$A$2,I10,G10+OFFSET(Очки!$A$18,0,$C$41-1)-1) -> 10 | P10: =IF(I10<H10,OFFSET(Очки!$A$20,2+H10-I10,IF(G10=1,13-H10,10+G10)),0) -> 2.8 | S10: =SUM(J10:R10) -> 29.5
A11: 3 | B11: Муляр Андрей/Mular Andrew | D11: 1 | E11: 5 | F11: 5 | G11: 1 | H11: 4 | I11: 2 | J11: 0.5 | K11: =OFFSET(Очки!$A$2,F11,D11+OFFSET(Очки!$A$18,0,$C$41-1)-1) -> 12 | L11: =IF(F11<E11,OFFSET(Очки!$A$20,2+E11-F11,IF(D11=1,13-E11,10+D11)),0) -> 0 | O11: =OFFSET(Очки!$A$2,I11,G11+OFFSET(Очки!$A$18,0,$C$41-1)-1) -> 15 | P11: =IF(I11<H11,OFFSET(Очки!$A$20,2+H11-I11,IF(G11=1,13-H11,10+G11)),0) -> 1.5 | S11: =SUM(J11:R11) -> 29
A12: 4 | B12: Родин Артем/ Rodin Artem | D12: 1 | E12: 7 | F12: 6 | G12: 1 | H12: 5 | I12: 9 | J12: 1.5 | K12: =OFFSET(Очки!$A$2,F12,D12+OFFSET(Очки!$A$18,0,$C$41-1)-1) -> 11.5 | L12: =IF(F12<E12,OFFSET(Очки!$A$20,2+E12-F12,IF(D12=1,13-E12,10+D12)),0) -> 1.1 | M12: 0.5 | O12: =OFFSET(Очки!$A$2,I12,G12+OFFSET(Очки!$A$18,0,$C$41-1)-1) -> 10 | P12: =IF(I12<H12,OFFSET(Очки!$A$20,2+H12-I12,IF(G12=1,13-H12,10+G12)),0) -> 0 | R12: -1 | S12: =SUM(J12:R12) -> 23.6
A13: 5 | B13: Колбасюк Алесей/ Kolbasiuk Aleksey | C13: 20 | D13: 3 | E13: 6 | F13: 1 | G13: 2 | H13: 3 | I13: 1 | K13: =OFFSET(Очки!$A$2,F13,D13+OFFSET(Очки!$A$18,0,$C$41-1)-1) -> 6.5 | L13: =IF(F13<E13,OFFSET(Очки!$A$20,2+E13-F13,IF(D13=1,13-E13,10+D13)),0) -> 2.5 | O13: =OFFSET(Очки!$A$2,I13,G13+OFFSET(Очки!$A$18,0,$C$41-1)-1) -> 11 | P13: =IF(I13<H13,OFFSET(Очки!$A$20,2+H13-I13,IF(G13=1,13-H13,10+G13)),0) -> 1.4 | S13: =SUM(J13:R13) -> 21.4
A14: 6 | B14: Булавинов Андрей/Bulavinov Andrey | C14: 7.5 | D14: 2 | E14: 8 | F14: 4 | G14: 2 | H14: 4 | I14: 3 | K14: =OFFSET(Очки!$A$2,F14,D14+OFFSET(Очки!$A$18,0,$C$41-1)-1) -> 8 | L14: =IF(F14<E14,OFFSET(Очки!$A$20,2+E14-F14,IF(D14=1,13-E14,10+D14)),0) -> 2.8 | O14: =OFFSET(Очки!$A$2,I14,G14+OFFSET(Очки!$A$18,0,$C$41-1)-1) -> 9 | P14: =IF(I14<H14,OFFSET(Очки!$A$20,2+H14-I14,IF(G14=1,13-H14,10+G14)),0) -> 0.7 | S14: =SUM(J14:R14) -> 20.5
A15: 7 | B15: Климчук Евгений/Klimchu Eugeniy | C15: - | D15: 2 | E15: 5 | F15: 6 | G15: 1 | H15: 3 | I15: 4 | K15: =OFFSET(Очки!$A$2,F15,D15+OFFSET(Очки!$A$18,0,$C$41-1)-1) -> 6.5 | L15: =IF(F15<E15,OFFSET(Очки!$A$20,2+E15-F15,IF(D15=1,13-E15,10+D15)),0) -> 0 | O15: =OFFSET(Очки!$A$2,I15,G15+OFFSET(Очки!$A$18,0,$C$41-1)-1) -> 13 | P15: =IF(I15<H15,OFFSET(Очки!$A$20,2+H15-I15,IF(G15=1,13-H15,10+G15)),0) -> 0 | S15: =SUM(J15:R15) -> 19.5
A16: =RANK(S16,S$6:OFFSET(S$6,0,0,COUNTA(B$6:B$40))) -> 11 | B16: Тамберг Александр/ Tamberg Aleksandr | D16: 2 | E16: 7 | F16: 2 | G16: 1 | H16: 2 | I16: 9 | K16: =OFFSET(Очки!$A$2,F16,D16+OFFSET(Очки!$A$18,0,$C$41-1)-1) -> 10 | L16: =IF(F16<E16,OFFSET(Очки!$A$20,2+E16-F16,IF(D16=1,13-E16,10+D16)),0) -> 3.5 | O16: =OFFSET(Очки!$A$2,I16,G16+OFFSET(Очки!$A$18,0,$C$41-1)-1) -> 10 | P16: =IF(I16<H16,OFFSET(Очки!$A$20,2+H16-I16,IF(G16=1,13-H16,10+G16)),0) -> 0 | R16: =-3-2 -> -5 | S16: =SUM(J16:R16) -> 18.5
A17: 8 | B17: Оленченко Василий/ Olenchenko Vasiliy | D17: 3 | E17: 7 | F17: 2 | G17: 2 | H17: 8 | I17: 6 | K17: =OFFSET(Очки!$A$2,F17,D17+OFFSET(Очки!$A$18,0,$C$41-1)-1) -> 5.5 | L17: =IF(F17<E17,OFFSET(Очки!$A$20,2+E17-F17,IF(D17=1,13-E17,10+D17)),0) -> 2.5 | O17: =OFFSET(Очки!$A$2,I17,G17+OFFSET(Очки!$A$18,0,$C$41-1)-1) -> 6.5 | P17: =IF(I17<H17,OFFSET(Очки!$A$20,2+H17-I17,IF(G17=1,13-H17,10+G17)),0) -> 1.4 | Q17: 2.5 | S17: =SUM(J17:R17) -> 18.4
A18: 9 | B18: Паламарчук Александр/ Palamarchuk Aleksandr | C18: - | D18: 2 | E18: 6 | F18: 3 | G18: 1 | H18: 6 | I18: 5 | K18: =OFFSET(Очки!$A$2,F18,D18+OFFSET(Очки!$A$18,0,$C$41-1)-1) -> 9 | L18: =IF(F18<E18,OFFSET(Очки!$A$20,2+E18-F18,IF(D18=1,13-E18,10+D18)),0) -> 2.1 | M18: 1 | N18: =-5-2 -> -7 | O18: =OFFSET(Очки!$A$2,I18,G18+OFFSET(Очки!$A$18,0,$C$41-1)-1) -> 12 | P18: =IF(I18<H18,OFFSET(Очки!$A$20,2+H18-I18,IF(G18=1,13-H18,10+G18)),0) -> 1 | S18: =SUM(J18:R18) -> 18.1
A19: 10 | B19: Купцов Паша/Kuptsov Pavel | D19: 1 | E19: 4 | F19: 5 | G19: 2 | H19: 7 | I19: 5 | K19: =OFFSET(Очки!$A$2,F19,D19+OFFSET(Очки!$A$18,0,$C$41-1)-1) -> 12 | L19: =IF(F19<E19,OFFSET(Очки!$A$20,2+E19-F19,IF(D19=1,13-E19,10+D19)),0) -> 0 | N19: -3 | O19: =OFFSET(Очки!$A$2,I19,G19+OFFSET(Очки!$A$18,0,$C$41-1)-1) -> 7 | P19: =IF(I19<H19,OFFSET(Очки!$A$20,2+H19-I19,IF(G19=1,13-H19,10+G19)),0) -> 1.4 | S19: =SUM(J19:R19) -> 17.4
A20: =RANK(S20,S$6:OFFSET(S$6,0,0,COUNTA(B$6:B$40))) -> 15 | B20: Гончаров Рома/ Honcharov Roma | C20: 17.5 | D20: 1 | E20: 1 | F20: 9 | G20: 2 | H20: 5 | I20: 8 | K20: =OFFSET(Очки!$A$2,F20,D20+OFFSET(Очки!$A$18,0,$C$41-1)-1) -> 10 | L20: =IF(F20<E20,OFFSET(Очки!$A$20,2+E20-F20,IF(D20=1,13-E20,10+D20)),0) -> 0 | O20: =OFFSET(Очки!$A$2,I20,G20+OFFSET(Очки!$A$18,0,$C$41-1)-1) -> 5.5 | P20: =IF(I20<H20,OFFSET(Очки!$A$20,2+H20-I20,IF(G20=1,13-H20,10+G20)),0) -> 0 | Q20: 1 | S20: =SUM(J20:R20) -> 16.5
A21: 11 | B21: Черный Константин/ Chorniy Konstantin | D21: 2 | E21: 4 | F21: 5 | G21: 3 | H21: 6 | I21: 1 | K21: =OFFSET(Очки!$A$2,F21,D21+OFFSET(Очки!$A$18,0,$C$41-1)-1) -> 7 | L21: =IF(F21<E21,OFFSET(Очки!$A$20,2+E21-F21,IF(D21=1,13-E21,10+D21)),0) -> 0 | O21: =OFFSET(Очки!$A$2,I21,G21+OFFSET(Очки!$A$18,0,$C$41-1)-1) -> 6.5 | P21: =IF(I21<H21,OFFSET(Очки!$A$20,2+H21-I21,IF(G21=1,13-H21,10+G21)),0) -> 2.5 | S21: =SUM(J21:R21) -> 16
A22: 12 | B22: Остренко Стас/ostrenko Staniclav | D22: 2 | E22: 2 | F22: 5 | G22: 2 | H22: 1 | I22: 4 | K22: =OFFSET(Очки!$A$2,F22,D22+OFFSET(Очки!$A$18,0,$C$41-1)-1) -> 7 | L22: =IF(F22<E22,OFFSET(Очки!$A$20,2+E22-F22,IF(D22=1,13-E22,10+D22)),0) -> 0 | O22: =OFFSET(Очки!$A$2,I22,G22+OFFSET(Очки!$A$18,0,$C$41-1)-1) -> 8 | P22: =IF(I22<H22,OFFSET(Очки!$A$20,2+H22-I22,IF(G22=1,13-H22,10+G22)),0) -> 0 | S22: =SUM(J22:R22) -> 15
A23: 13 | B23: Белецкий Евгений / Biletskyi Ievgen | C23: - | D23: 2 | E23: 3 | F23: 1 | G23: 2 | H23: 2 | I23: 7 | K23: =OFFSET(Очки!$A$2,F23,D23+OFFSET(Очки!$A$18,0,$C$41-1)-1) -> 11 | L23: =IF(F23<E23,OFFSET(Очки!$A$20,2+E23-F23,IF(D23=1,13-E23,10+D23)),0) -> 1.4 | N23: -5 | O23: =OFFSET(Очки!$A$2,I23,G23+OFFSET(Очки!$A$18,0,$C$41-1)-1) -> 6 | P23: =IF(I23<H23,OFFSET(Очки!$A$20,2+H23-I23,IF(G23=1,13-H23,10+G23)),0) -> 0 | S23: =SUM(J23:R23) -> 13.4
A24: 14 | B24: Майбродский Миша/Maibrodskiy Misha | D24: 3 | E24: 5 | F24: 3 | G24: 3 | H24: 7 | I24: 3 | K24: =OFFSET(Очки!$A$2,F24,D24+OFFSET(Очки!$A$18,0,$C$41-1)-1) -> 4.5 | L24: =IF(F24<E24,OFFSET(Очки!$A$20,2+E24-F24,IF(D24=1,13-E24,10+D24)),0) -> 1 | O24: =OFFSET(Очки!$A$2,I24,G24+OFFSET(Очки!$A$18,0,$C$41-1)-1) -> 4.5 | P24: =IF(I24<H24,OFFSET(Очки!$A$20,2+H24-I24,IF(G24=1,13-H24,10+G24)),0) -> 2 | S24: =SUM(J24:R24) -> 12
A25: 14 | B25: Малый Юра | D25: 2 | E25: 1 | F25: 8 | G25: 3 | H25: 4 | I25: 2 | K25: =OFFSET(Очки!$A$2,F25,D25+OFFSET(Очки!$A$18,0,$C$41-1)-1) -> 5.5 | L25: =IF(F25<E25,OFFSET(Очки!$A$20,2+E25-F25,IF(D25=1,13-E25,10+D25)),0) -> 0 | O25: =OFFSET(Очки!$A$2,I25,G25+OFFSET(Очки!$A$18,0,$C$41-1)-1) -> 5.5 | P25: =IF(I25<H25,OFFSET(Очки!$A$20,2+H25-I25,IF(G25=1,13-H25,10+G25)),0) -> 1 | S25: =SUM(J25:R25) -> 12
A26: 16 | B26: Крутько Денис/Krutko Denis | D26: 3 | E26: 2 | F26: 6 | G26: 3 | H26: 1 | I26: 4 | K26: =OFFSET(Очки!$A$2,F26,D26+OFFSET(Очки!$A$18,0,$C$41-1)-1) -> 2 | L26: =IF(F26<E26,OFFSET(Очки!$A$20,2+E26-F26,IF(D26=1,13-E26,10+D26)),0) -> 0 | O26: =OFFSET(Очки!$A$2,I26,G26+OFFSET(Очки!$A$18,0,$C$41-1)-1) -> 3.5 | P26: =IF(I26<H26,OFFSET(Очки!$A$20,2+H26-I26,IF(G26=1,13-H26,10+G26)),0) -> 0 | S26: =SUM(J26:R26) -> 5.5
A27: 16 | B27: Сосин Михаил/ Sosin Mikhail | D27: 3 | E27: 4 | F27: 4 | G27: 3 | H27: 5 | I27: 6 | K27: =OFFSET(Очки!$A$2,F27,D27+OFFSET(Очки!$A$18,0,$C$41-1)-1) -> 3.5 | L27: =IF(F27<E27,OFFSET(Очки!$A$20,2+E27-F27,IF(D27=1,13-E27,10+D27)),0) -> 0 | O27: =OFFSET(Очки!$A$2,I27,G27+OFFSET(Очки!$A$18,0,$C$41-1)-1) -> 2 | P27: =IF(I27<H27,OFFSET(Очки!$A$20,2+H27-I27,IF(G27=1,13-H27,10+G27)),0) -> 0 | S27: =SUM(J27:R27) -> 5.5
A28: 18 | B28: Щербаков Евгений/Shcherbakov Eugeniy | D28: 3 | E28: 3 | F28: 5 | G28: 3 | H28: 3 | I28: 5 | K28: =OFFSET(Очки!$A$2,F28,D28+OFFSET(Очки!$A$18,0,$C$41-1)-1) -> 2.5 | L28: =IF(F28<E28,OFFSET(Очки!$A$20,2+E28-F28,IF(D28=1,13-E28,10+D28)),0) -> 0 | O28: =OFFSET(Очки!$A$2,I28,G28+OFFSET(Очки!$A$18,0,$C$41-1)-1) -> 2.5 | P28: =IF(I28<H28,OFFSET(Очки!$A$20,2+H28-I28,IF(G28=1,13-H28,10+G28)),0) -> 0 | S28: =SUM(J28:R28) -> 5
A29: 19 | B29: Федоров Максим/ Федоров Максим | D29: 3 | E29: 1 | F29: 7 | G29: 3 | H29: 2 | I29: 7 | K29: =OFFSET(Очки!$A$2,F29,D29+OFFSET(Очки!$A$18,0,$C$41-1)-1) -> 1.5 | L29: =IF(F29<E29,OFFSET(Очки!$A$20,2+E29-F29,IF(D29=1,13-E29,10+D29)),0) -> 0 | O29: =OFFSET(Очки!$A$2,I29,G29+OFFSET(Очки!$A$18,0,$C$41-1)-1) -> 1.5 | P29: =IF(I29<H29,OFFSET(Очки!$A$20,2+H29-I29,IF(G29=1,13-H29,10+G29)),0) -> 0 | S29: =SUM(J29:R29) -> 3
A30: 20 | B30: Соловьева Наталья/ Solovieva Natalia | D30: 3 | E30: 8 | F30: 8 | G30: 3 | H30: 8 | I30: 8 | K30: =OFFSET(Очки!$A$2,F30,D30+OFFSET(Очки!$A$18,0,$C$41-1)-1) -> 1 | L30: =IF(F30<E30,OFFSET(Очки!$A$20,2+E30-F30,IF(D30=1,13-E30,10+D30)),0) -> 0 | O30: =OFFSET(Очки!$A$2,I30,G30+OFFSET(Очки!$A$18,0,$C$41-1)-1) -> 1 | P30: =IF(I30<H30,OFFSET(Очки!$A$20,2+H30-I30,IF(G30=1,13-H30,10+G30)),0) -> 0 | S30: =SUM(J30:R30) -> 2
A31: =RANK(S31,S$6:OFFSET(S$6,0,0,COUNTA(B$6:B$40))) -> #N/A | K31: =OFFSET(Очки!$A$2,F31,D31+OFFSET(Очки!$A$18,0,$C$41-1)-1) -> 0 | L31: =IF(F31<E31,OFFSET(Очки!$A$20,2+E31-F31,IF(D31=1,13-E31,10+D31)),0) -> 0 | O31: =OFFSET(Очки!$A$2,I31,G31+OFFSET(Очки!$A$18,0,$C$41-1)-1) -> 0 | P31: =IF(I31<H31,OFFSET(Очки!$A$20,2+H31-I31,IF(G31=1,13-H31,10+G31)),0) -> 0 | S31: =SUM(J31:R31) -> 0
A32: =RANK(S32,S$6:OFFSET(S$6,0,0,COUNTA(B$6:B$40))) -> #N/A | K32: =OFFSET(Очки!$A$2,F32,D32+OFFSET(Очки!$A$18,0,$C$41-1)-1) -> 0 | L32: =IF(F32<E32,OFFSET(Очки!$A$20,2+E32-F32,IF(D32=1,13-E32,10+D32)),0) -> 0 | O32: =OFFSET(Очки!$A$2,I32,G32+OFFSET(Очки!$A$18,0,$C$41-1)-1) -> 0 | P32: =IF(I32<H32,OFFSET(Очки!$A$20,2+H32-I32,IF(G32=1,13-H32,10+G32)),0) -> 0 | S32: =SUM(J32:R32) -> 0
A33: =RANK(S33,S$6:OFFSET(S$6,0,0,COUNTA(B$6:B$40))) -> #N/A | K33: =OFFSET(Очки!$A$2,F33,D33+OFFSET(Очки!$A$18,0,$C$41-1)-1) -> 0 | L33: =IF(F33<E33,OFFSET(Очки!$A$20,2+E33-F33,IF(D33=1,13-E33,10+D33)),0) -> 0 | O33: =OFFSET(Очки!$A$2,I33,G33+OFFSET(Очки!$A$18,0,$C$41-1)-1) -> 0 | P33: =IF(I33<H33,OFFSET(Очки!$A$20,2+H33-I33,IF(G33=1,13-H33,10+G33)),0) -> 0 | S33: =SUM(J33:R33) -> 0
A34: =RANK(S34,S$6:OFFSET(S$6,0,0,COUNTA(B$6:B$40))) -> #N/A | K34: =OFFSET(Очки!$A$2,F34,D34+OFFSET(Очки!$A$18,0,$C$41-1)-1) -> 0 | L34: =IF(F34<E34,OFFSET(Очки!$A$20,2+E34-F34,IF(D34=1,13-E34,10+D34)),0) -> 0 | O34: =OFFSET(Очки!$A$2,I34,G34+OFFSET(Очки!$A$18,0,$C$41-1)-1) -> 0 | P34: =IF(I34<H34,OFFSET(Очки!$A$20,2+H34-I34,IF(G34=1,13-H34,10+G34)),0) -> 0 | S34: =SUM(J34:R34) -> 0
A35: =RANK(S35,S$6:OFFSET(S$6,0,0,COUNTA(B$6:B$40))) -> #N/A | K35: =OFFSET(Очки!$A$2,F35,D35+OFFSET(Очки!$A$18,0,$C$41-1)-1) -> 0 | L35: =IF(F35<E35,OFFSET(Очки!$A$20,2+E35-F35,IF(D35=1,13-E35,10+D35)),0) -> 0 | O35: =OFFSET(Очки!$A$2,I35,G35+OFFSET(Очки!$A$18,0,$C$41-1)-1) -> 0 | P35: =IF(I35<H35,OFFSET(Очки!$A$20,2+H35-I35,IF(G35=1,13-H35,10+G35)),0) -> 0 | S35: =SUM(J35:R35) -> 0
A36: =RANK(S36,S$6:OFFSET(S$6,0,0,COUNTA(B$6:B$40))) -> #N/A | K36: =OFFSET(Очки!$A$2,F36,D36+OFFSET(Очки!$A$18,0,$C$41-1)-1) -> 0 | L36: =IF(F36<E36,OFFSET(Очки!$A$20,2+E36-F36,IF(D36=1,13-E36,10+D36)),0) -> 0 | O36: =OFFSET(Очки!$A$2,I36,G36+OFFSET(Очки!$A$18,0,$C$41-1)-1) -> 0 | P36: =IF(I36<H36,OFFSET(Очки!$A$20,2+H36-I36,IF(G36=1,13-H36,10+G36)),0) -> 0 | S36: =SUM(J36:R36) -> 0
A37: =RANK(S37,S$6:OFFSET(S$6,0,0,COUNTA(B$6:B$40))) -> #N/A | K37: =OFFSET(Очки!$A$2,F37,D37+OFFSET(Очки!$A$18,0,$C$41-1)-1) -> 0 | L37: =IF(F37<E37,OFFSET(Очки!$A$20,2+E37-F37,IF(D37=1,13-E37,10+D37)),0) -> 0 | O37: =OFFSET(Очки!$A$2,I37,G37+OFFSET(Очки!$A$18,0,$C$41-1)-1) -> 0 | P37: =IF(I37<H37,OFFSET(Очки!$A$20,2+H37-I37,IF(G37=1,13-H37,10+G37)),0) -> 0 | S37: =SUM(J37:R37) -> 0
A38: =RANK(S38,S$6:OFFSET(S$6,0,0,COUNTA(B$6:B$40))) -> #N/A | K38: =OFFSET(Очки!$A$2,F38,D38+OFFSET(Очки!$A$18,0,$C$41-1)-1) -> 0 | L38: =IF(F38<E38,OFFSET(Очки!$A$20,2+E38-F38,IF(D38=1,13-E38,10+D38)),0) -> 0 | O38: =OFFSET(Очки!$A$2,I38,G38+OFFSET(Очки!$A$18,0,$C$41-1)-1) -> 0 | P38: =IF(I38<H38,OFFSET(Очки!$A$20,2+H38-I38,IF(G38=1,13-H38,10+G38)),0) -> 0 | S38: =SUM(J38:R38) -> 0
A39: =RANK(S39,S$6:OFFSET(S$6,0,0,COUNTA(B$6:B$40))) -> #N/A | K39: =OFFSET(Очки!$A$2,F39,D39+OFFSET(Очки!$A$18,0,$C$41-1)-1) -> 0 | L39: =IF(F39<E39,OFFSET(Очки!$A$20,2+E39-F39,IF(D39=1,13-E39,10+D39)),0) -> 0 | O39: =OFFSET(Очки!$A$2,I39,G39+OFFSET(Очки!$A$18,0,$C$41-1)-1) -> 0 | P39: =IF(I39<H39,OFFSET(Очки!$A$20,2+H39-I39,IF(G39=1,13-H39,10+G39)),0) -> 0 | S39: =SUM(J39:R39) -> 0
A40: =RANK(S40,S$6:OFFSET(S$6,0,0,COUNTA(B$6:B$40))) -> #N/A | K40: =OFFSET(Очки!$A$2,F40,D40+OFFSET(Очки!$A$18,0,$C$41-1)-1) -> 0 | L40: =IF(F40<E40,OFFSET(Очки!$A$20,2+E40-F40,IF(D40=1,13-E40,10+D40)),0) -> 0 | O40: =OFFSET(Очки!$A$2,I40,G40+OFFSET(Очки!$A$18,0,$C$41-1)-1) -> 0 | P40: =IF(I40<H40,OFFSET(Очки!$A$20,2+H40-I40,IF(G40=1,13-H40,10+G40)),0) -> 0 | S40: =SUM(J40:R40) -> 0
B41: Всего участников | C41: =COUNTA(B6:B40) -> 25

Sheet 16.04
A1: Лайт Лига 16.04.2019 (конфигурация 10R)
A3: Место | B3: Участник | D3: 1 | G3: 2 | J3: Очки | S3: Сумма
C4: Довес | D4: группа | E4: Старт | F4: Финиш | G4: группа | H4: Старт | I4: Финиш | J4: Квала | K4: 1 | O4: 2
K5: очки | L5: обгоны | M5: время | N5: штрафы | O5: очки | P5: обгоны | Q5: время | R5: штрафы
A6: =RANK(S6,S$6:OFFSET(S$6,0,0,COUNTA(B$6:B$30))) -> 1 | B6: Якусик Дима | C6: - | D6: 1 | E6: 10 | F6: 1 | G6: 1 | H6: 11 | I6: 1 | J6: 2 | K6: =OFFSET(Очки!$A$2,F6,D6+OFFSET(Очки!$A$18,0,$C$31-1)-1) -> 15 | L6: =IF(F6<E6,OFFSET(Очки!$A$20,2+E6-F6,IF(D6=1,13-E6,10+D6)),0) -> 8.8 | M6: 2.5 | O6: =OFFSET(Очки!$A$2,I6,G6+OFFSET(Очки!$A$18,0,$C$31-1)-1) -> 15 | P6: =IF(I6<H6,OFFSET(Очки!$A$20,2+H6-I6,IF(G6=1,13-H6,10+G6)),0) -> 10.1 | Q6: 2.5 | S6: =SUM(J6:R6) -> 55.9
A7: 1 | B7: Муляр Андрей/Mular Andrew | C7: - | D7: 1 | E7: 11 | F7: 6 | G7: 1 | H7: 10 | I7: 4 | J7: 2.5 | K7: =OFFSET(Очки!$A$2,F7,D7+OFFSET(Очки!$A$18,0,$C$31-1)-1) -> 10.5 | L7: =IF(F7<E7,OFFSET(Очки!$A$20,2+E7-F7,IF(D7=1,13-E7,10+D7)),0) -> 6 | M7: 2 | N7: -3 | O7: =OFFSET(Очки!$A$2,I7,G7+OFFSET(Очки!$A$18,0,$C$31-1)-1) -> 12 | P7: =IF(I7<H7,OFFSET(Очки!$A$20,2+H7-I7,IF(G7=1,13-H7,10+G7)),0) -> 6.6 | Q7: 0.5 | S7: =SUM(J7:R7) -> 37.1
A8: =RANK(S8,S$6:OFFSET(S$6,0,0,COUNTA(B$6:B$30))) -> 3 | B8: Гончаров Рома | C8: 15 | D8: 1 | E8: 7 | F8: 5 | G8: 1 | H8: 9 | I8: 2 | J8: 0.5 | K8: =OFFSET(Очки!$A$2,F8,D8+OFFSET(Очки!$A$18,0,$C$31-1)-1) -> 11 | L8: =IF(F8<E8,OFFSET(Очки!$A$20,2+E8-F8,IF(D8=1,13-E8,10+D8)),0) -> 2.1 | M8: 1.5 | N8: -1 | O8: =OFFSET(Очки!$A$2,I8,G8+OFFSET(Очки!$A$18,0,$C$31-1)-1) -> 14 | P8: =IF(I8<H8,OFFSET(Очки!$A$20,2+H8-I8,IF(G8=1,13-H8,10+G8)),0) -> 6.9 | Q8: 2 | S8: =SUM(J8:R8) -> 37
A9: =RANK(S9,S$6:OFFSET(S$6,0,0,COUNTA(B$6:B$30))) -> 4 | B9: Лихошерст Леша | C9: 12.5 | D9: 1 | E9: 6 | F9: 4 | G9: 1 | H9: 6 | I9: 3 | K9: =OFFSET(Очки!$A$2,F9,D9+OFFSET(Очки!$A$18,0,$C$31-1)-1) -> 12 | L9: =IF(F9<E9,OFFSET(Очки!$A$20,2+E9-F9,IF(D9=1,13-E9,10+D9)),0) -> 1.9 | O9: =OFFSET(Очки!$A$2,I9,G9+OFFSET(Очки!$A$18,0,$C$31-1)-1) -> 13 | P9: =IF(I9<H9,OFFSET(Очки!$A$20,2+H9-I9,IF(G9=1,13-H9,10+G9)),0) -> 2.7 | Q9: 1.5 | S9: =SUM(J9:R9) -> 31.1
A10: 2 | B10: Якусик Саша/Yakusik Alex | C10: 2.5 | D10: 1 | E10: 5 | F10: 2 | G10: 1 | H10: 7 | I10: 6 | K10: =OFFSET(Очки!$A$2,F10,D10+OFFSET(Очки!$A$18,0,$C$31-1)-1) -> 14 | L10: =IF(F10<E10,OFFSET(Очки!$A$20,2+E10-F10,IF(D10=1,13-E10,10+D10)),0) -> 2.4 | M10: 0.5 | O10: =OFFSET(Очки!$A$2,I10,G10+OFFSET(Очки!$A$18,0,$C$31-1)-1) -> 10.5 | P10: =IF(I10<H10,OFFSET(Очки!$A$20,2+H10-I10,IF(G10=1,13-H10,10+G10)),0) -> 1.1 | S10: =SUM(J10:R10) -> 28.5
A11: 3 | B11: Майбродский Миша/Maibrodskiy Misha | C11: - | D11: 1 | E11: 3 | F11: 3 | G11: 1 | H11: 4 | I11: 5 | K11: =OFFSET(Очки!$A$2,F11,D11+OFFSET(Очки!$A$18,0,$C$31-1)-1) -> 13 | L11: =IF(F11<E11,OFFSET(Очки!$A$20,2+E11-F11,IF(D11=1,13-E11,10+D11)),0) -> 0 | O11: =OFFSET(Очки!$A$2,I11,G11+OFFSET(Очки!$A$18,0,$C$31-1)-1) -> 11 | P11: =IF(I11<H11,OFFSET(Очки!$A$20,2+H11-I11,IF(G11=1,13-H11,10+G11)),0) -> 0 | S11: =SUM(J11:R11) -> 24
A12: 4 | B12: Кузык Дима | C12: 5 | D12: 1 | E12: 8 | F12: 7 | G12: 1 | H12: 5 | I12: 7 | J12: 1 | K12: =OFFSET(Очки!$A$2,F12,D12+OFFSET(Очки!$A$18,0,$C$31-1)-1) -> 10 | L12: =IF(F12<E12,OFFSET(Очки!$A$20,2+E12-F12,IF(D12=1,13-E12,10+D12)),0) -> 1.2 | O12: =OFFSET(Очки!$A$2,I12,G12+OFFSET(Очки!$A$18,0,$C$31-1)-1) -> 10 | P12: =IF(I12<H12,OFFSET(Очки!$A$20,2+H12-I12,IF(G12=1,13-H12,10+G12)),0) -> 0 | S12: =SUM(J12:R12) -> 22.2
A13: 5 | B13: Родин Артем/ Rodin Artem | C13: - | D13: 1 | E13: 9 | F13: 9 | G13: 1 | H13: 8 | I13: 11 | J13: 1.5 | K13: =OFFSET(Очки!$A$2,F13,D13+OFFSET(Очки!$A$18,0,$C$31-1)-1) -> 9 | L13: =IF(F13<E13,OFFSET(Очки!$A$20,2+E13-F13,IF(D13=1,13-E13,10+D13)),0) -> 0 | M13: 1 | O13: =OFFSET(Очки!$A$2,I13,G13+OFFSET(Очки!$A$18,0,$C$31-1)-1) -> 8 | P13: =IF(I13<H13,OFFSET(Очки!$A$20,2+H13-I13,IF(G13=1,13-H13,10+G13)),0) -> 0 | Q13: 1 | S13: =SUM(J13:R13) -> 20.5
A14: 6 | B14: Климчук Евгений/Klimchuл Eugeniy | C14: - | D14: 1 | E14: 4 | F14: 8 | G14: 1 | H14: 2 | I14: 8 | K14: =OFFSET(Очки!$A$2,F14,D14+OFFSET(Очки!$A$18,0,$C$31-1)-1) -> 9.5 | L14: =IF(F14<E14,OFFSET(Очки!$A$20,2+E14-F14,IF(D14=1,13-E14,10+D14)),0) -> 0 | O14: =OFFSET(Очки!$A$2,I14,G14+OFFSET(Очки!$A$18,0,$C$31-1)-1) -> 9.5 | P14: =IF(I14<H14,OFFSET(Очки!$A$20,2+H14-I14,IF(G14=1,13-H14,10+G14)),0) -> 0 | S14: =SUM(J14:R14) -> 19
A15: 7 | B15: Сосин Михаил/ Sosin Mikhail | C15: 12.5 | D15: 1 | E15: 1 | F15: 8 | G15: 1 | H15: 3 | I15: 9 | K15: =OFFSET(Очки!$A$2,F15,D15+OFFSET(Очки!$A$18,0,$C$31-1)-1) -> 9.5 | L15: =IF(F15<E15,OFFSET(Очки!$A$20,2+E15-F15,IF(D15=1,13-E15,10+D15)),0) -> 0 | O15: =OFFSET(Очки!$A$2,I15,G15+OFFSET(Очки!$A$18,0,$C$31-1)-1) -> 9 | P15: =IF(I15<H15,OFFSET(Очки!$A$20,2+H15-I15,IF(G15=1,13-H15,10+G15)),0) -> 0 | S15: =SUM(J15:R15) -> 18.5
A16: 8 | B16: Венгловский Геннадий/ Venglovskiy Gennadiy | C16: 10 | D16: 1 | E16: 2 | F16: 11 | G16: 1 | H16: 1 | I16: 10 | K16: =OFFSET(Очки!$A$2,F16,D16+OFFSET(Очки!$A$18,0,$C$31-1)-1) -> 8 | L16: =IF(F16<E16,OFFSET(Очки!$A$20,2+E16-F16,IF(D16=1,13-E16,10+D16)),0) -> 0 | O16: =OFFSET(Очки!$A$2,I16,G16+OFFSET(Очки!$A$18,0,$C$31-1)-1) -> 8.5 | P16: =IF(I16<H16,OFFSET(Очки!$A$20,2+H16-I16,IF(G16=1,13-H16,10+G16)),0) -> 0 | S16: =SUM(J16:R16) -> 16.5
A17: =RANK(S17,S$6:OFFSET(S$6,0,0,COUNTA(B$6:B$30))) -> #N/A | C17: - | K17: =OFFSET(Очки!$A$2,F17,D17+OFFSET(Очки!$A$18,0,$C$31-1)-1) -> 0 | L17: =IF(F17<E17,OFFSET(Очки!$A$20,2+E17-F17,IF(D17=1,13-E17,10+D17)),0) -> 0 | O17: =OFFSET(Очки!$A$2,I17,G17+OFFSET(Очки!$A$18,0,$C$31-1)-1) -> 0 | P17: =IF(I17<H17,OFFSET(Очки!$A$20,2+H17-I17,IF(G17=1,13-H17,10+G17)),0) -> 0 | S17: =SUM(J17:R17) -> 0
A18: =RANK(S18,S$6:OFFSET(S$6,0,0,COUNTA(B$6:B$30))) -> #N/A | C18: - | K18: =OFFSET(Очки!$A$2,F18,D18+OFFSET(Очки!$A$18,0,$C$31-1)-1) -> 0 | L18: =IF(F18<E18,OFFSET(Очки!$A$20,2+E18-F18,IF(D18=1,13-E18,10+D18)),0) -> 0 | O18: =OFFSET(Очки!$A$2,I18,G18+OFFSET(Очки!$A$18,0,$C$31-1)-1) -> 0 | P18: =IF(I18<H18,OFFSET(Очки!$A$20,2+H18-I18,IF(G18=1,13-H18,10+G18)),0) -> 0 | S18: =SUM(J18:R18) -> 0
A19: =RANK(S19,S$6:OFFSET(S$6,0,0,COUNTA(B$6:B$30))) -> #N/A | C19: - | K19: =OFFSET(Очки!$A$2,F19,D19+OFFSET(Очки!$A$18,0,$C$31-1)-1) -> 0 | L19: =IF(F19<E19,OFFSET(Очки!$A$20,2+E19-F19,IF(D19=1,13-E19,10+D19)),0) -> 0 | O19: =OFFSET(Очки!$A$2,I19,G19+OFFSET(Очки!$A$18,0,$C$31-1)-1) -> 0 | P19: =IF(I19<H19,OFFSET(Очки!$A$20,2+H19-I19,IF(G19=1,13-H19,10+G19)),0) -> 0 | S19: =SUM(J19:R19) -> 0
A20: =RANK(S20,S$6:OFFSET(S$6,0,0,COUNTA(B$6:B$30))) -> #N/A | C20: - | K20: =OFFSET(Очки!$A$2,F20,D20+OFFSET(Очки!$A$18,0,$C$31-1)-1) -> 0 | L20: =IF(F20<E20,OFFSET(Очки!$A$20,2+E20-F20,IF(D20=1,13-E20,10+D20)),0) -> 0 | O20: =OFFSET(Очки!$A$2,I20,G20+OFFSET(Очки!$A$18,0,$C$31-1)-1) -> 0 | P20: =IF(I20<H20,OFFSET(Очки!$A$20,2+H20-I20,IF(G20=1,13-H20,10+G20)),0) -> 0 | S20: =SUM(J20:R20) -> 0
A21: =RANK(S21,S$6:OFFSET(S$6,0,0,COUNTA(B$6:B$30))) -> #N/A | C21: - | K21: =OFFSET(Очки!$A$2,F21,D21+OFFSET(Очки!$A$18,0,$C$31-1)-1) -> 0 | L21: =IF(F21<E21,OFFSET(Очки!$A$20,2+E21-F21,IF(D21=1,13-E21,10+D21)),0) -> 0 | O21: =OFFSET(Очки!$A$2,I21,G21+OFFSET(Очки!$A$18,0,$C$31-1)-1) -> 0 | P21: =IF(I21<H21,OFFSET(Очки!$A$20,2+H21-I21,IF(G21=1,13-H21,10+G21)),0) -> 0 | S21: =SUM(J21:R21) -> 0
A22: =RANK(S22,S$6:OFFSET(S$6,0,0,COUNTA(B$6:B$30))) -> #N/A | C22: - | K22: =OFFSET(Очки!$A$2,F22,D22+OFFSET(Очки!$A$18,0,$C$31-1)-1) -> 0 | L22: =IF(F22<E22,OFFSET(Очки!$A$20,2+E22-F22,IF(D22=1,13-E22,10+D22)),0) -> 0 | O22: =OFFSET(Очки!$A$2,I22,G22+OFFSET(Очки!$A$18,0,$C$31-1)-1) -> 0 | P22: =IF(I22<H22,OFFSET(Очки!$A$20,2+H22-I22,IF(G22=1,13-H22,10+G22)),0) -> 0 | S22: =SUM(J22:R22) -> 0
A23: =RANK(S23,S$6:OFFSET(S$6,0,0,COUNTA(B$6:B$30))) -> #N/A | C23: - | K23: =OFFSET(Очки!$A$2,F23,D23+OFFSET(Очки!$A$18,0,$C$31-1)-1) -> 0 | L23: =IF(F23<E23,OFFSET(Очки!$A$20,2+E23-F23,IF(D23=1,13-E23,10+D23)),0) -> 0 | O23: =OFFSET(Очки!$A$2,I23,G23+OFFSET(Очки!$A$18,0,$C$31-1)-1) -> 0 | P23: =IF(I23<H23,OFFSET(Очки!$A$20,2+H23-I23,IF(G23=1,13-H23,10+G23)),0) -> 0 | S23: =SUM(J23:R23) -> 0
A24: =RANK(S24,S$6:OFFSET(S$6,0,0,COUNTA(B$6:B$30))) -> #N/A | C24: - | K24: =OFFSET(Очки!$A$2,F24,D24+OFFSET(Очки!$A$18,0,$C$31-1)-1) -> 0 | L24: =IF(F24<E24,OFFSET(Очки!$A$20,2+E24-F24,IF(D24=1,13-E24,10+D24)),0) -> 0 | O24: =OFFSET(Очки!$A$2,I24,G24+OFFSET(Очки!$A$18,0,$C$31-1)-1) -> 0 | P24: =IF(I24<H24,OFFSET(Очки!$A$20,2+H24-I24,IF(G24=1,13-H24,10+G24)),0) -> 0 | S24: =SUM(J24:R24) -> 0
A25: =RANK(S25,S$6:OFFSET(S$6,0,0,COUNTA(B$6:B$30))) -> #N/A | C25: - | K25: =OFFSET(Очки!$A$2,F25,D25+OFFSET(Очки!$A$18,0,$C$31-1)-1) -> 0 | L25: =IF(F25<E25,OFFSET(Очки!$A$20,2+E25-F25,IF(D25=1,13-E25,10+D25)),0) -> 0 | O25: =OFFSET(Очки!$A$2,I25,G25+OFFSET(Очки!$A$18,0,$C$31-1)-1) -> 0 | P25: =IF(I25<H25,OFFSET(Очки!$A$20,2+H25-I25,IF(G25=1,13-H25,10+G25)),0) -> 0 | S25: =SUM(J25:R25) -> 0
A26: =RANK(S26,S$6:OFFSET(S$6,0,0,COUNTA(B$6:B$30))) -> #N/A | C26: - | K26: =OFFSET(Очки!$A$2,F26,D26+OFFSET(Очки!$A$18,0,$C$31-1)-1) -> 0 | L26: =IF(F26<E26,OFFSET(Очки!$A$20,2+E26-F26,IF(D26=1,13-E26,10+D26)),0) -> 0 | O26: =OFFSET(Очки!$A$2,I26,G26+OFFSET(Очки!$A$18,0,$C$31-1)-1) -> 0 | P26: =IF(I26<H26,OFFSET(Очки!$A$20,2+H26-I26,IF(G26=1,13-H26,10+G26)),0) -> 0 | S26: =SUM(J26:R26) -> 0
A27: =RANK(S27,S$6:OFFSET(S$6,0,0,COUNTA(B$6:B$30))) -> #N/A | C27: - | K27: =OFFSET(Очки!$A$2,F27,D27+OFFSET(Очки!$A$18,0,$C$31-1)-1) -> 0 | L27: =IF(F27<E27,OFFSET(Очки!$A$20,2+E27-F27,IF(D27=1,13-E27,10+D27)),0) -> 0 | O27: =OFFSET(Очки!$A$2,I27,G27+OFFSET(Очки!$A$18,0,$C$31-1)-1) -> 0 | P27: =IF(I27<H27,OFFSET(Очки!$A$20,2+H27-I27,IF(G27=1,13-H27,10+G27)),0) -> 0 | S27: =SUM(J27:R27) -> 0
A28: =RANK(S28,S$6:OFFSET(S$6,0,0,COUNTA(B$6:B$30))) -> #N/A | C28: - | K28: =OFFSET(Очки!$A$2,F28,D28+OFFSET(Очки!$A$18,0,$C$31-1)-1) -> 0 | L28: =IF(F28<E28,OFFSET(Очки!$A$20,2+E28-F28,IF(D28=1,13-E28,10+D28)),0) -> 0 | O28: =OFFSET(Очки!$A$2,I28,G28+OFFSET(Очки!$A$18,0,$C$31-1)-1) -> 0 | P28: =IF(I28<H28,OFFSET(Очки!$A$20,2+H28-I28,IF(G28=1,13-H28,10+G28)),0) -> 0 | S28: =SUM(J28:R28) -> 0
... A30: =RANK(S30,S$6:OFFSET(S$6,0,0,COUNTA(B$6:B$30))) -> #N/A | C30: - | K30: =OFFSET(Очки!$A$2,F30,D30+OFFSET(Очки!$A$18,0,$C$31-1)-1) -> 0 | L30: =IF(F30<E30,OFFSET(Очки!$A$20,2+E30-F30,IF(D30=1,13-E30,10+D30)),0) -> 0 | O30: =OFFSET(Очки!$A$2,I30,G30+OFFSET(Очки!$A$18,0,$C$31-1)-1) -> 0 | P30: =IF(I30<H30,OFFSET(Очки!$A$20,2+H30-I30,IF(G30=1,13-H30,10+G30)),0) -> 0 | S30: =SUM(J30:R30) -> 0
B31: Всего участников | C31: =COUNTA(B6:B30) -> 11

Sheet 23.04
A1: Лайт Лига 20.06.2017 (конфигурация 6)
A3: Место | B3: Участник | D3: 1 | G3: 2 | J3: Очки | S3: Сумма
C4: Довес | D4: группа | E4: Старт | F4: Финиш | G4: группа | H4: Старт | I4: Финиш | J4: Квала | K4: 1 | O4: 2
K5: очки | L5: обгоны | M5: время | N5: штрафы | O5: очки | P5: обгоны | Q5: время | R5: штрафы
A6: =RANK(S6,S$6:OFFSET(S$6,0,0,COUNTA(B$6:B$37))) -> 1 | B6: Лихошерст Леша/Lykhosherst Aleksey | C6: 10 | D6: 1 | E6: 12 | F6: 11 | G6: 1 | H6: 12 | I6: 3 | J6: 2.5 | K6: =OFFSET(Очки!$A$2,F6,D6+OFFSET(Очки!$A$18,0,$C$38-1)-1) -> 9 | L6: =IF(F6<E6,OFFSET(Очки!$A$20,2+E6-F6,IF(D6=1,13-E6,10+D6)),0) -> 1.3 | M6: 2.5 | O6: =OFFSET(Очки!$A$2,I6,G6+OFFSET(Очки!$A$18,0,$C$38-1)-1) -> 14 | P6: =IF(I6<H6,OFFSET(Очки!$A$20,2+H6-I6,IF(G6=1,13-H6,10+G6)),0) -> 10 | Q6: 2.5 | S6: =SUM(J6:R6) -> 41.8
A7: 1 | B7: Паламарчук Александр/ Palamarchuk Aleksandr | C7: - | D7: 1 | E7: 9 | F7: 6 | G7: 1 | H7: 11 | I7: 5 | J7: 1 | K7: =OFFSET(Очки!$A$2,F7,D7+OFFSET(Очки!$A$18,0,$C$38-1)-1) -> 11.5 | L7: =IF(F7<E7,OFFSET(Очки!$A$20,2+E7-F7,IF(D7=1,13-E7,10+D7)),0) -> 3.5 | M7: 2 | O7: =OFFSET(Очки!$A$2,I7,G7+OFFSET(Очки!$A$18,0,$C$38-1)-1) -> 12 | P7: =IF(I7<H7,OFFSET(Очки!$A$20,2+H7-I7,IF(G7=1,13-H7,10+G7)),0) -> 7 | Q7: 1 | S7: =SUM(J7:R7) -> 38
A8: =RANK(S8,S$6:OFFSET(S$6,0,0,COUNTA(B$6:B$37))) -> 3 | B8: Мифтахутдинов Ильяс/Miftafutdinov Ilyas | C8: 20 | D8: 1 | E8: 2 | F8: 1 | G8: 1 | H8: 10 | I8: 8 | K8: =OFFSET(Очки!$A$2,F8,D8+OFFSET(Очки!$A$18,0,$C$38-1)-1) -> 16 | L8: =IF(F8<E8,OFFSET(Очки!$A$20,2+E8-F8,IF(D8=1,13-E8,10+D8)),0) -> 0.7 | M8: 1.5 | O8: =OFFSET(Очки!$A$2,I8,G8+OFFSET(Очки!$A$18,0,$C$38-1)-1) -> 10.5 | P8: =IF(I8<H8,OFFSET(Очки!$A$20,2+H8-I8,IF(G8=1,13-H8,10+G8)),0) -> 2.4 | Q8: 2 | S8: =SUM(J8:R8) -> 33.1
A9: 2 | B9: Якусик Саша/Yakusik Alex | C9: - | D9: 1 | E9: 11 | F9: 10 | G9: 1 | H9: 2 | I9: 2 | J9: 2 | K9: =OFFSET(Очки!$A$2,F9,D9+OFFSET(Очки!$A$18,0,$C$38-1)-1) -> 9.5 | L9: =IF(F9<E9,OFFSET(Очки!$A$20,2+E9-F9,IF(D9=1,13-E9,10+D9)),0) -> 1.3 | O9: =OFFSET(Очки!$A$2,I9,G9+OFFSET(Очки!$A$18,0,$C$38-1)-1) -> 15 | P9: =IF(I9<H9,OFFSET(Очки!$A$20,2+H9-I9,IF(G9=1,13-H9,10+G9)),0) -> 0 | Q9: 1.5 | S9: =SUM(J9:R9) -> 29.3
A10: 3 | B10: Родин Артем/ Rodin Artem | C10: - | D10: 1 | E10: 7 | F10: 2 | G10: 1 | H10: 8 | I10: 11 | K10: =OFFSET(Очки!$A$2,F10,D10+OFFSET(Очки!$A$18,0,$C$38-1)-1) -> 15 | L10: =IF(F10<E10,OFFSET(Очки!$A$20,2+E10-F10,IF(D10=1,13-E10,10+D10)),0) -> 4.5 | M10: 0.5 | O10: =OFFSET(Очки!$A$2,I10,G10+OFFSET(Очки!$A$18,0,$C$38-1)-1) -> 9 | P10: =IF(I10<H10,OFFSET(Очки!$A$20,2+H10-I10,IF(G10=1,13-H10,10+G10)),0) -> 0 | S10: =SUM(J10:R10) -> 29
A11: =RANK(S11,S$6:OFFSET(S$6,0,0,COUNTA(B$6:B$37))) -> 6 | B11: Тамберг Александр/Tamberg Aleksandr | C11: - | D11: 1 | E11: 8 | F11: 3 | G11: 1 | H11: 9 | I11: 9 | J11: 0.5 | K11: =OFFSET(Очки!$A$2,F11,D11+OFFSET(Очки!$A$18,0,$C$38-1)-1) -> 14 | L11: =IF(F11<E11,OFFSET(Очки!$A$20,2+E11-F11,IF(D11=1,13-E11,10+D11)),0) -> 5 | M11: 1 | O11: =OFFSET(Очки!$A$2,I11,G11+OFFSET(Очки!$A$18,0,$C$38-1)-1) -> 10 | P11: =IF(I11<H11,OFFSET(Очки!$A$20,2+H11-I11,IF(G11=1,13-H11,10+G11)),0) -> 0 | Q11: 0.5 | R11: -3 | S11: =SUM(J11:R11) -> 28
A12: 4 | B12: Муляр Андрей/Mular Andrew | D12: 1 | E12: 4 | F12: 9 | G12: 2 | H12: 10 | I12: 2 | K12: =OFFSET(Очки!$A$2,F12,D12+OFFSET(Очки!$A$18,0,$C$38-1)-1) -> 10 | L12: =IF(F12<E12,OFFSET(Очки!$A$20,2+E12-F12,IF(D12=1,13-E12,10+D12)),0) -> 0 | O12: =OFFSET(Очки!$A$2,I12,G12+OFFSET(Очки!$A$18,0,$C$38-1)-1) -> 10.5 | P12: =IF(I12<H12,OFFSET(Очки!$A$20,2+H12-I12,IF(G12=1,13-H12,10+G12)),0) -> 5.6 | S12: =SUM(J12:R12) -> 26.1
A13: =RANK(S13,S$6:OFFSET(S$6,0,0,COUNTA(B$6:B$37))) -> 8 | B13: Кочмарев Юра/Kochmarv Ura | C13: - | D13: 1 | E13: 5 | F13: 4 | G13: 1 | H13: 3 | I13: 6 | K13: =OFFSET(Очки!$A$2,F13,D13+OFFSET(Очки!$A$18,0,$C$38-1)-1) -> 13 | L13: =IF(F13<E13,OFFSET(Очки!$A$20,2+E13-F13,IF(D13=1,13-E13,10+D13)),0) -> 0.9 | O13: =OFFSET(Очки!$A$2,I13,G13+OFFSET(Очки!$A$18,0,$C$38-1)-1) -> 11.5 | P13: =IF(I13<H13,OFFSET(Очки!$A$20,2+H13-I13,IF(G13=1,13-H13,10+G13)),0) -> 0 | S13: =SUM(J13:R13) -> 25.4
A14: 5 | B14: Черников Алексей/Chernikov Aleksey | C14: 5 | D14: 1 | E14: 10 | F14: 8 | G14: 1 | H14: 7 | I14: 7 | J14: 1.5 | K14: =OFFSET(Очки!$A$2,F14,D14+OFFSET(Очки!$A$18,0,$C$38-1)-1) -> 10.5 | L14: =IF(F14<E14,OFFSET(Очки!$A$20,2+E14-F14,IF(D14=1,13-E14,10+D14)),0) -> 2.4 | O14: =OFFSET(Очки!$A$2,I14,G14+OFFSET(Очки!$A$18,0,$C$38-1)-1) -> 11 | P14: =IF(I14<H14,OFFSET(Очки!$A$20,2+H14-I14,IF(G14=1,13-H14,10+G14)),0) -> 0 | S14: =SUM(J14:R14) -> 25.4
A15: 6 | B15: Майбродский Миша/Maibrodskiy Misha | C15: 10 | D15: 2 | E15: 5 | F15: 1 | G15: 1 | H15: 5 | I15: 11 | K15: =OFFSET(Очки!$A$2,F15,D15+OFFSET(Очки!$A$18,0,$C$38-1)-1) -> 11.5 | L15: =IF(F15<E15,OFFSET(Очки!$A$20,2+E15-F15,IF(D15=1,13-E15,10+D15)),0) -> 2.8 | O15: =OFFSET(Очки!$A$2,I15,G15+OFFSET(Очки!$A$18,0,$C$38-1)-1) -> 9 | P15: =IF(I15<H15,OFFSET(Очки!$A$20,2+H15-I15,IF(G15=1,13-H15,10+G15)),0) -> 0 | S15: =SUM(J15:R15) -> 23.3
A16: 7 | B16: Черный Кирилл/Chorniy Kirill | C16: 20 | D16: 2 | E16: 11 | F16: 9 | G16: 1 | H16: 1 | I16: 1 | K16: =OFFSET(Очки!$A$2,F16,D16+OFFSET(Очки!$A$18,0,$C$38-1)-1) -> 5.5 | L16: =IF(F16<E16,OFFSET(Очки!$A$20,2+E16-F16,IF(D16=1,13-E16,10+D16)),0) -> 1.4 | O16: =OFFSET(Очки!$A$2,I16,G16+OFFSET(Очки!$A$18,0,$C$38-1)-1) -> 16 | P16: =IF(I16<H16,OFFSET(Очки!$A$20,2+H16-I16,IF(G16=1,13-H16,10+G16)),0) -> 0 | S16: =SUM(J16:R16) -> 22.9
A17: 8 | B17: Колбасюк Алесей/ Kolbasiuk Aleksey | C17: 20 | D17: 2 | E17: 9 | F17: 2 | G17: 2 | H17: 8 | I17: 1 | K17: =OFFSET(Очки!$A$2,F17,D17+OFFSET(Очки!$A$18,0,$C$38-1)-1) -> 10.5 | L17: =IF(F17<E17,OFFSET(Очки!$A$20,2+E17-F17,IF(D17=1,13-E17,10+D17)),0) -> 4.9 | N17: =-3-3-3 -> -9 | O17: =OFFSET(Очки!$A$2,I17,G17+OFFSET(Очки!$A$18,0,$C$38-1)-1) -> 11.5 | P17: =IF(I17<H17,OFFSET(Очки!$A$20,2+H17-I17,IF(G17=1,13-H17,10+G17)),0) -> 4.9 | S17: =SUM(J17:R17) -> 22.8
A18: 9 | B18: Дядя Саша | D18: 2 | E18: 6 | F18: 4 | G18: 2 | H18: 11 | I18: 5 | K18: =OFFSET(Очки!$A$2,F18,D18+OFFSET(Очки!$A$18,0,$C$38-1)-1) -> 8.5 | L18: =IF(F18<E18,OFFSET(Очки!$A$20,2+E18-F18,IF(D18=1,13-E18,10+D18)),0) -> 1.4 | O18: =OFFSET(Очки!$A$2,I18,G18+OFFSET(Очки!$A$18,0,$C$38-1)-1) -> 7.5 | P18: =IF(I18<H18,OFFSET(Очки!$A$20,2+H18-I18,IF(G18=1,13-H18,10+G18)),0) -> 4.2 | S18: =SUM(J18:R18) -> 21.6
A19: 10 | B19: Белецкий Евгений / Biletskyi Ievgen | C19: - | D19: 1 | E19: 3 | F19: 5 | G19: 1 | H19: 6 | I19: 10 | K19: =OFFSET(Очки!$A$2,F19,D19+OFFSET(Очки!$A$18,0,$C$38-1)-1) -> 12 | L19: =IF(F19<E19,OFFSET(Очки!$A$20,2+E19-F19,IF(D19=1,13-E19,10+D19)),0) -> 0 | O19: =OFFSET(Очки!$A$2,I19,G19+OFFSET(Очки!$A$18,0,$C$38-1)-1) -> 9.5 | P19: =IF(I19<H19,OFFSET(Очки!$A$20,2+H19-I19,IF(G19=1,13-H19,10+G19)),0) -> 0 | S19: =SUM(J19:R19) -> 21.5
A20: 11 | B20: Резников Иван/Reznikov Ivan | D20: 1 | E20: 6 | F20: 7 | G20: 1 | H20: 4 | I20: 4 | K20: =OFFSET(Очки!$A$2,F20,D20+OFFSET(Очки!$A$18,0,$C$38-1)-1) -> 11 | L20: =IF(F20<E20,OFFSET(Очки!$A$20,2+E20-F20,IF(D20=1,13-E20,10+D20)),0) -> 0 | N20: -3 | O20: =OFFSET(Очки!$A$2,I20,G20+OFFSET(Очки!$A$18,0,$C$38-1)-1) -> 13 | P20: =IF(I20<H20,OFFSET(Очки!$A$20,2+H20-I20,IF(G20=1,13-H20,10+G20)),0) -> 0 | S20: =SUM(J20:R20) -> 21
A21: 12 | B21: Скороход Леша/Skorohod Aleksey | C21: - | D21: 2 | E21: 4 | F21: 3 | G21: 2 | H21: 6 | I21: 2 | K21: =OFFSET(Очки!$A$2,F21,D21+OFFSET(Очки!$A$18,0,$C$38-1)-1) -> 9.5 | L21: =IF(F21<E21,OFFSET(Очки!$A$20,2+E21-F21,IF(D21=1,13-E21,10+D21)),0) -> 0.7 | O21: =OFFSET(Очки!$A$2,I21,G21+OFFSET(Очки!$A$18,0,$C$38-1)-1) -> 10.5 | P21: =IF(I21<H21,OFFSET(Очки!$A$20,2+H21-I21,IF(G21=1,13-H21,10+G21)),0) -> 2.8 | R21: -4 | S21: =SUM(J21:R21) -> 19.5
A22: 13 | B22: Михайлик Миша/Mykhalyk Mykhael | C22: - | D22: 2 | E22: 12 | F22: 8 | G22: 2 | H22: 7 | I22: 6 | K22: =OFFSET(Очки!$A$2,F22,D22+OFFSET(Очки!$A$18,0,$C$38-1)-1) -> 6 | L22: =IF(F22<E22,OFFSET(Очки!$A$20,2+E22-F22,IF(D22=1,13-E22,10+D22)),0) -> 2.8 | O22: =OFFSET(Очки!$A$2,I22,G22+OFFSET(Очки!$A$18,0,$C$38-1)-1) -> 7 | P22: =IF(I22<H22,OFFSET(Очки!$A$20,2+H22-I22,IF(G22=1,13-H22,10+G22)),0) -> 0.7 | S22: =SUM(J22:R22) -> 16.5
A23: 14 | B23: Купцов Паша/Kuptsov Pavel | C23: - | D23: 1 | E23: 1 | F23: 10 | G23: 2 | H23: 9 | I23: 7 | K23: =OFFSET(Очки!$A$2,F23,D23+OFFSET(Очки!$A$18,0,$C$38-1)-1) -> 9.5 | L23: =IF(F23<E23,OFFSET(Очки!$A$20,2+E23-F23,IF(D23=1,13-E23,10+D23)),0) -> 0 | N23: -2 | O23: =OFFSET(Очки!$A$2,I23,G23+OFFSET(Очки!$A$18,0,$C$38-1)-1) -> 6.5 | P23: =IF(I23<H23,OFFSET(Очки!$A$20,2+H23-I23,IF(G23=1,13-H23,10+G23)),0) -> 1.4 | S23: =SUM(J23:R23) -> 15.4
A24: 15 | B24: Климчук Евгений/Klimchuл Eugeniy | C24: - | D24: 2 | E24: 10 | F24: 10 | G24: 2 | H24: 12 | I24: 8 | K24: =OFFSET(Очки!$A$2,F24,D24+OFFSET(Очки!$A$18,0,$C$38-1)-1) -> 5 | L24: =IF(F24<E24,OFFSET(Очки!$A$20,2+E24-F24,IF(D24=1,13-E24,10+D24)),0) -> 0 | O24: =OFFSET(Очки!$A$2,I24,G24+OFFSET(Очки!$A$18,0,$C$38-1)-1) -> 6 | P24: =IF(I24<H24,OFFSET(Очки!$A$20,2+H24-I24,IF(G24=1,13-H24,10+G24)),0) -> 2.8 | S24: =SUM(J24:R24) -> 13.8
A25: 16 | B25: Щербаков Евгений/Scherbakov Eugen | C25: - | D25: 2 | E25: 3 | F25: 10 | G25: 2 | H25: 4 | I25: 4 | K25: =OFFSET(Очки!$A$2,F25,D25+OFFSET(Очки!$A$18,0,$C$38-1)-1) -> 5 | L25: =IF(F25<E25,OFFSET(Очки!$A$20,2+E25-F25,IF(D25=1,13-E25,10+D25)),0) -> 0 | O25: =OFFSET(Очки!$A$2,I25,G25+OFFSET(Очки!$A$18,0,$C$38-1)-1) -> 8.5 | P25: =IF(I25<H25,OFFSET(Очки!$A$20,2+H25-I25,IF(G25=1,13-H25,10+G25)),0) -> 0 | S25: =SUM(J25:R25) -> 13.5
A26: 17 | B26: Колпачев Алексей/Kolpachev Aleksey | C26: 5 | D26: 2 | E26: 1 | F26: 4 | G26: 2 | H26: 2 | I26: 11 | K26: =OFFSET(Очки!$A$2,F26,D26+OFFSET(Очки!$A$18,0,$C$38-1)-1) -> 8.5 | L26: =IF(F26<E26,OFFSET(Очки!$A$20,2+E26-F26,IF(D26=1,13-E26,10+D26)),0) -> 0 | O26: =OFFSET(Очки!$A$2,I26,G26+OFFSET(Очки!$A$18,0,$C$38-1)-1) -> 4.5 | P26: =IF(I26<H26,OFFSET(Очки!$A$20,2+H26-I26,IF(G26=1,13-H26,10+G26)),0) -> 0 | S26: =SUM(J26:R26) -> 13
A27: 18 | B27: Сосин Михаил/ Sosin Mikhail | C27: 15 | D27: 2 | E27: 2 | F27: 6 | G27: 2 | H27: 3 | I27: 10 | K27: =OFFSET(Очки!$A$2,F27,D27+OFFSET(Очки!$A$18,0,$C$38-1)-1) -> 7 | L27: =IF(F27<E27,OFFSET(Очки!$A$20,2+E27-F27,IF(D27=1,13-E27,10+D27)),0) -> 0 | O27: =OFFSET(Очки!$A$2,I27,G27+OFFSET(Очки!$A$18,0,$C$38-1)-1) -> 5 | P27: =IF(I27<H27,OFFSET(Очки!$A$20,2+H27-I27,IF(G27=1,13-H27,10+G27)),0) -> 0 | S27: =SUM(J27:R27) -> 12
A28: 19 | B28: Черный Костя/Chorniy Konstantin | C28: - | D28: 2 | E28: 7 | F28: 6 | G28: 2 | H28: 5 | I28: 8 | K28: =OFFSET(Очки!$A$2,F28,D28+OFFSET(Очки!$A$18,0,$C$38-1)-1) -> 7 | L28: =IF(F28<E28,OFFSET(Очки!$A$20,2+E28-F28,IF(D28=1,13-E28,10+D28)),0) -> 0.7 | O28: =OFFSET(Очки!$A$2,I28,G28+OFFSET(Очки!$A$18,0,$C$38-1)-1) -> 6 | P28: =IF(I28<H28,OFFSET(Очки!$A$20,2+H28-I28,IF(G28=1,13-H28,10+G28)),0) -> 0 | R28: -3 | S28: =SUM(J28:R28) -> 10.7
A29: 20 | B29: Колпачев Сергей/Kolpachev Sergey | C29: 12.5 | D29: 2 | E29: 8 | F29: 12 | G29: 2 | H29: 1 | I29: 10 | K29: =OFFSET(Очки!$A$2,F29,D29+OFFSET(Очки!$A$18,0,$C$38-1)-1) -> 4 | L29: =IF(F29<E29,OFFSET(Очки!$A$20,2+E29-F29,IF(D29=1,13-E29,10+D29)),0) -> 0 | O29: =OFFSET(Очки!$A$2,I29,G29+OFFSET(Очки!$A$18,0,$C$38-1)-1) -> 5 | P29: =IF(I29<H29,OFFSET(Очки!$A$20,2+H29-I29,IF(G29=1,13-H29,10+G29)),0) -> 0 | R29: -3 | S29: =SUM(J29:R29) -> 6
A30: =RANK(S30,S$6:OFFSET(S$6,0,0,COUNTA(B$6:B$37))) -> #N/A | K30: =OFFSET(Очки!$A$2,F30,D30+OFFSET(Очки!$A$18,0,$C$38-1)-1) -> 0 | L30: =IF(F30<E30,OFFSET(Очки!$A$20,2+E30-F30,IF(D30=1,13-E30,10+D30)),0) -> 0 | O30: =OFFSET(Очки!$A$2,I30,G30+OFFSET(Очки!$A$18,0,$C$38-1)-1) -> 0 | P30: =IF(I30<H30,OFFSET(Очки!$A$20,2+H30-I30,IF(G30=1,13-H30,10+G30)),0) -> 0 | S30: =SUM(J30:R30) -> 0
A31: =RANK(S31,S$6:OFFSET(S$6,0,0,COUNTA(B$6:B$37))) -> #N/A | C31: - | K31: =OFFSET(Очки!$A$2,F31,D31+OFFSET(Очки!$A$18,0,$C$38-1)-1) -> 0 | L31: =IF(F31<E31,OFFSET(Очки!$A$20,2+E31-F31,IF(D31=1,13-E31,10+D31)),0) -> 0 | O31: =OFFSET(Очки!$A$2,I31,G31+OFFSET(Очки!$A$18,0,$C$38-1)-1) -> 0 | P31: =IF(I31<H31,OFFSET(Очки!$A$20,2+H31-I31,IF(G31=1,13-H31,10+G31)),0) -> 0 | S31: =SUM(J31:R31) -> 0
A32: =RANK(S32,S$6:OFFSET(S$6,0,0,COUNTA(B$6:B$37))) -> #N/A | C32: - | K32: =OFFSET(Очки!$A$2,F32,D32+OFFSET(Очки!$A$18,0,$C$38-1)-1) -> 0 | L32: =IF(F32<E32,OFFSET(Очки!$A$20,2+E32-F32,IF(D32=1,13-E32,10+D32)),0) -> 0 | O32: =OFFSET(Очки!$A$2,I32,G32+OFFSET(Очки!$A$18,0,$C$38-1)-1) -> 0 | P32: =IF(I32<H32,OFFSET(Очки!$A$20,2+H32-I32,IF(G32=1,13-H32,10+G32)),0) -> 0 | S32: =SUM(J32:R32) -> 0
A33: =RANK(S33,S$6:OFFSET(S$6,0,0,COUNTA(B$6:B$37))) -> #N/A | C33: - | K33: =OFFSET(Очки!$A$2,F33,D33+OFFSET(Очки!$A$18,0,$C$38-1)-1) -> 0 | L33: =IF(F33<E33,OFFSET(Очки!$A$20,2+E33-F33,IF(D33=1,13-E33,10+D33)),0) -> 0 | O33: =OFFSET(Очки!$A$2,I33,G33+OFFSET(Очки!$A$18,0,$C$38-1)-1) -> 0 | P33: =IF(I33<H33,OFFSET(Очки!$A$20,2+H33-I33,IF(G33=1,13-H33,10+G33)),0) -> 0 | S33: =SUM(J33:R33) -> 0
A34: =RANK(S34,S$6:OFFSET(S$6,0,0,COUNTA(B$6:B$37))) -> #N/A | C34: - | K34: =OFFSET(Очки!$A$2,F34,D34+OFFSET(Очки!$A$18,0,$C$38-1)-1) -> 0 | L34: =IF(F34<E34,OFFSET(Очки!$A$20,2+E34-F34,IF(D34=1,13-E34,10+D34)),0) -> 0 | O34: =OFFSET(Очки!$A$2,I34,G34+OFFSET(Очки!$A$18,0,$C$38-1)-1) -> 0 | P34: =IF(I34<H34,OFFSET(Очки!$A$20,2+H34-I34,IF(G34=1,13-H34,10+G34)),0) -> 0 | S34: =SUM(J34:R34) -> 0
A35: =RANK(S35,S$6:OFFSET(S$6,0,0,COUNTA(B$6:B$37))) -> #N/A | C35: - | K35: =OFFSET(Очки!$A$2,F35,D35+OFFSET(Очки!$A$18,0,$C$38-1)-1) -> 0 | L35: =IF(F35<E35,OFFSET(Очки!$A$20,2+E35-F35,IF(D35=1,13-E35,10+D35)),0) -> 0 | O35: =OFFSET(Очки!$A$2,I35,G35+OFFSET(Очки!$A$18,0,$C$38-1)-1) -> 0 | P35: =IF(I35<H35,OFFSET(Очки!$A$20,2+H35-I35,IF(G35=1,13-H35,10+G35)),0) -> 0 | S35: =SUM(J35:R35) -> 0
A36: =RANK(S36,S$6:OFFSET(S$6,0,0,COUNTA(B$6:B$37))) -> #N/A | C36: - | K36: =OFFSET(Очки!$A$2,F36,D36+OFFSET(Очки!$A$18,0,$C$38-1)-1) -> 0 | L36: =IF(F36<E36,OFFSET(Очки!$A$20,2+E36-F36,IF(D36=1,13-E36,10+D36)),0) -> 0 | O36: =OFFSET(Очки!$A$2,I36,G36+OFFSET(Очки!$A$18,0,$C$38-1)-1) -> 0 | P36: =IF(I36<H36,OFFSET(Очки!$A$20,2+H36-I36,IF(G36=1,13-H36,10+G36)),0) -> 0 | S36: =SUM(J36:R36) -> 0
A37: =RANK(S37,S$6:OFFSET(S$6,0,0,COUNTA(B$6:B$37))) -> #N/A | C37: - | K37: =OFFSET(Очки!$A$2,F37,D37+OFFSET(Очки!$A$18,0,$C$38-1)-1) -> 0 | L37: =IF(F37<E37,OFFSET(Очки!$A$20,2+E37-F37,IF(D37=1,13-E37,10+D37)),0) -> 0 | O37: =OFFSET(Очки!$A$2,I37,G37+OFFSET(Очки!$A$18,0,$C$38-1)-1) -> 0 | P37: =IF(I37<H37,OFFSET(Очки!$A$20,2+H37-I37,IF(G37=1,13-H37,10+G37)),0) -> 0 | S37: =SUM(J37:R37) -> 0
B38: Всего участников | C38: =COUNTA(B6:B37) -> 24

Sheet 30.04
A1: Лайт Лига 30.04.2019 (конфигурация 9)
A3: Место | B3: Участник | D3: 1 | G3: 2 | J3: Очки | S3: Сумма
C4: Довес | D4: группа | E4: Старт | F4: Финиш | G4: группа | H4: Старт | I4: Финиш | J4: Квала | K4: 1 | O4: 2
K5: очки | L5: обгоны | M5: время | N5: штрафы | O5: очки | P5: обгоны | Q5: время | R5: штрафы
A6: =RANK(S6,S$6:OFFSET(S$6,0,0,COUNTA(B$6:B$30))) -> 1 | B6: Муляр Андрей/Mular Andrew | C6: - | D6: 1 | E6: 1 | F6: 1 | G6: 1 | H6: 3 | I6: 3 | K6: =OFFSET(Очки!$A$2,F6,D6+OFFSET(Очки!$A$18,0,$C$31-1)-1) -> 15 | L6: =IF(F6<E6,OFFSET(Очки!$A$20,2+E6-F6,IF(D6=1,13-E6,10+D6)),0) -> 0 | M6: 0.5 | O6: =OFFSET(Очки!$A$2,I6,G6+OFFSET(Очки!$A$18,0,$C$31-1)-1) -> 13 | P6: =IF(I6<H6,OFFSET(Очки!$A$20,2+H6-I6,IF(G6=1,13-H6,10+G6)),0) -> 0 | Q6: 0.5 | S6: =SUM(J6:R6) -> 29
A7: =RANK(S7,S$6:OFFSET(S$6,0,0,COUNTA(B$6:B$30))) -> 2 | B7: Черный Кирилл/Chorniy Kirill | C7: 20 | D7: 1 | E7: 3 | F7: 4 | G7: 1 | H7: 2 | I7: 2 | J7: 0.5 | K7: =OFFSET(Очки!$A$2,F7,D7+OFFSET(Очки!$A$18,0,$C$31-1)-1) -> 12 | L7: =IF(F7<E7,OFFSET(Очки!$A$20,2+E7-F7,IF(D7=1,13-E7,10+D7)),0) -> 0 | O7: =OFFSET(Очки!$A$2,I7,G7+OFFSET(Очки!$A$18,0,$C$31-1)-1) -> 14 | P7: =IF(I7<H7,OFFSET(Очки!$A$20,2+H7-I7,IF(G7=1,13-H7,10+G7)),0) -> 0 | Q7: 2 | S7: =SUM(J7:R7) -> 28.5
A8: =RANK(S8,S$6:OFFSET(S$6,0,0,COUNTA(B$6:B$30))) -> 3 | B8: Якусик Саша/Yakusik Alex | C8: 2.5 | D8: 1 | E8: 2 | F8: 2 | G8: 1 | H8: 5 | I8: 4 | K8: =OFFSET(Очки!$A$2,F8,D8+OFFSET(Очки!$A$18,0,$C$31-1)-1) -> 14 | L8: =IF(F8<E8,OFFSET(Очки!$A$20,2+E8-F8,IF(D8=1,13-E8,10+D8)),0) -> 0 | M8: 1.5 | O8: =OFFSET(Очки!$A$2,I8,G8+OFFSET(Очки!$A$18,0,$C$31-1)-1) -> 12 | P8: =IF(I8<H8,OFFSET(Очки!$A$20,2+H8-I8,IF(G8=1,13-H8,10+G8)),0) -> 0.9 | S8: =SUM(J8:R8) -> 28.4
A9: =RANK(S9,S$6:OFFSET(S$6,0,0,COUNTA(B$6:B$30))) -> 4 | B9: Якусик Дима/Yakusik Dima | C9: 5 | D9: 1 | E9: 5 | F9: 3 | G9: 1 | H9: 4 | I9: 5 | J9: 1.5 | K9: =OFFSET(Очки!$A$2,F9,D9+OFFSET(Очки!$A$18,0,$C$31-1)-1) -> 13 | L9: =IF(F9<E9,OFFSET(Очки!$A$20,2+E9-F9,IF(D9=1,13-E9,10+D9)),0) -> 1.7 | M9: 1 | O9: =OFFSET(Очки!$A$2,I9,G9+OFFSET(Очки!$A$18,0,$C$31-1)-1) -> 11 | P9: =IF(I9<H9,OFFSET(Очки!$A$20,2+H9-I9,IF(G9=1,13-H9,10+G9)),0) -> 0 | S9: =SUM(J9:R9) -> 28.2
A10: =RANK(S10,S$6:OFFSET(S$6,0,0,COUNTA(B$6:B$30))) -> 5 | B10: Лихошерст Леша | C10: 10 | D10: 1 | E10: 7 | F10: 7 | G10: 1 | H10: 7 | I10: 7 | J10: 2.5 | K10: =OFFSET(Очки!$A$2,F10,D10+OFFSET(Очки!$A$18,0,$C$31-1)-1) -> 10 | L10: =IF(F10<E10,OFFSET(Очки!$A$20,2+E10-F10,IF(D10=1,13-E10,10+D10)),0) -> 0 | M10: 2.5 | O10: =OFFSET(Очки!$A$2,I10,G10+OFFSET(Очки!$A$18,0,$C$31-1)-1) -> 10 | P10: =IF(I10<H10,OFFSET(Очки!$A$20,2+H10-I10,IF(G10=1,13-H10,10+G10)),0) -> 0 | Q10: 2.5 | S10: =SUM(J10:R10) -> 27.5
A11: 4 | B11: Паламарчук Александр/ Palamarchuk Aleksandr | C11: - | D11: 1 | E11: 6 | F11: 5 | G11: 2 | H11: 6 | I11: 3 | J11: 2 | K11: =OFFSET(Очки!$A$2,F11,D11+OFFSET(Очки!$A$18,0,$C$31-1)-1) -> 11 | L11: =IF(F11<E11,OFFSET(Очки!$A$20,2+E11-F11,IF(D11=1,13-E11,10+D11)),0) -> 1 | O11: =OFFSET(Очки!$A$2,I11,G11+OFFSET(Очки!$A$18,0,$C$31-1)-1) -> 8.5 | P11: =IF(I11<H11,OFFSET(Очки!$A$20,2+H11-I11,IF(G11=1,13-H11,10+G11)),0) -> 2.1 | Q11: 1.5 | S11: =SUM(J11:R11) -> 26.1
A12: 5 | B12: Нечволод Олег/Hechvolod Oleg | C12: - | D12: 2 | E12: 4 | F12: 1 | G12: 1 | H12: 6 | I12: 6 | K12: =OFFSET(Очки!$A$2,F12,D12+OFFSET(Очки!$A$18,0,$C$31-1)-1) -> 10.5 | L12: =IF(F12<E12,OFFSET(Очки!$A$20,2+E12-F12,IF(D12=1,13-E12,10+D12)),0) -> 2.1 | M12: 2 | O12: =OFFSET(Очки!$A$2,I12,G12+OFFSET(Очки!$A$18,0,$C$31-1)-1) -> 10.5 | P12: =IF(I12<H12,OFFSET(Очки!$A$20,2+H12-I12,IF(G12=1,13-H12,10+G12)),0) -> 0 | S12: =SUM(J12:R12) -> 25.1
A13: =RANK(S13,S$6:OFFSET(S$6,0,0,COUNTA(B$6:B$30))) -> 8 | B13: Гончаров Рома/Honcharov Roman | C13: 15 | D13: 2 | E13: 1 | F13: 2 | G13: 1 | H13: 1 | I13: 1 | K13: =OFFSET(Очки!$A$2,F13,D13+OFFSET(Очки!$A$18,0,$C$31-1)-1) -> 9.5 | L13: =IF(F13<E13,OFFSET(Очки!$A$20,2+E13-F13,IF(D13=1,13-E13,10+D13)),0) -> 0 | O13: =OFFSET(Очки!$A$2,I13,G13+OFFSET(Очки!$A$18,0,$C$31-1)-1) -> 15 | P13: =IF(I13<H13,OFFSET(Очки!$A$20,2+H13-I13,IF(G13=1,13-H13,10+G13)),0) -> 0 | S13: =SUM(J13:R13) -> 24.5
A14: 6 | B14: Родин Артем/ Rodin Artem | C14: - | D14: 1 | E14: 4 | F14: 6 | G14: 2 | H14: 7 | I14: 4 | J14: 1 | K14: =OFFSET(Очки!$A$2,F14,D14+OFFSET(Очки!$A$18,0,$C$31-1)-1) -> 10.5 | L14: =IF(F14<E14,OFFSET(Очки!$A$20,2+E14-F14,IF(D14=1,13-E14,10+D14)),0) -> 0 | O14: =OFFSET(Очки!$A$2,I14,G14+OFFSET(Очки!$A$18,0,$C$31-1)-1) -> 7.5 | P14: =IF(I14<H14,OFFSET(Очки!$A$20,2+H14-I14,IF(G14=1,13-H14,10+G14)),0) -> 2.1 | Q14: 1 | S14: =SUM(J14:R14) -> 22.1
A15: 7 | B15: Смерчинский Саша/ Smerchinskiy Aleksandr | C15: 7.5 | D15: 2 | E15: 3 | F15: 4 | G15: 2 | H15: 2 | I15: 1 | K15: =OFFSET(Очки!$A$2,F15,D15+OFFSET(Очки!$A$18,0,$C$31-1)-1) -> 7.5 | L15: =IF(F15<E15,OFFSET(Очки!$A$20,2+E15-F15,IF(D15=1,13-E15,10+D15)),0) -> 0 | O15: =OFFSET(Очки!$A$2,I15,G15+OFFSET(Очки!$A$18,0,$C$31-1)-1) -> 10.5 | P15: =IF(I15<H15,OFFSET(Очки!$A$20,2+H15-I15,IF(G15=1,13-H15,10+G15)),0) -> 0.7 | S15: =SUM(J15:R15) -> 18.7
A16: 8 | B16: Тихонов Вано | C16: - | D16: 2 | E16: 5 | F16: 5 | G16: 2 | H16: 4 | I16: 2 | K16: =OFFSET(Очки!$A$2,F16,D16+OFFSET(Очки!$A$18,0,$C$31-1)-1) -> 6.5 | L16: =IF(F16<E16,OFFSET(Очки!$A$20,2+E16-F16,IF(D16=1,13-E16,10+D16)),0) -> 0 | O16: =OFFSET(Очки!$A$2,I16,G16+OFFSET(Очки!$A$18,0,$C$31-1)-1) -> 9.5 | P16: =IF(I16<H16,OFFSET(Очки!$A$20,2+H16-I16,IF(G16=1,13-H16,10+G16)),0) -> 1.4 | S16: =SUM(J16:R16) -> 17.4
A17: 9 | B17: Чухаленко Дима/Chukhalenko Dima | C17: - | D17: 2 | E17: 6 | F17: 3 | G17: 2 | H17: 5 | I17: 6 | K17: =OFFSET(Очки!$A$2,F17,D17+OFFSET(Очки!$A$18,0,$C$31-1)-1) -> 8.5 | L17: =IF(F17<E17,OFFSET(Очки!$A$20,2+E17-F17,IF(D17=1,13-E17,10+D17)),0) -> 2.1 | O17: =OFFSET(Очки!$A$2,I17,G17+OFFSET(Очки!$A$18,0,$C$31-1)-1) -> 6 | P17: =IF(I17<H17,OFFSET(Очки!$A$20,2+H17-I17,IF(G17=1,13-H17,10+G17)),0) -> 0 | S17: =SUM(J17:R17) -> 16.6
A18: 10 | B18: Черный Костя/Chorniy Konstantin | C18: - | D18: 2 | E18: 2 | F18: 6 | G18: 2 | H18: 3 | I18: 5 | K18: =OFFSET(Очки!$A$2,F18,D18+OFFSET(Очки!$A$18,0,$C$31-1)-1) -> 6 | L18: =IF(F18<E18,OFFSET(Очки!$A$20,2+E18-F18,IF(D18=1,13-E18,10+D18)),0) -> 0 | O18: =OFFSET(Очки!$A$2,I18,G18+OFFSET(Очки!$A$18,0,$C$31-1)-1) -> 6.5 | P18: =IF(I18<H18,OFFSET(Очки!$A$20,2+H18-I18,IF(G18=1,13-H18,10+G18)),0) -> 0 | S18: =SUM(J18:R18) -> 12.5
A19: 11 | B19: Орел Максим/Orel Max | C19: - | D19: 2 | E19: 7 | F19: 7 | G19: 2 | H19: 1 | I19: 7 | K19: =OFFSET(Очки!$A$2,F19,D19+OFFSET(Очки!$A$18,0,$C$31-1)-1) -> 5.5 | L19: =IF(F19<E19,OFFSET(Очки!$A$20,2+E19-F19,IF(D19=1,13-E19,10+D19)),0) -> 0 | O19: =OFFSET(Очки!$A$2,I19,G19+OFFSET(Очки!$A$18,0,$C$31-1)-1) -> 5.5 | P19: =IF(I19<H19,OFFSET(Очки!$A$20,2+H19-I19,IF(G19=1,13-H19,10+G19)),0) -> 0 | S19: =SUM(J19:R19) -> 11
A20: =RANK(S20,S$6:OFFSET(S$6,0,0,COUNTA(B$6:B$30))) -> #N/A | C20: - | K20: =OFFSET(Очки!$A$2,F20,D20+OFFSET(Очки!$A$18,0,$C$31-1)-1) -> 0 | L20: =IF(F20<E20,OFFSET(Очки!$A$20,2+E20-F20,IF(D20=1,13-E20,10+D20)),0) -> 0 | O20: =OFFSET(Очки!$A$2,I20,G20+OFFSET(Очки!$A$18,0,$C$31-1)-1) -> 0 | P20: =IF(I20<H20,OFFSET(Очки!$A$20,2+H20-I20,IF(G20=1,13-H20,10+G20)),0) -> 0 | S20: =SUM(J20:R20) -> 0
A21: =RANK(S21,S$6:OFFSET(S$6,0,0,COUNTA(B$6:B$30))) -> #N/A | C21: - | K21: =OFFSET(Очки!$A$2,F21,D21+OFFSET(Очки!$A$18,0,$C$31-1)-1) -> 0 | L21: =IF(F21<E21,OFFSET(Очки!$A$20,2+E21-F21,IF(D21=1,13-E21,10+D21)),0) -> 0 | O21: =OFFSET(Очки!$A$2,I21,G21+OFFSET(Очки!$A$18,0,$C$31-1)-1) -> 0 | P21: =IF(I21<H21,OFFSET(Очки!$A$20,2+H21-I21,IF(G21=1,13-H21,10+G21)),0) -> 0 | S21: =SUM(J21:R21) -> 0
A22: =RANK(S22,S$6:OFFSET(S$6,0,0,COUNTA(B$6:B$30))) -> #N/A | C22: - | K22: =OFFSET(Очки!$A$2,F22,D22+OFFSET(Очки!$A$18,0,$C$31-1)-1) -> 0 | L22: =IF(F22<E22,OFFSET(Очки!$A$20,2+E22-F22,IF(D22=1,13-E22,10+D22)),0) -> 0 | O22: =OFFSET(Очки!$A$2,I22,G22+OFFSET(Очки!$A$18,0,$C$31-1)-1) -> 0 | P22: =IF(I22<H22,OFFSET(Очки!$A$20,2+H22-I22,IF(G22=1,13-H22,10+G22)),0) -> 0 | S22: =SUM(J22:R22) -> 0
A23: =RANK(S23,S$6:OFFSET(S$6,0,0,COUNTA(B$6:B$30))) -> #N/A | C23: - | K23: =OFFSET(Очки!$A$2,F23,D23+OFFSET(Очки!$A$18,0,$C$31-1)-1) -> 0 | L23: =IF(F23<E23,OFFSET(Очки!$A$20,2+E23-F23,IF(D23=1,13-E23,10+D23)),0) -> 0 | O23: =OFFSET(Очки!$A$2,I23,G23+OFFSET(Очки!$A$18,0,$C$31-1)-1) -> 0 | P23: =IF(I23<H23,OFFSET(Очки!$A$20,2+H23-I23,IF(G23=1,13-H23,10+G23)),0) -> 0 | S23: =SUM(J23:R23) -> 0
A24: =RANK(S24,S$6:OFFSET(S$6,0,0,COUNTA(B$6:B$30))) -> #N/A | C24: - | K24: =OFFSET(Очки!$A$2,F24,D24+OFFSET(Очки!$A$18,0,$C$31-1)-1) -> 0 | L24: =IF(F24<E24,OFFSET(Очки!$A$20,2+E24-F24,IF(D24=1,13-E24,10+D24)),0) -> 0 | O24: =OFFSET(Очки!$A$2,I24,G24+OFFSET(Очки!$A$18,0,$C$31-1)-1) -> 0 | P24: =IF(I24<H24,OFFSET(Очки!$A$20,2+H24-I24,IF(G24=1,13-H24,10+G24)),0) -> 0 | S24: =SUM(J24:R24) -> 0
A25: =RANK(S25,S$6:OFFSET(S$6,0,0,COUNTA(B$6:B$30))) -> #N/A | C25: - | K25: =OFFSET(Очки!$A$2,F25,D25+OFFSET(Очки!$A$18,0,$C$31-1)-1) -> 0 | L25: =IF(F25<E25,OFFSET(Очки!$A$20,2+E25-F25,IF(D25=1,13-E25,10+D25)),0) -> 0 | O25: =OFFSET(Очки!$A$2,I25,G25+OFFSET(Очки!$A$18,0,$C$31-1)-1) -> 0 | P25: =IF(I25<H25,OFFSET(Очки!$A$20,2+H25-I25,IF(G25=1,13-H25,10+G25)),0) -> 0 | S25: =SUM(J25:R25) -> 0
A26: =RANK(S26,S$6:OFFSET(S$6,0,0,COUNTA(B$6:B$30))) -> #N/A | C26: - | K26: =OFFSET(Очки!$A$2,F26,D26+OFFSET(Очки!$A$18,0,$C$31-1)-1) -> 0 | L26: =IF(F26<E26,OFFSET(Очки!$A$20,2+E26-F26,IF(D26=1,13-E26,10+D26)),0) -> 0 | O26: =OFFSET(Очки!$A$2,I26,G26+OFFSET(Очки!$A$18,0,$C$31-1)-1) -> 0 | P26: =IF(I26<H26,OFFSET(Очки!$A$20,2+H26-I26,IF(G26=1,13-H26,10+G26)),0) -> 0 | S26: =SUM(J26:R26) -> 0
A27: =RANK(S27,S$6:OFFSET(S$6,0,0,COUNTA(B$6:B$30))) -> #N/A | C27: - | K27: =OFFSET(Очки!$A$2,F27,D27+OFFSET(Очки!$A$18,0,$C$31-1)-1) -> 0 | L27: =IF(F27<E27,OFFSET(Очки!$A$20,2+E27-F27,IF(D27=1,13-E27,10+D27)),0) -> 0 | O27: =OFFSET(Очки!$A$2,I27,G27+OFFSET(Очки!$A$18,0,$C$31-1)-1) -> 0 | P27: =IF(I27<H27,OFFSET(Очки!$A$20,2+H27-I27,IF(G27=1,13-H27,10+G27)),0) -> 0 | S27: =SUM(J27:R27) -> 0
A28: =RANK(S28,S$6:OFFSET(S$6,0,0,COUNTA(B$6:B$30))) -> #N/A | C28: - | K28: =OFFSET(Очки!$A$2,F28,D28+OFFSET(Очки!$A$18,0,$C$31-1)-1) -> 0 | L28: =IF(F28<E28,OFFSET(Очки!$A$20,2+E28-F28,IF(D28=1,13-E28,10+D28)),0) -> 0 | O28: =OFFSET(Очки!$A$2,I28,G28+OFFSET(Очки!$A$18,0,$C$31-1)-1) -> 0 | P28: =IF(I28<H28,OFFSET(Очки!$A$20,2+H28-I28,IF(G28=1,13-H28,10+G28)),0) -> 0 | S28: =SUM(J28:R28) -> 0
A29: =RANK(S29,S$6:OFFSET(S$6,0,0,COUNTA(B$6:B$30))) -> #N/A | C29: - | K29: =OFFSET(Очки!$A$2,F29,D29+OFFSET(Очки!$A$18,0,$C$31-1)-1) -> 0 | L29: =IF(F29<E29,OFFSET(Очки!$A$20,2+E29-F29,IF(D29=1,13-E29,10+D29)),0) -> 0 | O29: =OFFSET(Очки!$A$2,I29,G29+OFFSET(Очки!$A$18,0,$C$31-1)-1) -> 0 | P29: =IF(I29<H29,OFFSET(Очки!$A$20,2+H29-I29,IF(G29=1,13-H29,10+G29)),0) -> 0 | S29: =SUM(J29:R29) -> 0
A30: =RANK(S30,S$6:OFFSET(S$6,0,0,COUNTA(B$6:B$30))) -> #N/A | C30: - | K30: =OFFSET(Очки!$A$2,F30,D30+OFFSET(Очки!$A$18,0,$C$31-1)-1) -> 0 | L30: =IF(F30<E30,OFFSET(Очки!$A$20,2+E30-F30,IF(D30=1,13-E30,10+D30)),0) -> 0 | O30: =OFFSET(Очки!$A$2,I30,G30+OFFSET(Очки!$A$18,0,$C$31-1)-1) -> 0 | P30: =IF(I30<H30,OFFSET(Очки!$A$20,2+H30-I30,IF(G30=1,13-H30,10+G30)),0) -> 0 | S30: =SUM(J30:R30) -> 0
B31: Всего участников | C31: =COUNTA(B6:B30) -> 14

Sheet 07.05
A1: Лайт Лига 07.05.2019 (конфигурация 1)
A3: Место | B3: Участник | D3: 1 | G3: 2 | J3: Очки | S3: Сумма
C4: Довес | D4: группа | E4: Старт | F4: Финиш | G4: группа | H4: Старт | I4: Финиш | J4: Квала | K4: 1 | O4: 2
K5: очки | L5: обгоны | M5: время | N5: штрафы | O5: очки | P5: обгоны | Q5: время | R5: штрафы
A6: =RANK(S6,S$6:OFFSET(S$6,0,0,COUNTA(B$6:B$30))) -> 1 | B6: Муляр Андрей/Mular Andrew | C6: - | D6: 1 | E6: 7 | F6: 1 | G6: 1 | H6: 9 | I6: 2 | J6: 1 | K6: =OFFSET(Очки!$A$2,F6,D6+OFFSET(Очки!$A$18,0,$C$31-1)-1) -> 15 | L6: =IF(F6<E6,OFFSET(Очки!$A$20,2+E6-F6,IF(D6=1,13-E6,10+D6)),0) -> 5.2 | M6: 2 | O6: =OFFSET(Очки!$A$2,I6,G6+OFFSET(Очки!$A$18,0,$C$31-1)-1) -> 14 | P6: =IF(I6<H6,OFFSET(Очки!$A$20,2+H6-I6,IF(G6=1,13-H6,10+G6)),0) -> 6.9 | R6: -3 | S6: =SUM(J6:R6) -> 41.1
A7: =RANK(S7,S$6:OFFSET(S$6,0,0,COUNTA(B$6:B$30))) -> 2 | B7: Лихошерст Леша/LYKHOSHERST ALEKSEY | C7: - | D7: 1 | E7: 10 | F7: 2 | G7: 1 | H7: 4 | I7: 3 | J7: 2.5 | K7: =OFFSET(Очки!$A$2,F7,D7+OFFSET(Очки!$A$18,0,$C$31-1)-1) -> 14 | L7: =IF(F7<E7,OFFSET(Очки!$A$20,2+E7-F7,IF(D7=1,13-E7,10+D7)),0) -> 8.1 | O7: =OFFSET(Очки!$A$2,I7,G7+OFFSET(Очки!$A$18,0,$C$31-1)-1) -> 13 | P7: =IF(I7<H7,OFFSET(Очки!$A$20,2+H7-I7,IF(G7=1,13-H7,10+G7)),0) -> 0.8 | Q7: 2.5 | S7: =SUM(J7:R7) -> 40.9
A8: =RANK(S8,S$6:OFFSET(S$6,0,0,COUNTA(B$6:B$30))) -> 3 | B8: Плакидюк Виталий/PLAKYDIUK VITALII | D8: 1 | E8: 9 | F8: 5 | G8: 1 | H8: 10 | I8: 4 | J8: 2 | K8: =OFFSET(Очки!$A$2,F8,D8+OFFSET(Очки!$A$18,0,$C$31-1)-1) -> 11 | L8: =IF(F8<E8,OFFSET(Очки!$A$20,2+E8-F8,IF(D8=1,13-E8,10+D8)),0) -> 4.5 | M8: 2.5 | O8: =OFFSET(Очки!$A$2,I8,G8+OFFSET(Очки!$A$18,0,$C$31-1)-1) -> 12 | P8: =IF(I8<H8,OFFSET(Очки!$A$20,2+H8-I8,IF(G8=1,13-H8,10+G8)),0) -> 6.6 | Q8: 1.5 | S8: =SUM(J8:R8) -> 40.1
A9: =RANK(S9,S$6:OFFSET(S$6,0,0,COUNTA(B$6:B$30))) -> 4 | B9: Якусик Саша/Yakusik Alex | C9: - | D9: 1 | E9: 4 | F9: 3 | G9: 1 | H9: 5 | I9: 1 | K9: =OFFSET(Очки!$A$2,F9,D9+OFFSET(Очки!$A$18,0,$C$31-1)-1) -> 13 | L9: =IF(F9<E9,OFFSET(Очки!$A$20,2+E9-F9,IF(D9=1,13-E9,10+D9)),0) -> 0.8 | O9: =OFFSET(Очки!$A$2,I9,G9+OFFSET(Очки!$A$18,0,$C$31-1)-1) -> 15 | P9: =IF(I9<H9,OFFSET(Очки!$A$20,2+H9-I9,IF(G9=1,13-H9,10+G9)),0) -> 3.1 | S9: =SUM(J9:R9) -> 31.9
A10: =RANK(S10,S$6:OFFSET(S$6,0,0,COUNTA(B$6:B$30))) -> 5 | B10: Родин Артем/ Rodin Artem | D10: 1 | E10: 8 | F10: 6 | G10: 1 | H10: 6 | I10: 4 | J10: 1.5 | K10: =OFFSET(Очки!$A$2,F10,D10+OFFSET(Очки!$A$18,0,$C$31-1)-1) -> 10.5 | L10: =IF(F10<E10,OFFSET(Очки!$A$20,2+E10-F10,IF(D10=1,13-E10,10+D10)),0) -> 2.3 | M10: 0.5 | O10: =OFFSET(Очки!$A$2,I10,G10+OFFSET(Очки!$A$18,0,$C$31-1)-1) -> 12 | P10: =IF(I10<H10,OFFSET(Очки!$A$20,2+H10-I10,IF(G10=1,13-H10,10+G10)),0) -> 1.9 | Q10: 0.5 | S10: =SUM(J10:R10) -> 29.2
A11: =RANK(S11,S$6:OFFSET(S$6,0,0,COUNTA(B$6:B$30))) -> 6 | B11: Гончаров Рома/GONCHAROV ROMAN | C11: 17.5 | D11: 1 | E11: 5 | F11: 4 | G11: 1 | H11: 7 | I11: 6 | K11: =OFFSET(Очки!$A$2,F11,D11+OFFSET(Очки!$A$18,0,$C$31-1)-1) -> 12 | L11: =IF(F11<E11,OFFSET(Очки!$A$20,2+E11-F11,IF(D11=1,13-E11,10+D11)),0) -> 0.9 | M11: 1 | O11: =OFFSET(Очки!$A$2,I11,G11+OFFSET(Очки!$A$18,0,$C$31-1)-1) -> 10.5 | P11: =IF(I11<H11,OFFSET(Очки!$A$20,2+H11-I11,IF(G11=1,13-H11,10+G11)),0) -> 1.1 | Q11: 2 | S11: =SUM(J11:R11) -> 27.5
A12: =RANK(S12,S$6:OFFSET(S$6,0,0,COUNTA(B$6:B$30))) -> 7 | B12: Купцов Паша/Kuptsov Pavel | D12: 1 | E12: 6 | F12: 9 | G12: 1 | H12: 8 | I12: 10 | J12: 0.5 | K12: =OFFSET(Очки!$A$2,F12,D12+OFFSET(Очки!$A$18,0,$C$31-1)-1) -> 9 | L12: =IF(F12<E12,OFFSET(Очки!$A$20,2+E12-F12,IF(D12=1,13-E12,10+D12)),0) -> 0 | M12: 1.5 | N12: -1 | O12: =OFFSET(Очки!$A$2,I12,G12+OFFSET(Очки!$A$18,0,$C$31-1)-1) -> 8.5 | P12: =IF(I12<H12,OFFSET(Очки!$A$20,2+H12-I12,IF(G12=1,13-H12,10+G12)),0) -> 0 | Q12: 1 | S12: =SUM(J12:R12) -> 19.5
A13: =RANK(S13,S$6:OFFSET(S$6,0,0,COUNTA(B$6:B$30))) -> 7 | B13: Мыхайлык Миша/MYKHAILYK MICHAEL | C13: 15 | D13: 1 | E13: 2 | F13: 8 | G13: 1 | H13: 3 | I13: 7 | K13: =OFFSET(Очки!$A$2,F13,D13+OFFSET(Очки!$A$18,0,$C$31-1)-1) -> 9.5 | L13: =IF(F13<E13,OFFSET(Очки!$A$20,2+E13-F13,IF(D13=1,13-E13,10+D13)),0) -> 0 | O13: =OFFSET(Очки!$A$2,I13,G13+OFFSET(Очки!$A$18,0,$C$31-1)-1) -> 10 | P13: =IF(I13<H13,OFFSET(Очки!$A$20,2+H13-I13,IF(G13=1,13-H13,10+G13)),0) -> 0 | S13: =SUM(J13:R13) -> 19.5
A14: =RANK(S14,S$6:OFFSET(S$6,0,0,COUNTA(B$6:B$30))) -> 9 | B14: Новик Миша/NOVIK MIKHAIL | C14: 2.5 | D14: 1 | E14: 1 | F14: 7 | G14: 1 | H14: 2 | I14: 9 | K14: =OFFSET(Очки!$A$2,F14,D14+OFFSET(Очки!$A$18,0,$C$31-1)-1) -> 10 | L14: =IF(F14<E14,OFFSET(Очки!$A$20,2+E14-F14,IF(D14=1,13-E14,10+D14)),0) -> 0 | O14: =OFFSET(Очки!$A$2,I14,G14+OFFSET(Очки!$A$18,0,$C$31-1)-1) -> 9 | P14: =IF(I14<H14,OFFSET(Очки!$A$20,2+H14-I14,IF(G14=1,13-H14,10+G14)),0) -> 0 | S14: =SUM(J14:R14) -> 19
A15: =RANK(S15,S$6:OFFSET(S$6,0,0,COUNTA(B$6:B$30))) -> 10 | B15: Сосин Михаил/SOSIN MIKHAIL | C15: - | D15: 1 | E15: 3 | F15: 10 | G15: 1 | H15: 1 | I15: 8 | K15: =OFFSET(Очки!$A$2,F15,D15+OFFSET(Очки!$A$18,0,$C$31-1)-1) -> 8.5 | L15: =IF(F15<E15,OFFSET(Очки!$A$20,2+E15-F15,IF(D15=1,13-E15,10+D15)),0) -> 0 | O15: =OFFSET(Очки!$A$2,I15,G15+OFFSET(Очки!$A$18,0,$C$31-1)-1) -> 9.5 | P15: =IF(I15<H15,OFFSET(Очки!$A$20,2+H15-I15,IF(G15=1,13-H15,10+G15)),0) -> 0 | S15: =SUM(J15:R15) -> 18
A16: =RANK(S16,S$6:OFFSET(S$6,0,0,COUNTA(B$6:B$30))) -> #N/A | C16: - | K16: =OFFSET(Очки!$A$2,F16,D16+OFFSET(Очки!$A$18,0,$C$31-1)-1) -> 0 | L16: =IF(F16<E16,OFFSET(Очки!$A$20,2+E16-F16,IF(D16=1,13-E16,10+D16)),0) -> 0 | O16: =OFFSET(Очки!$A$2,I16,G16+OFFSET(Очки!$A$18,0,$C$31-1)-1) -> 0 | P16: =IF(I16<H16,OFFSET(Очки!$A$20,2+H16-I16,IF(G16=1,13-H16,10+G16)),0) -> 0 | S16: =SUM(J16:R16) -> 0
A17: =RANK(S17,S$6:OFFSET(S$6,0,0,COUNTA(B$6:B$30))) -> #N/A | C17: - | K17: =OFFSET(Очки!$A$2,F17,D17+OFFSET(Очки!$A$18,0,$C$31-1)-1) -> 0 | L17: =IF(F17<E17,OFFSET(Очки!$A$20,2+E17-F17,IF(D17=1,13-E17,10+D17)),0) -> 0 | O17: =OFFSET(Очки!$A$2,I17,G17+OFFSET(Очки!$A$18,0,$C$31-1)-1) -> 0 | P17: =IF(I17<H17,OFFSET(Очки!$A$20,2+H17-I17,IF(G17=1,13-H17,10+G17)),0) -> 0 | S17: =SUM(J17:R17) -> 0
A18: =RANK(S18,S$6:OFFSET(S$6,0,0,COUNTA(B$6:B$30))) -> #N/A | C18: - | K18: =OFFSET(Очки!$A$2,F18,D18+OFFSET(Очки!$A$18,0,$C$31-1)-1) -> 0 | L18: =IF(F18<E18,OFFSET(Очки!$A$20,2+E18-F18,IF(D18=1,13-E18,10+D18)),0) -> 0 | O18: =OFFSET(Очки!$A$2,I18,G18+OFFSET(Очки!$A$18,0,$C$31-1)-1) -> 0 | P18: =IF(I18<H18,OFFSET(Очки!$A$20,2+H18-I18,IF(G18=1,13-H18,10+G18)),0) -> 0 | S18: =SUM(J18:R18) -> 0
A19: =RANK(S19,S$6:OFFSET(S$6,0,0,COUNTA(B$6:B$30))) -> #N/A | C19: - | K19: =OFFSET(Очки!$A$2,F19,D19+OFFSET(Очки!$A$18,0,$C$31-1)-1) -> 0 | L19: =IF(F19<E19,OFFSET(Очки!$A$20,2+E19-F19,IF(D19=1,13-E19,10+D19)),0) -> 0 | O19: =OFFSET(Очки!$A$2,I19,G19+OFFSET(Очки!$A$18,0,$C$31-1)-1) -> 0 | P19: =IF(I19<H19,OFFSET(Очки!$A$20,2+H19-I19,IF(G19=1,13-H19,10+G19)),0) -> 0 | S19: =SUM(J19:R19) -> 0
A20: =RANK(S20,S$6:OFFSET(S$6,0,0,COUNTA(B$6:B$30))) -> #N/A | C20: - | K20: =OFFSET(Очки!$A$2,F20,D20+OFFSET(Очки!$A$18,0,$C$31-1)-1) -> 0 | L20: =IF(F20<E20,OFFSET(Очки!$A$20,2+E20-F20,IF(D20=1,13-E20,10+D20)),0) -> 0 | O20: =OFFSET(Очки!$A$2,I20,G20+OFFSET(Очки!$A$18,0,$C$31-1)-1) -> 0 | P20: =IF(I20<H20,OFFSET(Очки!$A$20,2+H20-I20,IF(G20=1,13-H20,10+G20)),0) -> 0 | S20: =SUM(J20:R20) -> 0
A21: =RANK(S21,S$6:OFFSET(S$6,0,0,COUNTA(B$6:B$30))) -> #N/A | C21: - | K21: =OFFSET(Очки!$A$2,F21,D21+OFFSET(Очки!$A$18,0,$C$31-1)-1) -> 0 | L21: =IF(F21<E21,OFFSET(Очки!$A$20,2+E21-F21,IF(D21=1,13-E21,10+D21)),0) -> 0 | O21: =OFFSET(Очки!$A$2,I21,G21+OFFSET(Очки!$A$18,0,$C$31-1)-1) -> 0 | P21: =IF(I21<H21,OFFSET(Очки!$A$20,2+H21-I21,IF(G21=1,13-H21,10+G21)),0) -> 0 | S21: =SUM(J21:R21) -> 0
A22: =RANK(S22,S$6:OFFSET(S$6,0,0,COUNTA(B$6:B$30))) -> #N/A | C22: - | K22: =OFFSET(Очки!$A$2,F22,D22+OFFSET(Очки!$A$18,0,$C$31-1)-1) -> 0 | L22: =IF(F22<E22,OFFSET(Очки!$A$20,2+E22-F22,IF(D22=1,13-E22,10+D22)),0) -> 0 | O22: =OFFSET(Очки!$A$2,I22,G22+OFFSET(Очки!$A$18,0,$C$31-1)-1) -> 0 | P22: =IF(I22<H22,OFFSET(Очки!$A$20,2+H22-I22,IF(G22=1,13-H22,10+G22)),0) -> 0 | S22: =SUM(J22:R22) -> 0
A23: =RANK(S23,S$6:OFFSET(S$6,0,0,COUNTA(B$6:B$30))) -> #N/A | C23: - | K23: =OFFSET(Очки!$A$2,F23,D23+OFFSET(Очки!$A$18,0,$C$31-1)-1) -> 0 | L23: =IF(F23<E23,OFFSET(Очки!$A$20,2+E23-F23,IF(D23=1,13-E23,10+D23)),0) -> 0 | O23: =OFFSET(Очки!$A$2,I23,G23+OFFSET(Очки!$A$18,0,$C$31-1)-1) -> 0 | P23: =IF(I23<H23,OFFSET(Очки!$A$20,2+H23-I23,IF(G23=1,13-H23,10+G23)),0) -> 0 | S23: =SUM(J23:R23) -> 0
A24: =RANK(S24,S$6:OFFSET(S$6,0,0,COUNTA(B$6:B$30))) -> #N/A | C24: - | K24: =OFFSET(Очки!$A$2,F24,D24+OFFSET(Очки!$A$18,0,$C$31-1)-1) -> 0 | L24: =IF(F24<E24,OFFSET(Очки!$A$20,2+E24-F24,IF(D24=1,13-E24,10+D24)),0) -> 0 | O24: =OFFSET(Очки!$A$2,I24,G24+OFFSET(Очки!$A$18,0,$C$31-1)-1) -> 0 | P24: =IF(I24<H24,OFFSET(Очки!$A$20,2+H24-I24,IF(G24=1,13-H24,10+G24)),0) -> 0 | S24: =SUM(J24:R24) -> 0
A25: =RANK(S25,S$6:OFFSET(S$6,0,0,COUNTA(B$6:B$30))) -> #N/A | C25: - | K25: =OFFSET(Очки!$A$2,F25,D25+OFFSET(Очки!$A$18,0,$C$31-1)-1) -> 0 | L25: =IF(F25<E25,OFFSET(Очки!$A$20,2+E25-F25,IF(D25=1,13-E25,10+D25)),0) -> 0 | O25: =OFFSET(Очки!$A$2,I25,G25+OFFSET(Очки!$A$18,0,$C$31-1)-1) -> 0 | P25: =IF(I25<H25,OFFSET(Очки!$A$20,2+H25-I25,IF(G25=1,13-H25,10+G25)),0) -> 0 | S25: =SUM(J25:R25) -> 0
A26: =RANK(S26,S$6:OFFSET(S$6,0,0,COUNTA(B$6:B$30))) -> #N/A | C26: - | K26: =OFFSET(Очки!$A$2,F26,D26+OFFSET(Очки!$A$18,0,$C$31-1)-1) -> 0 | L26: =IF(F26<E26,OFFSET(Очки!$A$20,2+E26-F26,IF(D26=1,13-E26,10+D26)),0) -> 0 | O26: =OFFSET(Очки!$A$2,I26,G26+OFFSET(Очки!$A$18,0,$C$31-1)-1) -> 0 | P26: =IF(I26<H26,OFFSET(Очки!$A$20,2+H26-I26,IF(G26=1,13-H26,10+G26)),0) -> 0 | S26: =SUM(J26:R26) -> 0
A27: =RANK(S27,S$6:OFFSET(S$6,0,0,COUNTA(B$6:B$30))) -> #N/A | C27: - | K27: =OFFSET(Очки!$A$2,F27,D27+OFFSET(Очки!$A$18,0,$C$31-1)-1) -> 0 | L27: =IF(F27<E27,OFFSET(Очки!$A$20,2+E27-F27,IF(D27=1,13-E27,10+D27)),0) -> 0 | O27: =OFFSET(Очки!$A$2,I27,G27+OFFSET(Очки!$A$18,0,$C$31-1)-1) -> 0 | P27: =IF(I27<H27,OFFSET(Очки!$A$20,2+H27-I27,IF(G27=1,13-H27,10+G27)),0) -> 0 | S27: =SUM(J27:R27) -> 0
... A30: =RANK(S30,S$6:OFFSET(S$6,0,0,COUNTA(B$6:B$30))) -> #N/A | C30: - | K30: =OFFSET(Очки!$A$2,F30,D30+OFFSET(Очки!$A$18,0,$C$31-1)-1) -> 0 | L30: =IF(F30<E30,OFFSET(Очки!$A$20,2+E30-F30,IF(D30=1,13-E30,10+D30)),0) -> 0 | O30: =OFFSET(Очки!$A$2,I30,G30+OFFSET(Очки!$A$18,0,$C$31-1)-1) -> 0 | P30: =IF(I30<H30,OFFSET(Очки!$A$20,2+H30-I30,IF(G30=1,13-H30,10+G30)),0) -> 0 | S30: =SUM(J30:R30) -> 0
B31: Всего участников | C31: =COUNTA(B6:B30) -> 10

Sheet 12121 (8)
A1: Лайт Лига 07.05.2019 (конфигурация 6)
A3: Место | B3: Участник | D3: 1 | G3: 2 | J3: Очки | S3: Сумма
C4: Довес | D4: группа | E4: Старт | F4: Финиш | G4: группа | H4: Старт | I4: Финиш | J4: Квала | K4: 1 | O4: 2
K5: очки | L5: обгоны | M5: время | N5: штрафы | O5: очки | P5: обгоны | Q5: время | R5: штрафы
A6: =RANK(S6,S$6:OFFSET(S$6,0,0,COUNTA(B$6:B$30))) -> 1 | B6: ненмнепм | C6: - | D6: 1 | E6: 5 | F6: 5 | K6: =OFFSET(Очки!$A$2,F6,D6+OFFSET(Очки!$A$18,0,$C$31-1)-1) -> 11 | L6: =IF(F6<E6,OFFSET(Очки!$A$20,2+E6-F6,IF(D6=1,13-E6,10+D6)),0) -> 0 | O6: =OFFSET(Очки!$A$2,I6,G6+OFFSET(Очки!$A$18,0,$C$31-1)-1) -> 0 | P6: =IF(I6<H6,OFFSET(Очки!$A$20,2+H6-I6,IF(G6=1,13-H6,10+G6)),0) -> 0 | S6: =SUM(J6:R6) -> 11
A7: =RANK(S7,S$6:OFFSET(S$6,0,0,COUNTA(B$6:B$30))) -> #N/A | C7: - | K7: =OFFSET(Очки!$A$2,F7,D7+OFFSET(Очки!$A$18,0,$C$31-1)-1) -> 0 | L7: =IF(F7<E7,OFFSET(Очки!$A$20,2+E7-F7,IF(D7=1,13-E7,10+D7)),0) -> 0 | O7: =OFFSET(Очки!$A$2,I7,G7+OFFSET(Очки!$A$18,0,$C$31-1)-1) -> 0 | P7: =IF(I7<H7,OFFSET(Очки!$A$20,2+H7-I7,IF(G7=1,13-H7,10+G7)),0) -> 0 | S7: =SUM(J7:R7) -> 0
A8: =RANK(S8,S$6:OFFSET(S$6,0,0,COUNTA(B$6:B$30))) -> #N/A | C8: - | K8: =OFFSET(Очки!$A$2,F8,D8+OFFSET(Очки!$A$18,0,$C$31-1)-1) -> 0 | L8: =IF(F8<E8,OFFSET(Очки!$A$20,2+E8-F8,IF(D8=1,13-E8,10+D8)),0) -> 0 | O8: =OFFSET(Очки!$A$2,I8,G8+OFFSET(Очки!$A$18,0,$C$31-1)-1) -> 0 | P8: =IF(I8<H8,OFFSET(Очки!$A$20,2+H8-I8,IF(G8=1,13-H8,10+G8)),0) -> 0 | S8: =SUM(J8:R8) -> 0
A9: =RANK(S9,S$6:OFFSET(S$6,0,0,COUNTA(B$6:B$30))) -> #N/A | C9: - | K9: =OFFSET(Очки!$A$2,F9,D9+OFFSET(Очки!$A$18,0,$C$31-1)-1) -> 0 | L9: =IF(F9<E9,OFFSET(Очки!$A$20,2+E9-F9,IF(D9=1,13-E9,10+D9)),0) -> 0 | O9: =OFFSET(Очки!$A$2,I9,G9+OFFSET(Очки!$A$18,0,$C$31-1)-1) -> 0 | P9: =IF(I9<H9,OFFSET(Очки!$A$20,2+H9-I9,IF(G9=1,13-H9,10+G9)),0) -> 0 | S9: =SUM(J9:R9) -> 0
A10: =RANK(S10,S$6:OFFSET(S$6,0,0,COUNTA(B$6:B$30))) -> #N/A | C10: - | K10: =OFFSET(Очки!$A$2,F10,D10+OFFSET(Очки!$A$18,0,$C$31-1)-1) -> 0 | L10: =IF(F10<E10,OFFSET(Очки!$A$20,2+E10-F10,IF(D10=1,13-E10,10+D10)),0) -> 0 | O10: =OFFSET(Очки!$A$2,I10,G10+OFFSET(Очки!$A$18,0,$C$31-1)-1) -> 0 | P10: =IF(I10<H10,OFFSET(Очки!$A$20,2+H10-I10,IF(G10=1,13-H10,10+G10)),0) -> 0 | S10: =SUM(J10:R10) -> 0
A11: =RANK(S11,S$6:OFFSET(S$6,0,0,COUNTA(B$6:B$30))) -> #N/A | C11: - | K11: =OFFSET(Очки!$A$2,F11,D11+OFFSET(Очки!$A$18,0,$C$31-1)-1) -> 0 | L11: =IF(F11<E11,OFFSET(Очки!$A$20,2+E11-F11,IF(D11=1,13-E11,10+D11)),0) -> 0 | O11: =OFFSET(Очки!$A$2,I11,G11+OFFSET(Очки!$A$18,0,$C$31-1)-1) -> 0 | P11: =IF(I11<H11,OFFSET(Очки!$A$20,2+H11-I11,IF(G11=1,13-H11,10+G11)),0) -> 0 | S11: =SUM(J11:R11) -> 0
A12: =RANK(S12,S$6:OFFSET(S$6,0,0,COUNTA(B$6:B$30))) -> #N/A | C12: - | K12: =OFFSET(Очки!$A$2,F12,D12+OFFSET(Очки!$A$18,0,$C$31-1)-1) -> 0 | L12: =IF(F12<E12,OFFSET(Очки!$A$20,2+E12-F12,IF(D12=1,13-E12,10+D12)),0) -> 0 | O12: =OFFSET(Очки!$A$2,I12,G12+OFFSET(Очки!$A$18,0,$C$31-1)-1) -> 0 | P12: =IF(I12<H12,OFFSET(Очки!$A$20,2+H12-I12,IF(G12=1,13-H12,10+G12)),0) -> 0 | S12: =SUM(J12:R12) -> 0
A13: =RANK(S13,S$6:OFFSET(S$6,0,0,COUNTA(B$6:B$30))) -> #N/A | C13: - | K13: =OFFSET(Очки!$A$2,F13,D13+OFFSET(Очки!$A$18,0,$C$31-1)-1) -> 0 | L13: =IF(F13<E13,OFFSET(Очки!$A$20,2+E13-F13,IF(D13=1,13-E13,10+D13)),0) -> 0 | O13: =OFFSET(Очки!$A$2,I13,G13+OFFSET(Очки!$A$18,0,$C$31-1)-1) -> 0 | P13: =IF(I13<H13,OFFSET(Очки!$A$20,2+H13-I13,IF(G13=1,13-H13,10+G13)),0) -> 0 | S13: =SUM(J13:R13) -> 0
A14: =RANK(S14,S$6:OFFSET(S$6,0,0,COUNTA(B$6:B$30))) -> #N/A | C14: - | K14: =OFFSET(Очки!$A$2,F14,D14+OFFSET(Очки!$A$18,0,$C$31-1)-1) -> 0 | L14: =IF(F14<E14,OFFSET(Очки!$A$20,2+E14-F14,IF(D14=1,13-E14,10+D14)),0) -> 0 | O14: =OFFSET(Очки!$A$2,I14,G14+OFFSET(Очки!$A$18,0,$C$31-1)-1) -> 0 | P14: =IF(I14<H14,OFFSET(Очки!$A$20,2+H14-I14,IF(G14=1,13-H14,10+G14)),0) -> 0 | S14: =SUM(J14:R14) -> 0
A15: =RANK(S15,S$6:OFFSET(S$6,0,0,COUNTA(B$6:B$30))) -> #N/A | C15: - | K15: =OFFSET(Очки!$A$2,F15,D15+OFFSET(Очки!$A$18,0,$C$31-1)-1) -> 0 | L15: =IF(F15<E15,OFFSET(Очки!$A$20,2+E15-F15,IF(D15=1,13-E15,10+D15)),0) -> 0 | O15: =OFFSET(Очки!$A$2,I15,G15+OFFSET(Очки!$A$18,0,$C$31-1)-1) -> 0 | P15: =IF(I15<H15,OFFSET(Очки!$A$20,2+H15-I15,IF(G15=1,13-H15,10+G15)),0) -> 0 | S15: =SUM(J15:R15) -> 0
A16: =RANK(S16,S$6:OFFSET(S$6,0,0,COUNTA(B$6:B$30))) -> #N/A | C16: - | K16: =OFFSET(Очки!$A$2,F16,D16+OFFSET(Очки!$A$18,0,$C$31-1)-1) -> 0 | L16: =IF(F16<E16,OFFSET(Очки!$A$20,2+E16-F16,IF(D16=1,13-E16,10+D16)),0) -> 0 | O16: =OFFSET(Очки!$A$2,I16,G16+OFFSET(Очки!$A$18,0,$C$31-1)-1) -> 0 | P16: =IF(I16<H16,OFFSET(Очки!$A$20,2+H16-I16,IF(G16=1,13-H16,10+G16)),0) -> 0 | S16: =SUM(J16:R16) -> 0
A17: =RANK(S17,S$6:OFFSET(S$6,0,0,COUNTA(B$6:B$30))) -> #N/A | C17: - | K17: =OFFSET(Очки!$A$2,F17,D17+OFFSET(Очки!$A$18,0,$C$31-1)-1) -> 0 | L17: =IF(F17<E17,OFFSET(Очки!$A$20,2+E17-F17,IF(D17=1,13-E17,10+D17)),0) -> 0 | O17: =OFFSET(Очки!$A$2,I17,G17+OFFSET(Очки!$A$18,0,$C$31-1)-1) -> 0 | P17: =IF(I17<H17,OFFSET(Очки!$A$20,2+H17-I17,IF(G17=1,13-H17,10+G17)),0) -> 0 | S17: =SUM(J17:R17) -> 0
A18: =RANK(S18,S$6:OFFSET(S$6,0,0,COUNTA(B$6:B$30))) -> #N/A | C18: - | K18: =OFFSET(Очки!$A$2,F18,D18+OFFSET(Очки!$A$18,0,$C$31-1)-1) -> 0 | L18: =IF(F18<E18,OFFSET(Очки!$A$20,2+E18-F18,IF(D18=1,13-E18,10+D18)),0) -> 0 | O18: =OFFSET(Очки!$A$2,I18,G18+OFFSET(Очки!$A$18,0,$C$31-1)-1) -> 0 | P18: =IF(I18<H18,OFFSET(Очки!$A$20,2+H18-I18,IF(G18=1,13-H18,10+G18)),0) -> 0 | S18: =SUM(J18:R18) -> 0
... A30: =RANK(S30,S$6:OFFSET(S$6,0,0,COUNTA(B$6:B$30))) -> #N/A | C30: - | K30: =OFFSET(Очки!$A$2,F30,D30+OFFSET(Очки!$A$18,0,$C$31-1)-1) -> 0 | L30: =IF(F30<E30,OFFSET(Очки!$A$20,2+E30-F30,IF(D30=1,13-E30,10+D30)),0) -> 0 | O30: =OFFSET(Очки!$A$2,I30,G30+OFFSET(Очки!$A$18,0,$C$31-1)-1) -> 0 | P30: =IF(I30<H30,OFFSET(Очки!$A$20,2+H30-I30,IF(G30=1,13-H30,10+G30)),0) -> 0 | S30: =SUM(J30:R30) -> 0
B31: Всего участников | C31: =COUNTA(B6:B30) -> 1
