Workbook

Sheet Рейтинг
A1: Таблица рейтинга Лиги Чемпионов, 2-й сезон 2018
A3: Мес-то | B3: Пилот | C3: 1 | D3: 43271 | E3: 2 | F3: 27.07..18 | G3: 3 | H3: 43285 | I3: 4 | J3: 43292 | K3: 5 | L3: 43299 | M3: 6 | N3: 43306 | O3: 7 | P3: 43313 | Q3: 8 | R3: 43320 | S3: 9 | T3: 43327 | U3: 10 | V3: 43334
C4: Очки | D4: Рейтинг | E4: Очки | F4: Рейтинг | G4: Очки | H4: Рейтинг | I4: Очки | J4: Рейтинг | K4: Очки | L4: Рейтинг | M4: Очки | N4: Рейтинг | O4: Очки | P4: Рейтинг | Q4: Очки | R4: Рейтинг | S4: Очки | T4: Рейтинг | U4: Очки | V4: Рейтинг
A5: =A4+1 -> 1 | B5: Наум / Vintoniv Ivan | C5: 50.2 | D5: =C5/3*10 -> 167.33333 | E5: 56.5 | F5: =IF(E5>0,IF(D5>0,(D5*C$3+E5*10/3)/E$3,E5*10/3*(1-0.1*C$3)),IF(D5>10,D5*0.9,D5)) -> 177.83333 | H5: =IF(G5>0,IF(F5>0,(F5*E$3+G5*10/3)/G$3,G5*10/3*(1-0.1*E$3)),IF(F5>10,F5*0.9,F5)) -> 160.05 | J5: =IF(I5>0,IF(H5>0,(H5*G$3+I5*10/3)/I$3,I5*10/3*(1-0.1*G$3)),IF(H5>10,H5*0.9,H5)) -> 144.045 | L5: =IF(K5>0,IF(J5>0,(J5*I$3+K5*10/3)/K$3,K5*10/3*(1-0.1*I$3)),IF(J5>10,J5*0.9,J5)) -> 129.6405 | N5: =IF(M5>0,IF(L5>0,(L5*K$3+M5*10/3)/M$3,M5*10/3*(1-0.1*K$3)),IF(L5>10,L5*0.9,L5)) -> 116.67645 | P5: =IF(O5>0,IF(N5>0,(N5*M$3+O5*10/3)/O$3,O5*10/3*(1-0.1*M$3)),IF(N5>10,N5*0.9,N5)) -> 105.00881 | R5: =IF(Q5>0,IF(P5>0,(P5*O$3+Q5*10/3)/Q$3,Q5*10/3*(1-0.1*O$3)),IF(P5>10,P5*0.9,P5)) -> 94.507925 | T5: =IF(S5>0,IF(R5>0,(R5*Q$3+S5*10/3)/S$3,S5*10/3*(1-0.1*Q$3)),IF(R5>10,R5*0.9,R5)) -> 85.057132 | V5: =IF(U5>0,IF(T5>0,(T5*S$3+U5*10/3)/U$3,U5*10/3*(1-0.1*S$3)),IF(T5>10,T5*0.9,T5)) -> 76.551419
A6: =A5+1 -> 2 | B6: Манило Денис / Manilo Denis | C6: 53.7 | D6: =C6/3*10 -> 179 | E6: 51.6 | F6: =IF(E6>0,IF(D6>0,(D6*C$3+E6*10/3)/E$3,E6*10/3*(1-0.1*C$3)),IF(D6>10,D6*0.9,D6)) -> 175.5 | H6: =IF(G6>0,IF(F6>0,(F6*E$3+G6*10/3)/G$3,G6*10/3*(1-0.1*E$3)),IF(F6>10,F6*0.9,F6)) -> 157.95 | J6: =IF(I6>0,IF(H6>0,(H6*G$3+I6*10/3)/I$3,I6*10/3*(1-0.1*G$3)),IF(H6>10,H6*0.9,H6)) -> 142.155 | L6: =IF(K6>0,IF(J6>0,(J6*I$3+K6*10/3)/K$3,K6*10/3*(1-0.1*I$3)),IF(J6>10,J6*0.9,J6)) -> 127.9395 | N6: =IF(M6>0,IF(L6>0,(L6*K$3+M6*10/3)/M$3,M6*10/3*(1-0.1*K$3)),IF(L6>10,L6*0.9,L6)) -> 115.14555 | P6: =IF(O6>0,IF(N6>0,(N6*M$3+O6*10/3)/O$3,O6*10/3*(1-0.1*M$3)),IF(N6>10,N6*0.9,N6)) -> 103.631 | R6: =IF(Q6>0,IF(P6>0,(P6*O$3+Q6*10/3)/Q$3,Q6*10/3*(1-0.1*O$3)),IF(P6>10,P6*0.9,P6)) -> 93.267896 | T6: =IF(S6>0,IF(R6>0,(R6*Q$3+S6*10/3)/S$3,S6*10/3*(1-0.1*Q$3)),IF(R6>10,R6*0.9,R6)) -> 83.941106 | V6: =IF(U6>0,IF(T6>0,(T6*S$3+U6*10/3)/U$3,U6*10/3*(1-0.1*S$3)),IF(T6>10,T6*0.9,T6)) -> 75.546995
A7: =A6+1 -> 3 | B7: Шутка Виталий/Shutka Vitaliy | D7: =C7/3*10 -> 0 | E7: 47.8 | F7: =IF(E7>0,IF(D7>0,(D7*C$3+E7*10/3)/E$3,E7*10/3*(1-0.1*C$3)),IF(D7>10,D7*0.9,D7)) -> 143.4 | H7: =IF(G7>0,IF(F7>0,(F7*E$3+G7*10/3)/G$3,G7*10/3*(1-0.1*E$3)),IF(F7>10,F7*0.9,F7)) -> 129.06 | J7: =IF(I7>0,IF(H7>0,(H7*G$3+I7*10/3)/I$3,I7*10/3*(1-0.1*G$3)),IF(H7>10,H7*0.9,H7)) -> 116.154 | L7: =IF(K7>0,IF(J7>0,(J7*I$3+K7*10/3)/K$3,K7*10/3*(1-0.1*I$3)),IF(J7>10,J7*0.9,J7)) -> 104.5386 | N7: =IF(M7>0,IF(L7>0,(L7*K$3+M7*10/3)/M$3,M7*10/3*(1-0.1*K$3)),IF(L7>10,L7*0.9,L7)) -> 94.08474 | P7: =IF(O7>0,IF(N7>0,(N7*M$3+O7*10/3)/O$3,O7*10/3*(1-0.1*M$3)),IF(N7>10,N7*0.9,N7)) -> 84.676266 | R7: =IF(Q7>0,IF(P7>0,(P7*O$3+Q7*10/3)/Q$3,Q7*10/3*(1-0.1*O$3)),IF(P7>10,P7*0.9,P7)) -> 76.208639 | T7: =IF(S7>0,IF(R7>0,(R7*Q$3+S7*10/3)/S$3,S7*10/3*(1-0.1*Q$3)),IF(R7>10,R7*0.9,R7)) -> 68.587775 | V7: =IF(U7>0,IF(T7>0,(T7*S$3+U7*10/3)/U$3,U7*10/3*(1-0.1*S$3)),IF(T7>10,T7*0.9,T7)) -> 61.728998
A8: =A7+1 -> 4 | B8: Хавило Дима / Khavilo Dima | C8: 48.9 | D8: =C8/3*10 -> 163 | E8: 46.6 | F8: =IF(E8>0,IF(D8>0,(D8*C$3+E8*10/3)/E$3,E8*10/3*(1-0.1*C$3)),IF(D8>10,D8*0.9,D8)) -> 159.16667 | H8: =IF(G8>0,IF(F8>0,(F8*E$3+G8*10/3)/G$3,G8*10/3*(1-0.1*E$3)),IF(F8>10,F8*0.9,F8)) -> 143.25 | J8: =IF(I8>0,IF(H8>0,(H8*G$3+I8*10/3)/I$3,I8*10/3*(1-0.1*G$3)),IF(H8>10,H8*0.9,H8)) -> 128.925 | L8: =IF(K8>0,IF(J8>0,(J8*I$3+K8*10/3)/K$3,K8*10/3*(1-0.1*I$3)),IF(J8>10,J8*0.9,J8)) -> 116.0325 | N8: =IF(M8>0,IF(L8>0,(L8*K$3+M8*10/3)/M$3,M8*10/3*(1-0.1*K$3)),IF(L8>10,L8*0.9,L8)) -> 104.42925 | P8: =IF(O8>0,IF(N8>0,(N8*M$3+O8*10/3)/O$3,O8*10/3*(1-0.1*M$3)),IF(N8>10,N8*0.9,N8)) -> 93.986325 | R8: =IF(Q8>0,IF(P8>0,(P8*O$3+Q8*10/3)/Q$3,Q8*10/3*(1-0.1*O$3)),IF(P8>10,P8*0.9,P8)) -> 84.587693 | T8: =IF(S8>0,IF(R8>0,(R8*Q$3+S8*10/3)/S$3,S8*10/3*(1-0.1*Q$3)),IF(R8>10,R8*0.9,R8)) -> 76.128923 | V8: =IF(U8>0,IF(T8>0,(T8*S$3+U8*10/3)/U$3,U8*10/3*(1-0.1*S$3)),IF(T8>10,T8*0.9,T8)) -> 68.516031
A9: =A8+1 -> 5 | B9: Тыщенко Михаил / Tishchenko Mikhail | C9: 30.6 | D9: =C9/3*10 -> 102 | E9: 43.9 | F9: =IF(E9>0,IF(D9>0,(D9*C$3+E9*10/3)/E$3,E9*10/3*(1-0.1*C$3)),IF(D9>10,D9*0.9,D9)) -> 124.16667 | H9: =IF(G9>0,IF(F9>0,(F9*E$3+G9*10/3)/G$3,G9*10/3*(1-0.1*E$3)),IF(F9>10,F9*0.9,F9)) -> 111.75 | J9: =IF(I9>0,IF(H9>0,(H9*G$3+I9*10/3)/I$3,I9*10/3*(1-0.1*G$3)),IF(H9>10,H9*0.9,H9)) -> 100.575 | L9: =IF(K9>0,IF(J9>0,(J9*I$3+K9*10/3)/K$3,K9*10/3*(1-0.1*I$3)),IF(J9>10,J9*0.9,J9)) -> 90.5175 | N9: =IF(M9>0,IF(L9>0,(L9*K$3+M9*10/3)/M$3,M9*10/3*(1-0.1*K$3)),IF(L9>10,L9*0.9,L9)) -> 81.46575 | P9: =IF(O9>0,IF(N9>0,(N9*M$3+O9*10/3)/O$3,O9*10/3*(1-0.1*M$3)),IF(N9>10,N9*0.9,N9)) -> 73.319175 | R9: =IF(Q9>0,IF(P9>0,(P9*O$3+Q9*10/3)/Q$3,Q9*10/3*(1-0.1*O$3)),IF(P9>10,P9*0.9,P9)) -> 65.987258 | T9: =IF(S9>0,IF(R9>0,(R9*Q$3+S9*10/3)/S$3,S9*10/3*(1-0.1*Q$3)),IF(R9>10,R9*0.9,R9)) -> 59.388532 | V9: =IF(U9>0,IF(T9>0,(T9*S$3+U9*10/3)/U$3,U9*10/3*(1-0.1*S$3)),IF(T9>10,T9*0.9,T9)) -> 53.449679
A10: =A9+1 -> 6 | B10: Ткаченко Антон / Tkachenko Anton | C10: 58.7 | D10: =C10/3*10 -> 195.66667 | E10: 41.5 | F10: =IF(E10>0,IF(D10>0,(D10*C$3+E10*10/3)/E$3,E10*10/3*(1-0.1*C$3)),IF(D10>10,D10*0.9,D10)) -> 167 | H10: =IF(G10>0,IF(F10>0,(F10*E$3+G10*10/3)/G$3,G10*10/3*(1-0.1*E$3)),IF(F10>10,F10*0.9,F10)) -> 150.3 | J10: =IF(I10>0,IF(H10>0,(H10*G$3+I10*10/3)/I$3,I10*10/3*(1-0.1*G$3)),IF(H10>10,H10*0.9,H10)) -> 135.27 | L10: =IF(K10>0,IF(J10>0,(J10*I$3+K10*10/3)/K$3,K10*10/3*(1-0.1*I$3)),IF(J10>10,J10*0.9,J10)) -> 121.743 | N10: =IF(M10>0,IF(L10>0,(L10*K$3+M10*10/3)/M$3,M10*10/3*(1-0.1*K$3)),IF(L10>10,L10*0.9,L10)) -> 109.5687 | P10: =IF(O10>0,IF(N10>0,(N10*M$3+O10*10/3)/O$3,O10*10/3*(1-0.1*M$3)),IF(N10>10,N10*0.9,N10)) -> 98.61183 | R10: =IF(Q10>0,IF(P10>0,(P10*O$3+Q10*10/3)/Q$3,Q10*10/3*(1-0.1*O$3)),IF(P10>10,P10*0.9,P10)) -> 88.750647 | T10: =IF(S10>0,IF(R10>0,(R10*Q$3+S10*10/3)/S$3,S10*10/3*(1-0.1*Q$3)),IF(R10>10,R10*0.9,R10)) -> 79.875582 | V10: =IF(U10>0,IF(T10>0,(T10*S$3+U10*10/3)/U$3,U10*10/3*(1-0.1*S$3)),IF(T10>10,T10*0.9,T10)) -> 71.888024
A11: =A10+1 -> 7 | B11: Соколан Артем/Sokolan Artem | D11: =C11/3*10 -> 0 | E11: 41.5 | F11: =IF(E11>0,IF(D11>0,(D11*C$3+E11*10/3)/E$3,E11*10/3*(1-0.1*C$3)),IF(D11>10,D11*0.9,D11)) -> 124.5 | H11: =IF(G11>0,IF(F11>0,(F11*E$3+G11*10/3)/G$3,G11*10/3*(1-0.1*E$3)),IF(F11>10,F11*0.9,F11)) -> 112.05 | J11: =IF(I11>0,IF(H11>0,(H11*G$3+I11*10/3)/I$3,I11*10/3*(1-0.1*G$3)),IF(H11>10,H11*0.9,H11)) -> 100.845 | L11: =IF(K11>0,IF(J11>0,(J11*I$3+K11*10/3)/K$3,K11*10/3*(1-0.1*I$3)),IF(J11>10,J11*0.9,J11)) -> 90.7605 | N11: =IF(M11>0,IF(L11>0,(L11*K$3+M11*10/3)/M$3,M11*10/3*(1-0.1*K$3)),IF(L11>10,L11*0.9,L11)) -> 81.68445 | P11: =IF(O11>0,IF(N11>0,(N11*M$3+O11*10/3)/O$3,O11*10/3*(1-0.1*M$3)),IF(N11>10,N11*0.9,N11)) -> 73.516005 | R11: =IF(Q11>0,IF(P11>0,(P11*O$3+Q11*10/3)/Q$3,Q11*10/3*(1-0.1*O$3)),IF(P11>10,P11*0.9,P11)) -> 66.164405 | T11: =IF(S11>0,IF(R11>0,(R11*Q$3+S11*10/3)/S$3,S11*10/3*(1-0.1*Q$3)),IF(R11>10,R11*0.9,R11)) -> 59.547964 | V11: =IF(U11>0,IF(T11>0,(T11*S$3+U11*10/3)/U$3,U11*10/3*(1-0.1*S$3)),IF(T11>10,T11*0.9,T11)) -> 53.593168
A12: =A11+1 -> 8 | B12: Якусик Дима / Yakusik Dima | D12: =C12/3*10 -> 0 | E12: 35.5 | F12: =IF(E12>0,IF(D12>0,(D12*C$3+E12*10/3)/E$3,E12*10/3*(1-0.1*C$3)),IF(D12>10,D12*0.9,D12)) -> 106.5 | H12: =IF(G12>0,IF(F12>0,(F12*E$3+G12*10/3)/G$3,G12*10/3*(1-0.1*E$3)),IF(F12>10,F12*0.9,F12)) -> 95.85 | J12: =IF(I12>0,IF(H12>0,(H12*G$3+I12*10/3)/I$3,I12*10/3*(1-0.1*G$3)),IF(H12>10,H12*0.9,H12)) -> 86.265 | L12: =IF(K12>0,IF(J12>0,(J12*I$3+K12*10/3)/K$3,K12*10/3*(1-0.1*I$3)),IF(J12>10,J12*0.9,J12)) -> 77.6385 | N12: =IF(M12>0,IF(L12>0,(L12*K$3+M12*10/3)/M$3,M12*10/3*(1-0.1*K$3)),IF(L12>10,L12*0.9,L12)) -> 69.87465 | P12: =IF(O12>0,IF(N12>0,(N12*M$3+O12*10/3)/O$3,O12*10/3*(1-0.1*M$3)),IF(N12>10,N12*0.9,N12)) -> 62.887185 | R12: =IF(Q12>0,IF(P12>0,(P12*O$3+Q12*10/3)/Q$3,Q12*10/3*(1-0.1*O$3)),IF(P12>10,P12*0.9,P12)) -> 56.598467 | T12: =IF(S12>0,IF(R12>0,(R12*Q$3+S12*10/3)/S$3,S12*10/3*(1-0.1*Q$3)),IF(R12>10,R12*0.9,R12)) -> 50.93862 | V12: =IF(U12>0,IF(T12>0,(T12*S$3+U12*10/3)/U$3,U12*10/3*(1-0.1*S$3)),IF(T12>10,T12*0.9,T12)) -> 45.844758
A13: =A12+1 -> 9 | B13: Фортуна Таня / Fortuna Tanya | C13: 36.1 | D13: =C13/3*10 -> 120.33333 | E13: 35.2 | F13: =IF(E13>0,IF(D13>0,(D13*C$3+E13*10/3)/E$3,E13*10/3*(1-0.1*C$3)),IF(D13>10,D13*0.9,D13)) -> 118.83333 | H13: =IF(G13>0,IF(F13>0,(F13*E$3+G13*10/3)/G$3,G13*10/3*(1-0.1*E$3)),IF(F13>10,F13*0.9,F13)) -> 106.95 | J13: =IF(I13>0,IF(H13>0,(H13*G$3+I13*10/3)/I$3,I13*10/3*(1-0.1*G$3)),IF(H13>10,H13*0.9,H13)) -> 96.255 | L13: =IF(K13>0,IF(J13>0,(J13*I$3+K13*10/3)/K$3,K13*10/3*(1-0.1*I$3)),IF(J13>10,J13*0.9,J13)) -> 86.6295 | N13: =IF(M13>0,IF(L13>0,(L13*K$3+M13*10/3)/M$3,M13*10/3*(1-0.1*K$3)),IF(L13>10,L13*0.9,L13)) -> 77.96655 | P13: =IF(O13>0,IF(N13>0,(N13*M$3+O13*10/3)/O$3,O13*10/3*(1-0.1*M$3)),IF(N13>10,N13*0.9,N13)) -> 70.169895 | R13: =IF(Q13>0,IF(P13>0,(P13*O$3+Q13*10/3)/Q$3,Q13*10/3*(1-0.1*O$3)),IF(P13>10,P13*0.9,P13)) -> 63.152906 | T13: =IF(S13>0,IF(R13>0,(R13*Q$3+S13*10/3)/S$3,S13*10/3*(1-0.1*Q$3)),IF(R13>10,R13*0.9,R13)) -> 56.837615 | V13: =IF(U13>0,IF(T13>0,(T13*S$3+U13*10/3)/U$3,U13*10/3*(1-0.1*S$3)),IF(T13>10,T13*0.9,T13)) -> 51.153853
A14: =A13+1 -> 10 | B14: Вильнев Артем/Vilnev Artem | D14: =C14/3*10 -> 0 | E14: 33.7 | F14: =IF(E14>0,IF(D14>0,(D14*C$3+E14*10/3)/E$3,E14*10/3*(1-0.1*C$3)),IF(D14>10,D14*0.9,D14)) -> 101.1 | H14: =IF(G14>0,IF(F14>0,(F14*E$3+G14*10/3)/G$3,G14*10/3*(1-0.1*E$3)),IF(F14>10,F14*0.9,F14)) -> 90.99 | J14: =IF(I14>0,IF(H14>0,(H14*G$3+I14*10/3)/I$3,I14*10/3*(1-0.1*G$3)),IF(H14>10,H14*0.9,H14)) -> 81.891 | L14: =IF(K14>0,IF(J14>0,(J14*I$3+K14*10/3)/K$3,K14*10/3*(1-0.1*I$3)),IF(J14>10,J14*0.9,J14)) -> 73.7019 | N14: =IF(M14>0,IF(L14>0,(L14*K$3+M14*10/3)/M$3,M14*10/3*(1-0.1*K$3)),IF(L14>10,L14*0.9,L14)) -> 66.33171 | P14: =IF(O14>0,IF(N14>0,(N14*M$3+O14*10/3)/O$3,O14*10/3*(1-0.1*M$3)),IF(N14>10,N14*0.9,N14)) -> 59.698539 | R14: =IF(Q14>0,IF(P14>0,(P14*O$3+Q14*10/3)/Q$3,Q14*10/3*(1-0.1*O$3)),IF(P14>10,P14*0.9,P14)) -> 53.728685 | T14: =IF(S14>0,IF(R14>0,(R14*Q$3+S14*10/3)/S$3,S14*10/3*(1-0.1*Q$3)),IF(R14>10,R14*0.9,R14)) -> 48.355817 | V14: =IF(U14>0,IF(T14>0,(T14*S$3+U14*10/3)/U$3,U14*10/3*(1-0.1*S$3)),IF(T14>10,T14*0.9,T14)) -> 43.520235
A15: =A14+1 -> 11 | B15: Дымко Славик/Dymko Vyacheslav | D15: =C15/3*10 -> 0 | E15: 29.1 | F15: =IF(E15>0,IF(D15>0,(D15*C$3+E15*10/3)/E$3,E15*10/3*(1-0.1*C$3)),IF(D15>10,D15*0.9,D15)) -> 87.3 | H15: =IF(G15>0,IF(F15>0,(F15*E$3+G15*10/3)/G$3,G15*10/3*(1-0.1*E$3)),IF(F15>10,F15*0.9,F15)) -> 78.57 | J15: =IF(I15>0,IF(H15>0,(H15*G$3+I15*10/3)/I$3,I15*10/3*(1-0.1*G$3)),IF(H15>10,H15*0.9,H15)) -> 70.713 | L15: =IF(K15>0,IF(J15>0,(J15*I$3+K15*10/3)/K$3,K15*10/3*(1-0.1*I$3)),IF(J15>10,J15*0.9,J15)) -> 63.6417 | N15: =IF(M15>0,IF(L15>0,(L15*K$3+M15*10/3)/M$3,M15*10/3*(1-0.1*K$3)),IF(L15>10,L15*0.9,L15)) -> 57.27753 | P15: =IF(O15>0,IF(N15>0,(N15*M$3+O15*10/3)/O$3,O15*10/3*(1-0.1*M$3)),IF(N15>10,N15*0.9,N15)) -> 51.549777 | R15: =IF(Q15>0,IF(P15>0,(P15*O$3+Q15*10/3)/Q$3,Q15*10/3*(1-0.1*O$3)),IF(P15>10,P15*0.9,P15)) -> 46.394799 | T15: =IF(S15>0,IF(R15>0,(R15*Q$3+S15*10/3)/S$3,S15*10/3*(1-0.1*Q$3)),IF(R15>10,R15*0.9,R15)) -> 41.755319 | V15: =IF(U15>0,IF(T15>0,(T15*S$3+U15*10/3)/U$3,U15*10/3*(1-0.1*S$3)),IF(T15>10,T15*0.9,T15)) -> 37.579787
A16: =A15+1 -> 12 | B16: Гобади Курош/ Gobadi Kurosh | D16: =C16/3*10 -> 0 | E16: 26 | F16: =IF(E16>0,IF(D16>0,(D16*C$3+E16*10/3)/E$3,E16*10/3*(1-0.1*C$3)),IF(D16>10,D16*0.9,D16)) -> 78 | H16: =IF(G16>0,IF(F16>0,(F16*E$3+G16*10/3)/G$3,G16*10/3*(1-0.1*E$3)),IF(F16>10,F16*0.9,F16)) -> 70.2 | J16: =IF(I16>0,IF(H16>0,(H16*G$3+I16*10/3)/I$3,I16*10/3*(1-0.1*G$3)),IF(H16>10,H16*0.9,H16)) -> 63.18 | L16: =IF(K16>0,IF(J16>0,(J16*I$3+K16*10/3)/K$3,K16*10/3*(1-0.1*I$3)),IF(J16>10,J16*0.9,J16)) -> 56.862 | N16: =IF(M16>0,IF(L16>0,(L16*K$3+M16*10/3)/M$3,M16*10/3*(1-0.1*K$3)),IF(L16>10,L16*0.9,L16)) -> 51.1758 | P16: =IF(O16>0,IF(N16>0,(N16*M$3+O16*10/3)/O$3,O16*10/3*(1-0.1*M$3)),IF(N16>10,N16*0.9,N16)) -> 46.05822 | R16: =IF(Q16>0,IF(P16>0,(P16*O$3+Q16*10/3)/Q$3,Q16*10/3*(1-0.1*O$3)),IF(P16>10,P16*0.9,P16)) -> 41.452398 | T16: =IF(S16>0,IF(R16>0,(R16*Q$3+S16*10/3)/S$3,S16*10/3*(1-0.1*Q$3)),IF(R16>10,R16*0.9,R16)) -> 37.307158 | V16: =IF(U16>0,IF(T16>0,(T16*S$3+U16*10/3)/U$3,U16*10/3*(1-0.1*S$3)),IF(T16>10,T16*0.9,T16)) -> 33.576442
A17: =A16+1 -> 13 | B17: Муляр Андрей/Mular Andrew | D17: =C17/3*10 -> 0 | E17: 24.2 | F17: =IF(E17>0,IF(D17>0,(D17*C$3+E17*10/3)/E$3,E17*10/3*(1-0.1*C$3)),IF(D17>10,D17*0.9,D17)) -> 72.6 | H17: =IF(G17>0,IF(F17>0,(F17*E$3+G17*10/3)/G$3,G17*10/3*(1-0.1*E$3)),IF(F17>10,F17*0.9,F17)) -> 65.34 | J17: =IF(I17>0,IF(H17>0,(H17*G$3+I17*10/3)/I$3,I17*10/3*(1-0.1*G$3)),IF(H17>10,H17*0.9,H17)) -> 58.806 | L17: =IF(K17>0,IF(J17>0,(J17*I$3+K17*10/3)/K$3,K17*10/3*(1-0.1*I$3)),IF(J17>10,J17*0.9,J17)) -> 52.9254 | N17: =IF(M17>0,IF(L17>0,(L17*K$3+M17*10/3)/M$3,M17*10/3*(1-0.1*K$3)),IF(L17>10,L17*0.9,L17)) -> 47.63286 | P17: =IF(O17>0,IF(N17>0,(N17*M$3+O17*10/3)/O$3,O17*10/3*(1-0.1*M$3)),IF(N17>10,N17*0.9,N17)) -> 42.869574 | R17: =IF(Q17>0,IF(P17>0,(P17*O$3+Q17*10/3)/Q$3,Q17*10/3*(1-0.1*O$3)),IF(P17>10,P17*0.9,P17)) -> 38.582617 | T17: =IF(S17>0,IF(R17>0,(R17*Q$3+S17*10/3)/S$3,S17*10/3*(1-0.1*Q$3)),IF(R17>10,R17*0.9,R17)) -> 34.724355 | V17: =IF(U17>0,IF(T17>0,(T17*S$3+U17*10/3)/U$3,U17*10/3*(1-0.1*S$3)),IF(T17>10,T17*0.9,T17)) -> 31.251919
A18: =A17+1 -> 14 | B18: Закалюк Женя./Zakaliuk Eugen | D18: =C18/3*10 -> 0 | E18: 20.5 | F18: =IF(E18>0,IF(D18>0,(D18*C$3+E18*10/3)/E$3,E18*10/3*(1-0.1*C$3)),IF(D18>10,D18*0.9,D18)) -> 61.5 | H18: =IF(G18>0,IF(F18>0,(F18*E$3+G18*10/3)/G$3,G18*10/3*(1-0.1*E$3)),IF(F18>10,F18*0.9,F18)) -> 55.35 | J18: =IF(I18>0,IF(H18>0,(H18*G$3+I18*10/3)/I$3,I18*10/3*(1-0.1*G$3)),IF(H18>10,H18*0.9,H18)) -> 49.815 | L18: =IF(K18>0,IF(J18>0,(J18*I$3+K18*10/3)/K$3,K18*10/3*(1-0.1*I$3)),IF(J18>10,J18*0.9,J18)) -> 44.8335 | N18: =IF(M18>0,IF(L18>0,(L18*K$3+M18*10/3)/M$3,M18*10/3*(1-0.1*K$3)),IF(L18>10,L18*0.9,L18)) -> 40.35015 | P18: =IF(O18>0,IF(N18>0,(N18*M$3+O18*10/3)/O$3,O18*10/3*(1-0.1*M$3)),IF(N18>10,N18*0.9,N18)) -> 36.315135 | R18: =IF(Q18>0,IF(P18>0,(P18*O$3+Q18*10/3)/Q$3,Q18*10/3*(1-0.1*O$3)),IF(P18>10,P18*0.9,P18)) -> 32.683622 | T18: =IF(S18>0,IF(R18>0,(R18*Q$3+S18*10/3)/S$3,S18*10/3*(1-0.1*Q$3)),IF(R18>10,R18*0.9,R18)) -> 29.415259 | V18: =IF(U18>0,IF(T18>0,(T18*S$3+U18*10/3)/U$3,U18*10/3*(1-0.1*S$3)),IF(T18>10,T18*0.9,T18)) -> 26.473733
A19: =A18+1 -> 15 | B19: Гончаров Роман/Hopncharov Roman | D19: =C19/3*10 -> 0 | E19: 18.5 | F19: =IF(E19>0,IF(D19>0,(D19*C$3+E19*10/3)/E$3,E19*10/3*(1-0.1*C$3)),IF(D19>10,D19*0.9,D19)) -> 55.5 | H19: =IF(G19>0,IF(F19>0,(F19*E$3+G19*10/3)/G$3,G19*10/3*(1-0.1*E$3)),IF(F19>10,F19*0.9,F19)) -> 49.95 | J19: =IF(I19>0,IF(H19>0,(H19*G$3+I19*10/3)/I$3,I19*10/3*(1-0.1*G$3)),IF(H19>10,H19*0.9,H19)) -> 44.955 | L19: =IF(K19>0,IF(J19>0,(J19*I$3+K19*10/3)/K$3,K19*10/3*(1-0.1*I$3)),IF(J19>10,J19*0.9,J19)) -> 40.4595 | N19: =IF(M19>0,IF(L19>0,(L19*K$3+M19*10/3)/M$3,M19*10/3*(1-0.1*K$3)),IF(L19>10,L19*0.9,L19)) -> 36.41355 | P19: =IF(O19>0,IF(N19>0,(N19*M$3+O19*10/3)/O$3,O19*10/3*(1-0.1*M$3)),IF(N19>10,N19*0.9,N19)) -> 32.772195 | R19: =IF(Q19>0,IF(P19>0,(P19*O$3+Q19*10/3)/Q$3,Q19*10/3*(1-0.1*O$3)),IF(P19>10,P19*0.9,P19)) -> 29.494976 | T19: =IF(S19>0,IF(R19>0,(R19*Q$3+S19*10/3)/S$3,S19*10/3*(1-0.1*Q$3)),IF(R19>10,R19*0.9,R19)) -> 26.545478 | V19: =IF(U19>0,IF(T19>0,(T19*S$3+U19*10/3)/U$3,U19*10/3*(1-0.1*S$3)),IF(T19>10,T19*0.9,T19)) -> 23.89093
A20: =A19+1 -> 16 | B20: Загирский Антон/Zagirskiy Anton | D20: =C20/3*10 -> 0 | E20: 13.5 | F20: =IF(E20>0,IF(D20>0,(D20*C$3+E20*10/3)/E$3,E20*10/3*(1-0.1*C$3)),IF(D20>10,D20*0.9,D20)) -> 40.5 | H20: =IF(G20>0,IF(F20>0,(F20*E$3+G20*10/3)/G$3,G20*10/3*(1-0.1*E$3)),IF(F20>10,F20*0.9,F20)) -> 36.45 | J20: =IF(I20>0,IF(H20>0,(H20*G$3+I20*10/3)/I$3,I20*10/3*(1-0.1*G$3)),IF(H20>10,H20*0.9,H20)) -> 32.805 | L20: =IF(K20>0,IF(J20>0,(J20*I$3+K20*10/3)/K$3,K20*10/3*(1-0.1*I$3)),IF(J20>10,J20*0.9,J20)) -> 29.5245 | N20: =IF(M20>0,IF(L20>0,(L20*K$3+M20*10/3)/M$3,M20*10/3*(1-0.1*K$3)),IF(L20>10,L20*0.9,L20)) -> 26.57205 | P20: =IF(O20>0,IF(N20>0,(N20*M$3+O20*10/3)/O$3,O20*10/3*(1-0.1*M$3)),IF(N20>10,N20*0.9,N20)) -> 23.914845 | R20: =IF(Q20>0,IF(P20>0,(P20*O$3+Q20*10/3)/Q$3,Q20*10/3*(1-0.1*O$3)),IF(P20>10,P20*0.9,P20)) -> 21.523361 | T20: =IF(S20>0,IF(R20>0,(R20*Q$3+S20*10/3)/S$3,S20*10/3*(1-0.1*Q$3)),IF(R20>10,R20*0.9,R20)) -> 19.371024 | V20: =IF(U20>0,IF(T20>0,(T20*S$3+U20*10/3)/U$3,U20*10/3*(1-0.1*S$3)),IF(T20>10,T20*0.9,T20)) -> 17.433922
A21: =A20+1 -> 17 | B21: Онащук Максим / Onashuk Maxim | C21: 41.4 | D21: =C21/3*10 -> 138 | F21: =IF(E21>0,IF(D21>0,(D21*C$3+E21*10/3)/E$3,E21*10/3*(1-0.1*C$3)),IF(D21>10,D21*0.9,D21)) -> 124.2 | H21: =IF(G21>0,IF(F21>0,(F21*E$3+G21*10/3)/G$3,G21*10/3*(1-0.1*E$3)),IF(F21>10,F21*0.9,F21)) -> 111.78 | J21: =IF(I21>0,IF(H21>0,(H21*G$3+I21*10/3)/I$3,I21*10/3*(1-0.1*G$3)),IF(H21>10,H21*0.9,H21)) -> 100.602 | L21: =IF(K21>0,IF(J21>0,(J21*I$3+K21*10/3)/K$3,K21*10/3*(1-0.1*I$3)),IF(J21>10,J21*0.9,J21)) -> 90.5418 | N21: =IF(M21>0,IF(L21>0,(L21*K$3+M21*10/3)/M$3,M21*10/3*(1-0.1*K$3)),IF(L21>10,L21*0.9,L21)) -> 81.48762 | P21: =IF(O21>0,IF(N21>0,(N21*M$3+O21*10/3)/O$3,O21*10/3*(1-0.1*M$3)),IF(N21>10,N21*0.9,N21)) -> 73.338858 | R21: =IF(Q21>0,IF(P21>0,(P21*O$3+Q21*10/3)/Q$3,Q21*10/3*(1-0.1*O$3)),IF(P21>10,P21*0.9,P21)) -> 66.004972 | T21: =IF(S21>0,IF(R21>0,(R21*Q$3+S21*10/3)/S$3,S21*10/3*(1-0.1*Q$3)),IF(R21>10,R21*0.9,R21)) -> 59.404475 | V21: =IF(U21>0,IF(T21>0,(T21*S$3+U21*10/3)/U$3,U21*10/3*(1-0.1*S$3)),IF(T21>10,T21*0.9,T21)) -> 53.464027
A22: =A21+1 -> 18 | B22: Стоцкий Андрей / Stotskiy Andriy | C22: 38.6 | D22: =C22/3*10 -> 128.66667 | F22: =IF(E22>0,IF(D22>0,(D22*C$3+E22*10/3)/E$3,E22*10/3*(1-0.1*C$3)),IF(D22>10,D22*0.9,D22)) -> 115.8 | H22: =IF(G22>0,IF(F22>0,(F22*E$3+G22*10/3)/G$3,G22*10/3*(1-0.1*E$3)),IF(F22>10,F22*0.9,F22)) -> 104.22 | J22: =IF(I22>0,IF(H22>0,(H22*G$3+I22*10/3)/I$3,I22*10/3*(1-0.1*G$3)),IF(H22>10,H22*0.9,H22)) -> 93.798 | L22: =IF(K22>0,IF(J22>0,(J22*I$3+K22*10/3)/K$3,K22*10/3*(1-0.1*I$3)),IF(J22>10,J22*0.9,J22)) -> 84.4182 | N22: =IF(M22>0,IF(L22>0,(L22*K$3+M22*10/3)/M$3,M22*10/3*(1-0.1*K$3)),IF(L22>10,L22*0.9,L22)) -> 75.97638 | P22: =IF(O22>0,IF(N22>0,(N22*M$3+O22*10/3)/O$3,O22*10/3*(1-0.1*M$3)),IF(N22>10,N22*0.9,N22)) -> 68.378742 | R22: =IF(Q22>0,IF(P22>0,(P22*O$3+Q22*10/3)/Q$3,Q22*10/3*(1-0.1*O$3)),IF(P22>10,P22*0.9,P22)) -> 61.540868 | T22: =IF(S22>0,IF(R22>0,(R22*Q$3+S22*10/3)/S$3,S22*10/3*(1-0.1*Q$3)),IF(R22>10,R22*0.9,R22)) -> 55.386781 | V22: =IF(U22>0,IF(T22>0,(T22*S$3+U22*10/3)/U$3,U22*10/3*(1-0.1*S$3)),IF(T22>10,T22*0.9,T22)) -> 49.848103
A23: =A22+1 -> 19 | B23: Хлопонин Андрей / Khloponin Andrew | C23: 38.4 | D23: =C23/3*10 -> 128 | F23: =IF(E23>0,IF(D23>0,(D23*C$3+E23*10/3)/E$3,E23*10/3*(1-0.1*C$3)),IF(D23>10,D23*0.9,D23)) -> 115.2 | H23: =IF(G23>0,IF(F23>0,(F23*E$3+G23*10/3)/G$3,G23*10/3*(1-0.1*E$3)),IF(F23>10,F23*0.9,F23)) -> 103.68 | J23: =IF(I23>0,IF(H23>0,(H23*G$3+I23*10/3)/I$3,I23*10/3*(1-0.1*G$3)),IF(H23>10,H23*0.9,H23)) -> 93.312 | L23: =IF(K23>0,IF(J23>0,(J23*I$3+K23*10/3)/K$3,K23*10/3*(1-0.1*I$3)),IF(J23>10,J23*0.9,J23)) -> 83.9808 | N23: =IF(M23>0,IF(L23>0,(L23*K$3+M23*10/3)/M$3,M23*10/3*(1-0.1*K$3)),IF(L23>10,L23*0.9,L23)) -> 75.58272 | P23: =IF(O23>0,IF(N23>0,(N23*M$3+O23*10/3)/O$3,O23*10/3*(1-0.1*M$3)),IF(N23>10,N23*0.9,N23)) -> 68.024448 | R23: =IF(Q23>0,IF(P23>0,(P23*O$3+Q23*10/3)/Q$3,Q23*10/3*(1-0.1*O$3)),IF(P23>10,P23*0.9,P23)) -> 61.222003 | T23: =IF(S23>0,IF(R23>0,(R23*Q$3+S23*10/3)/S$3,S23*10/3*(1-0.1*Q$3)),IF(R23>10,R23*0.9,R23)) -> 55.099803 | V23: =IF(U23>0,IF(T23>0,(T23*S$3+U23*10/3)/U$3,U23*10/3*(1-0.1*S$3)),IF(T23>10,T23*0.9,T23)) -> 49.589823
A24: =A23+1 -> 20 | B24: Фалько Константин / Falko Konstantin | C24: 38 | D24: =C24/3*10 -> 126.66667 | F24: =IF(E24>0,IF(D24>0,(D24*C$3+E24*10/3)/E$3,E24*10/3*(1-0.1*C$3)),IF(D24>10,D24*0.9,D24)) -> 114 | H24: =IF(G24>0,IF(F24>0,(F24*E$3+G24*10/3)/G$3,G24*10/3*(1-0.1*E$3)),IF(F24>10,F24*0.9,F24)) -> 102.6 | J24: =IF(I24>0,IF(H24>0,(H24*G$3+I24*10/3)/I$3,I24*10/3*(1-0.1*G$3)),IF(H24>10,H24*0.9,H24)) -> 92.34 | L24: =IF(K24>0,IF(J24>0,(J24*I$3+K24*10/3)/K$3,K24*10/3*(1-0.1*I$3)),IF(J24>10,J24*0.9,J24)) -> 83.106 | N24: =IF(M24>0,IF(L24>0,(L24*K$3+M24*10/3)/M$3,M24*10/3*(1-0.1*K$3)),IF(L24>10,L24*0.9,L24)) -> 74.7954 | P24: =IF(O24>0,IF(N24>0,(N24*M$3+O24*10/3)/O$3,O24*10/3*(1-0.1*M$3)),IF(N24>10,N24*0.9,N24)) -> 67.31586 | R24: =IF(Q24>0,IF(P24>0,(P24*O$3+Q24*10/3)/Q$3,Q24*10/3*(1-0.1*O$3)),IF(P24>10,P24*0.9,P24)) -> 60.584274 | T24: =IF(S24>0,IF(R24>0,(R24*Q$3+S24*10/3)/S$3,S24*10/3*(1-0.1*Q$3)),IF(R24>10,R24*0.9,R24)) -> 54.525847 | V24: =IF(U24>0,IF(T24>0,(T24*S$3+U24*10/3)/U$3,U24*10/3*(1-0.1*S$3)),IF(T24>10,T24*0.9,T24)) -> 49.073262
A25: =A24+1 -> 21 | B25: Линнык Владимир / Linnyk Volodymyr | C25: 37.6 | D25: =C25/3*10 -> 125.33333 | F25: =IF(E25>0,IF(D25>0,(D25*C$3+E25*10/3)/E$3,E25*10/3*(1-0.1*C$3)),IF(D25>10,D25*0.9,D25)) -> 112.8 | H25: =IF(G25>0,IF(F25>0,(F25*E$3+G25*10/3)/G$3,G25*10/3*(1-0.1*E$3)),IF(F25>10,F25*0.9,F25)) -> 101.52 | J25: =IF(I25>0,IF(H25>0,(H25*G$3+I25*10/3)/I$3,I25*10/3*(1-0.1*G$3)),IF(H25>10,H25*0.9,H25)) -> 91.368 | L25: =IF(K25>0,IF(J25>0,(J25*I$3+K25*10/3)/K$3,K25*10/3*(1-0.1*I$3)),IF(J25>10,J25*0.9,J25)) -> 82.2312 | N25: =IF(M25>0,IF(L25>0,(L25*K$3+M25*10/3)/M$3,M25*10/3*(1-0.1*K$3)),IF(L25>10,L25*0.9,L25)) -> 74.00808 | P25: =IF(O25>0,IF(N25>0,(N25*M$3+O25*10/3)/O$3,O25*10/3*(1-0.1*M$3)),IF(N25>10,N25*0.9,N25)) -> 66.607272 | R25: =IF(Q25>0,IF(P25>0,(P25*O$3+Q25*10/3)/Q$3,Q25*10/3*(1-0.1*O$3)),IF(P25>10,P25*0.9,P25)) -> 59.946545 | T25: =IF(S25>0,IF(R25>0,(R25*Q$3+S25*10/3)/S$3,S25*10/3*(1-0.1*Q$3)),IF(R25>10,R25*0.9,R25)) -> 53.95189 | V25: =IF(U25>0,IF(T25>0,(T25*S$3+U25*10/3)/U$3,U25*10/3*(1-0.1*S$3)),IF(T25>10,T25*0.9,T25)) -> 48.556701
A26: =A25+1 -> 22 | B26: Лихошерст Алексей / Lykhosherst Aleksey | C26: 34.5 | D26: =C26/3*10 -> 115 | F26: =IF(E26>0,IF(D26>0,(D26*C$3+E26*10/3)/E$3,E26*10/3*(1-0.1*C$3)),IF(D26>10,D26*0.9,D26)) -> 103.5 | H26: =IF(G26>0,IF(F26>0,(F26*E$3+G26*10/3)/G$3,G26*10/3*(1-0.1*E$3)),IF(F26>10,F26*0.9,F26)) -> 93.15 | J26: =IF(I26>0,IF(H26>0,(H26*G$3+I26*10/3)/I$3,I26*10/3*(1-0.1*G$3)),IF(H26>10,H26*0.9,H26)) -> 83.835 | L26: =IF(K26>0,IF(J26>0,(J26*I$3+K26*10/3)/K$3,K26*10/3*(1-0.1*I$3)),IF(J26>10,J26*0.9,J26)) -> 75.4515 | N26: =IF(M26>0,IF(L26>0,(L26*K$3+M26*10/3)/M$3,M26*10/3*(1-0.1*K$3)),IF(L26>10,L26*0.9,L26)) -> 67.90635 | P26: =IF(O26>0,IF(N26>0,(N26*M$3+O26*10/3)/O$3,O26*10/3*(1-0.1*M$3)),IF(N26>10,N26*0.9,N26)) -> 61.115715 | R26: =IF(Q26>0,IF(P26>0,(P26*O$3+Q26*10/3)/Q$3,Q26*10/3*(1-0.1*O$3)),IF(P26>10,P26*0.9,P26)) -> 55.004144 | T26: =IF(S26>0,IF(R26>0,(R26*Q$3+S26*10/3)/S$3,S26*10/3*(1-0.1*Q$3)),IF(R26>10,R26*0.9,R26)) -> 49.503729 | V26: =IF(U26>0,IF(T26>0,(T26*S$3+U26*10/3)/U$3,U26*10/3*(1-0.1*S$3)),IF(T26>10,T26*0.9,T26)) -> 44.553356
A27: =A26+1 -> 23 | D27: =C27/3*10 -> 0 | F27: =IF(E27>0,IF(D27>0,(D27*C$3+E27*10/3)/E$3,E27*10/3*(1-0.1*C$3)),IF(D27>10,D27*0.9,D27)) -> 0 | H27: =IF(G27>0,IF(F27>0,(F27*E$3+G27*10/3)/G$3,G27*10/3*(1-0.1*E$3)),IF(F27>10,F27*0.9,F27)) -> 0 | J27: =IF(I27>0,IF(H27>0,(H27*G$3+I27*10/3)/I$3,I27*10/3*(1-0.1*G$3)),IF(H27>10,H27*0.9,H27)) -> 0 | L27: =IF(K27>0,IF(J27>0,(J27*I$3+K27*10/3)/K$3,K27*10/3*(1-0.1*I$3)),IF(J27>10,J27*0.9,J27)) -> 0 | N27: =IF(M27>0,IF(L27>0,(L27*K$3+M27*10/3)/M$3,M27*10/3*(1-0.1*K$3)),IF(L27>10,L27*0.9,L27)) -> 0 | P27: =IF(O27>0,IF(N27>0,(N27*M$3+O27*10/3)/O$3,O27*10/3*(1-0.1*M$3)),IF(N27>10,N27*0.9,N27)) -> 0 | R27: =IF(Q27>0,IF(P27>0,(P27*O$3+Q27*10/3)/Q$3,Q27*10/3*(1-0.1*O$3)),IF(P27>10,P27*0.9,P27)) -> 0 | T27: =IF(S27>0,IF(R27>0,(R27*Q$3+S27*10/3)/S$3,S27*10/3*(1-0.1*Q$3)),IF(R27>10,R27*0.9,R27)) -> 0 | V27: =IF(U27>0,IF(T27>0,(T27*S$3+U27*10/3)/U$3,U27*10/3*(1-0.1*S$3)),IF(T27>10,T27*0.9,T27)) -> 0
A28: =A27+1 -> 24 | D28: =C28/3*10 -> 0 | F28: =IF(E28>0,IF(D28>0,(D28*C$3+E28*10/3)/E$3,E28*10/3*(1-0.1*C$3)),IF(D28>10,D28*0.9,D28)) -> 0 | H28: =IF(G28>0,IF(F28>0,(F28*E$3+G28*10/3)/G$3,G28*10/3*(1-0.1*E$3)),IF(F28>10,F28*0.9,F28)) -> 0 | J28: =IF(I28>0,IF(H28>0,(H28*G$3+I28*10/3)/I$3,I28*10/3*(1-0.1*G$3)),IF(H28>10,H28*0.9,H28)) -> 0 | L28: =IF(K28>0,IF(J28>0,(J28*I$3+K28*10/3)/K$3,K28*10/3*(1-0.1*I$3)),IF(J28>10,J28*0.9,J28)) -> 0 | N28: =IF(M28>0,IF(L28>0,(L28*K$3+M28*10/3)/M$3,M28*10/3*(1-0.1*K$3)),IF(L28>10,L28*0.9,L28)) -> 0 | P28: =IF(O28>0,IF(N28>0,(N28*M$3+O28*10/3)/O$3,O28*10/3*(1-0.1*M$3)),IF(N28>10,N28*0.9,N28)) -> 0 | R28: =IF(Q28>0,IF(P28>0,(P28*O$3+Q28*10/3)/Q$3,Q28*10/3*(1-0.1*O$3)),IF(P28>10,P28*0.9,P28)) -> 0 | T28: =IF(S28>0,IF(R28>0,(R28*Q$3+S28*10/3)/S$3,S28*10/3*(1-0.1*Q$3)),IF(R28>10,R28*0.9,R28)) -> 0 | V28: =IF(U28>0,IF(T28>0,(T28*S$3+U28*10/3)/U$3,U28*10/3*(1-0.1*S$3)),IF(T28>10,T28*0.9,T28)) -> 0
A29: =A28+1 -> 25 | D29: =C29/3*10 -> 0 | F29: =IF(E29>0,IF(D29>0,(D29*C$3+E29*10/3)/E$3,E29*10/3*(1-0.1*C$3)),IF(D29>10,D29*0.9,D29)) -> 0 | H29: =IF(G29>0,IF(F29>0,(F29*E$3+G29*10/3)/G$3,G29*10/3*(1-0.1*E$3)),IF(F29>10,F29*0.9,F29)) -> 0 | J29: =IF(I29>0,IF(H29>0,(H29*G$3+I29*10/3)/I$3,I29*10/3*(1-0.1*G$3)),IF(H29>10,H29*0.9,H29)) -> 0 | L29: =IF(K29>0,IF(J29>0,(J29*I$3+K29*10/3)/K$3,K29*10/3*(1-0.1*I$3)),IF(J29>10,J29*0.9,J29)) -> 0 | N29: =IF(M29>0,IF(L29>0,(L29*K$3+M29*10/3)/M$3,M29*10/3*(1-0.1*K$3)),IF(L29>10,L29*0.9,L29)) -> 0 | P29: =IF(O29>0,IF(N29>0,(N29*M$3+O29*10/3)/O$3,O29*10/3*(1-0.1*M$3)),IF(N29>10,N29*0.9,N29)) -> 0 | R29: =IF(Q29>0,IF(P29>0,(P29*O$3+Q29*10/3)/Q$3,Q29*10/3*(1-0.1*O$3)),IF(P29>10,P29*0.9,P29)) -> 0 | T29: =IF(S29>0,IF(R29>0,(R29*Q$3+S29*10/3)/S$3,S29*10/3*(1-0.1*Q$3)),IF(R29>10,R29*0.9,R29)) -> 0 | V29: =IF(U29>0,IF(T29>0,(T29*S$3+U29*10/3)/U$3,U29*10/3*(1-0.1*S$3)),IF(T29>10,T29*0.9,T29)) -> 0
A30: =A29+1 -> 26 | D30: =C30/3*10 -> 0 | F30: =IF(E30>0,IF(D30>0,(D30*C$3+E30*10/3)/E$3,E30*10/3*(1-0.1*C$3)),IF(D30>10,D30*0.9,D30)) -> 0 | H30: =IF(G30>0,IF(F30>0,(F30*E$3+G30*10/3)/G$3,G30*10/3*(1-0.1*E$3)),IF(F30>10,F30*0.9,F30)) -> 0 | J30: =IF(I30>0,IF(H30>0,(H30*G$3+I30*10/3)/I$3,I30*10/3*(1-0.1*G$3)),IF(H30>10,H30*0.9,H30)) -> 0 | L30: =IF(K30>0,IF(J30>0,(J30*I$3+K30*10/3)/K$3,K30*10/3*(1-0.1*I$3)),IF(J30>10,J30*0.9,J30)) -> 0 | N30: =IF(M30>0,IF(L30>0,(L30*K$3+M30*10/3)/M$3,M30*10/3*(1-0.1*K$3)),IF(L30>10,L30*0.9,L30)) -> 0 | P30: =IF(O30>0,IF(N30>0,(N30*M$3+O30*10/3)/O$3,O30*10/3*(1-0.1*M$3)),IF(N30>10,N30*0.9,N30)) -> 0 | R30: =IF(Q30>0,IF(P30>0,(P30*O$3+Q30*10/3)/Q$3,Q30*10/3*(1-0.1*O$3)),IF(P30>10,P30*0.9,P30)) -> 0 | T30: =IF(S30>0,IF(R30>0,(R30*Q$3+S30*10/3)/S$3,S30*10/3*(1-0.1*Q$3)),IF(R30>10,R30*0.9,R30)) -> 0 | V30: =IF(U30>0,IF(T30>0,(T30*S$3+U30*10/3)/U$3,U30*10/3*(1-0.1*S$3)),IF(T30>10,T30*0.9,T30)) -> 0
A31: =A30+1 -> 27 | D31: =C31/3*10 -> 0 | F31: =IF(E31>0,IF(D31>0,(D31*C$3+E31*10/3)/E$3,E31*10/3*(1-0.1*C$3)),IF(D31>10,D31*0.9,D31)) -> 0 | H31: =IF(G31>0,IF(F31>0,(F31*E$3+G31*10/3)/G$3,G31*10/3*(1-0.1*E$3)),IF(F31>10,F31*0.9,F31)) -> 0 | J31: =IF(I31>0,IF(H31>0,(H31*G$3+I31*10/3)/I$3,I31*10/3*(1-0.1*G$3)),IF(H31>10,H31*0.9,H31)) -> 0 | L31: =IF(K31>0,IF(J31>0,(J31*I$3+K31*10/3)/K$3,K31*10/3*(1-0.1*I$3)),IF(J31>10,J31*0.9,J31)) -> 0 | N31: =IF(M31>0,IF(L31>0,(L31*K$3+M31*10/3)/M$3,M31*10/3*(1-0.1*K$3)),IF(L31>10,L31*0.9,L31)) -> 0 | P31: =IF(O31>0,IF(N31>0,(N31*M$3+O31*10/3)/O$3,O31*10/3*(1-0.1*M$3)),IF(N31>10,N31*0.9,N31)) -> 0 | R31: =IF(Q31>0,IF(P31>0,(P31*O$3+Q31*10/3)/Q$3,Q31*10/3*(1-0.1*O$3)),IF(P31>10,P31*0.9,P31)) -> 0 | T31: =IF(S31>0,IF(R31>0,(R31*Q$3+S31*10/3)/S$3,S31*10/3*(1-0.1*Q$3)),IF(R31>10,R31*0.9,R31)) -> 0 | V31: =IF(U31>0,IF(T31>0,(T31*S$3+U31*10/3)/U$3,U31*10/3*(1-0.1*S$3)),IF(T31>10,T31*0.9,T31)) -> 0
A32: =A31+1 -> 28 | D32: =C32/3*10 -> 0 | F32: =IF(E32>0,IF(D32>0,(D32*C$3+E32*10/3)/E$3,E32*10/3*(1-0.1*C$3)),IF(D32>10,D32*0.9,D32)) -> 0 | H32: =IF(G32>0,IF(F32>0,(F32*E$3+G32*10/3)/G$3,G32*10/3*(1-0.1*E$3)),IF(F32>10,F32*0.9,F32)) -> 0 | J32: =IF(I32>0,IF(H32>0,(H32*G$3+I32*10/3)/I$3,I32*10/3*(1-0.1*G$3)),IF(H32>10,H32*0.9,H32)) -> 0 | L32: =IF(K32>0,IF(J32>0,(J32*I$3+K32*10/3)/K$3,K32*10/3*(1-0.1*I$3)),IF(J32>10,J32*0.9,J32)) -> 0 | N32: =IF(M32>0,IF(L32>0,(L32*K$3+M32*10/3)/M$3,M32*10/3*(1-0.1*K$3)),IF(L32>10,L32*0.9,L32)) -> 0 | P32: =IF(O32>0,IF(N32>0,(N32*M$3+O32*10/3)/O$3,O32*10/3*(1-0.1*M$3)),IF(N32>10,N32*0.9,N32)) -> 0 | R32: =IF(Q32>0,IF(P32>0,(P32*O$3+Q32*10/3)/Q$3,Q32*10/3*(1-0.1*O$3)),IF(P32>10,P32*0.9,P32)) -> 0 | T32: =IF(S32>0,IF(R32>0,(R32*Q$3+S32*10/3)/S$3,S32*10/3*(1-0.1*Q$3)),IF(R32>10,R32*0.9,R32)) -> 0 | V32: =IF(U32>0,IF(T32>0,(T32*S$3+U32*10/3)/U$3,U32*10/3*(1-0.1*S$3)),IF(T32>10,T32*0.9,T32)) -> 0
A33: =A32+1 -> 29 | D33: =C33/3*10 -> 0 | F33: =IF(E33>0,IF(D33>0,(D33*C$3+E33*10/3)/E$3,E33*10/3*(1-0.1*C$3)),IF(D33>10,D33*0.9,D33)) -> 0 | H33: =IF(G33>0,IF(F33>0,(F33*E$3+G33*10/3)/G$3,G33*10/3*(1-0.1*E$3)),IF(F33>10,F33*0.9,F33)) -> 0 | J33: =IF(I33>0,IF(H33>0,(H33*G$3+I33*10/3)/I$3,I33*10/3*(1-0.1*G$3)),IF(H33>10,H33*0.9,H33)) -> 0 | L33: =IF(K33>0,IF(J33>0,(J33*I$3+K33*10/3)/K$3,K33*10/3*(1-0.1*I$3)),IF(J33>10,J33*0.9,J33)) -> 0 | N33: =IF(M33>0,IF(L33>0,(L33*K$3+M33*10/3)/M$3,M33*10/3*(1-0.1*K$3)),IF(L33>10,L33*0.9,L33)) -> 0 | P33: =IF(O33>0,IF(N33>0,(N33*M$3+O33*10/3)/O$3,O33*10/3*(1-0.1*M$3)),IF(N33>10,N33*0.9,N33)) -> 0 | R33: =IF(Q33>0,IF(P33>0,(P33*O$3+Q33*10/3)/Q$3,Q33*10/3*(1-0.1*O$3)),IF(P33>10,P33*0.9,P33)) -> 0 | T33: =IF(S33>0,IF(R33>0,(R33*Q$3+S33*10/3)/S$3,S33*10/3*(1-0.1*Q$3)),IF(R33>10,R33*0.9,R33)) -> 0 | V33: =IF(U33>0,IF(T33>0,(T33*S$3+U33*10/3)/U$3,U33*10/3*(1-0.1*S$3)),IF(T33>10,T33*0.9,T33)) -> 0
A34: =A33+1 -> 30 | D34: =C34/3*10 -> 0 | F34: =IF(E34>0,IF(D34>0,(D34*C$3+E34*10/3)/E$3,E34*10/3*(1-0.1*C$3)),IF(D34>10,D34*0.9,D34)) -> 0 | H34: =IF(G34>0,IF(F34>0,(F34*E$3+G34*10/3)/G$3,G34*10/3*(1-0.1*E$3)),IF(F34>10,F34*0.9,F34)) -> 0 | J34: =IF(I34>0,IF(H34>0,(H34*G$3+I34*10/3)/I$3,I34*10/3*(1-0.1*G$3)),IF(H34>10,H34*0.9,H34)) -> 0 | L34: =IF(K34>0,IF(J34>0,(J34*I$3+K34*10/3)/K$3,K34*10/3*(1-0.1*I$3)),IF(J34>10,J34*0.9,J34)) -> 0 | N34: =IF(M34>0,IF(L34>0,(L34*K$3+M34*10/3)/M$3,M34*10/3*(1-0.1*K$3)),IF(L34>10,L34*0.9,L34)) -> 0 | P34: =IF(O34>0,IF(N34>0,(N34*M$3+O34*10/3)/O$3,O34*10/3*(1-0.1*M$3)),IF(N34>10,N34*0.9,N34)) -> 0 | R34: =IF(Q34>0,IF(P34>0,(P34*O$3+Q34*10/3)/Q$3,Q34*10/3*(1-0.1*O$3)),IF(P34>10,P34*0.9,P34)) -> 0 | T34: =IF(S34>0,IF(R34>0,(R34*Q$3+S34*10/3)/S$3,S34*10/3*(1-0.1*Q$3)),IF(R34>10,R34*0.9,R34)) -> 0 | V34: =IF(U34>0,IF(T34>0,(T34*S$3+U34*10/3)/U$3,U34*10/3*(1-0.1*S$3)),IF(T34>10,T34*0.9,T34)) -> 0
A35: =A34+1 -> 31 | D35: =C35/3*10 -> 0 | F35: =IF(E35>0,IF(D35>0,(D35*C$3+E35*10/3)/E$3,E35*10/3*(1-0.1*C$3)),IF(D35>10,D35*0.9,D35)) -> 0 | H35: =IF(G35>0,IF(F35>0,(F35*E$3+G35*10/3)/G$3,G35*10/3*(1-0.1*E$3)),IF(F35>10,F35*0.9,F35)) -> 0 | J35: =IF(I35>0,IF(H35>0,(H35*G$3+I35*10/3)/I$3,I35*10/3*(1-0.1*G$3)),IF(H35>10,H35*0.9,H35)) -> 0 | L35: =IF(K35>0,IF(J35>0,(J35*I$3+K35*10/3)/K$3,K35*10/3*(1-0.1*I$3)),IF(J35>10,J35*0.9,J35)) -> 0 | N35: =IF(M35>0,IF(L35>0,(L35*K$3+M35*10/3)/M$3,M35*10/3*(1-0.1*K$3)),IF(L35>10,L35*0.9,L35)) -> 0 | P35: =IF(O35>0,IF(N35>0,(N35*M$3+O35*10/3)/O$3,O35*10/3*(1-0.1*M$3)),IF(N35>10,N35*0.9,N35)) -> 0 | R35: =IF(Q35>0,IF(P35>0,(P35*O$3+Q35*10/3)/Q$3,Q35*10/3*(1-0.1*O$3)),IF(P35>10,P35*0.9,P35)) -> 0 | T35: =IF(S35>0,IF(R35>0,(R35*Q$3+S35*10/3)/S$3,S35*10/3*(1-0.1*Q$3)),IF(R35>10,R35*0.9,R35)) -> 0 | V35: =IF(U35>0,IF(T35>0,(T35*S$3+U35*10/3)/U$3,U35*10/3*(1-0.1*S$3)),IF(T35>10,T35*0.9,T35)) -> 0
A36: =A35+1 -> 32 | D36: =C36/3*10 -> 0 | F36: =IF(E36>0,IF(D36>0,(D36*C$3+E36*10/3)/E$3,E36*10/3*(1-0.1*C$3)),IF(D36>10,D36*0.9,D36)) -> 0 | H36: =IF(G36>0,IF(F36>0,(F36*E$3+G36*10/3)/G$3,G36*10/3*(1-0.1*E$3)),IF(F36>10,F36*0.9,F36)) -> 0 | J36: =IF(I36>0,IF(H36>0,(H36*G$3+I36*10/3)/I$3,I36*10/3*(1-0.1*G$3)),IF(H36>10,H36*0.9,H36)) -> 0 | L36: =IF(K36>0,IF(J36>0,(J36*I$3+K36*10/3)/K$3,K36*10/3*(1-0.1*I$3)),IF(J36>10,J36*0.9,J36)) -> 0 | N36: =IF(M36>0,IF(L36>0,(L36*K$3+M36*10/3)/M$3,M36*10/3*(1-0.1*K$3)),IF(L36>10,L36*0.9,L36)) -> 0 | P36: =IF(O36>0,IF(N36>0,(N36*M$3+O36*10/3)/O$3,O36*10/3*(1-0.1*M$3)),IF(N36>10,N36*0.9,N36)) -> 0 | R36: =IF(Q36>0,IF(P36>0,(P36*O$3+Q36*10/3)/Q$3,Q36*10/3*(1-0.1*O$3)),IF(P36>10,P36*0.9,P36)) -> 0 | T36: =IF(S36>0,IF(R36>0,(R36*Q$3+S36*10/3)/S$3,S36*10/3*(1-0.1*Q$3)),IF(R36>10,R36*0.9,R36)) -> 0 | V36: =IF(U36>0,IF(T36>0,(T36*S$3+U36*10/3)/U$3,U36*10/3*(1-0.1*S$3)),IF(T36>10,T36*0.9,T36)) -> 0
A37: =A36+1 -> 33 | D37: =C37/3*10 -> 0 | F37: =IF(E37>0,IF(D37>0,(D37*C$3+E37*10/3)/E$3,E37*10/3*(1-0.1*C$3)),IF(D37>10,D37*0.9,D37)) -> 0 | H37: =IF(G37>0,IF(F37>0,(F37*E$3+G37*10/3)/G$3,G37*10/3*(1-0.1*E$3)),IF(F37>10,F37*0.9,F37)) -> 0 | J37: =IF(I37>0,IF(H37>0,(H37*G$3+I37*10/3)/I$3,I37*10/3*(1-0.1*G$3)),IF(H37>10,H37*0.9,H37)) -> 0 | L37: =IF(K37>0,IF(J37>0,(J37*I$3+K37*10/3)/K$3,K37*10/3*(1-0.1*I$3)),IF(J37>10,J37*0.9,J37)) -> 0 | N37: =IF(M37>0,IF(L37>0,(L37*K$3+M37*10/3)/M$3,M37*10/3*(1-0.1*K$3)),IF(L37>10,L37*0.9,L37)) -> 0 | P37: =IF(O37>0,IF(N37>0,(N37*M$3+O37*10/3)/O$3,O37*10/3*(1-0.1*M$3)),IF(N37>10,N37*0.9,N37)) -> 0 | R37: =IF(Q37>0,IF(P37>0,(P37*O$3+Q37*10/3)/Q$3,Q37*10/3*(1-0.1*O$3)),IF(P37>10,P37*0.9,P37)) -> 0 | T37: =IF(S37>0,IF(R37>0,(R37*Q$3+S37*10/3)/S$3,S37*10/3*(1-0.1*Q$3)),IF(R37>10,R37*0.9,R37)) -> 0 | V37: =IF(U37>0,IF(T37>0,(T37*S$3+U37*10/3)/U$3,U37*10/3*(1-0.1*S$3)),IF(T37>10,T37*0.9,T37)) -> 0
A38: =A37+1 -> 34 | D38: =C38/3*10 -> 0 | F38: =IF(E38>0,IF(D38>0,(D38*C$3+E38*10/3)/E$3,E38*10/3*(1-0.1*C$3)),IF(D38>10,D38*0.9,D38)) -> 0 | H38: =IF(G38>0,IF(F38>0,(F38*E$3+G38*10/3)/G$3,G38*10/3*(1-0.1*E$3)),IF(F38>10,F38*0.9,F38)) -> 0 | J38: =IF(I38>0,IF(H38>0,(H38*G$3+I38*10/3)/I$3,I38*10/3*(1-0.1*G$3)),IF(H38>10,H38*0.9,H38)) -> 0 | L38: =IF(K38>0,IF(J38>0,(J38*I$3+K38*10/3)/K$3,K38*10/3*(1-0.1*I$3)),IF(J38>10,J38*0.9,J38)) -> 0 | N38: =IF(M38>0,IF(L38>0,(L38*K$3+M38*10/3)/M$3,M38*10/3*(1-0.1*K$3)),IF(L38>10,L38*0.9,L38)) -> 0 | P38: =IF(O38>0,IF(N38>0,(N38*M$3+O38*10/3)/O$3,O38*10/3*(1-0.1*M$3)),IF(N38>10,N38*0.9,N38)) -> 0 | R38: =IF(Q38>0,IF(P38>0,(P38*O$3+Q38*10/3)/Q$3,Q38*10/3*(1-0.1*O$3)),IF(P38>10,P38*0.9,P38)) -> 0 | T38: =IF(S38>0,IF(R38>0,(R38*Q$3+S38*10/3)/S$3,S38*10/3*(1-0.1*Q$3)),IF(R38>10,R38*0.9,R38)) -> 0 | V38: =IF(U38>0,IF(T38>0,(T38*S$3+U38*10/3)/U$3,U38*10/3*(1-0.1*S$3)),IF(T38>10,T38*0.9,T38)) -> 0
... A50: =A49+1 -> 46 | D50: =C50/3*10 -> 0 | F50: =IF(E50>0,IF(D50>0,(D50*C$3+E50*10/3)/E$3,E50*10/3*(1-0.1*C$3)),IF(D50>10,D50*0.9,D50)) -> 0 | H50: =IF(G50>0,IF(F50>0,(F50*E$3+G50*10/3)/G$3,G50*10/3*(1-0.1*E$3)),IF(F50>10,F50*0.9,F50)) -> 0 | J50: =IF(I50>0,IF(H50>0,(H50*G$3+I50*10/3)/I$3,I50*10/3*(1-0.1*G$3)),IF(H50>10,H50*0.9,H50)) -> 0 | L50: =IF(K50>0,IF(J50>0,(J50*I$3+K50*10/3)/K$3,K50*10/3*(1-0.1*I$3)),IF(J50>10,J50*0.9,J50)) -> 0 | N50: =IF(M50>0,IF(L50>0,(L50*K$3+M50*10/3)/M$3,M50*10/3*(1-0.1*K$3)),IF(L50>10,L50*0.9,L50)) -> 0 | P50: =IF(O50>0,IF(N50>0,(N50*M$3+O50*10/3)/O$3,O50*10/3*(1-0.1*M$3)),IF(N50>10,N50*0.9,N50)) -> 0 | R50: =IF(Q50>0,IF(P50>0,(P50*O$3+Q50*10/3)/Q$3,Q50*10/3*(1-0.1*O$3)),IF(P50>10,P50*0.9,P50)) -> 0 | T50: =IF(S50>0,IF(R50>0,(R50*Q$3+S50*10/3)/S$3,S50*10/3*(1-0.1*Q$3)),IF(R50>10,R50*0.9,R50)) -> 0 | V50: =IF(U50>0,IF(T50>0,(T50*S$3+U50*10/3)/U$3,U50*10/3*(1-0.1*S$3)),IF(T50>10,T50*0.9,T50)) -> 0
A51: 45 | D51: =C51/3*10 -> 0 | F51: =IF(E51>0,IF(D51>0,(D51*C$3+E51*10/3)/E$3,E51*10/3*(1-0.1*C$3)),IF(D51>10,D51*0.9,D51)) -> 0 | H51: =IF(G51>0,IF(F51>0,(F51*E$3+G51*10/3)/G$3,G51*10/3*(1-0.1*E$3)),IF(F51>10,F51*0.9,F51)) -> 0 | J51: =IF(I51>0,IF(H51>0,(H51*G$3+I51*10/3)/I$3,I51*10/3*(1-0.1*G$3)),IF(H51>10,H51*0.9,H51)) -> 0 | L51: =IF(K51>0,IF(J51>0,(J51*I$3+K51*10/3)/K$3,K51*10/3*(1-0.1*I$3)),IF(J51>10,J51*0.9,J51)) -> 0 | N51: =IF(M51>0,IF(L51>0,(L51*K$3+M51*10/3)/M$3,M51*10/3*(1-0.1*K$3)),IF(L51>10,L51*0.9,L51)) -> 0 | P51: =IF(O51>0,IF(N51>0,(N51*M$3+O51*10/3)/O$3,O51*10/3*(1-0.1*M$3)),IF(N51>10,N51*0.9,N51)) -> 0 | R51: =IF(Q51>0,IF(P51>0,(P51*O$3+Q51*10/3)/Q$3,Q51*10/3*(1-0.1*O$3)),IF(P51>10,P51*0.9,P51)) -> 0 | T51: =IF(S51>0,IF(R51>0,(R51*Q$3+S51*10/3)/S$3,S51*10/3*(1-0.1*Q$3)),IF(R51>10,R51*0.9,R51)) -> 0 | V51: =IF(U51>0,IF(T51>0,(T51*S$3+U51*10/3)/U$3,U51*10/3*(1-0.1*S$3)),IF(T51>10,T51*0.9,T51)) -> 0
A52: =A51+1 -> 46 | D52: =C52/3*10 -> 0 | F52: =IF(E52>0,IF(D52>0,(D52*C$3+E52*10/3)/E$3,E52*10/3*(1-0.1*C$3)),IF(D52>10,D52*0.9,D52)) -> 0 | H52: =IF(G52>0,IF(F52>0,(F52*E$3+G52*10/3)/G$3,G52*10/3*(1-0.1*E$3)),IF(F52>10,F52*0.9,F52)) -> 0 | J52: =IF(I52>0,IF(H52>0,(H52*G$3+I52*10/3)/I$3,I52*10/3*(1-0.1*G$3)),IF(H52>10,H52*0.9,H52)) -> 0 | L52: =IF(K52>0,IF(J52>0,(J52*I$3+K52*10/3)/K$3,K52*10/3*(1-0.1*I$3)),IF(J52>10,J52*0.9,J52)) -> 0 | N52: =IF(M52>0,IF(L52>0,(L52*K$3+M52*10/3)/M$3,M52*10/3*(1-0.1*K$3)),IF(L52>10,L52*0.9,L52)) -> 0 | P52: =IF(O52>0,IF(N52>0,(N52*M$3+O52*10/3)/O$3,O52*10/3*(1-0.1*M$3)),IF(N52>10,N52*0.9,N52)) -> 0 | R52: =IF(Q52>0,IF(P52>0,(P52*O$3+Q52*10/3)/Q$3,Q52*10/3*(1-0.1*O$3)),IF(P52>10,P52*0.9,P52)) -> 0 | T52: =IF(S52>0,IF(R52>0,(R52*Q$3+S52*10/3)/S$3,S52*10/3*(1-0.1*Q$3)),IF(R52>10,R52*0.9,R52)) -> 0 | V52: =IF(U52>0,IF(T52>0,(T52*S$3+U52*10/3)/U$3,U52*10/3*(1-0.1*S$3)),IF(T52>10,T52*0.9,T52)) -> 0
A53: =A52+1 -> 47 | D53: =C53/3*10 -> 0 | F53: =IF(E53>0,IF(D53>0,(D53*C$3+E53*10/3)/E$3,E53*10/3*(1-0.1*C$3)),IF(D53>10,D53*0.9,D53)) -> 0 | H53: =IF(G53>0,IF(F53>0,(F53*E$3+G53*10/3)/G$3,G53*10/3*(1-0.1*E$3)),IF(F53>10,F53*0.9,F53)) -> 0 | J53: =IF(I53>0,IF(H53>0,(H53*G$3+I53*10/3)/I$3,I53*10/3*(1-0.1*G$3)),IF(H53>10,H53*0.9,H53)) -> 0 | L53: =IF(K53>0,IF(J53>0,(J53*I$3+K53*10/3)/K$3,K53*10/3*(1-0.1*I$3)),IF(J53>10,J53*0.9,J53)) -> 0 | N53: =IF(M53>0,IF(L53>0,(L53*K$3+M53*10/3)/M$3,M53*10/3*(1-0.1*K$3)),IF(L53>10,L53*0.9,L53)) -> 0 | P53: =IF(O53>0,IF(N53>0,(N53*M$3+O53*10/3)/O$3,O53*10/3*(1-0.1*M$3)),IF(N53>10,N53*0.9,N53)) -> 0 | R53: =IF(Q53>0,IF(P53>0,(P53*O$3+Q53*10/3)/Q$3,Q53*10/3*(1-0.1*O$3)),IF(P53>10,P53*0.9,P53)) -> 0 | T53: =IF(S53>0,IF(R53>0,(R53*Q$3+S53*10/3)/S$3,S53*10/3*(1-0.1*Q$3)),IF(R53>10,R53*0.9,R53)) -> 0 | V53: =IF(U53>0,IF(T53>0,(T53*S$3+U53*10/3)/U$3,U53*10/3*(1-0.1*S$3)),IF(T53>10,T53*0.9,T53)) -> 0
A54: =A53+1 -> 48 | P54: =IF(O54>0,IF(N54>0,(N54*M$3+O54*10/3)/O$3,O54*10/3*(1-0.1*M$3)),IF(N54>10,N54*0.9,N54)) -> 0 | R54: =IF(Q54>0,IF(P54>0,(P54*O$3+Q54*10/3)/Q$3,Q54*10/3*(1-0.1*O$3)),IF(P54>10,P54*0.9,P54)) -> 0 | T54: =IF(S54>0,IF(R54>0,(R54*Q$3+S54*10/3)/S$3,S54*10/3*(1-0.1*Q$3)),IF(R54>10,R54*0.9,R54)) -> 0 | V54: =IF(U54>0,IF(T54>0,(T54*S$3+U54*10/3)/U$3,U54*10/3*(1-0.1*S$3)),IF(T54>10,T54*0.9,T54)) -> 0
A55: =A54+1 -> 49 | T55: =IF(S55>0,IF(R55>0,(R55*Q$3+S55*10/3)/S$3,S55*10/3*(1-0.1*Q$3)),IF(R55>10,R55*0.9,R55)) -> 0 | V55: =IF(U55>0,IF(T55>0,(T55*S$3+U55*10/3)/U$3,U55*10/3*(1-0.1*S$3)),IF(T55>10,T55*0.9,T55)) -> 0
A56: =A55+1 -> 50 | P56: =IF(O56>0,IF(N56>0,(N56*M$3+O56*10/3)/O$3,O56*10/3*(1-0.1*M$3)),IF(N56>10,N56*0.9,N56)) -> 0 | R56: =IF(Q56>0,IF(P56>0,(P56*O$3+Q56*10/3)/Q$3,Q56*10/3*(1-0.1*O$3)),IF(P56>10,P56*0.9,P56)) -> 0 | T56: =IF(S56>0,IF(R56>0,(R56*Q$3+S56*10/3)/S$3,S56*10/3*(1-0.1*Q$3)),IF(R56>10,R56*0.9,R56)) -> 0 | V56: =IF(U56>0,IF(T56>0,(T56*S$3+U56*10/3)/U$3,U56*10/3*(1-0.1*S$3)),IF(T56>10,T56*0.9,T56)) -> 0
A57: =A56+1 -> 51 | T57: =IF(S57>0,IF(R57>0,(R57*Q$3+S57*10/3)/S$3,S57*10/3*(1-0.1*Q$3)),IF(R57>10,R57*0.9,R57)) -> 0 | V57: =IF(U57>0,IF(T57>0,(T57*S$3+U57*10/3)/U$3,U57*10/3*(1-0.1*S$3)),IF(T57>10,T57*0.9,T57)) -> 0
A58: =A57+1 -> 52 | T58: =IF(S58>0,IF(R58>0,(R58*Q$3+S58*10/3)/S$3,S58*10/3*(1-0.1*Q$3)),IF(R58>10,R58*0.9,R58)) -> 0 | V58: =IF(U58>0,IF(T58>0,(T58*S$3+U58*10/3)/U$3,U58*10/3*(1-0.1*S$3)),IF(T58>10,T58*0.9,T58)) -> 0
A59: =A58+1 -> 53 | T59: =IF(S59>0,IF(R59>0,(R59*Q$3+S59*10/3)/S$3,S59*10/3*(1-0.1*Q$3)),IF(R59>10,R59*0.9,R59)) -> 0 | V59: =IF(U59>0,IF(T59>0,(T59*S$3+U59*10/3)/U$3,U59*10/3*(1-0.1*S$3)),IF(T59>10,T59*0.9,T59)) -> 0
A60: 56 | T60: =IF(S60>0,IF(R60>0,(R60*Q$3+S60*10/3)/S$3,S60*10/3*(1-0.1*Q$3)),IF(R60>10,R60*0.9,R60)) -> 0 | V60: =IF(U60>0,IF(T60>0,(T60*S$3+U60*10/3)/U$3,U60*10/3*(1-0.1*S$3)),IF(T60>10,T60*0.9,T60)) -> 0
A61: 57 | T61: =IF(S61>0,IF(R61>0,(R61*Q$3+S61*10/3)/S$3,S61*10/3*(1-0.1*Q$3)),IF(R61>10,R61*0.9,R61)) -> 0 | V61: =IF(U61>0,IF(T61>0,(T61*S$3+U61*10/3)/U$3,U61*10/3*(1-0.1*S$3)),IF(T61>10,T61*0.9,T61)) -> 0
A62: 58 | T62: =IF(S62>0,IF(R62>0,(R62*Q$3+S62*10/3)/S$3,S62*10/3*(1-0.1*Q$3)),IF(R62>10,R62*0.9,R62)) -> 0 | V62: =IF(U62>0,IF(T62>0,(T62*S$3+U62*10/3)/U$3,U62*10/3*(1-0.1*S$3)),IF(T62>10,T62*0.9,T62)) -> 0
A63: 59 | T63: =IF(S63>0,IF(R63>0,(R63*Q$3+S63*10/3)/S$3,S63*10/3*(1-0.1*Q$3)),IF(R63>10,R63*0.9,R63)) -> 0 | V63: =IF(U63>0,IF(T63>0,(T63*S$3+U63*10/3)/U$3,U63*10/3*(1-0.1*S$3)),IF(T63>10,T63*0.9,T63)) -> 0
A64: 60 | T64: =IF(S64>0,IF(R64>0,(R64*Q$3+S64*10/3)/S$3,S64*10/3*(1-0.1*Q$3)),IF(R64>10,R64*0.9,R64)) -> 0 | V64: =IF(U64>0,IF(T64>0,(T64*S$3+U64*10/3)/U$3,U64*10/3*(1-0.1*S$3)),IF(T64>10,T64*0.9,T64)) -> 0
A65: 61 | V65: =IF(U65>0,IF(T65>0,(T65*S$3+U65*10/3)/U$3,U65*10/3*(1-0.1*S$3)),IF(T65>10,T65*0.9,T65)) -> 0
A66: 62 | V66: =IF(U66>0,IF(T66>0,(T66*S$3+U66*10/3)/U$3,U66*10/3*(1-0.1*S$3)),IF(T66>10,T66*0.9,T66)) -> 0
A67: 63 | V67: =IF(U67>0,IF(T67>0,(T67*S$3+U67*10/3)/U$3,U67*10/3*(1-0.1*S$3)),IF(T67>10,T67*0.9,T67)) -> 0
A68: 64 | V68: =IF(U68>0,IF(T68>0,(T68*S$3+U68*10/3)/U$3,U68*10/3*(1-0.1*S$3)),IF(T68>10,T68*0.9,T68)) -> 0
A69: 65 | V69: =IF(U69>0,IF(T69>0,(T69*S$3+U69*10/3)/U$3,U69*10/3*(1-0.1*S$3)),IF(T69>10,T69*0.9,T69)) -> 0
A70: 66
A71: 67 | T71: =IF(S71>0,IF(R71>0,(R71*Q$3+S71*10/3)/S$3,S71*10/3*(1-0.1*Q$3)),IF(R71>10,R71*0.9,R71)) -> 0
A72: 68 | T72: =IF(S72>0,IF(R72>0,(R72*Q$3+S72*10/3)/S$3,S72*10/3*(1-0.1*Q$3)),IF(R72>10,R72*0.9,R72)) -> 0
A73: 69 | P73: =IF(O73>0,IF(N73>0,(N73*M$3+O73*10/3)/O$3,O73*10/3*(1-0.1*M$3)),IF(N73>10,N73*0.9,N73)) -> 0 | T73: =IF(S73>0,IF(R73>0,(R73*Q$3+S73*10/3)/S$3,S73*10/3*(1-0.1*Q$3)),IF(R73>10,R73*0.9,R73)) -> 0
A74: Лига Чемпионов проводится каждую среду в 20.30
A75: К участию приглашаются все желающие, чье время круга не более 3 секунд медленнее рекорда трассы.

Sheet Очки
A2: 6-12 | B2: группа | E2: 13-14 | F2: группа | I2: 15-16 | J2: группа | M2: 17-18 | N2: группа | Q2: 19-20 | R2: группа | U2: 21-22 | V2: группа | Y2: 23-24 | Z2: группа | AC2: 23-24 | AD2: группа | AG2: 28 человек
A3: Место | B3: 1 | E3: Место | F3: 1 | G3: 2 | I3: Место | J3: 1 | K3: 2 | M3: Место | N3: 1 | O3: 2 | Q3: Место | R3: 1 | S3: 2 | U3: Место | V3: 1 | W3: 2 | Y3: Место | Z3: 1 | AA3: 2 | AC3: Место | AD3: 1 | AE3: 2 | AH3: I | AI3: II | AJ3: III
A4: 1 | B4: 16 | E4: 1 | F4: 16 | G4: 12 | I4: 1 | J4: 16 | K4: 11.5 | M4: 1 | N4: 16 | O4: 11 | Q4: 1 | R4: 16 | S4: 10.5 | U4: 1 | V4: 16 | W4: 10 | Y4: 1 | Z4: 16 | AA4: 9.5 | AC4: 1 | AD4: 16 | AE4: 9.5 | AG4: 1 | AH4: 17 | AI4: 11.5 | AJ4: 6.5
A5: 2 | B5: 15 | E5: 2 | F5: 15 | G5: 11 | I5: 2 | J5: 15 | K5: 10.5 | M5: 2 | N5: 15 | O5: 10 | Q5: 2 | R5: 15 | S5: 9.5 | U5: 2 | V5: 15 | W5: 9 | Y5: 2 | Z5: 15 | AA5: 8.5 | AC5: 2 | AD5: 15 | AE5: 8.5 | AG5: 2 | AH5: 16 | AI5: 10.5 | AJ5: 5.5
A6: 3 | B6: 14 | E6: 3 | F6: 14 | G6: 10 | I6: 3 | J6: 14 | K6: 9.5 | M6: 3 | N6: 14 | O6: 9 | Q6: 3 | R6: 14 | S6: 8.5 | U6: 3 | V6: 14 | W6: 8 | Y6: 3 | Z6: 14 | AA6: 7.5 | AC6: 3 | AD6: 14 | AE6: 7.5 | AG6: 3 | AH6: 15 | AI6: 9.5 | AJ6: 4.5
A7: 4 | B7: 13 | E7: 4 | F7: 13 | G7: 9 | I7: 4 | J7: 13 | K7: 8.5 | M7: 4 | N7: 13 | O7: 8 | Q7: 4 | R7: 13 | S7: 7.5 | U7: 4 | V7: 13 | W7: 7 | Y7: 4 | Z7: 13 | AA7: 6.5 | AC7: 4 | AD7: 13 | AE7: 6.5 | AG7: 4 | AH7: 14 | AI7: 8.5 | AJ7: 3.5
A8: 5 | B8: 12 | E8: 5 | F8: 12 | G8: 8 | I8: 5 | J8: 12 | K8: 7.5 | M8: 5 | N8: 12 | O8: 7 | Q8: 5 | R8: 12 | S8: 6.5 | U8: 5 | V8: 12 | W8: 6 | Y8: 5 | Z8: 12 | AA8: 5.5 | AC8: 5 | AD8: 12 | AE8: 5.5 | AG8: 5 | AH8: 13 | AI8: 7.5 | AJ8: 2.5
A9: 6 | B9: 11.5 | E9: 6 | F9: 11.5 | G9: 7.5 | I9: 6 | J9: 11.5 | K9: 7 | M9: 6 | N9: 11.5 | O9: 6.5 | Q9: 6 | R9: 11.5 | S9: 6 | U9: 6 | V9: 11.5 | W9: 5.5 | Y9: 6 | Z9: 11.5 | AA9: 5 | AC9: 6 | AD9: 11.5 | AE9: 5 | AG9: 6 | AH9: 12.5 | AI9: 7 | AJ9: 2
A10: 7 | B10: 11 | E10: 7 | F10: 11 | G10: 7 | I10: 7 | J10: 11 | K10: 6.5 | M10: 7 | N10: 11 | O10: 6 | Q10: 7 | R10: 11 | S10: 5.5 | U10: 7 | V10: 11 | W10: 5 | Y10: 7 | Z10: 11 | AA10: 4.5 | AC10: 7 | AD10: 11 | AE10: 4.5 | AG10: 7 | AH10: 12 | AI10: 6.5 | AJ10: 1.5
A11: 8 | B11: 10.5 | I11: 8 | J11: 10.5 | K11: 6 | M11: 8 | N11: 10.5 | O11: 5.5 | Q11: 8 | R11: 10.5 | S11: 5 | U11: 8 | V11: 10.5 | W11: 4.5 | Y11: 8 | Z11: 10.5 | AA11: 4 | AC11: 8 | AD11: 10.5 | AE11: 4 | AG11: 8 | AH11: 11.5 | AI11: 6 | AJ11: 1
A12: 9 | B12: 10 | M12: 9 | N12: 10 | O12: 5 | Q12: 9 | R12: 10 | S12: 4.5 | U12: 9 | V12: 10 | W12: 4 | Y12: 9 | Z12: 10 | AA12: 3.5 | AC12: 9 | AD12: 10 | AE12: 3.5 | AG12: 9 | AH12: 11 | AI12: 5.5 | AJ12: 0.5
A13: 10 | B13: 9.5 | Q13: 10 | R13: 9.5 | S13: 4 | U13: 10 | V13: 9.5 | W13: 3.5 | Y13: 10 | Z13: 9.5 | AA13: 3 | AC13: 10 | AD13: 9.5 | AE13: 3 | AG13: 10 | AH13: 10.5
A14: 11 | B14: 9 | U14: 11 | V14: 9 | W14: 3 | Y14: 11 | Z14: 9 | AA14: 2.5 | AC14: 11 | AD14: 9 | AE14: 2.5
A15: 12 | B15: 8.5 | Y15: 12 | Z15: 8.5 | AA15: 2 | AC15: 12 | AD15: 8.5 | AE15: 2
AC16: 13 | AD16: 8 | AE16: 1.5
B18: Обгоны для 1 группы более 10 человек | P18: ОБГОНЫ
B19: с 13 | C19: с 12 | D19: с 11 | E19: с 10 | F19: с 9 | G19: с 8 | H19: с 7 | I19: с 6 | J19: с 5 | K19: с 4 | L19: с 3 | M19: со 2 | P19: I гр | AA19: II гр | AB19: III гр
A20: 1 | B20: 1.3 | C20: 1.3 | D20: 1.2 | E20: 1.1 | F20: 1 | G20: 0.9 | H20: 0.8 | I20: 0.7 | J20: 0.6 | K20: 0.6 | L20: 0.5 | M20: 0.5 | P20: с 12 | Q20: с 11 | R20: с 10 | S20: с 9 | T20: с 8 | U20: с 7 | V20: с 6 | W20: с 5 | X20: с 4 | Y20: с 3 | Z20: со 2
A21: 2 | B21: 2.6 | C21: 2.5 | D21: 2.3 | E21: 2.1 | F21: 1.9 | G21: 1.7 | H21: 1.5 | I21: 1.3 | J21: =J20+K20 -> 1.2 | K21: =K20+L20 -> 1.1 | L21: =L20+M20 -> 1 | O21: 1.4 | P21: 1.3 | Q21: 1.3 | R21: 1.3 | S21: 1.2 | T21: 1.2 | U21: 1.1 | V21: 1 | W21: 0.9 | X21: 0.8 | Y21: 0.7 | Z21: 0.7 | AA21: 0.7 | AB21: 0.5
A22: 3 | B22: 3.8 | C22: 3.6 | D22: 3.3 | E22: 3 | F22: 2.7 | G22: 2.4 | H22: 2.1 | I22: 1.9 | J22: =J21+L20 -> 1.7 | K22: =K21+M20 -> 1.6 | O22: =O21+P21 -> 2.7 | P22: =P21+Q21 -> 2.6 | Q22: =Q21+R21 -> 2.6 | R22: =R21+S21 -> 2.5 | S22: =S21+T21 -> 2.4 | T22: =T21+U21 -> 2.3 | U22: =U21+V21 -> 2.1 | V22: =V21+W21 -> 1.9 | ... Y22: =Y21+Z21 -> 1.4 | AA22: 1.4 | AB22: 1
A23: 4 | B23: 4.9 | C23: 4.6 | D23: 4.2 | E23: 3.8 | F23: 3.4 | G23: 3 | H23: 2.7 | I23: 2.4 | J23: =J22+M20 -> 2.2 | O23: =O22+Q21 -> 4 | P23: =P22+R21 -> 3.9 | Q23: =Q22+S21 -> 3.8 | R23: =R22+T21 -> 3.7 | S23: =S22+U21 -> 3.5 | T23: =T22+V21 -> 3.3 | U23: =U22+W21 -> 3 | V23: =V22+X21 -> 2.7 | ... X23: =X22+Z21 -> 2.2 | AA23: 2.1 | AB23: 1.5
A24: 5 | B24: 5.9 | C24: 5.5 | D24: =D23+H20 -> 5 | E24: 4.5 | F24: 4 | G24: 3.6 | H24: 3.2 | I24: 2.9 | O24: =O23+R21 -> 5.3 | P24: =P23+S21 -> 5.1 | Q24: =Q23+T21 -> 5 | R24: =R23+U21 -> 4.8 | S24: =S23+V21 -> 4.5 | T24: =T23+W21 -> 4.2 | U24: =U23+X21 -> 3.8 | V24: =V23+Y21 -> 3.4 | W24: =W23+Z21 -> 3.1 | AA24: 2.8 | AB24: 2
A25: 6 | B25: 6.8 | C25: 6.3 | D25: 5.7 | E25: 5.1 | F25: 4.6 | G25: 4.1 | H25: 3.7 | O25: =O24+S21 -> 6.5 | P25: =P24+T21 -> 6.3 | Q25: =Q24+U21 -> 6.1 | R25: =R24+V21 -> 5.8 | S25: =S24+W21 -> 5.4 | T25: =T24+X21 -> 5 | U25: =U24+Y21 -> 4.5 | V25: =V24+Z21 -> 4.1 | AA25: 3.5 | AB25: 2.5
A26: 7 | B26: 7.6 | C26: 7 | D26: 6.3 | E26: 5.7 | F26: 5.1 | G26: 4.6 | O26: =O25+T21 -> 7.7 | P26: =P25+U21 -> 7.4 | Q26: =Q25+V21 -> 7.1 | R26: =R25+W21 -> 6.7 | S26: =S25+X21 -> 6.2 | T26: =T25+Y21 -> 5.7 | U26: =U25+Z21 -> 5.2 | AA26: 4.2 | AB26: 3
A27: 8 | B27: 8.3 | C27: 7.6 | D27: 6.9 | E27: 6.2 | F27: 5.6 | O27: =O26+U21 -> 8.8 | P27: =P26+V21 -> 8.4 | Q27: =Q26+W21 -> 8 | R27: =R26+X21 -> 7.5 | S27: =S26+Y21 -> 6.9 | T27: =T26+Z21 -> 6.4 | AA27: 4.9 | AB27: 3.5
A28: 9 | B28: 8.9 | C28: 8.2 | D28: 7.4 | E28: 6.7 | O28: =O27+V21 -> 9.8 | P28: =P27+W21 -> 9.3 | Q28: =Q27+X21 -> 8.8 | R28: =R27+Y21 -> 8.2 | S28: =S27+Z21 -> 7.6 | AA28: 5.6 | AB28: 4
A29: 10 | B29: 9.5 | C29: 8.7 | D29: 7.9 | O29: =O28+W21 -> 10.7 | P29: =P28+X21 -> 10.1 | Q29: =Q28+Y21 -> 9.5 | R29: =R28+Z21 -> 8.9 | AA29: 6.3 | AB29: 4.5
A30: 11 | B30: 10 | C30: 9.2 | O30: =O29+X21 -> 11.5 | P30: =P29+Y21 -> 10.8 | Q30: =Q29+Z21 -> 10.2 | AA30: 7 | AB30: 5
A31: 12 | B31: 10.5 | O31: =O30+Y21 -> 12.2 | P31: =P30+Z21 -> 11.5 | AA31: 7.7 | AB31: 5.5
O32: =O31+Z21 -> 12.9

Sheet 20.06
A1: Лига II-й сезон 20.06.2018 конфиг 5r
A3: Место | B3: Участник | D3: 1 | G3: 2 | J3: 3 | M3: Очки | AA3: =SUM(M3:Z3) -> 0 | AB3: Сумма
C4: Довес | D4: группа | E4: Старт | F4: Финиш | G4: группа | H4: Старт | I4: Финиш | J4: группа | K4: Старт | L4: Финиш | M4: Квала | N4: 1 | R4: 2 | V4: 3
N5: очки | O5: обгоны | P5: время | Q5: штрафы | R5: очки | S5: обгоны | T5: время | U5: штрафы | V5: очки | W5: обгоны | X5: время | Y5: штрафы | Z5: 4
A6: =RANK(AB6,AB$6:OFFSET(AB$6,0,0,COUNTA(B$6:B$33))) -> 1 | B6: Ткаченко Антон / Tkachenko Anton | C6: - | D6: 1 | E6: 12 | F6: 10 | G6: 1 | H6: 12 | I6: 7 | J6: 1 | K6: 10 | L6: 2 | M6: 2.5 | N6: =OFFSET(Очки!$A$3,F6,D6+QUOTIENT(MAX($C$34-11,0), 2)*4) -> 9.5 | O6: =IF(F6<E6,OFFSET(IF(OR($C$34=11,$C$34=12),Очки!$B$17,Очки!$O$18),2+E6-F6,IF(D6=2,12,13-E6)),0) -> 2.5 | P6: 2.5 | R6: =OFFSET(Очки!$A$3,I6,G6+QUOTIENT(MAX($C$34-11,0), 2)*4) -> 11 | S6: =IF(I6<H6,OFFSET(IF(OR($C$34=11,$C$34=12),Очки!$B$17,Очки!$O$18),2+H6-I6,IF(G6=2,12,13-H6)),0) -> 5.5 | T6: 1.5 | V6: =OFFSET(Очки!$A$3,L6,J6+QUOTIENT(MAX($C$34-11,0), 2)*4) -> 15 | W6: =IF(L6<K6,OFFSET(IF(OR($C$34=11,$C$34=12),Очки!$B$17,Очки!$O$18),2+K6-L6,IF(J6=2,12,13-K6)),0) -> 6.2 | X6: 2.5 | AB6: =SUM(M6:Y6) -> 58.7
A7: =RANK(AB7,AB$6:OFFSET(AB$6,0,0,COUNTA(B$6:B$33))) -> 2 | B7: Манило Денис / Manilo Denis | C7: - | D7: 1 | E7: 11 | F7: 7 | G7: 1 | H7: 11 | I7: 8 | J7: 1 | K7: 7 | L7: 1 | M7: 2 | N7: =OFFSET(Очки!$A$3,F7,D7+QUOTIENT(MAX($C$34-11,0), 2)*4) -> 11 | O7: =IF(F7<E7,OFFSET(IF(OR($C$34=11,$C$34=12),Очки!$B$17,Очки!$O$18),2+E7-F7,IF(D7=2,12,13-E7)),0) -> 4.2 | P7: 2 | R7: =OFFSET(Очки!$A$3,I7,G7+QUOTIENT(MAX($C$34-11,0), 2)*4) -> 10.5 | S7: =IF(I7<H7,OFFSET(IF(OR($C$34=11,$C$34=12),Очки!$B$17,Очки!$O$18),2+H7-I7,IF(G7=2,12,13-H7)),0) -> 3.3 | V7: =OFFSET(Очки!$A$3,L7,J7+QUOTIENT(MAX($C$34-11,0), 2)*4) -> 16 | W7: =IF(L7<K7,OFFSET(IF(OR($C$34=11,$C$34=12),Очки!$B$17,Очки!$O$18),2+K7-L7,IF(J7=2,12,13-K7)),0) -> 3.7 | X7: 1 | AB7: =SUM(M7:Y7) -> 53.7
A8: =RANK(AB8,AB$6:OFFSET(AB$6,0,0,COUNTA(B$6:B$33))) -> 3 | B8: Наум / Vintoniv Ivan | C8: 2.5 | D8: 1 | E8: 8 | F8: 11 | G8: 1 | H8: 9 | I8: 2 | J8: 1 | K8: 12 | L8: 8 | M8: 0.5 | N8: =OFFSET(Очки!$A$3,F8,D8+QUOTIENT(MAX($C$34-11,0), 2)*4) -> 9 | O8: =IF(F8<E8,OFFSET(IF(OR($C$34=11,$C$34=12),Очки!$B$17,Очки!$O$18),2+E8-F8,IF(D8=2,12,13-E8)),0) -> 0 | P8: 1 | R8: =OFFSET(Очки!$A$3,I8,G8+QUOTIENT(MAX($C$34-11,0), 2)*4) -> 15 | S8: =IF(I8<H8,OFFSET(IF(OR($C$34=11,$C$34=12),Очки!$B$17,Очки!$O$18),2+H8-I8,IF(G8=2,12,13-H8)),0) -> 5.1 | T8: 2.5 | V8: =OFFSET(Очки!$A$3,L8,J8+QUOTIENT(MAX($C$34-11,0), 2)*4) -> 10.5 | W8: =IF(L8<K8,OFFSET(IF(OR($C$34=11,$C$34=12),Очки!$B$17,Очки!$O$18),2+K8-L8,IF(J8=2,12,13-K8)),0) -> 4.6 | X8: 2 | AB8: =SUM(M8:Y8) -> 50.2
A9: =RANK(AB9,AB$6:OFFSET(AB$6,0,0,COUNTA(B$6:B$33))) -> 4 | B9: Хавило Дима / Khavilo Dima | C9: 12.5 | D9: 1 | E9: 5 | F9: 9 | G9: 1 | H9: 6 | I9: 1 | J9: 1 | K9: 11 | L9: 6 | N9: =OFFSET(Очки!$A$3,F9,D9+QUOTIENT(MAX($C$34-11,0), 2)*4) -> 10 | O9: =IF(F9<E9,OFFSET(IF(OR($C$34=11,$C$34=12),Очки!$B$17,Очки!$O$18),2+E9-F9,IF(D9=2,12,13-E9)),0) -> 0 | R9: =OFFSET(Очки!$A$3,I9,G9+QUOTIENT(MAX($C$34-11,0), 2)*4) -> 16 | S9: =IF(I9<H9,OFFSET(IF(OR($C$34=11,$C$34=12),Очки!$B$17,Очки!$O$18),2+H9-I9,IF(G9=2,12,13-H9)),0) -> 2.9 | T9: 2 | V9: =OFFSET(Очки!$A$3,L9,J9+QUOTIENT(MAX($C$34-11,0), 2)*4) -> 11.5 | W9: =IF(L9<K9,OFFSET(IF(OR($C$34=11,$C$34=12),Очки!$B$17,Очки!$O$18),2+K9-L9,IF(J9=2,12,13-K9)),0) -> 5 | X9: 1.5 | AB9: =SUM(M9:Y9) -> 48.9
A10: =RANK(AB10,AB$6:OFFSET(AB$6,0,0,COUNTA(B$6:B$33))) -> 5 | B10: Онащук Максим / Onashuk Maxim | C10: - | D10: 1 | E10: 10 | F10: 4 | G10: 1 | H10: 7 | I10: 6 | J10: 1 | K10: 4 | L10: 10 | M10: 1.5 | N10: =OFFSET(Очки!$A$3,F10,D10+QUOTIENT(MAX($C$34-11,0), 2)*4) -> 13 | O10: =IF(F10<E10,OFFSET(IF(OR($C$34=11,$C$34=12),Очки!$B$17,Очки!$O$18),2+E10-F10,IF(D10=2,12,13-E10)),0) -> 5.1 | R10: =OFFSET(Очки!$A$3,I10,G10+QUOTIENT(MAX($C$34-11,0), 2)*4) -> 11.5 | S10: =IF(I10<H10,OFFSET(IF(OR($C$34=11,$C$34=12),Очки!$B$17,Очки!$O$18),2+H10-I10,IF(G10=2,12,13-H10)),0) -> 0.8 | V10: =OFFSET(Очки!$A$3,L10,J10+QUOTIENT(MAX($C$34-11,0), 2)*4) -> 9.5 | W10: =IF(L10<K10,OFFSET(IF(OR($C$34=11,$C$34=12),Очки!$B$17,Очки!$O$18),2+K10-L10,IF(J10=2,12,13-K10)),0) -> 0 | AB10: =SUM(M10:Y10) -> 41.4
A11: =RANK(AB11,AB$6:OFFSET(AB$6,0,0,COUNTA(B$6:B$33))) -> 6 | B11: Стоцкий Андрей / Stotskiy Andriy | C11: 20 | D11: 1 | E11: 9 | F11: 3 | G11: 1 | H11: 2 | I11: 11 | J11: 1 | K11: 1 | L11: 9 | M11: 1 | N11: =OFFSET(Очки!$A$3,F11,D11+QUOTIENT(MAX($C$34-11,0), 2)*4) -> 14 | O11: =IF(F11<E11,OFFSET(IF(OR($C$34=11,$C$34=12),Очки!$B$17,Очки!$O$18),2+E11-F11,IF(D11=2,12,13-E11)),0) -> 4.6 | R11: =OFFSET(Очки!$A$3,I11,G11+QUOTIENT(MAX($C$34-11,0), 2)*4) -> 9 | S11: =IF(I11<H11,OFFSET(IF(OR($C$34=11,$C$34=12),Очки!$B$17,Очки!$O$18),2+H11-I11,IF(G11=2,12,13-H11)),0) -> 0 | V11: =OFFSET(Очки!$A$3,L11,J11+QUOTIENT(MAX($C$34-11,0), 2)*4) -> 10 | W11: =IF(L11<K11,OFFSET(IF(OR($C$34=11,$C$34=12),Очки!$B$17,Очки!$O$18),2+K11-L11,IF(J11=2,12,13-K11)),0) -> 0 | AB11: =SUM(M11:Y11) -> 38.6
A12: =RANK(AB12,AB$6:OFFSET(AB$6,0,0,COUNTA(B$6:B$33))) -> 7 | B12: Хлопонин Андрей / Khloponin Andrew | C12: 10 | D12: 1 | E12: 6 | F12: 2 | G12: 1 | H12: 1 | I12: 11 | J12: 1 | K12: 2 | L12: 5 | N12: =OFFSET(Очки!$A$3,F12,D12+QUOTIENT(MAX($C$34-11,0), 2)*4) -> 15 | O12: =IF(F12<E12,OFFSET(IF(OR($C$34=11,$C$34=12),Очки!$B$17,Очки!$O$18),2+E12-F12,IF(D12=2,12,13-E12)),0) -> 2.4 | R12: =OFFSET(Очки!$A$3,I12,G12+QUOTIENT(MAX($C$34-11,0), 2)*4) -> 9 | S12: =IF(I12<H12,OFFSET(IF(OR($C$34=11,$C$34=12),Очки!$B$17,Очки!$O$18),2+H12-I12,IF(G12=2,12,13-H12)),0) -> 0 | V12: =OFFSET(Очки!$A$3,L12,J12+QUOTIENT(MAX($C$34-11,0), 2)*4) -> 12 | W12: =IF(L12<K12,OFFSET(IF(OR($C$34=11,$C$34=12),Очки!$B$17,Очки!$O$18),2+K12-L12,IF(J12=2,12,13-K12)),0) -> 0 | AB12: =SUM(M12:Y12) -> 38.4
A13: =RANK(AB13,AB$6:OFFSET(AB$6,0,0,COUNTA(B$6:B$33))) -> 8 | B13: Фалько Константин / Falko Konstantin | C13: - | D13: 1 | E13: 1 | F13: 1 | G13: 1 | H13: 3 | I13: 5 | J13: 1 | K13: 6 | L13: 7 | N13: =OFFSET(Очки!$A$3,F13,D13+QUOTIENT(MAX($C$34-11,0), 2)*4) -> 16 | O13: =IF(F13<E13,OFFSET(IF(OR($C$34=11,$C$34=12),Очки!$B$17,Очки!$O$18),2+E13-F13,IF(D13=2,12,13-E13)),0) -> 0 | R13: =OFFSET(Очки!$A$3,I13,G13+QUOTIENT(MAX($C$34-11,0), 2)*4) -> 12 | S13: =IF(I13<H13,OFFSET(IF(OR($C$34=11,$C$34=12),Очки!$B$17,Очки!$O$18),2+H13-I13,IF(G13=2,12,13-H13)),0) -> 0 | V13: =OFFSET(Очки!$A$3,L13,J13+QUOTIENT(MAX($C$34-11,0), 2)*4) -> 11 | W13: =IF(L13<K13,OFFSET(IF(OR($C$34=11,$C$34=12),Очки!$B$17,Очки!$O$18),2+K13-L13,IF(J13=2,12,13-K13)),0) -> 0 | Y13: -1 | AB13: =SUM(M13:Y13) -> 38
A14: =RANK(AB14,AB$6:OFFSET(AB$6,0,0,COUNTA(B$6:B$33))) -> 9 | B14: Линнык Владимир / Linnyk Volodymyr | C14: 2.5 | D14: 1 | E14: 7 | F14: 12 | G14: 1 | H14: 10 | I14: 4 | J14: 1 | K14: 8 | L14: 12 | N14: =OFFSET(Очки!$A$3,F14,D14+QUOTIENT(MAX($C$34-11,0), 2)*4) -> 8.5 | O14: =IF(F14<E14,OFFSET(IF(OR($C$34=11,$C$34=12),Очки!$B$17,Очки!$O$18),2+E14-F14,IF(D14=2,12,13-E14)),0) -> 0 | P14: 1.5 | R14: =OFFSET(Очки!$A$3,I14,G14+QUOTIENT(MAX($C$34-11,0), 2)*4) -> 13 | S14: =IF(I14<H14,OFFSET(IF(OR($C$34=11,$C$34=12),Очки!$B$17,Очки!$O$18),2+H14-I14,IF(G14=2,12,13-H14)),0) -> 5.1 | T14: 0.5 | V14: =OFFSET(Очки!$A$3,L14,J14+QUOTIENT(MAX($C$34-11,0), 2)*4) -> 8.5 | W14: =IF(L14<K14,OFFSET(IF(OR($C$34=11,$C$34=12),Очки!$B$17,Очки!$O$18),2+K14-L14,IF(J14=2,12,13-K14)),0) -> 0 | X14: 0.5 | AB14: =SUM(M14:Y14) -> 37.6
A15: =RANK(AB15,AB$6:OFFSET(AB$6,0,0,COUNTA(B$6:B$33))) -> 10 | B15: Фортуна Таня / Fortuna Tanya | C15: 15 | D15: 1 | E15: 2 | F15: 5 | G15: 1 | H15: 8 | I15: 3 | J15: 1 | K15: 9 | L15: 11 | N15: =OFFSET(Очки!$A$3,F15,D15+QUOTIENT(MAX($C$34-11,0), 2)*4) -> 12 | O15: =IF(F15<E15,OFFSET(IF(OR($C$34=11,$C$34=12),Очки!$B$17,Очки!$O$18),2+E15-F15,IF(D15=2,12,13-E15)),0) -> 0 | P15: 0.5 | R15: =OFFSET(Очки!$A$3,I15,G15+QUOTIENT(MAX($C$34-11,0), 2)*4) -> 14 | S15: =IF(I15<H15,OFFSET(IF(OR($C$34=11,$C$34=12),Очки!$B$17,Очки!$O$18),2+H15-I15,IF(G15=2,12,13-H15)),0) -> 3.6 | T15: 1 | U15: -4 | V15: =OFFSET(Очки!$A$3,L15,J15+QUOTIENT(MAX($C$34-11,0), 2)*4) -> 9 | W15: =IF(L15<K15,OFFSET(IF(OR($C$34=11,$C$34=12),Очки!$B$17,Очки!$O$18),2+K15-L15,IF(J15=2,12,13-K15)),0) -> 0 | AB15: =SUM(M15:Y15) -> 36.1
A16: =RANK(AB16,AB$6:OFFSET(AB$6,0,0,COUNTA(B$6:B$33))) -> 11 | B16: Лихошерст Алексей / Lykhosherst Aleksey | C16: 15 | D16: 1 | E16: 3 | F16: 8 | G16: 1 | H16: 4 | I16: 9 | J16: 1 | K16: 3 | L16: 3 | N16: =OFFSET(Очки!$A$3,F16,D16+QUOTIENT(MAX($C$34-11,0), 2)*4) -> 10.5 | O16: =IF(F16<E16,OFFSET(IF(OR($C$34=11,$C$34=12),Очки!$B$17,Очки!$O$18),2+E16-F16,IF(D16=2,12,13-E16)),0) -> 0 | R16: =OFFSET(Очки!$A$3,I16,G16+QUOTIENT(MAX($C$34-11,0), 2)*4) -> 10 | S16: =IF(I16<H16,OFFSET(IF(OR($C$34=11,$C$34=12),Очки!$B$17,Очки!$O$18),2+H16-I16,IF(G16=2,12,13-H16)),0) -> 0 | V16: =OFFSET(Очки!$A$3,L16,J16+QUOTIENT(MAX($C$34-11,0), 2)*4) -> 14 | W16: =IF(L16<K16,OFFSET(IF(OR($C$34=11,$C$34=12),Очки!$B$17,Очки!$O$18),2+K16-L16,IF(J16=2,12,13-K16)),0) -> 0 | AB16: =SUM(M16:Y16) -> 34.5
A17: =RANK(AB17,AB$6:OFFSET(AB$6,0,0,COUNTA(B$6:B$33))) -> 12 | B17: Тыщенко Михаил / Tishchenko Mikhail | C17: - | D17: 1 | E17: 4 | F17: 6 | G17: 1 | H17: 5 | I17: 10 | J17: 1 | K17: 5 | L17: 4 | N17: =OFFSET(Очки!$A$3,F17,D17+QUOTIENT(MAX($C$34-11,0), 2)*4) -> 11.5 | O17: =IF(F17<E17,OFFSET(IF(OR($C$34=11,$C$34=12),Очки!$B$17,Очки!$O$18),2+E17-F17,IF(D17=2,12,13-E17)),0) -> 0 | R17: =OFFSET(Очки!$A$3,I17,G17+QUOTIENT(MAX($C$34-11,0), 2)*4) -> 9.5 | S17: =IF(I17<H17,OFFSET(IF(OR($C$34=11,$C$34=12),Очки!$B$17,Очки!$O$18),2+H17-I17,IF(G17=2,12,13-H17)),0) -> 0 | V17: =OFFSET(Очки!$A$3,L17,J17+QUOTIENT(MAX($C$34-11,0), 2)*4) -> 13 | W17: =IF(L17<K17,OFFSET(IF(OR($C$34=11,$C$34=12),Очки!$B$17,Очки!$O$18),2+K17-L17,IF(J17=2,12,13-K17)),0) -> 0.6 | Y17: -4 | AB17: =SUM(M17:Y17) -> 30.6
A18: =RANK(AB18,AB$6:OFFSET(AB$6,0,0,COUNTA(B$6:B$33))) -> #N/A | N18: =OFFSET(Очки!$A$3,F18,D18+QUOTIENT(MAX($C$34-11,0), 2)*4) -> Место | O18: =IF(F18<E18,OFFSET(IF(OR($C$34=11,$C$34=12),Очки!$B$17,Очки!$O$18),2+E18-F18,IF(D18=2,12,13-E18)),0) -> 0 | R18: =OFFSET(Очки!$A$3,I18,G18+QUOTIENT(MAX($C$34-11,0), 2)*4) -> Место | S18: =IF(I18<H18,OFFSET(IF(OR($C$34=11,$C$34=12),Очки!$B$17,Очки!$O$18),2+H18-I18,IF(G18=2,12,13-H18)),0) -> 0 | V18: =OFFSET(Очки!$A$3,L18,J18+QUOTIENT(MAX($C$34-11,0), 2)*4) -> Место | W18: =IF(L18<K18,OFFSET(IF(OR($C$34=11,$C$34=12),Очки!$B$17,Очки!$O$18),2+K18-L18,IF(J18=2,12,13-K18)),0) -> 0 | AB18: =SUM(M18:Y18) -> 0
A19: =RANK(AB19,AB$6:OFFSET(AB$6,0,0,COUNTA(B$6:B$33))) -> #N/A | N19: =OFFSET(Очки!$A$3,F19,D19+QUOTIENT(MAX($C$34-11,0), 2)*4) -> Место | O19: =IF(F19<E19,OFFSET(IF(OR($C$34=11,$C$34=12),Очки!$B$17,Очки!$O$18),2+E19-F19,IF(D19=2,12,13-E19)),0) -> 0 | R19: =OFFSET(Очки!$A$3,I19,G19+QUOTIENT(MAX($C$34-11,0), 2)*4) -> Место | S19: =IF(I19<H19,OFFSET(IF(OR($C$34=11,$C$34=12),Очки!$B$17,Очки!$O$18),2+H19-I19,IF(G19=2,12,13-H19)),0) -> 0 | V19: =OFFSET(Очки!$A$3,L19,J19+QUOTIENT(MAX($C$34-11,0), 2)*4) -> Место | W19: =IF(L19<K19,OFFSET(IF(OR($C$34=11,$C$34=12),Очки!$B$17,Очки!$O$18),2+K19-L19,IF(J19=2,12,13-K19)),0) -> 0 | AB19: =SUM(M19:Y19) -> 0
A20: =RANK(AB20,AB$6:OFFSET(AB$6,0,0,COUNTA(B$6:B$33))) -> #N/A | N20: =OFFSET(Очки!$A$3,F20,D20+QUOTIENT(MAX($C$34-11,0), 2)*4) -> Место | O20: =IF(F20<E20,OFFSET(IF(OR($C$34=11,$C$34=12),Очки!$B$17,Очки!$O$18),2+E20-F20,IF(D20=2,12,13-E20)),0) -> 0 | R20: =OFFSET(Очки!$A$3,I20,G20+QUOTIENT(MAX($C$34-11,0), 2)*4) -> Место | S20: =IF(I20<H20,OFFSET(IF(OR($C$34=11,$C$34=12),Очки!$B$17,Очки!$O$18),2+H20-I20,IF(G20=2,12,13-H20)),0) -> 0 | V20: =OFFSET(Очки!$A$3,L20,J20+QUOTIENT(MAX($C$34-11,0), 2)*4) -> Место | W20: =IF(L20<K20,OFFSET(IF(OR($C$34=11,$C$34=12),Очки!$B$17,Очки!$O$18),2+K20-L20,IF(J20=2,12,13-K20)),0) -> 0 | AB20: =SUM(M20:Y20) -> 0
A21: =RANK(AB21,AB$6:OFFSET(AB$6,0,0,COUNTA(B$6:B$33))) -> #N/A | N21: =OFFSET(Очки!$A$3,F21,D21+QUOTIENT(MAX($C$34-11,0), 2)*4) -> Место | O21: =IF(F21<E21,OFFSET(IF(OR($C$34=11,$C$34=12),Очки!$B$17,Очки!$O$18),2+E21-F21,IF(D21=2,12,13-E21)),0) -> 0 | R21: =OFFSET(Очки!$A$3,I21,G21+QUOTIENT(MAX($C$34-11,0), 2)*4) -> Место | S21: =IF(I21<H21,OFFSET(IF(OR($C$34=11,$C$34=12),Очки!$B$17,Очки!$O$18),2+H21-I21,IF(G21=2,12,13-H21)),0) -> 0 | V21: =OFFSET(Очки!$A$3,L21,J21+QUOTIENT(MAX($C$34-11,0), 2)*4) -> Место | W21: =IF(L21<K21,OFFSET(IF(OR($C$34=11,$C$34=12),Очки!$B$17,Очки!$O$18),2+K21-L21,IF(J21=2,12,13-K21)),0) -> 0 | AB21: =SUM(M21:Y21) -> 0
A22: =RANK(AB22,AB$6:OFFSET(AB$6,0,0,COUNTA(B$6:B$33))) -> #N/A | N22: =OFFSET(Очки!$A$3,F22,D22+QUOTIENT(MAX($C$34-11,0), 2)*4) -> Место | O22: =IF(F22<E22,OFFSET(IF(OR($C$34=11,$C$34=12),Очки!$B$17,Очки!$O$18),2+E22-F22,IF(D22=2,12,13-E22)),0) -> 0 | R22: =OFFSET(Очки!$A$3,I22,G22+QUOTIENT(MAX($C$34-11,0), 2)*4) -> Место | S22: =IF(I22<H22,OFFSET(IF(OR($C$34=11,$C$34=12),Очки!$B$17,Очки!$O$18),2+H22-I22,IF(G22=2,12,13-H22)),0) -> 0 | V22: =OFFSET(Очки!$A$3,L22,J22+QUOTIENT(MAX($C$34-11,0), 2)*4) -> Место | W22: =IF(L22<K22,OFFSET(IF(OR($C$34=11,$C$34=12),Очки!$B$17,Очки!$O$18),2+K22-L22,IF(J22=2,12,13-K22)),0) -> 0 | AB22: =SUM(M22:Y22) -> 0
A23: =RANK(AB23,AB$6:OFFSET(AB$6,0,0,COUNTA(B$6:B$33))) -> #N/A | N23: =OFFSET(Очки!$A$3,F23,D23+QUOTIENT(MAX($C$34-11,0), 2)*4) -> Место | O23: =IF(F23<E23,OFFSET(IF(OR($C$34=11,$C$34=12),Очки!$B$17,Очки!$O$18),2+E23-F23,IF(D23=2,12,13-E23)),0) -> 0 | R23: =OFFSET(Очки!$A$3,I23,G23+QUOTIENT(MAX($C$34-11,0), 2)*4) -> Место | S23: =IF(I23<H23,OFFSET(IF(OR($C$34=11,$C$34=12),Очки!$B$17,Очки!$O$18),2+H23-I23,IF(G23=2,12,13-H23)),0) -> 0 | V23: =OFFSET(Очки!$A$3,L23,J23+QUOTIENT(MAX($C$34-11,0), 2)*4) -> Место | W23: =IF(L23<K23,OFFSET(IF(OR($C$34=11,$C$34=12),Очки!$B$17,Очки!$O$18),2+K23-L23,IF(J23=2,12,13-K23)),0) -> 0 | AB23: =SUM(M23:Y23) -> 0
A24: =RANK(AB24,AB$6:OFFSET(AB$6,0,0,COUNTA(B$6:B$33))) -> #N/A | N24: =OFFSET(Очки!$A$3,F24,D24+QUOTIENT(MAX($C$34-11,0), 2)*4) -> Место | O24: =IF(F24<E24,OFFSET(IF(OR($C$34=11,$C$34=12),Очки!$B$17,Очки!$O$18),2+E24-F24,IF(D24=2,12,13-E24)),0) -> 0 | R24: =OFFSET(Очки!$A$3,I24,G24+QUOTIENT(MAX($C$34-11,0), 2)*4) -> Место | S24: =IF(I24<H24,OFFSET(IF(OR($C$34=11,$C$34=12),Очки!$B$17,Очки!$O$18),2+H24-I24,IF(G24=2,12,13-H24)),0) -> 0 | V24: =OFFSET(Очки!$A$3,L24,J24+QUOTIENT(MAX($C$34-11,0), 2)*4) -> Место | W24: =IF(L24<K24,OFFSET(IF(OR($C$34=11,$C$34=12),Очки!$B$17,Очки!$O$18),2+K24-L24,IF(J24=2,12,13-K24)),0) -> 0 | AB24: =SUM(M24:Y24) -> 0
A25: =RANK(AB25,AB$6:OFFSET(AB$6,0,0,COUNTA(B$6:B$33))) -> #N/A | N25: =OFFSET(Очки!$A$3,F25,D25+QUOTIENT(MAX($C$34-11,0), 2)*4) -> Место | O25: =IF(F25<E25,OFFSET(IF(OR($C$34=11,$C$34=12),Очки!$B$17,Очки!$O$18),2+E25-F25,IF(D25=2,12,13-E25)),0) -> 0 | R25: =OFFSET(Очки!$A$3,I25,G25+QUOTIENT(MAX($C$34-11,0), 2)*4) -> Место | S25: =IF(I25<H25,OFFSET(IF(OR($C$34=11,$C$34=12),Очки!$B$17,Очки!$O$18),2+H25-I25,IF(G25=2,12,13-H25)),0) -> 0 | V25: =OFFSET(Очки!$A$3,L25,J25+QUOTIENT(MAX($C$34-11,0), 2)*4) -> Место | W25: =IF(L25<K25,OFFSET(IF(OR($C$34=11,$C$34=12),Очки!$B$17,Очки!$O$18),2+K25-L25,IF(J25=2,12,13-K25)),0) -> 0 | AB25: =SUM(M25:Y25) -> 0
A26: =RANK(AB26,AB$6:OFFSET(AB$6,0,0,COUNTA(B$6:B$33))) -> #N/A | N26: =OFFSET(Очки!$A$3,F26,D26+QUOTIENT(MAX($C$34-11,0), 2)*4) -> Место | O26: =IF(F26<E26,OFFSET(IF(OR($C$34=11,$C$34=12),Очки!$B$17,Очки!$O$18),2+E26-F26,IF(D26=2,12,13-E26)),0) -> 0 | R26: =OFFSET(Очки!$A$3,I26,G26+QUOTIENT(MAX($C$34-11,0), 2)*4) -> Место | S26: =IF(I26<H26,OFFSET(IF(OR($C$34=11,$C$34=12),Очки!$B$17,Очки!$O$18),2+H26-I26,IF(G26=2,12,13-H26)),0) -> 0 | V26: =OFFSET(Очки!$A$3,L26,J26+QUOTIENT(MAX($C$34-11,0), 2)*4) -> Место | W26: =IF(L26<K26,OFFSET(IF(OR($C$34=11,$C$34=12),Очки!$B$17,Очки!$O$18),2+K26-L26,IF(J26=2,12,13-K26)),0) -> 0 | AB26: =SUM(M26:Y26) -> 0
A27: =RANK(AB27,AB$6:OFFSET(AB$6,0,0,COUNTA(B$6:B$33))) -> #N/A | N27: =OFFSET(Очки!$A$3,F27,D27+QUOTIENT(MAX($C$34-11,0), 2)*4) -> Место | O27: =IF(F27<E27,OFFSET(IF(OR($C$34=11,$C$34=12),Очки!$B$17,Очки!$O$18),2+E27-F27,IF(D27=2,12,13-E27)),0) -> 0 | R27: =OFFSET(Очки!$A$3,I27,G27+QUOTIENT(MAX($C$34-11,0), 2)*4) -> Место | S27: =IF(I27<H27,OFFSET(IF(OR($C$34=11,$C$34=12),Очки!$B$17,Очки!$O$18),2+H27-I27,IF(G27=2,12,13-H27)),0) -> 0 | V27: =OFFSET(Очки!$A$3,L27,J27+QUOTIENT(MAX($C$34-11,0), 2)*4) -> Место | W27: =IF(L27<K27,OFFSET(IF(OR($C$34=11,$C$34=12),Очки!$B$17,Очки!$O$18),2+K27-L27,IF(J27=2,12,13-K27)),0) -> 0 | AB27: =SUM(M27:Y27) -> 0
A28: =RANK(AB28,AB$6:OFFSET(AB$6,0,0,COUNTA(B$6:B$33))) -> #N/A | N28: =OFFSET(Очки!$A$3,F28,D28+QUOTIENT(MAX($C$34-11,0), 2)*4) -> Место | O28: =IF(F28<E28,OFFSET(IF(OR($C$34=11,$C$34=12),Очки!$B$17,Очки!$O$18),2+E28-F28,IF(D28=2,12,13-E28)),0) -> 0 | R28: =OFFSET(Очки!$A$3,I28,G28+QUOTIENT(MAX($C$34-11,0), 2)*4) -> Место | S28: =IF(I28<H28,OFFSET(IF(OR($C$34=11,$C$34=12),Очки!$B$17,Очки!$O$18),2+H28-I28,IF(G28=2,12,13-H28)),0) -> 0 | V28: =OFFSET(Очки!$A$3,L28,J28+QUOTIENT(MAX($C$34-11,0), 2)*4) -> Место | W28: =IF(L28<K28,OFFSET(IF(OR($C$34=11,$C$34=12),Очки!$B$17,Очки!$O$18),2+K28-L28,IF(J28=2,12,13-K28)),0) -> 0 | AB28: =SUM(M28:Y28) -> 0
A29: =RANK(AB29,AB$6:OFFSET(AB$6,0,0,COUNTA(B$6:B$33))) -> #N/A | N29: =OFFSET(Очки!$A$3,F29,D29+QUOTIENT(MAX($C$34-11,0), 2)*4) -> Место | O29: =IF(F29<E29,OFFSET(IF(OR($C$34=11,$C$34=12),Очки!$B$17,Очки!$O$18),2+E29-F29,IF(D29=2,12,13-E29)),0) -> 0 | R29: =OFFSET(Очки!$A$3,I29,G29+QUOTIENT(MAX($C$34-11,0), 2)*4) -> Место | S29: =IF(I29<H29,OFFSET(IF(OR($C$34=11,$C$34=12),Очки!$B$17,Очки!$O$18),2+H29-I29,IF(G29=2,12,13-H29)),0) -> 0 | V29: =OFFSET(Очки!$A$3,L29,J29+QUOTIENT(MAX($C$34-11,0), 2)*4) -> Место | W29: =IF(L29<K29,OFFSET(IF(OR($C$34=11,$C$34=12),Очки!$B$17,Очки!$O$18),2+K29-L29,IF(J29=2,12,13-K29)),0) -> 0 | AB29: =SUM(M29:Y29) -> 0
... A33: =RANK(AB33,AB$6:OFFSET(AB$6,0,0,COUNTA(B$6:B$33))) -> #N/A | N33: =OFFSET(Очки!$A$3,F33,D33+QUOTIENT(MAX($C$34-11,0), 2)*4) -> Место | O33: =IF(F33<E33,OFFSET(IF(OR($C$34=11,$C$34=12),Очки!$B$17,Очки!$O$18),2+E33-F33,IF(D33=2,12,13-E33)),0) -> 0 | R33: =OFFSET(Очки!$A$3,I33,G33+QUOTIENT(MAX($C$34-11,0), 2)*4) -> Место | S33: =IF(I33<H33,OFFSET(IF(OR($C$34=11,$C$34=12),Очки!$B$17,Очки!$O$18),2+H33-I33,IF(G33=2,12,13-H33)),0) -> 0 | V33: =OFFSET(Очки!$A$3,L33,J33+QUOTIENT(MAX($C$34-11,0), 2)*4) -> Место | W33: =IF(L33<K33,OFFSET(IF(OR($C$34=11,$C$34=12),Очки!$B$17,Очки!$O$18),2+K33-L33,IF(J33=2,12,13-K33)),0) -> 0 | AB33: =SUM(M33:Y33) -> 0
B34: Всего участников | C34: =COUNTA(B6:B33) -> 12

Sheet 27.06
A1: Лига II-й сезон 27.06.2018 конфиг 1r
A3: Место | B3: Участник | D3: 1 | G3: 2 | J3: 3 | M3: Очки | AA3: =SUM(M3:Z3) -> 0 | AB3: Сумма
C4: Довес | D4: группа | E4: Старт | F4: Финиш | G4: группа | H4: Старт | I4: Финиш | J4: группа | K4: Старт | L4: Финиш | M4: Квала | N4: 1 | R4: 2 | V4: 3
N5: очки | O5: обгоны | P5: время | Q5: штрафы | R5: очки | S5: обгоны | T5: время | U5: штрафы | V5: очки | W5: обгоны | X5: время | Y5: штрафы | Z5: 4
A6: =RANK(AB6,AB$6:OFFSET(AB$6,0,0,COUNTA(B$6:B$33))) -> 1 | B6: Наум / Vintoniv Ivan | C6: 5 | D6: 1 | E6: 5 | F6: 1 | G6: 1 | H6: 8 | I6: 4 | J6: 1 | K6: 8 | L6: 7 | M6: 1 | N6: =OFFSET(Очки!$A$3,F6,D6+QUOTIENT(MAX($C$34-11,0), 2)*4) -> 16 | O6: =IF(F6<E6,OFFSET(IF(OR($C$34=11,$C$34=12),Очки!$B$17,Очки!$O$18),2+E6-F6,IF(D6=2,12,13-E6)),0) -> 3.1 | P6: 2.5 | R6: =OFFSET(Очки!$A$3,I6,G6+QUOTIENT(MAX($C$34-11,0), 2)*4) -> 13 | S6: =IF(I6<H6,OFFSET(IF(OR($C$34=11,$C$34=12),Очки!$B$17,Очки!$O$18),2+H6-I6,IF(G6=2,12,13-H6)),0) -> 4.2 | T6: 2.5 | V6: =OFFSET(Очки!$A$3,L6,J6+QUOTIENT(MAX($C$34-11,0), 2)*4) -> 11 | W6: =IF(L6<K6,OFFSET(IF(OR($C$34=11,$C$34=12),Очки!$B$17,Очки!$O$18),2+K6-L6,IF(J6=2,12,13-K6)),0) -> 1.2 | X6: 2 | AB6: =SUM(M6:Y6) -> 56.5
A7: =RANK(AB7,AB$6:OFFSET(AB$6,0,0,COUNTA(B$6:B$33))) -> 2 | B7: Манило Денис / Manilo Denis | C7: - | D7: 1 | E7: 8 | F7: 6 | G7: 1 | H7: 6 | I7: 6 | J7: 1 | K7: 7 | L7: 3 | M7: 2.5 | N7: =OFFSET(Очки!$A$3,F7,D7+QUOTIENT(MAX($C$34-11,0), 2)*4) -> 11.5 | O7: =IF(F7<E7,OFFSET(IF(OR($C$34=11,$C$34=12),Очки!$B$17,Очки!$O$18),2+E7-F7,IF(D7=2,12,13-E7)),0) -> 2.3 | P7: 1.5 | R7: =OFFSET(Очки!$A$3,I7,G7+QUOTIENT(MAX($C$34-11,0), 2)*4) -> 11.5 | S7: =IF(I7<H7,OFFSET(IF(OR($C$34=11,$C$34=12),Очки!$B$17,Очки!$O$18),2+H7-I7,IF(G7=2,12,13-H7)),0) -> 0 | T7: 2 | V7: =OFFSET(Очки!$A$3,L7,J7+QUOTIENT(MAX($C$34-11,0), 2)*4) -> 14 | W7: =IF(L7<K7,OFFSET(IF(OR($C$34=11,$C$34=12),Очки!$B$17,Очки!$O$18),2+K7-L7,IF(J7=2,12,13-K7)),0) -> 3.8 | X7: 2.5 | AB7: =SUM(M7:Y7) -> 51.6
A8: =RANK(AB8,AB$6:OFFSET(AB$6,0,0,COUNTA(B$6:B$33))) -> 3 | B8: Шутка Виталий/Shutka Vitaliy | C8: - | D8: 1 | E8: 6 | F8: 5 | G8: 1 | H8: 7 | I8: 5 | J8: 1 | K8: 2 | L8: 1 | M8: 1.5 | N8: =OFFSET(Очки!$A$3,F8,D8+QUOTIENT(MAX($C$34-11,0), 2)*4) -> 12 | O8: =IF(F8<E8,OFFSET(IF(OR($C$34=11,$C$34=12),Очки!$B$17,Очки!$O$18),2+E8-F8,IF(D8=2,12,13-E8)),0) -> 1 | P8: 2 | R8: =OFFSET(Очки!$A$3,I8,G8+QUOTIENT(MAX($C$34-11,0), 2)*4) -> 12 | S8: =IF(I8<H8,OFFSET(IF(OR($C$34=11,$C$34=12),Очки!$B$17,Очки!$O$18),2+H8-I8,IF(G8=2,12,13-H8)),0) -> 2.1 | V8: =OFFSET(Очки!$A$3,L8,J8+QUOTIENT(MAX($C$34-11,0), 2)*4) -> 16 | W8: =IF(L8<K8,OFFSET(IF(OR($C$34=11,$C$34=12),Очки!$B$17,Очки!$O$18),2+K8-L8,IF(J8=2,12,13-K8)),0) -> 0.7 | X8: 0.5 | AB8: =SUM(M8:Y8) -> 47.8
A9: =RANK(AB9,AB$6:OFFSET(AB$6,0,0,COUNTA(B$6:B$33))) -> 4 | B9: Хавило Дима / Khavilo Dima | C9: 12.5 | D9: 2 | E9: 7 | F9: 2 | G9: 1 | H9: 5 | I9: 1 | J9: 1 | K9: 4 | L9: 5 | N9: =OFFSET(Очки!$A$3,F9,D9+QUOTIENT(MAX($C$34-11,0), 2)*4) -> 10.5 | O9: =IF(F9<E9,OFFSET(IF(OR($C$34=11,$C$34=12),Очки!$B$17,Очки!$O$18),2+E9-F9,IF(D9=2,12,13-E9)),0) -> 3.5 | P9: 1 | R9: =OFFSET(Очки!$A$3,I9,G9+QUOTIENT(MAX($C$34-11,0), 2)*4) -> 16 | S9: =IF(I9<H9,OFFSET(IF(OR($C$34=11,$C$34=12),Очки!$B$17,Очки!$O$18),2+H9-I9,IF(G9=2,12,13-H9)),0) -> 3.1 | T9: 0.5 | V9: =OFFSET(Очки!$A$3,L9,J9+QUOTIENT(MAX($C$34-11,0), 2)*4) -> 12 | W9: =IF(L9<K9,OFFSET(IF(OR($C$34=11,$C$34=12),Очки!$B$17,Очки!$O$18),2+K9-L9,IF(J9=2,12,13-K9)),0) -> 0 | AB9: =SUM(M9:Y9) -> 46.6
A10: =RANK(AB10,AB$6:OFFSET(AB$6,0,0,COUNTA(B$6:B$33))) -> 5 | B10: Тыщенко Михаил / Tishchenko Mikhail | C10: - | D10: 1 | E10: 3 | F10: 8 | G10: 1 | H10: 1 | I10: 2 | J10: 1 | K10: 6 | L10: 4 | M10: 2 | N10: =OFFSET(Очки!$A$3,F10,D10+QUOTIENT(MAX($C$34-11,0), 2)*4) -> 10.5 | O10: =IF(F10<E10,OFFSET(IF(OR($C$34=11,$C$34=12),Очки!$B$17,Очки!$O$18),2+E10-F10,IF(D10=2,12,13-E10)),0) -> 0 | R10: =OFFSET(Очки!$A$3,I10,G10+QUOTIENT(MAX($C$34-11,0), 2)*4) -> 15 | S10: =IF(I10<H10,OFFSET(IF(OR($C$34=11,$C$34=12),Очки!$B$17,Очки!$O$18),2+H10-I10,IF(G10=2,12,13-H10)),0) -> 0 | T10: 1.5 | V10: =OFFSET(Очки!$A$3,L10,J10+QUOTIENT(MAX($C$34-11,0), 2)*4) -> 13 | W10: =IF(L10<K10,OFFSET(IF(OR($C$34=11,$C$34=12),Очки!$B$17,Очки!$O$18),2+K10-L10,IF(J10=2,12,13-K10)),0) -> 1.9 | AB10: =SUM(M10:Y10) -> 43.9
A11: =RANK(AB11,AB$6:OFFSET(AB$6,0,0,COUNTA(B$6:B$33))) -> 6 | B11: Ткаченко Антон / Tkachenko Anton | C11: - | D11: 1 | E11: 7 | F11: 7 | G11: 1 | H11: 3 | I11: 3 | J11: 2 | K11: 6 | L11: 1 | N11: =OFFSET(Очки!$A$3,F11,D11+QUOTIENT(MAX($C$34-11,0), 2)*4) -> 11 | O11: =IF(F11<E11,OFFSET(IF(OR($C$34=11,$C$34=12),Очки!$B$17,Очки!$O$18),2+E11-F11,IF(D11=2,12,13-E11)),0) -> 0 | R11: =OFFSET(Очки!$A$3,I11,G11+QUOTIENT(MAX($C$34-11,0), 2)*4) -> 14 | S11: =IF(I11<H11,OFFSET(IF(OR($C$34=11,$C$34=12),Очки!$B$17,Очки!$O$18),2+H11-I11,IF(G11=2,12,13-H11)),0) -> 0 | V11: =OFFSET(Очки!$A$3,L11,J11+QUOTIENT(MAX($C$34-11,0), 2)*4) -> 11.5 | W11: =IF(L11<K11,OFFSET(IF(OR($C$34=11,$C$34=12),Очки!$B$17,Очки!$O$18),2+K11-L11,IF(J11=2,12,13-K11)),0) -> 3.5 | X11: 1.5 | AB11: =SUM(M11:Y11) -> 41.5
A12: =RANK(AB12,AB$6:OFFSET(AB$6,0,0,COUNTA(B$6:B$33))) -> 7 | B12: Соколан Артем/Sokolan Artem | D12: 1 | E12: 4 | F12: 3 | G12: 2 | H12: 6 | I12: 3 | J12: 1 | K12: 1 | L12: 6 | M12: 0.5 | N12: =OFFSET(Очки!$A$3,F12,D12+QUOTIENT(MAX($C$34-11,0), 2)*4) -> 14 | O12: =IF(F12<E12,OFFSET(IF(OR($C$34=11,$C$34=12),Очки!$B$17,Очки!$O$18),2+E12-F12,IF(D12=2,12,13-E12)),0) -> 0.8 | R12: =OFFSET(Очки!$A$3,I12,G12+QUOTIENT(MAX($C$34-11,0), 2)*4) -> 9.5 | S12: =IF(I12<H12,OFFSET(IF(OR($C$34=11,$C$34=12),Очки!$B$17,Очки!$O$18),2+H12-I12,IF(G12=2,12,13-H12)),0) -> 2.1 | V12: =OFFSET(Очки!$A$3,L12,J12+QUOTIENT(MAX($C$34-11,0), 2)*4) -> 11.5 | W12: =IF(L12<K12,OFFSET(IF(OR($C$34=11,$C$34=12),Очки!$B$17,Очки!$O$18),2+K12-L12,IF(J12=2,12,13-K12)),0) -> 0 | AB12: =SUM(M12:Y12) -> 38.4
A13: =RANK(AB13,AB$6:OFFSET(AB$6,0,0,COUNTA(B$6:B$33))) -> 8 | B13: Якусик Дима / Yakusik Dima | C13: 7.5 | D13: 1 | E13: 2 | F13: 4 | G13: 1 | H13: 4 | I13: 8 | J13: 1 | K13: 5 | L13: 8 | N13: =OFFSET(Очки!$A$3,F13,D13+QUOTIENT(MAX($C$34-11,0), 2)*4) -> 13 | O13: =IF(F13<E13,OFFSET(IF(OR($C$34=11,$C$34=12),Очки!$B$17,Очки!$O$18),2+E13-F13,IF(D13=2,12,13-E13)),0) -> 0 | P13: 0.5 | R13: =OFFSET(Очки!$A$3,I13,G13+QUOTIENT(MAX($C$34-11,0), 2)*4) -> 10.5 | S13: =IF(I13<H13,OFFSET(IF(OR($C$34=11,$C$34=12),Очки!$B$17,Очки!$O$18),2+H13-I13,IF(G13=2,12,13-H13)),0) -> 0 | T13: 1 | V13: =OFFSET(Очки!$A$3,L13,J13+QUOTIENT(MAX($C$34-11,0), 2)*4) -> 10.5 | W13: =IF(L13<K13,OFFSET(IF(OR($C$34=11,$C$34=12),Очки!$B$17,Очки!$O$18),2+K13-L13,IF(J13=2,12,13-K13)),0) -> 0 | AB13: =SUM(M13:Y13) -> 35.5
A14: =RANK(AB14,AB$6:OFFSET(AB$6,0,0,COUNTA(B$6:B$33))) -> 9 | B14: Фортуна Таня / Fortuna Tanya | C14: 20 | D14: 1 | E14: 1 | F14: 2 | G14: 1 | H14: 2 | I14: 7 | J14: 2 | K14: 5 | L14: 4 | N14: =OFFSET(Очки!$A$3,F14,D14+QUOTIENT(MAX($C$34-11,0), 2)*4) -> 15 | O14: =IF(F14<E14,OFFSET(IF(OR($C$34=11,$C$34=12),Очки!$B$17,Очки!$O$18),2+E14-F14,IF(D14=2,12,13-E14)),0) -> 0 | R14: =OFFSET(Очки!$A$3,I14,G14+QUOTIENT(MAX($C$34-11,0), 2)*4) -> 11 | S14: =IF(I14<H14,OFFSET(IF(OR($C$34=11,$C$34=12),Очки!$B$17,Очки!$O$18),2+H14-I14,IF(G14=2,12,13-H14)),0) -> 0 | V14: =OFFSET(Очки!$A$3,L14,J14+QUOTIENT(MAX($C$34-11,0), 2)*4) -> 8.5 | W14: =IF(L14<K14,OFFSET(IF(OR($C$34=11,$C$34=12),Очки!$B$17,Очки!$O$18),2+K14-L14,IF(J14=2,12,13-K14)),0) -> 0.7 | AB14: =SUM(M14:Y14) -> 35.2
A15: =RANK(AB15,AB$6:OFFSET(AB$6,0,0,COUNTA(B$6:B$33))) -> 10 | B15: Вильнев Артем/Vilnev Artem | C15: - | D15: 2 | E15: 3 | F15: 3 | G15: 2 | H15: 2 | I15: 5 | J15: 1 | K15: 3 | L15: 2 | N15: =OFFSET(Очки!$A$3,F15,D15+QUOTIENT(MAX($C$34-11,0), 2)*4) -> 9.5 | O15: =IF(F15<E15,OFFSET(IF(OR($C$34=11,$C$34=12),Очки!$B$17,Очки!$O$18),2+E15-F15,IF(D15=2,12,13-E15)),0) -> 0 | R15: =OFFSET(Очки!$A$3,I15,G15+QUOTIENT(MAX($C$34-11,0), 2)*4) -> 7.5 | S15: =IF(I15<H15,OFFSET(IF(OR($C$34=11,$C$34=12),Очки!$B$17,Очки!$O$18),2+H15-I15,IF(G15=2,12,13-H15)),0) -> 0 | V15: =OFFSET(Очки!$A$3,L15,J15+QUOTIENT(MAX($C$34-11,0), 2)*4) -> 15 | W15: =IF(L15<K15,OFFSET(IF(OR($C$34=11,$C$34=12),Очки!$B$17,Очки!$O$18),2+K15-L15,IF(J15=2,12,13-K15)),0) -> 0.7 | X15: 1 | AB15: =SUM(M15:Y15) -> 33.7
A16: =RANK(AB16,AB$6:OFFSET(AB$6,0,0,COUNTA(B$6:B$33))) -> 11 | B16: Дымко Славик/Dymko Vyacheslav | C16: 10 | D16: 2 | E16: 5 | F16: 4 | G16: 2 | H16: 3 | I16: 1 | J16: 2 | K16: 4 | L16: 6 | N16: =OFFSET(Очки!$A$3,F16,D16+QUOTIENT(MAX($C$34-11,0), 2)*4) -> 8.5 | O16: =IF(F16<E16,OFFSET(IF(OR($C$34=11,$C$34=12),Очки!$B$17,Очки!$O$18),2+E16-F16,IF(D16=2,12,13-E16)),0) -> 0.7 | R16: =OFFSET(Очки!$A$3,I16,G16+QUOTIENT(MAX($C$34-11,0), 2)*4) -> 11.5 | S16: =IF(I16<H16,OFFSET(IF(OR($C$34=11,$C$34=12),Очки!$B$17,Очки!$O$18),2+H16-I16,IF(G16=2,12,13-H16)),0) -> 1.4 | V16: =OFFSET(Очки!$A$3,L16,J16+QUOTIENT(MAX($C$34-11,0), 2)*4) -> 7 | W16: =IF(L16<K16,OFFSET(IF(OR($C$34=11,$C$34=12),Очки!$B$17,Очки!$O$18),2+K16-L16,IF(J16=2,12,13-K16)),0) -> 0 | AB16: =SUM(M16:Y16) -> 29.1
A17: =RANK(AB17,AB$6:OFFSET(AB$6,0,0,COUNTA(B$6:B$33))) -> 12 | B17: Гобади Курош/ Gobadi Kurosh | C17: - | D17: 2 | E17: 2 | F17: 6 | G17: 2 | H17: 1 | I17: 4 | J17: 2 | K17: 2 | L17: 2 | N17: =OFFSET(Очки!$A$3,F17,D17+QUOTIENT(MAX($C$34-11,0), 2)*4) -> 7 | O17: =IF(F17<E17,OFFSET(IF(OR($C$34=11,$C$34=12),Очки!$B$17,Очки!$O$18),2+E17-F17,IF(D17=2,12,13-E17)),0) -> 0 | R17: =OFFSET(Очки!$A$3,I17,G17+QUOTIENT(MAX($C$34-11,0), 2)*4) -> 8.5 | S17: =IF(I17<H17,OFFSET(IF(OR($C$34=11,$C$34=12),Очки!$B$17,Очки!$O$18),2+H17-I17,IF(G17=2,12,13-H17)),0) -> 0 | V17: =OFFSET(Очки!$A$3,L17,J17+QUOTIENT(MAX($C$34-11,0), 2)*4) -> 10.5 | W17: =IF(L17<K17,OFFSET(IF(OR($C$34=11,$C$34=12),Очки!$B$17,Очки!$O$18),2+K17-L17,IF(J17=2,12,13-K17)),0) -> 0 | AB17: =SUM(M17:Y17) -> 26
A18: =RANK(AB18,AB$6:OFFSET(AB$6,0,0,COUNTA(B$6:B$33))) -> 13 | B18: Муляр Андрей/Mular Andrew | C18: - | D18: 2 | E18: 6 | F18: 5 | G18: 2 | H18: 4 | I18: 7 | J18: 2 | K18: 3 | L18: 3 | N18: =OFFSET(Очки!$A$3,F18,D18+QUOTIENT(MAX($C$34-11,0), 2)*4) -> 7.5 | O18: =IF(F18<E18,OFFSET(IF(OR($C$34=11,$C$34=12),Очки!$B$17,Очки!$O$18),2+E18-F18,IF(D18=2,12,13-E18)),0) -> 0.7 | R18: =OFFSET(Очки!$A$3,I18,G18+QUOTIENT(MAX($C$34-11,0), 2)*4) -> 6.5 | S18: =IF(I18<H18,OFFSET(IF(OR($C$34=11,$C$34=12),Очки!$B$17,Очки!$O$18),2+H18-I18,IF(G18=2,12,13-H18)),0) -> 0 | V18: =OFFSET(Очки!$A$3,L18,J18+QUOTIENT(MAX($C$34-11,0), 2)*4) -> 9.5 | W18: =IF(L18<K18,OFFSET(IF(OR($C$34=11,$C$34=12),Очки!$B$17,Очки!$O$18),2+K18-L18,IF(J18=2,12,13-K18)),0) -> 0 | AB18: =SUM(M18:Y18) -> 24.2
A19: =RANK(AB19,AB$6:OFFSET(AB$6,0,0,COUNTA(B$6:B$33))) -> 14 | B19: Закалюк Женя./Zakaliuk Eugen | C19: - | D19: 2 | E19: 4 | F19: 7 | G19: 2 | H19: 7 | I19: 2 | N19: =OFFSET(Очки!$A$3,F19,D19+QUOTIENT(MAX($C$34-11,0), 2)*4) -> 6.5 | O19: =IF(F19<E19,OFFSET(IF(OR($C$34=11,$C$34=12),Очки!$B$17,Очки!$O$18),2+E19-F19,IF(D19=2,12,13-E19)),0) -> 0 | R19: =OFFSET(Очки!$A$3,I19,G19+QUOTIENT(MAX($C$34-11,0), 2)*4) -> 10.5 | S19: =IF(I19<H19,OFFSET(IF(OR($C$34=11,$C$34=12),Очки!$B$17,Очки!$O$18),2+H19-I19,IF(G19=2,12,13-H19)),0) -> 3.5 | V19: =OFFSET(Очки!$A$3,L19,J19+QUOTIENT(MAX($C$34-11,0), 2)*4) -> Место | W19: =IF(L19<K19,OFFSET(IF(OR($C$34=11,$C$34=12),Очки!$B$17,Очки!$O$18),2+K19-L19,IF(J19=2,12,13-K19)),0) -> 0 | AB19: =SUM(M19:Y19) -> 20.5
A20: =RANK(AB20,AB$6:OFFSET(AB$6,0,0,COUNTA(B$6:B$33))) -> 15 | B20: Гончаров Роман/Hopncharov Roman | C20: 15 | D20: 2 | E20: 1 | F20: 1 | G20: 2 | H20: 5 | I20: 6 | N20: =OFFSET(Очки!$A$3,F20,D20+QUOTIENT(MAX($C$34-11,0), 2)*4) -> 11.5 | O20: =IF(F20<E20,OFFSET(IF(OR($C$34=11,$C$34=12),Очки!$B$17,Очки!$O$18),2+E20-F20,IF(D20=2,12,13-E20)),0) -> 0 | R20: =OFFSET(Очки!$A$3,I20,G20+QUOTIENT(MAX($C$34-11,0), 2)*4) -> 7 | S20: =IF(I20<H20,OFFSET(IF(OR($C$34=11,$C$34=12),Очки!$B$17,Очки!$O$18),2+H20-I20,IF(G20=2,12,13-H20)),0) -> 0 | V20: =OFFSET(Очки!$A$3,L20,J20+QUOTIENT(MAX($C$34-11,0), 2)*4) -> Место | W20: =IF(L20<K20,OFFSET(IF(OR($C$34=11,$C$34=12),Очки!$B$17,Очки!$O$18),2+K20-L20,IF(J20=2,12,13-K20)),0) -> 0 | AB20: =SUM(M20:Y20) -> 18.5
A21: =RANK(AB21,AB$6:OFFSET(AB$6,0,0,COUNTA(B$6:B$33))) -> 16 | B21: Загирский Антон/Zagirskiy Anton | C21: - | D21: 2 | E21: 8 | F21: 10 | G21: 2 | H21: 8 | I21: 8 | J21: 2 | K21: 1 | L21: 5 | N21: =OFFSET(Очки!$A$3,F21,D21+QUOTIENT(MAX($C$34-11,0), 2)*4) -> 0 | O21: =IF(F21<E21,OFFSET(IF(OR($C$34=11,$C$34=12),Очки!$B$17,Очки!$O$18),2+E21-F21,IF(D21=2,12,13-E21)),0) -> 0 | R21: =OFFSET(Очки!$A$3,I21,G21+QUOTIENT(MAX($C$34-11,0), 2)*4) -> 6 | S21: =IF(I21<H21,OFFSET(IF(OR($C$34=11,$C$34=12),Очки!$B$17,Очки!$O$18),2+H21-I21,IF(G21=2,12,13-H21)),0) -> 0 | V21: =OFFSET(Очки!$A$3,L21,J21+QUOTIENT(MAX($C$34-11,0), 2)*4) -> 7.5 | W21: =IF(L21<K21,OFFSET(IF(OR($C$34=11,$C$34=12),Очки!$B$17,Очки!$O$18),2+K21-L21,IF(J21=2,12,13-K21)),0) -> 0 | AB21: =SUM(M21:Y21) -> 13.5
A22: =RANK(AB22,AB$6:OFFSET(AB$6,0,0,COUNTA(B$6:B$33))) -> #N/A | N22: =OFFSET(Очки!$A$3,F22,D22+QUOTIENT(MAX($C$34-11,0), 2)*4) -> Место | O22: =IF(F22<E22,OFFSET(IF(OR($C$34=11,$C$34=12),Очки!$B$17,Очки!$O$18),2+E22-F22,IF(D22=2,12,13-E22)),0) -> 0 | R22: =OFFSET(Очки!$A$3,I22,G22+QUOTIENT(MAX($C$34-11,0), 2)*4) -> Место | S22: =IF(I22<H22,OFFSET(IF(OR($C$34=11,$C$34=12),Очки!$B$17,Очки!$O$18),2+H22-I22,IF(G22=2,12,13-H22)),0) -> 0 | V22: =OFFSET(Очки!$A$3,L22,J22+QUOTIENT(MAX($C$34-11,0), 2)*4) -> Место | W22: =IF(L22<K22,OFFSET(IF(OR($C$34=11,$C$34=12),Очки!$B$17,Очки!$O$18),2+K22-L22,IF(J22=2,12,13-K22)),0) -> 0 | AB22: =SUM(M22:Y22) -> 0
A23: =RANK(AB23,AB$6:OFFSET(AB$6,0,0,COUNTA(B$6:B$33))) -> #N/A | N23: =OFFSET(Очки!$A$3,F23,D23+QUOTIENT(MAX($C$34-11,0), 2)*4) -> Место | O23: =IF(F23<E23,OFFSET(IF(OR($C$34=11,$C$34=12),Очки!$B$17,Очки!$O$18),2+E23-F23,IF(D23=2,12,13-E23)),0) -> 0 | R23: =OFFSET(Очки!$A$3,I23,G23+QUOTIENT(MAX($C$34-11,0), 2)*4) -> Место | S23: =IF(I23<H23,OFFSET(IF(OR($C$34=11,$C$34=12),Очки!$B$17,Очки!$O$18),2+H23-I23,IF(G23=2,12,13-H23)),0) -> 0 | V23: =OFFSET(Очки!$A$3,L23,J23+QUOTIENT(MAX($C$34-11,0), 2)*4) -> Место | W23: =IF(L23<K23,OFFSET(IF(OR($C$34=11,$C$34=12),Очки!$B$17,Очки!$O$18),2+K23-L23,IF(J23=2,12,13-K23)),0) -> 0 | AB23: =SUM(M23:Y23) -> 0
A24: =RANK(AB24,AB$6:OFFSET(AB$6,0,0,COUNTA(B$6:B$33))) -> #N/A | N24: =OFFSET(Очки!$A$3,F24,D24+QUOTIENT(MAX($C$34-11,0), 2)*4) -> Место | O24: =IF(F24<E24,OFFSET(IF(OR($C$34=11,$C$34=12),Очки!$B$17,Очки!$O$18),2+E24-F24,IF(D24=2,12,13-E24)),0) -> 0 | R24: =OFFSET(Очки!$A$3,I24,G24+QUOTIENT(MAX($C$34-11,0), 2)*4) -> Место | S24: =IF(I24<H24,OFFSET(IF(OR($C$34=11,$C$34=12),Очки!$B$17,Очки!$O$18),2+H24-I24,IF(G24=2,12,13-H24)),0) -> 0 | V24: =OFFSET(Очки!$A$3,L24,J24+QUOTIENT(MAX($C$34-11,0), 2)*4) -> Место | W24: =IF(L24<K24,OFFSET(IF(OR($C$34=11,$C$34=12),Очки!$B$17,Очки!$O$18),2+K24-L24,IF(J24=2,12,13-K24)),0) -> 0 | AB24: =SUM(M24:Y24) -> 0
A25: =RANK(AB25,AB$6:OFFSET(AB$6,0,0,COUNTA(B$6:B$33))) -> #N/A | N25: =OFFSET(Очки!$A$3,F25,D25+QUOTIENT(MAX($C$34-11,0), 2)*4) -> Место | O25: =IF(F25<E25,OFFSET(IF(OR($C$34=11,$C$34=12),Очки!$B$17,Очки!$O$18),2+E25-F25,IF(D25=2,12,13-E25)),0) -> 0 | R25: =OFFSET(Очки!$A$3,I25,G25+QUOTIENT(MAX($C$34-11,0), 2)*4) -> Место | S25: =IF(I25<H25,OFFSET(IF(OR($C$34=11,$C$34=12),Очки!$B$17,Очки!$O$18),2+H25-I25,IF(G25=2,12,13-H25)),0) -> 0 | V25: =OFFSET(Очки!$A$3,L25,J25+QUOTIENT(MAX($C$34-11,0), 2)*4) -> Место | W25: =IF(L25<K25,OFFSET(IF(OR($C$34=11,$C$34=12),Очки!$B$17,Очки!$O$18),2+K25-L25,IF(J25=2,12,13-K25)),0) -> 0 | AB25: =SUM(M25:Y25) -> 0
A26: =RANK(AB26,AB$6:OFFSET(AB$6,0,0,COUNTA(B$6:B$33))) -> #N/A | N26: =OFFSET(Очки!$A$3,F26,D26+QUOTIENT(MAX($C$34-11,0), 2)*4) -> Место | O26: =IF(F26<E26,OFFSET(IF(OR($C$34=11,$C$34=12),Очки!$B$17,Очки!$O$18),2+E26-F26,IF(D26=2,12,13-E26)),0) -> 0 | R26: =OFFSET(Очки!$A$3,I26,G26+QUOTIENT(MAX($C$34-11,0), 2)*4) -> Место | S26: =IF(I26<H26,OFFSET(IF(OR($C$34=11,$C$34=12),Очки!$B$17,Очки!$O$18),2+H26-I26,IF(G26=2,12,13-H26)),0) -> 0 | V26: =OFFSET(Очки!$A$3,L26,J26+QUOTIENT(MAX($C$34-11,0), 2)*4) -> Место | W26: =IF(L26<K26,OFFSET(IF(OR($C$34=11,$C$34=12),Очки!$B$17,Очки!$O$18),2+K26-L26,IF(J26=2,12,13-K26)),0) -> 0 | AB26: =SUM(M26:Y26) -> 0
A27: =RANK(AB27,AB$6:OFFSET(AB$6,0,0,COUNTA(B$6:B$33))) -> #N/A | N27: =OFFSET(Очки!$A$3,F27,D27+QUOTIENT(MAX($C$34-11,0), 2)*4) -> Место | O27: =IF(F27<E27,OFFSET(IF(OR($C$34=11,$C$34=12),Очки!$B$17,Очки!$O$18),2+E27-F27,IF(D27=2,12,13-E27)),0) -> 0 | R27: =OFFSET(Очки!$A$3,I27,G27+QUOTIENT(MAX($C$34-11,0), 2)*4) -> Место | S27: =IF(I27<H27,OFFSET(IF(OR($C$34=11,$C$34=12),Очки!$B$17,Очки!$O$18),2+H27-I27,IF(G27=2,12,13-H27)),0) -> 0 | V27: =OFFSET(Очки!$A$3,L27,J27+QUOTIENT(MAX($C$34-11,0), 2)*4) -> Место | W27: =IF(L27<K27,OFFSET(IF(OR($C$34=11,$C$34=12),Очки!$B$17,Очки!$O$18),2+K27-L27,IF(J27=2,12,13-K27)),0) -> 0 | AB27: =SUM(M27:Y27) -> 0
A28: =RANK(AB28,AB$6:OFFSET(AB$6,0,0,COUNTA(B$6:B$33))) -> #N/A | N28: =OFFSET(Очки!$A$3,F28,D28+QUOTIENT(MAX($C$34-11,0), 2)*4) -> Место | O28: =IF(F28<E28,OFFSET(IF(OR($C$34=11,$C$34=12),Очки!$B$17,Очки!$O$18),2+E28-F28,IF(D28=2,12,13-E28)),0) -> 0 | R28: =OFFSET(Очки!$A$3,I28,G28+QUOTIENT(MAX($C$34-11,0), 2)*4) -> Место | S28: =IF(I28<H28,OFFSET(IF(OR($C$34=11,$C$34=12),Очки!$B$17,Очки!$O$18),2+H28-I28,IF(G28=2,12,13-H28)),0) -> 0 | V28: =OFFSET(Очки!$A$3,L28,J28+QUOTIENT(MAX($C$34-11,0), 2)*4) -> Место | W28: =IF(L28<K28,OFFSET(IF(OR($C$34=11,$C$34=12),Очки!$B$17,Очки!$O$18),2+K28-L28,IF(J28=2,12,13-K28)),0) -> 0 | AB28: =SUM(M28:Y28) -> 0
A29: =RANK(AB29,AB$6:OFFSET(AB$6,0,0,COUNTA(B$6:B$33))) -> #N/A | N29: =OFFSET(Очки!$A$3,F29,D29+QUOTIENT(MAX($C$34-11,0), 2)*4) -> Место | O29: =IF(F29<E29,OFFSET(IF(OR($C$34=11,$C$34=12),Очки!$B$17,Очки!$O$18),2+E29-F29,IF(D29=2,12,13-E29)),0) -> 0 | R29: =OFFSET(Очки!$A$3,I29,G29+QUOTIENT(MAX($C$34-11,0), 2)*4) -> Место | S29: =IF(I29<H29,OFFSET(IF(OR($C$34=11,$C$34=12),Очки!$B$17,Очки!$O$18),2+H29-I29,IF(G29=2,12,13-H29)),0) -> 0 | V29: =OFFSET(Очки!$A$3,L29,J29+QUOTIENT(MAX($C$34-11,0), 2)*4) -> Место | W29: =IF(L29<K29,OFFSET(IF(OR($C$34=11,$C$34=12),Очки!$B$17,Очки!$O$18),2+K29-L29,IF(J29=2,12,13-K29)),0) -> 0 | AB29: =SUM(M29:Y29) -> 0
A30: =RANK(AB30,AB$6:OFFSET(AB$6,0,0,COUNTA(B$6:B$33))) -> #N/A | N30: =OFFSET(Очки!$A$3,F30,D30+QUOTIENT(MAX($C$34-11,0), 2)*4) -> Место | O30: =IF(F30<E30,OFFSET(IF(OR($C$34=11,$C$34=12),Очки!$B$17,Очки!$O$18),2+E30-F30,IF(D30=2,12,13-E30)),0) -> 0 | R30: =OFFSET(Очки!$A$3,I30,G30+QUOTIENT(MAX($C$34-11,0), 2)*4) -> Место | S30: =IF(I30<H30,OFFSET(IF(OR($C$34=11,$C$34=12),Очки!$B$17,Очки!$O$18),2+H30-I30,IF(G30=2,12,13-H30)),0) -> 0 | V30: =OFFSET(Очки!$A$3,L30,J30+QUOTIENT(MAX($C$34-11,0), 2)*4) -> Место | W30: =IF(L30<K30,OFFSET(IF(OR($C$34=11,$C$34=12),Очки!$B$17,Очки!$O$18),2+K30-L30,IF(J30=2,12,13-K30)),0) -> 0 | AB30: =SUM(M30:Y30) -> 0
A31: =RANK(AB31,AB$6:OFFSET(AB$6,0,0,COUNTA(B$6:B$33))) -> #N/A | N31: =OFFSET(Очки!$A$3,F31,D31+QUOTIENT(MAX($C$34-11,0), 2)*4) -> Место | O31: =IF(F31<E31,OFFSET(IF(OR($C$34=11,$C$34=12),Очки!$B$17,Очки!$O$18),2+E31-F31,IF(D31=2,12,13-E31)),0) -> 0 | R31: =OFFSET(Очки!$A$3,I31,G31+QUOTIENT(MAX($C$34-11,0), 2)*4) -> Место | S31: =IF(I31<H31,OFFSET(IF(OR($C$34=11,$C$34=12),Очки!$B$17,Очки!$O$18),2+H31-I31,IF(G31=2,12,13-H31)),0) -> 0 | V31: =OFFSET(Очки!$A$3,L31,J31+QUOTIENT(MAX($C$34-11,0), 2)*4) -> Место | W31: =IF(L31<K31,OFFSET(IF(OR($C$34=11,$C$34=12),Очки!$B$17,Очки!$O$18),2+K31-L31,IF(J31=2,12,13-K31)),0) -> 0 | AB31: =SUM(M31:Y31) -> 0
A32: =RANK(AB32,AB$6:OFFSET(AB$6,0,0,COUNTA(B$6:B$33))) -> #N/A | N32: =OFFSET(Очки!$A$3,F32,D32+QUOTIENT(MAX($C$34-11,0), 2)*4) -> Место | O32: =IF(F32<E32,OFFSET(IF(OR($C$34=11,$C$34=12),Очки!$B$17,Очки!$O$18),2+E32-F32,IF(D32=2,12,13-E32)),0) -> 0 | R32: =OFFSET(Очки!$A$3,I32,G32+QUOTIENT(MAX($C$34-11,0), 2)*4) -> Место | S32: =IF(I32<H32,OFFSET(IF(OR($C$34=11,$C$34=12),Очки!$B$17,Очки!$O$18),2+H32-I32,IF(G32=2,12,13-H32)),0) -> 0 | V32: =OFFSET(Очки!$A$3,L32,J32+QUOTIENT(MAX($C$34-11,0), 2)*4) -> Место | W32: =IF(L32<K32,OFFSET(IF(OR($C$34=11,$C$34=12),Очки!$B$17,Очки!$O$18),2+K32-L32,IF(J32=2,12,13-K32)),0) -> 0 | AB32: =SUM(M32:Y32) -> 0
A33: =RANK(AB33,AB$6:OFFSET(AB$6,0,0,COUNTA(B$6:B$33))) -> #N/A | N33: =OFFSET(Очки!$A$3,F33,D33+QUOTIENT(MAX($C$34-11,0), 2)*4) -> Место | O33: =IF(F33<E33,OFFSET(IF(OR($C$34=11,$C$34=12),Очки!$B$17,Очки!$O$18),2+E33-F33,IF(D33=2,12,13-E33)),0) -> 0 | R33: =OFFSET(Очки!$A$3,I33,G33+QUOTIENT(MAX($C$34-11,0), 2)*4) -> Место | S33: =IF(I33<H33,OFFSET(IF(OR($C$34=11,$C$34=12),Очки!$B$17,Очки!$O$18),2+H33-I33,IF(G33=2,12,13-H33)),0) -> 0 | V33: =OFFSET(Очки!$A$3,L33,J33+QUOTIENT(MAX($C$34-11,0), 2)*4) -> Место | W33: =IF(L33<K33,OFFSET(IF(OR($C$34=11,$C$34=12),Очки!$B$17,Очки!$O$18),2+K33-L33,IF(J33=2,12,13-K33)),0) -> 0 | AB33: =SUM(M33:Y33) -> 0
B34: Всего участников | C34: =COUNTA(B6:B33) -> 16

Sheet форма (2)
A1: Лига II-й сезон 25.04.2018 конфиг 4r
A3: Место | B3: Участник | D3: 1 | G3: 2 | J3: 3 | M3: Очки | AA3: =SUM(M3:Z3) -> 0 | AB3: Сумма
C4: Довес | D4: группа | E4: Старт | F4: Финиш | G4: группа | H4: Старт | I4: Финиш | J4: группа | K4: Старт | L4: Финиш | M4: Квала | N4: 1 | R4: 2 | V4: 3
N5: очки | O5: обгоны | P5: время | Q5: штрафы | R5: очки | S5: обгоны | T5: время | U5: штрафы | V5: очки | W5: обгоны | X5: время | Y5: штрафы | Z5: 4
A6: =RANK(AB6,AB$6:OFFSET(AB$6,0,0,COUNTA(B$6:B$33))) -> #REF! | N6: =OFFSET(Очки!$A$3,F6,D6+QUOTIENT(MAX($C$34-11,0), 2)*4) -> Место | O6: =IF(F6<E6,OFFSET(IF(OR($C$34=11,$C$34=12),Очки!$B$17,Очки!$O$18),2+E6-F6,IF(D6=2,12,13-E6)),0) -> 0 | R6: =OFFSET(Очки!$A$3,I6,G6+QUOTIENT(MAX($C$34-11,0), 2)*4) -> Место | S6: =IF(I6<H6,OFFSET(IF(OR($C$34=11,$C$34=12),Очки!$B$17,Очки!$O$18),2+H6-I6,IF(G6=2,12,13-H6)),0) -> 0 | V6: =OFFSET(Очки!$A$3,L6,J6+QUOTIENT(MAX($C$34-11,0), 2)*4) -> Место | W6: =IF(L6<K6,OFFSET(IF(OR($C$34=11,$C$34=12),Очки!$B$17,Очки!$O$18),2+K6-L6,IF(J6=2,12,13-K6)),0) -> 0 | AB6: =SUM(M6:Y6) -> 0
A7: =RANK(AB7,AB$6:OFFSET(AB$6,0,0,COUNTA(B$6:B$33))) -> #REF! | N7: =OFFSET(Очки!$A$3,F7,D7+QUOTIENT(MAX($C$34-11,0), 2)*4) -> Место | O7: =IF(F7<E7,OFFSET(IF(OR($C$34=11,$C$34=12),Очки!$B$17,Очки!$O$18),2+E7-F7,IF(D7=2,12,13-E7)),0) -> 0 | R7: =OFFSET(Очки!$A$3,I7,G7+QUOTIENT(MAX($C$34-11,0), 2)*4) -> Место | S7: =IF(I7<H7,OFFSET(IF(OR($C$34=11,$C$34=12),Очки!$B$17,Очки!$O$18),2+H7-I7,IF(G7=2,12,13-H7)),0) -> 0 | V7: =OFFSET(Очки!$A$3,L7,J7+QUOTIENT(MAX($C$34-11,0), 2)*4) -> Место | W7: =IF(L7<K7,OFFSET(IF(OR($C$34=11,$C$34=12),Очки!$B$17,Очки!$O$18),2+K7-L7,IF(J7=2,12,13-K7)),0) -> 0 | AB7: =SUM(M7:Y7) -> 0
A8: =RANK(AB8,AB$6:OFFSET(AB$6,0,0,COUNTA(B$6:B$33))) -> #REF! | N8: =OFFSET(Очки!$A$3,F8,D8+QUOTIENT(MAX($C$34-11,0), 2)*4) -> Место | O8: =IF(F8<E8,OFFSET(IF(OR($C$34=11,$C$34=12),Очки!$B$17,Очки!$O$18),2+E8-F8,IF(D8=2,12,13-E8)),0) -> 0 | R8: =OFFSET(Очки!$A$3,I8,G8+QUOTIENT(MAX($C$34-11,0), 2)*4) -> Место | S8: =IF(I8<H8,OFFSET(IF(OR($C$34=11,$C$34=12),Очки!$B$17,Очки!$O$18),2+H8-I8,IF(G8=2,12,13-H8)),0) -> 0 | V8: =OFFSET(Очки!$A$3,L8,J8+QUOTIENT(MAX($C$34-11,0), 2)*4) -> Место | W8: =IF(L8<K8,OFFSET(IF(OR($C$34=11,$C$34=12),Очки!$B$17,Очки!$O$18),2+K8-L8,IF(J8=2,12,13-K8)),0) -> 0 | AB8: =SUM(M8:Y8) -> 0
A9: =RANK(AB9,AB$6:OFFSET(AB$6,0,0,COUNTA(B$6:B$33))) -> #REF! | N9: =OFFSET(Очки!$A$3,F9,D9+QUOTIENT(MAX($C$34-11,0), 2)*4) -> Место | O9: =IF(F9<E9,OFFSET(IF(OR($C$34=11,$C$34=12),Очки!$B$17,Очки!$O$18),2+E9-F9,IF(D9=2,12,13-E9)),0) -> 0 | R9: =OFFSET(Очки!$A$3,I9,G9+QUOTIENT(MAX($C$34-11,0), 2)*4) -> Место | S9: =IF(I9<H9,OFFSET(IF(OR($C$34=11,$C$34=12),Очки!$B$17,Очки!$O$18),2+H9-I9,IF(G9=2,12,13-H9)),0) -> 0 | V9: =OFFSET(Очки!$A$3,L9,J9+QUOTIENT(MAX($C$34-11,0), 2)*4) -> Место | W9: =IF(L9<K9,OFFSET(IF(OR($C$34=11,$C$34=12),Очки!$B$17,Очки!$O$18),2+K9-L9,IF(J9=2,12,13-K9)),0) -> 0 | AB9: =SUM(M9:Y9) -> 0
A10: =RANK(AB10,AB$6:OFFSET(AB$6,0,0,COUNTA(B$6:B$33))) -> #REF! | N10: =OFFSET(Очки!$A$3,F10,D10+QUOTIENT(MAX($C$34-11,0), 2)*4) -> Место | O10: =IF(F10<E10,OFFSET(IF(OR($C$34=11,$C$34=12),Очки!$B$17,Очки!$O$18),2+E10-F10,IF(D10=2,12,13-E10)),0) -> 0 | R10: =OFFSET(Очки!$A$3,I10,G10+QUOTIENT(MAX($C$34-11,0), 2)*4) -> Место | S10: =IF(I10<H10,OFFSET(IF(OR($C$34=11,$C$34=12),Очки!$B$17,Очки!$O$18),2+H10-I10,IF(G10=2,12,13-H10)),0) -> 0 | V10: =OFFSET(Очки!$A$3,L10,J10+QUOTIENT(MAX($C$34-11,0), 2)*4) -> Место | W10: =IF(L10<K10,OFFSET(IF(OR($C$34=11,$C$34=12),Очки!$B$17,Очки!$O$18),2+K10-L10,IF(J10=2,12,13-K10)),0) -> 0 | AB10: =SUM(M10:Y10) -> 0
A11: =RANK(AB11,AB$6:OFFSET(AB$6,0,0,COUNTA(B$6:B$33))) -> #REF! | N11: =OFFSET(Очки!$A$3,F11,D11+QUOTIENT(MAX($C$34-11,0), 2)*4) -> Место | O11: =IF(F11<E11,OFFSET(IF(OR($C$34=11,$C$34=12),Очки!$B$17,Очки!$O$18),2+E11-F11,IF(D11=2,12,13-E11)),0) -> 0 | R11: =OFFSET(Очки!$A$3,I11,G11+QUOTIENT(MAX($C$34-11,0), 2)*4) -> Место | S11: =IF(I11<H11,OFFSET(IF(OR($C$34=11,$C$34=12),Очки!$B$17,Очки!$O$18),2+H11-I11,IF(G11=2,12,13-H11)),0) -> 0 | V11: =OFFSET(Очки!$A$3,L11,J11+QUOTIENT(MAX($C$34-11,0), 2)*4) -> Место | W11: =IF(L11<K11,OFFSET(IF(OR($C$34=11,$C$34=12),Очки!$B$17,Очки!$O$18),2+K11-L11,IF(J11=2,12,13-K11)),0) -> 0 | AB11: =SUM(M11:Y11) -> 0
A12: =RANK(AB12,AB$6:OFFSET(AB$6,0,0,COUNTA(B$6:B$33))) -> #REF! | N12: =OFFSET(Очки!$A$3,F12,D12+QUOTIENT(MAX($C$34-11,0), 2)*4) -> Место | O12: =IF(F12<E12,OFFSET(IF(OR($C$34=11,$C$34=12),Очки!$B$17,Очки!$O$18),2+E12-F12,IF(D12=2,12,13-E12)),0) -> 0 | R12: =OFFSET(Очки!$A$3,I12,G12+QUOTIENT(MAX($C$34-11,0), 2)*4) -> Место | S12: =IF(I12<H12,OFFSET(IF(OR($C$34=11,$C$34=12),Очки!$B$17,Очки!$O$18),2+H12-I12,IF(G12=2,12,13-H12)),0) -> 0 | V12: =OFFSET(Очки!$A$3,L12,J12+QUOTIENT(MAX($C$34-11,0), 2)*4) -> Место | W12: =IF(L12<K12,OFFSET(IF(OR($C$34=11,$C$34=12),Очки!$B$17,Очки!$O$18),2+K12-L12,IF(J12=2,12,13-K12)),0) -> 0 | AB12: =SUM(M12:Y12) -> 0
A13: =RANK(AB13,AB$6:OFFSET(AB$6,0,0,COUNTA(B$6:B$33))) -> #REF! | N13: =OFFSET(Очки!$A$3,F13,D13+QUOTIENT(MAX($C$34-11,0), 2)*4) -> Место | O13: =IF(F13<E13,OFFSET(IF(OR($C$34=11,$C$34=12),Очки!$B$17,Очки!$O$18),2+E13-F13,IF(D13=2,12,13-E13)),0) -> 0 | R13: =OFFSET(Очки!$A$3,I13,G13+QUOTIENT(MAX($C$34-11,0), 2)*4) -> Место | S13: =IF(I13<H13,OFFSET(IF(OR($C$34=11,$C$34=12),Очки!$B$17,Очки!$O$18),2+H13-I13,IF(G13=2,12,13-H13)),0) -> 0 | V13: =OFFSET(Очки!$A$3,L13,J13+QUOTIENT(MAX($C$34-11,0), 2)*4) -> Место | W13: =IF(L13<K13,OFFSET(IF(OR($C$34=11,$C$34=12),Очки!$B$17,Очки!$O$18),2+K13-L13,IF(J13=2,12,13-K13)),0) -> 0 | AB13: =SUM(M13:Y13) -> 0
A14: =RANK(AB14,AB$6:OFFSET(AB$6,0,0,COUNTA(B$6:B$33))) -> #REF! | N14: =OFFSET(Очки!$A$3,F14,D14+QUOTIENT(MAX($C$34-11,0), 2)*4) -> Место | O14: =IF(F14<E14,OFFSET(IF(OR($C$34=11,$C$34=12),Очки!$B$17,Очки!$O$18),2+E14-F14,IF(D14=2,12,13-E14)),0) -> 0 | R14: =OFFSET(Очки!$A$3,I14,G14+QUOTIENT(MAX($C$34-11,0), 2)*4) -> Место | S14: =IF(I14<H14,OFFSET(IF(OR($C$34=11,$C$34=12),Очки!$B$17,Очки!$O$18),2+H14-I14,IF(G14=2,12,13-H14)),0) -> 0 | V14: =OFFSET(Очки!$A$3,L14,J14+QUOTIENT(MAX($C$34-11,0), 2)*4) -> Место | W14: =IF(L14<K14,OFFSET(IF(OR($C$34=11,$C$34=12),Очки!$B$17,Очки!$O$18),2+K14-L14,IF(J14=2,12,13-K14)),0) -> 0 | AB14: =SUM(M14:Y14) -> 0
A15: =RANK(AB15,AB$6:OFFSET(AB$6,0,0,COUNTA(B$6:B$33))) -> #REF! | N15: =OFFSET(Очки!$A$3,F15,D15+QUOTIENT(MAX($C$34-11,0), 2)*4) -> Место | O15: =IF(F15<E15,OFFSET(IF(OR($C$34=11,$C$34=12),Очки!$B$17,Очки!$O$18),2+E15-F15,IF(D15=2,12,13-E15)),0) -> 0 | R15: =OFFSET(Очки!$A$3,I15,G15+QUOTIENT(MAX($C$34-11,0), 2)*4) -> Место | S15: =IF(I15<H15,OFFSET(IF(OR($C$34=11,$C$34=12),Очки!$B$17,Очки!$O$18),2+H15-I15,IF(G15=2,12,13-H15)),0) -> 0 | V15: =OFFSET(Очки!$A$3,L15,J15+QUOTIENT(MAX($C$34-11,0), 2)*4) -> Место | W15: =IF(L15<K15,OFFSET(IF(OR($C$34=11,$C$34=12),Очки!$B$17,Очки!$O$18),2+K15-L15,IF(J15=2,12,13-K15)),0) -> 0 | AB15: =SUM(M15:Y15) -> 0
A16: =RANK(AB16,AB$6:OFFSET(AB$6,0,0,COUNTA(B$6:B$33))) -> #REF! | N16: =OFFSET(Очки!$A$3,F16,D16+QUOTIENT(MAX($C$34-11,0), 2)*4) -> Место | O16: =IF(F16<E16,OFFSET(IF(OR($C$34=11,$C$34=12),Очки!$B$17,Очки!$O$18),2+E16-F16,IF(D16=2,12,13-E16)),0) -> 0 | R16: =OFFSET(Очки!$A$3,I16,G16+QUOTIENT(MAX($C$34-11,0), 2)*4) -> Место | S16: =IF(I16<H16,OFFSET(IF(OR($C$34=11,$C$34=12),Очки!$B$17,Очки!$O$18),2+H16-I16,IF(G16=2,12,13-H16)),0) -> 0 | V16: =OFFSET(Очки!$A$3,L16,J16+QUOTIENT(MAX($C$34-11,0), 2)*4) -> Место | W16: =IF(L16<K16,OFFSET(IF(OR($C$34=11,$C$34=12),Очки!$B$17,Очки!$O$18),2+K16-L16,IF(J16=2,12,13-K16)),0) -> 0 | AB16: =SUM(M16:Y16) -> 0
A17: =RANK(AB17,AB$6:OFFSET(AB$6,0,0,COUNTA(B$6:B$33))) -> #REF! | N17: =OFFSET(Очки!$A$3,F17,D17+QUOTIENT(MAX($C$34-11,0), 2)*4) -> Место | O17: =IF(F17<E17,OFFSET(IF(OR($C$34=11,$C$34=12),Очки!$B$17,Очки!$O$18),2+E17-F17,IF(D17=2,12,13-E17)),0) -> 0 | R17: =OFFSET(Очки!$A$3,I17,G17+QUOTIENT(MAX($C$34-11,0), 2)*4) -> Место | S17: =IF(I17<H17,OFFSET(IF(OR($C$34=11,$C$34=12),Очки!$B$17,Очки!$O$18),2+H17-I17,IF(G17=2,12,13-H17)),0) -> 0 | V17: =OFFSET(Очки!$A$3,L17,J17+QUOTIENT(MAX($C$34-11,0), 2)*4) -> Место | W17: =IF(L17<K17,OFFSET(IF(OR($C$34=11,$C$34=12),Очки!$B$17,Очки!$O$18),2+K17-L17,IF(J17=2,12,13-K17)),0) -> 0 | AB17: =SUM(M17:Y17) -> 0
... A33: =RANK(AB33,AB$6:OFFSET(AB$6,0,0,COUNTA(B$6:B$33))) -> #REF! | N33: =OFFSET(Очки!$A$3,F33,D33+QUOTIENT(MAX($C$34-11,0), 2)*4) -> Место | O33: =IF(F33<E33,OFFSET(IF(OR($C$34=11,$C$34=12),Очки!$B$17,Очки!$O$18),2+E33-F33,IF(D33=2,12,13-E33)),0) -> 0 | R33: =OFFSET(Очки!$A$3,I33,G33+QUOTIENT(MAX($C$34-11,0), 2)*4) -> Место | S33: =IF(I33<H33,OFFSET(IF(OR($C$34=11,$C$34=12),Очки!$B$17,Очки!$O$18),2+H33-I33,IF(G33=2,12,13-H33)),0) -> 0 | V33: =OFFSET(Очки!$A$3,L33,J33+QUOTIENT(MAX($C$34-11,0), 2)*4) -> Место | W33: =IF(L33<K33,OFFSET(IF(OR($C$34=11,$C$34=12),Очки!$B$17,Очки!$O$18),2+K33-L33,IF(J33=2,12,13-K33)),0) -> 0 | AB33: =SUM(M33:Y33) -> 0
B34: Всего участников | C34: =COUNTA(B6:B33) -> 0
