Workbook

Sheet Очки
A1: До 12 человек | F1: 13-14 человек | K1: 15-16 человек | P1: 17-18 человек | U1: 19-20 человек | Z1: 21-22 человек | AE1: 23-24 человек | AJ1: 25 человек | AO1: 26-27 человек | AT1: 28 человек | AY1: 29-30 человек | BD1: 29-30 человек
B2: I | C2: II | D2: III | G2: I | H2: II | I2: III | L2: I | M2: II | N2: III | Q2: I | R2: II | S2: III | V2: I | W2: II | X2: III | AA2: I | AB2: II | AC2: III | AF2: I | AG2: II | AH2: III | AK2: I | AL2: II | AM2: III | AP2: I | AQ2: II | AR2: III | AU2: I | AV2: II | AW2: III | AZ2: I | BA2: II | BB2: III | BE2: I | BF2: II | BG2: III
A3: 1 | B3: 15 | F3: 1 | G3: 15 | H3: 10.5 | K3: 1 | L3: 15 | M3: 10.5 | P3: 1 | Q3: 15 | R3: 10 | U3: 1 | V3: 15 | W3: 9.5 | Z3: 1 | AA3: 15 | AB3: 9 | AE3: 1 | AF3: 16 | AG3: 11.5 | AH3: 7 | AJ3: 1 | AK3: 16 | AL3: 11 | AM3: 6.5 | AO3: 1 | AP3: 17 | AQ3: 12 | AR3: 7 | AT3: 1 | AU3: 17 | AV3: 11.5 | AW3: 6.5 | AY3: 1 | AZ3: 17 | BA3: 11.5 | BB3: 6 | BD3: 1 | BE3: 17 | BF3: 11.5 | BG3: 6
A4: 2 | B4: 14 | F4: 2 | G4: 14 | H4: 9.5 | K4: 2 | L4: 14 | M4: 9.5 | P4: 2 | Q4: 14 | R4: 9 | U4: 2 | V4: 14 | W4: 8.5 | Z4: 2 | AA4: 14 | AB4: 8 | AE4: 2 | AF4: 15 | AG4: 10.5 | AH4: 6 | AJ4: 2 | AK4: 15 | AL4: 10 | AM4: 5.5 | AO4: 2 | AP4: 16 | AQ4: 11 | AR4: 6 | AT4: 2 | AU4: 16 | AV4: 10.5 | AW4: 5.5 | AY4: 2 | AZ4: 16 | BA4: 10.5 | BB4: 5 | BD4: 2 | BE4: 16 | BF4: 10.5 | BG4: 5
A5: 3 | B5: 13 | F5: 3 | G5: 13 | H5: 8.5 | K5: 3 | L5: 13 | M5: 8.5 | P5: 3 | Q5: 13 | R5: 8 | U5: 3 | V5: 13 | W5: 7.5 | Z5: 3 | AA5: 13 | AB5: 7 | AE5: 3 | AF5: 14 | AG5: 9.5 | AH5: 5 | AJ5: 3 | AK5: 14 | AL5: 9 | AM5: 4.5 | AO5: 3 | AP5: 15 | AQ5: 10 | AR5: 5 | AT5: 3 | AU5: 15 | AV5: 9.5 | AW5: 4.5 | AY5: 3 | AZ5: 15 | BA5: 9.5 | BB5: 4 | BD5: 3 | BE5: 15 | BF5: 9.5 | BG5: 4
A6: 4 | B6: 12 | F6: 4 | G6: 12 | H6: 7.5 | K6: 4 | L6: 12 | M6: 7.5 | P6: 4 | Q6: 12 | R6: 7 | U6: 4 | V6: 12 | W6: 6.5 | Z6: 4 | AA6: 12 | AB6: 6 | AE6: 4 | AF6: 13 | AG6: 8.5 | AH6: 4 | AJ6: 4 | AK6: 13 | AL6: 8 | AM6: 3.5 | AO6: 4 | AP6: 14 | AQ6: 9 | AR6: 4 | AT6: 4 | AU6: 14 | AV6: 8.5 | AW6: 3.5 | AY6: 4 | AZ6: 14 | BA6: 8.5 | BB6: 3 | BD6: 4 | BE6: 14 | BF6: 8.5 | BG6: 3
A7: 5 | B7: 11 | F7: 5 | G7: 11 | H7: 6.5 | K7: 5 | L7: 11 | M7: 6.5 | P7: 5 | Q7: 11 | R7: 6 | U7: 5 | V7: 11 | W7: 5.5 | Z7: 5 | AA7: 11 | AB7: 5 | AE7: 5 | AF7: 12 | AG7: 7.5 | AH7: 3 | AJ7: 5 | AK7: 12 | AL7: 7 | AM7: 2.5 | AO7: 5 | AP7: 13 | AQ7: 8 | AR7: 3 | AT7: 5 | AU7: 13 | AV7: 7.5 | AW7: 2.5 | AY7: 5 | AZ7: 13 | BA7: 7.5 | BB7: 2 | BD7: 5 | BE7: 13 | BF7: 7.5 | BG7: 2
A8: 6 | B8: 10.5 | F8: 6 | G8: 10.5 | H8: 6 | K8: 6 | L8: 10.5 | M8: 6 | P8: 6 | Q8: 10.5 | R8: 5.5 | U8: 6 | V8: 10.5 | W8: 5 | Z8: 6 | AA8: 10.5 | AB8: 4.5 | AE8: 6 | AF8: 11.5 | AG8: 7 | AH8: 2.5 | AJ8: 6 | AK8: 11.5 | AL8: 6.5 | AM8: 2 | AO8: 6 | AP8: 12.5 | AQ8: 7.5 | AR8: 2.5 | AT8: 6 | AU8: 12.5 | AV8: 7 | AW8: 2 | AY8: 6 | AZ8: 12.5 | BA8: 7 | BB8: 1.5 | BD8: 6 | BE8: 12.5 | BF8: 7 | BG8: 1.5
A9: 7 | B9: 10 | F9: 7 | G9: 10 | H9: 5.5 | K9: 7 | L9: 10 | M9: 5.5 | P9: 7 | Q9: 10 | R9: 5 | U9: 7 | V9: 10 | W9: 4.5 | Z9: 7 | AA9: 10 | AB9: 4 | AE9: 7 | AF9: 11 | AG9: 6.5 | AH9: 2 | AJ9: 7 | AK9: 11 | AL9: 6 | AM9: 1.5 | AO9: 7 | AP9: 12 | AQ9: 7 | AR9: 2 | AT9: 7 | AU9: 12 | AV9: 6.5 | AW9: 1.5 | AY9: 7 | AZ9: 12 | BA9: 6.5 | BB9: 1 | BD9: 7 | BE9: 12 | BF9: 6.5 | BG9: 1
A10: 8 | B10: 9.5 | K10: 8 | L10: 9.5 | M10: 5 | P10: 8 | Q10: 9.5 | R10: 4.5 | U10: 8 | V10: 9.5 | W10: 4 | Z10: 8 | AA10: 9.5 | AB10: 3.5 | AE10: 8 | AF10: 10.5 | AG10: 6 | AH10: 1.5 | AJ10: 8 | AK10: 10.5 | AL10: 5.5 | AM10: 1 | AO10: 8 | AP10: 11.5 | AQ10: 6.5 | AR10: 1.5 | AT10: 8 | AU10: 11.5 | AV10: 6 | AW10: 1 | AY10: 8 | AZ10: 11.5 | BA10: 6 | BB10: 0.5 | BD10: 8 | BE10: 11.5 | BF10: 6 | BG10: 0.5
A11: 9 | B11: 9 | P11: 9 | Q11: 9 | R11: 4 | U11: 9 | V11: 9 | W11: 3.5 | Z11: 9 | AA11: 9 | AB11: 3 | AJ11: 9 | AK11: 10 | AO11: 9 | AP11: 11 | AQ11: 6 | AR11: 1 | AT11: 9 | AU11: 11 | AV11: 5.5 | AW11: 0.5 | AY11: 9 | AZ11: 11 | BA11: 5.5 | BB11: 0 | BD11: 9 | BE11: 11 | BF11: 5.5 | BG11: 0
A12: 10 | B12: 8.5 | U12: 10 | V12: 8.5 | W12: 3 | Z12: 10 | AA12: 8.5 | AB12: 2.5 | AT12: 10 | AU12: 10.5 | AY12: 10 | AZ12: 10.5 | BA12: 5 | BB12: 0 | BD12: 10 | BE12: 10.5 | BF12: 5 | BG12: 0
A13: 11 | B13: 8 | Z13: 11 | AA13: 8 | BD13: 11 | BE13: 10 | BF13: 4.5
A14: 12 | B14: 7.5
A16: число людей / колонка для очков
A17: 1 | B17: 2 | C17: 3 | D17: 4 | E17: 5 | F17: 6 | G17: 7 | H17: 8 | I17: 9 | J17: 10 | K17: 11 | L17: 12 | M17: 13 | N17: 14 | O17: 15 | P17: 16 | Q17: 17 | R17: 18 | S17: 19 | T17: 20 | U17: 21 | V17: 22 | W17: 23 | X17: 24 | Y17: 25 | Z17: 26 | AA17: 27 | AB17: 28 | AC17: 29 | AD17: 30 | AE17: 31 | AF17: 32 | AG17: 33 | AH17: 34 | AI17: 35
A18: 1 | B18: 1 | C18: 1 | D18: 1 | E18: 1 | F18: 1 | G18: 1 | H18: 1 | I18: 1 | J18: 1 | K18: 1 | L18: 1 | M18: 6 | N18: 6 | O18: 11 | P18: 11 | Q18: 16 | R18: 16 | S18: 21 | T18: 21 | U18: 26 | V18: 26 | W18: 31 | X18: 31 | Y18: 36 | Z18: 41 | AA18: 41 | AB18: 46 | AC18: 51 | AD18: 51 | AE18: 56 | AF18: 56 | AG18: 56 | AH18: 56 | AI18: 56
A20: ОБГОНЫ
B21: I гр | M21: II гр | N21: III гр
B22: с 12 | C22: с 11 | D22: с 10 | E22: с 9 | F22: с 8 | G22: с 7 | H22: с 6 | I22: с 5 | J22: с 4 | K22: с 3 | L22: со 2
A23: 1 | B23: 1.3 | C23: 1.3 | D23: 1.2 | E23: 1.2 | F23: 1.2 | G23: 1.1 | H23: 1 | I23: 0.9 | J23: 0.8 | K23: 0.7 | L23: 0.7 | M23: 0.7 | N23: 0.5
A24: 2 | B24: =B23+C23 -> 2.6 | C24: =C23+D23 -> 2.5 | D24: =D23+E23 -> 2.4 | E24: =E23+F23 -> 2.4 | F24: =F23+G23 -> 2.3 | G24: =G23+H23 -> 2.1 | H24: =H23+I23 -> 1.9 | I24: =I23+J23 -> 1.7 | ... K24: =K23+L23 -> 1.4 | M24: 1.4 | N24: 1
A25: 3 | B25: =B24+D23 -> 3.8 | C25: =C24+E23 -> 3.7 | D25: =D24+F23 -> 3.6 | E25: =E24+G23 -> 3.5 | F25: =F24+H23 -> 3.3 | G25: =G24+I23 -> 3 | H25: =H24+J23 -> 2.7 | I25: =I24+K23 -> 2.4 | J25: =J24+L23 -> 2.2 | M25: 2.1 | N25: 1.5
A26: 4 | B26: =B25+E23 -> 5 | C26: =C25+F23 -> 4.9 | D26: =D25+G23 -> 4.7 | E26: =E25+H23 -> 4.5 | F26: =F25+I23 -> 4.2 | G26: =G25+J23 -> 3.8 | H26: =H25+K23 -> 3.4 | I26: =I25+L23 -> 3.1 | M26: 2.8 | N26: 2
A27: 5 | B27: =B26+F23 -> 6.2 | C27: =C26+G23 -> 6 | D27: =D26+H23 -> 5.7 | E27: =E26+I23 -> 5.4 | F27: =F26+J23 -> 5 | G27: =G26+K23 -> 4.5 | H27: =H26+L23 -> 4.1 | M27: 3.5 | N27: 2.5
A28: 6 | B28: =B27+G23 -> 7.3 | C28: =C27+H23 -> 7 | D28: =D27+I23 -> 6.6 | E28: =E27+J23 -> 6.2 | F28: =F27+K23 -> 5.7 | G28: =G27+L23 -> 5.2 | M28: 4.2 | N28: 3
A29: 7 | B29: =B28+H23 -> 8.3 | C29: =C28+I23 -> 7.9 | D29: =D28+J23 -> 7.4 | E29: =E28+K23 -> 6.9 | F29: =F28+L23 -> 6.4 | M29: 4.9 | N29: 3.5
A30: 8 | B30: =B29+I23 -> 9.2 | C30: =C29+J23 -> 8.7 | D30: =D29+K23 -> 8.1 | E30: =E29+L23 -> 7.6 | M30: 5.6 | N30: 4
A31: 9 | B31: =B30+J23 -> 10 | C31: =C30+K23 -> 9.4 | D31: =D30+L23 -> 8.8 | M31: 6.3 | N31: 4.5
A32: 10 | B32: =B31+K23 -> 10.7 | C32: =C31+L23 -> 10.1 | M32: 7 | N32: 5
A33: 11 | B33: =B32+L23 -> 11.4 | M33: 7.7 | N33: 5.5

Sheet 24.04
A1: Лайт Лига 24.04.2017 (конфигурация 4R)
A3: Место | B3: Участник | D3: 1 | G3: 2 | J3: Очки | S3: Сумма
C4: Довес | D4: группа | E4: Старт | F4: Финиш | G4: группа | H4: Старт | I4: Финиш | J4: Квала | K4: 1 | O4: 2
K5: очки | L5: обгоны | M5: время | N5: штрафы | O5: очки | P5: обгоны | Q5: время | R5: штрафы
A6: =RANK(S6,S$6:OFFSET(S$6,0,0,COUNTA(B$6:B$40))) -> 1 | B6: Кошарук Женя | C6: - | D6: 1 | E6: 4 | F6: 1 | G6: 1 | H6: 11 | I6: 8 | K6: =OFFSET(Очки!$A$2,F6,D6+OFFSET(Очки!$A$18,0,$C$41-1)-1) -> 17 | L6: =IF(F6<E6,OFFSET(Очки!$A$20,2+E6-F6,IF(D6=1,13-E6,10+D6)),0) -> 2.2 | M6: 2.5 | O6: =OFFSET(Очки!$A$2,I6,G6+OFFSET(Очки!$A$18,0,$C$41-1)-1) -> 11.5 | P6: =IF(I6<H6,OFFSET(Очки!$A$20,2+H6-I6,IF(G6=1,13-H6,10+G6)),0) -> 3.7 | Q6: 1.5 | S6: =SUM(J6:R6) -> 38.4
A7: =RANK(S7,S$6:OFFSET(S$6,0,0,COUNTA(B$6:B$40))) -> 2 | B7: Якусик Дима / Yakusik Dima | C7: 7.5 | D7: 1 | E7: 2 | F7: 2 | G7: 1 | H7: 5 | I7: 1 | K7: =OFFSET(Очки!$A$2,F7,D7+OFFSET(Очки!$A$18,0,$C$41-1)-1) -> 16 | L7: =IF(F7<E7,OFFSET(Очки!$A$20,2+E7-F7,IF(D7=1,13-E7,10+D7)),0) -> 0 | O7: =OFFSET(Очки!$A$2,I7,G7+OFFSET(Очки!$A$18,0,$C$41-1)-1) -> 17 | P7: =IF(I7<H7,OFFSET(Очки!$A$20,2+H7-I7,IF(G7=1,13-H7,10+G7)),0) -> 3.1 | Q7: 2.5 | R7: -2 | S7: =SUM(J7:R7) -> 36.6
A8: =RANK(S8,S$6:OFFSET(S$6,0,0,COUNTA(B$6:B$40))) -> 3 | B8: Фалько Константин / Falko Konstantin | C8: - | D8: 1 | E8: 6 | F8: 4 | G8: 1 | H8: 7 | I8: 2 | K8: =OFFSET(Очки!$A$2,F8,D8+OFFSET(Очки!$A$18,0,$C$41-1)-1) -> 14 | L8: =IF(F8<E8,OFFSET(Очки!$A$20,2+E8-F8,IF(D8=1,13-E8,10+D8)),0) -> 1.9 | M8: 0.5 | N8: -3 | O8: =OFFSET(Очки!$A$2,I8,G8+OFFSET(Очки!$A$18,0,$C$41-1)-1) -> 16 | P8: =IF(I8<H8,OFFSET(Очки!$A$20,2+H8-I8,IF(G8=1,13-H8,10+G8)),0) -> 4.5 | Q8: 2 | S8: =SUM(J8:R8) -> 35.9
A9: =RANK(S9,S$6:OFFSET(S$6,0,0,COUNTA(B$6:B$40))) -> 4 | B9: Тамберг Александр / Tamberg Aleksandr | C9: - | D9: 1 | E9: 11 | F9: 7 | G9: 1 | H9: 8 | I9: 5 | J9: 2.5 | K9: =OFFSET(Очки!$A$2,F9,D9+OFFSET(Очки!$A$18,0,$C$41-1)-1) -> 12 | L9: =IF(F9<E9,OFFSET(Очки!$A$20,2+E9-F9,IF(D9=1,13-E9,10+D9)),0) -> 4.9 | M9: 1 | N9: -2 | O9: =OFFSET(Очки!$A$2,I9,G9+OFFSET(Очки!$A$18,0,$C$41-1)-1) -> 13 | P9: =IF(I9<H9,OFFSET(Очки!$A$20,2+H9-I9,IF(G9=1,13-H9,10+G9)),0) -> 3.3 | Q9: 1 | R9: -2 | S9: =SUM(J9:R9) -> 33.7
A10: =RANK(S10,S$6:OFFSET(S$6,0,0,COUNTA(B$6:B$40))) -> 5 | B10: Фурсов Никита / Fursov Nikita | C10: - | D10: 1 | E10: 8 | F10: 3 | G10: 1 | H10: 6 | I10: 7 | J10: 1 | K10: =OFFSET(Очки!$A$2,F10,D10+OFFSET(Очки!$A$18,0,$C$41-1)-1) -> 15 | L10: =IF(F10<E10,OFFSET(Очки!$A$20,2+E10-F10,IF(D10=1,13-E10,10+D10)),0) -> 5 | O10: =OFFSET(Очки!$A$2,I10,G10+OFFSET(Очки!$A$18,0,$C$41-1)-1) -> 12 | P10: =IF(I10<H10,OFFSET(Очки!$A$20,2+H10-I10,IF(G10=1,13-H10,10+G10)),0) -> 0 | S10: =SUM(J10:R10) -> 33
A11: =RANK(S11,S$6:OFFSET(S$6,0,0,COUNTA(B$6:B$40))) -> 6 | B11: Ткаченко Кирилл / Tkachenko Kirill | C11: 5 | D11: 1 | E11: 7 | F11: 5 | G11: 1 | H11: 9 | I11: 8 | J11: 0.5 | K11: =OFFSET(Очки!$A$2,F11,D11+OFFSET(Очки!$A$18,0,$C$41-1)-1) -> 13 | L11: =IF(F11<E11,OFFSET(Очки!$A$20,2+E11-F11,IF(D11=1,13-E11,10+D11)),0) -> 2.1 | M11: 1.5 | O11: =OFFSET(Очки!$A$2,I11,G11+OFFSET(Очки!$A$18,0,$C$41-1)-1) -> 11.5 | P11: =IF(I11<H11,OFFSET(Очки!$A$20,2+H11-I11,IF(G11=1,13-H11,10+G11)),0) -> 1.2 | S11: =SUM(J11:R11) -> 29.8
A12: =RANK(S12,S$6:OFFSET(S$6,0,0,COUNTA(B$6:B$40))) -> 7 | B12: Коруз Вадим / Koruz Vadim | C12: 7.5 | D12: 1 | E12: 9 | F12: 5 | G12: 1 | H12: 10 | I12: 10 | J12: 1.5 | K12: =OFFSET(Очки!$A$2,F12,D12+OFFSET(Очки!$A$18,0,$C$41-1)-1) -> 13 | L12: =IF(F12<E12,OFFSET(Очки!$A$20,2+E12-F12,IF(D12=1,13-E12,10+D12)),0) -> 4.5 | M12: 2 | O12: =OFFSET(Очки!$A$2,I12,G12+OFFSET(Очки!$A$18,0,$C$41-1)-1) -> 10.5 | P12: =IF(I12<H12,OFFSET(Очки!$A$20,2+H12-I12,IF(G12=1,13-H12,10+G12)),0) -> 0 | R12: =-3-1 -> -4 | S12: =SUM(J12:R12) -> 27.5
A13: =RANK(S13,S$6:OFFSET(S$6,0,0,COUNTA(B$6:B$40))) -> 8 | B13: Сомок Денис / Somok Denis | C13: 7.5 | D13: 1 | E13: 10 | F13: 11 | G13: 1 | H13: 1 | I13: 3 | J13: 2 | K13: =OFFSET(Очки!$A$2,F13,D13+OFFSET(Очки!$A$18,0,$C$41-1)-1) -> 10 | L13: =IF(F13<E13,OFFSET(Очки!$A$20,2+E13-F13,IF(D13=1,13-E13,10+D13)),0) -> 0 | O13: =OFFSET(Очки!$A$2,I13,G13+OFFSET(Очки!$A$18,0,$C$41-1)-1) -> 15 | P13: =IF(I13<H13,OFFSET(Очки!$A$20,2+H13-I13,IF(G13=1,13-H13,10+G13)),0) -> 0 | R13: -3 | S13: =SUM(J13:R13) -> 24
A14: =RANK(S14,S$6:OFFSET(S$6,0,0,COUNTA(B$6:B$40))) -> 9 | B14: Доценко Анатолий | C14: 10 | D14: 2 | E14: 4 | F14: 3 | G14: 1 | H14: 3 | I14: 2 | K14: =OFFSET(Очки!$A$2,F14,D14+OFFSET(Очки!$A$18,0,$C$41-1)-1) -> 9.5 | L14: =IF(F14<E14,OFFSET(Очки!$A$20,2+E14-F14,IF(D14=1,13-E14,10+D14)),0) -> 0.7 | O14: =OFFSET(Очки!$A$2,I14,G14+OFFSET(Очки!$A$18,0,$C$41-1)-1) -> 16 | P14: =IF(I14<H14,OFFSET(Очки!$A$20,2+H14-I14,IF(G14=1,13-H14,10+G14)),0) -> 0.7 | R14: -3 | S14: =SUM(J14:R14) -> 23.9
A15: =RANK(S15,S$6:OFFSET(S$6,0,0,COUNTA(B$6:B$40))) -> 10 | B15: Закалюк Евгений / Zakaliuk Eugen | C15: - | D15: 1 | E15: 1 | F15: 8 | G15: 2 | H15: 1 | I15: 2 | K15: =OFFSET(Очки!$A$2,F15,D15+OFFSET(Очки!$A$18,0,$C$41-1)-1) -> 11.5 | L15: =IF(F15<E15,OFFSET(Очки!$A$20,2+E15-F15,IF(D15=1,13-E15,10+D15)),0) -> 0 | O15: =OFFSET(Очки!$A$2,I15,G15+OFFSET(Очки!$A$18,0,$C$41-1)-1) -> 10.5 | P15: =IF(I15<H15,OFFSET(Очки!$A$20,2+H15-I15,IF(G15=1,13-H15,10+G15)),0) -> 0 | S15: =SUM(J15:R15) -> 22
A16: =RANK(S16,S$6:OFFSET(S$6,0,0,COUNTA(B$6:B$40))) -> 11 | B16: Черевко Владимир | C16: 20 | D16: 2 | E16: 3 | F16: 2 | G16: 1 | H16: 2 | I16: 10 | K16: =OFFSET(Очки!$A$2,F16,D16+OFFSET(Очки!$A$18,0,$C$41-1)-1) -> 10.5 | L16: =IF(F16<E16,OFFSET(Очки!$A$20,2+E16-F16,IF(D16=1,13-E16,10+D16)),0) -> 0.7 | O16: =OFFSET(Очки!$A$2,I16,G16+OFFSET(Очки!$A$18,0,$C$41-1)-1) -> 10.5 | P16: =IF(I16<H16,OFFSET(Очки!$A$20,2+H16-I16,IF(G16=1,13-H16,10+G16)),0) -> 0 | S16: =SUM(J16:R16) -> 21.7
A17: =RANK(S17,S$6:OFFSET(S$6,0,0,COUNTA(B$6:B$40))) -> 12 | B17: Гончаров Роман / Honcharov Roman | C17: 17.5 | D17: 2 | E17: 11 | F17: 5 | G17: 1 | H17: 4 | I17: 6 | K17: =OFFSET(Очки!$A$2,F17,D17+OFFSET(Очки!$A$18,0,$C$41-1)-1) -> 7.5 | L17: =IF(F17<E17,OFFSET(Очки!$A$20,2+E17-F17,IF(D17=1,13-E17,10+D17)),0) -> 4.2 | O17: =OFFSET(Очки!$A$2,I17,G17+OFFSET(Очки!$A$18,0,$C$41-1)-1) -> 12.5 | P17: =IF(I17<H17,OFFSET(Очки!$A$20,2+H17-I17,IF(G17=1,13-H17,10+G17)),0) -> 0 | R17: -3 | S17: =SUM(J17:R17) -> 21.2
A18: =RANK(S18,S$6:OFFSET(S$6,0,0,COUNTA(B$6:B$40))) -> 13 | B18: Муляр Андрей / Mular Andrei | C18: - | D18: 2 | E18: 1 | F18: 1 | G18: 2 | H18: 7 | I18: 5 | K18: =OFFSET(Очки!$A$2,F18,D18+OFFSET(Очки!$A$18,0,$C$41-1)-1) -> 11.5 | L18: =IF(F18<E18,OFFSET(Очки!$A$20,2+E18-F18,IF(D18=1,13-E18,10+D18)),0) -> 0 | O18: =OFFSET(Очки!$A$2,I18,G18+OFFSET(Очки!$A$18,0,$C$41-1)-1) -> 7.5 | P18: =IF(I18<H18,OFFSET(Очки!$A$20,2+H18-I18,IF(G18=1,13-H18,10+G18)),0) -> 1.4 | S18: =SUM(J18:R18) -> 20.4
A19: =RANK(S19,S$6:OFFSET(S$6,0,0,COUNTA(B$6:B$40))) -> 14 | B19: Яремкович Дмитрий / Yaremkovich Dmitriy | C19: - | D19: 2 | E19: 8 | F19: 5 | G19: 2 | H19: 10 | I19: 6 | K19: =OFFSET(Очки!$A$2,F19,D19+OFFSET(Очки!$A$18,0,$C$41-1)-1) -> 7.5 | L19: =IF(F19<E19,OFFSET(Очки!$A$20,2+E19-F19,IF(D19=1,13-E19,10+D19)),0) -> 2.1 | O19: =OFFSET(Очки!$A$2,I19,G19+OFFSET(Очки!$A$18,0,$C$41-1)-1) -> 7 | P19: =IF(I19<H19,OFFSET(Очки!$A$20,2+H19-I19,IF(G19=1,13-H19,10+G19)),0) -> 2.8 | S19: =SUM(J19:R19) -> 19.4
A20: =RANK(S20,S$6:OFFSET(S$6,0,0,COUNTA(B$6:B$40))) -> 15 | B20: Ищук Сергей / Ischuk Sergey | C20: 10 | D20: 1 | E20: 5 | F20: 9 | G20: 2 | H20: 6 | I20: 4 | K20: =OFFSET(Очки!$A$2,F20,D20+OFFSET(Очки!$A$18,0,$C$41-1)-1) -> 11 | L20: =IF(F20<E20,OFFSET(Очки!$A$20,2+E20-F20,IF(D20=1,13-E20,10+D20)),0) -> 0 | O20: =OFFSET(Очки!$A$2,I20,G20+OFFSET(Очки!$A$18,0,$C$41-1)-1) -> 8.5 | P20: =IF(I20<H20,OFFSET(Очки!$A$20,2+H20-I20,IF(G20=1,13-H20,10+G20)),0) -> 1.4 | Q20: 0.5 | R20: -2 | S20: =SUM(J20:R20) -> 19.4
A21: =RANK(S21,S$6:OFFSET(S$6,0,0,COUNTA(B$6:B$40))) -> 16 | B21: Байдиков Андрей / Baidikov Andrei | C21: 5 | D21: 3 | E21: 7 | F21: 2 | G21: 2 | H21: 4 | I21: 3 | K21: =OFFSET(Очки!$A$2,F21,D21+OFFSET(Очки!$A$18,0,$C$41-1)-1) -> 5 | L21: =IF(F21<E21,OFFSET(Очки!$A$20,2+E21-F21,IF(D21=1,13-E21,10+D21)),0) -> 2.5 | O21: =OFFSET(Очки!$A$2,I21,G21+OFFSET(Очки!$A$18,0,$C$41-1)-1) -> 9.5 | P21: =IF(I21<H21,OFFSET(Очки!$A$20,2+H21-I21,IF(G21=1,13-H21,10+G21)),0) -> 0.7 | S21: =SUM(J21:R21) -> 17.7
A22: =RANK(S22,S$6:OFFSET(S$6,0,0,COUNTA(B$6:B$40))) -> 17 | B22: Климчук Евгений / Kilimchuk Eugen | C22: - | D22: 2 | E22: 5 | F22: 7 | G22: 2 | H22: 5 | I22: 8 | K22: =OFFSET(Очки!$A$2,F22,D22+OFFSET(Очки!$A$18,0,$C$41-1)-1) -> 6.5 | L22: =IF(F22<E22,OFFSET(Очки!$A$20,2+E22-F22,IF(D22=1,13-E22,10+D22)),0) -> 0 | O22: =OFFSET(Очки!$A$2,I22,G22+OFFSET(Очки!$A$18,0,$C$41-1)-1) -> 6 | P22: =IF(I22<H22,OFFSET(Очки!$A$20,2+H22-I22,IF(G22=1,13-H22,10+G22)),0) -> 0 | S22: =SUM(J22:R22) -> 12.5
A23: =RANK(S23,S$6:OFFSET(S$6,0,0,COUNTA(B$6:B$40))) -> 18 | B23: Фаль Александр / Fal Aleksandr | D23: 3 | E23: 3 | F23: 1 | G23: 3 | H23: 8 | I23: 4 | K23: =OFFSET(Очки!$A$2,F23,D23+OFFSET(Очки!$A$18,0,$C$41-1)-1) -> 6 | L23: =IF(F23<E23,OFFSET(Очки!$A$20,2+E23-F23,IF(D23=1,13-E23,10+D23)),0) -> 1 | O23: =OFFSET(Очки!$A$2,I23,G23+OFFSET(Очки!$A$18,0,$C$41-1)-1) -> 3 | P23: =IF(I23<H23,OFFSET(Очки!$A$20,2+H23-I23,IF(G23=1,13-H23,10+G23)),0) -> 2 | S23: =SUM(J23:R23) -> 12
A24: =RANK(S24,S$6:OFFSET(S$6,0,0,COUNTA(B$6:B$40))) -> 19 | B24: Михайлик Михаил | C24: 17.5 | D24: 2 | E24: 6 | F24: 4 | G24: 3 | H24: 5 | I24: 3 | K24: =OFFSET(Очки!$A$2,F24,D24+OFFSET(Очки!$A$18,0,$C$41-1)-1) -> 8.5 | L24: =IF(F24<E24,OFFSET(Очки!$A$20,2+E24-F24,IF(D24=1,13-E24,10+D24)),0) -> 1.4 | O24: =OFFSET(Очки!$A$2,I24,G24+OFFSET(Очки!$A$18,0,$C$41-1)-1) -> 4 | P24: =IF(I24<H24,OFFSET(Очки!$A$20,2+H24-I24,IF(G24=1,13-H24,10+G24)),0) -> 1 | R24: -3 | S24: =SUM(J24:R24) -> 11.9
A25: =RANK(S25,S$6:OFFSET(S$6,0,0,COUNTA(B$6:B$40))) -> 20 | B25: Морозенко Сергей / Morozenko Sergey | C25: 7.5 | D25: 2 | E25: 10 | F25: 11 | G25: 2 | H25: 2 | I25: 1 | K25: =OFFSET(Очки!$A$2,F25,D25+OFFSET(Очки!$A$18,0,$C$41-1)-1) -> 4.5 | L25: =IF(F25<E25,OFFSET(Очки!$A$20,2+E25-F25,IF(D25=1,13-E25,10+D25)),0) -> 0 | N25: =-3-2 -> -5 | O25: =OFFSET(Очки!$A$2,I25,G25+OFFSET(Очки!$A$18,0,$C$41-1)-1) -> 11.5 | P25: =IF(I25<H25,OFFSET(Очки!$A$20,2+H25-I25,IF(G25=1,13-H25,10+G25)),0) -> 0.7 | S25: =SUM(J25:R25) -> 11.7
A26: =RANK(S26,S$6:OFFSET(S$6,0,0,COUNTA(B$6:B$40))) -> 21 | B26: Майбродский Миша / Maibrodskiy Mikhail | C26: 10 | D26: 1 | E26: 3 | F26: 8 | G26: 2 | H26: 9 | I26: 7 | K26: =OFFSET(Очки!$A$2,F26,D26+OFFSET(Очки!$A$18,0,$C$41-1)-1) -> 11.5 | L26: =IF(F26<E26,OFFSET(Очки!$A$20,2+E26-F26,IF(D26=1,13-E26,10+D26)),0) -> 0 | N26: -5 | O26: =OFFSET(Очки!$A$2,I26,G26+OFFSET(Очки!$A$18,0,$C$41-1)-1) -> 6.5 | P26: =IF(I26<H26,OFFSET(Очки!$A$20,2+H26-I26,IF(G26=1,13-H26,10+G26)),0) -> 1.4 | R26: -3 | S26: =SUM(J26:R26) -> 11.4
A27: =RANK(S27,S$6:OFFSET(S$6,0,0,COUNTA(B$6:B$40))) -> 22 | B27: Резников Иван / Reznikov Ivan | C27: - | D27: 3 | E27: 6 | F27: 4 | G27: 3 | H27: 7 | I27: 1 | K27: =OFFSET(Очки!$A$2,F27,D27+OFFSET(Очки!$A$18,0,$C$41-1)-1) -> 3 | L27: =IF(F27<E27,OFFSET(Очки!$A$20,2+E27-F27,IF(D27=1,13-E27,10+D27)),0) -> 1 | N27: -2 | O27: =OFFSET(Очки!$A$2,I27,G27+OFFSET(Очки!$A$18,0,$C$41-1)-1) -> 6 | P27: =IF(I27<H27,OFFSET(Очки!$A$20,2+H27-I27,IF(G27=1,13-H27,10+G27)),0) -> 3 | S27: =SUM(J27:R27) -> 11
A28: =RANK(S28,S$6:OFFSET(S$6,0,0,COUNTA(B$6:B$40))) -> 23 | B28: Якусик Саша | C28: 7.5 | D28: 2 | E28: 9 | F28: 7 | G28: 3 | H28: 6 | I28: 2 | K28: =OFFSET(Очки!$A$2,F28,D28+OFFSET(Очки!$A$18,0,$C$41-1)-1) -> 6.5 | L28: =IF(F28<E28,OFFSET(Очки!$A$20,2+E28-F28,IF(D28=1,13-E28,10+D28)),0) -> 1.4 | N28: =-3-1 -> -4 | O28: =OFFSET(Очки!$A$2,I28,G28+OFFSET(Очки!$A$18,0,$C$41-1)-1) -> 5 | P28: =IF(I28<H28,OFFSET(Очки!$A$20,2+H28-I28,IF(G28=1,13-H28,10+G28)),0) -> 2 | S28: =SUM(J28:R28) -> 10.9
A29: =RANK(S29,S$6:OFFSET(S$6,0,0,COUNTA(B$6:B$40))) -> 24 | B29: Криворучко Николай | C29: 7.5 | D29: 2 | E29: 7 | F29: 9 | G29: 2 | H29: 3 | I29: 10 | K29: =OFFSET(Очки!$A$2,F29,D29+OFFSET(Очки!$A$18,0,$C$41-1)-1) -> 5.5 | L29: =IF(F29<E29,OFFSET(Очки!$A$20,2+E29-F29,IF(D29=1,13-E29,10+D29)),0) -> 0 | O29: =OFFSET(Очки!$A$2,I29,G29+OFFSET(Очки!$A$18,0,$C$41-1)-1) -> 5 | P29: =IF(I29<H29,OFFSET(Очки!$A$20,2+H29-I29,IF(G29=1,13-H29,10+G29)),0) -> 0 | S29: =SUM(J29:R29) -> 10.5
A30: =RANK(S30,S$6:OFFSET(S$6,0,0,COUNTA(B$6:B$40))) -> 25 | B30: Илона / Strona Ilona | C30: - | D30: 3 | E30: 4 | F30: 3 | G30: 2 | H30: 8 | I30: 9 | K30: =OFFSET(Очки!$A$2,F30,D30+OFFSET(Очки!$A$18,0,$C$41-1)-1) -> 4 | L30: =IF(F30<E30,OFFSET(Очки!$A$20,2+E30-F30,IF(D30=1,13-E30,10+D30)),0) -> 0.5 | O30: =OFFSET(Очки!$A$2,I30,G30+OFFSET(Очки!$A$18,0,$C$41-1)-1) -> 5.5 | P30: =IF(I30<H30,OFFSET(Очки!$A$20,2+H30-I30,IF(G30=1,13-H30,10+G30)),0) -> 0 | S30: =SUM(J30:R30) -> 10
A31: =RANK(S31,S$6:OFFSET(S$6,0,0,COUNTA(B$6:B$40))) -> 26 | B31: Халецкий Евгений / Khaletskiy Eugen | D31: 3 | E31: 5 | F31: 5 | G31: 3 | H31: 9 | I31: 3 | K31: =OFFSET(Очки!$A$2,F31,D31+OFFSET(Очки!$A$18,0,$C$41-1)-1) -> 2 | L31: =IF(F31<E31,OFFSET(Очки!$A$20,2+E31-F31,IF(D31=1,13-E31,10+D31)),0) -> 0 | O31: =OFFSET(Очки!$A$2,I31,G31+OFFSET(Очки!$A$18,0,$C$41-1)-1) -> 4 | P31: =IF(I31<H31,OFFSET(Очки!$A$20,2+H31-I31,IF(G31=1,13-H31,10+G31)),0) -> 3 | S31: =SUM(J31:R31) -> 9
A32: =RANK(S32,S$6:OFFSET(S$6,0,0,COUNTA(B$6:B$40))) -> 27 | B32: Купцов Павел | C32: - | D32: 3 | E32: 8 | F32: 6 | G32: 2 | H32: 11 | I32: 10 | K32: =OFFSET(Очки!$A$2,F32,D32+OFFSET(Очки!$A$18,0,$C$41-1)-1) -> 1.5 | L32: =IF(F32<E32,OFFSET(Очки!$A$20,2+E32-F32,IF(D32=1,13-E32,10+D32)),0) -> 1 | O32: =OFFSET(Очки!$A$2,I32,G32+OFFSET(Очки!$A$18,0,$C$41-1)-1) -> 5 | P32: =IF(I32<H32,OFFSET(Очки!$A$20,2+H32-I32,IF(G32=1,13-H32,10+G32)),0) -> 0.7 | S32: =SUM(J32:R32) -> 8.2
A33: =RANK(S33,S$6:OFFSET(S$6,0,0,COUNTA(B$6:B$40))) -> 28 | B33: Конюхов Роман / Konuhov Roman | C33: 5 | D33: 2 | E33: 2 | F33: 10 | G33: 3 | H33: 4 | I33: 6 | K33: =OFFSET(Очки!$A$2,F33,D33+OFFSET(Очки!$A$18,0,$C$41-1)-1) -> 5 | L33: =IF(F33<E33,OFFSET(Очки!$A$20,2+E33-F33,IF(D33=1,13-E33,10+D33)),0) -> 0 | O33: =OFFSET(Очки!$A$2,I33,G33+OFFSET(Очки!$A$18,0,$C$41-1)-1) -> 1.5 | P33: =IF(I33<H33,OFFSET(Очки!$A$20,2+H33-I33,IF(G33=1,13-H33,10+G33)),0) -> 0 | S33: =SUM(J33:R33) -> 6.5
A34: =RANK(S34,S$6:OFFSET(S$6,0,0,COUNTA(B$6:B$40))) -> 29 | B34: Гуцуляк Игорь / Gutsuliak Igor | C34: 12.5 | D34: 3 | E34: 9 | F34: 8 | G34: 3 | H34: 2 | I34: 7 | K34: =OFFSET(Очки!$A$2,F34,D34+OFFSET(Очки!$A$18,0,$C$41-1)-1) -> 0.5 | L34: =IF(F34<E34,OFFSET(Очки!$A$20,2+E34-F34,IF(D34=1,13-E34,10+D34)),0) -> 0.5 | O34: =OFFSET(Очки!$A$2,I34,G34+OFFSET(Очки!$A$18,0,$C$41-1)-1) -> 1 | P34: =IF(I34<H34,OFFSET(Очки!$A$20,2+H34-I34,IF(G34=1,13-H34,10+G34)),0) -> 0 | S34: =SUM(J34:R34) -> 2
A35: =RANK(S35,S$6:OFFSET(S$6,0,0,COUNTA(B$6:B$40))) -> 30 | B35: Поцепаев Илья | C35: 7.5 | D35: 3 | E35: 1 | F35: 7 | G35: 3 | H35: 3 | I35: 8 | K35: =OFFSET(Очки!$A$2,F35,D35+OFFSET(Очки!$A$18,0,$C$41-1)-1) -> 1 | L35: =IF(F35<E35,OFFSET(Очки!$A$20,2+E35-F35,IF(D35=1,13-E35,10+D35)),0) -> 0 | O35: =OFFSET(Очки!$A$2,I35,G35+OFFSET(Очки!$A$18,0,$C$41-1)-1) -> 0.5 | P35: =IF(I35<H35,OFFSET(Очки!$A$20,2+H35-I35,IF(G35=1,13-H35,10+G35)),0) -> 0 | S35: =SUM(J35:R35) -> 1.5
A36: =RANK(S36,S$6:OFFSET(S$6,0,0,COUNTA(B$6:B$40))) -> 31 | B36: Зологин Иван / Zologin Ivan | C36: - | D36: 3 | E36: 11 | F36: 11 | G36: 3 | H36: 11 | I36: 11 | K36: =OFFSET(Очки!$A$2,F36,D36+OFFSET(Очки!$A$18,0,$C$41-1)-1) -> 0 | L36: =IF(F36<E36,OFFSET(Очки!$A$20,2+E36-F36,IF(D36=1,13-E36,10+D36)),0) -> 0 | O36: =OFFSET(Очки!$A$2,I36,G36+OFFSET(Очки!$A$18,0,$C$41-1)-1) -> 0 | P36: =IF(I36<H36,OFFSET(Очки!$A$20,2+H36-I36,IF(G36=1,13-H36,10+G36)),0) -> 0 | S36: =SUM(J36:R36) -> 0
A37: =RANK(S37,S$6:OFFSET(S$6,0,0,COUNTA(B$6:B$40))) -> 31 | B37: Зологин Сергей / Zologin Sergey | C37: - | D37: 3 | E37: 10 | F37: 10 | G37: 3 | H37: 1 | I37: 9 | K37: =OFFSET(Очки!$A$2,F37,D37+OFFSET(Очки!$A$18,0,$C$41-1)-1) -> 0 | L37: =IF(F37<E37,OFFSET(Очки!$A$20,2+E37-F37,IF(D37=1,13-E37,10+D37)),0) -> 0 | O37: =OFFSET(Очки!$A$2,I37,G37+OFFSET(Очки!$A$18,0,$C$41-1)-1) -> 0 | P37: =IF(I37<H37,OFFSET(Очки!$A$20,2+H37-I37,IF(G37=1,13-H37,10+G37)),0) -> 0 | S37: =SUM(J37:R37) -> 0
A38: =RANK(S38,S$6:OFFSET(S$6,0,0,COUNTA(B$6:B$40))) -> 33 | B38: Касьяненко Андрей / Kasyanenko Andrei | C38: - | D38: 3 | E38: 2 | F38: 9 | G38: 3 | H38: 10 | I38: 10 | K38: =OFFSET(Очки!$A$2,F38,D38+OFFSET(Очки!$A$18,0,$C$41-1)-1) -> 0 | L38: =IF(F38<E38,OFFSET(Очки!$A$20,2+E38-F38,IF(D38=1,13-E38,10+D38)),0) -> 0 | O38: =OFFSET(Очки!$A$2,I38,G38+OFFSET(Очки!$A$18,0,$C$41-1)-1) -> 0 | P38: =IF(I38<H38,OFFSET(Очки!$A$20,2+H38-I38,IF(G38=1,13-H38,10+G38)),0) -> 0 | R38: -3 | S38: =SUM(J38:R38) -> -3
A39: =RANK(S39,S$6:OFFSET(S$6,0,0,COUNTA(B$6:B$40))) -> 31 | K39: =OFFSET(Очки!$A$2,F39,D39+OFFSET(Очки!$A$18,0,$C$41-1)-1) -> 0 | L39: =IF(F39<E39,OFFSET(Очки!$A$20,2+E39-F39,IF(D39=1,13-E39,10+D39)),0) -> 0 | O39: =OFFSET(Очки!$A$2,I39,G39+OFFSET(Очки!$A$18,0,$C$41-1)-1) -> 0 | P39: =IF(I39<H39,OFFSET(Очки!$A$20,2+H39-I39,IF(G39=1,13-H39,10+G39)),0) -> 0 | S39: =SUM(J39:R39) -> 0
A40: =RANK(S40,S$6:OFFSET(S$6,0,0,COUNTA(B$6:B$40))) -> 31 | K40: =OFFSET(Очки!$A$2,F40,D40+OFFSET(Очки!$A$18,0,$C$41-1)-1) -> 0 | L40: =IF(F40<E40,OFFSET(Очки!$A$20,2+E40-F40,IF(D40=1,13-E40,10+D40)),0) -> 0 | O40: =OFFSET(Очки!$A$2,I40,G40+OFFSET(Очки!$A$18,0,$C$41-1)-1) -> 0 | P40: =IF(I40<H40,OFFSET(Очки!$A$20,2+H40-I40,IF(G40=1,13-H40,10+G40)),0) -> 0 | S40: =SUM(J40:R40) -> 0
B41: Всего участников | C41: =COUNTA(B6:B40) -> 33

Sheet 01.05
A1: Лайт Лига 01.05.2018 (конфигурация 2)
A3: Место | B3: Участник | D3: 1 | G3: 2 | J3: Очки | S3: Сумма
C4: Довес | D4: группа | E4: Старт | F4: Финиш | G4: группа | H4: Старт | I4: Финиш | J4: Квала | K4: 1 | O4: 2
K5: очки | L5: обгоны | M5: время | N5: штрафы | O5: очки | P5: обгоны | Q5: время | R5: штрафы
A6: =RANK(S6,S$6:OFFSET(S$6,0,0,COUNTA(B$6:B$32))) -> 1 | B6: Фурсов Никита / Fursov Nikita | C6: - | D6: 1 | E6: 5 | F6: 1 | G6: 1 | H6: 8 | I6: 2 | J6: 0.5 | K6: =OFFSET(Очки!$A$2,F6,D6+OFFSET(Очки!$A$18,0,$C$33-1)-1) -> 17 | L6: =IF(F6<E6,OFFSET(Очки!$A$20,2+E6-F6,IF(D6=1,13-E6,10+D6)),0) -> 3.1 | M6: 2 | N6: =-3-3 -> -6 | O6: =OFFSET(Очки!$A$2,I6,G6+OFFSET(Очки!$A$18,0,$C$33-1)-1) -> 16 | P6: =IF(I6<H6,OFFSET(Очки!$A$20,2+H6-I6,IF(G6=1,13-H6,10+G6)),0) -> 5.7 | Q6: 2.5 | S6: =SUM(J6:R6) -> 40.8
A7: =RANK(S7,S$6:OFFSET(S$6,0,0,COUNTA(B$6:B$32))) -> 2 | B7: Тамберг Александр / Tamberg Aleksandr | C7: - | D7: 1 | E7: 8 | F7: 5 | G7: 1 | H7: 5 | I7: 3 | J7: 2 | K7: =OFFSET(Очки!$A$2,F7,D7+OFFSET(Очки!$A$18,0,$C$33-1)-1) -> 13 | L7: =IF(F7<E7,OFFSET(Очки!$A$20,2+E7-F7,IF(D7=1,13-E7,10+D7)),0) -> 3.3 | M7: 1 | O7: =OFFSET(Очки!$A$2,I7,G7+OFFSET(Очки!$A$18,0,$C$33-1)-1) -> 15 | P7: =IF(I7<H7,OFFSET(Очки!$A$20,2+H7-I7,IF(G7=1,13-H7,10+G7)),0) -> 1.7 | S7: =SUM(J7:R7) -> 36
A8: =RANK(S8,S$6:OFFSET(S$6,0,0,COUNTA(B$6:B$32))) -> 3 | B8: Дубас Владислав / Dubas vlad | C8: 20 | D8: 1 | E8: 4 | F8: 2 | G8: 1 | H8: 8 | I8: 6 | K8: =OFFSET(Очки!$A$2,F8,D8+OFFSET(Очки!$A$18,0,$C$33-1)-1) -> 16 | L8: =IF(F8<E8,OFFSET(Очки!$A$20,2+E8-F8,IF(D8=1,13-E8,10+D8)),0) -> 1.5 | O8: =OFFSET(Очки!$A$2,I8,G8+OFFSET(Очки!$A$18,0,$C$33-1)-1) -> 12.5 | P8: =IF(I8<H8,OFFSET(Очки!$A$20,2+H8-I8,IF(G8=1,13-H8,10+G8)),0) -> 2.3 | Q8: 1.5 | S8: =SUM(J8:R8) -> 33.8
A9: =RANK(S9,S$6:OFFSET(S$6,0,0,COUNTA(B$6:B$32))) -> 4 | B9: Кошарук Женя/Kosharuk Eugene | C9: - | D9: 1 | E9: 6 | F9: 4 | G9: 1 | H9: 6 | I9: 6 | J9: 1 | K9: =OFFSET(Очки!$A$2,F9,D9+OFFSET(Очки!$A$18,0,$C$33-1)-1) -> 14 | L9: =IF(F9<E9,OFFSET(Очки!$A$20,2+E9-F9,IF(D9=1,13-E9,10+D9)),0) -> 1.9 | M9: 1.5 | O9: =OFFSET(Очки!$A$2,I9,G9+OFFSET(Очки!$A$18,0,$C$33-1)-1) -> 12.5 | P9: =IF(I9<H9,OFFSET(Очки!$A$20,2+H9-I9,IF(G9=1,13-H9,10+G9)),0) -> 0 | Q9: 2 | R9: -1 | S9: =SUM(J9:R9) -> 31.9
A10: =RANK(S10,S$6:OFFSET(S$6,0,0,COUNTA(B$6:B$32))) -> 5 | B10: Звягин Григорий / Zvyagin Grigorii | C10: - | D10: 1 | E10: 9 | F10: 2 | J10: 2.5 | K10: =OFFSET(Очки!$A$2,F10,D10+OFFSET(Очки!$A$18,0,$C$33-1)-1) -> 16 | L10: =IF(F10<E10,OFFSET(Очки!$A$20,2+E10-F10,IF(D10=1,13-E10,10+D10)),0) -> 6.9 | M10: 2.5 | O10: =OFFSET(Очки!$A$2,I10,G10+OFFSET(Очки!$A$18,0,$C$33-1)-1) -> 0 | P10: =IF(I10<H10,OFFSET(Очки!$A$20,2+H10-I10,IF(G10=1,13-H10,10+G10)),0) -> 0 | S10: =SUM(J10:R10) -> 27.9
A11: 5 | B11: Муляр Андрей / Mular Andrew | C11: - | D11: 1 | E11: 1 | F11: 5 | G11: 2 | H11: 9 | I11: 2 | K11: =OFFSET(Очки!$A$2,F11,D11+OFFSET(Очки!$A$18,0,$C$33-1)-1) -> 13 | L11: =IF(F11<E11,OFFSET(Очки!$A$20,2+E11-F11,IF(D11=1,13-E11,10+D11)),0) -> 0 | O11: =OFFSET(Очки!$A$2,I11,G11+OFFSET(Очки!$A$18,0,$C$33-1)-1) -> 11 | P11: =IF(I11<H11,OFFSET(Очки!$A$20,2+H11-I11,IF(G11=1,13-H11,10+G11)),0) -> 4.9 | R11: -3 | S11: =SUM(J11:R11) -> 25.9
A12: 6 | B12: Криворучко Николаfй / Kryvoruchko Mykola | C12: 7.5 | D12: 2 | E12: 2 | F12: 3 | G12: 1 | H12: 1 | I12: 1 | K12: =OFFSET(Очки!$A$2,F12,D12+OFFSET(Очки!$A$18,0,$C$33-1)-1) -> 10 | L12: =IF(F12<E12,OFFSET(Очки!$A$20,2+E12-F12,IF(D12=1,13-E12,10+D12)),0) -> 0 | O12: =OFFSET(Очки!$A$2,I12,G12+OFFSET(Очки!$A$18,0,$C$33-1)-1) -> 17 | P12: =IF(I12<H12,OFFSET(Очки!$A$20,2+H12-I12,IF(G12=1,13-H12,10+G12)),0) -> 0 | Q12: 0.5 | R12: -3 | S12: =SUM(J12:R12) -> 24.5
A13: 7 | B13: Яценко Владимир / Volodymyr Yatsenko | C13: 12.5 | D13: 2 | E13: 7 | F13: 8 | G13: 2 | H13: 7 | I13: 1 | K13: =OFFSET(Очки!$A$2,F13,D13+OFFSET(Очки!$A$18,0,$C$33-1)-1) -> 6.5 | L13: =IF(F13<E13,OFFSET(Очки!$A$20,2+E13-F13,IF(D13=1,13-E13,10+D13)),0) -> 0 | O13: =OFFSET(Очки!$A$2,I13,G13+OFFSET(Очки!$A$18,0,$C$33-1)-1) -> 12 | P13: =IF(I13<H13,OFFSET(Очки!$A$20,2+H13-I13,IF(G13=1,13-H13,10+G13)),0) -> 4.2 | Q13: 1 | S13: =SUM(J13:R13) -> 23.7
A14: 8 | B14: Сомок Денис / Somok Denis | C14: 7.5 | D14: 1 | E14: 3 | F14: 7 | G14: 2 | H14: 2 | I14: 3 | K14: =OFFSET(Очки!$A$2,F14,D14+OFFSET(Очки!$A$18,0,$C$33-1)-1) -> 12 | L14: =IF(F14<E14,OFFSET(Очки!$A$20,2+E14-F14,IF(D14=1,13-E14,10+D14)),0) -> 0 | O14: =OFFSET(Очки!$A$2,I14,G14+OFFSET(Очки!$A$18,0,$C$33-1)-1) -> 10 | P14: =IF(I14<H14,OFFSET(Очки!$A$20,2+H14-I14,IF(G14=1,13-H14,10+G14)),0) -> 0 | S14: =SUM(J14:R14) -> 22
A15: 9 | B15: Закаклюк Женя/ Zakaliuk Eugeniy | C15: - | D15: 2 | E15: 1 | F15: 1 | G15: 2 | H15: 8 | I15: 6 | K15: =OFFSET(Очки!$A$2,F15,D15+OFFSET(Очки!$A$18,0,$C$33-1)-1) -> 12 | L15: =IF(F15<E15,OFFSET(Очки!$A$20,2+E15-F15,IF(D15=1,13-E15,10+D15)),0) -> 0 | O15: =OFFSET(Очки!$A$2,I15,G15+OFFSET(Очки!$A$18,0,$C$33-1)-1) -> 7.5 | P15: =IF(I15<H15,OFFSET(Очки!$A$20,2+H15-I15,IF(G15=1,13-H15,10+G15)),0) -> 1.4 | S15: =SUM(J15:R15) -> 20.9
A16: 9 | B16: Чорномыз Виктор / Chornomyz Viktor | C16: 10 | D16: 2 | E16: 4 | F16: 2 | G16: 1 | H16: 3 | I16: 8 | K16: =OFFSET(Очки!$A$2,F16,D16+OFFSET(Очки!$A$18,0,$C$33-1)-1) -> 11 | L16: =IF(F16<E16,OFFSET(Очки!$A$20,2+E16-F16,IF(D16=1,13-E16,10+D16)),0) -> 1.4 | O16: =OFFSET(Очки!$A$2,I16,G16+OFFSET(Очки!$A$18,0,$C$33-1)-1) -> 11.5 | P16: =IF(I16<H16,OFFSET(Очки!$A$20,2+H16-I16,IF(G16=1,13-H16,10+G16)),0) -> 0 | R16: -3 | S16: =SUM(J16:R16) -> 20.9
A17: 11 | B17: Клименко Дмитрий / Klymenko Dmytro | C17: 2.5 | D17: 1 | E17: 7 | F17: 9 | G17: 2 | H17: 5 | I17: 5 | J17: 1.5 | K17: =OFFSET(Очки!$A$2,F17,D17+OFFSET(Очки!$A$18,0,$C$33-1)-1) -> 11 | L17: =IF(F17<E17,OFFSET(Очки!$A$20,2+E17-F17,IF(D17=1,13-E17,10+D17)),0) -> 0 | O17: =OFFSET(Очки!$A$2,I17,G17+OFFSET(Очки!$A$18,0,$C$33-1)-1) -> 8 | P17: =IF(I17<H17,OFFSET(Очки!$A$20,2+H17-I17,IF(G17=1,13-H17,10+G17)),0) -> 0 | S17: =SUM(J17:R17) -> 20.5
A18: 12 | B18: Гончаров Роман / | C18: 20 | D18: 3 | E18: 6 | F18: 4 | G18: 1 | H18: 2 | I18: 3 | K18: =OFFSET(Очки!$A$2,F18,D18+OFFSET(Очки!$A$18,0,$C$33-1)-1) -> 4 | L18: =IF(F18<E18,OFFSET(Очки!$A$20,2+E18-F18,IF(D18=1,13-E18,10+D18)),0) -> 1 | O18: =OFFSET(Очки!$A$2,I18,G18+OFFSET(Очки!$A$18,0,$C$33-1)-1) -> 15 | P18: =IF(I18<H18,OFFSET(Очки!$A$20,2+H18-I18,IF(G18=1,13-H18,10+G18)),0) -> 0 | S18: =SUM(J18:R18) -> 20
A19: 13 | B19: Якусик Дима / Yakusik Dima | C19: 7.5 | D19: 2 | E19: 8 | F19: 9 | G19: 1 | H19: 4 | I19: 5 | K19: =OFFSET(Очки!$A$2,F19,D19+OFFSET(Очки!$A$18,0,$C$33-1)-1) -> 6 | L19: =IF(F19<E19,OFFSET(Очки!$A$20,2+E19-F19,IF(D19=1,13-E19,10+D19)),0) -> 0 | M19: 0.5 | O19: =OFFSET(Очки!$A$2,I19,G19+OFFSET(Очки!$A$18,0,$C$33-1)-1) -> 13 | P19: =IF(I19<H19,OFFSET(Очки!$A$20,2+H19-I19,IF(G19=1,13-H19,10+G19)),0) -> 0 | S19: =SUM(J19:R19) -> 19.5
A20: 14 | B20: Климчук Евгений/ Klymchuk Eugene | C20: - | D20: 1 | E20: 2 | F20: 6 | G20: 2 | H20: 1 | I20: 9 | K20: =OFFSET(Очки!$A$2,F20,D20+OFFSET(Очки!$A$18,0,$C$33-1)-1) -> 12.5 | L20: =IF(F20<E20,OFFSET(Очки!$A$20,2+E20-F20,IF(D20=1,13-E20,10+D20)),0) -> 0 | O20: =OFFSET(Очки!$A$2,I20,G20+OFFSET(Очки!$A$18,0,$C$33-1)-1) -> 6 | P20: =IF(I20<H20,OFFSET(Очки!$A$20,2+H20-I20,IF(G20=1,13-H20,10+G20)),0) -> 0 | S20: =SUM(J20:R20) -> 18.5
A21: 15 | B21: Купцов Павел / Kuptsov Pavel | C21: - | D21: 3 | E21: 5 | F21: 2 | G21: 2 | H21: 3 | I21: 3 | K21: =OFFSET(Очки!$A$2,F21,D21+OFFSET(Очки!$A$18,0,$C$33-1)-1) -> 6 | L21: =IF(F21<E21,OFFSET(Очки!$A$20,2+E21-F21,IF(D21=1,13-E21,10+D21)),0) -> 1.5 | O21: =OFFSET(Очки!$A$2,I21,G21+OFFSET(Очки!$A$18,0,$C$33-1)-1) -> 10 | P21: =IF(I21<H21,OFFSET(Очки!$A$20,2+H21-I21,IF(G21=1,13-H21,10+G21)),0) -> 0 | S21: =SUM(J21:R21) -> 17.5
A22: 16 | B22: Трихлеб Александр / Trihleb Alexsandr | C22: - | D22: 2 | E22: 6 | F22: 5 | G22: 3 | H22: 6 | I22: 3 | K22: =OFFSET(Очки!$A$2,F22,D22+OFFSET(Очки!$A$18,0,$C$33-1)-1) -> 8 | L22: =IF(F22<E22,OFFSET(Очки!$A$20,2+E22-F22,IF(D22=1,13-E22,10+D22)),0) -> 0.7 | O22: =OFFSET(Очки!$A$2,I22,G22+OFFSET(Очки!$A$18,0,$C$33-1)-1) -> 5 | P22: =IF(I22<H22,OFFSET(Очки!$A$20,2+H22-I22,IF(G22=1,13-H22,10+G22)),0) -> 1.5 | S22: =SUM(J22:R22) -> 15.2
A23: 17 | B23: Ткаченко Кирилл / Tkachenko Kirill | C23: 7.5 | D23: 2 | E23: 9 | F23: 7 | G23: 2 | H23: 4 | I23: 8 | K23: =OFFSET(Очки!$A$2,F23,D23+OFFSET(Очки!$A$18,0,$C$33-1)-1) -> 7 | L23: =IF(F23<E23,OFFSET(Очки!$A$20,2+E23-F23,IF(D23=1,13-E23,10+D23)),0) -> 1.4 | O23: =OFFSET(Очки!$A$2,I23,G23+OFFSET(Очки!$A$18,0,$C$33-1)-1) -> 6.5 | P23: =IF(I23<H23,OFFSET(Очки!$A$20,2+H23-I23,IF(G23=1,13-H23,10+G23)),0) -> 0 | S23: =SUM(J23:R23) -> 14.9
A24: 18 | B24: Доценко Анатолий / Dotsenko Anatoliy | C24: 10 | D24: 3 | E24: 8 | F24: 1 | G24: 2 | H24: 6 | I24: 7 | K24: =OFFSET(Очки!$A$2,F24,D24+OFFSET(Очки!$A$18,0,$C$33-1)-1) -> 7 | L24: =IF(F24<E24,OFFSET(Очки!$A$20,2+E24-F24,IF(D24=1,13-E24,10+D24)),0) -> 3.5 | N24: -3 | O24: =OFFSET(Очки!$A$2,I24,G24+OFFSET(Очки!$A$18,0,$C$33-1)-1) -> 7 | P24: =IF(I24<H24,OFFSET(Очки!$A$20,2+H24-I24,IF(G24=1,13-H24,10+G24)),0) -> 0 | S24: =SUM(J24:R24) -> 14.5
A25: 19 | B25: Остренко Станислав/ Ostrenko Stas | C25: - | D25: 2 | E25: 3 | F25: 4 | G25: 3 | H25: 8 | I25: 5 | K25: =OFFSET(Очки!$A$2,F25,D25+OFFSET(Очки!$A$18,0,$C$33-1)-1) -> 9 | L25: =IF(F25<E25,OFFSET(Очки!$A$20,2+E25-F25,IF(D25=1,13-E25,10+D25)),0) -> 0 | O25: =OFFSET(Очки!$A$2,I25,G25+OFFSET(Очки!$A$18,0,$C$33-1)-1) -> 3 | P25: =IF(I25<H25,OFFSET(Очки!$A$20,2+H25-I25,IF(G25=1,13-H25,10+G25)),0) -> 1.5 | S25: =SUM(J25:R25) -> 13.5
A26: 20 | B26: Морозенко Сергей / Morozenko Sergey | C26: 10 | D26: 2 | E26: 5 | F26: 6 | G26: 3 | H26: 7 | I26: 2 | K26: =OFFSET(Очки!$A$2,F26,D26+OFFSET(Очки!$A$18,0,$C$33-1)-1) -> 7.5 | L26: =IF(F26<E26,OFFSET(Очки!$A$20,2+E26-F26,IF(D26=1,13-E26,10+D26)),0) -> 0 | O26: =OFFSET(Очки!$A$2,I26,G26+OFFSET(Очки!$A$18,0,$C$33-1)-1) -> 6 | P26: =IF(I26<H26,OFFSET(Очки!$A$20,2+H26-I26,IF(G26=1,13-H26,10+G26)),0) -> 2.5 | R26: -3 | S26: =SUM(J26:R26) -> 13
A27: 21 | B27: Житомирський Дмитрий/ Zhytomyrskiy Dmitriy | C27: 7.5 | D27: 3 | E27: 3 | F27: 6 | G27: 3 | H27: 3 | I27: 1 | K27: =OFFSET(Очки!$A$2,F27,D27+OFFSET(Очки!$A$18,0,$C$33-1)-1) -> 2.5 | L27: =IF(F27<E27,OFFSET(Очки!$A$20,2+E27-F27,IF(D27=1,13-E27,10+D27)),0) -> 0 | O27: =OFFSET(Очки!$A$2,I27,G27+OFFSET(Очки!$A$18,0,$C$33-1)-1) -> 7 | P27: =IF(I27<H27,OFFSET(Очки!$A$20,2+H27-I27,IF(G27=1,13-H27,10+G27)),0) -> 1 | S27: =SUM(J27:R27) -> 10.5
A28: 22 | B28: Резников Иван / Reznikov Ivan | C28: - | D28: 3 | E28: 4 | F28: 3 | G28: 3 | H28: 4 | I28: 5 | K28: =OFFSET(Очки!$A$2,F28,D28+OFFSET(Очки!$A$18,0,$C$33-1)-1) -> 5 | L28: =IF(F28<E28,OFFSET(Очки!$A$20,2+E28-F28,IF(D28=1,13-E28,10+D28)),0) -> 0.5 | O28: =OFFSET(Очки!$A$2,I28,G28+OFFSET(Очки!$A$18,0,$C$33-1)-1) -> 3 | P28: =IF(I28<H28,OFFSET(Очки!$A$20,2+H28-I28,IF(G28=1,13-H28,10+G28)),0) -> 0 | S28: =SUM(J28:R28) -> 8.5
A29: 23 | B29: Якусик Александр / Yakusik Alexandr | C29: 7.5 | D29: 3 | E29: 7 | F29: 8 | G29: 3 | H29: 5 | I29: 3 | K29: =OFFSET(Очки!$A$2,F29,D29+OFFSET(Очки!$A$18,0,$C$33-1)-1) -> 1.5 | L29: =IF(F29<E29,OFFSET(Очки!$A$20,2+E29-F29,IF(D29=1,13-E29,10+D29)),0) -> 0 | O29: =OFFSET(Очки!$A$2,I29,G29+OFFSET(Очки!$A$18,0,$C$33-1)-1) -> 5 | P29: =IF(I29<H29,OFFSET(Очки!$A$20,2+H29-I29,IF(G29=1,13-H29,10+G29)),0) -> 1 | S29: =SUM(J29:R29) -> 7.5
A30: 24 | B30: Михайлик Михайло /Mykhailyk Michael | C30: 20 | D30: 3 | E30: 2 | F30: 4 | G30: 3 | H30: 2 | I30: 8 | K30: =OFFSET(Очки!$A$2,F30,D30+OFFSET(Очки!$A$18,0,$C$33-1)-1) -> 4 | L30: =IF(F30<E30,OFFSET(Очки!$A$20,2+E30-F30,IF(D30=1,13-E30,10+D30)),0) -> 0 | O30: =OFFSET(Очки!$A$2,I30,G30+OFFSET(Очки!$A$18,0,$C$33-1)-1) -> 1.5 | P30: =IF(I30<H30,OFFSET(Очки!$A$20,2+H30-I30,IF(G30=1,13-H30,10+G30)),0) -> 0 | R30: -2 | S30: =SUM(J30:R30) -> 3.5
A31: 25 | B31: Амброз Жорж/Ambroz George | C31: 7.5 | D31: 3 | E31: 1 | F31: 8 | G31: 3 | H31: 1 | I31: 7 | K31: =OFFSET(Очки!$A$2,F31,D31+OFFSET(Очки!$A$18,0,$C$33-1)-1) -> 1.5 | L31: =IF(F31<E31,OFFSET(Очки!$A$20,2+E31-F31,IF(D31=1,13-E31,10+D31)),0) -> 0 | O31: =OFFSET(Очки!$A$2,I31,G31+OFFSET(Очки!$A$18,0,$C$33-1)-1) -> 2 | P31: =IF(I31<H31,OFFSET(Очки!$A$20,2+H31-I31,IF(G31=1,13-H31,10+G31)),0) -> 0 | R31: -3 | S31: =SUM(J31:R31) -> 0.5
A32: =RANK(S32,S$6:OFFSET(S$6,0,0,COUNTA(B$6:B$32))) -> #N/A | C32: - | K32: =OFFSET(Очки!$A$2,F32,D32+OFFSET(Очки!$A$18,0,$C$33-1)-1) -> 0 | L32: =IF(F32<E32,OFFSET(Очки!$A$20,2+E32-F32,IF(D32=1,13-E32,10+D32)),0) -> 0 | O32: =OFFSET(Очки!$A$2,I32,G32+OFFSET(Очки!$A$18,0,$C$33-1)-1) -> 0 | P32: =IF(I32<H32,OFFSET(Очки!$A$20,2+H32-I32,IF(G32=1,13-H32,10+G32)),0) -> 0 | S32: =SUM(J32:R32) -> 0
B33: Всего участников | C33: =COUNTA(B6:B32) -> 26

Sheet 08.05
A1: Лайт Лига 08.05.2017 (конфигурация 9)
A3: Место | B3: Участник | D3: 1 | G3: 2 | J3: Очки | S3: Сумма
C4: Довес | D4: группа | E4: Старт | F4: Финиш | G4: группа | H4: Старт | I4: Финиш | J4: Квала | K4: 1 | O4: 2
K5: очки | L5: обгоны | M5: время | N5: штрафы | O5: очки | P5: обгоны | Q5: время | R5: штрафы
A6: =RANK(S6,S$6:OFFSET(S$6,0,0,COUNTA(B$6:B$38))) -> 1 | B6: Звягин Григорий / Zvyagin Grigorii | C6: 7.5 | D6: 1 | E6: 10 | F6: 2 | G6: 1 | H6: 7 | I6: 7 | J6: 2.5 | K6: =OFFSET(Очки!$A$2,F6,D6+OFFSET(Очки!$A$18,0,$C$39-1)-1) -> 16 | L6: =IF(F6<E6,OFFSET(Очки!$A$20,2+E6-F6,IF(D6=1,13-E6,10+D6)),0) -> 8.1 | M6: 1 | O6: =OFFSET(Очки!$A$2,I6,G6+OFFSET(Очки!$A$18,0,$C$39-1)-1) -> 12 | P6: =IF(I6<H6,OFFSET(Очки!$A$20,2+H6-I6,IF(G6=1,13-H6,10+G6)),0) -> 0 | Q6: 0.5 | S6: =SUM(J6:R6) -> 40.1
A7: 1 | B7: Яценко Владимир / Volodymyr Yatsenko | C7: 12.5 | D7: 1 | E7: 7 | F7: 5 | G7: 1 | H7: 10 | I7: 6 | J7: 1 | K7: =OFFSET(Очки!$A$2,F7,D7+OFFSET(Очки!$A$18,0,$C$39-1)-1) -> 13 | L7: =IF(F7<E7,OFFSET(Очки!$A$20,2+E7-F7,IF(D7=1,13-E7,10+D7)),0) -> 2.1 | M7: 2.5 | N7: -3 | O7: =OFFSET(Очки!$A$2,I7,G7+OFFSET(Очки!$A$18,0,$C$39-1)-1) -> 12.5 | P7: =IF(I7<H7,OFFSET(Очки!$A$20,2+H7-I7,IF(G7=1,13-H7,10+G7)),0) -> 4.7 | Q7: 2 | R7: -3 | S7: =SUM(J7:R7) -> 31.8
A8: 2 | B8: Якусик Александр / Yakusik Alexandr | C8: - | D8: 2 | E8: 3 | F8: 2 | G8: 1 | H8: 2 | I8: 1 | K8: =OFFSET(Очки!$A$2,F8,D8+OFFSET(Очки!$A$18,0,$C$39-1)-1) -> 10.5 | L8: =IF(F8<E8,OFFSET(Очки!$A$20,2+E8-F8,IF(D8=1,13-E8,10+D8)),0) -> 0.7 | O8: =OFFSET(Очки!$A$2,I8,G8+OFFSET(Очки!$A$18,0,$C$39-1)-1) -> 17 | P8: =IF(I8<H8,OFFSET(Очки!$A$20,2+H8-I8,IF(G8=1,13-H8,10+G8)),0) -> 0.7 | S8: =SUM(J8:R8) -> 28.9
A9: =RANK(S9,S$6:OFFSET(S$6,0,0,COUNTA(B$6:B$38))) -> 4 | B9: Коруз Вадим/Koruz Vadim | C9: 5 | D9: 1 | E9: 4 | F9: 4 | G9: 1 | H9: 5 | I9: 2 | K9: =OFFSET(Очки!$A$2,F9,D9+OFFSET(Очки!$A$18,0,$C$39-1)-1) -> 14 | L9: =IF(F9<E9,OFFSET(Очки!$A$20,2+E9-F9,IF(D9=1,13-E9,10+D9)),0) -> 0 | O9: =OFFSET(Очки!$A$2,I9,G9+OFFSET(Очки!$A$18,0,$C$39-1)-1) -> 16 | P9: =IF(I9<H9,OFFSET(Очки!$A$20,2+H9-I9,IF(G9=1,13-H9,10+G9)),0) -> 2.4 | R9: =-2-2 -> -4 | S9: =SUM(J9:R9) -> 28.4
A10: 3 | B10: Фалько Константин/ Falko Konstantin | C10: - | D10: 1 | E10: 3 | F10: 1 | G10: 1 | H10: 3 | I10: 7 | K10: =OFFSET(Очки!$A$2,F10,D10+OFFSET(Очки!$A$18,0,$C$39-1)-1) -> 17 | L10: =IF(F10<E10,OFFSET(Очки!$A$20,2+E10-F10,IF(D10=1,13-E10,10+D10)),0) -> 1.4 | N10: -3 | O10: =OFFSET(Очки!$A$2,I10,G10+OFFSET(Очки!$A$18,0,$C$39-1)-1) -> 12 | P10: =IF(I10<H10,OFFSET(Очки!$A$20,2+H10-I10,IF(G10=1,13-H10,10+G10)),0) -> 0 | S10: =SUM(J10:R10) -> 27.4
A11: =RANK(S11,S$6:OFFSET(S$6,0,0,COUNTA(B$6:B$38))) -> 6 | B11: Шиленко Александр | D11: 1 | E11: 8 | F11: 9 | G11: 1 | H11: 6 | I11: 3 | J11: 1.5 | K11: =OFFSET(Очки!$A$2,F11,D11+OFFSET(Очки!$A$18,0,$C$39-1)-1) -> 11 | L11: =IF(F11<E11,OFFSET(Очки!$A$20,2+E11-F11,IF(D11=1,13-E11,10+D11)),0) -> 0 | M11: 0.5 | O11: =OFFSET(Очки!$A$2,I11,G11+OFFSET(Очки!$A$18,0,$C$39-1)-1) -> 15 | P11: =IF(I11<H11,OFFSET(Очки!$A$20,2+H11-I11,IF(G11=1,13-H11,10+G11)),0) -> 2.7 | Q11: 1.5 | R11: =-3-3 -> -6 | S11: =SUM(J11:R11) -> 26.2
A12: 4 | B12: Гончаров Рома/Honcharov Roma | C12: 15 | D12: 1 | E12: 6 | F12: 5 | G12: 1 | H12: 9 | I12: 8 | J12: 0.5 | K12: =OFFSET(Очки!$A$2,F12,D12+OFFSET(Очки!$A$18,0,$C$39-1)-1) -> 13 | L12: =IF(F12<E12,OFFSET(Очки!$A$20,2+E12-F12,IF(D12=1,13-E12,10+D12)),0) -> 1 | M12: 2 | N12: -2 | O12: =OFFSET(Очки!$A$2,I12,G12+OFFSET(Очки!$A$18,0,$C$39-1)-1) -> 11.5 | P12: =IF(I12<H12,OFFSET(Очки!$A$20,2+H12-I12,IF(G12=1,13-H12,10+G12)),0) -> 1.2 | Q12: 1 | R12: -2 | S12: =SUM(J12:R12) -> 26.2
A13: 5 | B13: Ткаченко Кирилл / Tkachenko Kirill | C13: 7.5 | D13: 1 | E13: 1 | F13: 3 | G13: 2 | H13: 9 | I13: 4 | K13: =OFFSET(Очки!$A$2,F13,D13+OFFSET(Очки!$A$18,0,$C$39-1)-1) -> 15 | L13: =IF(F13<E13,OFFSET(Очки!$A$20,2+E13-F13,IF(D13=1,13-E13,10+D13)),0) -> 0 | O13: =OFFSET(Очки!$A$2,I13,G13+OFFSET(Очки!$A$18,0,$C$39-1)-1) -> 8.5 | P13: =IF(I13<H13,OFFSET(Очки!$A$20,2+H13-I13,IF(G13=1,13-H13,10+G13)),0) -> 3.5 | R13: -2 | S13: =SUM(J13:R13) -> 25
A14: 6 | B14: Закаклюк Женя/ Zakaliuk Eugeniy | C14: - | D14: 2 | E14: 5 | F14: 3 | G14: 1 | H14: 1 | I14: 5 | K14: =OFFSET(Очки!$A$2,F14,D14+OFFSET(Очки!$A$18,0,$C$39-1)-1) -> 9.5 | L14: =IF(F14<E14,OFFSET(Очки!$A$20,2+E14-F14,IF(D14=1,13-E14,10+D14)),0) -> 1.4 | O14: =OFFSET(Очки!$A$2,I14,G14+OFFSET(Очки!$A$18,0,$C$39-1)-1) -> 13 | P14: =IF(I14<H14,OFFSET(Очки!$A$20,2+H14-I14,IF(G14=1,13-H14,10+G14)),0) -> 0 | S14: =SUM(J14:R14) -> 23.9
A15: 6 | B15: Фурсов Никита / Fursov Nikita | C15: - | D15: 2 | E15: 6 | F15: 4 | G15: 1 | H15: 4 | I15: 4 | K15: =OFFSET(Очки!$A$2,F15,D15+OFFSET(Очки!$A$18,0,$C$39-1)-1) -> 8.5 | L15: =IF(F15<E15,OFFSET(Очки!$A$20,2+E15-F15,IF(D15=1,13-E15,10+D15)),0) -> 1.4 | O15: =OFFSET(Очки!$A$2,I15,G15+OFFSET(Очки!$A$18,0,$C$39-1)-1) -> 14 | P15: =IF(I15<H15,OFFSET(Очки!$A$20,2+H15-I15,IF(G15=1,13-H15,10+G15)),0) -> 0 | S15: =SUM(J15:R15) -> 23.9
A16: 8 | B16: Якусик Дима / Yakusik Dima | C16: 7.5 | D16: 1 | E16: 9 | F16: 7 | G16: 2 | H16: 10 | I16: 8 | J16: 2 | K16: =OFFSET(Очки!$A$2,F16,D16+OFFSET(Очки!$A$18,0,$C$39-1)-1) -> 12 | L16: =IF(F16<E16,OFFSET(Очки!$A$20,2+E16-F16,IF(D16=1,13-E16,10+D16)),0) -> 2.4 | O16: =OFFSET(Очки!$A$2,I16,G16+OFFSET(Очки!$A$18,0,$C$39-1)-1) -> 6 | P16: =IF(I16<H16,OFFSET(Очки!$A$20,2+H16-I16,IF(G16=1,13-H16,10+G16)),0) -> 1.4 | S16: =SUM(J16:R16) -> 23.8
A17: 9 | B17: Смерчинский Александр/Smerchinkiy Aleksandr | C17: 7.5 | D17: 1 | E17: 5 | F17: 8 | G17: 2 | H17: 1 | I17: 1 | K17: =OFFSET(Очки!$A$2,F17,D17+OFFSET(Очки!$A$18,0,$C$39-1)-1) -> 11.5 | L17: =IF(F17<E17,OFFSET(Очки!$A$20,2+E17-F17,IF(D17=1,13-E17,10+D17)),0) -> 0 | O17: =OFFSET(Очки!$A$2,I17,G17+OFFSET(Очки!$A$18,0,$C$39-1)-1) -> 11.5 | P17: =IF(I17<H17,OFFSET(Очки!$A$20,2+H17-I17,IF(G17=1,13-H17,10+G17)),0) -> 0 | S17: =SUM(J17:R17) -> 23
A18: 10 | B18: Муляр Андрей / Mular Andrew | C18: - | D18: 2 | E18: 8 | F18: 6 | G18: 2 | H18: 3 | I18: 2 | K18: =OFFSET(Очки!$A$2,F18,D18+OFFSET(Очки!$A$18,0,$C$39-1)-1) -> 7 | L18: =IF(F18<E18,OFFSET(Очки!$A$20,2+E18-F18,IF(D18=1,13-E18,10+D18)),0) -> 1.4 | O18: =OFFSET(Очки!$A$2,I18,G18+OFFSET(Очки!$A$18,0,$C$39-1)-1) -> 10.5 | P18: =IF(I18<H18,OFFSET(Очки!$A$20,2+H18-I18,IF(G18=1,13-H18,10+G18)),0) -> 0.7 | S18: =SUM(J18:R18) -> 19.6
A19: 11 | B19: Крутоголов Павел/Krutogolov Pavel | C19: - | D19: 2 | E19: 10 | F19: 5 | G19: 2 | H19: 7 | I19: 6 | K19: =OFFSET(Очки!$A$2,F19,D19+OFFSET(Очки!$A$18,0,$C$39-1)-1) -> 7.5 | L19: =IF(F19<E19,OFFSET(Очки!$A$20,2+E19-F19,IF(D19=1,13-E19,10+D19)),0) -> 3.5 | O19: =OFFSET(Очки!$A$2,I19,G19+OFFSET(Очки!$A$18,0,$C$39-1)-1) -> 7 | P19: =IF(I19<H19,OFFSET(Очки!$A$20,2+H19-I19,IF(G19=1,13-H19,10+G19)),0) -> 0.7 | S19: =SUM(J19:R19) -> 18.7
A20: 12 | B20: Тамберг Александр / Tamberg Aleksandr | C20: - | D20: 2 | E20: 9 | F20: 8 | G20: 1 | H20: 8 | I20: 6 | K20: =OFFSET(Очки!$A$2,F20,D20+OFFSET(Очки!$A$18,0,$C$39-1)-1) -> 6 | L20: =IF(F20<E20,OFFSET(Очки!$A$20,2+E20-F20,IF(D20=1,13-E20,10+D20)),0) -> 0.7 | M20: 1.5 | N20: -3 | O20: =OFFSET(Очки!$A$2,I20,G20+OFFSET(Очки!$A$18,0,$C$39-1)-1) -> 12.5 | P20: =IF(I20<H20,OFFSET(Очки!$A$20,2+H20-I20,IF(G20=1,13-H20,10+G20)),0) -> 2.3 | Q20: 2.5 | R20: =-2-2 -> -4 | S20: =SUM(J20:R20) -> 18.5
A21: 13 | B21: Резников Иван / Reznikov Ivan | C21: - | D21: 2 | E21: 1 | F21: 1 | G21: 2 | H21: 6 | I21: 9 | K21: =OFFSET(Очки!$A$2,F21,D21+OFFSET(Очки!$A$18,0,$C$39-1)-1) -> 11.5 | L21: =IF(F21<E21,OFFSET(Очки!$A$20,2+E21-F21,IF(D21=1,13-E21,10+D21)),0) -> 0 | O21: =OFFSET(Очки!$A$2,I21,G21+OFFSET(Очки!$A$18,0,$C$39-1)-1) -> 5.5 | P21: =IF(I21<H21,OFFSET(Очки!$A$20,2+H21-I21,IF(G21=1,13-H21,10+G21)),0) -> 0 | S21: =SUM(J21:R21) -> 17
A22: 14 | B22: Козодой Александр | D22: 2 | E22: 2 | F22: 9 | G22: 2 | H22: 5 | I22: 5 | K22: =OFFSET(Очки!$A$2,F22,D22+OFFSET(Очки!$A$18,0,$C$39-1)-1) -> 5.5 | L22: =IF(F22<E22,OFFSET(Очки!$A$20,2+E22-F22,IF(D22=1,13-E22,10+D22)),0) -> 0 | O22: =OFFSET(Очки!$A$2,I22,G22+OFFSET(Очки!$A$18,0,$C$39-1)-1) -> 7.5 | P22: =IF(I22<H22,OFFSET(Очки!$A$20,2+H22-I22,IF(G22=1,13-H22,10+G22)),0) -> 0 | S22: =SUM(J22:R22) -> 13
A23: 15 | B23: Яремкович Дмитрий / Yaremkovich Dmitriy | C23: - | D23: 2 | E23: 7 | F23: 7 | G23: 2 | H23: 2 | I23: 3 | K23: =OFFSET(Очки!$A$2,F23,D23+OFFSET(Очки!$A$18,0,$C$39-1)-1) -> 6.5 | L23: =IF(F23<E23,OFFSET(Очки!$A$20,2+E23-F23,IF(D23=1,13-E23,10+D23)),0) -> 0 | N23: -4 | O23: =OFFSET(Очки!$A$2,I23,G23+OFFSET(Очки!$A$18,0,$C$39-1)-1) -> 9.5 | P23: =IF(I23<H23,OFFSET(Очки!$A$20,2+H23-I23,IF(G23=1,13-H23,10+G23)),0) -> 0 | S23: =SUM(J23:R23) -> 12
A24: 16 | B24: Черевко Владимир/Cherevko Vladimir | C24: 20 | D24: 3 | E24: 7 | F24: 4 | G24: 2 | H24: 4 | I24: 7 | K24: =OFFSET(Очки!$A$2,F24,D24+OFFSET(Очки!$A$18,0,$C$39-1)-1) -> 3 | L24: =IF(F24<E24,OFFSET(Очки!$A$20,2+E24-F24,IF(D24=1,13-E24,10+D24)),0) -> 1.5 | O24: =OFFSET(Очки!$A$2,I24,G24+OFFSET(Очки!$A$18,0,$C$39-1)-1) -> 6.5 | P24: =IF(I24<H24,OFFSET(Очки!$A$20,2+H24-I24,IF(G24=1,13-H24,10+G24)),0) -> 0 | S24: =SUM(J24:R24) -> 11
A25: 17 | B25: Майбродский Миша / Maibrodskiy Mikhail | D25: 3 | E25: 8 | F25: 2 | G25: 3 | H25: 10 | I25: 5 | K25: =OFFSET(Очки!$A$2,F25,D25+OFFSET(Очки!$A$18,0,$C$39-1)-1) -> 5 | L25: =IF(F25<E25,OFFSET(Очки!$A$20,2+E25-F25,IF(D25=1,13-E25,10+D25)),0) -> 3 | O25: =OFFSET(Очки!$A$2,I25,G25+OFFSET(Очки!$A$18,0,$C$39-1)-1) -> 2 | P25: =IF(I25<H25,OFFSET(Очки!$A$20,2+H25-I25,IF(G25=1,13-H25,10+G25)),0) -> 2.5 | R25: -2 | S25: =SUM(J25:R25) -> 10.5
A26: 18 | B26: Клименко Дмитрий / Klymenko Dmytro | C26: 2.5 | D26: 1 | E26: 2 | F26: 8 | G26: 3 | H26: 9 | I26: 9 | K26: =OFFSET(Очки!$A$2,F26,D26+OFFSET(Очки!$A$18,0,$C$39-1)-1) -> 11.5 | L26: =IF(F26<E26,OFFSET(Очки!$A$20,2+E26-F26,IF(D26=1,13-E26,10+D26)),0) -> 0 | O26: =OFFSET(Очки!$A$2,I26,G26+OFFSET(Очки!$A$18,0,$C$39-1)-1) -> 0 | P26: =IF(I26<H26,OFFSET(Очки!$A$20,2+H26-I26,IF(G26=1,13-H26,10+G26)),0) -> 0 | R26: -3 | S26: =SUM(J26:R26) -> 8.5
A27: 19 | B27: Байдиков Андрей / Baidikov Andrei | C27: 7.5 | D27: 3 | E27: 3 | F27: 3 | G27: 3 | H27: 3 | I27: 3 | K27: =OFFSET(Очки!$A$2,F27,D27+OFFSET(Очки!$A$18,0,$C$39-1)-1) -> 4 | L27: =IF(F27<E27,OFFSET(Очки!$A$20,2+E27-F27,IF(D27=1,13-E27,10+D27)),0) -> 0 | O27: =OFFSET(Очки!$A$2,I27,G27+OFFSET(Очки!$A$18,0,$C$39-1)-1) -> 4 | P27: =IF(I27<H27,OFFSET(Очки!$A$20,2+H27-I27,IF(G27=1,13-H27,10+G27)),0) -> 0 | S27: =SUM(J27:R27) -> 8
A28: 20 | B28: Деда Гена / Petushkov Gena | C28: - | D28: 3 | E28: 1 | F28: 7 | G28: 3 | H28: 2 | I28: 1 | K28: =OFFSET(Очки!$A$2,F28,D28+OFFSET(Очки!$A$18,0,$C$39-1)-1) -> 1 | L28: =IF(F28<E28,OFFSET(Очки!$A$20,2+E28-F28,IF(D28=1,13-E28,10+D28)),0) -> 0 | O28: =OFFSET(Очки!$A$2,I28,G28+OFFSET(Очки!$A$18,0,$C$39-1)-1) -> 6 | P28: =IF(I28<H28,OFFSET(Очки!$A$20,2+H28-I28,IF(G28=1,13-H28,10+G28)),0) -> 0.5 | S28: =SUM(J28:R28) -> 7.5
A29: 21 | B29: Криворучко Николай/Krivoruchko Nikolay | D29: 2 | E29: 4 | F29: 9 | G29: 2 | H29: 8 | I29: 9 | K29: =OFFSET(Очки!$A$2,F29,D29+OFFSET(Очки!$A$18,0,$C$39-1)-1) -> 5.5 | L29: =IF(F29<E29,OFFSET(Очки!$A$20,2+E29-F29,IF(D29=1,13-E29,10+D29)),0) -> 0 | N29: -2 | O29: =OFFSET(Очки!$A$2,I29,G29+OFFSET(Очки!$A$18,0,$C$39-1)-1) -> 5.5 | P29: =IF(I29<H29,OFFSET(Очки!$A$20,2+H29-I29,IF(G29=1,13-H29,10+G29)),0) -> 0 | R29: -2 | S29: =SUM(J29:R29) -> 7
A30: 22 | B30: Лабунский Алексей/Labunskiy Aleksey | C30: 10 | D30: 3 | E30: 5 | F30: 8 | G30: 3 | H30: 6 | I30: 2 | K30: =OFFSET(Очки!$A$2,F30,D30+OFFSET(Очки!$A$18,0,$C$39-1)-1) -> 0.5 | L30: =IF(F30<E30,OFFSET(Очки!$A$20,2+E30-F30,IF(D30=1,13-E30,10+D30)),0) -> 0 | N30: -2 | O30: =OFFSET(Очки!$A$2,I30,G30+OFFSET(Очки!$A$18,0,$C$39-1)-1) -> 5 | P30: =IF(I30<H30,OFFSET(Очки!$A$20,2+H30-I30,IF(G30=1,13-H30,10+G30)),0) -> 2 | S30: =SUM(J30:R30) -> 5.5
A31: 23 | B31: Халецкий Евгений | D31: 3 | E31: 6 | F31: 5 | G31: 3 | H31: 8 | I31: 6 | K31: =OFFSET(Очки!$A$2,F31,D31+OFFSET(Очки!$A$18,0,$C$39-1)-1) -> 2 | L31: =IF(F31<E31,OFFSET(Очки!$A$20,2+E31-F31,IF(D31=1,13-E31,10+D31)),0) -> 0.5 | O31: =OFFSET(Очки!$A$2,I31,G31+OFFSET(Очки!$A$18,0,$C$39-1)-1) -> 1.5 | P31: =IF(I31<H31,OFFSET(Очки!$A$20,2+H31-I31,IF(G31=1,13-H31,10+G31)),0) -> 1 | S31: =SUM(J31:R31) -> 5
A32: 24 | B32: Трихлеб Александр / Trihleb Alexsandr | C32: - | D32: 3 | E32: 9 | F32: 6 | G32: 3 | H32: 7 | I32: 7 | K32: =OFFSET(Очки!$A$2,F32,D32+OFFSET(Очки!$A$18,0,$C$39-1)-1) -> 1.5 | L32: =IF(F32<E32,OFFSET(Очки!$A$20,2+E32-F32,IF(D32=1,13-E32,10+D32)),0) -> 1.5 | O32: =OFFSET(Очки!$A$2,I32,G32+OFFSET(Очки!$A$18,0,$C$39-1)-1) -> 1 | P32: =IF(I32<H32,OFFSET(Очки!$A$20,2+H32-I32,IF(G32=1,13-H32,10+G32)),0) -> 0 | S32: =SUM(J32:R32) -> 4
A33: 25 | B33: Манойло Юрий/ Manoylo Yuriy | D33: 3 | E33: 4 | F33: 9 | G33: 3 | H33: 5 | I33: 4 | K33: =OFFSET(Очки!$A$2,F33,D33+OFFSET(Очки!$A$18,0,$C$39-1)-1) -> 0 | L33: =IF(F33<E33,OFFSET(Очки!$A$20,2+E33-F33,IF(D33=1,13-E33,10+D33)),0) -> 0 | O33: =OFFSET(Очки!$A$2,I33,G33+OFFSET(Очки!$A$18,0,$C$39-1)-1) -> 3 | P33: =IF(I33<H33,OFFSET(Очки!$A$20,2+H33-I33,IF(G33=1,13-H33,10+G33)),0) -> 0.5 | S33: =SUM(J33:R33) -> 3.5
A34: 26 | B34: Селлоз Оливье | D34: 3 | E34: 10 | F34: 9 | G34: 3 | H34: 1 | I34: 8 | K34: =OFFSET(Очки!$A$2,F34,D34+OFFSET(Очки!$A$18,0,$C$39-1)-1) -> 0 | L34: =IF(F34<E34,OFFSET(Очки!$A$20,2+E34-F34,IF(D34=1,13-E34,10+D34)),0) -> 0.5 | O34: =OFFSET(Очки!$A$2,I34,G34+OFFSET(Очки!$A$18,0,$C$39-1)-1) -> 0.5 | P34: =IF(I34<H34,OFFSET(Очки!$A$20,2+H34-I34,IF(G34=1,13-H34,10+G34)),0) -> 0 | S34: =SUM(J34:R34) -> 1
A35: 27 | B35: Фаль Александр | D35: 3 | E35: 2 | F35: 1 | G35: 3 | H35: 4 | I35: 9 | K35: =OFFSET(Очки!$A$2,F35,D35+OFFSET(Очки!$A$18,0,$C$39-1)-1) -> 6 | L35: =IF(F35<E35,OFFSET(Очки!$A$20,2+E35-F35,IF(D35=1,13-E35,10+D35)),0) -> 0.5 | O35: =OFFSET(Очки!$A$2,I35,G35+OFFSET(Очки!$A$18,0,$C$39-1)-1) -> 0 | P35: =IF(I35<H35,OFFSET(Очки!$A$20,2+H35-I35,IF(G35=1,13-H35,10+G35)),0) -> 0 | R35: =-3-3 -> -6 | S35: =SUM(J35:R35) -> 0.5
A36: =RANK(S36,S$6:OFFSET(S$6,0,0,COUNTA(B$6:B$38))) -> #N/A | C36: - | K36: =OFFSET(Очки!$A$2,F36,D36+OFFSET(Очки!$A$18,0,$C$39-1)-1) -> 0 | L36: =IF(F36<E36,OFFSET(Очки!$A$20,2+E36-F36,IF(D36=1,13-E36,10+D36)),0) -> 0 | O36: =OFFSET(Очки!$A$2,I36,G36+OFFSET(Очки!$A$18,0,$C$39-1)-1) -> 0 | P36: =IF(I36<H36,OFFSET(Очки!$A$20,2+H36-I36,IF(G36=1,13-H36,10+G36)),0) -> 0 | S36: =SUM(J36:R36) -> 0
A37: =RANK(S37,S$6:OFFSET(S$6,0,0,COUNTA(B$6:B$38))) -> #N/A | C37: - | K37: =OFFSET(Очки!$A$2,F37,D37+OFFSET(Очки!$A$18,0,$C$39-1)-1) -> 0 | L37: =IF(F37<E37,OFFSET(Очки!$A$20,2+E37-F37,IF(D37=1,13-E37,10+D37)),0) -> 0 | O37: =OFFSET(Очки!$A$2,I37,G37+OFFSET(Очки!$A$18,0,$C$39-1)-1) -> 0 | P37: =IF(I37<H37,OFFSET(Очки!$A$20,2+H37-I37,IF(G37=1,13-H37,10+G37)),0) -> 0 | S37: =SUM(J37:R37) -> 0
A38: =RANK(S38,S$6:OFFSET(S$6,0,0,COUNTA(B$6:B$38))) -> #N/A | C38: - | K38: =OFFSET(Очки!$A$2,F38,D38+OFFSET(Очки!$A$18,0,$C$39-1)-1) -> 0 | L38: =IF(F38<E38,OFFSET(Очки!$A$20,2+E38-F38,IF(D38=1,13-E38,10+D38)),0) -> 0 | O38: =OFFSET(Очки!$A$2,I38,G38+OFFSET(Очки!$A$18,0,$C$39-1)-1) -> 0 | P38: =IF(I38<H38,OFFSET(Очки!$A$20,2+H38-I38,IF(G38=1,13-H38,10+G38)),0) -> 0 | S38: =SUM(J38:R38) -> 0
B39: Всего участников | C39: =COUNTA(B6:B38) -> 30

Sheet 15.05
A1: Лайт Лига 15.05.2017 (конфигурация 11)
A3: Место | B3: Участник | D3: 1 | G3: 2 | J3: Очки | S3: Сумма
C4: Довес | D4: группа | E4: Старт | F4: Финиш | G4: группа | H4: Старт | I4: Финиш | J4: Квала | K4: 1 | O4: 2
K5: очки | L5: обгоны | M5: время | N5: штрафы | O5: очки | P5: обгоны | Q5: время | R5: штрафы
A6: =RANK(S6,S$6:OFFSET(S$6,0,0,COUNTA(B$6:B$40))) -> 1 | B6: Закаклюк Женя/ Zakaliuk Eugeniy | C6: - | D6: 1 | E6: 1 | F6: 1 | G6: 1 | H6: 8 | I6: 6 | K6: =OFFSET(Очки!$A$2,F6,D6+OFFSET(Очки!$A$18,0,$C$41-1)-1) -> 15 | L6: =IF(F6<E6,OFFSET(Очки!$A$20,2+E6-F6,IF(D6=1,13-E6,10+D6)),0) -> 0 | M6: 1 | O6: =OFFSET(Очки!$A$2,I6,G6+OFFSET(Очки!$A$18,0,$C$41-1)-1) -> 10.5 | P6: =IF(I6<H6,OFFSET(Очки!$A$20,2+H6-I6,IF(G6=1,13-H6,10+G6)),0) -> 2.3 | S6: =SUM(J6:R6) -> 28.8
A7: =RANK(S7,S$6:OFFSET(S$6,0,0,COUNTA(B$6:B$40))) -> 2 | B7: Фурсов Никита / Fursov Nikita | C7: - | D7: 1 | E7: 5 | F7: 2 | G7: 1 | H7: 9 | I7: 8 | K7: =OFFSET(Очки!$A$2,F7,D7+OFFSET(Очки!$A$18,0,$C$41-1)-1) -> 14 | L7: =IF(F7<E7,OFFSET(Очки!$A$20,2+E7-F7,IF(D7=1,13-E7,10+D7)),0) -> 2.4 | M7: 1.5 | O7: =OFFSET(Очки!$A$2,I7,G7+OFFSET(Очки!$A$18,0,$C$41-1)-1) -> 9.5 | P7: =IF(I7<H7,OFFSET(Очки!$A$20,2+H7-I7,IF(G7=1,13-H7,10+G7)),0) -> 1.2 | S7: =SUM(J7:R7) -> 28.6
A8: =RANK(S8,S$6:OFFSET(S$6,0,0,COUNTA(B$6:B$40))) -> 3 | B8: Якусик Александр / Yakusik Alexandr | C8: 7.5 | D8: 1 | E8: 8 | F8: 7 | G8: 1 | H8: 3 | I8: 2 | J8: 1 | K8: =OFFSET(Очки!$A$2,F8,D8+OFFSET(Очки!$A$18,0,$C$41-1)-1) -> 10 | L8: =IF(F8<E8,OFFSET(Очки!$A$20,2+E8-F8,IF(D8=1,13-E8,10+D8)),0) -> 1.2 | O8: =OFFSET(Очки!$A$2,I8,G8+OFFSET(Очки!$A$18,0,$C$41-1)-1) -> 14 | P8: =IF(I8<H8,OFFSET(Очки!$A$20,2+H8-I8,IF(G8=1,13-H8,10+G8)),0) -> 0.7 | Q8: 1.5 | S8: =SUM(J8:R8) -> 28.4
A9: =RANK(S9,S$6:OFFSET(S$6,0,0,COUNTA(B$6:B$40))) -> 4 | B9: Кошарук Женя/Kosharuk Eugene | C9: - | D9: 1 | E9: 2 | F9: 4 | G9: 1 | H9: 7 | I9: 5 | K9: =OFFSET(Очки!$A$2,F9,D9+OFFSET(Очки!$A$18,0,$C$41-1)-1) -> 12 | L9: =IF(F9<E9,OFFSET(Очки!$A$20,2+E9-F9,IF(D9=1,13-E9,10+D9)),0) -> 0 | M9: 0.5 | O9: =OFFSET(Очки!$A$2,I9,G9+OFFSET(Очки!$A$18,0,$C$41-1)-1) -> 11 | P9: =IF(I9<H9,OFFSET(Очки!$A$20,2+H9-I9,IF(G9=1,13-H9,10+G9)),0) -> 2.1 | Q9: 1 | S9: =SUM(J9:R9) -> 26.6
A10: =RANK(S10,S$6:OFFSET(S$6,0,0,COUNTA(B$6:B$40))) -> 5 | B10: Ткаченко Кирилл / Tkachenko Kirill | C10: 7.5 | D10: 1 | E10: 3 | F10: 3 | G10: 1 | H10: 5 | I10: 4 | K10: =OFFSET(Очки!$A$2,F10,D10+OFFSET(Очки!$A$18,0,$C$41-1)-1) -> 13 | L10: =IF(F10<E10,OFFSET(Очки!$A$20,2+E10-F10,IF(D10=1,13-E10,10+D10)),0) -> 0 | O10: =OFFSET(Очки!$A$2,I10,G10+OFFSET(Очки!$A$18,0,$C$41-1)-1) -> 12 | P10: =IF(I10<H10,OFFSET(Очки!$A$20,2+H10-I10,IF(G10=1,13-H10,10+G10)),0) -> 0.9 | S10: =SUM(J10:R10) -> 25.9
A11: =RANK(S11,S$6:OFFSET(S$6,0,0,COUNTA(B$6:B$40))) -> 6 | B11: Муляр Андрей / Mular Andrew | C11: - | D11: 2 | E11: 6 | F11: 4 | G11: 1 | H11: 1 | I11: 1 | K11: =OFFSET(Очки!$A$2,F11,D11+OFFSET(Очки!$A$18,0,$C$41-1)-1) -> 6 | L11: =IF(F11<E11,OFFSET(Очки!$A$20,2+E11-F11,IF(D11=1,13-E11,10+D11)),0) -> 1.4 | O11: =OFFSET(Очки!$A$2,I11,G11+OFFSET(Очки!$A$18,0,$C$41-1)-1) -> 15 | P11: =IF(I11<H11,OFFSET(Очки!$A$20,2+H11-I11,IF(G11=1,13-H11,10+G11)),0) -> 0 | Q11: 2.5 | S11: =SUM(J11:R11) -> 24.9
A12: =RANK(S12,S$6:OFFSET(S$6,0,0,COUNTA(B$6:B$40))) -> 7 | B12: Гончаров Рома/Honcharov Roma | C12: 15 | D12: 1 | E12: 10 | F12: 8 | G12: 1 | H12: 6 | I12: 7 | J12: 2 | K12: =OFFSET(Очки!$A$2,F12,D12+OFFSET(Очки!$A$18,0,$C$41-1)-1) -> 9.5 | L12: =IF(F12<E12,OFFSET(Очки!$A$20,2+E12-F12,IF(D12=1,13-E12,10+D12)),0) -> 2.4 | O12: =OFFSET(Очки!$A$2,I12,G12+OFFSET(Очки!$A$18,0,$C$41-1)-1) -> 10 | P12: =IF(I12<H12,OFFSET(Очки!$A$20,2+H12-I12,IF(G12=1,13-H12,10+G12)),0) -> 0 | Q12: 0.5 | S12: =SUM(J12:R12) -> 24.4
A13: =RANK(S13,S$6:OFFSET(S$6,0,0,COUNTA(B$6:B$40))) -> 8 | B13: Доценко Анатолий / Dotsenko Anatoliy | C13: 10 | D13: 1 | E13: 7 | F13: 9 | G13: 1 | H13: 4 | I13: 3 | J13: 0.5 | K13: =OFFSET(Очки!$A$2,F13,D13+OFFSET(Очки!$A$18,0,$C$41-1)-1) -> 9 | L13: =IF(F13<E13,OFFSET(Очки!$A$20,2+E13-F13,IF(D13=1,13-E13,10+D13)),0) -> 0 | O13: =OFFSET(Очки!$A$2,I13,G13+OFFSET(Очки!$A$18,0,$C$41-1)-1) -> 13 | P13: =IF(I13<H13,OFFSET(Очки!$A$20,2+H13-I13,IF(G13=1,13-H13,10+G13)),0) -> 0.8 | S13: =SUM(J13:R13) -> 23.3
A14: =RANK(S14,S$6:OFFSET(S$6,0,0,COUNTA(B$6:B$40))) -> 9 | B14: Криворучко Николаfй / Kryvoruchko Mykola | C14: 7.5 | D14: 1 | E14: 6 | F14: 6 | G14: 2 | H14: 8 | I14: 3 | K14: =OFFSET(Очки!$A$2,F14,D14+OFFSET(Очки!$A$18,0,$C$41-1)-1) -> 10.5 | L14: =IF(F14<E14,OFFSET(Очки!$A$20,2+E14-F14,IF(D14=1,13-E14,10+D14)),0) -> 0 | O14: =OFFSET(Очки!$A$2,I14,G14+OFFSET(Очки!$A$18,0,$C$41-1)-1) -> 7 | P14: =IF(I14<H14,OFFSET(Очки!$A$20,2+H14-I14,IF(G14=1,13-H14,10+G14)),0) -> 3.5 | Q14: 2 | S14: =SUM(J14:R14) -> 23
A15: =RANK(S15,S$6:OFFSET(S$6,0,0,COUNTA(B$6:B$40))) -> 9 | B15: Якусик Дима / Yakusik Dima | C15: 7.5 | D15: 1 | E15: 11 | F15: 11 | G15: 2 | H15: 6 | I15: 1 | J15: 2.5 | K15: =OFFSET(Очки!$A$2,F15,D15+OFFSET(Очки!$A$18,0,$C$41-1)-1) -> 8 | L15: =IF(F15<E15,OFFSET(Очки!$A$20,2+E15-F15,IF(D15=1,13-E15,10+D15)),0) -> 0 | O15: =OFFSET(Очки!$A$2,I15,G15+OFFSET(Очки!$A$18,0,$C$41-1)-1) -> 9 | P15: =IF(I15<H15,OFFSET(Очки!$A$20,2+H15-I15,IF(G15=1,13-H15,10+G15)),0) -> 3.5 | S15: =SUM(J15:R15) -> 23
A16: =RANK(S16,S$6:OFFSET(S$6,0,0,COUNTA(B$6:B$40))) -> 11 | B16: Чухаленко Дмитрий/ Chuhalenko Dmitriy | C16: - | D16: 2 | E16: 8 | F16: 1 | G16: 1 | H16: 2 | I16: 11 | K16: =OFFSET(Очки!$A$2,F16,D16+OFFSET(Очки!$A$18,0,$C$41-1)-1) -> 9 | L16: =IF(F16<E16,OFFSET(Очки!$A$20,2+E16-F16,IF(D16=1,13-E16,10+D16)),0) -> 4.9 | O16: =OFFSET(Очки!$A$2,I16,G16+OFFSET(Очки!$A$18,0,$C$41-1)-1) -> 8 | P16: =IF(I16<H16,OFFSET(Очки!$A$20,2+H16-I16,IF(G16=1,13-H16,10+G16)),0) -> 0 | S16: =SUM(J16:R16) -> 21.9
A17: =RANK(S17,S$6:OFFSET(S$6,0,0,COUNTA(B$6:B$40))) -> 12 | B17: Яремкович Дмитрий / Yaremkovich Dmitriy | C17: 82.3 | D17: 1 | E17: 4 | F17: 5 | G17: 1 | H17: 10 | I17: 10 | K17: =OFFSET(Очки!$A$2,F17,D17+OFFSET(Очки!$A$18,0,$C$41-1)-1) -> 11 | L17: =IF(F17<E17,OFFSET(Очки!$A$20,2+E17-F17,IF(D17=1,13-E17,10+D17)),0) -> 0 | M17: 2 | O17: =OFFSET(Очки!$A$2,I17,G17+OFFSET(Очки!$A$18,0,$C$41-1)-1) -> 8.5 | P17: =IF(I17<H17,OFFSET(Очки!$A$20,2+H17-I17,IF(G17=1,13-H17,10+G17)),0) -> 0 | S17: =SUM(J17:R17) -> 21.5
A18: =RANK(S18,S$6:OFFSET(S$6,0,0,COUNTA(B$6:B$40))) -> 13 | B18: Черевко Владимир/ Cherevko Vladimir | C18: 20 | D18: 2 | E18: 7 | F18: 3 | G18: 2 | H18: 7 | I18: 2 | K18: =OFFSET(Очки!$A$2,F18,D18+OFFSET(Очки!$A$18,0,$C$41-1)-1) -> 7 | L18: =IF(F18<E18,OFFSET(Очки!$A$20,2+E18-F18,IF(D18=1,13-E18,10+D18)),0) -> 2.8 | O18: =OFFSET(Очки!$A$2,I18,G18+OFFSET(Очки!$A$18,0,$C$41-1)-1) -> 8 | P18: =IF(I18<H18,OFFSET(Очки!$A$20,2+H18-I18,IF(G18=1,13-H18,10+G18)),0) -> 3.5 | S18: =SUM(J18:R18) -> 21.3
A19: =RANK(S19,S$6:OFFSET(S$6,0,0,COUNTA(B$6:B$40))) -> 14 | B19: Фалько Константин/ Falko Konstantin | C19: - | D19: 1 | E19: 9 | F19: 9 | G19: 1 | H19: 11 | I19: 9 | J19: 1.5 | K19: =OFFSET(Очки!$A$2,F19,D19+OFFSET(Очки!$A$18,0,$C$41-1)-1) -> 9 | L19: =IF(F19<E19,OFFSET(Очки!$A$20,2+E19-F19,IF(D19=1,13-E19,10+D19)),0) -> 0 | M19: 2.5 | N19: =-3-3 -> -6 | O19: =OFFSET(Очки!$A$2,I19,G19+OFFSET(Очки!$A$18,0,$C$41-1)-1) -> 9 | P19: =IF(I19<H19,OFFSET(Очки!$A$20,2+H19-I19,IF(G19=1,13-H19,10+G19)),0) -> 2.5 | S19: =SUM(J19:R19) -> 18.5
A20: =RANK(S20,S$6:OFFSET(S$6,0,0,COUNTA(B$6:B$40))) -> 15 | B20: Майбродский Миша / Maibrodskiy Mikhail | C20: 10 | D20: 2 | E20: 4 | F20: 2 | G20: 2 | H20: 5 | I20: 5 | K20: =OFFSET(Очки!$A$2,F20,D20+OFFSET(Очки!$A$18,0,$C$41-1)-1) -> 8 | L20: =IF(F20<E20,OFFSET(Очки!$A$20,2+E20-F20,IF(D20=1,13-E20,10+D20)),0) -> 1.4 | O20: =OFFSET(Очки!$A$2,I20,G20+OFFSET(Очки!$A$18,0,$C$41-1)-1) -> 5 | P20: =IF(I20<H20,OFFSET(Очки!$A$20,2+H20-I20,IF(G20=1,13-H20,10+G20)),0) -> 0 | S20: =SUM(J20:R20) -> 14.4
A21: =RANK(S21,S$6:OFFSET(S$6,0,0,COUNTA(B$6:B$40))) -> 16 | B21: Ольшанский Константин/Olshanskiy Konstantin | C21: 17.5 | D21: 2 | E21: 5 | F21: 10 | G21: 2 | H21: 9 | I21: 4 | K21: =OFFSET(Очки!$A$2,F21,D21+OFFSET(Очки!$A$18,0,$C$41-1)-1) -> 2.5 | L21: =IF(F21<E21,OFFSET(Очки!$A$20,2+E21-F21,IF(D21=1,13-E21,10+D21)),0) -> 0 | O21: =OFFSET(Очки!$A$2,I21,G21+OFFSET(Очки!$A$18,0,$C$41-1)-1) -> 6 | P21: =IF(I21<H21,OFFSET(Очки!$A$20,2+H21-I21,IF(G21=1,13-H21,10+G21)),0) -> 3.5 | R21: -2 | S21: =SUM(J21:R21) -> 10
A22: =RANK(S22,S$6:OFFSET(S$6,0,0,COUNTA(B$6:B$40))) -> 17 | B22: Гутев Андрей/Gutiv Andriy | C22: 10 | D22: 2 | E22: 3 | F22: 5 | G22: 2 | H22: 4 | I22: 7 | K22: =OFFSET(Очки!$A$2,F22,D22+OFFSET(Очки!$A$18,0,$C$41-1)-1) -> 5 | L22: =IF(F22<E22,OFFSET(Очки!$A$20,2+E22-F22,IF(D22=1,13-E22,10+D22)),0) -> 0 | O22: =OFFSET(Очки!$A$2,I22,G22+OFFSET(Очки!$A$18,0,$C$41-1)-1) -> 4 | P22: =IF(I22<H22,OFFSET(Очки!$A$20,2+H22-I22,IF(G22=1,13-H22,10+G22)),0) -> 0 | S22: =SUM(J22:R22) -> 9
A23: =RANK(S23,S$6:OFFSET(S$6,0,0,COUNTA(B$6:B$40))) -> 18 | B23: Карленко Даниил/Karlenko Danii | C23: 5 | D23: 2 | E23: 1 | F23: 7 | G23: 2 | H23: 1 | I23: 6 | K23: =OFFSET(Очки!$A$2,F23,D23+OFFSET(Очки!$A$18,0,$C$41-1)-1) -> 4 | L23: =IF(F23<E23,OFFSET(Очки!$A$20,2+E23-F23,IF(D23=1,13-E23,10+D23)),0) -> 0 | O23: =OFFSET(Очки!$A$2,I23,G23+OFFSET(Очки!$A$18,0,$C$41-1)-1) -> 4.5 | P23: =IF(I23<H23,OFFSET(Очки!$A$20,2+H23-I23,IF(G23=1,13-H23,10+G23)),0) -> 0 | S23: =SUM(J23:R23) -> 8.5
A24: =RANK(S24,S$6:OFFSET(S$6,0,0,COUNTA(B$6:B$40))) -> 19 | B24: Дыкань Сергей/ Dykan Sergey | C24: - | D24: 2 | E24: 2 | F24: 8 | G24: 2 | H24: 2 | I24: 8 | K24: =OFFSET(Очки!$A$2,F24,D24+OFFSET(Очки!$A$18,0,$C$41-1)-1) -> 3.5 | L24: =IF(F24<E24,OFFSET(Очки!$A$20,2+E24-F24,IF(D24=1,13-E24,10+D24)),0) -> 0 | O24: =OFFSET(Очки!$A$2,I24,G24+OFFSET(Очки!$A$18,0,$C$41-1)-1) -> 3.5 | P24: =IF(I24<H24,OFFSET(Очки!$A$20,2+H24-I24,IF(G24=1,13-H24,10+G24)),0) -> 0 | S24: =SUM(J24:R24) -> 7
A25: =RANK(S25,S$6:OFFSET(S$6,0,0,COUNTA(B$6:B$40))) -> 20 | B25: Смык Владимир/Smyk Vladimir | C25: - | D25: 2 | E25: 9 | F25: 6 | G25: 2 | H25: 3 | I25: 9 | K25: =OFFSET(Очки!$A$2,F25,D25+OFFSET(Очки!$A$18,0,$C$41-1)-1) -> 4.5 | L25: =IF(F25<E25,OFFSET(Очки!$A$20,2+E25-F25,IF(D25=1,13-E25,10+D25)),0) -> 2.1 | N25: -3 | O25: =OFFSET(Очки!$A$2,I25,G25+OFFSET(Очки!$A$18,0,$C$41-1)-1) -> 3 | P25: =IF(I25<H25,OFFSET(Очки!$A$20,2+H25-I25,IF(G25=1,13-H25,10+G25)),0) -> 0 | S25: =SUM(J25:R25) -> 6.6
A26: =RANK(S26,S$6:OFFSET(S$6,0,0,COUNTA(B$6:B$40))) -> 21 | B26: Смык Сергей/Smyk Sergey | C26: - | D26: 2 | E26: 10 | F26: 9 | G26: 2 | H26: 10 | I26: 10 | K26: =OFFSET(Очки!$A$2,F26,D26+OFFSET(Очки!$A$18,0,$C$41-1)-1) -> 3 | L26: =IF(F26<E26,OFFSET(Очки!$A$20,2+E26-F26,IF(D26=1,13-E26,10+D26)),0) -> 0.7 | O26: =OFFSET(Очки!$A$2,I26,G26+OFFSET(Очки!$A$18,0,$C$41-1)-1) -> 2.5 | P26: =IF(I26<H26,OFFSET(Очки!$A$20,2+H26-I26,IF(G26=1,13-H26,10+G26)),0) -> 0 | S26: =SUM(J26:R26) -> 6.2
A27: =RANK(S27,S$6:OFFSET(S$6,0,0,COUNTA(B$6:B$40))) -> #N/A | K27: =OFFSET(Очки!$A$2,F27,D27+OFFSET(Очки!$A$18,0,$C$41-1)-1) -> 0 | L27: =IF(F27<E27,OFFSET(Очки!$A$20,2+E27-F27,IF(D27=1,13-E27,10+D27)),0) -> 0 | O27: =OFFSET(Очки!$A$2,I27,G27+OFFSET(Очки!$A$18,0,$C$41-1)-1) -> 0 | P27: =IF(I27<H27,OFFSET(Очки!$A$20,2+H27-I27,IF(G27=1,13-H27,10+G27)),0) -> 0 | S27: =SUM(J27:R27) -> 0
A28: =RANK(S28,S$6:OFFSET(S$6,0,0,COUNTA(B$6:B$40))) -> #N/A | K28: =OFFSET(Очки!$A$2,F28,D28+OFFSET(Очки!$A$18,0,$C$41-1)-1) -> 0 | L28: =IF(F28<E28,OFFSET(Очки!$A$20,2+E28-F28,IF(D28=1,13-E28,10+D28)),0) -> 0 | O28: =OFFSET(Очки!$A$2,I28,G28+OFFSET(Очки!$A$18,0,$C$41-1)-1) -> 0 | P28: =IF(I28<H28,OFFSET(Очки!$A$20,2+H28-I28,IF(G28=1,13-H28,10+G28)),0) -> 0 | S28: =SUM(J28:R28) -> 0
A29: =RANK(S29,S$6:OFFSET(S$6,0,0,COUNTA(B$6:B$40))) -> #N/A | K29: =OFFSET(Очки!$A$2,F29,D29+OFFSET(Очки!$A$18,0,$C$41-1)-1) -> 0 | L29: =IF(F29<E29,OFFSET(Очки!$A$20,2+E29-F29,IF(D29=1,13-E29,10+D29)),0) -> 0 | O29: =OFFSET(Очки!$A$2,I29,G29+OFFSET(Очки!$A$18,0,$C$41-1)-1) -> 0 | P29: =IF(I29<H29,OFFSET(Очки!$A$20,2+H29-I29,IF(G29=1,13-H29,10+G29)),0) -> 0 | S29: =SUM(J29:R29) -> 0
A30: =RANK(S30,S$6:OFFSET(S$6,0,0,COUNTA(B$6:B$40))) -> #N/A | K30: =OFFSET(Очки!$A$2,F30,D30+OFFSET(Очки!$A$18,0,$C$41-1)-1) -> 0 | L30: =IF(F30<E30,OFFSET(Очки!$A$20,2+E30-F30,IF(D30=1,13-E30,10+D30)),0) -> 0 | O30: =OFFSET(Очки!$A$2,I30,G30+OFFSET(Очки!$A$18,0,$C$41-1)-1) -> 0 | P30: =IF(I30<H30,OFFSET(Очки!$A$20,2+H30-I30,IF(G30=1,13-H30,10+G30)),0) -> 0 | S30: =SUM(J30:R30) -> 0
A31: =RANK(S31,S$6:OFFSET(S$6,0,0,COUNTA(B$6:B$40))) -> #N/A | K31: =OFFSET(Очки!$A$2,F31,D31+OFFSET(Очки!$A$18,0,$C$41-1)-1) -> 0 | L31: =IF(F31<E31,OFFSET(Очки!$A$20,2+E31-F31,IF(D31=1,13-E31,10+D31)),0) -> 0 | O31: =OFFSET(Очки!$A$2,I31,G31+OFFSET(Очки!$A$18,0,$C$41-1)-1) -> 0 | P31: =IF(I31<H31,OFFSET(Очки!$A$20,2+H31-I31,IF(G31=1,13-H31,10+G31)),0) -> 0 | S31: =SUM(J31:R31) -> 0
A32: =RANK(S32,S$6:OFFSET(S$6,0,0,COUNTA(B$6:B$40))) -> #N/A | K32: =OFFSET(Очки!$A$2,F32,D32+OFFSET(Очки!$A$18,0,$C$41-1)-1) -> 0 | L32: =IF(F32<E32,OFFSET(Очки!$A$20,2+E32-F32,IF(D32=1,13-E32,10+D32)),0) -> 0 | O32: =OFFSET(Очки!$A$2,I32,G32+OFFSET(Очки!$A$18,0,$C$41-1)-1) -> 0 | P32: =IF(I32<H32,OFFSET(Очки!$A$20,2+H32-I32,IF(G32=1,13-H32,10+G32)),0) -> 0 | S32: =SUM(J32:R32) -> 0
A33: =RANK(S33,S$6:OFFSET(S$6,0,0,COUNTA(B$6:B$40))) -> #N/A | K33: =OFFSET(Очки!$A$2,F33,D33+OFFSET(Очки!$A$18,0,$C$41-1)-1) -> 0 | L33: =IF(F33<E33,OFFSET(Очки!$A$20,2+E33-F33,IF(D33=1,13-E33,10+D33)),0) -> 0 | O33: =OFFSET(Очки!$A$2,I33,G33+OFFSET(Очки!$A$18,0,$C$41-1)-1) -> 0 | P33: =IF(I33<H33,OFFSET(Очки!$A$20,2+H33-I33,IF(G33=1,13-H33,10+G33)),0) -> 0 | S33: =SUM(J33:R33) -> 0
A34: =RANK(S34,S$6:OFFSET(S$6,0,0,COUNTA(B$6:B$40))) -> #N/A | K34: =OFFSET(Очки!$A$2,F34,D34+OFFSET(Очки!$A$18,0,$C$41-1)-1) -> 0 | L34: =IF(F34<E34,OFFSET(Очки!$A$20,2+E34-F34,IF(D34=1,13-E34,10+D34)),0) -> 0 | O34: =OFFSET(Очки!$A$2,I34,G34+OFFSET(Очки!$A$18,0,$C$41-1)-1) -> 0 | P34: =IF(I34<H34,OFFSET(Очки!$A$20,2+H34-I34,IF(G34=1,13-H34,10+G34)),0) -> 0 | S34: =SUM(J34:R34) -> 0
A35: =RANK(S35,S$6:OFFSET(S$6,0,0,COUNTA(B$6:B$40))) -> #N/A | K35: =OFFSET(Очки!$A$2,F35,D35+OFFSET(Очки!$A$18,0,$C$41-1)-1) -> 0 | L35: =IF(F35<E35,OFFSET(Очки!$A$20,2+E35-F35,IF(D35=1,13-E35,10+D35)),0) -> 0 | O35: =OFFSET(Очки!$A$2,I35,G35+OFFSET(Очки!$A$18,0,$C$41-1)-1) -> 0 | P35: =IF(I35<H35,OFFSET(Очки!$A$20,2+H35-I35,IF(G35=1,13-H35,10+G35)),0) -> 0 | S35: =SUM(J35:R35) -> 0
A36: =RANK(S36,S$6:OFFSET(S$6,0,0,COUNTA(B$6:B$40))) -> #N/A | K36: =OFFSET(Очки!$A$2,F36,D36+OFFSET(Очки!$A$18,0,$C$41-1)-1) -> 0 | L36: =IF(F36<E36,OFFSET(Очки!$A$20,2+E36-F36,IF(D36=1,13-E36,10+D36)),0) -> 0 | O36: =OFFSET(Очки!$A$2,I36,G36+OFFSET(Очки!$A$18,0,$C$41-1)-1) -> 0 | P36: =IF(I36<H36,OFFSET(Очки!$A$20,2+H36-I36,IF(G36=1,13-H36,10+G36)),0) -> 0 | S36: =SUM(J36:R36) -> 0
A37: =RANK(S37,S$6:OFFSET(S$6,0,0,COUNTA(B$6:B$40))) -> #N/A | K37: =OFFSET(Очки!$A$2,F37,D37+OFFSET(Очки!$A$18,0,$C$41-1)-1) -> 0 | L37: =IF(F37<E37,OFFSET(Очки!$A$20,2+E37-F37,IF(D37=1,13-E37,10+D37)),0) -> 0 | O37: =OFFSET(Очки!$A$2,I37,G37+OFFSET(Очки!$A$18,0,$C$41-1)-1) -> 0 | P37: =IF(I37<H37,OFFSET(Очки!$A$20,2+H37-I37,IF(G37=1,13-H37,10+G37)),0) -> 0 | S37: =SUM(J37:R37) -> 0
A38: =RANK(S38,S$6:OFFSET(S$6,0,0,COUNTA(B$6:B$40))) -> #N/A | K38: =OFFSET(Очки!$A$2,F38,D38+OFFSET(Очки!$A$18,0,$C$41-1)-1) -> 0 | L38: =IF(F38<E38,OFFSET(Очки!$A$20,2+E38-F38,IF(D38=1,13-E38,10+D38)),0) -> 0 | O38: =OFFSET(Очки!$A$2,I38,G38+OFFSET(Очки!$A$18,0,$C$41-1)-1) -> 0 | P38: =IF(I38<H38,OFFSET(Очки!$A$20,2+H38-I38,IF(G38=1,13-H38,10+G38)),0) -> 0 | S38: =SUM(J38:R38) -> 0
... A40: =RANK(S40,S$6:OFFSET(S$6,0,0,COUNTA(B$6:B$40))) -> #N/A | K40: =OFFSET(Очки!$A$2,F40,D40+OFFSET(Очки!$A$18,0,$C$41-1)-1) -> 0 | L40: =IF(F40<E40,OFFSET(Очки!$A$20,2+E40-F40,IF(D40=1,13-E40,10+D40)),0) -> 0 | O40: =OFFSET(Очки!$A$2,I40,G40+OFFSET(Очки!$A$18,0,$C$41-1)-1) -> 0 | P40: =IF(I40<H40,OFFSET(Очки!$A$20,2+H40-I40,IF(G40=1,13-H40,10+G40)),0) -> 0 | S40: =SUM(J40:R40) -> 0
B41: Всего участников | C41: =COUNTA(B6:B40) -> 21

Sheet 22.05
A1: Лайт Лига 22.05.2017 (конфигурация 5)
A3: Место | B3: Участник | D3: 1 | G3: 2 | J3: Очки | S3: Сумма
C4: Довес | D4: группа | E4: Старт | F4: Финиш | G4: группа | H4: Старт | I4: Финиш | J4: Квала | K4: 1 | O4: 2
K5: очки | L5: обгоны | M5: время | N5: штрафы | O5: очки | P5: обгоны | Q5: время | R5: штрафы
A6: =RANK(S6,S$6:OFFSET(S$6,0,0,COUNTA(B$6:B$40))) -> 1 | B6: Тамберг Александр / Tamberg Aleksandr | C6: - | D6: 1 | E6: 6 | F6: 2 | G6: 1 | H6: 10 | I6: 5 | J6: 0.5 | K6: =OFFSET(Очки!$A$2,F6,D6+OFFSET(Очки!$A$18,0,$C$41-1)-1) -> 14 | L6: =IF(F6<E6,OFFSET(Очки!$A$20,2+E6-F6,IF(D6=1,13-E6,10+D6)),0) -> 3.4 | M6: 2.5 | O6: =OFFSET(Очки!$A$2,I6,G6+OFFSET(Очки!$A$18,0,$C$41-1)-1) -> 11 | P6: =IF(I6<H6,OFFSET(Очки!$A$20,2+H6-I6,IF(G6=1,13-H6,10+G6)),0) -> 5.7 | Q6: 2.5 | S6: =SUM(J6:R6) -> 39.6
A7: =RANK(S7,S$6:OFFSET(S$6,0,0,COUNTA(B$6:B$40))) -> 2 | B7: Фурсов Никита / Fursov Nikita | C7: - | D7: 1 | E7: 10 | F7: 8 | G7: 1 | H7: 5 | I7: 1 | J7: 2.5 | K7: =OFFSET(Очки!$A$2,F7,D7+OFFSET(Очки!$A$18,0,$C$41-1)-1) -> 9.5 | L7: =IF(F7<E7,OFFSET(Очки!$A$20,2+E7-F7,IF(D7=1,13-E7,10+D7)),0) -> 2.4 | O7: =OFFSET(Очки!$A$2,I7,G7+OFFSET(Очки!$A$18,0,$C$41-1)-1) -> 15 | P7: =IF(I7<H7,OFFSET(Очки!$A$20,2+H7-I7,IF(G7=1,13-H7,10+G7)),0) -> 3.1 | S7: =SUM(J7:R7) -> 32.5
A8: =RANK(S8,S$6:OFFSET(S$6,0,0,COUNTA(B$6:B$40))) -> 3 | B8: Кошарук Женя/Kosharuk Eugene | D8: 1 | E8: 9 | F8: 6 | G8: 1 | H8: 7 | I8: 9 | J8: 2 | K8: =OFFSET(Очки!$A$2,F8,D8+OFFSET(Очки!$A$18,0,$C$41-1)-1) -> 10.5 | L8: =IF(F8<E8,OFFSET(Очки!$A$20,2+E8-F8,IF(D8=1,13-E8,10+D8)),0) -> 3.5 | M8: 1 | O8: =OFFSET(Очки!$A$2,I8,G8+OFFSET(Очки!$A$18,0,$C$41-1)-1) -> 9 | P8: =IF(I8<H8,OFFSET(Очки!$A$20,2+H8-I8,IF(G8=1,13-H8,10+G8)),0) -> 0 | Q8: 1 | S8: =SUM(J8:R8) -> 27
A9: =RANK(S9,S$6:OFFSET(S$6,0,0,COUNTA(B$6:B$40))) -> 4 | B9: Муляр Андрей / Mular Andrew | C9: - | D9: 1 | E9: 2 | F9: 1 | G9: 1 | H9: 9 | I9: 10 | K9: =OFFSET(Очки!$A$2,F9,D9+OFFSET(Очки!$A$18,0,$C$41-1)-1) -> 15 | L9: =IF(F9<E9,OFFSET(Очки!$A$20,2+E9-F9,IF(D9=1,13-E9,10+D9)),0) -> 0.7 | M9: 2 | O9: =OFFSET(Очки!$A$2,I9,G9+OFFSET(Очки!$A$18,0,$C$41-1)-1) -> 8.5 | P9: =IF(I9<H9,OFFSET(Очки!$A$20,2+H9-I9,IF(G9=1,13-H9,10+G9)),0) -> 0 | S9: =SUM(J9:R9) -> 26.2
A10: =RANK(S10,S$6:OFFSET(S$6,0,0,COUNTA(B$6:B$40))) -> 5 | B10: Францышко Андрей/Frantsishko Andrey | C10: 17.5 | D10: 1 | E10: 7 | F10: 10 | G10: 1 | H10: 3 | I10: 2 | J10: 1 | K10: =OFFSET(Очки!$A$2,F10,D10+OFFSET(Очки!$A$18,0,$C$41-1)-1) -> 8.5 | L10: =IF(F10<E10,OFFSET(Очки!$A$20,2+E10-F10,IF(D10=1,13-E10,10+D10)),0) -> 0 | O10: =OFFSET(Очки!$A$2,I10,G10+OFFSET(Очки!$A$18,0,$C$41-1)-1) -> 14 | P10: =IF(I10<H10,OFFSET(Очки!$A$20,2+H10-I10,IF(G10=1,13-H10,10+G10)),0) -> 0.7 | S10: =SUM(J10:R10) -> 24.2
A11: =RANK(S11,S$6:OFFSET(S$6,0,0,COUNTA(B$6:B$40))) -> 6 | B11: Доценко Анатолий / Dotsenko Anatoliy | C11: 10 | D11: 1 | E11: 5 | F11: 3 | G11: 1 | H11: 6 | I11: 4 | K11: =OFFSET(Очки!$A$2,F11,D11+OFFSET(Очки!$A$18,0,$C$41-1)-1) -> 13 | L11: =IF(F11<E11,OFFSET(Очки!$A$20,2+E11-F11,IF(D11=1,13-E11,10+D11)),0) -> 1.7 | M11: 0.5 | O11: =OFFSET(Очки!$A$2,I11,G11+OFFSET(Очки!$A$18,0,$C$41-1)-1) -> 12 | P11: =IF(I11<H11,OFFSET(Очки!$A$20,2+H11-I11,IF(G11=1,13-H11,10+G11)),0) -> 1.9 | R11: =-3-3 -> -6 | S11: =SUM(J11:R11) -> 23.1
A12: =RANK(S12,S$6:OFFSET(S$6,0,0,COUNTA(B$6:B$40))) -> 7 | B12: Фалько Константин/ Falko Konstantin | C12: - | D12: 1 | E12: 8 | F12: 7 | G12: 2 | H12: 6 | I12: 2 | J12: 1.5 | K12: =OFFSET(Очки!$A$2,F12,D12+OFFSET(Очки!$A$18,0,$C$41-1)-1) -> 10 | L12: =IF(F12<E12,OFFSET(Очки!$A$20,2+E12-F12,IF(D12=1,13-E12,10+D12)),0) -> 1.2 | N12: -3 | O12: =OFFSET(Очки!$A$2,I12,G12+OFFSET(Очки!$A$18,0,$C$41-1)-1) -> 8.5 | P12: =IF(I12<H12,OFFSET(Очки!$A$20,2+H12-I12,IF(G12=1,13-H12,10+G12)),0) -> 2.8 | Q12: 2 | S12: =SUM(J12:R12) -> 23
A13: =RANK(S13,S$6:OFFSET(S$6,0,0,COUNTA(B$6:B$40))) -> 8 | B13: Резников Иван / Reznikov Ivan | C13: - | D13: 1 | E13: 1 | F13: 4 | G13: 1 | H13: 2 | I13: 6 | K13: =OFFSET(Очки!$A$2,F13,D13+OFFSET(Очки!$A$18,0,$C$41-1)-1) -> 12 | L13: =IF(F13<E13,OFFSET(Очки!$A$20,2+E13-F13,IF(D13=1,13-E13,10+D13)),0) -> 0 | O13: =OFFSET(Очки!$A$2,I13,G13+OFFSET(Очки!$A$18,0,$C$41-1)-1) -> 10.5 | P13: =IF(I13<H13,OFFSET(Очки!$A$20,2+H13-I13,IF(G13=1,13-H13,10+G13)),0) -> 0 | S13: =SUM(J13:R13) -> 22.5
A14: =RANK(S14,S$6:OFFSET(S$6,0,0,COUNTA(B$6:B$40))) -> 8 | B14: Сомок Денис / Somok Denis | C14: 7.5 | D14: 2 | E14: 6 | F14: 5 | G14: 1 | H14: 8 | I14: 5 | K14: =OFFSET(Очки!$A$2,F14,D14+OFFSET(Очки!$A$18,0,$C$41-1)-1) -> 5.5 | L14: =IF(F14<E14,OFFSET(Очки!$A$20,2+E14-F14,IF(D14=1,13-E14,10+D14)),0) -> 0.7 | M14: 1.5 | O14: =OFFSET(Очки!$A$2,I14,G14+OFFSET(Очки!$A$18,0,$C$41-1)-1) -> 11 | P14: =IF(I14<H14,OFFSET(Очки!$A$20,2+H14-I14,IF(G14=1,13-H14,10+G14)),0) -> 3.3 | Q14: 0.5 | S14: =SUM(J14:R14) -> 22.5
A15: =RANK(S15,S$6:OFFSET(S$6,0,0,COUNTA(B$6:B$40))) -> 10 | B15: Криворучко Николаfй / Kryvoruchko Mykola | C15: 7.5 | D15: 1 | E15: 3 | F15: 5 | G15: 2 | H15: 8 | I15: 4 | K15: =OFFSET(Очки!$A$2,F15,D15+OFFSET(Очки!$A$18,0,$C$41-1)-1) -> 11 | L15: =IF(F15<E15,OFFSET(Очки!$A$20,2+E15-F15,IF(D15=1,13-E15,10+D15)),0) -> 0 | O15: =OFFSET(Очки!$A$2,I15,G15+OFFSET(Очки!$A$18,0,$C$41-1)-1) -> 6.5 | P15: =IF(I15<H15,OFFSET(Очки!$A$20,2+H15-I15,IF(G15=1,13-H15,10+G15)),0) -> 2.8 | Q15: 1.5 | S15: =SUM(J15:R15) -> 21.8
A16: =RANK(S16,S$6:OFFSET(S$6,0,0,COUNTA(B$6:B$40))) -> 11 | B16: Закаклюк Женя/ Zakaliuk Eugeniy | C16: - | D16: 2 | E16: 7 | F16: 4 | G16: 1 | H16: 1 | I16: 3 | K16: =OFFSET(Очки!$A$2,F16,D16+OFFSET(Очки!$A$18,0,$C$41-1)-1) -> 6.5 | L16: =IF(F16<E16,OFFSET(Очки!$A$20,2+E16-F16,IF(D16=1,13-E16,10+D16)),0) -> 2.1 | O16: =OFFSET(Очки!$A$2,I16,G16+OFFSET(Очки!$A$18,0,$C$41-1)-1) -> 13 | P16: =IF(I16<H16,OFFSET(Очки!$A$20,2+H16-I16,IF(G16=1,13-H16,10+G16)),0) -> 0 | S16: =SUM(J16:R16) -> 21.6
A17: =RANK(S17,S$6:OFFSET(S$6,0,0,COUNTA(B$6:B$40))) -> 12 | B17: Нечволод Олег/Nechvolod Oleg | C17: - | D17: 2 | E17: 5 | F17: 3 | G17: 1 | H17: 4 | I17: 8 | K17: =OFFSET(Очки!$A$2,F17,D17+OFFSET(Очки!$A$18,0,$C$41-1)-1) -> 7.5 | L17: =IF(F17<E17,OFFSET(Очки!$A$20,2+E17-F17,IF(D17=1,13-E17,10+D17)),0) -> 1.4 | O17: =OFFSET(Очки!$A$2,I17,G17+OFFSET(Очки!$A$18,0,$C$41-1)-1) -> 9.5 | P17: =IF(I17<H17,OFFSET(Очки!$A$20,2+H17-I17,IF(G17=1,13-H17,10+G17)),0) -> 0 | S17: =SUM(J17:R17) -> 18.4
A18: =RANK(S18,S$6:OFFSET(S$6,0,0,COUNTA(B$6:B$40))) -> 13 | B18: Гончаров Рома/Honcharov Roma | C18: 17.5 | D18: 2 | E18: 3 | F18: 1 | G18: 2 | H18: 7 | I18: 5 | K18: =OFFSET(Очки!$A$2,F18,D18+OFFSET(Очки!$A$18,0,$C$41-1)-1) -> 9.5 | L18: =IF(F18<E18,OFFSET(Очки!$A$20,2+E18-F18,IF(D18=1,13-E18,10+D18)),0) -> 1.4 | O18: =OFFSET(Очки!$A$2,I18,G18+OFFSET(Очки!$A$18,0,$C$41-1)-1) -> 5.5 | P18: =IF(I18<H18,OFFSET(Очки!$A$20,2+H18-I18,IF(G18=1,13-H18,10+G18)),0) -> 1.4 | S18: =SUM(J18:R18) -> 17.8
A19: =RANK(S19,S$6:OFFSET(S$6,0,0,COUNTA(B$6:B$40))) -> 14 | B19: Трихлеб Александр / Trihleb Alexsandr | C19: - | D19: 2 | E19: 8 | F19: 6 | G19: 2 | H19: 3 | I19: 1 | K19: =OFFSET(Очки!$A$2,F19,D19+OFFSET(Очки!$A$18,0,$C$41-1)-1) -> 5 | L19: =IF(F19<E19,OFFSET(Очки!$A$20,2+E19-F19,IF(D19=1,13-E19,10+D19)),0) -> 1.4 | O19: =OFFSET(Очки!$A$2,I19,G19+OFFSET(Очки!$A$18,0,$C$41-1)-1) -> 9.5 | P19: =IF(I19<H19,OFFSET(Очки!$A$20,2+H19-I19,IF(G19=1,13-H19,10+G19)),0) -> 1.4 | S19: =SUM(J19:R19) -> 17.3
A20: =RANK(S20,S$6:OFFSET(S$6,0,0,COUNTA(B$6:B$40))) -> 15 | B20: Яремкович Дмитрий / Yaremkovich Dmitriy | C20: - | D20: 1 | E20: 4 | F20: 8 | G20: 2 | H20: 5 | I20: 6 | K20: =OFFSET(Очки!$A$2,F20,D20+OFFSET(Очки!$A$18,0,$C$41-1)-1) -> 9.5 | L20: =IF(F20<E20,OFFSET(Очки!$A$20,2+E20-F20,IF(D20=1,13-E20,10+D20)),0) -> 0 | O20: =OFFSET(Очки!$A$2,I20,G20+OFFSET(Очки!$A$18,0,$C$41-1)-1) -> 5 | P20: =IF(I20<H20,OFFSET(Очки!$A$20,2+H20-I20,IF(G20=1,13-H20,10+G20)),0) -> 0 | S20: =SUM(J20:R20) -> 14.5
A21: =RANK(S21,S$6:OFFSET(S$6,0,0,COUNTA(B$6:B$40))) -> 16 | B21: Купцов Павел / Kuptsov Pavel | C21: - | D21: 2 | E21: 2 | F21: 2 | G21: 2 | H21: 4 | I21: 7 | K21: =OFFSET(Очки!$A$2,F21,D21+OFFSET(Очки!$A$18,0,$C$41-1)-1) -> 8.5 | L21: =IF(F21<E21,OFFSET(Очки!$A$20,2+E21-F21,IF(D21=1,13-E21,10+D21)),0) -> 0 | O21: =OFFSET(Очки!$A$2,I21,G21+OFFSET(Очки!$A$18,0,$C$41-1)-1) -> 4.5 | P21: =IF(I21<H21,OFFSET(Очки!$A$20,2+H21-I21,IF(G21=1,13-H21,10+G21)),0) -> 0 | S21: =SUM(J21:R21) -> 13
A22: =RANK(S22,S$6:OFFSET(S$6,0,0,COUNTA(B$6:B$40))) -> 17 | B22: Майбродский Миша / Maibrodskiy Mikhail | C22: 10 | D22: 2 | E22: 4 | F22: 8 | G22: 2 | H22: 2 | I22: 3 | K22: =OFFSET(Очки!$A$2,F22,D22+OFFSET(Очки!$A$18,0,$C$41-1)-1) -> 4 | L22: =IF(F22<E22,OFFSET(Очки!$A$20,2+E22-F22,IF(D22=1,13-E22,10+D22)),0) -> 0 | O22: =OFFSET(Очки!$A$2,I22,G22+OFFSET(Очки!$A$18,0,$C$41-1)-1) -> 7.5 | P22: =IF(I22<H22,OFFSET(Очки!$A$20,2+H22-I22,IF(G22=1,13-H22,10+G22)),0) -> 0 | S22: =SUM(J22:R22) -> 11.5
A23: =RANK(S23,S$6:OFFSET(S$6,0,0,COUNTA(B$6:B$40))) -> 18 | B23: Срибный Максим/Srybniy Maksim | C23: 12.5 | D23: 2 | E23: 1 | F23: 7 | G23: 2 | H23: 1 | I23: 8 | K23: =OFFSET(Очки!$A$2,F23,D23+OFFSET(Очки!$A$18,0,$C$41-1)-1) -> 4.5 | L23: =IF(F23<E23,OFFSET(Очки!$A$20,2+E23-F23,IF(D23=1,13-E23,10+D23)),0) -> 0 | O23: =OFFSET(Очки!$A$2,I23,G23+OFFSET(Очки!$A$18,0,$C$41-1)-1) -> 4 | P23: =IF(I23<H23,OFFSET(Очки!$A$20,2+H23-I23,IF(G23=1,13-H23,10+G23)),0) -> 0 | S23: =SUM(J23:R23) -> 8.5
A24: =RANK(S24,S$6:OFFSET(S$6,0,0,COUNTA(B$6:B$40))) -> 19 | B24: Романов Коля/Romanov Nikolay | C24: - | D24: 2 | E24: 9 | F24: 9 | G24: 2 | H24: 9 | I24: 9 | K24: =OFFSET(Очки!$A$2,F24,D24+OFFSET(Очки!$A$18,0,$C$41-1)-1) -> 3.5 | L24: =IF(F24<E24,OFFSET(Очки!$A$20,2+E24-F24,IF(D24=1,13-E24,10+D24)),0) -> 0 | O24: =OFFSET(Очки!$A$2,I24,G24+OFFSET(Очки!$A$18,0,$C$41-1)-1) -> 3.5 | P24: =IF(I24<H24,OFFSET(Очки!$A$20,2+H24-I24,IF(G24=1,13-H24,10+G24)),0) -> 0 | S24: =SUM(J24:R24) -> 7
A25: =RANK(S25,S$6:OFFSET(S$6,0,0,COUNTA(B$6:B$40))) -> #N/A | K25: =OFFSET(Очки!$A$2,F25,D25+OFFSET(Очки!$A$18,0,$C$41-1)-1) -> 0 | L25: =IF(F25<E25,OFFSET(Очки!$A$20,2+E25-F25,IF(D25=1,13-E25,10+D25)),0) -> 0 | O25: =OFFSET(Очки!$A$2,I25,G25+OFFSET(Очки!$A$18,0,$C$41-1)-1) -> 0 | P25: =IF(I25<H25,OFFSET(Очки!$A$20,2+H25-I25,IF(G25=1,13-H25,10+G25)),0) -> 0 | S25: =SUM(J25:R25) -> 0
A26: =RANK(S26,S$6:OFFSET(S$6,0,0,COUNTA(B$6:B$40))) -> #N/A | K26: =OFFSET(Очки!$A$2,F26,D26+OFFSET(Очки!$A$18,0,$C$41-1)-1) -> 0 | L26: =IF(F26<E26,OFFSET(Очки!$A$20,2+E26-F26,IF(D26=1,13-E26,10+D26)),0) -> 0 | O26: =OFFSET(Очки!$A$2,I26,G26+OFFSET(Очки!$A$18,0,$C$41-1)-1) -> 0 | P26: =IF(I26<H26,OFFSET(Очки!$A$20,2+H26-I26,IF(G26=1,13-H26,10+G26)),0) -> 0 | S26: =SUM(J26:R26) -> 0
A27: =RANK(S27,S$6:OFFSET(S$6,0,0,COUNTA(B$6:B$40))) -> #N/A | K27: =OFFSET(Очки!$A$2,F27,D27+OFFSET(Очки!$A$18,0,$C$41-1)-1) -> 0 | L27: =IF(F27<E27,OFFSET(Очки!$A$20,2+E27-F27,IF(D27=1,13-E27,10+D27)),0) -> 0 | O27: =OFFSET(Очки!$A$2,I27,G27+OFFSET(Очки!$A$18,0,$C$41-1)-1) -> 0 | P27: =IF(I27<H27,OFFSET(Очки!$A$20,2+H27-I27,IF(G27=1,13-H27,10+G27)),0) -> 0 | S27: =SUM(J27:R27) -> 0
A28: =RANK(S28,S$6:OFFSET(S$6,0,0,COUNTA(B$6:B$40))) -> #N/A | K28: =OFFSET(Очки!$A$2,F28,D28+OFFSET(Очки!$A$18,0,$C$41-1)-1) -> 0 | L28: =IF(F28<E28,OFFSET(Очки!$A$20,2+E28-F28,IF(D28=1,13-E28,10+D28)),0) -> 0 | O28: =OFFSET(Очки!$A$2,I28,G28+OFFSET(Очки!$A$18,0,$C$41-1)-1) -> 0 | P28: =IF(I28<H28,OFFSET(Очки!$A$20,2+H28-I28,IF(G28=1,13-H28,10+G28)),0) -> 0 | S28: =SUM(J28:R28) -> 0
A29: =RANK(S29,S$6:OFFSET(S$6,0,0,COUNTA(B$6:B$40))) -> #N/A | K29: =OFFSET(Очки!$A$2,F29,D29+OFFSET(Очки!$A$18,0,$C$41-1)-1) -> 0 | L29: =IF(F29<E29,OFFSET(Очки!$A$20,2+E29-F29,IF(D29=1,13-E29,10+D29)),0) -> 0 | O29: =OFFSET(Очки!$A$2,I29,G29+OFFSET(Очки!$A$18,0,$C$41-1)-1) -> 0 | P29: =IF(I29<H29,OFFSET(Очки!$A$20,2+H29-I29,IF(G29=1,13-H29,10+G29)),0) -> 0 | S29: =SUM(J29:R29) -> 0
A30: =RANK(S30,S$6:OFFSET(S$6,0,0,COUNTA(B$6:B$40))) -> #N/A | K30: =OFFSET(Очки!$A$2,F30,D30+OFFSET(Очки!$A$18,0,$C$41-1)-1) -> 0 | L30: =IF(F30<E30,OFFSET(Очки!$A$20,2+E30-F30,IF(D30=1,13-E30,10+D30)),0) -> 0 | O30: =OFFSET(Очки!$A$2,I30,G30+OFFSET(Очки!$A$18,0,$C$41-1)-1) -> 0 | P30: =IF(I30<H30,OFFSET(Очки!$A$20,2+H30-I30,IF(G30=1,13-H30,10+G30)),0) -> 0 | S30: =SUM(J30:R30) -> 0
A31: =RANK(S31,S$6:OFFSET(S$6,0,0,COUNTA(B$6:B$40))) -> #N/A | K31: =OFFSET(Очки!$A$2,F31,D31+OFFSET(Очки!$A$18,0,$C$41-1)-1) -> 0 | L31: =IF(F31<E31,OFFSET(Очки!$A$20,2+E31-F31,IF(D31=1,13-E31,10+D31)),0) -> 0 | O31: =OFFSET(Очки!$A$2,I31,G31+OFFSET(Очки!$A$18,0,$C$41-1)-1) -> 0 | P31: =IF(I31<H31,OFFSET(Очки!$A$20,2+H31-I31,IF(G31=1,13-H31,10+G31)),0) -> 0 | S31: =SUM(J31:R31) -> 0
A32: =RANK(S32,S$6:OFFSET(S$6,0,0,COUNTA(B$6:B$40))) -> #N/A | K32: =OFFSET(Очки!$A$2,F32,D32+OFFSET(Очки!$A$18,0,$C$41-1)-1) -> 0 | L32: =IF(F32<E32,OFFSET(Очки!$A$20,2+E32-F32,IF(D32=1,13-E32,10+D32)),0) -> 0 | O32: =OFFSET(Очки!$A$2,I32,G32+OFFSET(Очки!$A$18,0,$C$41-1)-1) -> 0 | P32: =IF(I32<H32,OFFSET(Очки!$A$20,2+H32-I32,IF(G32=1,13-H32,10+G32)),0) -> 0 | S32: =SUM(J32:R32) -> 0
A33: =RANK(S33,S$6:OFFSET(S$6,0,0,COUNTA(B$6:B$40))) -> #N/A | K33: =OFFSET(Очки!$A$2,F33,D33+OFFSET(Очки!$A$18,0,$C$41-1)-1) -> 0 | L33: =IF(F33<E33,OFFSET(Очки!$A$20,2+E33-F33,IF(D33=1,13-E33,10+D33)),0) -> 0 | O33: =OFFSET(Очки!$A$2,I33,G33+OFFSET(Очки!$A$18,0,$C$41-1)-1) -> 0 | P33: =IF(I33<H33,OFFSET(Очки!$A$20,2+H33-I33,IF(G33=1,13-H33,10+G33)),0) -> 0 | S33: =SUM(J33:R33) -> 0
A34: =RANK(S34,S$6:OFFSET(S$6,0,0,COUNTA(B$6:B$40))) -> #N/A | K34: =OFFSET(Очки!$A$2,F34,D34+OFFSET(Очки!$A$18,0,$C$41-1)-1) -> 0 | L34: =IF(F34<E34,OFFSET(Очки!$A$20,2+E34-F34,IF(D34=1,13-E34,10+D34)),0) -> 0 | O34: =OFFSET(Очки!$A$2,I34,G34+OFFSET(Очки!$A$18,0,$C$41-1)-1) -> 0 | P34: =IF(I34<H34,OFFSET(Очки!$A$20,2+H34-I34,IF(G34=1,13-H34,10+G34)),0) -> 0 | S34: =SUM(J34:R34) -> 0
A35: =RANK(S35,S$6:OFFSET(S$6,0,0,COUNTA(B$6:B$40))) -> #N/A | K35: =OFFSET(Очки!$A$2,F35,D35+OFFSET(Очки!$A$18,0,$C$41-1)-1) -> 0 | L35: =IF(F35<E35,OFFSET(Очки!$A$20,2+E35-F35,IF(D35=1,13-E35,10+D35)),0) -> 0 | O35: =OFFSET(Очки!$A$2,I35,G35+OFFSET(Очки!$A$18,0,$C$41-1)-1) -> 0 | P35: =IF(I35<H35,OFFSET(Очки!$A$20,2+H35-I35,IF(G35=1,13-H35,10+G35)),0) -> 0 | S35: =SUM(J35:R35) -> 0
A36: =RANK(S36,S$6:OFFSET(S$6,0,0,COUNTA(B$6:B$40))) -> #N/A | K36: =OFFSET(Очки!$A$2,F36,D36+OFFSET(Очки!$A$18,0,$C$41-1)-1) -> 0 | L36: =IF(F36<E36,OFFSET(Очки!$A$20,2+E36-F36,IF(D36=1,13-E36,10+D36)),0) -> 0 | O36: =OFFSET(Очки!$A$2,I36,G36+OFFSET(Очки!$A$18,0,$C$41-1)-1) -> 0 | P36: =IF(I36<H36,OFFSET(Очки!$A$20,2+H36-I36,IF(G36=1,13-H36,10+G36)),0) -> 0 | S36: =SUM(J36:R36) -> 0
... A40: =RANK(S40,S$6:OFFSET(S$6,0,0,COUNTA(B$6:B$40))) -> #N/A | K40: =OFFSET(Очки!$A$2,F40,D40+OFFSET(Очки!$A$18,0,$C$41-1)-1) -> 0 | L40: =IF(F40<E40,OFFSET(Очки!$A$20,2+E40-F40,IF(D40=1,13-E40,10+D40)),0) -> 0 | O40: =OFFSET(Очки!$A$2,I40,G40+OFFSET(Очки!$A$18,0,$C$41-1)-1) -> 0 | P40: =IF(I40<H40,OFFSET(Очки!$A$20,2+H40-I40,IF(G40=1,13-H40,10+G40)),0) -> 0 | S40: =SUM(J40:R40) -> 0
B41: Всего участников | C41: =COUNTA(B6:B40) -> 19

Sheet 29.05
A1: Лайт Лига 29.05.2018 (конфигурация 6R)
A3: Место | B3: Участник | D3: 1 | G3: 2 | J3: Очки | S3: Сумма
C4: Довес | D4: группа | E4: Старт | F4: Финиш | G4: группа | H4: Старт | I4: Финиш | J4: Квала | K4: 1 | O4: 2
K5: очки | L5: обгоны | M5: время | N5: штрафы | O5: очки | P5: обгоны | Q5: время | R5: штрафы
A6: =RANK(S6,S$6:OFFSET(S$6,0,0,COUNTA(B$6:B$40))) -> 1 | B6: Фалько Константин/ Falko Konstantin | C6: - | D6: 1 | E6: 2 | F6: 1 | G6: 1 | H6: 11 | I6: 5 | K6: =OFFSET(Очки!$A$2,F6,D6+OFFSET(Очки!$A$18,0,$C$41-1)-1) -> 17 | L6: =IF(F6<E6,OFFSET(Очки!$A$20,2+E6-F6,IF(D6=1,13-E6,10+D6)),0) -> 0.7 | M6: 2.5 | O6: =OFFSET(Очки!$A$2,I6,G6+OFFSET(Очки!$A$18,0,$C$41-1)-1) -> 13 | P6: =IF(I6<H6,OFFSET(Очки!$A$20,2+H6-I6,IF(G6=1,13-H6,10+G6)),0) -> 7 | Q6: 2 | S6: =SUM(J6:R6) -> 42.2
A7: =RANK(S7,S$6:OFFSET(S$6,0,0,COUNTA(B$6:B$40))) -> 2 | B7: Шиленко Александр/Shylenko Aleksandr | C7: - | D7: 1 | E7: 6 | F7: 2 | G7: 1 | H7: 4 | I7: 2 | K7: =OFFSET(Очки!$A$2,F7,D7+OFFSET(Очки!$A$18,0,$C$41-1)-1) -> 16 | L7: =IF(F7<E7,OFFSET(Очки!$A$20,2+E7-F7,IF(D7=1,13-E7,10+D7)),0) -> 3.4 | O7: =OFFSET(Очки!$A$2,I7,G7+OFFSET(Очки!$A$18,0,$C$41-1)-1) -> 16 | P7: =IF(I7<H7,OFFSET(Очки!$A$20,2+H7-I7,IF(G7=1,13-H7,10+G7)),0) -> 1.5 | Q7: 2.5 | S7: =SUM(J7:R7) -> 39.4
A8: 2 | B8: Яценко Владимир / Volodymyr Yatsenko | C8: 12.5 | D8: 1 | E8: 9 | F8: 8 | G8: 1 | H8: 5 | I8: 1 | J8: 1.5 | K8: =OFFSET(Очки!$A$2,F8,D8+OFFSET(Очки!$A$18,0,$C$41-1)-1) -> 11.5 | L8: =IF(F8<E8,OFFSET(Очки!$A$20,2+E8-F8,IF(D8=1,13-E8,10+D8)),0) -> 1.2 | O8: =OFFSET(Очки!$A$2,I8,G8+OFFSET(Очки!$A$18,0,$C$41-1)-1) -> 17 | P8: =IF(I8<H8,OFFSET(Очки!$A$20,2+H8-I8,IF(G8=1,13-H8,10+G8)),0) -> 3.1 | Q8: 1 | S8: =SUM(J8:R8) -> 35.3
A9: 3 | B9: Ткаченко Кирилл / Tkachenko Kirill | C9: 5 | D9: 1 | E9: 11 | F9: 10 | G9: 1 | H9: 7 | I9: 4 | J9: 2.5 | K9: =OFFSET(Очки!$A$2,F9,D9+OFFSET(Очки!$A$18,0,$C$41-1)-1) -> 10.5 | L9: =IF(F9<E9,OFFSET(Очки!$A$20,2+E9-F9,IF(D9=1,13-E9,10+D9)),0) -> 1.3 | M9: 0.5 | O9: =OFFSET(Очки!$A$2,I9,G9+OFFSET(Очки!$A$18,0,$C$41-1)-1) -> 14 | P9: =IF(I9<H9,OFFSET(Очки!$A$20,2+H9-I9,IF(G9=1,13-H9,10+G9)),0) -> 3 | Q9: 0.5 | S9: =SUM(J9:R9) -> 32.3
A10: 4 | B10: Фурсов Никита / Fursov Nikita | C10: - | D10: 1 | E10: 5 | F10: 4 | G10: 1 | H10: 2 | I10: 3 | K10: =OFFSET(Очки!$A$2,F10,D10+OFFSET(Очки!$A$18,0,$C$41-1)-1) -> 14 | L10: =IF(F10<E10,OFFSET(Очки!$A$20,2+E10-F10,IF(D10=1,13-E10,10+D10)),0) -> 0.9 | O10: =OFFSET(Очки!$A$2,I10,G10+OFFSET(Очки!$A$18,0,$C$41-1)-1) -> 15 | P10: =IF(I10<H10,OFFSET(Очки!$A$20,2+H10-I10,IF(G10=1,13-H10,10+G10)),0) -> 0 | S10: =SUM(J10:R10) -> 29.9
A11: 5 | B11: Закаклюк Женя/ Zakaliuk Eugeniy | C11: - | D11: 1 | E11: 1 | F11: 3 | G11: 2 | H11: 11 | I11: 6 | K11: =OFFSET(Очки!$A$2,F11,D11+OFFSET(Очки!$A$18,0,$C$41-1)-1) -> 15 | L11: =IF(F11<E11,OFFSET(Очки!$A$20,2+E11-F11,IF(D11=1,13-E11,10+D11)),0) -> 0 | O11: =OFFSET(Очки!$A$2,I11,G11+OFFSET(Очки!$A$18,0,$C$41-1)-1) -> 7 | P11: =IF(I11<H11,OFFSET(Очки!$A$20,2+H11-I11,IF(G11=1,13-H11,10+G11)),0) -> 3.5 | S11: =SUM(J11:R11) -> 25.5
A12: 6 | B12: Крутоголов Павел/Krutogolov Pavel | C12: - | D12: 2 | E12: 7 | F12: 1 | G12: 1 | H12: 8 | I12: 10 | K12: =OFFSET(Очки!$A$2,F12,D12+OFFSET(Очки!$A$18,0,$C$41-1)-1) -> 11.5 | L12: =IF(F12<E12,OFFSET(Очки!$A$20,2+E12-F12,IF(D12=1,13-E12,10+D12)),0) -> 4.2 | M12: 1 | N12: -4 | O12: =OFFSET(Очки!$A$2,I12,G12+OFFSET(Очки!$A$18,0,$C$41-1)-1) -> 10.5 | P12: =IF(I12<H12,OFFSET(Очки!$A$20,2+H12-I12,IF(G12=1,13-H12,10+G12)),0) -> 0 | Q12: 1.5 | S12: =SUM(J12:R12) -> 24.7
A13: 7 | B13: Якусик Дима / Yakusik Dima | C13: 7.5 | D13: 1 | E13: 10 | F13: 9 | G13: 1 | H13: 9 | I13: 7 | J13: 2 | K13: =OFFSET(Очки!$A$2,F13,D13+OFFSET(Очки!$A$18,0,$C$41-1)-1) -> 11 | L13: =IF(F13<E13,OFFSET(Очки!$A$20,2+E13-F13,IF(D13=1,13-E13,10+D13)),0) -> 1.2 | M13: 1.5 | N13: -3 | O13: =OFFSET(Очки!$A$2,I13,G13+OFFSET(Очки!$A$18,0,$C$41-1)-1) -> 12 | P13: =IF(I13<H13,OFFSET(Очки!$A$20,2+H13-I13,IF(G13=1,13-H13,10+G13)),0) -> 2.4 | R13: -3 | S13: =SUM(J13:R13) -> 24.1
A14: 8 | B14: Гончаров Роман/Hopncharov Roman | D14: 1 | E14: 4 | F14: 7 | G14: 1 | H14: 3 | I14: 8 | K14: =OFFSET(Очки!$A$2,F14,D14+OFFSET(Очки!$A$18,0,$C$41-1)-1) -> 12 | L14: =IF(F14<E14,OFFSET(Очки!$A$20,2+E14-F14,IF(D14=1,13-E14,10+D14)),0) -> 0 | O14: =OFFSET(Очки!$A$2,I14,G14+OFFSET(Очки!$A$18,0,$C$41-1)-1) -> 11.5 | P14: =IF(I14<H14,OFFSET(Очки!$A$20,2+H14-I14,IF(G14=1,13-H14,10+G14)),0) -> 0 | S14: =SUM(J14:R14) -> 23.5
A15: 9 | B15: Кошарук Женя/Kosharuk Eugene | C15: - | D15: 1 | E15: 7 | F15: 5 | G15: 1 | H15: 6 | I15: 7 | J15: 0.5 | K15: =OFFSET(Очки!$A$2,F15,D15+OFFSET(Очки!$A$18,0,$C$41-1)-1) -> 13 | L15: =IF(F15<E15,OFFSET(Очки!$A$20,2+E15-F15,IF(D15=1,13-E15,10+D15)),0) -> 2.1 | O15: =OFFSET(Очки!$A$2,I15,G15+OFFSET(Очки!$A$18,0,$C$41-1)-1) -> 12 | P15: =IF(I15<H15,OFFSET(Очки!$A$20,2+H15-I15,IF(G15=1,13-H15,10+G15)),0) -> 0 | R15: =-3-3 -> -6 | S15: =SUM(J15:R15) -> 21.6
A16: 10 | B16: Криворучко Николай / Kryvoruchko Mykola | C16: 7.5 | D16: 1 | E16: 3 | F16: 10 | G16: 2 | H16: 10 | I16: 4 | K16: =OFFSET(Очки!$A$2,F16,D16+OFFSET(Очки!$A$18,0,$C$41-1)-1) -> 10.5 | L16: =IF(F16<E16,OFFSET(Очки!$A$20,2+E16-F16,IF(D16=1,13-E16,10+D16)),0) -> 0 | O16: =OFFSET(Очки!$A$2,I16,G16+OFFSET(Очки!$A$18,0,$C$41-1)-1) -> 8.5 | P16: =IF(I16<H16,OFFSET(Очки!$A$20,2+H16-I16,IF(G16=1,13-H16,10+G16)),0) -> 4.2 | R16: -3 | S16: =SUM(J16:R16) -> 20.2
A17: 11 | B17: Муляр Андрей / Mular Andrew | D17: 2 | E17: 8 | F17: 5 | G17: 2 | H17: 9 | I17: 5 | K17: =OFFSET(Очки!$A$2,F17,D17+OFFSET(Очки!$A$18,0,$C$41-1)-1) -> 7.5 | L17: =IF(F17<E17,OFFSET(Очки!$A$20,2+E17-F17,IF(D17=1,13-E17,10+D17)),0) -> 2.1 | O17: =OFFSET(Очки!$A$2,I17,G17+OFFSET(Очки!$A$18,0,$C$41-1)-1) -> 7.5 | P17: =IF(I17<H17,OFFSET(Очки!$A$20,2+H17-I17,IF(G17=1,13-H17,10+G17)),0) -> 2.8 | S17: =SUM(J17:R17) -> 19.9
A18: 12 | B18: Тамберг Александр / Tamberg Aleksandr | C18: - | D18: 1 | E18: 8 | F18: 6 | G18: 1 | H18: 10 | I18: 10 | J18: 1 | K18: =OFFSET(Очки!$A$2,F18,D18+OFFSET(Очки!$A$18,0,$C$41-1)-1) -> 12.5 | L18: =IF(F18<E18,OFFSET(Очки!$A$20,2+E18-F18,IF(D18=1,13-E18,10+D18)),0) -> 2.3 | M18: 2 | O18: =OFFSET(Очки!$A$2,I18,G18+OFFSET(Очки!$A$18,0,$C$41-1)-1) -> 10.5 | P18: =IF(I18<H18,OFFSET(Очки!$A$20,2+H18-I18,IF(G18=1,13-H18,10+G18)),0) -> 0 | R18: =-5-4 -> -9 | S18: =SUM(J18:R18) -> 19.3
A19: 13 | B19: Доценко Анатолий / Dotsenko Anatoliy | C19: 10 | D19: 2 | E19: 9 | F19: 3 | G19: 2 | H19: 1 | I19: 3 | K19: =OFFSET(Очки!$A$2,F19,D19+OFFSET(Очки!$A$18,0,$C$41-1)-1) -> 9.5 | L19: =IF(F19<E19,OFFSET(Очки!$A$20,2+E19-F19,IF(D19=1,13-E19,10+D19)),0) -> 4.2 | N19: -4 | O19: =OFFSET(Очки!$A$2,I19,G19+OFFSET(Очки!$A$18,0,$C$41-1)-1) -> 9.5 | P19: =IF(I19<H19,OFFSET(Очки!$A$20,2+H19-I19,IF(G19=1,13-H19,10+G19)),0) -> 0 | S19: =SUM(J19:R19) -> 19.2
A20: 14 | B20: Лесников Александр/Lesnikov Alekasandr | C20: 2.5 | D20: 2 | E20: 2 | F20: 4 | G20: 2 | H20: 2 | I20: 1 | K20: =OFFSET(Очки!$A$2,F20,D20+OFFSET(Очки!$A$18,0,$C$41-1)-1) -> 8.5 | L20: =IF(F20<E20,OFFSET(Очки!$A$20,2+E20-F20,IF(D20=1,13-E20,10+D20)),0) -> 0 | N20: -3 | O20: =OFFSET(Очки!$A$2,I20,G20+OFFSET(Очки!$A$18,0,$C$41-1)-1) -> 11.5 | P20: =IF(I20<H20,OFFSET(Очки!$A$20,2+H20-I20,IF(G20=1,13-H20,10+G20)),0) -> 0.7 | S20: =SUM(J20:R20) -> 17.7
A21: 15 | B21: Трихлеб Александр / Trihleb Alexsandr | C21: - | D21: 2 | E21: 10 | F21: 6 | G21: 2 | H21: 3 | I21: 10 | K21: =OFFSET(Очки!$A$2,F21,D21+OFFSET(Очки!$A$18,0,$C$41-1)-1) -> 7 | L21: =IF(F21<E21,OFFSET(Очки!$A$20,2+E21-F21,IF(D21=1,13-E21,10+D21)),0) -> 2.8 | O21: =OFFSET(Очки!$A$2,I21,G21+OFFSET(Очки!$A$18,0,$C$41-1)-1) -> 5 | P21: =IF(I21<H21,OFFSET(Очки!$A$20,2+H21-I21,IF(G21=1,13-H21,10+G21)),0) -> 0 | S21: =SUM(J21:R21) -> 14.8
A22: 16 | B22: Ольшанский Константин/Olshanskiy Konstantin | C22: 20 | D22: 2 | E22: 3 | F22: 5 | G22: 2 | H22: 5 | I22: 7 | K22: =OFFSET(Очки!$A$2,F22,D22+OFFSET(Очки!$A$18,0,$C$41-1)-1) -> 7.5 | L22: =IF(F22<E22,OFFSET(Очки!$A$20,2+E22-F22,IF(D22=1,13-E22,10+D22)),0) -> 0 | O22: =OFFSET(Очки!$A$2,I22,G22+OFFSET(Очки!$A$18,0,$C$41-1)-1) -> 6.5 | P22: =IF(I22<H22,OFFSET(Очки!$A$20,2+H22-I22,IF(G22=1,13-H22,10+G22)),0) -> 0 | S22: =SUM(J22:R22) -> 14
A23: 17 | B23: Клименко Дмитрий / Klymenko Dmytro | C23: 2.5 | D23: 2 | E23: 5 | F23: 10 | G23: 1 | H23: 1 | I23: 6 | K23: =OFFSET(Очки!$A$2,F23,D23+OFFSET(Очки!$A$18,0,$C$41-1)-1) -> 5 | L23: =IF(F23<E23,OFFSET(Очки!$A$20,2+E23-F23,IF(D23=1,13-E23,10+D23)),0) -> 0 | N23: -4 | O23: =OFFSET(Очки!$A$2,I23,G23+OFFSET(Очки!$A$18,0,$C$41-1)-1) -> 12.5 | P23: =IF(I23<H23,OFFSET(Очки!$A$20,2+H23-I23,IF(G23=1,13-H23,10+G23)),0) -> 0 | S23: =SUM(J23:R23) -> 13.5
A24: 18 | B24: Купцов Павел / Kuptsov Pavel | C24: - | D24: 3 | E24: 5 | F24: 2 | G24: 2 | H24: 4 | I24: 8 | K24: =OFFSET(Очки!$A$2,F24,D24+OFFSET(Очки!$A$18,0,$C$41-1)-1) -> 5 | L24: =IF(F24<E24,OFFSET(Очки!$A$20,2+E24-F24,IF(D24=1,13-E24,10+D24)),0) -> 1.5 | O24: =OFFSET(Очки!$A$2,I24,G24+OFFSET(Очки!$A$18,0,$C$41-1)-1) -> 6 | P24: =IF(I24<H24,OFFSET(Очки!$A$20,2+H24-I24,IF(G24=1,13-H24,10+G24)),0) -> 0 | S24: =SUM(J24:R24) -> 12.5
A25: 19 | B25: Черевко Владимир/ Cherevko Vladimir | C25: 20 | D25: 2 | E25: 1 | F25: 2 | G25: 3 | H25: 7 | I25: 6 | K25: =OFFSET(Очки!$A$2,F25,D25+OFFSET(Очки!$A$18,0,$C$41-1)-1) -> 10.5 | L25: =IF(F25<E25,OFFSET(Очки!$A$20,2+E25-F25,IF(D25=1,13-E25,10+D25)),0) -> 0 | O25: =OFFSET(Очки!$A$2,I25,G25+OFFSET(Очки!$A$18,0,$C$41-1)-1) -> 1.5 | P25: =IF(I25<H25,OFFSET(Очки!$A$20,2+H25-I25,IF(G25=1,13-H25,10+G25)),0) -> 0.5 | S25: =SUM(J25:R25) -> 12.5
A26: 20 | B26: Сомок Денис / Somok Denis | C26: 7.5 | D26: 2 | E26: 6 | F26: 8 | G26: 2 | H26: 6 | I26: 2 | K26: =OFFSET(Очки!$A$2,F26,D26+OFFSET(Очки!$A$18,0,$C$41-1)-1) -> 6 | L26: =IF(F26<E26,OFFSET(Очки!$A$20,2+E26-F26,IF(D26=1,13-E26,10+D26)),0) -> 0 | N26: -3 | O26: =OFFSET(Очки!$A$2,I26,G26+OFFSET(Очки!$A$18,0,$C$41-1)-1) -> 10.5 | P26: =IF(I26<H26,OFFSET(Очки!$A$20,2+H26-I26,IF(G26=1,13-H26,10+G26)),0) -> 2.8 | R26: -4 | S26: =SUM(J26:R26) -> 12.3
A27: 21 | B27: Резников Иван / Reznikov Ivan | C27: - | D27: 3 | E27: 6 | F27: 5 | G27: 3 | H27: 8 | I27: 3 | K27: =OFFSET(Очки!$A$2,F27,D27+OFFSET(Очки!$A$18,0,$C$41-1)-1) -> 2 | L27: =IF(F27<E27,OFFSET(Очки!$A$20,2+E27-F27,IF(D27=1,13-E27,10+D27)),0) -> 0.5 | O27: =OFFSET(Очки!$A$2,I27,G27+OFFSET(Очки!$A$18,0,$C$41-1)-1) -> 4 | P27: =IF(I27<H27,OFFSET(Очки!$A$20,2+H27-I27,IF(G27=1,13-H27,10+G27)),0) -> 2.5 | S27: =SUM(J27:R27) -> 9
A28: 22 | B28: Козодой Александр / Kozodoy Alexandr | C28: 7.5 | D28: 2 | E28: 11 | F28: 10 | G28: 2 | H28: 7 | I28: 8 | K28: =OFFSET(Очки!$A$2,F28,D28+OFFSET(Очки!$A$18,0,$C$41-1)-1) -> 5 | L28: =IF(F28<E28,OFFSET(Очки!$A$20,2+E28-F28,IF(D28=1,13-E28,10+D28)),0) -> 0.7 | O28: =OFFSET(Очки!$A$2,I28,G28+OFFSET(Очки!$A$18,0,$C$41-1)-1) -> 6 | P28: =IF(I28<H28,OFFSET(Очки!$A$20,2+H28-I28,IF(G28=1,13-H28,10+G28)),0) -> 0 | R28: -4 | S28: =SUM(J28:R28) -> 7.7
A29: 23 | B29: Макаренко Александр/Makarenko Aleksandr | D29: 3 | E29: 2 | F29: 1 | G29: 3 | H29: 5 | I29: 4 | K29: =OFFSET(Очки!$A$2,F29,D29+OFFSET(Очки!$A$18,0,$C$41-1)-1) -> 6 | L29: =IF(F29<E29,OFFSET(Очки!$A$20,2+E29-F29,IF(D29=1,13-E29,10+D29)),0) -> 0.5 | O29: =OFFSET(Очки!$A$2,I29,G29+OFFSET(Очки!$A$18,0,$C$41-1)-1) -> 3 | P29: =IF(I29<H29,OFFSET(Очки!$A$20,2+H29-I29,IF(G29=1,13-H29,10+G29)),0) -> 0.5 | R29: -3 | S29: =SUM(J29:R29) -> 7
A30: 24 | B30: Загирський Антон/Zahirskiy Anton | C30: - | D30: 2 | E30: 4 | F30: 8 | G30: 3 | H30: 4 | I30: 1 | K30: =OFFSET(Очки!$A$2,F30,D30+OFFSET(Очки!$A$18,0,$C$41-1)-1) -> 6 | L30: =IF(F30<E30,OFFSET(Очки!$A$20,2+E30-F30,IF(D30=1,13-E30,10+D30)),0) -> 0 | O30: =OFFSET(Очки!$A$2,I30,G30+OFFSET(Очки!$A$18,0,$C$41-1)-1) -> 6 | P30: =IF(I30<H30,OFFSET(Очки!$A$20,2+H30-I30,IF(G30=1,13-H30,10+G30)),0) -> 1.5 | R30: =-3-4 -> -7 | S30: =SUM(J30:R30) -> 6.5
A31: 24 | B31: Юзенко Антон/ Uzenko Anton | D31: 3 | E31: 1 | F31: 6 | G31: 3 | H31: 2 | I31: 2 | K31: =OFFSET(Очки!$A$2,F31,D31+OFFSET(Очки!$A$18,0,$C$41-1)-1) -> 1.5 | L31: =IF(F31<E31,OFFSET(Очки!$A$20,2+E31-F31,IF(D31=1,13-E31,10+D31)),0) -> 0 | O31: =OFFSET(Очки!$A$2,I31,G31+OFFSET(Очки!$A$18,0,$C$41-1)-1) -> 5 | P31: =IF(I31<H31,OFFSET(Очки!$A$20,2+H31-I31,IF(G31=1,13-H31,10+G31)),0) -> 0 | S31: =SUM(J31:R31) -> 6.5
A32: 26 | B32: Климчук Евгений/Klimchuk Eugeniy | C32: - | D32: 3 | E32: 7 | F32: 3 | G32: 2 | H32: 8 | I32: 10 | K32: =OFFSET(Очки!$A$2,F32,D32+OFFSET(Очки!$A$18,0,$C$41-1)-1) -> 4 | L32: =IF(F32<E32,OFFSET(Очки!$A$20,2+E32-F32,IF(D32=1,13-E32,10+D32)),0) -> 2 | O32: =OFFSET(Очки!$A$2,I32,G32+OFFSET(Очки!$A$18,0,$C$41-1)-1) -> 5 | P32: =IF(I32<H32,OFFSET(Очки!$A$20,2+H32-I32,IF(G32=1,13-H32,10+G32)),0) -> 0 | R32: -5 | S32: =SUM(J32:R32) -> 6
A33: 27 | B33: Михайлик Михайло /Mykhailyk Michael | C33: 20 | D33: 3 | E33: 4 | F33: 4 | G33: 3 | H33: 6 | I33: 9 | K33: =OFFSET(Очки!$A$2,F33,D33+OFFSET(Очки!$A$18,0,$C$41-1)-1) -> 3 | L33: =IF(F33<E33,OFFSET(Очки!$A$20,2+E33-F33,IF(D33=1,13-E33,10+D33)),0) -> 0 | O33: =OFFSET(Очки!$A$2,I33,G33+OFFSET(Очки!$A$18,0,$C$41-1)-1) -> 0 | P33: =IF(I33<H33,OFFSET(Очки!$A$20,2+H33-I33,IF(G33=1,13-H33,10+G33)),0) -> 0 | S33: =SUM(J33:R33) -> 3
A34: 28 | B34: Ильяшенко Владимир/ Iliashenko Vladimir | C34: 2.5 | D34: 3 | E34: 8 | F34: 8 | G34: 3 | H34: 1 | I34: 5 | K34: =OFFSET(Очки!$A$2,F34,D34+OFFSET(Очки!$A$18,0,$C$41-1)-1) -> 0.5 | L34: =IF(F34<E34,OFFSET(Очки!$A$20,2+E34-F34,IF(D34=1,13-E34,10+D34)),0) -> 0 | O34: =OFFSET(Очки!$A$2,I34,G34+OFFSET(Очки!$A$18,0,$C$41-1)-1) -> 2 | P34: =IF(I34<H34,OFFSET(Очки!$A$20,2+H34-I34,IF(G34=1,13-H34,10+G34)),0) -> 0 | S34: =SUM(J34:R34) -> 2.5
A35: 29 | B35: Нимылович Тарас/Nimelovich Taras | C35: 15 | D35: 3 | E35: 9 | F35: 9 | G35: 3 | H35: 9 | I35: 8 | K35: =OFFSET(Очки!$A$2,F35,D35+OFFSET(Очки!$A$18,0,$C$41-1)-1) -> 0 | L35: =IF(F35<E35,OFFSET(Очки!$A$20,2+E35-F35,IF(D35=1,13-E35,10+D35)),0) -> 0 | O35: =OFFSET(Очки!$A$2,I35,G35+OFFSET(Очки!$A$18,0,$C$41-1)-1) -> 0.5 | P35: =IF(I35<H35,OFFSET(Очки!$A$20,2+H35-I35,IF(G35=1,13-H35,10+G35)),0) -> 0.5 | S35: =SUM(J35:R35) -> 1
A36: 30 | B36: Щипун Александр/Shcipun Aleksandr | C36: 12.5 | D36: 3 | E36: 10 | F36: 10 | G36: 3 | H36: 10 | I36: 10 | K36: =OFFSET(Очки!$A$2,F36,D36+OFFSET(Очки!$A$18,0,$C$41-1)-1) -> 0 | L36: =IF(F36<E36,OFFSET(Очки!$A$20,2+E36-F36,IF(D36=1,13-E36,10+D36)),0) -> 0 | O36: =OFFSET(Очки!$A$2,I36,G36+OFFSET(Очки!$A$18,0,$C$41-1)-1) -> 0 | P36: =IF(I36<H36,OFFSET(Очки!$A$20,2+H36-I36,IF(G36=1,13-H36,10+G36)),0) -> 0 | S36: =SUM(J36:R36) -> 0
A37: 31 | B37: Карленко Даниил/Karlenko Danii | C37: 5 | D37: 3 | E37: 3 | F37: 7 | G37: 3 | H37: 3 | I37: 7 | K37: =OFFSET(Очки!$A$2,F37,D37+OFFSET(Очки!$A$18,0,$C$41-1)-1) -> 1 | L37: =IF(F37<E37,OFFSET(Очки!$A$20,2+E37-F37,IF(D37=1,13-E37,10+D37)),0) -> 0 | O37: =OFFSET(Очки!$A$2,I37,G37+OFFSET(Очки!$A$18,0,$C$41-1)-1) -> 1 | P37: =IF(I37<H37,OFFSET(Очки!$A$20,2+H37-I37,IF(G37=1,13-H37,10+G37)),0) -> 0 | R37: -4 | S37: =SUM(J37:R37) -> -2
A38: =RANK(S38,S$6:OFFSET(S$6,0,0,COUNTA(B$6:B$40))) -> 31 | C38: - | K38: =OFFSET(Очки!$A$2,F38,D38+OFFSET(Очки!$A$18,0,$C$41-1)-1) -> 0 | L38: =IF(F38<E38,OFFSET(Очки!$A$20,2+E38-F38,IF(D38=1,13-E38,10+D38)),0) -> 0 | O38: =OFFSET(Очки!$A$2,I38,G38+OFFSET(Очки!$A$18,0,$C$41-1)-1) -> 0 | P38: =IF(I38<H38,OFFSET(Очки!$A$20,2+H38-I38,IF(G38=1,13-H38,10+G38)),0) -> 0 | S38: =SUM(J38:R38) -> 0
A39: =RANK(S39,S$6:OFFSET(S$6,0,0,COUNTA(B$6:B$40))) -> 31 | C39: - | K39: =OFFSET(Очки!$A$2,F39,D39+OFFSET(Очки!$A$18,0,$C$41-1)-1) -> 0 | L39: =IF(F39<E39,OFFSET(Очки!$A$20,2+E39-F39,IF(D39=1,13-E39,10+D39)),0) -> 0 | O39: =OFFSET(Очки!$A$2,I39,G39+OFFSET(Очки!$A$18,0,$C$41-1)-1) -> 0 | P39: =IF(I39<H39,OFFSET(Очки!$A$20,2+H39-I39,IF(G39=1,13-H39,10+G39)),0) -> 0 | S39: =SUM(J39:R39) -> 0
A40: =RANK(S40,S$6:OFFSET(S$6,0,0,COUNTA(B$6:B$40))) -> 31 | C40: - | K40: =OFFSET(Очки!$A$2,F40,D40+OFFSET(Очки!$A$18,0,$C$41-1)-1) -> 0 | L40: =IF(F40<E40,OFFSET(Очки!$A$20,2+E40-F40,IF(D40=1,13-E40,10+D40)),0) -> 0 | O40: =OFFSET(Очки!$A$2,I40,G40+OFFSET(Очки!$A$18,0,$C$41-1)-1) -> 0 | P40: =IF(I40<H40,OFFSET(Очки!$A$20,2+H40-I40,IF(G40=1,13-H40,10+G40)),0) -> 0 | S40: =SUM(J40:R40) -> 0
B41: Всего участников | C41: =COUNTA(B6:B40) -> 32

Sheet 05.06
A1: Лайт Лига 05.06.2018 (конфигурация 10)
A3: Место | B3: Участник | D3: 1 | G3: 2 | J3: Очки | S3: Сумма
C4: Довес | D4: группа | E4: Старт | F4: Финиш | G4: группа | H4: Старт | I4: Финиш | J4: Квала | K4: 1 | O4: 2
K5: очки | L5: обгоны | M5: время | N5: штрафы | O5: очки | P5: обгоны | Q5: время | R5: штрафы
A6: =RANK(S6,S$6:OFFSET(S$6,0,0,COUNTA(B$6:B$40))) -> 1 | B6: Гончаров Роман/Hopncharov Roman | C6: 17.5 | D6: 1 | E6: 2 | F6: 1 | G6: 1 | H6: 8 | I6: 4 | K6: =OFFSET(Очки!$A$2,F6,D6+OFFSET(Очки!$A$18,0,$C$41-1)-1) -> 17 | L6: =IF(F6<E6,OFFSET(Очки!$A$20,2+E6-F6,IF(D6=1,13-E6,10+D6)),0) -> 0.7 | M6: 1 | O6: =OFFSET(Очки!$A$2,I6,G6+OFFSET(Очки!$A$18,0,$C$41-1)-1) -> 14 | P6: =IF(I6<H6,OFFSET(Очки!$A$20,2+H6-I6,IF(G6=1,13-H6,10+G6)),0) -> 4.2 | Q6: 0.5 | S6: =SUM(J6:R6) -> 37.4
A7: =RANK(S7,S$6:OFFSET(S$6,0,0,COUNTA(B$6:B$40))) -> 2 | B7: Сомок Денис / Somok Denis | C7: 5 | D7: 1 | E7: 8 | F7: 4 | G7: 1 | H7: 9 | I7: 6 | J7: 1 | K7: =OFFSET(Очки!$A$2,F7,D7+OFFSET(Очки!$A$18,0,$C$41-1)-1) -> 14 | L7: =IF(F7<E7,OFFSET(Очки!$A$20,2+E7-F7,IF(D7=1,13-E7,10+D7)),0) -> 4.2 | M7: 1.5 | O7: =OFFSET(Очки!$A$2,I7,G7+OFFSET(Очки!$A$18,0,$C$41-1)-1) -> 12.5 | P7: =IF(I7<H7,OFFSET(Очки!$A$20,2+H7-I7,IF(G7=1,13-H7,10+G7)),0) -> 3.5 | S7: =SUM(J7:R7) -> 36.7
A8: =RANK(S8,S$6:OFFSET(S$6,0,0,COUNTA(B$6:B$40))) -> 3 | B8: Кошарук Женя/Kosharuk Eugene | C8: - | D8: 1 | E8: 10 | F8: 10 | G8: 1 | H8: 10 | I8: 7 | J8: 2 | K8: =OFFSET(Очки!$A$2,F8,D8+OFFSET(Очки!$A$18,0,$C$41-1)-1) -> 10.5 | L8: =IF(F8<E8,OFFSET(Очки!$A$20,2+E8-F8,IF(D8=1,13-E8,10+D8)),0) -> 0 | M8: 2 | O8: =OFFSET(Очки!$A$2,I8,G8+OFFSET(Очки!$A$18,0,$C$41-1)-1) -> 12 | P8: =IF(I8<H8,OFFSET(Очки!$A$20,2+H8-I8,IF(G8=1,13-H8,10+G8)),0) -> 3.6 | Q8: 2.5 | S8: =SUM(J8:R8) -> 32.6
A9: =RANK(S9,S$6:OFFSET(S$6,0,0,COUNTA(B$6:B$40))) -> 4 | B9: Доценко Анатолий / Dotsenko Anatoliy | D9: 1 | E9: 4 | F9: 2 | G9: 1 | H9: 7 | I9: 2 | K9: =OFFSET(Очки!$A$2,F9,D9+OFFSET(Очки!$A$18,0,$C$41-1)-1) -> 16 | L9: =IF(F9<E9,OFFSET(Очки!$A$20,2+E9-F9,IF(D9=1,13-E9,10+D9)),0) -> 1.5 | M9: 0.5 | N9: =-3-3 -> -6 | O9: =OFFSET(Очки!$A$2,I9,G9+OFFSET(Очки!$A$18,0,$C$41-1)-1) -> 16 | P9: =IF(I9<H9,OFFSET(Очки!$A$20,2+H9-I9,IF(G9=1,13-H9,10+G9)),0) -> 4.5 | S9: =SUM(J9:R9) -> 32.5
A10: =RANK(S10,S$6:OFFSET(S$6,0,0,COUNTA(B$6:B$40))) -> 5 | B10: Закаклюк Женя/ Zakaliuk Eugeniy | C10: - | D10: 2 | E10: 11 | F10: 4 | G10: 1 | H10: 6 | I10: 3 | K10: =OFFSET(Очки!$A$2,F10,D10+OFFSET(Очки!$A$18,0,$C$41-1)-1) -> 8.5 | L10: =IF(F10<E10,OFFSET(Очки!$A$20,2+E10-F10,IF(D10=1,13-E10,10+D10)),0) -> 4.9 | O10: =OFFSET(Очки!$A$2,I10,G10+OFFSET(Очки!$A$18,0,$C$41-1)-1) -> 15 | P10: =IF(I10<H10,OFFSET(Очки!$A$20,2+H10-I10,IF(G10=1,13-H10,10+G10)),0) -> 2.7 | S10: =SUM(J10:R10) -> 31.1
A11: =RANK(S11,S$6:OFFSET(S$6,0,0,COUNTA(B$6:B$40))) -> 6 | B11: Фурсов Никита / Fursov Nikita | D11: 2 | E11: 9 | F11: 2 | G11: 1 | H11: 11 | I11: 10 | K11: =OFFSET(Очки!$A$2,F11,D11+OFFSET(Очки!$A$18,0,$C$41-1)-1) -> 10.5 | L11: =IF(F11<E11,OFFSET(Очки!$A$20,2+E11-F11,IF(D11=1,13-E11,10+D11)),0) -> 4.9 | M11: 2.5 | O11: =OFFSET(Очки!$A$2,I11,G11+OFFSET(Очки!$A$18,0,$C$41-1)-1) -> 10.5 | P11: =IF(I11<H11,OFFSET(Очки!$A$20,2+H11-I11,IF(G11=1,13-H11,10+G11)),0) -> 1.3 | S11: =SUM(J11:R11) -> 29.7
A12: =RANK(S12,S$6:OFFSET(S$6,0,0,COUNTA(B$6:B$40))) -> 7 | B12: Резников Иван / Reznikov Ivan | C12: - | D12: 1 | E12: 6 | F12: 6 | G12: 1 | H12: 1 | I12: 1 | K12: =OFFSET(Очки!$A$2,F12,D12+OFFSET(Очки!$A$18,0,$C$41-1)-1) -> 12.5 | L12: =IF(F12<E12,OFFSET(Очки!$A$20,2+E12-F12,IF(D12=1,13-E12,10+D12)),0) -> 0 | O12: =OFFSET(Очки!$A$2,I12,G12+OFFSET(Очки!$A$18,0,$C$41-1)-1) -> 17 | P12: =IF(I12<H12,OFFSET(Очки!$A$20,2+H12-I12,IF(G12=1,13-H12,10+G12)),0) -> 0 | S12: =SUM(J12:R12) -> 29.5
A13: =RANK(S13,S$6:OFFSET(S$6,0,0,COUNTA(B$6:B$40))) -> 8 | B13: Якусик Дима / Yakusik Dima | C13: 7.5 | D13: 1 | E13: 9 | F13: 9 | G13: 1 | H13: 4 | I13: 5 | J13: 1.5 | K13: =OFFSET(Очки!$A$2,F13,D13+OFFSET(Очки!$A$18,0,$C$41-1)-1) -> 11 | L13: =IF(F13<E13,OFFSET(Очки!$A$20,2+E13-F13,IF(D13=1,13-E13,10+D13)),0) -> 0 | O13: =OFFSET(Очки!$A$2,I13,G13+OFFSET(Очки!$A$18,0,$C$41-1)-1) -> 13 | P13: =IF(I13<H13,OFFSET(Очки!$A$20,2+H13-I13,IF(G13=1,13-H13,10+G13)),0) -> 0 | Q13: 2 | S13: =SUM(J13:R13) -> 27.5
A14: =RANK(S14,S$6:OFFSET(S$6,0,0,COUNTA(B$6:B$40))) -> 9 | B14: Житомирський Дмитрий | C14: 5 | D14: 2 | E14: 4 | F14: 1 | G14: 2 | H14: 6 | I14: 2 | K14: =OFFSET(Очки!$A$2,F14,D14+OFFSET(Очки!$A$18,0,$C$41-1)-1) -> 11.5 | L14: =IF(F14<E14,OFFSET(Очки!$A$20,2+E14-F14,IF(D14=1,13-E14,10+D14)),0) -> 2.1 | O14: =OFFSET(Очки!$A$2,I14,G14+OFFSET(Очки!$A$18,0,$C$41-1)-1) -> 10.5 | P14: =IF(I14<H14,OFFSET(Очки!$A$20,2+H14-I14,IF(G14=1,13-H14,10+G14)),0) -> 2.8 | S14: =SUM(J14:R14) -> 26.9
A15: =RANK(S15,S$6:OFFSET(S$6,0,0,COUNTA(B$6:B$40))) -> 10 | B15: Криворучко Николай / Kryvoruchko Mykola | C15: 7.5 | D15: 1 | E15: 3 | F15: 6 | G15: 1 | H15: 5 | I15: 8 | K15: =OFFSET(Очки!$A$2,F15,D15+OFFSET(Очки!$A$18,0,$C$41-1)-1) -> 12.5 | L15: =IF(F15<E15,OFFSET(Очки!$A$20,2+E15-F15,IF(D15=1,13-E15,10+D15)),0) -> 0 | O15: =OFFSET(Очки!$A$2,I15,G15+OFFSET(Очки!$A$18,0,$C$41-1)-1) -> 11.5 | P15: =IF(I15<H15,OFFSET(Очки!$A$20,2+H15-I15,IF(G15=1,13-H15,10+G15)),0) -> 0 | Q15: 1.5 | S15: =SUM(J15:R15) -> 25.5
A16: =RANK(S16,S$6:OFFSET(S$6,0,0,COUNTA(B$6:B$40))) -> 11 | B16: Трихлеб Александр / Trihleb Alexsandr | C16: - | D16: 1 | E16: 1 | F16: 3 | G16: 2 | H16: 11 | I16: 7 | K16: =OFFSET(Очки!$A$2,F16,D16+OFFSET(Очки!$A$18,0,$C$41-1)-1) -> 15 | L16: =IF(F16<E16,OFFSET(Очки!$A$20,2+E16-F16,IF(D16=1,13-E16,10+D16)),0) -> 0 | O16: =OFFSET(Очки!$A$2,I16,G16+OFFSET(Очки!$A$18,0,$C$41-1)-1) -> 6.5 | P16: =IF(I16<H16,OFFSET(Очки!$A$20,2+H16-I16,IF(G16=1,13-H16,10+G16)),0) -> 2.8 | S16: =SUM(J16:R16) -> 24.3
A17: =RANK(S17,S$6:OFFSET(S$6,0,0,COUNTA(B$6:B$40))) -> 12 | B17: Черевко Владимир/ Cherevko Vladimir | C17: 20 | D17: 2 | E17: 6 | F17: 3 | G17: 2 | H17: 5 | I17: 3 | K17: =OFFSET(Очки!$A$2,F17,D17+OFFSET(Очки!$A$18,0,$C$41-1)-1) -> 9.5 | L17: =IF(F17<E17,OFFSET(Очки!$A$20,2+E17-F17,IF(D17=1,13-E17,10+D17)),0) -> 2.1 | O17: =OFFSET(Очки!$A$2,I17,G17+OFFSET(Очки!$A$18,0,$C$41-1)-1) -> 9.5 | P17: =IF(I17<H17,OFFSET(Очки!$A$20,2+H17-I17,IF(G17=1,13-H17,10+G17)),0) -> 1.4 | S17: =SUM(J17:R17) -> 22.5
A18: =RANK(S18,S$6:OFFSET(S$6,0,0,COUNTA(B$6:B$40))) -> 13 | B18: Тамберг Александр / Tamberg Aleksandr | D18: 1 | E18: 5 | F18: 4 | G18: 1 | H18: 2 | I18: 10 | K18: =OFFSET(Очки!$A$2,F18,D18+OFFSET(Очки!$A$18,0,$C$41-1)-1) -> 14 | L18: =IF(F18<E18,OFFSET(Очки!$A$20,2+E18-F18,IF(D18=1,13-E18,10+D18)),0) -> 0.9 | N18: -3 | O18: =OFFSET(Очки!$A$2,I18,G18+OFFSET(Очки!$A$18,0,$C$41-1)-1) -> 10.5 | P18: =IF(I18<H18,OFFSET(Очки!$A$20,2+H18-I18,IF(G18=1,13-H18,10+G18)),0) -> 0 | S18: =SUM(J18:R18) -> 22.4
A19: =RANK(S19,S$6:OFFSET(S$6,0,0,COUNTA(B$6:B$40))) -> 14 | B19: Ткаченко Кирилл / Tkachenko Kirill | C19: 5 | D19: 1 | E19: 11 | F19: 8 | G19: 1 | H19: 3 | I19: 8 | J19: 2.5 | K19: =OFFSET(Очки!$A$2,F19,D19+OFFSET(Очки!$A$18,0,$C$41-1)-1) -> 11.5 | L19: =IF(F19<E19,OFFSET(Очки!$A$20,2+E19-F19,IF(D19=1,13-E19,10+D19)),0) -> 3.7 | O19: =OFFSET(Очки!$A$2,I19,G19+OFFSET(Очки!$A$18,0,$C$41-1)-1) -> 11.5 | P19: =IF(I19<H19,OFFSET(Очки!$A$20,2+H19-I19,IF(G19=1,13-H19,10+G19)),0) -> 0 | Q19: 1 | R19: =-4-4 -> -8 | S19: =SUM(J19:R19) -> 22.2
A20: =RANK(S20,S$6:OFFSET(S$6,0,0,COUNTA(B$6:B$40))) -> 15 | B20: Чорномыз Виктор / Chornomyz Viktor | C20: 7.5 | D20: 2 | E20: 5 | F20: 5 | G20: 2 | H20: 8 | I20: 4 | K20: =OFFSET(Очки!$A$2,F20,D20+OFFSET(Очки!$A$18,0,$C$41-1)-1) -> 7.5 | L20: =IF(F20<E20,OFFSET(Очки!$A$20,2+E20-F20,IF(D20=1,13-E20,10+D20)),0) -> 0 | O20: =OFFSET(Очки!$A$2,I20,G20+OFFSET(Очки!$A$18,0,$C$41-1)-1) -> 8.5 | P20: =IF(I20<H20,OFFSET(Очки!$A$20,2+H20-I20,IF(G20=1,13-H20,10+G20)),0) -> 2.8 | S20: =SUM(J20:R20) -> 18.8
A21: =RANK(S21,S$6:OFFSET(S$6,0,0,COUNTA(B$6:B$40))) -> 16 | B21: Купцов Павел / Kuptsov Pavel | D21: 2 | E21: 3 | F21: 11 | G21: 2 | H21: 4 | I21: 1 | K21: =OFFSET(Очки!$A$2,F21,D21+OFFSET(Очки!$A$18,0,$C$41-1)-1) -> 4.5 | L21: =IF(F21<E21,OFFSET(Очки!$A$20,2+E21-F21,IF(D21=1,13-E21,10+D21)),0) -> 0 | N21: -1 | O21: =OFFSET(Очки!$A$2,I21,G21+OFFSET(Очки!$A$18,0,$C$41-1)-1) -> 11.5 | P21: =IF(I21<H21,OFFSET(Очки!$A$20,2+H21-I21,IF(G21=1,13-H21,10+G21)),0) -> 2.1 | S21: =SUM(J21:R21) -> 17.1
A22: =RANK(S22,S$6:OFFSET(S$6,0,0,COUNTA(B$6:B$40))) -> 17 | B22: Муляр Андрей / Mular Andrew | C22: - | D22: 2 | E22: 10 | F22: 6 | G22: 2 | H22: 7 | I22: 9 | K22: =OFFSET(Очки!$A$2,F22,D22+OFFSET(Очки!$A$18,0,$C$41-1)-1) -> 7 | L22: =IF(F22<E22,OFFSET(Очки!$A$20,2+E22-F22,IF(D22=1,13-E22,10+D22)),0) -> 2.8 | O22: =OFFSET(Очки!$A$2,I22,G22+OFFSET(Очки!$A$18,0,$C$41-1)-1) -> 5.5 | P22: =IF(I22<H22,OFFSET(Очки!$A$20,2+H22-I22,IF(G22=1,13-H22,10+G22)),0) -> 0 | S22: =SUM(J22:R22) -> 15.3
A23: =RANK(S23,S$6:OFFSET(S$6,0,0,COUNTA(B$6:B$40))) -> 18 | B23: Доканин Женя/Dokanin Zhenya | C23: - | D23: 3 | E23: 6 | F23: 2 | G23: 2 | H23: 1 | I23: 5 | K23: =OFFSET(Очки!$A$2,F23,D23+OFFSET(Очки!$A$18,0,$C$41-1)-1) -> 5 | L23: =IF(F23<E23,OFFSET(Очки!$A$20,2+E23-F23,IF(D23=1,13-E23,10+D23)),0) -> 2 | O23: =OFFSET(Очки!$A$2,I23,G23+OFFSET(Очки!$A$18,0,$C$41-1)-1) -> 7.5 | P23: =IF(I23<H23,OFFSET(Очки!$A$20,2+H23-I23,IF(G23=1,13-H23,10+G23)),0) -> 0 | S23: =SUM(J23:R23) -> 14.5
A24: =RANK(S24,S$6:OFFSET(S$6,0,0,COUNTA(B$6:B$40))) -> 19 | B24: Срибный Максим/Sribnyi Maksym | C24: 12.5 | D24: 3 | E24: 5 | F24: 1 | G24: 3 | H24: 7 | I24: 3 | K24: =OFFSET(Очки!$A$2,F24,D24+OFFSET(Очки!$A$18,0,$C$41-1)-1) -> 6 | L24: =IF(F24<E24,OFFSET(Очки!$A$20,2+E24-F24,IF(D24=1,13-E24,10+D24)),0) -> 2 | O24: =OFFSET(Очки!$A$2,I24,G24+OFFSET(Очки!$A$18,0,$C$41-1)-1) -> 4 | P24: =IF(I24<H24,OFFSET(Очки!$A$20,2+H24-I24,IF(G24=1,13-H24,10+G24)),0) -> 2 | S24: =SUM(J24:R24) -> 14
A25: =RANK(S25,S$6:OFFSET(S$6,0,0,COUNTA(B$6:B$40))) -> 20 | B25: Нечволод Олег/Nechvolod Oleg | D25: 1 | E25: 7 | F25: 11 | G25: 2 | H25: 10 | I25: 8 | J25: 0.5 | K25: =OFFSET(Очки!$A$2,F25,D25+OFFSET(Очки!$A$18,0,$C$41-1)-1) -> 10 | L25: =IF(F25<E25,OFFSET(Очки!$A$20,2+E25-F25,IF(D25=1,13-E25,10+D25)),0) -> 0 | O25: =OFFSET(Очки!$A$2,I25,G25+OFFSET(Очки!$A$18,0,$C$41-1)-1) -> 6 | P25: =IF(I25<H25,OFFSET(Очки!$A$20,2+H25-I25,IF(G25=1,13-H25,10+G25)),0) -> 1.4 | R25: -4 | S25: =SUM(J25:R25) -> 13.9
A26: =RANK(S26,S$6:OFFSET(S$6,0,0,COUNTA(B$6:B$40))) -> 21 | B26: Загирський Антон/Zahirskiy Anton | D26: 2 | E26: 2 | F26: 9 | G26: 2 | H26: 2 | I26: 6 | K26: =OFFSET(Очки!$A$2,F26,D26+OFFSET(Очки!$A$18,0,$C$41-1)-1) -> 5.5 | L26: =IF(F26<E26,OFFSET(Очки!$A$20,2+E26-F26,IF(D26=1,13-E26,10+D26)),0) -> 0 | O26: =OFFSET(Очки!$A$2,I26,G26+OFFSET(Очки!$A$18,0,$C$41-1)-1) -> 7 | P26: =IF(I26<H26,OFFSET(Очки!$A$20,2+H26-I26,IF(G26=1,13-H26,10+G26)),0) -> 0 | S26: =SUM(J26:R26) -> 12.5
A27: =RANK(S27,S$6:OFFSET(S$6,0,0,COUNTA(B$6:B$40))) -> 21 | B27: Колодин Павел/Kolodun Pavel | C27: - | D27: 2 | E27: 1 | F27: 10 | G27: 3 | H27: 4 | I27: 1 | K27: =OFFSET(Очки!$A$2,F27,D27+OFFSET(Очки!$A$18,0,$C$41-1)-1) -> 5 | L27: =IF(F27<E27,OFFSET(Очки!$A$20,2+E27-F27,IF(D27=1,13-E27,10+D27)),0) -> 0 | O27: =OFFSET(Очки!$A$2,I27,G27+OFFSET(Очки!$A$18,0,$C$41-1)-1) -> 6 | P27: =IF(I27<H27,OFFSET(Очки!$A$20,2+H27-I27,IF(G27=1,13-H27,10+G27)),0) -> 1.5 | S27: =SUM(J27:R27) -> 12.5
A28: =RANK(S28,S$6:OFFSET(S$6,0,0,COUNTA(B$6:B$40))) -> 23 | B28: Яремкович Дмитрий / Yaremkovich Dmitriy | C28: - | D28: 2 | E28: 8 | F28: 7 | G28: 2 | H28: 9 | I28: 10 | K28: =OFFSET(Очки!$A$2,F28,D28+OFFSET(Очки!$A$18,0,$C$41-1)-1) -> 6.5 | L28: =IF(F28<E28,OFFSET(Очки!$A$20,2+E28-F28,IF(D28=1,13-E28,10+D28)),0) -> 0.7 | O28: =OFFSET(Очки!$A$2,I28,G28+OFFSET(Очки!$A$18,0,$C$41-1)-1) -> 5 | P28: =IF(I28<H28,OFFSET(Очки!$A$20,2+H28-I28,IF(G28=1,13-H28,10+G28)),0) -> 0 | S28: =SUM(J28:R28) -> 12.2
A29: =RANK(S29,S$6:OFFSET(S$6,0,0,COUNTA(B$6:B$40))) -> 24 | B29: Климчук Евгений/Klymchuk Eugeniy | C29: - | D29: 2 | E29: 7 | F29: 8 | G29: 2 | H29: 3 | I29: 10 | K29: =OFFSET(Очки!$A$2,F29,D29+OFFSET(Очки!$A$18,0,$C$41-1)-1) -> 6 | L29: =IF(F29<E29,OFFSET(Очки!$A$20,2+E29-F29,IF(D29=1,13-E29,10+D29)),0) -> 0 | O29: =OFFSET(Очки!$A$2,I29,G29+OFFSET(Очки!$A$18,0,$C$41-1)-1) -> 5 | P29: =IF(I29<H29,OFFSET(Очки!$A$20,2+H29-I29,IF(G29=1,13-H29,10+G29)),0) -> 0 | S29: =SUM(J29:R29) -> 11
A30: =RANK(S30,S$6:OFFSET(S$6,0,0,COUNTA(B$6:B$40))) -> 25 | B30: Пішньоха Андрей/Pyshnokha Andrii | C30: 7.5 | D30: 3 | E30: 1 | F30: 3 | G30: 3 | H30: 2 | I30: 2 | K30: =OFFSET(Очки!$A$2,F30,D30+OFFSET(Очки!$A$18,0,$C$41-1)-1) -> 4 | L30: =IF(F30<E30,OFFSET(Очки!$A$20,2+E30-F30,IF(D30=1,13-E30,10+D30)),0) -> 0 | O30: =OFFSET(Очки!$A$2,I30,G30+OFFSET(Очки!$A$18,0,$C$41-1)-1) -> 5 | P30: =IF(I30<H30,OFFSET(Очки!$A$20,2+H30-I30,IF(G30=1,13-H30,10+G30)),0) -> 0 | S30: =SUM(J30:R30) -> 9
A31: =RANK(S31,S$6:OFFSET(S$6,0,0,COUNTA(B$6:B$40))) -> 26 | B31: Катульский Эдвард/Katulskiy Edvard | C31: - | D31: 3 | E31: 4 | F31: 5 | G31: 3 | H31: 3 | I31: 5 | K31: =OFFSET(Очки!$A$2,F31,D31+OFFSET(Очки!$A$18,0,$C$41-1)-1) -> 2 | L31: =IF(F31<E31,OFFSET(Очки!$A$20,2+E31-F31,IF(D31=1,13-E31,10+D31)),0) -> 0 | O31: =OFFSET(Очки!$A$2,I31,G31+OFFSET(Очки!$A$18,0,$C$41-1)-1) -> 2 | P31: =IF(I31<H31,OFFSET(Очки!$A$20,2+H31-I31,IF(G31=1,13-H31,10+G31)),0) -> 0 | S31: =SUM(J31:R31) -> 4
A32: =RANK(S32,S$6:OFFSET(S$6,0,0,COUNTA(B$6:B$40))) -> 27 | B32: Ильяшенко Владимир/ Iliashenko Vladimir | C32: 2.5 | D32: 3 | E32: 7 | F32: 6 | G32: 3 | H32: 6 | I32: 6 | K32: =OFFSET(Очки!$A$2,F32,D32+OFFSET(Очки!$A$18,0,$C$41-1)-1) -> 1.5 | L32: =IF(F32<E32,OFFSET(Очки!$A$20,2+E32-F32,IF(D32=1,13-E32,10+D32)),0) -> 0.5 | O32: =OFFSET(Очки!$A$2,I32,G32+OFFSET(Очки!$A$18,0,$C$41-1)-1) -> 1.5 | P32: =IF(I32<H32,OFFSET(Очки!$A$20,2+H32-I32,IF(G32=1,13-H32,10+G32)),0) -> 0 | S32: =SUM(J32:R32) -> 3.5
A33: =RANK(S33,S$6:OFFSET(S$6,0,0,COUNTA(B$6:B$40))) -> 28 | B33: Недов Богдан/Nedov Bogdan | C33: 2.5 | D33: 3 | E33: 2 | F33: 7 | G33: 3 | H33: 1 | I33: 6 | K33: =OFFSET(Очки!$A$2,F33,D33+OFFSET(Очки!$A$18,0,$C$41-1)-1) -> 1 | L33: =IF(F33<E33,OFFSET(Очки!$A$20,2+E33-F33,IF(D33=1,13-E33,10+D33)),0) -> 0 | O33: =OFFSET(Очки!$A$2,I33,G33+OFFSET(Очки!$A$18,0,$C$41-1)-1) -> 1.5 | P33: =IF(I33<H33,OFFSET(Очки!$A$20,2+H33-I33,IF(G33=1,13-H33,10+G33)),0) -> 0 | S33: =SUM(J33:R33) -> 2.5
A34: =RANK(S34,S$6:OFFSET(S$6,0,0,COUNTA(B$6:B$40))) -> 29 | B34: Лушин Владислав/Lushin Vladislav | C34: - | D34: 3 | E34: 3 | F34: 4 | G34: 3 | H34: 5 | I34: 4 | K34: =OFFSET(Очки!$A$2,F34,D34+OFFSET(Очки!$A$18,0,$C$41-1)-1) -> 3 | L34: =IF(F34<E34,OFFSET(Очки!$A$20,2+E34-F34,IF(D34=1,13-E34,10+D34)),0) -> 0 | O34: =OFFSET(Очки!$A$2,I34,G34+OFFSET(Очки!$A$18,0,$C$41-1)-1) -> 3 | P34: =IF(I34<H34,OFFSET(Очки!$A$20,2+H34-I34,IF(G34=1,13-H34,10+G34)),0) -> 0.5 | R34: -5 | S34: =SUM(J34:R34) -> 1.5
A35: =RANK(S35,S$6:OFFSET(S$6,0,0,COUNTA(B$6:B$40))) -> 30 | B35: Романов Коля/Romanov Nikolay | C35: - | D35: 3 | E35: 8 | F35: 8 | G35: 3 | H35: 8 | I35: 8 | K35: =OFFSET(Очки!$A$2,F35,D35+OFFSET(Очки!$A$18,0,$C$41-1)-1) -> 0.5 | L35: =IF(F35<E35,OFFSET(Очки!$A$20,2+E35-F35,IF(D35=1,13-E35,10+D35)),0) -> 0 | O35: =OFFSET(Очки!$A$2,I35,G35+OFFSET(Очки!$A$18,0,$C$41-1)-1) -> 0.5 | P35: =IF(I35<H35,OFFSET(Очки!$A$20,2+H35-I35,IF(G35=1,13-H35,10+G35)),0) -> 0 | S35: =SUM(J35:R35) -> 1
A36: =RANK(S36,S$6:OFFSET(S$6,0,0,COUNTA(B$6:B$40))) -> 31 | B36: Човган Дима/Shpvgan Dmitriy | D36: 3 | E36: 9 | F36: 9 | G36: 3 | H36: 9 | I36: 9 | K36: =OFFSET(Очки!$A$2,F36,D36+OFFSET(Очки!$A$18,0,$C$41-1)-1) -> 0 | L36: =IF(F36<E36,OFFSET(Очки!$A$20,2+E36-F36,IF(D36=1,13-E36,10+D36)),0) -> 0 | O36: =OFFSET(Очки!$A$2,I36,G36+OFFSET(Очки!$A$18,0,$C$41-1)-1) -> 0 | P36: =IF(I36<H36,OFFSET(Очки!$A$20,2+H36-I36,IF(G36=1,13-H36,10+G36)),0) -> 0 | S36: =SUM(J36:R36) -> 0
A37: =RANK(S37,S$6:OFFSET(S$6,0,0,COUNTA(B$6:B$40))) -> 32 | B37: Булдаков Даниил/Buldakov Daniel | D37: 3 | E37: 10 | F37: 10 | G37: 3 | H37: 10 | I37: 10 | K37: =OFFSET(Очки!$A$2,F37,D37+OFFSET(Очки!$A$18,0,$C$41-1)-1) -> 0 | L37: =IF(F37<E37,OFFSET(Очки!$A$20,2+E37-F37,IF(D37=1,13-E37,10+D37)),0) -> 0 | O37: =OFFSET(Очки!$A$2,I37,G37+OFFSET(Очки!$A$18,0,$C$41-1)-1) -> 0 | P37: =IF(I37<H37,OFFSET(Очки!$A$20,2+H37-I37,IF(G37=1,13-H37,10+G37)),0) -> 0 | R37: -3 | S37: =SUM(J37:R37) -> -3
A38: =RANK(S38,S$6:OFFSET(S$6,0,0,COUNTA(B$6:B$40))) -> 31 | C38: - | K38: =OFFSET(Очки!$A$2,F38,D38+OFFSET(Очки!$A$18,0,$C$41-1)-1) -> 0 | L38: =IF(F38<E38,OFFSET(Очки!$A$20,2+E38-F38,IF(D38=1,13-E38,10+D38)),0) -> 0 | O38: =OFFSET(Очки!$A$2,I38,G38+OFFSET(Очки!$A$18,0,$C$41-1)-1) -> 0 | P38: =IF(I38<H38,OFFSET(Очки!$A$20,2+H38-I38,IF(G38=1,13-H38,10+G38)),0) -> 0 | S38: =SUM(J38:R38) -> 0
A39: =RANK(S39,S$6:OFFSET(S$6,0,0,COUNTA(B$6:B$40))) -> 31 | C39: - | K39: =OFFSET(Очки!$A$2,F39,D39+OFFSET(Очки!$A$18,0,$C$41-1)-1) -> 0 | L39: =IF(F39<E39,OFFSET(Очки!$A$20,2+E39-F39,IF(D39=1,13-E39,10+D39)),0) -> 0 | O39: =OFFSET(Очки!$A$2,I39,G39+OFFSET(Очки!$A$18,0,$C$41-1)-1) -> 0 | P39: =IF(I39<H39,OFFSET(Очки!$A$20,2+H39-I39,IF(G39=1,13-H39,10+G39)),0) -> 0 | S39: =SUM(J39:R39) -> 0
A40: =RANK(S40,S$6:OFFSET(S$6,0,0,COUNTA(B$6:B$40))) -> 31 | C40: - | K40: =OFFSET(Очки!$A$2,F40,D40+OFFSET(Очки!$A$18,0,$C$41-1)-1) -> 0 | L40: =IF(F40<E40,OFFSET(Очки!$A$20,2+E40-F40,IF(D40=1,13-E40,10+D40)),0) -> 0 | O40: =OFFSET(Очки!$A$2,I40,G40+OFFSET(Очки!$A$18,0,$C$41-1)-1) -> 0 | P40: =IF(I40<H40,OFFSET(Очки!$A$20,2+H40-I40,IF(G40=1,13-H40,10+G40)),0) -> 0 | S40: =SUM(J40:R40) -> 0
B41: Всего участников | C41: =COUNTA(B6:B40) -> 32

Sheet 12.06
A1: Лайт Лига 12.06.2018 (конфигурация 8)
A3: Место | B3: Участник | D3: 1 | G3: 2 | J3: Очки | S3: Сумма
C4: Довес | D4: группа | E4: Старт | F4: Финиш | G4: группа | H4: Старт | I4: Финиш | J4: Квала | K4: 1 | O4: 2
K5: очки | L5: обгоны | M5: время | N5: штрафы | O5: очки | P5: обгоны | Q5: время | R5: штрафы
A6: =RANK(S6,S$6:OFFSET(S$6,0,0,COUNTA(B$6:B$40))) -> 1 | B6: Хавило Дима | D6: 1 | E6: 12 | F6: 3 | G6: 1 | H6: 11 | I6: 6 | J6: 2.5 | K6: =OFFSET(Очки!$A$2,F6,D6+OFFSET(Очки!$A$18,0,$C$41-1)-1) -> 15 | L6: =IF(F6<E6,OFFSET(Очки!$A$20,2+E6-F6,IF(D6=1,13-E6,10+D6)),0) -> 10 | M6: 2 | O6: =OFFSET(Очки!$A$2,I6,G6+OFFSET(Очки!$A$18,0,$C$41-1)-1) -> 12.5 | P6: =IF(I6<H6,OFFSET(Очки!$A$20,2+H6-I6,IF(G6=1,13-H6,10+G6)),0) -> 6 | Q6: 1.5 | S6: =SUM(J6:R6) -> 49.5
A7: =RANK(S7,S$6:OFFSET(S$6,0,0,COUNTA(B$6:B$40))) -> 2 | B7: Звягин Гриша | C7: 7.5 | D7: 1 | E7: 6 | F7: 2 | G7: 1 | H7: 9 | I7: 5 | K7: =OFFSET(Очки!$A$2,F7,D7+OFFSET(Очки!$A$18,0,$C$41-1)-1) -> 16 | L7: =IF(F7<E7,OFFSET(Очки!$A$20,2+E7-F7,IF(D7=1,13-E7,10+D7)),0) -> 3.4 | M7: 1 | O7: =OFFSET(Очки!$A$2,I7,G7+OFFSET(Очки!$A$18,0,$C$41-1)-1) -> 13 | P7: =IF(I7<H7,OFFSET(Очки!$A$20,2+H7-I7,IF(G7=1,13-H7,10+G7)),0) -> 4.5 | Q7: 1 | S7: =SUM(J7:R7) -> 38.9
A8: =RANK(S8,S$6:OFFSET(S$6,0,0,COUNTA(B$6:B$40))) -> 3 | B8: Коруз Вадим | D8: 1 | E8: 4 | F8: 1 | G8: 1 | H8: 2 | I8: 2 | K8: =OFFSET(Очки!$A$2,F8,D8+OFFSET(Очки!$A$18,0,$C$41-1)-1) -> 17 | L8: =IF(F8<E8,OFFSET(Очки!$A$20,2+E8-F8,IF(D8=1,13-E8,10+D8)),0) -> 2.2 | N8: -4 | O8: =OFFSET(Очки!$A$2,I8,G8+OFFSET(Очки!$A$18,0,$C$41-1)-1) -> 16 | P8: =IF(I8<H8,OFFSET(Очки!$A$20,2+H8-I8,IF(G8=1,13-H8,10+G8)),0) -> 0 | S8: =SUM(J8:R8) -> 31.2
A9: =RANK(S9,S$6:OFFSET(S$6,0,0,COUNTA(B$6:B$40))) -> 4 | B9: Наум | C9: - | D9: 1 | E9: 11 | F9: 4 | G9: 1 | H9: 12 | I9: 12 | J9: 2 | K9: =OFFSET(Очки!$A$2,F9,D9+OFFSET(Очки!$A$18,0,$C$41-1)-1) -> 14 | L9: =IF(F9<E9,OFFSET(Очки!$A$20,2+E9-F9,IF(D9=1,13-E9,10+D9)),0) -> 7.9 | M9: 2.5 | O9: =OFFSET(Очки!$A$2,I9,G9+OFFSET(Очки!$A$18,0,$C$41-1)-1) -> 0 | P9: =IF(I9<H9,OFFSET(Очки!$A$20,2+H9-I9,IF(G9=1,13-H9,10+G9)),0) -> 0 | Q9: 2.5 | S9: =SUM(J9:R9) -> 28.9
A10: 1 | B10: Якусик Дима / Yakusik Dima | C10: 7.5 | D10: 2 | E10: 3 | F10: 1 | G10: 2 | H10: 10 | I10: 3 | K10: =OFFSET(Очки!$A$2,F10,D10+OFFSET(Очки!$A$18,0,$C$41-1)-1) -> 11.5 | L10: =IF(F10<E10,OFFSET(Очки!$A$20,2+E10-F10,IF(D10=1,13-E10,10+D10)),0) -> 1.4 | O10: =OFFSET(Очки!$A$2,I10,G10+OFFSET(Очки!$A$18,0,$C$41-1)-1) -> 9.5 | P10: =IF(I10<H10,OFFSET(Очки!$A$20,2+H10-I10,IF(G10=1,13-H10,10+G10)),0) -> 4.9 | S10: =SUM(J10:R10) -> 27.3
A11: 2 | B11: Криворучко Николай / Kryvoruchko Mykola | C11: - | D11: 1 | E11: 5 | F11: 5 | G11: 1 | H11: 10 | I11: 9 | K11: =OFFSET(Очки!$A$2,F11,D11+OFFSET(Очки!$A$18,0,$C$41-1)-1) -> 13 | L11: =IF(F11<E11,OFFSET(Очки!$A$20,2+E11-F11,IF(D11=1,13-E11,10+D11)),0) -> 0 | M11: 1.5 | O11: =OFFSET(Очки!$A$2,I11,G11+OFFSET(Очки!$A$18,0,$C$41-1)-1) -> 11 | P11: =IF(I11<H11,OFFSET(Очки!$A$20,2+H11-I11,IF(G11=1,13-H11,10+G11)),0) -> 1.2 | S11: =SUM(J11:R11) -> 26.7
A12: 3 | B12: Муляр Андрей / Mular Andrew | C12: - | D12: 2 | E12: 6 | F12: 3 | G12: 1 | H12: 5 | I12: 4 | K12: =OFFSET(Очки!$A$2,F12,D12+OFFSET(Очки!$A$18,0,$C$41-1)-1) -> 9.5 | L12: =IF(F12<E12,OFFSET(Очки!$A$20,2+E12-F12,IF(D12=1,13-E12,10+D12)),0) -> 2.1 | O12: =OFFSET(Очки!$A$2,I12,G12+OFFSET(Очки!$A$18,0,$C$41-1)-1) -> 14 | P12: =IF(I12<H12,OFFSET(Очки!$A$20,2+H12-I12,IF(G12=1,13-H12,10+G12)),0) -> 0.9 | S12: =SUM(J12:R12) -> 26.5
A13: 4 | B13: Фурсов Никита / Fursov Nikita | C13: - | D13: 2 | E13: 11 | F13: 7 | G13: 1 | H13: 1 | I13: 1 | K13: =OFFSET(Очки!$A$2,F13,D13+OFFSET(Очки!$A$18,0,$C$41-1)-1) -> 6.5 | L13: =IF(F13<E13,OFFSET(Очки!$A$20,2+E13-F13,IF(D13=1,13-E13,10+D13)),0) -> 2.8 | O13: =OFFSET(Очки!$A$2,I13,G13+OFFSET(Очки!$A$18,0,$C$41-1)-1) -> 17 | P13: =IF(I13<H13,OFFSET(Очки!$A$20,2+H13-I13,IF(G13=1,13-H13,10+G13)),0) -> 0 | S13: =SUM(J13:R13) -> 26.3
A14: 5 | B14: Кошарук Женя/Kosharuk Eugene | D14: 1 | E14: 10 | F14: 6 | G14: 2 | H14: 11 | I14: 11 | J14: 1.5 | K14: =OFFSET(Очки!$A$2,F14,D14+OFFSET(Очки!$A$18,0,$C$41-1)-1) -> 12.5 | L14: =IF(F14<E14,OFFSET(Очки!$A$20,2+E14-F14,IF(D14=1,13-E14,10+D14)),0) -> 4.7 | O14: =OFFSET(Очки!$A$2,I14,G14+OFFSET(Очки!$A$18,0,$C$41-1)-1) -> 4.5 | P14: =IF(I14<H14,OFFSET(Очки!$A$20,2+H14-I14,IF(G14=1,13-H14,10+G14)),0) -> 0 | Q14: 2 | S14: =SUM(J14:R14) -> 25.2
A15: 6 | B15: Доценко Анатолий / Dotsenko Anatoliy | C15: 10 | D15: 1 | E15: 7 | F15: 8 | G15: 1 | H15: 4 | I15: 9 | K15: =OFFSET(Очки!$A$2,F15,D15+OFFSET(Очки!$A$18,0,$C$41-1)-1) -> 11.5 | L15: =IF(F15<E15,OFFSET(Очки!$A$20,2+E15-F15,IF(D15=1,13-E15,10+D15)),0) -> 0 | O15: =OFFSET(Очки!$A$2,I15,G15+OFFSET(Очки!$A$18,0,$C$41-1)-1) -> 11 | P15: =IF(I15<H15,OFFSET(Очки!$A$20,2+H15-I15,IF(G15=1,13-H15,10+G15)),0) -> 0 | S15: =SUM(J15:R15) -> 22.5
A16: 7 | B16: Трихлеб Александр / Trihleb Alexsandr | C16: - | D16: 1 | E16: 3 | F16: 9 | G16: 2 | H16: 3 | I16: 2 | K16: =OFFSET(Очки!$A$2,F16,D16+OFFSET(Очки!$A$18,0,$C$41-1)-1) -> 11 | L16: =IF(F16<E16,OFFSET(Очки!$A$20,2+E16-F16,IF(D16=1,13-E16,10+D16)),0) -> 0 | O16: =OFFSET(Очки!$A$2,I16,G16+OFFSET(Очки!$A$18,0,$C$41-1)-1) -> 10.5 | P16: =IF(I16<H16,OFFSET(Очки!$A$20,2+H16-I16,IF(G16=1,13-H16,10+G16)),0) -> 0.7 | S16: =SUM(J16:R16) -> 22.2
A17: 8 | B17: Тамберг Александр / Tamberg Aleksandr | C17: - | D17: 2 | E17: 10 | F17: 5 | G17: 1 | H17: 3 | I17: 3 | K17: =OFFSET(Очки!$A$2,F17,D17+OFFSET(Очки!$A$18,0,$C$41-1)-1) -> 7.5 | L17: =IF(F17<E17,OFFSET(Очки!$A$20,2+E17-F17,IF(D17=1,13-E17,10+D17)),0) -> 3.5 | N17: -4 | O17: =OFFSET(Очки!$A$2,I17,G17+OFFSET(Очки!$A$18,0,$C$41-1)-1) -> 15 | P17: =IF(I17<H17,OFFSET(Очки!$A$20,2+H17-I17,IF(G17=1,13-H17,10+G17)),0) -> 0 | S17: =SUM(J17:R17) -> 22
A18: 9 | B18: Гончаров Роман/Hopncharov Roman | C18: 15 | D18: 1 | E18: 8 | F18: 7 | G18: 1 | H18: 6 | I18: 10 | J18: 0.5 | K18: =OFFSET(Очки!$A$2,F18,D18+OFFSET(Очки!$A$18,0,$C$41-1)-1) -> 12 | L18: =IF(F18<E18,OFFSET(Очки!$A$20,2+E18-F18,IF(D18=1,13-E18,10+D18)),0) -> 1.2 | O18: =OFFSET(Очки!$A$2,I18,G18+OFFSET(Очки!$A$18,0,$C$41-1)-1) -> 10.5 | P18: =IF(I18<H18,OFFSET(Очки!$A$20,2+H18-I18,IF(G18=1,13-H18,10+G18)),0) -> 0 | R18: -3 | S18: =SUM(J18:R18) -> 21.2
A19: 10 | B19: Закаклюк Женя/ Zakaliuk Eugeniy | C19: - | D19: 3 | E19: 7 | F19: 1 | G19: 1 | H19: 7 | I19: 8 | K19: =OFFSET(Очки!$A$2,F19,D19+OFFSET(Очки!$A$18,0,$C$41-1)-1) -> 6 | L19: =IF(F19<E19,OFFSET(Очки!$A$20,2+E19-F19,IF(D19=1,13-E19,10+D19)),0) -> 3 | O19: =OFFSET(Очки!$A$2,I19,G19+OFFSET(Очки!$A$18,0,$C$41-1)-1) -> 11.5 | P19: =IF(I19<H19,OFFSET(Очки!$A$20,2+H19-I19,IF(G19=1,13-H19,10+G19)),0) -> 0 | S19: =SUM(J19:R19) -> 20.5
A20: 11 | B20: Черевко Владимир/ Cherevko Vladimir | C20: 20 | D20: 2 | E20: 1 | F20: 2 | G20: 2 | H20: 1 | I20: 5 | K20: =OFFSET(Очки!$A$2,F20,D20+OFFSET(Очки!$A$18,0,$C$41-1)-1) -> 10.5 | L20: =IF(F20<E20,OFFSET(Очки!$A$20,2+E20-F20,IF(D20=1,13-E20,10+D20)),0) -> 0 | O20: =OFFSET(Очки!$A$2,I20,G20+OFFSET(Очки!$A$18,0,$C$41-1)-1) -> 7.5 | P20: =IF(I20<H20,OFFSET(Очки!$A$20,2+H20-I20,IF(G20=1,13-H20,10+G20)),0) -> 0 | S20: =SUM(J20:R20) -> 18
A21: 12 | B21: Михайлик Михайло /Mykhailyk Michael | C21: 20 | D21: 2 | E21: 4 | F21: 4 | G21: 2 | H21: 8 | I21: 6 | K21: =OFFSET(Очки!$A$2,F21,D21+OFFSET(Очки!$A$18,0,$C$41-1)-1) -> 8.5 | L21: =IF(F21<E21,OFFSET(Очки!$A$20,2+E21-F21,IF(D21=1,13-E21,10+D21)),0) -> 0 | O21: =OFFSET(Очки!$A$2,I21,G21+OFFSET(Очки!$A$18,0,$C$41-1)-1) -> 7 | P21: =IF(I21<H21,OFFSET(Очки!$A$20,2+H21-I21,IF(G21=1,13-H21,10+G21)),0) -> 1.4 | S21: =SUM(J21:R21) -> 16.9
A22: 13 | B22: Климчук Евгений/Klymchuk Eugeniy | C22: - | D22: 1 | E22: 1 | F22: 10 | G22: 2 | H22: 6 | I22: 9 | K22: =OFFSET(Очки!$A$2,F22,D22+OFFSET(Очки!$A$18,0,$C$41-1)-1) -> 10.5 | L22: =IF(F22<E22,OFFSET(Очки!$A$20,2+E22-F22,IF(D22=1,13-E22,10+D22)),0) -> 0 | O22: =OFFSET(Очки!$A$2,I22,G22+OFFSET(Очки!$A$18,0,$C$41-1)-1) -> 5.5 | P22: =IF(I22<H22,OFFSET(Очки!$A$20,2+H22-I22,IF(G22=1,13-H22,10+G22)),0) -> 0 | S22: =SUM(J22:R22) -> 16
A23: 14 | B23: Лесников Саша/Lesnikov Aleksandr | C23: - | D23: 2 | E23: 2 | F23: 10 | G23: 2 | H23: 12 | I23: 8 | K23: =OFFSET(Очки!$A$2,F23,D23+OFFSET(Очки!$A$18,0,$C$41-1)-1) -> 5 | L23: =IF(F23<E23,OFFSET(Очки!$A$20,2+E23-F23,IF(D23=1,13-E23,10+D23)),0) -> 0 | O23: =OFFSET(Очки!$A$2,I23,G23+OFFSET(Очки!$A$18,0,$C$41-1)-1) -> 6 | P23: =IF(I23<H23,OFFSET(Очки!$A$20,2+H23-I23,IF(G23=1,13-H23,10+G23)),0) -> 2.8 | S23: =SUM(J23:R23) -> 13.8
A24: 15 | B24: Купцов Павел / Kuptsov Pavel | C24: - | D24: 2 | E24: 5 | F24: 11 | G24: 3 | H24: 10 | I24: 2 | K24: =OFFSET(Очки!$A$2,F24,D24+OFFSET(Очки!$A$18,0,$C$41-1)-1) -> 4.5 | L24: =IF(F24<E24,OFFSET(Очки!$A$20,2+E24-F24,IF(D24=1,13-E24,10+D24)),0) -> 0 | O24: =OFFSET(Очки!$A$2,I24,G24+OFFSET(Очки!$A$18,0,$C$41-1)-1) -> 5 | P24: =IF(I24<H24,OFFSET(Очки!$A$20,2+H24-I24,IF(G24=1,13-H24,10+G24)),0) -> 4 | S24: =SUM(J24:R24) -> 13.5
A25: 16 | B25: Клименко Дмитрий / Klymenko Dmytro | C25: 2.5 | D25: 2 | E25: 7 | F25: 6 | G25: 2 | H25: 5 | I25: 10 | K25: =OFFSET(Очки!$A$2,F25,D25+OFFSET(Очки!$A$18,0,$C$41-1)-1) -> 7 | L25: =IF(F25<E25,OFFSET(Очки!$A$20,2+E25-F25,IF(D25=1,13-E25,10+D25)),0) -> 0.7 | O25: =OFFSET(Очки!$A$2,I25,G25+OFFSET(Очки!$A$18,0,$C$41-1)-1) -> 5 | P25: =IF(I25<H25,OFFSET(Очки!$A$20,2+H25-I25,IF(G25=1,13-H25,10+G25)),0) -> 0 | S25: =SUM(J25:R25) -> 12.7
A26: 17 | B26: Житомирський Дмитрий/Zhytomyrskiy Dmitriy | C26: 7 | D26: 3 | E26: 6 | F26: 9 | G26: 2 | H26: 2 | I26: 1 | K26: =OFFSET(Очки!$A$2,F26,D26+OFFSET(Очки!$A$18,0,$C$41-1)-1) -> 0 | L26: =IF(F26<E26,OFFSET(Очки!$A$20,2+E26-F26,IF(D26=1,13-E26,10+D26)),0) -> 0 | O26: =OFFSET(Очки!$A$2,I26,G26+OFFSET(Очки!$A$18,0,$C$41-1)-1) -> 11.5 | P26: =IF(I26<H26,OFFSET(Очки!$A$20,2+H26-I26,IF(G26=1,13-H26,10+G26)),0) -> 0.7 | S26: =SUM(J26:R26) -> 12.2
A27: 18 | B27: Чухаленко Дима / Chukhalenko Dmitriy | D27: 2 | E27: 9 | F27: 7 | G27: 2 | H27: 9 | I27: 4 | K27: =OFFSET(Очки!$A$2,F27,D27+OFFSET(Очки!$A$18,0,$C$41-1)-1) -> 6.5 | L27: =IF(F27<E27,OFFSET(Очки!$A$20,2+E27-F27,IF(D27=1,13-E27,10+D27)),0) -> 1.4 | N27: =-4-4 -> -8 | O27: =OFFSET(Очки!$A$2,I27,G27+OFFSET(Очки!$A$18,0,$C$41-1)-1) -> 8.5 | P27: =IF(I27<H27,OFFSET(Очки!$A$20,2+H27-I27,IF(G27=1,13-H27,10+G27)),0) -> 3.5 | S27: =SUM(J27:R27) -> 11.9
A28: 19 | B28: Ткаченко Кирилл / Tkachenko Kirill | C28: 5 | D28: 1 | E28: 9 | F28: 10 | G28: 1 | H28: 8 | I28: 7 | K28: =OFFSET(Очки!$A$2,F28,D28+OFFSET(Очки!$A$18,0,$C$41-1)-1) -> 10.5 | L28: =IF(F28<E28,OFFSET(Очки!$A$20,2+E28-F28,IF(D28=1,13-E28,10+D28)),0) -> 0 | M28: 0.5 | O28: =OFFSET(Очки!$A$2,I28,G28+OFFSET(Очки!$A$18,0,$C$41-1)-1) -> 12 | P28: =IF(I28<H28,OFFSET(Очки!$A$20,2+H28-I28,IF(G28=1,13-H28,10+G28)),0) -> 1.2 | Q28: 0.5 | R28: =-7-7 -> -14 | S28: =SUM(J28:R28) -> 10.7
A29: 20 | B29: Ковбасюк Алексей/kovbasiuk Aleks | C29: - | D29: 1 | E29: 2 | F29: 12 | G29: 3 | H29: 4 | I29: 1 | K29: =OFFSET(Очки!$A$2,F29,D29+OFFSET(Очки!$A$18,0,$C$41-1)-1) -> 0 | L29: =IF(F29<E29,OFFSET(Очки!$A$20,2+E29-F29,IF(D29=1,13-E29,10+D29)),0) -> 0 | O29: =OFFSET(Очки!$A$2,I29,G29+OFFSET(Очки!$A$18,0,$C$41-1)-1) -> 6 | P29: =IF(I29<H29,OFFSET(Очки!$A$20,2+H29-I29,IF(G29=1,13-H29,10+G29)),0) -> 1.5 | S29: =SUM(J29:R29) -> 7.5
A30: 21 | B30: Якусик Александр / Yakusik Alexandr | C30: 7.5 | D30: 2 | E30: 8 | F30: 7 | G30: 2 | H30: 7 | I30: 7 | K30: =OFFSET(Очки!$A$2,F30,D30+OFFSET(Очки!$A$18,0,$C$41-1)-1) -> 6.5 | L30: =IF(F30<E30,OFFSET(Очки!$A$20,2+E30-F30,IF(D30=1,13-E30,10+D30)),0) -> 0.7 | N30: =-4-4 -> -8 | O30: =OFFSET(Очки!$A$2,I30,G30+OFFSET(Очки!$A$18,0,$C$41-1)-1) -> 6.5 | P30: =IF(I30<H30,OFFSET(Очки!$A$20,2+H30-I30,IF(G30=1,13-H30,10+G30)),0) -> 0 | S30: =SUM(J30:R30) -> 5.7
A31: 22 | B31: Майбродский Миша / Maibrodskiy Mikhail | D31: 2 | E31: 12 | F31: 11 | G31: 2 | H31: 4 | I31: 12 | K31: =OFFSET(Очки!$A$2,F31,D31+OFFSET(Очки!$A$18,0,$C$41-1)-1) -> 4.5 | L31: =IF(F31<E31,OFFSET(Очки!$A$20,2+E31-F31,IF(D31=1,13-E31,10+D31)),0) -> 0.7 | O31: =OFFSET(Очки!$A$2,I31,G31+OFFSET(Очки!$A$18,0,$C$41-1)-1) -> 0 | P31: =IF(I31<H31,OFFSET(Очки!$A$20,2+H31-I31,IF(G31=1,13-H31,10+G31)),0) -> 0 | S31: =SUM(J31:R31) -> 5.2
A32: 23 | B32: Стефанович Михаил/Stefanovich Mikhail | C32: 2.5 | D32: 3 | E32: 1 | F32: 6 | G32: 3 | H32: 5 | I32: 4 | K32: =OFFSET(Очки!$A$2,F32,D32+OFFSET(Очки!$A$18,0,$C$41-1)-1) -> 1.5 | L32: =IF(F32<E32,OFFSET(Очки!$A$20,2+E32-F32,IF(D32=1,13-E32,10+D32)),0) -> 0 | O32: =OFFSET(Очки!$A$2,I32,G32+OFFSET(Очки!$A$18,0,$C$41-1)-1) -> 3 | P32: =IF(I32<H32,OFFSET(Очки!$A$20,2+H32-I32,IF(G32=1,13-H32,10+G32)),0) -> 0.5 | S32: =SUM(J32:R32) -> 5
A33: 24 | B33: Волошин Денис / Voloshyn Denys | C33: - | D33: 3 | E33: 3 | F33: 3 | G33: 3 | H33: 6 | I33: 8 | K33: =OFFSET(Очки!$A$2,F33,D33+OFFSET(Очки!$A$18,0,$C$41-1)-1) -> 4 | L33: =IF(F33<E33,OFFSET(Очки!$A$20,2+E33-F33,IF(D33=1,13-E33,10+D33)),0) -> 0 | O33: =OFFSET(Очки!$A$2,I33,G33+OFFSET(Очки!$A$18,0,$C$41-1)-1) -> 0.5 | P33: =IF(I33<H33,OFFSET(Очки!$A$20,2+H33-I33,IF(G33=1,13-H33,10+G33)),0) -> 0 | S33: =SUM(J33:R33) -> 4.5
A34: 24 | B34: Ильяшенко Владимир/ Iliashenko Vladimir | C34: 2.5 | D34: 3 | E34: 8 | F34: 8 | G34: 3 | H34: 2 | I34: 3 | K34: =OFFSET(Очки!$A$2,F34,D34+OFFSET(Очки!$A$18,0,$C$41-1)-1) -> 0.5 | L34: =IF(F34<E34,OFFSET(Очки!$A$20,2+E34-F34,IF(D34=1,13-E34,10+D34)),0) -> 0 | O34: =OFFSET(Очки!$A$2,I34,G34+OFFSET(Очки!$A$18,0,$C$41-1)-1) -> 4 | P34: =IF(I34<H34,OFFSET(Очки!$A$20,2+H34-I34,IF(G34=1,13-H34,10+G34)),0) -> 0 | S34: =SUM(J34:R34) -> 4.5
A35: 26 | B35: Швец Богдан/Svets Bogdan | C35: - | D35: 3 | E35: 10 | F35: 7 | G35: 3 | H35: 1 | I35: 7 | K35: =OFFSET(Очки!$A$2,F35,D35+OFFSET(Очки!$A$18,0,$C$41-1)-1) -> 1 | L35: =IF(F35<E35,OFFSET(Очки!$A$20,2+E35-F35,IF(D35=1,13-E35,10+D35)),0) -> 1.5 | O35: =OFFSET(Очки!$A$2,I35,G35+OFFSET(Очки!$A$18,0,$C$41-1)-1) -> 1 | P35: =IF(I35<H35,OFFSET(Очки!$A$20,2+H35-I35,IF(G35=1,13-H35,10+G35)),0) -> 0 | S35: =SUM(J35:R35) -> 3.5
A36: 27 | B36: Доканин Женя/Dokanin Zhenya | D36: 3 | E36: 5 | F36: 9 | G36: 3 | H36: 7 | I36: 5 | K36: =OFFSET(Очки!$A$2,F36,D36+OFFSET(Очки!$A$18,0,$C$41-1)-1) -> 0 | L36: =IF(F36<E36,OFFSET(Очки!$A$20,2+E36-F36,IF(D36=1,13-E36,10+D36)),0) -> 0 | O36: =OFFSET(Очки!$A$2,I36,G36+OFFSET(Очки!$A$18,0,$C$41-1)-1) -> 2 | P36: =IF(I36<H36,OFFSET(Очки!$A$20,2+H36-I36,IF(G36=1,13-H36,10+G36)),0) -> 1 | S36: =SUM(J36:R36) -> 3
A37: 28 | B37: Goldner Brian | C37: - | D37: 3 | E37: 11 | F37: 5 | G37: 3 | H37: 9 | I37: 11 | K37: =OFFSET(Очки!$A$2,F37,D37+OFFSET(Очки!$A$18,0,$C$41-1)-1) -> 2 | L37: =IF(F37<E37,OFFSET(Очки!$A$20,2+E37-F37,IF(D37=1,13-E37,10+D37)),0) -> 3 | N37: -4 | O37: =OFFSET(Очки!$A$2,I37,G37+OFFSET(Очки!$A$18,0,$C$41-1)-1) -> 0 | P37: =IF(I37<H37,OFFSET(Очки!$A$20,2+H37-I37,IF(G37=1,13-H37,10+G37)),0) -> 0 | S37: =SUM(J37:R37) -> 1
A38: 29 | B38: Воронюк Игорь/Voroniuk Igor | C38: - | D38: 3 | E38: 9 | F38: 11 | G38: 3 | H38: 3 | I38: 9 | K38: =OFFSET(Очки!$A$2,F38,D38+OFFSET(Очки!$A$18,0,$C$41-1)-1) -> 0 | L38: =IF(F38<E38,OFFSET(Очки!$A$20,2+E38-F38,IF(D38=1,13-E38,10+D38)),0) -> 0 | O38: =OFFSET(Очки!$A$2,I38,G38+OFFSET(Очки!$A$18,0,$C$41-1)-1) -> 0 | P38: =IF(I38<H38,OFFSET(Очки!$A$20,2+H38-I38,IF(G38=1,13-H38,10+G38)),0) -> 0 | S38: =SUM(J38:R38) -> 0
A39: 30 | B39: Нимылович Тарас/Nimelovich Taras | C39: - | D39: 3 | E39: 4 | F39: 2 | G39: 3 | H39: 8 | I39: 8 | K39: =OFFSET(Очки!$A$2,F39,D39+OFFSET(Очки!$A$18,0,$C$41-1)-1) -> 5 | L39: =IF(F39<E39,OFFSET(Очки!$A$20,2+E39-F39,IF(D39=1,13-E39,10+D39)),0) -> 1 | O39: =OFFSET(Очки!$A$2,I39,G39+OFFSET(Очки!$A$18,0,$C$41-1)-1) -> 0.5 | P39: =IF(I39<H39,OFFSET(Очки!$A$20,2+H39-I39,IF(G39=1,13-H39,10+G39)),0) -> 0 | R39: -8 | S39: =SUM(J39:R39) -> -1.5
A40: 31 | B40: Горецкий Михаил | C40: - | D40: 3 | E40: 2 | F40: 4 | G40: 3 | H40: 11 | I40: 5 | K40: =OFFSET(Очки!$A$2,F40,D40+OFFSET(Очки!$A$18,0,$C$41-1)-1) -> 3 | L40: =IF(F40<E40,OFFSET(Очки!$A$20,2+E40-F40,IF(D40=1,13-E40,10+D40)),0) -> 0 | O40: =OFFSET(Очки!$A$2,I40,G40+OFFSET(Очки!$A$18,0,$C$41-1)-1) -> 2 | P40: =IF(I40<H40,OFFSET(Очки!$A$20,2+H40-I40,IF(G40=1,13-H40,10+G40)),0) -> 3 | R40: =-3-8 -> -11 | S40: =SUM(J40:R40) -> -3
B41: Всего участников | C41: =COUNTA(B6:B40) -> 35

Sheet 19.06
A1: Лайт Лига 19.06.2018 (конфигурация 5R)
A3: Место | B3: Участник | D3: 1 | G3: 2 | J3: Очки | S3: Сумма
C4: Довес | D4: группа | E4: Старт | F4: Финиш | G4: группа | H4: Старт | I4: Финиш | J4: Квала | K4: 1 | O4: 2
K5: очки | L5: обгоны | M5: время | N5: штрафы | O5: очки | P5: обгоны | Q5: время | R5: штрафы
A6: =RANK(S6,S$6:OFFSET(S$6,0,0,COUNTA(B$6:B$40))) -> 1 | B6: Якусик Дима / Yakusik Dima | C6: - | D6: 1 | E6: 7 | F6: 4 | G6: 1 | H6: 6 | I6: 4 | J6: 1.5 | K6: =OFFSET(Очки!$A$2,F6,D6+OFFSET(Очки!$A$18,0,$C$41-1)-1) -> 14 | L6: =IF(F6<E6,OFFSET(Очки!$A$20,2+E6-F6,IF(D6=1,13-E6,10+D6)),0) -> 3 | M6: 1 | O6: =OFFSET(Очки!$A$2,I6,G6+OFFSET(Очки!$A$18,0,$C$41-1)-1) -> 14 | P6: =IF(I6<H6,OFFSET(Очки!$A$20,2+H6-I6,IF(G6=1,13-H6,10+G6)),0) -> 1.9 | Q6: 2 | S6: =SUM(J6:R6) -> 37.4
A7: 1 | B7: Кошарук Женя/Kosharuk Eugene | C7: 2.5 | D7: 1 | E7: 6 | F7: 6 | G7: 1 | H7: 3 | I7: 1 | J7: 1 | K7: =OFFSET(Очки!$A$2,F7,D7+OFFSET(Очки!$A$18,0,$C$41-1)-1) -> 12.5 | L7: =IF(F7<E7,OFFSET(Очки!$A$20,2+E7-F7,IF(D7=1,13-E7,10+D7)),0) -> 0 | O7: =OFFSET(Очки!$A$2,I7,G7+OFFSET(Очки!$A$18,0,$C$41-1)-1) -> 17 | P7: =IF(I7<H7,OFFSET(Очки!$A$20,2+H7-I7,IF(G7=1,13-H7,10+G7)),0) -> 1.4 | Q7: 1.5 | S7: =SUM(J7:R7) -> 33.4
A8: 2 | B8: Фалько Константин/ Falko Konstantin | C8: - | D8: 1 | E8: 8 | F8: 6 | G8: 1 | H8: 4 | I8: 2 | J8: 2 | K8: =OFFSET(Очки!$A$2,F8,D8+OFFSET(Очки!$A$18,0,$C$41-1)-1) -> 12.5 | L8: =IF(F8<E8,OFFSET(Очки!$A$20,2+E8-F8,IF(D8=1,13-E8,10+D8)),0) -> 2.3 | N8: -4 | O8: =OFFSET(Очки!$A$2,I8,G8+OFFSET(Очки!$A$18,0,$C$41-1)-1) -> 16 | P8: =IF(I8<H8,OFFSET(Очки!$A$20,2+H8-I8,IF(G8=1,13-H8,10+G8)),0) -> 1.5 | Q8: 2.5 | S8: =SUM(J8:R8) -> 32.8
A9: 3 | B9: Криворучко Николай / Kryvoruchko Mykola | C9: - | D9: 1 | E9: 4 | F9: 3 | G9: 1 | H9: 7 | I9: 6 | K9: =OFFSET(Очки!$A$2,F9,D9+OFFSET(Очки!$A$18,0,$C$41-1)-1) -> 15 | L9: =IF(F9<E9,OFFSET(Очки!$A$20,2+E9-F9,IF(D9=1,13-E9,10+D9)),0) -> 0.8 | M9: 1.5 | O9: =OFFSET(Очки!$A$2,I9,G9+OFFSET(Очки!$A$18,0,$C$41-1)-1) -> 12.5 | P9: =IF(I9<H9,OFFSET(Очки!$A$20,2+H9-I9,IF(G9=1,13-H9,10+G9)),0) -> 1.1 | S9: =SUM(J9:R9) -> 30.9
A10: 4 | B10: Фурсов Никита / Fursov Nikita | C10: - | D10: 1 | E10: 9 | F10: 5 | G10: 1 | H10: 1 | I10: 3 | J10: 2.5 | K10: =OFFSET(Очки!$A$2,F10,D10+OFFSET(Очки!$A$18,0,$C$41-1)-1) -> 13 | L10: =IF(F10<E10,OFFSET(Очки!$A$20,2+E10-F10,IF(D10=1,13-E10,10+D10)),0) -> 4.5 | N10: -5 | O10: =OFFSET(Очки!$A$2,I10,G10+OFFSET(Очки!$A$18,0,$C$41-1)-1) -> 15 | P10: =IF(I10<H10,OFFSET(Очки!$A$20,2+H10-I10,IF(G10=1,13-H10,10+G10)),0) -> 0 | Q10: 0.5 | S10: =SUM(J10:R10) -> 30.5
A11: 5 | B11: Муляр Андрей / Mular Andrew | C11: - | D11: 1 | E11: 3 | F11: 2 | G11: 1 | H11: 9 | I11: 8 | K11: =OFFSET(Очки!$A$2,F11,D11+OFFSET(Очки!$A$18,0,$C$41-1)-1) -> 16 | L11: =IF(F11<E11,OFFSET(Очки!$A$20,2+E11-F11,IF(D11=1,13-E11,10+D11)),0) -> 0.7 | M11: 2.5 | O11: =OFFSET(Очки!$A$2,I11,G11+OFFSET(Очки!$A$18,0,$C$41-1)-1) -> 11.5 | P11: =IF(I11<H11,OFFSET(Очки!$A$20,2+H11-I11,IF(G11=1,13-H11,10+G11)),0) -> 1.2 | R11: =-3-4 -> -7 | S11: =SUM(J11:R11) -> 24.9
A12: 6 | B12: Гончаров Роман/Hopncharov Roman | C12: - | D12: 2 | E12: 3 | F12: 1 | G12: 2 | H12: 9 | I12: 5 | K12: =OFFSET(Очки!$A$2,F12,D12+OFFSET(Очки!$A$18,0,$C$41-1)-1) -> 12 | L12: =IF(F12<E12,OFFSET(Очки!$A$20,2+E12-F12,IF(D12=1,13-E12,10+D12)),0) -> 1.4 | O12: =OFFSET(Очки!$A$2,I12,G12+OFFSET(Очки!$A$18,0,$C$41-1)-1) -> 8 | P12: =IF(I12<H12,OFFSET(Очки!$A$20,2+H12-I12,IF(G12=1,13-H12,10+G12)),0) -> 2.8 | S12: =SUM(J12:R12) -> 24.2
A13: 7 | B13: Олельченко Василий | C13: 17.5 | D13: 2 | E13: 2 | F13: 2 | G13: 2 | H13: 2 | I13: 1 | K13: =OFFSET(Очки!$A$2,F13,D13+OFFSET(Очки!$A$18,0,$C$41-1)-1) -> 11 | L13: =IF(F13<E13,OFFSET(Очки!$A$20,2+E13-F13,IF(D13=1,13-E13,10+D13)),0) -> 0 | O13: =OFFSET(Очки!$A$2,I13,G13+OFFSET(Очки!$A$18,0,$C$41-1)-1) -> 12 | P13: =IF(I13<H13,OFFSET(Очки!$A$20,2+H13-I13,IF(G13=1,13-H13,10+G13)),0) -> 0.7 | S13: =SUM(J13:R13) -> 23.7
A14: 8 | B14: Резников Иван / Reznikov Ivan | C14: - | D14: 2 | E14: 8 | F14: 5 | G14: 1 | H14: 5 | I14: 9 | K14: =OFFSET(Очки!$A$2,F14,D14+OFFSET(Очки!$A$18,0,$C$41-1)-1) -> 8 | L14: =IF(F14<E14,OFFSET(Очки!$A$20,2+E14-F14,IF(D14=1,13-E14,10+D14)),0) -> 2.1 | M14: 0.5 | O14: =OFFSET(Очки!$A$2,I14,G14+OFFSET(Очки!$A$18,0,$C$41-1)-1) -> 11 | P14: =IF(I14<H14,OFFSET(Очки!$A$20,2+H14-I14,IF(G14=1,13-H14,10+G14)),0) -> 0 | S14: =SUM(J14:R14) -> 21.6
A15: 9 | B15: Тамберг Александр / Tamberg Aleksandr | C15: - | D15: 1 | E15: 1 | F15: 1 | G15: 1 | H15: 8 | I15: 7 | K15: =OFFSET(Очки!$A$2,F15,D15+OFFSET(Очки!$A$18,0,$C$41-1)-1) -> 17 | L15: =IF(F15<E15,OFFSET(Очки!$A$20,2+E15-F15,IF(D15=1,13-E15,10+D15)),0) -> 0 | M15: 2 | O15: =OFFSET(Очки!$A$2,I15,G15+OFFSET(Очки!$A$18,0,$C$41-1)-1) -> 12 | P15: =IF(I15<H15,OFFSET(Очки!$A$20,2+H15-I15,IF(G15=1,13-H15,10+G15)),0) -> 1.2 | Q15: 1 | R15: =-5-7 -> -12 | S15: =SUM(J15:R15) -> 21.2
A16: 10 | B16: Купцов Павел / Kuptsov Pavel | C16: - | D16: 1 | E16: 2 | F16: 7 | G16: 2 | H16: 5 | I16: 6 | K16: =OFFSET(Очки!$A$2,F16,D16+OFFSET(Очки!$A$18,0,$C$41-1)-1) -> 12 | L16: =IF(F16<E16,OFFSET(Очки!$A$20,2+E16-F16,IF(D16=1,13-E16,10+D16)),0) -> 0 | O16: =OFFSET(Очки!$A$2,I16,G16+OFFSET(Очки!$A$18,0,$C$41-1)-1) -> 7.5 | P16: =IF(I16<H16,OFFSET(Очки!$A$20,2+H16-I16,IF(G16=1,13-H16,10+G16)),0) -> 0 | S16: =SUM(J16:R16) -> 19.5
A17: 11 | B17: Житомирський Дмитрий/Zhytomyrskiy Dmitriy | C17: - | D17: 2 | E17: 6 | F17: 4 | G17: 2 | H17: 4 | I17: 4 | K17: =OFFSET(Очки!$A$2,F17,D17+OFFSET(Очки!$A$18,0,$C$41-1)-1) -> 9 | L17: =IF(F17<E17,OFFSET(Очки!$A$20,2+E17-F17,IF(D17=1,13-E17,10+D17)),0) -> 1.4 | O17: =OFFSET(Очки!$A$2,I17,G17+OFFSET(Очки!$A$18,0,$C$41-1)-1) -> 9 | P17: =IF(I17<H17,OFFSET(Очки!$A$20,2+H17-I17,IF(G17=1,13-H17,10+G17)),0) -> 0 | S17: =SUM(J17:R17) -> 19.4
A18: 12 | B18: Кошевой Владимир | C18: - | D18: 1 | E18: 5 | F18: 8 | G18: 2 | H18: 7 | I18: 7 | J18: 0.5 | K18: =OFFSET(Очки!$A$2,F18,D18+OFFSET(Очки!$A$18,0,$C$41-1)-1) -> 11.5 | L18: =IF(F18<E18,OFFSET(Очки!$A$20,2+E18-F18,IF(D18=1,13-E18,10+D18)),0) -> 0 | O18: =OFFSET(Очки!$A$2,I18,G18+OFFSET(Очки!$A$18,0,$C$41-1)-1) -> 7 | P18: =IF(I18<H18,OFFSET(Очки!$A$20,2+H18-I18,IF(G18=1,13-H18,10+G18)),0) -> 0 | S18: =SUM(J18:R18) -> 19
A19: 13 | B19: Доканин Женя/Dokanin Zhenya | C19: - | D19: 2 | E19: 9 | F19: 7 | G19: 2 | H19: 1 | I19: 3 | K19: =OFFSET(Очки!$A$2,F19,D19+OFFSET(Очки!$A$18,0,$C$41-1)-1) -> 7 | L19: =IF(F19<E19,OFFSET(Очки!$A$20,2+E19-F19,IF(D19=1,13-E19,10+D19)),0) -> 1.4 | O19: =OFFSET(Очки!$A$2,I19,G19+OFFSET(Очки!$A$18,0,$C$41-1)-1) -> 10 | P19: =IF(I19<H19,OFFSET(Очки!$A$20,2+H19-I19,IF(G19=1,13-H19,10+G19)),0) -> 0 | S19: =SUM(J19:R19) -> 18.4
A20: 14 | B20: Майбродский Миша / Maibrodskiy Mikhail | C20: 12.5 | D20: 2 | E20: 5 | F20: 3 | G20: 3 | H20: 8 | I20: 4 | K20: =OFFSET(Очки!$A$2,F20,D20+OFFSET(Очки!$A$18,0,$C$41-1)-1) -> 10 | L20: =IF(F20<E20,OFFSET(Очки!$A$20,2+E20-F20,IF(D20=1,13-E20,10+D20)),0) -> 1.4 | O20: =OFFSET(Очки!$A$2,I20,G20+OFFSET(Очки!$A$18,0,$C$41-1)-1) -> 4 | P20: =IF(I20<H20,OFFSET(Очки!$A$20,2+H20-I20,IF(G20=1,13-H20,10+G20)),0) -> 2 | S20: =SUM(J20:R20) -> 17.4
A21: 15 | B21: Якусик Саша/Yakusik Alex | C21: - | D21: 3 | E21: 9 | F21: 6 | G21: 1 | H21: 2 | I21: 5 | K21: =OFFSET(Очки!$A$2,F21,D21+OFFSET(Очки!$A$18,0,$C$41-1)-1) -> 2.5 | L21: =IF(F21<E21,OFFSET(Очки!$A$20,2+E21-F21,IF(D21=1,13-E21,10+D21)),0) -> 1.5 | O21: =OFFSET(Очки!$A$2,I21,G21+OFFSET(Очки!$A$18,0,$C$41-1)-1) -> 13 | P21: =IF(I21<H21,OFFSET(Очки!$A$20,2+H21-I21,IF(G21=1,13-H21,10+G21)),0) -> 0 | S21: =SUM(J21:R21) -> 17
A22: 16 | B22: Доценко Анатолий / Dotsenko Anatoliy | C22: 10 | D22: 3 | E22: 8 | F22: 5 | G22: 2 | H22: 8 | I22: 2 | K22: =OFFSET(Очки!$A$2,F22,D22+OFFSET(Очки!$A$18,0,$C$41-1)-1) -> 3 | L22: =IF(F22<E22,OFFSET(Очки!$A$20,2+E22-F22,IF(D22=1,13-E22,10+D22)),0) -> 1.5 | N22: -5 | O22: =OFFSET(Очки!$A$2,I22,G22+OFFSET(Очки!$A$18,0,$C$41-1)-1) -> 11 | P22: =IF(I22<H22,OFFSET(Очки!$A$20,2+H22-I22,IF(G22=1,13-H22,10+G22)),0) -> 4.2 | S22: =SUM(J22:R22) -> 14.7
A23: 17 | B23: Черевко Владимир/ Cherevko Vladimir | C23: 20 | D23: 3 | E23: 7 | F23: 2 | G23: 2 | H23: 6 | I23: 9 | K23: =OFFSET(Очки!$A$2,F23,D23+OFFSET(Очки!$A$18,0,$C$41-1)-1) -> 6 | L23: =IF(F23<E23,OFFSET(Очки!$A$20,2+E23-F23,IF(D23=1,13-E23,10+D23)),0) -> 2.5 | O23: =OFFSET(Очки!$A$2,I23,G23+OFFSET(Очки!$A$18,0,$C$41-1)-1) -> 6 | P23: =IF(I23<H23,OFFSET(Очки!$A$20,2+H23-I23,IF(G23=1,13-H23,10+G23)),0) -> 0 | S23: =SUM(J23:R23) -> 14.5
A24: 18 | B24: Чернов Александр | C24: 7.5 | D24: 3 | E24: 6 | F24: 3 | G24: 2 | H24: 3 | I24: 8 | K24: =OFFSET(Очки!$A$2,F24,D24+OFFSET(Очки!$A$18,0,$C$41-1)-1) -> 5 | L24: =IF(F24<E24,OFFSET(Очки!$A$20,2+E24-F24,IF(D24=1,13-E24,10+D24)),0) -> 1.5 | O24: =OFFSET(Очки!$A$2,I24,G24+OFFSET(Очки!$A$18,0,$C$41-1)-1) -> 6.5 | P24: =IF(I24<H24,OFFSET(Очки!$A$20,2+H24-I24,IF(G24=1,13-H24,10+G24)),0) -> 0 | S24: =SUM(J24:R24) -> 13
A25: 18 | B25: Швец Богдан/Svets Bogdan | C25: - | D25: 2 | E25: 1 | F25: 9 | G25: 3 | H25: 1 | I25: 1 | K25: =OFFSET(Очки!$A$2,F25,D25+OFFSET(Очки!$A$18,0,$C$41-1)-1) -> 6 | L25: =IF(F25<E25,OFFSET(Очки!$A$20,2+E25-F25,IF(D25=1,13-E25,10+D25)),0) -> 0 | O25: =OFFSET(Очки!$A$2,I25,G25+OFFSET(Очки!$A$18,0,$C$41-1)-1) -> 7 | P25: =IF(I25<H25,OFFSET(Очки!$A$20,2+H25-I25,IF(G25=1,13-H25,10+G25)),0) -> 0 | S25: =SUM(J25:R25) -> 13
A26: 20 | B26: Ковбасюк Алексей/kovbasiuk Aleks | C26: 20 | D26: 3 | E26: 5 | F26: 1 | G26: 3 | H26: 6 | I26: 5 | K26: =OFFSET(Очки!$A$2,F26,D26+OFFSET(Очки!$A$18,0,$C$41-1)-1) -> 7 | L26: =IF(F26<E26,OFFSET(Очки!$A$20,2+E26-F26,IF(D26=1,13-E26,10+D26)),0) -> 2 | O26: =OFFSET(Очки!$A$2,I26,G26+OFFSET(Очки!$A$18,0,$C$41-1)-1) -> 3 | P26: =IF(I26<H26,OFFSET(Очки!$A$20,2+H26-I26,IF(G26=1,13-H26,10+G26)),0) -> 0.5 | S26: =SUM(J26:R26) -> 12.5
A27: 20 | B27: Стефанович Михаил/Stefanovich Mikhail | C27: 2.5 | D27: 2 | E27: 7 | F27: 8 | G27: 3 | H27: 2 | I27: 2 | K27: =OFFSET(Очки!$A$2,F27,D27+OFFSET(Очки!$A$18,0,$C$41-1)-1) -> 6.5 | L27: =IF(F27<E27,OFFSET(Очки!$A$20,2+E27-F27,IF(D27=1,13-E27,10+D27)),0) -> 0 | O27: =OFFSET(Очки!$A$2,I27,G27+OFFSET(Очки!$A$18,0,$C$41-1)-1) -> 6 | P27: =IF(I27<H27,OFFSET(Очки!$A$20,2+H27-I27,IF(G27=1,13-H27,10+G27)),0) -> 0 | S27: =SUM(J27:R27) -> 12.5
A28: 22 | B28: Нимылович Тарас/Nimelovich Taras | C28: 12.5 | D28: 3 | E28: 3 | F28: 8 | G28: 3 | H28: 5 | I28: 3 | K28: =OFFSET(Очки!$A$2,F28,D28+OFFSET(Очки!$A$18,0,$C$41-1)-1) -> 1.5 | L28: =IF(F28<E28,OFFSET(Очки!$A$20,2+E28-F28,IF(D28=1,13-E28,10+D28)),0) -> 0 | O28: =OFFSET(Очки!$A$2,I28,G28+OFFSET(Очки!$A$18,0,$C$41-1)-1) -> 5 | P28: =IF(I28<H28,OFFSET(Очки!$A$20,2+H28-I28,IF(G28=1,13-H28,10+G28)),0) -> 1 | S28: =SUM(J28:R28) -> 7.5
A29: 23 | B29: Михайлик Михайло /Mykhailyk Michael | C29: 17.5 | D29: 3 | E29: 4 | F29: 4 | G29: 3 | H29: 7 | I29: 6 | K29: =OFFSET(Очки!$A$2,F29,D29+OFFSET(Очки!$A$18,0,$C$41-1)-1) -> 4 | L29: =IF(F29<E29,OFFSET(Очки!$A$20,2+E29-F29,IF(D29=1,13-E29,10+D29)),0) -> 0 | O29: =OFFSET(Очки!$A$2,I29,G29+OFFSET(Очки!$A$18,0,$C$41-1)-1) -> 2.5 | P29: =IF(I29<H29,OFFSET(Очки!$A$20,2+H29-I29,IF(G29=1,13-H29,10+G29)),0) -> 0.5 | S29: =SUM(J29:R29) -> 7
A30: 24 | B30: Гуцуляк Игорь / Gutsuliak Igor | C30: 12.5 | D30: 2 | E30: 4 | F30: 6 | G30: 3 | H30: 4 | I30: 7 | K30: =OFFSET(Очки!$A$2,F30,D30+OFFSET(Очки!$A$18,0,$C$41-1)-1) -> 7.5 | L30: =IF(F30<E30,OFFSET(Очки!$A$20,2+E30-F30,IF(D30=1,13-E30,10+D30)),0) -> 0 | O30: =OFFSET(Очки!$A$2,I30,G30+OFFSET(Очки!$A$18,0,$C$41-1)-1) -> 2 | P30: =IF(I30<H30,OFFSET(Очки!$A$20,2+H30-I30,IF(G30=1,13-H30,10+G30)),0) -> 0 | R30: -3 | S30: =SUM(J30:R30) -> 6.5
A31: 25 | B31: Репий Вадим/ Repiy Badim | C31: 12.5 | D31: 3 | E31: 2 | F31: 8 | G31: 3 | H31: 3 | I31: 7 | K31: =OFFSET(Очки!$A$2,F31,D31+OFFSET(Очки!$A$18,0,$C$41-1)-1) -> 1.5 | L31: =IF(F31<E31,OFFSET(Очки!$A$20,2+E31-F31,IF(D31=1,13-E31,10+D31)),0) -> 0 | O31: =OFFSET(Очки!$A$2,I31,G31+OFFSET(Очки!$A$18,0,$C$41-1)-1) -> 2 | P31: =IF(I31<H31,OFFSET(Очки!$A$20,2+H31-I31,IF(G31=1,13-H31,10+G31)),0) -> 0 | S31: =SUM(J31:R31) -> 3.5
A32: 26 | B32: Касьяненко Андрей / Kasyanenko Andrei | C32: - | D32: 3 | E32: 1 | F32: 7 | K32: =OFFSET(Очки!$A$2,F32,D32+OFFSET(Очки!$A$18,0,$C$41-1)-1) -> 2 | L32: =IF(F32<E32,OFFSET(Очки!$A$20,2+E32-F32,IF(D32=1,13-E32,10+D32)),0) -> 0 | O32: =OFFSET(Очки!$A$2,I32,G32+OFFSET(Очки!$A$18,0,$C$41-1)-1) -> 0 | P32: =IF(I32<H32,OFFSET(Очки!$A$20,2+H32-I32,IF(G32=1,13-H32,10+G32)),0) -> 0 | S32: =SUM(J32:R32) -> 2
A33: =RANK(S33,S$6:OFFSET(S$6,0,0,COUNTA(B$6:B$40))) -> #N/A | C33: - | K33: =OFFSET(Очки!$A$2,F33,D33+OFFSET(Очки!$A$18,0,$C$41-1)-1) -> 0 | L33: =IF(F33<E33,OFFSET(Очки!$A$20,2+E33-F33,IF(D33=1,13-E33,10+D33)),0) -> 0 | O33: =OFFSET(Очки!$A$2,I33,G33+OFFSET(Очки!$A$18,0,$C$41-1)-1) -> 0 | P33: =IF(I33<H33,OFFSET(Очки!$A$20,2+H33-I33,IF(G33=1,13-H33,10+G33)),0) -> 0 | S33: =SUM(J33:R33) -> 0
A34: =RANK(S34,S$6:OFFSET(S$6,0,0,COUNTA(B$6:B$40))) -> #N/A | C34: - | K34: =OFFSET(Очки!$A$2,F34,D34+OFFSET(Очки!$A$18,0,$C$41-1)-1) -> 0 | L34: =IF(F34<E34,OFFSET(Очки!$A$20,2+E34-F34,IF(D34=1,13-E34,10+D34)),0) -> 0 | O34: =OFFSET(Очки!$A$2,I34,G34+OFFSET(Очки!$A$18,0,$C$41-1)-1) -> 0 | P34: =IF(I34<H34,OFFSET(Очки!$A$20,2+H34-I34,IF(G34=1,13-H34,10+G34)),0) -> 0 | S34: =SUM(J34:R34) -> 0
A35: =RANK(S35,S$6:OFFSET(S$6,0,0,COUNTA(B$6:B$40))) -> #N/A | K35: =OFFSET(Очки!$A$2,F35,D35+OFFSET(Очки!$A$18,0,$C$41-1)-1) -> 0 | L35: =IF(F35<E35,OFFSET(Очки!$A$20,2+E35-F35,IF(D35=1,13-E35,10+D35)),0) -> 0 | O35: =OFFSET(Очки!$A$2,I35,G35+OFFSET(Очки!$A$18,0,$C$41-1)-1) -> 0 | P35: =IF(I35<H35,OFFSET(Очки!$A$20,2+H35-I35,IF(G35=1,13-H35,10+G35)),0) -> 0 | S35: =SUM(J35:R35) -> 0
A36: =RANK(S36,S$6:OFFSET(S$6,0,0,COUNTA(B$6:B$40))) -> #N/A | C36: - | K36: =OFFSET(Очки!$A$2,F36,D36+OFFSET(Очки!$A$18,0,$C$41-1)-1) -> 0 | L36: =IF(F36<E36,OFFSET(Очки!$A$20,2+E36-F36,IF(D36=1,13-E36,10+D36)),0) -> 0 | O36: =OFFSET(Очки!$A$2,I36,G36+OFFSET(Очки!$A$18,0,$C$41-1)-1) -> 0 | P36: =IF(I36<H36,OFFSET(Очки!$A$20,2+H36-I36,IF(G36=1,13-H36,10+G36)),0) -> 0 | S36: =SUM(J36:R36) -> 0
A37: =RANK(S37,S$6:OFFSET(S$6,0,0,COUNTA(B$6:B$40))) -> #N/A | C37: - | K37: =OFFSET(Очки!$A$2,F37,D37+OFFSET(Очки!$A$18,0,$C$41-1)-1) -> 0 | L37: =IF(F37<E37,OFFSET(Очки!$A$20,2+E37-F37,IF(D37=1,13-E37,10+D37)),0) -> 0 | O37: =OFFSET(Очки!$A$2,I37,G37+OFFSET(Очки!$A$18,0,$C$41-1)-1) -> 0 | P37: =IF(I37<H37,OFFSET(Очки!$A$20,2+H37-I37,IF(G37=1,13-H37,10+G37)),0) -> 0 | S37: =SUM(J37:R37) -> 0
A38: =RANK(S38,S$6:OFFSET(S$6,0,0,COUNTA(B$6:B$40))) -> #N/A | C38: - | K38: =OFFSET(Очки!$A$2,F38,D38+OFFSET(Очки!$A$18,0,$C$41-1)-1) -> 0 | L38: =IF(F38<E38,OFFSET(Очки!$A$20,2+E38-F38,IF(D38=1,13-E38,10+D38)),0) -> 0 | O38: =OFFSET(Очки!$A$2,I38,G38+OFFSET(Очки!$A$18,0,$C$41-1)-1) -> 0 | P38: =IF(I38<H38,OFFSET(Очки!$A$20,2+H38-I38,IF(G38=1,13-H38,10+G38)),0) -> 0 | S38: =SUM(J38:R38) -> 0
A39: =RANK(S39,S$6:OFFSET(S$6,0,0,COUNTA(B$6:B$40))) -> #N/A | C39: - | K39: =OFFSET(Очки!$A$2,F39,D39+OFFSET(Очки!$A$18,0,$C$41-1)-1) -> 0 | L39: =IF(F39<E39,OFFSET(Очки!$A$20,2+E39-F39,IF(D39=1,13-E39,10+D39)),0) -> 0 | O39: =OFFSET(Очки!$A$2,I39,G39+OFFSET(Очки!$A$18,0,$C$41-1)-1) -> 0 | P39: =IF(I39<H39,OFFSET(Очки!$A$20,2+H39-I39,IF(G39=1,13-H39,10+G39)),0) -> 0 | S39: =SUM(J39:R39) -> 0
A40: =RANK(S40,S$6:OFFSET(S$6,0,0,COUNTA(B$6:B$40))) -> #N/A | C40: - | K40: =OFFSET(Очки!$A$2,F40,D40+OFFSET(Очки!$A$18,0,$C$41-1)-1) -> 0 | L40: =IF(F40<E40,OFFSET(Очки!$A$20,2+E40-F40,IF(D40=1,13-E40,10+D40)),0) -> 0 | O40: =OFFSET(Очки!$A$2,I40,G40+OFFSET(Очки!$A$18,0,$C$41-1)-1) -> 0 | P40: =IF(I40<H40,OFFSET(Очки!$A$20,2+H40-I40,IF(G40=1,13-H40,10+G40)),0) -> 0 | S40: =SUM(J40:R40) -> 0
B41: Всего участников | C41: =COUNTA(B6:B40) -> 27

Sheet 12121 (8)
A1: Лайт Лига 20.06.2017 (конфигурация 6)
A3: Место | B3: Участник | D3: 1 | G3: 2 | J3: Очки | S3: Сумма
C4: Довес | D4: группа | E4: Старт | F4: Финиш | G4: группа | H4: Старт | I4: Финиш | J4: Квала | K4: 1 | O4: 2
K5: очки | L5: обгоны | M5: время | N5: штрафы | O5: очки | P5: обгоны | Q5: время | R5: штрафы
A6: =RANK(S6,S$6:OFFSET(S$6,0,0,COUNTA(B$6:B$30))) -> 1 | B6: ненмнепм | C6: - | D6: 1 | E6: 5 | F6: 5 | K6: =OFFSET(Очки!$A$2,F6,D6+OFFSET(Очки!$A$18,0,$C$31-1)-1) -> 11 | L6: =IF(F6<E6,OFFSET(Очки!$A$20,2+E6-F6,IF(D6=1,13-E6,10+D6)),0) -> 0 | O6: =OFFSET(Очки!$A$2,I6,G6+OFFSET(Очки!$A$18,0,$C$31-1)-1) -> 0 | P6: =IF(I6<H6,OFFSET(Очки!$A$20,2+H6-I6,IF(G6=1,13-H6,10+G6)),0) -> 0 | S6: =SUM(J6:R6) -> 11
A7: =RANK(S7,S$6:OFFSET(S$6,0,0,COUNTA(B$6:B$30))) -> #N/A | C7: - | K7: =OFFSET(Очки!$A$2,F7,D7+OFFSET(Очки!$A$18,0,$C$31-1)-1) -> 0 | L7: =IF(F7<E7,OFFSET(Очки!$A$20,2+E7-F7,IF(D7=1,13-E7,10+D7)),0) -> 0 | O7: =OFFSET(Очки!$A$2,I7,G7+OFFSET(Очки!$A$18,0,$C$31-1)-1) -> 0 | P7: =IF(I7<H7,OFFSET(Очки!$A$20,2+H7-I7,IF(G7=1,13-H7,10+G7)),0) -> 0 | S7: =SUM(J7:R7) -> 0
A8: =RANK(S8,S$6:OFFSET(S$6,0,0,COUNTA(B$6:B$30))) -> #N/A | C8: - | K8: =OFFSET(Очки!$A$2,F8,D8+OFFSET(Очки!$A$18,0,$C$31-1)-1) -> 0 | L8: =IF(F8<E8,OFFSET(Очки!$A$20,2+E8-F8,IF(D8=1,13-E8,10+D8)),0) -> 0 | O8: =OFFSET(Очки!$A$2,I8,G8+OFFSET(Очки!$A$18,0,$C$31-1)-1) -> 0 | P8: =IF(I8<H8,OFFSET(Очки!$A$20,2+H8-I8,IF(G8=1,13-H8,10+G8)),0) -> 0 | S8: =SUM(J8:R8) -> 0
A9: =RANK(S9,S$6:OFFSET(S$6,0,0,COUNTA(B$6:B$30))) -> #N/A | C9: - | K9: =OFFSET(Очки!$A$2,F9,D9+OFFSET(Очки!$A$18,0,$C$31-1)-1) -> 0 | L9: =IF(F9<E9,OFFSET(Очки!$A$20,2+E9-F9,IF(D9=1,13-E9,10+D9)),0) -> 0 | O9: =OFFSET(Очки!$A$2,I9,G9+OFFSET(Очки!$A$18,0,$C$31-1)-1) -> 0 | P9: =IF(I9<H9,OFFSET(Очки!$A$20,2+H9-I9,IF(G9=1,13-H9,10+G9)),0) -> 0 | S9: =SUM(J9:R9) -> 0
A10: =RANK(S10,S$6:OFFSET(S$6,0,0,COUNTA(B$6:B$30))) -> #N/A | C10: - | K10: =OFFSET(Очки!$A$2,F10,D10+OFFSET(Очки!$A$18,0,$C$31-1)-1) -> 0 | L10: =IF(F10<E10,OFFSET(Очки!$A$20,2+E10-F10,IF(D10=1,13-E10,10+D10)),0) -> 0 | O10: =OFFSET(Очки!$A$2,I10,G10+OFFSET(Очки!$A$18,0,$C$31-1)-1) -> 0 | P10: =IF(I10<H10,OFFSET(Очки!$A$20,2+H10-I10,IF(G10=1,13-H10,10+G10)),0) -> 0 | S10: =SUM(J10:R10) -> 0
A11: =RANK(S11,S$6:OFFSET(S$6,0,0,COUNTA(B$6:B$30))) -> #N/A | C11: - | K11: =OFFSET(Очки!$A$2,F11,D11+OFFSET(Очки!$A$18,0,$C$31-1)-1) -> 0 | L11: =IF(F11<E11,OFFSET(Очки!$A$20,2+E11-F11,IF(D11=1,13-E11,10+D11)),0) -> 0 | O11: =OFFSET(Очки!$A$2,I11,G11+OFFSET(Очки!$A$18,0,$C$31-1)-1) -> 0 | P11: =IF(I11<H11,OFFSET(Очки!$A$20,2+H11-I11,IF(G11=1,13-H11,10+G11)),0) -> 0 | S11: =SUM(J11:R11) -> 0
A12: =RANK(S12,S$6:OFFSET(S$6,0,0,COUNTA(B$6:B$30))) -> #N/A | C12: - | K12: =OFFSET(Очки!$A$2,F12,D12+OFFSET(Очки!$A$18,0,$C$31-1)-1) -> 0 | L12: =IF(F12<E12,OFFSET(Очки!$A$20,2+E12-F12,IF(D12=1,13-E12,10+D12)),0) -> 0 | O12: =OFFSET(Очки!$A$2,I12,G12+OFFSET(Очки!$A$18,0,$C$31-1)-1) -> 0 | P12: =IF(I12<H12,OFFSET(Очки!$A$20,2+H12-I12,IF(G12=1,13-H12,10+G12)),0) -> 0 | S12: =SUM(J12:R12) -> 0
A13: =RANK(S13,S$6:OFFSET(S$6,0,0,COUNTA(B$6:B$30))) -> #N/A | C13: - | K13: =OFFSET(Очки!$A$2,F13,D13+OFFSET(Очки!$A$18,0,$C$31-1)-1) -> 0 | L13: =IF(F13<E13,OFFSET(Очки!$A$20,2+E13-F13,IF(D13=1,13-E13,10+D13)),0) -> 0 | O13: =OFFSET(Очки!$A$2,I13,G13+OFFSET(Очки!$A$18,0,$C$31-1)-1) -> 0 | P13: =IF(I13<H13,OFFSET(Очки!$A$20,2+H13-I13,IF(G13=1,13-H13,10+G13)),0) -> 0 | S13: =SUM(J13:R13) -> 0
A14: =RANK(S14,S$6:OFFSET(S$6,0,0,COUNTA(B$6:B$30))) -> #N/A | C14: - | K14: =OFFSET(Очки!$A$2,F14,D14+OFFSET(Очки!$A$18,0,$C$31-1)-1) -> 0 | L14: =IF(F14<E14,OFFSET(Очки!$A$20,2+E14-F14,IF(D14=1,13-E14,10+D14)),0) -> 0 | O14: =OFFSET(Очки!$A$2,I14,G14+OFFSET(Очки!$A$18,0,$C$31-1)-1) -> 0 | P14: =IF(I14<H14,OFFSET(Очки!$A$20,2+H14-I14,IF(G14=1,13-H14,10+G14)),0) -> 0 | S14: =SUM(J14:R14) -> 0
A15: =RANK(S15,S$6:OFFSET(S$6,0,0,COUNTA(B$6:B$30))) -> #N/A | C15: - | K15: =OFFSET(Очки!$A$2,F15,D15+OFFSET(Очки!$A$18,0,$C$31-1)-1) -> 0 | L15: =IF(F15<E15,OFFSET(Очки!$A$20,2+E15-F15,IF(D15=1,13-E15,10+D15)),0) -> 0 | O15: =OFFSET(Очки!$A$2,I15,G15+OFFSET(Очки!$A$18,0,$C$31-1)-1) -> 0 | P15: =IF(I15<H15,OFFSET(Очки!$A$20,2+H15-I15,IF(G15=1,13-H15,10+G15)),0) -> 0 | S15: =SUM(J15:R15) -> 0
A16: =RANK(S16,S$6:OFFSET(S$6,0,0,COUNTA(B$6:B$30))) -> #N/A | C16: - | K16: =OFFSET(Очки!$A$2,F16,D16+OFFSET(Очки!$A$18,0,$C$31-1)-1) -> 0 | L16: =IF(F16<E16,OFFSET(Очки!$A$20,2+E16-F16,IF(D16=1,13-E16,10+D16)),0) -> 0 | O16: =OFFSET(Очки!$A$2,I16,G16+OFFSET(Очки!$A$18,0,$C$31-1)-1) -> 0 | P16: =IF(I16<H16,OFFSET(Очки!$A$20,2+H16-I16,IF(G16=1,13-H16,10+G16)),0) -> 0 | S16: =SUM(J16:R16) -> 0
A17: =RANK(S17,S$6:OFFSET(S$6,0,0,COUNTA(B$6:B$30))) -> #N/A | C17: - | K17: =OFFSET(Очки!$A$2,F17,D17+OFFSET(Очки!$A$18,0,$C$31-1)-1) -> 0 | L17: =IF(F17<E17,OFFSET(Очки!$A$20,2+E17-F17,IF(D17=1,13-E17,10+D17)),0) -> 0 | O17: =OFFSET(Очки!$A$2,I17,G17+OFFSET(Очки!$A$18,0,$C$31-1)-1) -> 0 | P17: =IF(I17<H17,OFFSET(Очки!$A$20,2+H17-I17,IF(G17=1,13-H17,10+G17)),0) -> 0 | S17: =SUM(J17:R17) -> 0
A18: =RANK(S18,S$6:OFFSET(S$6,0,0,COUNTA(B$6:B$30))) -> #N/A | C18: - | K18: =OFFSET(Очки!$A$2,F18,D18+OFFSET(Очки!$A$18,0,$C$31-1)-1) -> 0 | L18: =IF(F18<E18,OFFSET(Очки!$A$20,2+E18-F18,IF(D18=1,13-E18,10+D18)),0) -> 0 | O18: =OFFSET(Очки!$A$2,I18,G18+OFFSET(Очки!$A$18,0,$C$31-1)-1) -> 0 | P18: =IF(I18<H18,OFFSET(Очки!$A$20,2+H18-I18,IF(G18=1,13-H18,10+G18)),0) -> 0 | S18: =SUM(J18:R18) -> 0
... A30: =RANK(S30,S$6:OFFSET(S$6,0,0,COUNTA(B$6:B$30))) -> #N/A | C30: - | K30: =OFFSET(Очки!$A$2,F30,D30+OFFSET(Очки!$A$18,0,$C$31-1)-1) -> 0 | L30: =IF(F30<E30,OFFSET(Очки!$A$20,2+E30-F30,IF(D30=1,13-E30,10+D30)),0) -> 0 | O30: =OFFSET(Очки!$A$2,I30,G30+OFFSET(Очки!$A$18,0,$C$31-1)-1) -> 0 | P30: =IF(I30<H30,OFFSET(Очки!$A$20,2+H30-I30,IF(G30=1,13-H30,10+G30)),0) -> 0 | S30: =SUM(J30:R30) -> 0
B31: Всего участников | C31: =COUNTA(B6:B30) -> 1

Sheet Лист2
