Workbook

Sheet Очки
A1: До 12 человек | F1: 13-14 человек | K1: 15-16 человек | P1: 17-18 человек | U1: 19-20 человек | Z1: 21-22 человек | AE1: 23-24 человек | AJ1: 25 человек | AO1: 26-27 человек | AT1: 28 человек | AY1: 29-30 человек | BD1: 31+ человек
B2: I | C2: II | D2: III | G2: I | H2: II | I2: III | L2: I | M2: II | N2: III | Q2: I | R2: II | S2: III | V2: I | W2: II | X2: III | AA2: I | AB2: II | AC2: III | AF2: I | AG2: II | AH2: III | AK2: I | AL2: II | AM2: III | AP2: I | AQ2: II | AR2: III | AU2: I | AV2: II | AW2: III | AZ2: I | BA2: II | BB2: III | BE2: I | BF2: II | BG2: III
A3: 1 | B3: 15 | F3: 1 | G3: 15 | H3: 10.5 | K3: 1 | L3: 15 | M3: 10.5 | P3: 1 | Q3: 15 | R3: 10 | U3: 1 | V3: 15 | W3: 9.5 | Z3: 1 | AA3: 15 | AB3: 9 | AE3: 1 | AF3: 16 | AG3: 11.5 | AH3: 7 | AJ3: 1 | AK3: 16 | AL3: 11 | AM3: 6.5 | AO3: 1 | AP3: 17 | AQ3: 12 | AR3: 7 | AT3: 1 | AU3: 17 | AV3: 11.5 | AW3: 6.5 | AY3: 1 | AZ3: 17 | BA3: 11.5 | BB3: 6 | BD3: 1 | BE3: 17 | BF3: 11.5 | BG3: 6
A4: 2 | B4: 14 | F4: 2 | G4: 14 | H4: 9.5 | K4: 2 | L4: 14 | M4: 9.5 | P4: 2 | Q4: 14 | R4: 9 | U4: 2 | V4: 14 | W4: 8.5 | Z4: 2 | AA4: 14 | AB4: 8 | AE4: 2 | AF4: 15 | AG4: 10.5 | AH4: 6 | AJ4: 2 | AK4: 15 | AL4: 10 | AM4: 5.5 | AO4: 2 | AP4: 16 | AQ4: 11 | AR4: 6 | AT4: 2 | AU4: 16 | AV4: 10.5 | AW4: 5.5 | AY4: 2 | AZ4: 16 | BA4: 10.5 | BB4: 5 | BD4: 2 | BE4: 16 | BF4: 10.5 | BG4: 5
A5: 3 | B5: 13 | F5: 3 | G5: 13 | H5: 8.5 | K5: 3 | L5: 13 | M5: 8.5 | P5: 3 | Q5: 13 | R5: 8 | U5: 3 | V5: 13 | W5: 7.5 | Z5: 3 | AA5: 13 | AB5: 7 | AE5: 3 | AF5: 14 | AG5: 9.5 | AH5: 5 | AJ5: 3 | AK5: 14 | AL5: 9 | AM5: 4.5 | AO5: 3 | AP5: 15 | AQ5: 10 | AR5: 5 | AT5: 3 | AU5: 15 | AV5: 9.5 | AW5: 4.5 | AY5: 3 | AZ5: 15 | BA5: 9.5 | BB5: 4 | BD5: 3 | BE5: 15 | BF5: 9.5 | BG5: 4
A6: 4 | B6: 12 | F6: 4 | G6: 12 | H6: 7.5 | K6: 4 | L6: 12 | M6: 7.5 | P6: 4 | Q6: 12 | R6: 7 | U6: 4 | V6: 12 | W6: 6.5 | Z6: 4 | AA6: 12 | AB6: 6 | AE6: 4 | AF6: 13 | AG6: 8.5 | AH6: 4 | AJ6: 4 | AK6: 13 | AL6: 8 | AM6: 3.5 | AO6: 4 | AP6: 14 | AQ6: 9 | AR6: 4 | AT6: 4 | AU6: 14 | AV6: 8.5 | AW6: 3.5 | AY6: 4 | AZ6: 14 | BA6: 8.5 | BB6: 3 | BD6: 4 | BE6: 14 | BF6: 8.5 | BG6: 3
A7: 5 | B7: 11 | F7: 5 | G7: 11 | H7: 6.5 | K7: 5 | L7: 11 | M7: 6.5 | P7: 5 | Q7: 11 | R7: 6 | U7: 5 | V7: 11 | W7: 5.5 | Z7: 5 | AA7: 11 | AB7: 5 | AE7: 5 | AF7: 12 | AG7: 7.5 | AH7: 3 | AJ7: 5 | AK7: 12 | AL7: 7 | AM7: 2.5 | AO7: 5 | AP7: 13 | AQ7: 8 | AR7: 3 | AT7: 5 | AU7: 13 | AV7: 7.5 | AW7: 2.5 | AY7: 5 | AZ7: 13 | BA7: 7.5 | BB7: 2 | BD7: 5 | BE7: 13 | BF7: 7.5 | BG7: 2
A8: 6 | B8: 10.5 | F8: 6 | G8: 10.5 | H8: 6 | K8: 6 | L8: 10.5 | M8: 6 | P8: 6 | Q8: 10.5 | R8: 5.5 | U8: 6 | V8: 10.5 | W8: 5 | Z8: 6 | AA8: 10.5 | AB8: 4.5 | AE8: 6 | AF8: 11.5 | AG8: 7 | AH8: 2.5 | AJ8: 6 | AK8: 11.5 | AL8: 6.5 | AM8: 2 | AO8: 6 | AP8: 12.5 | AQ8: 7.5 | AR8: 2.5 | AT8: 6 | AU8: 12.5 | AV8: 7 | AW8: 2 | AY8: 6 | AZ8: 12.5 | BA8: 7 | BB8: 1.5 | BD8: 6 | BE8: 12.5 | BF8: 7 | BG8: 1.5
A9: 7 | B9: 10 | F9: 7 | G9: 10 | H9: 5.5 | K9: 7 | L9: 10 | M9: 5.5 | P9: 7 | Q9: 10 | R9: 5 | U9: 7 | V9: 10 | W9: 4.5 | Z9: 7 | AA9: 10 | AB9: 4 | AE9: 7 | AF9: 11 | AG9: 6.5 | AH9: 2 | AJ9: 7 | AK9: 11 | AL9: 6 | AM9: 1.5 | AO9: 7 | AP9: 12 | AQ9: 7 | AR9: 2 | AT9: 7 | AU9: 12 | AV9: 6.5 | AW9: 1.5 | AY9: 7 | AZ9: 12 | BA9: 6.5 | BB9: 1 | BD9: 7 | BE9: 12 | BF9: 6.5 | BG9: 1
A10: 8 | B10: 9.5 | K10: 8 | L10: 9.5 | M10: 5 | P10: 8 | Q10: 9.5 | R10: 4.5 | U10: 8 | V10: 9.5 | W10: 4 | Z10: 8 | AA10: 9.5 | AB10: 3.5 | AE10: 8 | AF10: 10.5 | AG10: 6 | AH10: 1.5 | AJ10: 8 | AK10: 10.5 | AL10: 5.5 | AM10: 1 | AO10: 8 | AP10: 11.5 | AQ10: 6.5 | AR10: 1.5 | AT10: 8 | AU10: 11.5 | AV10: 6 | AW10: 1 | AY10: 8 | AZ10: 11.5 | BA10: 6 | BB10: 0.5 | BD10: 8 | BE10: 11.5 | BF10: 6 | BG10: 0.5
A11: 9 | B11: 9 | P11: 9 | Q11: 9 | R11: 4 | U11: 9 | V11: 9 | W11: 3.5 | Z11: 9 | AA11: 9 | AB11: 3 | AJ11: 9 | AK11: 10 | AO11: 9 | AP11: 11 | AQ11: 6 | AR11: 1 | AT11: 9 | AU11: 11 | AV11: 5.5 | AW11: 0.5 | AY11: 9 | AZ11: 11 | BA11: 5.5 | BB11: 0 | BD11: 9 | BE11: 11 | BF11: 5.5 | BG11: 0
A12: 10 | B12: 8.5 | U12: 10 | V12: 8.5 | W12: 3 | Z12: 10 | AA12: 8.5 | AB12: 2.5 | AT12: 10 | AU12: 10.5 | AY12: 10 | AZ12: 10.5 | BA12: 5 | BB12: 0 | BD12: 10 | BE12: 10.5 | BF12: 5 | BG12: 0
A13: 11 | B13: 8 | Z13: 11 | AA13: 8 | BD13: 11 | BE13: 10 | BF13: 4.5 | BG13: 0
A14: 12 | B14: 7.5 | BD14: 12 | BE14: 9.5 | BF14: 4 | BG14: 0
A16: число людей / колонка для очков
A17: 1 | B17: 2 | C17: 3 | D17: 4 | E17: 5 | F17: 6 | G17: 7 | H17: 8 | I17: 9 | J17: 10 | K17: 11 | L17: 12 | M17: 13 | N17: 14 | O17: 15 | P17: 16 | Q17: 17 | R17: 18 | S17: 19 | T17: 20 | U17: 21 | V17: 22 | W17: 23 | X17: 24 | Y17: 25 | Z17: 26 | AA17: 27 | AB17: 28 | AC17: 29 | AD17: 30 | AE17: 31 | AF17: 32 | AG17: 33 | AH17: 34 | AI17: 35 | AJ17: 36
A18: 1 | B18: 1 | C18: 1 | D18: 1 | E18: 1 | F18: 1 | G18: 1 | H18: 1 | I18: 1 | J18: 1 | K18: 1 | L18: 1 | M18: 6 | N18: 6 | O18: 11 | P18: 11 | Q18: 16 | R18: 16 | S18: 21 | T18: 21 | U18: 26 | V18: 26 | W18: 31 | X18: 31 | Y18: 36 | Z18: 41 | AA18: 41 | AB18: 46 | AC18: 51 | AD18: 51 | AE18: 56 | AF18: 56 | AG18: 56 | AH18: 56 | AI18: 56 | AJ18: 56
A20: ОБГОНЫ
B21: I гр | M21: II гр | N21: III гр
B22: с 12 | C22: с 11 | D22: с 10 | E22: с 9 | F22: с 8 | G22: с 7 | H22: с 6 | I22: с 5 | J22: с 4 | K22: с 3 | L22: со 2
A23: 1 | B23: 1.3 | C23: 1.3 | D23: 1.2 | E23: 1.2 | F23: 1.2 | G23: 1.1 | H23: 1 | I23: 0.9 | J23: 0.8 | K23: 0.7 | L23: 0.7 | M23: 0.7 | N23: 0.5
A24: 2 | B24: =B23+C23 -> 2.6 | C24: =C23+D23 -> 2.5 | D24: =D23+E23 -> 2.4 | E24: =E23+F23 -> 2.4 | F24: =F23+G23 -> 2.3 | G24: =G23+H23 -> 2.1 | H24: =H23+I23 -> 1.9 | I24: =I23+J23 -> 1.7 | ... K24: =K23+L23 -> 1.4 | M24: 1.4 | N24: 1
A25: 3 | B25: =B24+D23 -> 3.8 | C25: =C24+E23 -> 3.7 | D25: =D24+F23 -> 3.6 | E25: =E24+G23 -> 3.5 | F25: =F24+H23 -> 3.3 | G25: =G24+I23 -> 3 | H25: =H24+J23 -> 2.7 | I25: =I24+K23 -> 2.4 | J25: =J24+L23 -> 2.2 | M25: 2.1 | N25: 1.5
A26: 4 | B26: =B25+E23 -> 5 | C26: =C25+F23 -> 4.9 | D26: =D25+G23 -> 4.7 | E26: =E25+H23 -> 4.5 | F26: =F25+I23 -> 4.2 | G26: =G25+J23 -> 3.8 | H26: =H25+K23 -> 3.4 | I26: =I25+L23 -> 3.1 | M26: 2.8 | N26: 2
A27: 5 | B27: =B26+F23 -> 6.2 | C27: =C26+G23 -> 6 | D27: =D26+H23 -> 5.7 | E27: =E26+I23 -> 5.4 | F27: =F26+J23 -> 5 | G27: =G26+K23 -> 4.5 | H27: =H26+L23 -> 4.1 | M27: 3.5 | N27: 2.5
A28: 6 | B28: =B27+G23 -> 7.3 | C28: =C27+H23 -> 7 | D28: =D27+I23 -> 6.6 | E28: =E27+J23 -> 6.2 | F28: =F27+K23 -> 5.7 | G28: =G27+L23 -> 5.2 | M28: 4.2 | N28: 3
A29: 7 | B29: =B28+H23 -> 8.3 | C29: =C28+I23 -> 7.9 | D29: =D28+J23 -> 7.4 | E29: =E28+K23 -> 6.9 | F29: =F28+L23 -> 6.4 | M29: 4.9 | N29: 3.5
A30: 8 | B30: =B29+I23 -> 9.2 | C30: =C29+J23 -> 8.7 | D30: =D29+K23 -> 8.1 | E30: =E29+L23 -> 7.6 | M30: 5.6 | N30: 4
A31: 9 | B31: =B30+J23 -> 10 | C31: =C30+K23 -> 9.4 | D31: =D30+L23 -> 8.8 | M31: 6.3 | N31: 4.5
A32: 10 | B32: =B31+K23 -> 10.7 | C32: =C31+L23 -> 10.1 | M32: 7 | N32: 5
A33: 11 | B33: =B32+L23 -> 11.4 | M33: 7.7 | N33: 5.5

Sheet 16.05
A1: Лайт Лига 16.05.2017 (конфигурация 1)
A3: Место | B3: Участник | D3: 1 | G3: 2 | J3: Очки | S3: Сумма
C4: Довес | D4: группа | E4: Старт | F4: Финиш | G4: группа | H4: Старт | I4: Финиш | J4: Квала | K4: 1 | O4: 2
K5: очки | L5: обгоны | M5: время | N5: штрафы | O5: очки | P5: обгоны | Q5: время | R5: штрафы
A6: =RANK(S6,S$6:OFFSET(S$6,0,0,COUNTA(B$6:B$30))) -> 1 | B6: Петренко Влад | C6: 15 | D6: 1 | E6: 8 | F6: 3 | G6: 1 | H6: 7 | I6: 7 | J6: 2.5 | K6: =OFFSET(Очки!$A$2,F6,D6+OFFSET(Очки!$A$18,0,$C$31-1)-1) -> 14 | L6: =IF(F6<E6,OFFSET(Очки!$A$20,2+E6-F6,IF(D6=1,13-E6,10+D6)),0) -> 5 | M6: 2 | O6: =OFFSET(Очки!$A$2,I6,G6+OFFSET(Очки!$A$18,0,$C$31-1)-1) -> 11 | P6: =IF(I6<H6,OFFSET(Очки!$A$20,2+H6-I6,IF(G6=1,13-H6,10+G6)),0) -> 0 | Q6: 2.5 | S6: =SUM(J6:R6) -> 37
A7: =RANK(S7,S$6:OFFSET(S$6,0,0,COUNTA(B$6:B$30))) -> 2 | B7: Пархомчук Саша | C7: - | D7: 1 | E7: 5 | F7: 4 | G7: 1 | H7: 5 | I7: 2 | J7: 1 | K7: =OFFSET(Очки!$A$2,F7,D7+OFFSET(Очки!$A$18,0,$C$31-1)-1) -> 13 | L7: =IF(F7<E7,OFFSET(Очки!$A$20,2+E7-F7,IF(D7=1,13-E7,10+D7)),0) -> 0.9 | M7: 1 | O7: =OFFSET(Очки!$A$2,I7,G7+OFFSET(Очки!$A$18,0,$C$31-1)-1) -> 15 | P7: =IF(I7<H7,OFFSET(Очки!$A$20,2+H7-I7,IF(G7=1,13-H7,10+G7)),0) -> 2.4 | Q7: 2 | S7: =SUM(J7:R7) -> 35.3
A8: =RANK(S8,S$6:OFFSET(S$6,0,0,COUNTA(B$6:B$30))) -> 3 | B8: Веселов Сергей | C8: 10 | D8: 1 | E8: 7 | F8: 6 | G8: 1 | H8: 6 | I8: 1 | J8: 2 | K8: =OFFSET(Очки!$A$2,F8,D8+OFFSET(Очки!$A$18,0,$C$31-1)-1) -> 11.5 | L8: =IF(F8<E8,OFFSET(Очки!$A$20,2+E8-F8,IF(D8=1,13-E8,10+D8)),0) -> 1.1 | M8: 1.5 | N8: -4 | O8: =OFFSET(Очки!$A$2,I8,G8+OFFSET(Очки!$A$18,0,$C$31-1)-1) -> 16 | P8: =IF(I8<H8,OFFSET(Очки!$A$20,2+H8-I8,IF(G8=1,13-H8,10+G8)),0) -> 4.1 | Q8: 1.5 | S8: =SUM(J8:R8) -> 33.7
A9: =RANK(S9,S$6:OFFSET(S$6,0,0,COUNTA(B$6:B$30))) -> 4 | B9: Булавинов Андрей | C9: 5 | D9: 1 | E9: 2 | F9: 2 | G9: 1 | H9: 1 | I9: 4 | K9: =OFFSET(Очки!$A$2,F9,D9+OFFSET(Очки!$A$18,0,$C$31-1)-1) -> 15 | L9: =IF(F9<E9,OFFSET(Очки!$A$20,2+E9-F9,IF(D9=1,13-E9,10+D9)),0) -> 0 | O9: =OFFSET(Очки!$A$2,I9,G9+OFFSET(Очки!$A$18,0,$C$31-1)-1) -> 13 | P9: =IF(I9<H9,OFFSET(Очки!$A$20,2+H9-I9,IF(G9=1,13-H9,10+G9)),0) -> 0 | S9: =SUM(J9:R9) -> 28
A10: =RANK(S10,S$6:OFFSET(S$6,0,0,COUNTA(B$6:B$30))) -> 5 | B10: Ольшанский Костя | C10: 17.5 | D10: 2 | E10: 3 | F10: 1 | G10: 1 | H10: 3 | I10: 3 | K10: =OFFSET(Очки!$A$2,F10,D10+OFFSET(Очки!$A$18,0,$C$31-1)-1) -> 11.5 | L10: =IF(F10<E10,OFFSET(Очки!$A$20,2+E10-F10,IF(D10=1,13-E10,10+D10)),0) -> 1.4 | O10: =OFFSET(Очки!$A$2,I10,G10+OFFSET(Очки!$A$18,0,$C$31-1)-1) -> 14 | P10: =IF(I10<H10,OFFSET(Очки!$A$20,2+H10-I10,IF(G10=1,13-H10,10+G10)),0) -> 0 | Q10: 0.5 | S10: =SUM(J10:R10) -> 27.4
A11: =RANK(S11,S$6:OFFSET(S$6,0,0,COUNTA(B$6:B$30))) -> 6 | B11: Дарий Игорь | C11: - | D11: 1 | E11: 6 | F11: 8 | G11: 1 | H11: 8 | I11: 8 | J11: 1.5 | K11: =OFFSET(Очки!$A$2,F11,D11+OFFSET(Очки!$A$18,0,$C$31-1)-1) -> 10.5 | L11: =IF(F11<E11,OFFSET(Очки!$A$20,2+E11-F11,IF(D11=1,13-E11,10+D11)),0) -> 0 | M11: 2.5 | O11: =OFFSET(Очки!$A$2,I11,G11+OFFSET(Очки!$A$18,0,$C$31-1)-1) -> 10.5 | P11: =IF(I11<H11,OFFSET(Очки!$A$20,2+H11-I11,IF(G11=1,13-H11,10+G11)),0) -> 0 | S11: =SUM(J11:R11) -> 25
A12: =RANK(S12,S$6:OFFSET(S$6,0,0,COUNTA(B$6:B$30))) -> 7 | B12: Дымко Вячеслав | D12: 1 | E12: 4 | F12: 5 | G12: 1 | H12: 2 | I12: 5 | J12: 0.5 | K12: =OFFSET(Очки!$A$2,F12,D12+OFFSET(Очки!$A$18,0,$C$31-1)-1) -> 12 | L12: =IF(F12<E12,OFFSET(Очки!$A$20,2+E12-F12,IF(D12=1,13-E12,10+D12)),0) -> 0 | O12: =OFFSET(Очки!$A$2,I12,G12+OFFSET(Очки!$A$18,0,$C$31-1)-1) -> 12 | P12: =IF(I12<H12,OFFSET(Очки!$A$20,2+H12-I12,IF(G12=1,13-H12,10+G12)),0) -> 0 | S12: =SUM(J12:R12) -> 24.5
A13: =RANK(S13,S$6:OFFSET(S$6,0,0,COUNTA(B$6:B$30))) -> 8 | B13: Пилипчук Вася | C13: 2.5 | D13: 1 | E13: 3 | F13: 6 | G13: 2 | H13: 8 | I13: 4 | K13: =OFFSET(Очки!$A$2,F13,D13+OFFSET(Очки!$A$18,0,$C$31-1)-1) -> 11.5 | L13: =IF(F13<E13,OFFSET(Очки!$A$20,2+E13-F13,IF(D13=1,13-E13,10+D13)),0) -> 0 | O13: =OFFSET(Очки!$A$2,I13,G13+OFFSET(Очки!$A$18,0,$C$31-1)-1) -> 8.5 | P13: =IF(I13<H13,OFFSET(Очки!$A$20,2+H13-I13,IF(G13=1,13-H13,10+G13)),0) -> 2.8 | Q13: 1 | S13: =SUM(J13:R13) -> 23.8
A14: =RANK(S14,S$6:OFFSET(S$6,0,0,COUNTA(B$6:B$30))) -> 9 | B14: Потапов Сергей | D14: 1 | E14: 1 | F14: 1 | G14: 2 | H14: 5 | I14: 5 | K14: =OFFSET(Очки!$A$2,F14,D14+OFFSET(Очки!$A$18,0,$C$31-1)-1) -> 16 | L14: =IF(F14<E14,OFFSET(Очки!$A$20,2+E14-F14,IF(D14=1,13-E14,10+D14)),0) -> 0 | O14: =OFFSET(Очки!$A$2,I14,G14+OFFSET(Очки!$A$18,0,$C$31-1)-1) -> 7.5 | P14: =IF(I14<H14,OFFSET(Очки!$A$20,2+H14-I14,IF(G14=1,13-H14,10+G14)),0) -> 0 | S14: =SUM(J14:R14) -> 23.5
A15: =RANK(S15,S$6:OFFSET(S$6,0,0,COUNTA(B$6:B$30))) -> 10 | B15: Синани Влад | C15: 5 | D15: 2 | E15: 1 | F15: 2 | G15: 2 | H15: 4 | I15: 2 | K15: =OFFSET(Очки!$A$2,F15,D15+OFFSET(Очки!$A$18,0,$C$31-1)-1) -> 10.5 | L15: =IF(F15<E15,OFFSET(Очки!$A$20,2+E15-F15,IF(D15=1,13-E15,10+D15)),0) -> 0 | O15: =OFFSET(Очки!$A$2,I15,G15+OFFSET(Очки!$A$18,0,$C$31-1)-1) -> 10.5 | P15: =IF(I15<H15,OFFSET(Очки!$A$20,2+H15-I15,IF(G15=1,13-H15,10+G15)),0) -> 1.4 | S15: =SUM(J15:R15) -> 22.4
A16: =RANK(S16,S$6:OFFSET(S$6,0,0,COUNTA(B$6:B$30))) -> 11 | B16: Муляр Андрей | C16: - | D16: 2 | E16: 5 | F16: 4 | G16: 2 | H16: 1 | I16: 1 | K16: =OFFSET(Очки!$A$2,F16,D16+OFFSET(Очки!$A$18,0,$C$31-1)-1) -> 8.5 | L16: =IF(F16<E16,OFFSET(Очки!$A$20,2+E16-F16,IF(D16=1,13-E16,10+D16)),0) -> 0.7 | O16: =OFFSET(Очки!$A$2,I16,G16+OFFSET(Очки!$A$18,0,$C$31-1)-1) -> 11.5 | P16: =IF(I16<H16,OFFSET(Очки!$A$20,2+H16-I16,IF(G16=1,13-H16,10+G16)),0) -> 0 | S16: =SUM(J16:R16) -> 20.7
A17: =RANK(S17,S$6:OFFSET(S$6,0,0,COUNTA(B$6:B$30))) -> 12 | B17: Халецкий Женя | C17: 7.5 | D17: 2 | E17: 6 | F17: 5 | G17: 1 | H17: 4 | I17: 6 | K17: =OFFSET(Очки!$A$2,F17,D17+OFFSET(Очки!$A$18,0,$C$31-1)-1) -> 7.5 | L17: =IF(F17<E17,OFFSET(Очки!$A$20,2+E17-F17,IF(D17=1,13-E17,10+D17)),0) -> 0.7 | M17: 0.5 | O17: =OFFSET(Очки!$A$2,I17,G17+OFFSET(Очки!$A$18,0,$C$31-1)-1) -> 11.5 | P17: =IF(I17<H17,OFFSET(Очки!$A$20,2+H17-I17,IF(G17=1,13-H17,10+G17)),0) -> 0 | S17: =SUM(J17:R17) -> 20.2
A18: =RANK(S18,S$6:OFFSET(S$6,0,0,COUNTA(B$6:B$30))) -> 13 | B18: Сомок Денис | C18: 5 | D18: 2 | E18: 7 | F18: 7 | G18: 2 | H18: 7 | I18: 3 | K18: =OFFSET(Очки!$A$2,F18,D18+OFFSET(Очки!$A$18,0,$C$31-1)-1) -> 6.5 | L18: =IF(F18<E18,OFFSET(Очки!$A$20,2+E18-F18,IF(D18=1,13-E18,10+D18)),0) -> 0 | O18: =OFFSET(Очки!$A$2,I18,G18+OFFSET(Очки!$A$18,0,$C$31-1)-1) -> 9.5 | P18: =IF(I18<H18,OFFSET(Очки!$A$20,2+H18-I18,IF(G18=1,13-H18,10+G18)),0) -> 2.8 | S18: =SUM(J18:R18) -> 18.8
A19: =RANK(S19,S$6:OFFSET(S$6,0,0,COUNTA(B$6:B$30))) -> 14 | B19: Фаль Александр | C19: - | D19: 2 | E19: 4 | F19: 3 | G19: 2 | H19: 2 | I19: 6 | K19: =OFFSET(Очки!$A$2,F19,D19+OFFSET(Очки!$A$18,0,$C$31-1)-1) -> 9.5 | L19: =IF(F19<E19,OFFSET(Очки!$A$20,2+E19-F19,IF(D19=1,13-E19,10+D19)),0) -> 0.7 | O19: =OFFSET(Очки!$A$2,I19,G19+OFFSET(Очки!$A$18,0,$C$31-1)-1) -> 7 | P19: =IF(I19<H19,OFFSET(Очки!$A$20,2+H19-I19,IF(G19=1,13-H19,10+G19)),0) -> 0 | S19: =SUM(J19:R19) -> 17.2
A20: =RANK(S20,S$6:OFFSET(S$6,0,0,COUNTA(B$6:B$30))) -> 15 | B20: Морозенко Сергей | C20: 10 | D20: 3 | E20: 4 | F20: 1 | G20: 3 | H20: 6 | I20: 2 | K20: =OFFSET(Очки!$A$2,F20,D20+OFFSET(Очки!$A$18,0,$C$31-1)-1) -> 7 | L20: =IF(F20<E20,OFFSET(Очки!$A$20,2+E20-F20,IF(D20=1,13-E20,10+D20)),0) -> 1.5 | O20: =OFFSET(Очки!$A$2,I20,G20+OFFSET(Очки!$A$18,0,$C$31-1)-1) -> 6 | P20: =IF(I20<H20,OFFSET(Очки!$A$20,2+H20-I20,IF(G20=1,13-H20,10+G20)),0) -> 2 | S20: =SUM(J20:R20) -> 16.5
A21: =RANK(S21,S$6:OFFSET(S$6,0,0,COUNTA(B$6:B$30))) -> 16 | B21: Яременко Алексей | C21: - | D21: 3 | E21: 5 | F21: 2 | G21: 3 | H21: 7 | I21: 1 | K21: =OFFSET(Очки!$A$2,F21,D21+OFFSET(Очки!$A$18,0,$C$31-1)-1) -> 6 | L21: =IF(F21<E21,OFFSET(Очки!$A$20,2+E21-F21,IF(D21=1,13-E21,10+D21)),0) -> 1.5 | N21: -3 | O21: =OFFSET(Очки!$A$2,I21,G21+OFFSET(Очки!$A$18,0,$C$31-1)-1) -> 7 | P21: =IF(I21<H21,OFFSET(Очки!$A$20,2+H21-I21,IF(G21=1,13-H21,10+G21)),0) -> 3 | S21: =SUM(J21:R21) -> 14.5
A22: =RANK(S22,S$6:OFFSET(S$6,0,0,COUNTA(B$6:B$30))) -> 17 | B22: Мифтахутдинов Рафаель | C22: - | D22: 2 | E22: 2 | F22: 6 | G22: 2 | H22: 3 | I22: 7 | K22: =OFFSET(Очки!$A$2,F22,D22+OFFSET(Очки!$A$18,0,$C$31-1)-1) -> 7 | L22: =IF(F22<E22,OFFSET(Очки!$A$20,2+E22-F22,IF(D22=1,13-E22,10+D22)),0) -> 0 | O22: =OFFSET(Очки!$A$2,I22,G22+OFFSET(Очки!$A$18,0,$C$31-1)-1) -> 6.5 | P22: =IF(I22<H22,OFFSET(Очки!$A$20,2+H22-I22,IF(G22=1,13-H22,10+G22)),0) -> 0 | S22: =SUM(J22:R22) -> 13.5
A23: =RANK(S23,S$6:OFFSET(S$6,0,0,COUNTA(B$6:B$30))) -> 18 | B23: Шиленко Александр | C23: - | D23: 2 | E23: 8 | F23: 8 | G23: 2 | H23: 6 | I23: 8 | K23: =OFFSET(Очки!$A$2,F23,D23+OFFSET(Очки!$A$18,0,$C$31-1)-1) -> 6 | L23: =IF(F23<E23,OFFSET(Очки!$A$20,2+E23-F23,IF(D23=1,13-E23,10+D23)),0) -> 0 | O23: =OFFSET(Очки!$A$2,I23,G23+OFFSET(Очки!$A$18,0,$C$31-1)-1) -> 6 | P23: =IF(I23<H23,OFFSET(Очки!$A$20,2+H23-I23,IF(G23=1,13-H23,10+G23)),0) -> 0 | S23: =SUM(J23:R23) -> 12
A24: =RANK(S24,S$6:OFFSET(S$6,0,0,COUNTA(B$6:B$30))) -> 19 | B24: Форостюк Миша | D24: 3 | E24: 8 | F24: 4 | G24: 3 | H24: 5 | I24: 4 | K24: =OFFSET(Очки!$A$2,F24,D24+OFFSET(Очки!$A$18,0,$C$31-1)-1) -> 4 | L24: =IF(F24<E24,OFFSET(Очки!$A$20,2+E24-F24,IF(D24=1,13-E24,10+D24)),0) -> 2 | O24: =OFFSET(Очки!$A$2,I24,G24+OFFSET(Очки!$A$18,0,$C$31-1)-1) -> 4 | P24: =IF(I24<H24,OFFSET(Очки!$A$20,2+H24-I24,IF(G24=1,13-H24,10+G24)),0) -> 0.5 | S24: =SUM(J24:R24) -> 10.5
A25: =RANK(S25,S$6:OFFSET(S$6,0,0,COUNTA(B$6:B$30))) -> 20 | B25: Дикань Сергей/ Dykan Sergey | C25: - | D25: 3 | E25: 3 | F25: 3 | G25: 3 | H25: 4 | I25: 6 | K25: =OFFSET(Очки!$A$2,F25,D25+OFFSET(Очки!$A$18,0,$C$31-1)-1) -> 5 | L25: =IF(F25<E25,OFFSET(Очки!$A$20,2+E25-F25,IF(D25=1,13-E25,10+D25)),0) -> 0 | O25: =OFFSET(Очки!$A$2,I25,G25+OFFSET(Очки!$A$18,0,$C$31-1)-1) -> 2.5 | P25: =IF(I25<H25,OFFSET(Очки!$A$20,2+H25-I25,IF(G25=1,13-H25,10+G25)),0) -> 0 | S25: =SUM(J25:R25) -> 7.5
A26: =RANK(S26,S$6:OFFSET(S$6,0,0,COUNTA(B$6:B$30))) -> 21 | B26: Чайка Кирилл | C26: 12.5 | D26: 3 | E26: 6 | F26: 7 | G26: 3 | H26: 1 | I26: 3 | K26: =OFFSET(Очки!$A$2,F26,D26+OFFSET(Очки!$A$18,0,$C$31-1)-1) -> 2 | L26: =IF(F26<E26,OFFSET(Очки!$A$20,2+E26-F26,IF(D26=1,13-E26,10+D26)),0) -> 0 | O26: =OFFSET(Очки!$A$2,I26,G26+OFFSET(Очки!$A$18,0,$C$31-1)-1) -> 5 | P26: =IF(I26<H26,OFFSET(Очки!$A$20,2+H26-I26,IF(G26=1,13-H26,10+G26)),0) -> 0 | S26: =SUM(J26:R26) -> 7
A27: =RANK(S27,S$6:OFFSET(S$6,0,0,COUNTA(B$6:B$30))) -> 22 | B27: Смелов Дмитрий | C27: 15 | D27: 3 | E27: 2 | F27: 6 | G27: 3 | H27: 3 | I27: 5 | K27: =OFFSET(Очки!$A$2,F27,D27+OFFSET(Очки!$A$18,0,$C$31-1)-1) -> 2.5 | L27: =IF(F27<E27,OFFSET(Очки!$A$20,2+E27-F27,IF(D27=1,13-E27,10+D27)),0) -> 0 | O27: =OFFSET(Очки!$A$2,I27,G27+OFFSET(Очки!$A$18,0,$C$31-1)-1) -> 3 | P27: =IF(I27<H27,OFFSET(Очки!$A$20,2+H27-I27,IF(G27=1,13-H27,10+G27)),0) -> 0 | S27: =SUM(J27:R27) -> 5.5
A28: =RANK(S28,S$6:OFFSET(S$6,0,0,COUNTA(B$6:B$30))) -> 23 | B28: Рябоконь Максим | C28: - | D28: 3 | E28: 1 | F28: 5 | G28: 3 | H28: 2 | I28: 7 | K28: =OFFSET(Очки!$A$2,F28,D28+OFFSET(Очки!$A$18,0,$C$31-1)-1) -> 3 | L28: =IF(F28<E28,OFFSET(Очки!$A$20,2+E28-F28,IF(D28=1,13-E28,10+D28)),0) -> 0 | O28: =OFFSET(Очки!$A$2,I28,G28+OFFSET(Очки!$A$18,0,$C$31-1)-1) -> 2 | P28: =IF(I28<H28,OFFSET(Очки!$A$20,2+H28-I28,IF(G28=1,13-H28,10+G28)),0) -> 0 | S28: =SUM(J28:R28) -> 5
A29: =RANK(S29,S$6:OFFSET(S$6,0,0,COUNTA(B$6:B$30))) -> 24 | B29: Морозова Дарья | C29: - | D29: 3 | E29: 7 | F29: 8 | G29: 3 | H29: 8 | I29: 8 | K29: =OFFSET(Очки!$A$2,F29,D29+OFFSET(Очки!$A$18,0,$C$31-1)-1) -> 1.5 | L29: =IF(F29<E29,OFFSET(Очки!$A$20,2+E29-F29,IF(D29=1,13-E29,10+D29)),0) -> 0 | O29: =OFFSET(Очки!$A$2,I29,G29+OFFSET(Очки!$A$18,0,$C$31-1)-1) -> 1.5 | P29: =IF(I29<H29,OFFSET(Очки!$A$20,2+H29-I29,IF(G29=1,13-H29,10+G29)),0) -> 0 | S29: =SUM(J29:R29) -> 3
A30: =RANK(S30,S$6:OFFSET(S$6,0,0,COUNTA(B$6:B$30))) -> #N/A | K30: =OFFSET(Очки!$A$2,F30,D30+OFFSET(Очки!$A$18,0,$C$31-1)-1) -> 0 | L30: =IF(F30<E30,OFFSET(Очки!$A$20,2+E30-F30,IF(D30=1,13-E30,10+D30)),0) -> 0 | O30: =OFFSET(Очки!$A$2,I30,G30+OFFSET(Очки!$A$18,0,$C$31-1)-1) -> 0 | P30: =IF(I30<H30,OFFSET(Очки!$A$20,2+H30-I30,IF(G30=1,13-H30,10+G30)),0) -> 0 | S30: =SUM(J30:R30) -> 0
B31: Всего участников | C31: =COUNTA(B6:B30) -> 24

Sheet 23.05
A1: Лайт Лига 23.05.2017 (конфигурация 6R)
A3: Место | B3: Участник | D3: 1 | G3: 2 | J3: Очки | S3: Сумма
C4: Довес | D4: группа | E4: Старт | F4: Финиш | G4: группа | H4: Старт | I4: Финиш | J4: Квала | K4: 1 | O4: 2
K5: очки | L5: обгоны | M5: время | N5: штрафы | O5: очки | P5: обгоны | Q5: время | R5: штрафы
A6: =RANK(S6,S$6:OFFSET(S$6,0,0,COUNTA(B$6:B$30))) -> 1 | B6: Веселов Сергей | C6: 10 | D6: 1 | E6: 2 | F6: 1 | G6: 1 | H6: 2 | I6: 2 | K6: =OFFSET(Очки!$A$2,F6,D6+OFFSET(Очки!$A$18,0,$C$31-1)-1) -> 15 | L6: =IF(F6<E6,OFFSET(Очки!$A$20,2+E6-F6,IF(D6=1,13-E6,10+D6)),0) -> 0.7 | O6: =OFFSET(Очки!$A$2,I6,G6+OFFSET(Очки!$A$18,0,$C$31-1)-1) -> 14 | P6: =IF(I6<H6,OFFSET(Очки!$A$20,2+H6-I6,IF(G6=1,13-H6,10+G6)),0) -> 0 | Q6: 2 | S6: =SUM(J6:R6) -> 31.7
A7: =RANK(S7,S$6:OFFSET(S$6,0,0,COUNTA(B$6:B$30))) -> 2 | B7: Кравченко Женя | C7: - | D7: 1 | E7: 7 | F7: 7 | G7: 1 | H7: 8 | I7: 5 | J7: 2 | K7: =OFFSET(Очки!$A$2,F7,D7+OFFSET(Очки!$A$18,0,$C$31-1)-1) -> 10 | L7: =IF(F7<E7,OFFSET(Очки!$A$20,2+E7-F7,IF(D7=1,13-E7,10+D7)),0) -> 0 | M7: 2.5 | O7: =OFFSET(Очки!$A$2,I7,G7+OFFSET(Очки!$A$18,0,$C$31-1)-1) -> 11 | P7: =IF(I7<H7,OFFSET(Очки!$A$20,2+H7-I7,IF(G7=1,13-H7,10+G7)),0) -> 3.3 | Q7: 2.5 | S7: =SUM(J7:R7) -> 31.3
A8: =RANK(S8,S$6:OFFSET(S$6,0,0,COUNTA(B$6:B$30))) -> 3 | B8: Джемула Сергей / Dzemula Sergey | C8: - | D8: 1 | E8: 8 | F8: 6 | G8: 1 | H8: 6 | I8: 2 | J8: 2.5 | K8: =OFFSET(Очки!$A$2,F8,D8+OFFSET(Очки!$A$18,0,$C$31-1)-1) -> 10.5 | L8: =IF(F8<E8,OFFSET(Очки!$A$20,2+E8-F8,IF(D8=1,13-E8,10+D8)),0) -> 2.3 | M8: 1.5 | O8: =OFFSET(Очки!$A$2,I8,G8+OFFSET(Очки!$A$18,0,$C$31-1)-1) -> 14 | P8: =IF(I8<H8,OFFSET(Очки!$A$20,2+H8-I8,IF(G8=1,13-H8,10+G8)),0) -> 3.4 | Q8: 1 | R8: -4 | S8: =SUM(J8:R8) -> 31.2
A9: =RANK(S9,S$6:OFFSET(S$6,0,0,COUNTA(B$6:B$30))) -> 4 | B9: Онащук Максим | C9: - | D9: 1 | E9: 6 | F9: 4 | G9: 1 | H9: 7 | I9: 6 | J9: 1.5 | K9: =OFFSET(Очки!$A$2,F9,D9+OFFSET(Очки!$A$18,0,$C$31-1)-1) -> 12 | L9: =IF(F9<E9,OFFSET(Очки!$A$20,2+E9-F9,IF(D9=1,13-E9,10+D9)),0) -> 1.9 | M9: 2 | O9: =OFFSET(Очки!$A$2,I9,G9+OFFSET(Очки!$A$18,0,$C$31-1)-1) -> 10.5 | P9: =IF(I9<H9,OFFSET(Очки!$A$20,2+H9-I9,IF(G9=1,13-H9,10+G9)),0) -> 1.1 | Q9: 1.5 | S9: =SUM(J9:R9) -> 30.5
A10: =RANK(S10,S$6:OFFSET(S$6,0,0,COUNTA(B$6:B$30))) -> 5 | B10: Григорьев Гена / Grigoriev Gennady | C10: 12.5 | D10: 1 | E10: 4 | F10: 2 | G10: 1 | H10: 3 | I10: 4 | J10: 0.5 | K10: =OFFSET(Очки!$A$2,F10,D10+OFFSET(Очки!$A$18,0,$C$31-1)-1) -> 14 | L10: =IF(F10<E10,OFFSET(Очки!$A$20,2+E10-F10,IF(D10=1,13-E10,10+D10)),0) -> 1.5 | O10: =OFFSET(Очки!$A$2,I10,G10+OFFSET(Очки!$A$18,0,$C$31-1)-1) -> 12 | P10: =IF(I10<H10,OFFSET(Очки!$A$20,2+H10-I10,IF(G10=1,13-H10,10+G10)),0) -> 0 | S10: =SUM(J10:R10) -> 28
A11: =RANK(S11,S$6:OFFSET(S$6,0,0,COUNTA(B$6:B$30))) -> 6 | B11: Дарий Игорь / Dariy Igor | C11: - | D11: 1 | E11: 5 | F11: 4 | G11: 1 | H11: 4 | I11: 6 | J11: 1 | K11: =OFFSET(Очки!$A$2,F11,D11+OFFSET(Очки!$A$18,0,$C$31-1)-1) -> 12 | L11: =IF(F11<E11,OFFSET(Очки!$A$20,2+E11-F11,IF(D11=1,13-E11,10+D11)),0) -> 0.9 | M11: 0.5 | O11: =OFFSET(Очки!$A$2,I11,G11+OFFSET(Очки!$A$18,0,$C$31-1)-1) -> 10.5 | P11: =IF(I11<H11,OFFSET(Очки!$A$20,2+H11-I11,IF(G11=1,13-H11,10+G11)),0) -> 0 | S11: =SUM(J11:R11) -> 24.9
A12: =RANK(S12,S$6:OFFSET(S$6,0,0,COUNTA(B$6:B$30))) -> 7 | B12: Смерчинский Саша | C12: 5 | D12: 2 | E12: 7 | F12: 3 | G12: 1 | H12: 1 | I12: 1 | K12: =OFFSET(Очки!$A$2,F12,D12+OFFSET(Очки!$A$18,0,$C$31-1)-1) -> 7 | L12: =IF(F12<E12,OFFSET(Очки!$A$20,2+E12-F12,IF(D12=1,13-E12,10+D12)),0) -> 2.8 | O12: =OFFSET(Очки!$A$2,I12,G12+OFFSET(Очки!$A$18,0,$C$31-1)-1) -> 15 | P12: =IF(I12<H12,OFFSET(Очки!$A$20,2+H12-I12,IF(G12=1,13-H12,10+G12)),0) -> 0 | R12: -4 | S12: =SUM(J12:R12) -> 20.8
A13: =RANK(S13,S$6:OFFSET(S$6,0,0,COUNTA(B$6:B$30))) -> 8 | B13: Пилипчук Вася | C13: 2.5 | D13: 1 | E13: 3 | F13: 3 | G13: 1 | H13: 5 | I13: 8 | K13: =OFFSET(Очки!$A$2,F13,D13+OFFSET(Очки!$A$18,0,$C$31-1)-1) -> 13 | L13: =IF(F13<E13,OFFSET(Очки!$A$20,2+E13-F13,IF(D13=1,13-E13,10+D13)),0) -> 0 | M13: 1 | N13: -3 | O13: =OFFSET(Очки!$A$2,I13,G13+OFFSET(Очки!$A$18,0,$C$31-1)-1) -> 9.5 | P13: =IF(I13<H13,OFFSET(Очки!$A$20,2+H13-I13,IF(G13=1,13-H13,10+G13)),0) -> 0 | S13: =SUM(J13:R13) -> 20.5
A14: =RANK(S14,S$6:OFFSET(S$6,0,0,COUNTA(B$6:B$30))) -> 9 | B14: Мандзюк Артур / Mandzuk Artur | C14: - | D14: 2 | E14: 2 | F14: 1 | G14: 2 | H14: 3 | I14: 2 | K14: =OFFSET(Очки!$A$2,F14,D14+OFFSET(Очки!$A$18,0,$C$31-1)-1) -> 9 | L14: =IF(F14<E14,OFFSET(Очки!$A$20,2+E14-F14,IF(D14=1,13-E14,10+D14)),0) -> 0.7 | O14: =OFFSET(Очки!$A$2,I14,G14+OFFSET(Очки!$A$18,0,$C$31-1)-1) -> 8 | P14: =IF(I14<H14,OFFSET(Очки!$A$20,2+H14-I14,IF(G14=1,13-H14,10+G14)),0) -> 0.7 | Q14: 0.5 | S14: =SUM(J14:R14) -> 18.9
A15: =RANK(S15,S$6:OFFSET(S$6,0,0,COUNTA(B$6:B$30))) -> 10 | B15: Синани Влад / Sinani Vlad | C15: - | D15: 2 | E15: 1 | F15: 2 | G15: 2 | H15: 4 | I15: 2 | K15: =OFFSET(Очки!$A$2,F15,D15+OFFSET(Очки!$A$18,0,$C$31-1)-1) -> 8 | L15: =IF(F15<E15,OFFSET(Очки!$A$20,2+E15-F15,IF(D15=1,13-E15,10+D15)),0) -> 0 | O15: =OFFSET(Очки!$A$2,I15,G15+OFFSET(Очки!$A$18,0,$C$31-1)-1) -> 8 | P15: =IF(I15<H15,OFFSET(Очки!$A$20,2+H15-I15,IF(G15=1,13-H15,10+G15)),0) -> 1.4 | S15: =SUM(J15:R15) -> 17.4
A16: =RANK(S16,S$6:OFFSET(S$6,0,0,COUNTA(B$6:B$30))) -> 13 | B16: Потапов Сергей/ Potapov Sergey | C16: - | D16: 3 | E16: 5 | F16: 1 | G16: 2 | H16: 1 | I16: 1 | K16: =OFFSET(Очки!$A$2,F16,D16+OFFSET(Очки!$A$18,0,$C$31-1)-1) -> 0 | L16: =IF(F16<E16,OFFSET(Очки!$A$20,2+E16-F16,IF(D16=1,13-E16,10+D16)),0) -> 2 | O16: =OFFSET(Очки!$A$2,I16,G16+OFFSET(Очки!$A$18,0,$C$31-1)-1) -> 9 | P16: =IF(I16<H16,OFFSET(Очки!$A$20,2+H16-I16,IF(G16=1,13-H16,10+G16)),0) -> 0 | S16: =SUM(J16:R16) -> 11
A17: =RANK(S17,S$6:OFFSET(S$6,0,0,COUNTA(B$6:B$30))) -> 12 | B17: Муляр Андрей / Mular Andrey | C17: - | D17: 2 | E17: 5 | F17: 4 | G17: 2 | H17: 7 | I17: 5 | K17: =OFFSET(Очки!$A$2,F17,D17+OFFSET(Очки!$A$18,0,$C$31-1)-1) -> 6 | L17: =IF(F17<E17,OFFSET(Очки!$A$20,2+E17-F17,IF(D17=1,13-E17,10+D17)),0) -> 0.7 | O17: =OFFSET(Очки!$A$2,I17,G17+OFFSET(Очки!$A$18,0,$C$31-1)-1) -> 5 | P17: =IF(I17<H17,OFFSET(Очки!$A$20,2+H17-I17,IF(G17=1,13-H17,10+G17)),0) -> 1.4 | S17: =SUM(J17:R17) -> 13.1
A18: =RANK(S18,S$6:OFFSET(S$6,0,0,COUNTA(B$6:B$30))) -> 11 | B18: Майбродский Миша | C18: 10 | D18: 1 | E18: 1 | F18: 8 | G18: 2 | H18: 2 | I18: 7 | K18: =OFFSET(Очки!$A$2,F18,D18+OFFSET(Очки!$A$18,0,$C$31-1)-1) -> 9.5 | L18: =IF(F18<E18,OFFSET(Очки!$A$20,2+E18-F18,IF(D18=1,13-E18,10+D18)),0) -> 0 | O18: =OFFSET(Очки!$A$2,I18,G18+OFFSET(Очки!$A$18,0,$C$31-1)-1) -> 4 | P18: =IF(I18<H18,OFFSET(Очки!$A$20,2+H18-I18,IF(G18=1,13-H18,10+G18)),0) -> 0 | S18: =SUM(J18:R18) -> 13.5
A19: =RANK(S19,S$6:OFFSET(S$6,0,0,COUNTA(B$6:B$30))) -> 14 | B19: Булавинов Андрей / Bulavinov Andrey | C19: - | D19: 3 | E19: 6 | F19: 3 | G19: 2 | H19: 5 | I19: 4 | K19: =OFFSET(Очки!$A$2,F19,D19+OFFSET(Очки!$A$18,0,$C$31-1)-1) -> 0 | L19: =IF(F19<E19,OFFSET(Очки!$A$20,2+E19-F19,IF(D19=1,13-E19,10+D19)),0) -> 1.5 | O19: =OFFSET(Очки!$A$2,I19,G19+OFFSET(Очки!$A$18,0,$C$31-1)-1) -> 6 | P19: =IF(I19<H19,OFFSET(Очки!$A$20,2+H19-I19,IF(G19=1,13-H19,10+G19)),0) -> 0.7 | S19: =SUM(J19:R19) -> 8.2
A20: =RANK(S20,S$6:OFFSET(S$6,0,0,COUNTA(B$6:B$30))) -> 15 | B20: Морозенко Сергей / Morozenko Sergey | C20: 10 | D20: 3 | E20: 7 | F20: 2 | G20: 2 | H20: 6 | I20: 6 | K20: =OFFSET(Очки!$A$2,F20,D20+OFFSET(Очки!$A$18,0,$C$31-1)-1) -> 0 | L20: =IF(F20<E20,OFFSET(Очки!$A$20,2+E20-F20,IF(D20=1,13-E20,10+D20)),0) -> 2.5 | O20: =OFFSET(Очки!$A$2,I20,G20+OFFSET(Очки!$A$18,0,$C$31-1)-1) -> 4.5 | P20: =IF(I20<H20,OFFSET(Очки!$A$20,2+H20-I20,IF(G20=1,13-H20,10+G20)),0) -> 0 | S20: =SUM(J20:R20) -> 7
A21: =RANK(S21,S$6:OFFSET(S$6,0,0,COUNTA(B$6:B$30))) -> 15 | B21: Седнин Роман / Konuhov Roman | C21: 12.5 | D21: 2 | E21: 4 | F21: 5 | G21: 3 | H21: 6 | I21: 2 | K21: =OFFSET(Очки!$A$2,F21,D21+OFFSET(Очки!$A$18,0,$C$31-1)-1) -> 5 | L21: =IF(F21<E21,OFFSET(Очки!$A$20,2+E21-F21,IF(D21=1,13-E21,10+D21)),0) -> 0 | O21: =OFFSET(Очки!$A$2,I21,G21+OFFSET(Очки!$A$18,0,$C$31-1)-1) -> 0 | P21: =IF(I21<H21,OFFSET(Очки!$A$20,2+H21-I21,IF(G21=1,13-H21,10+G21)),0) -> 2 | S21: =SUM(J21:R21) -> 7
A22: =RANK(S22,S$6:OFFSET(S$6,0,0,COUNTA(B$6:B$30))) -> 17 | B22: Сомок Денис | C22: 5 | D22: 2 | E22: 3 | F22: 7 | G22: 3 | H22: 2 | I22: 1 | K22: =OFFSET(Очки!$A$2,F22,D22+OFFSET(Очки!$A$18,0,$C$31-1)-1) -> 4 | L22: =IF(F22<E22,OFFSET(Очки!$A$20,2+E22-F22,IF(D22=1,13-E22,10+D22)),0) -> 0 | O22: =OFFSET(Очки!$A$2,I22,G22+OFFSET(Очки!$A$18,0,$C$31-1)-1) -> 0 | P22: =IF(I22<H22,OFFSET(Очки!$A$20,2+H22-I22,IF(G22=1,13-H22,10+G22)),0) -> 0.5 | S22: =SUM(J22:R22) -> 4.5
A23: =RANK(S23,S$6:OFFSET(S$6,0,0,COUNTA(B$6:B$30))) -> 20 | B23: Гальвес Саша | C23: - | D23: 3 | E23: 4 | F23: 4 | G23: 3 | H23: 4 | I23: 3 | K23: =OFFSET(Очки!$A$2,F23,D23+OFFSET(Очки!$A$18,0,$C$31-1)-1) -> 0 | L23: =IF(F23<E23,OFFSET(Очки!$A$20,2+E23-F23,IF(D23=1,13-E23,10+D23)),0) -> 0 | O23: =OFFSET(Очки!$A$2,I23,G23+OFFSET(Очки!$A$18,0,$C$31-1)-1) -> 0 | P23: =IF(I23<H23,OFFSET(Очки!$A$20,2+H23-I23,IF(G23=1,13-H23,10+G23)),0) -> 0.5 | S23: =SUM(J23:R23) -> 0.5
A24: =RANK(S24,S$6:OFFSET(S$6,0,0,COUNTA(B$6:B$30))) -> 18 | B24: Сорокин Сергей | C24: - | D24: 2 | E24: 6 | F24: 6 | G24: 3 | H24: 5 | I24: 4 | K24: =OFFSET(Очки!$A$2,F24,D24+OFFSET(Очки!$A$18,0,$C$31-1)-1) -> 4.5 | L24: =IF(F24<E24,OFFSET(Очки!$A$20,2+E24-F24,IF(D24=1,13-E24,10+D24)),0) -> 0 | O24: =OFFSET(Очки!$A$2,I24,G24+OFFSET(Очки!$A$18,0,$C$31-1)-1) -> 0 | P24: =IF(I24<H24,OFFSET(Очки!$A$20,2+H24-I24,IF(G24=1,13-H24,10+G24)),0) -> 0.5 | R24: -4 | S24: =SUM(J24:R24) -> 1
A25: =RANK(S25,S$6:OFFSET(S$6,0,0,COUNTA(B$6:B$30))) -> 18 | B25: Михайлик Михаил | C25: 20 | D25: 3 | E25: 3 | F25: 5 | G25: 3 | H25: 7 | I25: 5 | K25: =OFFSET(Очки!$A$2,F25,D25+OFFSET(Очки!$A$18,0,$C$31-1)-1) -> 0 | L25: =IF(F25<E25,OFFSET(Очки!$A$20,2+E25-F25,IF(D25=1,13-E25,10+D25)),0) -> 0 | O25: =OFFSET(Очки!$A$2,I25,G25+OFFSET(Очки!$A$18,0,$C$31-1)-1) -> 0 | P25: =IF(I25<H25,OFFSET(Очки!$A$20,2+H25-I25,IF(G25=1,13-H25,10+G25)),0) -> 1 | S25: =SUM(J25:R25) -> 1
A26: =RANK(S26,S$6:OFFSET(S$6,0,0,COUNTA(B$6:B$30))) -> 21 | B26: Соболев Александр | C26: 17.5 | D26: 3 | E26: 2 | F26: 6 | G26: 3 | H26: 3 | I26: 4 | K26: =OFFSET(Очки!$A$2,F26,D26+OFFSET(Очки!$A$18,0,$C$31-1)-1) -> 0 | L26: =IF(F26<E26,OFFSET(Очки!$A$20,2+E26-F26,IF(D26=1,13-E26,10+D26)),0) -> 0 | O26: =OFFSET(Очки!$A$2,I26,G26+OFFSET(Очки!$A$18,0,$C$31-1)-1) -> 0 | P26: =IF(I26<H26,OFFSET(Очки!$A$20,2+H26-I26,IF(G26=1,13-H26,10+G26)),0) -> 0 | S26: =SUM(J26:R26) -> 0
A27: =RANK(S27,S$6:OFFSET(S$6,0,0,COUNTA(B$6:B$30))) -> 22 | B27: Смелов Дима | C27: 17.5 | D27: 3 | E27: 1 | F27: 7 | G27: 3 | H27: 1 | I27: 7 | K27: =OFFSET(Очки!$A$2,F27,D27+OFFSET(Очки!$A$18,0,$C$31-1)-1) -> 0 | L27: =IF(F27<E27,OFFSET(Очки!$A$20,2+E27-F27,IF(D27=1,13-E27,10+D27)),0) -> 0 | O27: =OFFSET(Очки!$A$2,I27,G27+OFFSET(Очки!$A$18,0,$C$31-1)-1) -> 0 | P27: =IF(I27<H27,OFFSET(Очки!$A$20,2+H27-I27,IF(G27=1,13-H27,10+G27)),0) -> 0 | R27: -4 | S27: =SUM(J27:R27) -> -4
A28: =RANK(S28,S$6:OFFSET(S$6,0,0,COUNTA(B$6:B$30))) -> 21 | C28: - | K28: =OFFSET(Очки!$A$2,F28,D28+OFFSET(Очки!$A$18,0,$C$31-1)-1) -> 0 | L28: =IF(F28<E28,OFFSET(Очки!$A$20,2+E28-F28,IF(D28=1,13-E28,10+D28)),0) -> 0 | O28: =OFFSET(Очки!$A$2,I28,G28+OFFSET(Очки!$A$18,0,$C$31-1)-1) -> 0 | P28: =IF(I28<H28,OFFSET(Очки!$A$20,2+H28-I28,IF(G28=1,13-H28,10+G28)),0) -> 0 | S28: =SUM(J28:R28) -> 0
A29: =RANK(S29,S$6:OFFSET(S$6,0,0,COUNTA(B$6:B$30))) -> 21 | C29: - | K29: =OFFSET(Очки!$A$2,F29,D29+OFFSET(Очки!$A$18,0,$C$31-1)-1) -> 0 | L29: =IF(F29<E29,OFFSET(Очки!$A$20,2+E29-F29,IF(D29=1,13-E29,10+D29)),0) -> 0 | O29: =OFFSET(Очки!$A$2,I29,G29+OFFSET(Очки!$A$18,0,$C$31-1)-1) -> 0 | P29: =IF(I29<H29,OFFSET(Очки!$A$20,2+H29-I29,IF(G29=1,13-H29,10+G29)),0) -> 0 | S29: =SUM(J29:R29) -> 0
A30: =RANK(S30,S$6:OFFSET(S$6,0,0,COUNTA(B$6:B$30))) -> 21 | C30: - | K30: =OFFSET(Очки!$A$2,F30,D30+OFFSET(Очки!$A$18,0,$C$31-1)-1) -> 0 | L30: =IF(F30<E30,OFFSET(Очки!$A$20,2+E30-F30,IF(D30=1,13-E30,10+D30)),0) -> 0 | O30: =OFFSET(Очки!$A$2,I30,G30+OFFSET(Очки!$A$18,0,$C$31-1)-1) -> 0 | P30: =IF(I30<H30,OFFSET(Очки!$A$20,2+H30-I30,IF(G30=1,13-H30,10+G30)),0) -> 0 | S30: =SUM(J30:R30) -> 0
B31: Всего участников | C31: =COUNTA(B6:B30) -> 22

Sheet 30.05.
A1: Лайт Лига 30.05.2017 (конфигурация 3)
A3: Место | B3: Участник | D3: 1 | G3: 2 | J3: Очки | S3: Сумма
C4: Довес | D4: группа | E4: Старт | F4: Финиш | G4: группа | H4: Старт | I4: Финиш | J4: Квала | K4: 1 | O4: 2
K5: очки | L5: обгоны | M5: время | N5: штрафы | O5: очки | P5: обгоны | Q5: время | R5: штрафы
A6: =RANK(S6,S$6:OFFSET(S$6,0,0,COUNTA(B$6:B$30))) -> 1 | B6: Пилипчук Василий | C6: - | D6: 1 | E6: 6 | F6: 4 | G6: 1 | H6: 10 | I6: 5 | K6: =OFFSET(Очки!$A$2,F6,D6+OFFSET(Очки!$A$18,0,$C$31-1)-1) -> 12 | L6: =IF(F6<E6,OFFSET(Очки!$A$20,2+E6-F6,IF(D6=1,13-E6,10+D6)),0) -> 1.9 | M6: 2.5 | O6: =OFFSET(Очки!$A$2,I6,G6+OFFSET(Очки!$A$18,0,$C$31-1)-1) -> 11 | P6: =IF(I6<H6,OFFSET(Очки!$A$20,2+H6-I6,IF(G6=1,13-H6,10+G6)),0) -> 5.7 | Q6: 1.5 | S6: =SUM(J6:R6) -> 34.6
A7: =RANK(S7,S$6:OFFSET(S$6,0,0,COUNTA(B$6:B$30))) -> 2 | B7: Григорьев Геннадий | C7: - | D7: 1 | E7: 9 | F7: 8 | G7: 1 | H7: 3 | I7: 1 | J7: 2 | K7: =OFFSET(Очки!$A$2,F7,D7+OFFSET(Очки!$A$18,0,$C$31-1)-1) -> 9.5 | L7: =IF(F7<E7,OFFSET(Очки!$A$20,2+E7-F7,IF(D7=1,13-E7,10+D7)),0) -> 1.2 | O7: =OFFSET(Очки!$A$2,I7,G7+OFFSET(Очки!$A$18,0,$C$31-1)-1) -> 15 | P7: =IF(I7<H7,OFFSET(Очки!$A$20,2+H7-I7,IF(G7=1,13-H7,10+G7)),0) -> 1.4 | S7: =SUM(J7:R7) -> 29.1
A8: =RANK(S8,S$6:OFFSET(S$6,0,0,COUNTA(B$6:B$30))) -> 3 | B8: Пархомчук Саша | C8: - | D8: 1 | E8: 1 | F8: 1 | G8: 1 | H8: 9 | I8: 8 | K8: =OFFSET(Очки!$A$2,F8,D8+OFFSET(Очки!$A$18,0,$C$31-1)-1) -> 15 | L8: =IF(F8<E8,OFFSET(Очки!$A$20,2+E8-F8,IF(D8=1,13-E8,10+D8)),0) -> 0 | M8: 2 | O8: =OFFSET(Очки!$A$2,I8,G8+OFFSET(Очки!$A$18,0,$C$31-1)-1) -> 9.5 | P8: =IF(I8<H8,OFFSET(Очки!$A$20,2+H8-I8,IF(G8=1,13-H8,10+G8)),0) -> 1.2 | S8: =SUM(J8:R8) -> 27.7
A9: =RANK(S9,S$6:OFFSET(S$6,0,0,COUNTA(B$6:B$30))) -> 4 | B9: Ярошенко Саша | C9: - | D9: 1 | E9: 2 | F9: 2 | G9: 1 | H9: 8 | I9: 7 | K9: =OFFSET(Очки!$A$2,F9,D9+OFFSET(Очки!$A$18,0,$C$31-1)-1) -> 14 | L9: =IF(F9<E9,OFFSET(Очки!$A$20,2+E9-F9,IF(D9=1,13-E9,10+D9)),0) -> 0 | M9: 1.5 | O9: =OFFSET(Очки!$A$2,I9,G9+OFFSET(Очки!$A$18,0,$C$31-1)-1) -> 10 | P9: =IF(I9<H9,OFFSET(Очки!$A$20,2+H9-I9,IF(G9=1,13-H9,10+G9)),0) -> 1.2 | S9: =SUM(J9:R9) -> 26.7
A10: =RANK(S10,S$6:OFFSET(S$6,0,0,COUNTA(B$6:B$30))) -> 5 | B10: Дарий Игорь | C10: - | D10: 1 | E10: 10 | F10: 6 | G10: 1 | H10: 5 | I10: 3 | J10: 2.5 | K10: =OFFSET(Очки!$A$2,F10,D10+OFFSET(Очки!$A$18,0,$C$31-1)-1) -> 10.5 | L10: =IF(F10<E10,OFFSET(Очки!$A$20,2+E10-F10,IF(D10=1,13-E10,10+D10)),0) -> 4.7 | O10: =OFFSET(Очки!$A$2,I10,G10+OFFSET(Очки!$A$18,0,$C$31-1)-1) -> 13 | P10: =IF(I10<H10,OFFSET(Очки!$A$20,2+H10-I10,IF(G10=1,13-H10,10+G10)),0) -> 1.7 | Q10: 1 | R10: -7 | S10: =SUM(J10:R10) -> 26.4
A11: =RANK(S11,S$6:OFFSET(S$6,0,0,COUNTA(B$6:B$30))) -> 6 | B11: Мандзюк Артур | C11: - | D11: 1 | E11: 5 | F11: 5 | G11: 1 | H11: 2 | I11: 2 | J11: 0.5 | K11: =OFFSET(Очки!$A$2,F11,D11+OFFSET(Очки!$A$18,0,$C$31-1)-1) -> 11 | L11: =IF(F11<E11,OFFSET(Очки!$A$20,2+E11-F11,IF(D11=1,13-E11,10+D11)),0) -> 0 | O11: =OFFSET(Очки!$A$2,I11,G11+OFFSET(Очки!$A$18,0,$C$31-1)-1) -> 14 | P11: =IF(I11<H11,OFFSET(Очки!$A$20,2+H11-I11,IF(G11=1,13-H11,10+G11)),0) -> 0 | S11: =SUM(J11:R11) -> 25.5
A12: =RANK(S12,S$6:OFFSET(S$6,0,0,COUNTA(B$6:B$30))) -> 7 | B12: Халецкий Евгений | C12: 7.5 | D12: 1 | E12: 3 | F12: 3 | G12: 1 | H12: 7 | I12: 9 | K12: =OFFSET(Очки!$A$2,F12,D12+OFFSET(Очки!$A$18,0,$C$31-1)-1) -> 13 | L12: =IF(F12<E12,OFFSET(Очки!$A$20,2+E12-F12,IF(D12=1,13-E12,10+D12)),0) -> 0 | M12: 1 | O12: =OFFSET(Очки!$A$2,I12,G12+OFFSET(Очки!$A$18,0,$C$31-1)-1) -> 9 | P12: =IF(I12<H12,OFFSET(Очки!$A$20,2+H12-I12,IF(G12=1,13-H12,10+G12)),0) -> 0 | Q12: 2 | S12: =SUM(J12:R12) -> 25
A13: =RANK(S13,S$6:OFFSET(S$6,0,0,COUNTA(B$6:B$30))) -> 8 | B13: Чухалекно Дима | C13: - | D13: 2 | E13: 9 | F13: 2 | G13: 2 | H13: 8 | I13: 3 | K13: =OFFSET(Очки!$A$2,F13,D13+OFFSET(Очки!$A$18,0,$C$31-1)-1) -> 8.5 | L13: =IF(F13<E13,OFFSET(Очки!$A$20,2+E13-F13,IF(D13=1,13-E13,10+D13)),0) -> 4.9 | O13: =OFFSET(Очки!$A$2,I13,G13+OFFSET(Очки!$A$18,0,$C$31-1)-1) -> 7.5 | P13: =IF(I13<H13,OFFSET(Очки!$A$20,2+H13-I13,IF(G13=1,13-H13,10+G13)),0) -> 3.5 | S13: =SUM(J13:R13) -> 24.4
A14: =RANK(S14,S$6:OFFSET(S$6,0,0,COUNTA(B$6:B$30))) -> 9 | B14: Шиленко Александр | C14: - | D14: 1 | E14: 8 | F14: 10 | G14: 1 | H14: 6 | I14: 6 | J14: 1.5 | K14: =OFFSET(Очки!$A$2,F14,D14+OFFSET(Очки!$A$18,0,$C$31-1)-1) -> 8.5 | L14: =IF(F14<E14,OFFSET(Очки!$A$20,2+E14-F14,IF(D14=1,13-E14,10+D14)),0) -> 0 | M14: 0.5 | O14: =OFFSET(Очки!$A$2,I14,G14+OFFSET(Очки!$A$18,0,$C$31-1)-1) -> 10.5 | P14: =IF(I14<H14,OFFSET(Очки!$A$20,2+H14-I14,IF(G14=1,13-H14,10+G14)),0) -> 0 | Q14: 2.5 | S14: =SUM(J14:R14) -> 23.5
A15: =RANK(S15,S$6:OFFSET(S$6,0,0,COUNTA(B$6:B$30))) -> 10 | B15: Майбродский Миша | C15: - | D15: 1 | E15: 7 | F15: 9 | G15: 1 | H15: 4 | I15: 4 | J15: 1 | K15: =OFFSET(Очки!$A$2,F15,D15+OFFSET(Очки!$A$18,0,$C$31-1)-1) -> 9 | L15: =IF(F15<E15,OFFSET(Очки!$A$20,2+E15-F15,IF(D15=1,13-E15,10+D15)),0) -> 0 | O15: =OFFSET(Очки!$A$2,I15,G15+OFFSET(Очки!$A$18,0,$C$31-1)-1) -> 12 | P15: =IF(I15<H15,OFFSET(Очки!$A$20,2+H15-I15,IF(G15=1,13-H15,10+G15)),0) -> 0 | S15: =SUM(J15:R15) -> 22
A16: =RANK(S16,S$6:OFFSET(S$6,0,0,COUNTA(B$6:B$30))) -> 11 | B16: Муляр Андрей / Mular Andrey | C16: - | D16: 2 | E16: 6 | F16: 3 | G16: 2 | H16: 7 | I16: 2 | K16: =OFFSET(Очки!$A$2,F16,D16+OFFSET(Очки!$A$18,0,$C$31-1)-1) -> 7.5 | L16: =IF(F16<E16,OFFSET(Очки!$A$20,2+E16-F16,IF(D16=1,13-E16,10+D16)),0) -> 2.1 | O16: =OFFSET(Очки!$A$2,I16,G16+OFFSET(Очки!$A$18,0,$C$31-1)-1) -> 8.5 | P16: =IF(I16<H16,OFFSET(Очки!$A$20,2+H16-I16,IF(G16=1,13-H16,10+G16)),0) -> 3.5 | S16: =SUM(J16:R16) -> 21.6
A17: =RANK(S17,S$6:OFFSET(S$6,0,0,COUNTA(B$6:B$30))) -> 12 | B17: Морозенко Сергей | C17: 10 | D17: 2 | E17: 3 | F17: 1 | G17: 2 | H17: 9 | I17: 4 | K17: =OFFSET(Очки!$A$2,F17,D17+OFFSET(Очки!$A$18,0,$C$31-1)-1) -> 9.5 | L17: =IF(F17<E17,OFFSET(Очки!$A$20,2+E17-F17,IF(D17=1,13-E17,10+D17)),0) -> 1.4 | O17: =OFFSET(Очки!$A$2,I17,G17+OFFSET(Очки!$A$18,0,$C$31-1)-1) -> 6.5 | P17: =IF(I17<H17,OFFSET(Очки!$A$20,2+H17-I17,IF(G17=1,13-H17,10+G17)),0) -> 3.5 | Q17: 0.5 | R17: -2 | S17: =SUM(J17:R17) -> 19.4
A18: =RANK(S18,S$6:OFFSET(S$6,0,0,COUNTA(B$6:B$30))) -> 13 | B18: Сомок Денис | C18: 7.5 | D18: 1 | E18: 4 | F18: 7 | G18: 1 | H18: 1 | I18: 9 | K18: =OFFSET(Очки!$A$2,F18,D18+OFFSET(Очки!$A$18,0,$C$31-1)-1) -> 10 | L18: =IF(F18<E18,OFFSET(Очки!$A$20,2+E18-F18,IF(D18=1,13-E18,10+D18)),0) -> 0 | O18: =OFFSET(Очки!$A$2,I18,G18+OFFSET(Очки!$A$18,0,$C$31-1)-1) -> 9 | P18: =IF(I18<H18,OFFSET(Очки!$A$20,2+H18-I18,IF(G18=1,13-H18,10+G18)),0) -> 0 | S18: =SUM(J18:R18) -> 19
A19: =RANK(S19,S$6:OFFSET(S$6,0,0,COUNTA(B$6:B$30))) -> 14 | B19: Строна Илона | C19: - | D19: 2 | E19: 5 | F19: 7 | G19: 2 | H19: 3 | I19: 1 | K19: =OFFSET(Очки!$A$2,F19,D19+OFFSET(Очки!$A$18,0,$C$31-1)-1) -> 4.5 | L19: =IF(F19<E19,OFFSET(Очки!$A$20,2+E19-F19,IF(D19=1,13-E19,10+D19)),0) -> 0 | O19: =OFFSET(Очки!$A$2,I19,G19+OFFSET(Очки!$A$18,0,$C$31-1)-1) -> 9.5 | P19: =IF(I19<H19,OFFSET(Очки!$A$20,2+H19-I19,IF(G19=1,13-H19,10+G19)),0) -> 1.4 | S19: =SUM(J19:R19) -> 15.4
A20: =RANK(S20,S$6:OFFSET(S$6,0,0,COUNTA(B$6:B$30))) -> 15 | B20: Потапов Сергей | C20: - | D20: 2 | E20: 7 | F20: 5 | G20: 2 | H20: 4 | I20: 3 | K20: =OFFSET(Очки!$A$2,F20,D20+OFFSET(Очки!$A$18,0,$C$31-1)-1) -> 5.5 | L20: =IF(F20<E20,OFFSET(Очки!$A$20,2+E20-F20,IF(D20=1,13-E20,10+D20)),0) -> 1.4 | O20: =OFFSET(Очки!$A$2,I20,G20+OFFSET(Очки!$A$18,0,$C$31-1)-1) -> 7.5 | P20: =IF(I20<H20,OFFSET(Очки!$A$20,2+H20-I20,IF(G20=1,13-H20,10+G20)),0) -> 0.7 | R20: -4 | S20: =SUM(J20:R20) -> 11.1
A21: =RANK(S21,S$6:OFFSET(S$6,0,0,COUNTA(B$6:B$30))) -> 16 | B21: Сорокин Сергей | C21: - | D21: 2 | E21: 8 | F21: 6 | G21: 2 | H21: 5 | I21: 9 | K21: =OFFSET(Очки!$A$2,F21,D21+OFFSET(Очки!$A$18,0,$C$31-1)-1) -> 5 | L21: =IF(F21<E21,OFFSET(Очки!$A$20,2+E21-F21,IF(D21=1,13-E21,10+D21)),0) -> 1.4 | O21: =OFFSET(Очки!$A$2,I21,G21+OFFSET(Очки!$A$18,0,$C$31-1)-1) -> 3.5 | P21: =IF(I21<H21,OFFSET(Очки!$A$20,2+H21-I21,IF(G21=1,13-H21,10+G21)),0) -> 0 | S21: =SUM(J21:R21) -> 9.9
A22: =RANK(S22,S$6:OFFSET(S$6,0,0,COUNTA(B$6:B$30))) -> 17 | B22: Чайка Кирилл | C22: - | D22: 2 | E22: 1 | F22: 8 | G22: 2 | H22: 1 | I22: 7 | K22: =OFFSET(Очки!$A$2,F22,D22+OFFSET(Очки!$A$18,0,$C$31-1)-1) -> 4 | L22: =IF(F22<E22,OFFSET(Очки!$A$20,2+E22-F22,IF(D22=1,13-E22,10+D22)),0) -> 0 | O22: =OFFSET(Очки!$A$2,I22,G22+OFFSET(Очки!$A$18,0,$C$31-1)-1) -> 4.5 | P22: =IF(I22<H22,OFFSET(Очки!$A$20,2+H22-I22,IF(G22=1,13-H22,10+G22)),0) -> 0 | S22: =SUM(J22:R22) -> 8.5
A23: =RANK(S23,S$6:OFFSET(S$6,0,0,COUNTA(B$6:B$30))) -> 18 | B23: Евстратенко Денис | C23: - | D23: 2 | E23: 2 | F23: 9 | G23: 2 | H23: 2 | I23: 8 | K23: =OFFSET(Очки!$A$2,F23,D23+OFFSET(Очки!$A$18,0,$C$31-1)-1) -> 3.5 | L23: =IF(F23<E23,OFFSET(Очки!$A$20,2+E23-F23,IF(D23=1,13-E23,10+D23)),0) -> 0 | O23: =OFFSET(Очки!$A$2,I23,G23+OFFSET(Очки!$A$18,0,$C$31-1)-1) -> 4 | P23: =IF(I23<H23,OFFSET(Очки!$A$20,2+H23-I23,IF(G23=1,13-H23,10+G23)),0) -> 0 | S23: =SUM(J23:R23) -> 7.5
A24: =RANK(S24,S$6:OFFSET(S$6,0,0,COUNTA(B$6:B$30))) -> 19 | B24: Фаль Александр / Fal Alexandr | C24: - | D24: 2 | E24: 4 | F24: 3 | G24: 2 | H24: 6 | I24: 6 | K24: =OFFSET(Очки!$A$2,F24,D24+OFFSET(Очки!$A$18,0,$C$31-1)-1) -> 7.5 | L24: =IF(F24<E24,OFFSET(Очки!$A$20,2+E24-F24,IF(D24=1,13-E24,10+D24)),0) -> 0.7 | N24: -3 | O24: =OFFSET(Очки!$A$2,I24,G24+OFFSET(Очки!$A$18,0,$C$31-1)-1) -> 5 | P24: =IF(I24<H24,OFFSET(Очки!$A$20,2+H24-I24,IF(G24=1,13-H24,10+G24)),0) -> 0 | R24: -4 | S24: =SUM(J24:R24) -> 6.2
A25: =RANK(S25,S$6:OFFSET(S$6,0,0,COUNTA(B$6:B$30))) -> #N/A | C25: - | K25: =OFFSET(Очки!$A$2,F25,D25+OFFSET(Очки!$A$18,0,$C$31-1)-1) -> 0 | L25: =IF(F25<E25,OFFSET(Очки!$A$20,2+E25-F25,IF(D25=1,13-E25,10+D25)),0) -> 0 | O25: =OFFSET(Очки!$A$2,I25,G25+OFFSET(Очки!$A$18,0,$C$31-1)-1) -> 0 | P25: =IF(I25<H25,OFFSET(Очки!$A$20,2+H25-I25,IF(G25=1,13-H25,10+G25)),0) -> 0 | S25: =SUM(J25:R25) -> 0
A26: =RANK(S26,S$6:OFFSET(S$6,0,0,COUNTA(B$6:B$30))) -> #N/A | C26: - | K26: =OFFSET(Очки!$A$2,F26,D26+OFFSET(Очки!$A$18,0,$C$31-1)-1) -> 0 | L26: =IF(F26<E26,OFFSET(Очки!$A$20,2+E26-F26,IF(D26=1,13-E26,10+D26)),0) -> 0 | O26: =OFFSET(Очки!$A$2,I26,G26+OFFSET(Очки!$A$18,0,$C$31-1)-1) -> 0 | P26: =IF(I26<H26,OFFSET(Очки!$A$20,2+H26-I26,IF(G26=1,13-H26,10+G26)),0) -> 0 | S26: =SUM(J26:R26) -> 0
A27: =RANK(S27,S$6:OFFSET(S$6,0,0,COUNTA(B$6:B$30))) -> #N/A | C27: - | K27: =OFFSET(Очки!$A$2,F27,D27+OFFSET(Очки!$A$18,0,$C$31-1)-1) -> 0 | L27: =IF(F27<E27,OFFSET(Очки!$A$20,2+E27-F27,IF(D27=1,13-E27,10+D27)),0) -> 0 | O27: =OFFSET(Очки!$A$2,I27,G27+OFFSET(Очки!$A$18,0,$C$31-1)-1) -> 0 | P27: =IF(I27<H27,OFFSET(Очки!$A$20,2+H27-I27,IF(G27=1,13-H27,10+G27)),0) -> 0 | S27: =SUM(J27:R27) -> 0
A28: =RANK(S28,S$6:OFFSET(S$6,0,0,COUNTA(B$6:B$30))) -> #N/A | C28: - | K28: =OFFSET(Очки!$A$2,F28,D28+OFFSET(Очки!$A$18,0,$C$31-1)-1) -> 0 | L28: =IF(F28<E28,OFFSET(Очки!$A$20,2+E28-F28,IF(D28=1,13-E28,10+D28)),0) -> 0 | O28: =OFFSET(Очки!$A$2,I28,G28+OFFSET(Очки!$A$18,0,$C$31-1)-1) -> 0 | P28: =IF(I28<H28,OFFSET(Очки!$A$20,2+H28-I28,IF(G28=1,13-H28,10+G28)),0) -> 0 | S28: =SUM(J28:R28) -> 0
A29: =RANK(S29,S$6:OFFSET(S$6,0,0,COUNTA(B$6:B$30))) -> #N/A | C29: - | K29: =OFFSET(Очки!$A$2,F29,D29+OFFSET(Очки!$A$18,0,$C$31-1)-1) -> 0 | L29: =IF(F29<E29,OFFSET(Очки!$A$20,2+E29-F29,IF(D29=1,13-E29,10+D29)),0) -> 0 | O29: =OFFSET(Очки!$A$2,I29,G29+OFFSET(Очки!$A$18,0,$C$31-1)-1) -> 0 | P29: =IF(I29<H29,OFFSET(Очки!$A$20,2+H29-I29,IF(G29=1,13-H29,10+G29)),0) -> 0 | S29: =SUM(J29:R29) -> 0
A30: =RANK(S30,S$6:OFFSET(S$6,0,0,COUNTA(B$6:B$30))) -> #N/A | C30: - | K30: =OFFSET(Очки!$A$2,F30,D30+OFFSET(Очки!$A$18,0,$C$31-1)-1) -> 0 | L30: =IF(F30<E30,OFFSET(Очки!$A$20,2+E30-F30,IF(D30=1,13-E30,10+D30)),0) -> 0 | O30: =OFFSET(Очки!$A$2,I30,G30+OFFSET(Очки!$A$18,0,$C$31-1)-1) -> 0 | P30: =IF(I30<H30,OFFSET(Очки!$A$20,2+H30-I30,IF(G30=1,13-H30,10+G30)),0) -> 0 | S30: =SUM(J30:R30) -> 0
B31: Всего участников | C31: =COUNTA(B6:B30) -> 19

Sheet 06.06
A1: Лайт Лига 06.06.2017 (конфигурация 10R)
A3: Место | B3: Участник | D3: 1 | G3: 2 | J3: Очки | S3: Сумма
C4: Довес | D4: группа | E4: Старт | F4: Финиш | G4: группа | H4: Старт | I4: Финиш | J4: Квала | K4: 1 | O4: 2
K5: очки | L5: обгоны | M5: время | N5: штрафы | O5: очки | P5: обгоны | Q5: время | R5: штрафы
A6: =RANK(S6,S$6:OFFSET(S$6,0,0,COUNTA(B$6:B$30))) -> 1 | B6: Дымко Вячеслав | C6: - | D6: 1 | E6: 6 | F6: 2 | G6: 1 | H6: 3 | I6: 3 | J6: 1.5 | K6: =OFFSET(Очки!$A$2,F6,D6+OFFSET(Очки!$A$18,0,$C$31-1)-1) -> 14 | L6: =IF(F6<E6,OFFSET(Очки!$A$20,2+E6-F6,IF(D6=1,13-E6,10+D6)),0) -> 3.4 | O6: =OFFSET(Очки!$A$2,I6,G6+OFFSET(Очки!$A$18,0,$C$31-1)-1) -> 13 | P6: =IF(I6<H6,OFFSET(Очки!$A$20,2+H6-I6,IF(G6=1,13-H6,10+G6)),0) -> 0 | Q6: 2 | S6: =SUM(J6:R6) -> 33.9
A7: =RANK(S7,S$6:OFFSET(S$6,0,0,COUNTA(B$6:B$30))) -> 2 | B7: Дарий Игорь | C7: - | D7: 1 | E7: 8 | F7: 7 | G7: 1 | H7: 8 | I7: 7 | J7: 2.5 | K7: =OFFSET(Очки!$A$2,F7,D7+OFFSET(Очки!$A$18,0,$C$31-1)-1) -> 10 | L7: =IF(F7<E7,OFFSET(Очки!$A$20,2+E7-F7,IF(D7=1,13-E7,10+D7)),0) -> 1.2 | M7: 2.5 | O7: =OFFSET(Очки!$A$2,I7,G7+OFFSET(Очки!$A$18,0,$C$31-1)-1) -> 10 | P7: =IF(I7<H7,OFFSET(Очки!$A$20,2+H7-I7,IF(G7=1,13-H7,10+G7)),0) -> 1.2 | S7: =SUM(J7:R7) -> 27.4
A8: =RANK(S8,S$6:OFFSET(S$6,0,0,COUNTA(B$6:B$30))) -> 3 | B8: Потапов Сергей | C8: 12.5 | D8: 1 | E8: 1 | F8: 1 | G8: 1 | H8: 5 | I8: 5 | K8: =OFFSET(Очки!$A$2,F8,D8+OFFSET(Очки!$A$18,0,$C$31-1)-1) -> 15 | L8: =IF(F8<E8,OFFSET(Очки!$A$20,2+E8-F8,IF(D8=1,13-E8,10+D8)),0) -> 0 | M8: 1 | O8: =OFFSET(Очки!$A$2,I8,G8+OFFSET(Очки!$A$18,0,$C$31-1)-1) -> 11 | P8: =IF(I8<H8,OFFSET(Очки!$A$20,2+H8-I8,IF(G8=1,13-H8,10+G8)),0) -> 0 | S8: =SUM(J8:R8) -> 27
A9: =RANK(S9,S$6:OFFSET(S$6,0,0,COUNTA(B$6:B$30))) -> 4 | B9: Сомок Денис | C9: 5 | D9: 1 | E9: 3 | F9: 8 | G9: 1 | H9: 2 | I9: 1 | K9: =OFFSET(Очки!$A$2,F9,D9+OFFSET(Очки!$A$18,0,$C$31-1)-1) -> 9.5 | L9: =IF(F9<E9,OFFSET(Очки!$A$20,2+E9-F9,IF(D9=1,13-E9,10+D9)),0) -> 0 | O9: =OFFSET(Очки!$A$2,I9,G9+OFFSET(Очки!$A$18,0,$C$31-1)-1) -> 15 | P9: =IF(I9<H9,OFFSET(Очки!$A$20,2+H9-I9,IF(G9=1,13-H9,10+G9)),0) -> 0.7 | Q9: 1 | S9: =SUM(J9:R9) -> 26.2
A10: =RANK(S10,S$6:OFFSET(S$6,0,0,COUNTA(B$6:B$30))) -> 5 | B10: Шиленко Александр | C10: - | D10: 1 | E10: 7 | F10: 6 | G10: 1 | H10: 6 | I10: 8 | J10: 2 | K10: =OFFSET(Очки!$A$2,F10,D10+OFFSET(Очки!$A$18,0,$C$31-1)-1) -> 10.5 | L10: =IF(F10<E10,OFFSET(Очки!$A$20,2+E10-F10,IF(D10=1,13-E10,10+D10)),0) -> 1.1 | M10: 1.5 | O10: =OFFSET(Очки!$A$2,I10,G10+OFFSET(Очки!$A$18,0,$C$31-1)-1) -> 9.5 | P10: =IF(I10<H10,OFFSET(Очки!$A$20,2+H10-I10,IF(G10=1,13-H10,10+G10)),0) -> 0 | Q10: 1.5 | S10: =SUM(J10:R10) -> 26.1
A11: =RANK(S11,S$6:OFFSET(S$6,0,0,COUNTA(B$6:B$30))) -> 6 | B11: Морозенко Сергей | C11: 10 | D11: 1 | E11: 5 | F11: 5 | G11: 1 | H11: 4 | I11: 4 | J11: 1 | K11: =OFFSET(Очки!$A$2,F11,D11+OFFSET(Очки!$A$18,0,$C$31-1)-1) -> 11 | L11: =IF(F11<E11,OFFSET(Очки!$A$20,2+E11-F11,IF(D11=1,13-E11,10+D11)),0) -> 0 | M11: 0.5 | O11: =OFFSET(Очки!$A$2,I11,G11+OFFSET(Очки!$A$18,0,$C$31-1)-1) -> 12 | P11: =IF(I11<H11,OFFSET(Очки!$A$20,2+H11-I11,IF(G11=1,13-H11,10+G11)),0) -> 0 | Q11: 0.5 | S11: =SUM(J11:R11) -> 25
A12: =RANK(S12,S$6:OFFSET(S$6,0,0,COUNTA(B$6:B$30))) -> 6 | B12: Булавинов Андрей | C12: 5 | D12: 1 | E12: 2 | F12: 3 | G12: 2 | H12: 8 | I12: 3 | K12: =OFFSET(Очки!$A$2,F12,D12+OFFSET(Очки!$A$18,0,$C$31-1)-1) -> 13 | L12: =IF(F12<E12,OFFSET(Очки!$A$20,2+E12-F12,IF(D12=1,13-E12,10+D12)),0) -> 0 | O12: =OFFSET(Очки!$A$2,I12,G12+OFFSET(Очки!$A$18,0,$C$31-1)-1) -> 8.5 | P12: =IF(I12<H12,OFFSET(Очки!$A$20,2+H12-I12,IF(G12=1,13-H12,10+G12)),0) -> 3.5 | S12: =SUM(J12:R12) -> 25
A13: =RANK(S13,S$6:OFFSET(S$6,0,0,COUNTA(B$6:B$30))) -> 8 | B13: Синани Влад | C13: - | D13: 2 | E13: 8 | F13: 1 | G13: 2 | H13: 6 | I13: 4 | K13: =OFFSET(Очки!$A$2,F13,D13+OFFSET(Очки!$A$18,0,$C$31-1)-1) -> 10.5 | L13: =IF(F13<E13,OFFSET(Очки!$A$20,2+E13-F13,IF(D13=1,13-E13,10+D13)),0) -> 4.9 | O13: =OFFSET(Очки!$A$2,I13,G13+OFFSET(Очки!$A$18,0,$C$31-1)-1) -> 7.5 | P13: =IF(I13<H13,OFFSET(Очки!$A$20,2+H13-I13,IF(G13=1,13-H13,10+G13)),0) -> 1.4 | S13: =SUM(J13:R13) -> 24.3
A14: =RANK(S14,S$6:OFFSET(S$6,0,0,COUNTA(B$6:B$30))) -> 9 | B14: Сорокин Сергей | C14: - | D14: 2 | E14: 7 | F14: 7 | G14: 1 | H14: 7 | I14: 5 | K14: =OFFSET(Очки!$A$2,F14,D14+OFFSET(Очки!$A$18,0,$C$31-1)-1) -> 5.5 | L14: =IF(F14<E14,OFFSET(Очки!$A$20,2+E14-F14,IF(D14=1,13-E14,10+D14)),0) -> 0 | M14: 2 | O14: =OFFSET(Очки!$A$2,I14,G14+OFFSET(Очки!$A$18,0,$C$31-1)-1) -> 11 | P14: =IF(I14<H14,OFFSET(Очки!$A$20,2+H14-I14,IF(G14=1,13-H14,10+G14)),0) -> 2.1 | Q14: 2.5 | S14: =SUM(J14:R14) -> 23.1
A15: =RANK(S15,S$6:OFFSET(S$6,0,0,COUNTA(B$6:B$30))) -> 10 | B15: Муляр Андрей | C15: - | D15: 1 | E15: 4 | F15: 4 | G15: 1 | H15: 1 | I15: 2 | J15: 0.5 | K15: =OFFSET(Очки!$A$2,F15,D15+OFFSET(Очки!$A$18,0,$C$31-1)-1) -> 12 | L15: =IF(F15<E15,OFFSET(Очки!$A$20,2+E15-F15,IF(D15=1,13-E15,10+D15)),0) -> 0 | O15: =OFFSET(Очки!$A$2,I15,G15+OFFSET(Очки!$A$18,0,$C$31-1)-1) -> 14 | P15: =IF(I15<H15,OFFSET(Очки!$A$20,2+H15-I15,IF(G15=1,13-H15,10+G15)),0) -> 0 | R15: -4 | S15: =SUM(J15:R15) -> 22.5
A16: =RANK(S16,S$6:OFFSET(S$6,0,0,COUNTA(B$6:B$30))) -> 11 | B16: Бутковский Денис | C16: - | D16: 2 | E16: 4 | F16: 4 | G16: 2 | H16: 2 | I16: 1 | K16: =OFFSET(Очки!$A$2,F16,D16+OFFSET(Очки!$A$18,0,$C$31-1)-1) -> 7.5 | L16: =IF(F16<E16,OFFSET(Очки!$A$20,2+E16-F16,IF(D16=1,13-E16,10+D16)),0) -> 0 | O16: =OFFSET(Очки!$A$2,I16,G16+OFFSET(Очки!$A$18,0,$C$31-1)-1) -> 10.5 | P16: =IF(I16<H16,OFFSET(Очки!$A$20,2+H16-I16,IF(G16=1,13-H16,10+G16)),0) -> 0.7 | S16: =SUM(J16:R16) -> 18.7
A17: =RANK(S17,S$6:OFFSET(S$6,0,0,COUNTA(B$6:B$30))) -> 12 | B17: Банников Денис | C17: 12.5 | D17: 2 | E17: 2 | F17: 2 | G17: 2 | H17: 3 | I17: 6 | K17: =OFFSET(Очки!$A$2,F17,D17+OFFSET(Очки!$A$18,0,$C$31-1)-1) -> 9.5 | L17: =IF(F17<E17,OFFSET(Очки!$A$20,2+E17-F17,IF(D17=1,13-E17,10+D17)),0) -> 0 | O17: =OFFSET(Очки!$A$2,I17,G17+OFFSET(Очки!$A$18,0,$C$31-1)-1) -> 6 | P17: =IF(I17<H17,OFFSET(Очки!$A$20,2+H17-I17,IF(G17=1,13-H17,10+G17)),0) -> 0 | S17: =SUM(J17:R17) -> 15.5
A18: =RANK(S18,S$6:OFFSET(S$6,0,0,COUNTA(B$6:B$30))) -> 12 | B18: Михайлик Михаил | C18: 17.5 | D18: 2 | E18: 5 | F18: 6 | G18: 2 | H18: 1 | I18: 2 | K18: =OFFSET(Очки!$A$2,F18,D18+OFFSET(Очки!$A$18,0,$C$31-1)-1) -> 6 | L18: =IF(F18<E18,OFFSET(Очки!$A$20,2+E18-F18,IF(D18=1,13-E18,10+D18)),0) -> 0 | O18: =OFFSET(Очки!$A$2,I18,G18+OFFSET(Очки!$A$18,0,$C$31-1)-1) -> 9.5 | P18: =IF(I18<H18,OFFSET(Очки!$A$20,2+H18-I18,IF(G18=1,13-H18,10+G18)),0) -> 0 | S18: =SUM(J18:R18) -> 15.5
A19: =RANK(S19,S$6:OFFSET(S$6,0,0,COUNTA(B$6:B$30))) -> 14 | B19: Морозов Андрей | C19: - | D19: 2 | E19: 1 | F19: 5 | G19: 2 | H19: 5 | I19: 5 | K19: =OFFSET(Очки!$A$2,F19,D19+OFFSET(Очки!$A$18,0,$C$31-1)-1) -> 6.5 | L19: =IF(F19<E19,OFFSET(Очки!$A$20,2+E19-F19,IF(D19=1,13-E19,10+D19)),0) -> 0 | N19: -2 | O19: =OFFSET(Очки!$A$2,I19,G19+OFFSET(Очки!$A$18,0,$C$31-1)-1) -> 6.5 | P19: =IF(I19<H19,OFFSET(Очки!$A$20,2+H19-I19,IF(G19=1,13-H19,10+G19)),0) -> 0 | S19: =SUM(J19:R19) -> 11
A20: =RANK(S20,S$6:OFFSET(S$6,0,0,COUNTA(B$6:B$30))) -> 15 | B20: Евстратенко Денис | C20: - | D20: 2 | E20: 3 | F20: 8 | G20: 2 | H20: 4 | I20: 8 | K20: =OFFSET(Очки!$A$2,F20,D20+OFFSET(Очки!$A$18,0,$C$31-1)-1) -> 5 | L20: =IF(F20<E20,OFFSET(Очки!$A$20,2+E20-F20,IF(D20=1,13-E20,10+D20)),0) -> 0 | O20: =OFFSET(Очки!$A$2,I20,G20+OFFSET(Очки!$A$18,0,$C$31-1)-1) -> 5 | P20: =IF(I20<H20,OFFSET(Очки!$A$20,2+H20-I20,IF(G20=1,13-H20,10+G20)),0) -> 0 | S20: =SUM(J20:R20) -> 10
A21: =RANK(S21,S$6:OFFSET(S$6,0,0,COUNTA(B$6:B$30))) -> 16 | B21: Майбродский Миша | C21: 10 | D21: 2 | E21: 6 | F21: 2 | G21: 2 | H21: 7 | I21: 7 | K21: =OFFSET(Очки!$A$2,F21,D21+OFFSET(Очки!$A$18,0,$C$31-1)-1) -> 9.5 | L21: =IF(F21<E21,OFFSET(Очки!$A$20,2+E21-F21,IF(D21=1,13-E21,10+D21)),0) -> 2.8 | N21: =-4-4 -> -8 | O21: =OFFSET(Очки!$A$2,I21,G21+OFFSET(Очки!$A$18,0,$C$31-1)-1) -> 5.5 | P21: =IF(I21<H21,OFFSET(Очки!$A$20,2+H21-I21,IF(G21=1,13-H21,10+G21)),0) -> 0 | S21: =SUM(J21:R21) -> 9.8
A22: =RANK(S22,S$6:OFFSET(S$6,0,0,COUNTA(B$6:B$30))) -> #N/A | C22: - | K22: =OFFSET(Очки!$A$2,F22,D22+OFFSET(Очки!$A$18,0,$C$31-1)-1) -> 0 | L22: =IF(F22<E22,OFFSET(Очки!$A$20,2+E22-F22,IF(D22=1,13-E22,10+D22)),0) -> 0 | O22: =OFFSET(Очки!$A$2,I22,G22+OFFSET(Очки!$A$18,0,$C$31-1)-1) -> 0 | P22: =IF(I22<H22,OFFSET(Очки!$A$20,2+H22-I22,IF(G22=1,13-H22,10+G22)),0) -> 0 | S22: =SUM(J22:R22) -> 0
A23: =RANK(S23,S$6:OFFSET(S$6,0,0,COUNTA(B$6:B$30))) -> #N/A | C23: - | K23: =OFFSET(Очки!$A$2,F23,D23+OFFSET(Очки!$A$18,0,$C$31-1)-1) -> 0 | L23: =IF(F23<E23,OFFSET(Очки!$A$20,2+E23-F23,IF(D23=1,13-E23,10+D23)),0) -> 0 | O23: =OFFSET(Очки!$A$2,I23,G23+OFFSET(Очки!$A$18,0,$C$31-1)-1) -> 0 | P23: =IF(I23<H23,OFFSET(Очки!$A$20,2+H23-I23,IF(G23=1,13-H23,10+G23)),0) -> 0 | S23: =SUM(J23:R23) -> 0
A24: =RANK(S24,S$6:OFFSET(S$6,0,0,COUNTA(B$6:B$30))) -> #N/A | C24: - | K24: =OFFSET(Очки!$A$2,F24,D24+OFFSET(Очки!$A$18,0,$C$31-1)-1) -> 0 | L24: =IF(F24<E24,OFFSET(Очки!$A$20,2+E24-F24,IF(D24=1,13-E24,10+D24)),0) -> 0 | O24: =OFFSET(Очки!$A$2,I24,G24+OFFSET(Очки!$A$18,0,$C$31-1)-1) -> 0 | P24: =IF(I24<H24,OFFSET(Очки!$A$20,2+H24-I24,IF(G24=1,13-H24,10+G24)),0) -> 0 | S24: =SUM(J24:R24) -> 0
A25: =RANK(S25,S$6:OFFSET(S$6,0,0,COUNTA(B$6:B$30))) -> #N/A | C25: - | K25: =OFFSET(Очки!$A$2,F25,D25+OFFSET(Очки!$A$18,0,$C$31-1)-1) -> 0 | L25: =IF(F25<E25,OFFSET(Очки!$A$20,2+E25-F25,IF(D25=1,13-E25,10+D25)),0) -> 0 | O25: =OFFSET(Очки!$A$2,I25,G25+OFFSET(Очки!$A$18,0,$C$31-1)-1) -> 0 | P25: =IF(I25<H25,OFFSET(Очки!$A$20,2+H25-I25,IF(G25=1,13-H25,10+G25)),0) -> 0 | S25: =SUM(J25:R25) -> 0
A26: =RANK(S26,S$6:OFFSET(S$6,0,0,COUNTA(B$6:B$30))) -> #N/A | C26: - | K26: =OFFSET(Очки!$A$2,F26,D26+OFFSET(Очки!$A$18,0,$C$31-1)-1) -> 0 | L26: =IF(F26<E26,OFFSET(Очки!$A$20,2+E26-F26,IF(D26=1,13-E26,10+D26)),0) -> 0 | O26: =OFFSET(Очки!$A$2,I26,G26+OFFSET(Очки!$A$18,0,$C$31-1)-1) -> 0 | P26: =IF(I26<H26,OFFSET(Очки!$A$20,2+H26-I26,IF(G26=1,13-H26,10+G26)),0) -> 0 | S26: =SUM(J26:R26) -> 0
A27: =RANK(S27,S$6:OFFSET(S$6,0,0,COUNTA(B$6:B$30))) -> #N/A | C27: - | K27: =OFFSET(Очки!$A$2,F27,D27+OFFSET(Очки!$A$18,0,$C$31-1)-1) -> 0 | L27: =IF(F27<E27,OFFSET(Очки!$A$20,2+E27-F27,IF(D27=1,13-E27,10+D27)),0) -> 0 | O27: =OFFSET(Очки!$A$2,I27,G27+OFFSET(Очки!$A$18,0,$C$31-1)-1) -> 0 | P27: =IF(I27<H27,OFFSET(Очки!$A$20,2+H27-I27,IF(G27=1,13-H27,10+G27)),0) -> 0 | S27: =SUM(J27:R27) -> 0
A28: =RANK(S28,S$6:OFFSET(S$6,0,0,COUNTA(B$6:B$30))) -> #N/A | C28: - | K28: =OFFSET(Очки!$A$2,F28,D28+OFFSET(Очки!$A$18,0,$C$31-1)-1) -> 0 | L28: =IF(F28<E28,OFFSET(Очки!$A$20,2+E28-F28,IF(D28=1,13-E28,10+D28)),0) -> 0 | O28: =OFFSET(Очки!$A$2,I28,G28+OFFSET(Очки!$A$18,0,$C$31-1)-1) -> 0 | P28: =IF(I28<H28,OFFSET(Очки!$A$20,2+H28-I28,IF(G28=1,13-H28,10+G28)),0) -> 0 | S28: =SUM(J28:R28) -> 0
A29: =RANK(S29,S$6:OFFSET(S$6,0,0,COUNTA(B$6:B$30))) -> #N/A | C29: - | K29: =OFFSET(Очки!$A$2,F29,D29+OFFSET(Очки!$A$18,0,$C$31-1)-1) -> 0 | L29: =IF(F29<E29,OFFSET(Очки!$A$20,2+E29-F29,IF(D29=1,13-E29,10+D29)),0) -> 0 | O29: =OFFSET(Очки!$A$2,I29,G29+OFFSET(Очки!$A$18,0,$C$31-1)-1) -> 0 | P29: =IF(I29<H29,OFFSET(Очки!$A$20,2+H29-I29,IF(G29=1,13-H29,10+G29)),0) -> 0 | S29: =SUM(J29:R29) -> 0
A30: =RANK(S30,S$6:OFFSET(S$6,0,0,COUNTA(B$6:B$30))) -> #N/A | C30: - | K30: =OFFSET(Очки!$A$2,F30,D30+OFFSET(Очки!$A$18,0,$C$31-1)-1) -> 0 | L30: =IF(F30<E30,OFFSET(Очки!$A$20,2+E30-F30,IF(D30=1,13-E30,10+D30)),0) -> 0 | O30: =OFFSET(Очки!$A$2,I30,G30+OFFSET(Очки!$A$18,0,$C$31-1)-1) -> 0 | P30: =IF(I30<H30,OFFSET(Очки!$A$20,2+H30-I30,IF(G30=1,13-H30,10+G30)),0) -> 0 | S30: =SUM(J30:R30) -> 0
B31: Всего участников | C31: =COUNTA(B6:B30) -> 16

Sheet 13.06
A1: Лайт Лига 13.06.2017 (конфигурация 10)
A3: Место | B3: Участник | D3: 1 | G3: 2 | J3: Очки | S3: Сумма
C4: Довес | D4: группа | E4: Старт | F4: Финиш | G4: группа | H4: Старт | I4: Финиш | J4: Квала | K4: 1 | O4: 2
K5: очки | L5: обгоны | M5: время | N5: штрафы | O5: очки | P5: обгоны | Q5: время | R5: штрафы
A6: =RANK(S6,S$6:OFFSET(S$6,0,0,COUNTA(B$6:B$17))) -> 1 | B6: Чухаленко Дима | C6: - | D6: 1 | E6: 8 | F6: 3 | G6: 1 | H6: 8 | I6: 1 | J6: 1 | K6: =OFFSET(Очки!$A$2,F6,D6+OFFSET(Очки!$A$18,0,$C$18-1)-1) -> 13 | L6: =IF(F6<E6,OFFSET(Очки!$A$20,2+E6-F6,IF(D6=1,13-E6,10+D6)),0) -> 5 | M6: 1 | O6: =OFFSET(Очки!$A$2,I6,G6+OFFSET(Очки!$A$18,0,$C$18-1)-1) -> 15 | P6: =IF(I6<H6,OFFSET(Очки!$A$20,2+H6-I6,IF(G6=1,13-H6,10+G6)),0) -> 6.4 | Q6: 2.5 | S6: =SUM(J6:R6) -> 43.9
A7: =RANK(S7,S$6:OFFSET(S$6,0,0,COUNTA(B$6:B$17))) -> 2 | B7: Морозенко Сергей | C7: 10 | D7: 1 | E7: 9 | F7: 2 | G7: 1 | H7: 6 | I7: 3 | J7: 1.5 | K7: =OFFSET(Очки!$A$2,F7,D7+OFFSET(Очки!$A$18,0,$C$18-1)-1) -> 14 | L7: =IF(F7<E7,OFFSET(Очки!$A$20,2+E7-F7,IF(D7=1,13-E7,10+D7)),0) -> 6.9 | O7: =OFFSET(Очки!$A$2,I7,G7+OFFSET(Очки!$A$18,0,$C$18-1)-1) -> 13 | P7: =IF(I7<H7,OFFSET(Очки!$A$20,2+H7-I7,IF(G7=1,13-H7,10+G7)),0) -> 2.7 | Q7: 1.5 | S7: =SUM(J7:R7) -> 39.6
A8: =RANK(S8,S$6:OFFSET(S$6,0,0,COUNTA(B$6:B$17))) -> 3 | B8: Дарий Игорь | C8: - | D8: 1 | E8: 11 | F8: 6 | G8: 1 | H8: 11 | I8: 6 | J8: 2.5 | K8: =OFFSET(Очки!$A$2,F8,D8+OFFSET(Очки!$A$18,0,$C$18-1)-1) -> 10.5 | L8: =IF(F8<E8,OFFSET(Очки!$A$20,2+E8-F8,IF(D8=1,13-E8,10+D8)),0) -> 6 | M8: 2.5 | O8: =OFFSET(Очки!$A$2,I8,G8+OFFSET(Очки!$A$18,0,$C$18-1)-1) -> 10.5 | P8: =IF(I8<H8,OFFSET(Очки!$A$20,2+H8-I8,IF(G8=1,13-H8,10+G8)),0) -> 6 | R8: -2 | S8: =SUM(J8:R8) -> 36
A9: =RANK(S9,S$6:OFFSET(S$6,0,0,COUNTA(B$6:B$17))) -> 4 | B9: Михайлик Михайло | C9: 20 | D9: 1 | E9: 2 | F9: 1 | G9: 1 | H9: 5 | I9: 3 | K9: =OFFSET(Очки!$A$2,F9,D9+OFFSET(Очки!$A$18,0,$C$18-1)-1) -> 15 | L9: =IF(F9<E9,OFFSET(Очки!$A$20,2+E9-F9,IF(D9=1,13-E9,10+D9)),0) -> 0.7 | O9: =OFFSET(Очки!$A$2,I9,G9+OFFSET(Очки!$A$18,0,$C$18-1)-1) -> 13 | P9: =IF(I9<H9,OFFSET(Очки!$A$20,2+H9-I9,IF(G9=1,13-H9,10+G9)),0) -> 1.7 | S9: =SUM(J9:R9) -> 30.4
A10: =RANK(S10,S$6:OFFSET(S$6,0,0,COUNTA(B$6:B$17))) -> 5 | B10: Сорокин Сергей | C10: - | D10: 1 | E10: 7 | F10: 4 | G10: 1 | H10: 10 | I10: 8 | J10: 0.5 | K10: =OFFSET(Очки!$A$2,F10,D10+OFFSET(Очки!$A$18,0,$C$18-1)-1) -> 12 | L10: =IF(F10<E10,OFFSET(Очки!$A$20,2+E10-F10,IF(D10=1,13-E10,10+D10)),0) -> 3 | M10: 2 | O10: =OFFSET(Очки!$A$2,I10,G10+OFFSET(Очки!$A$18,0,$C$18-1)-1) -> 9.5 | P10: =IF(I10<H10,OFFSET(Очки!$A$20,2+H10-I10,IF(G10=1,13-H10,10+G10)),0) -> 2.4 | S10: =SUM(J10:R10) -> 29.4
A11: =RANK(S11,S$6:OFFSET(S$6,0,0,COUNTA(B$6:B$17))) -> 6 | B11: Смерчиский Александр | C11: 7.5 | D11: 1 | E11: 10 | F11: 8 | G11: 1 | H11: 3 | I11: 2 | J11: 2 | K11: =OFFSET(Очки!$A$2,F11,D11+OFFSET(Очки!$A$18,0,$C$18-1)-1) -> 9.5 | L11: =IF(F11<E11,OFFSET(Очки!$A$20,2+E11-F11,IF(D11=1,13-E11,10+D11)),0) -> 2.4 | O11: =OFFSET(Очки!$A$2,I11,G11+OFFSET(Очки!$A$18,0,$C$18-1)-1) -> 14 | P11: =IF(I11<H11,OFFSET(Очки!$A$20,2+H11-I11,IF(G11=1,13-H11,10+G11)),0) -> 0.7 | Q11: 2 | R11: -4 | S11: =SUM(J11:R11) -> 26.6
A12: =RANK(S12,S$6:OFFSET(S$6,0,0,COUNTA(B$6:B$17))) -> 7 | B12: Майбродский Михаил | C12: 12.5 | D12: 1 | E12: 6 | F12: 7 | G12: 1 | H12: 7 | I12: 7 | K12: =OFFSET(Очки!$A$2,F12,D12+OFFSET(Очки!$A$18,0,$C$18-1)-1) -> 10 | L12: =IF(F12<E12,OFFSET(Очки!$A$20,2+E12-F12,IF(D12=1,13-E12,10+D12)),0) -> 0 | M12: 0.5 | O12: =OFFSET(Очки!$A$2,I12,G12+OFFSET(Очки!$A$18,0,$C$18-1)-1) -> 10 | P12: =IF(I12<H12,OFFSET(Очки!$A$20,2+H12-I12,IF(G12=1,13-H12,10+G12)),0) -> 0 | S12: =SUM(J12:R12) -> 20.5
A13: =RANK(S13,S$6:OFFSET(S$6,0,0,COUNTA(B$6:B$17))) -> 8 | B13: Конюхов Роман | C13: - | D13: 1 | E13: 3 | F13: 4 | G13: 1 | H13: 4 | I13: 12 | K13: =OFFSET(Очки!$A$2,F13,D13+OFFSET(Очки!$A$18,0,$C$18-1)-1) -> 12 | L13: =IF(F13<E13,OFFSET(Очки!$A$20,2+E13-F13,IF(D13=1,13-E13,10+D13)),0) -> 0 | O13: =OFFSET(Очки!$A$2,I13,G13+OFFSET(Очки!$A$18,0,$C$18-1)-1) -> 7.5 | P13: =IF(I13<H13,OFFSET(Очки!$A$20,2+H13-I13,IF(G13=1,13-H13,10+G13)),0) -> 0 | S13: =SUM(J13:R13) -> 19.5
A14: =RANK(S14,S$6:OFFSET(S$6,0,0,COUNTA(B$6:B$17))) -> 9 | B14: Шпакович Валик | C14: 7.5 | D14: 1 | E14: 1 | F14: 11 | G14: 1 | H14: 1 | I14: 5 | K14: =OFFSET(Очки!$A$2,F14,D14+OFFSET(Очки!$A$18,0,$C$18-1)-1) -> 8 | L14: =IF(F14<E14,OFFSET(Очки!$A$20,2+E14-F14,IF(D14=1,13-E14,10+D14)),0) -> 0 | O14: =OFFSET(Очки!$A$2,I14,G14+OFFSET(Очки!$A$18,0,$C$18-1)-1) -> 11 | P14: =IF(I14<H14,OFFSET(Очки!$A$20,2+H14-I14,IF(G14=1,13-H14,10+G14)),0) -> 0 | S14: =SUM(J14:R14) -> 19
A15: =RANK(S15,S$6:OFFSET(S$6,0,0,COUNTA(B$6:B$17))) -> 10 | B15: Житомирский Дмитрий | C15: 7.5 | D15: 1 | E15: 12 | F15: 12 | G15: 1 | H15: 12 | I15: 10 | K15: =OFFSET(Очки!$A$2,F15,D15+OFFSET(Очки!$A$18,0,$C$18-1)-1) -> 7.5 | L15: =IF(F15<E15,OFFSET(Очки!$A$20,2+E15-F15,IF(D15=1,13-E15,10+D15)),0) -> 0 | O15: =OFFSET(Очки!$A$2,I15,G15+OFFSET(Очки!$A$18,0,$C$18-1)-1) -> 8.5 | P15: =IF(I15<H15,OFFSET(Очки!$A$20,2+H15-I15,IF(G15=1,13-H15,10+G15)),0) -> 2.6 | S15: =SUM(J15:R15) -> 18.6
A16: =RANK(S16,S$6:OFFSET(S$6,0,0,COUNTA(B$6:B$17))) -> 11 | B16: Сомок Денис | C16: 5 | D16: 1 | E16: 4 | F16: 9 | G16: 1 | H16: 9 | I16: 9 | K16: =OFFSET(Очки!$A$2,F16,D16+OFFSET(Очки!$A$18,0,$C$18-1)-1) -> 9 | L16: =IF(F16<E16,OFFSET(Очки!$A$20,2+E16-F16,IF(D16=1,13-E16,10+D16)),0) -> 0 | M16: 1.5 | O16: =OFFSET(Очки!$A$2,I16,G16+OFFSET(Очки!$A$18,0,$C$18-1)-1) -> 9 | P16: =IF(I16<H16,OFFSET(Очки!$A$20,2+H16-I16,IF(G16=1,13-H16,10+G16)),0) -> 0 | Q16: 1 | R16: -4 | S16: =SUM(J16:R16) -> 16.5
A17: =RANK(S17,S$6:OFFSET(S$6,0,0,COUNTA(B$6:B$17))) -> 12 | B17: Балтер Максим | C17: - | D17: 1 | E17: 5 | F17: 10 | G17: 1 | H17: 2 | I17: 8 | K17: =OFFSET(Очки!$A$2,F17,D17+OFFSET(Очки!$A$18,0,$C$18-1)-1) -> 8.5 | L17: =IF(F17<E17,OFFSET(Очки!$A$20,2+E17-F17,IF(D17=1,13-E17,10+D17)),0) -> 0 | N17: -4 | O17: =OFFSET(Очки!$A$2,I17,G17+OFFSET(Очки!$A$18,0,$C$18-1)-1) -> 9.5 | P17: =IF(I17<H17,OFFSET(Очки!$A$20,2+H17-I17,IF(G17=1,13-H17,10+G17)),0) -> 0 | Q17: 0.5 | R17: =-4-4 -> -8 | S17: =SUM(J17:R17) -> 6.5
B18: Всего участников | C18: =COUNTA(B6:B17) -> 12

Sheet 20.06
A1: Лайт Лига xx.yy.2017 (конфигурация X)
A3: Место | B3: Участник | D3: 1 | G3: 2 | J3: Очки | S3: Сумма
C4: Довес | D4: группа | E4: Старт | F4: Финиш | G4: группа | H4: Старт | I4: Финиш | J4: Квала | K4: 1 | O4: 2
K5: очки | L5: обгоны | M5: время | N5: штрафы | O5: очки | P5: обгоны | Q5: время | R5: штрафы
A6: =RANK(S6,S$6:OFFSET(S$6,0,0,COUNTA(B$6:B$30))) -> 1 | B6: Дарий Игорь | C6: - | D6: 1 | E6: 4 | F6: 2 | G6: 1 | H6: 4 | I6: 1 | J6: 0.5 | K6: =OFFSET(Очки!$A$2,F6,D6+OFFSET(Очки!$A$18,0,$C$31-1)-1) -> 14 | L6: =IF(F6<E6,OFFSET(Очки!$A$20,2+E6-F6,IF(D6=1,13-E6,10+D6)),0) -> 1.5 | M6: 0.5 | O6: =OFFSET(Очки!$A$2,I6,G6+OFFSET(Очки!$A$18,0,$C$31-1)-1) -> 15 | P6: =IF(I6<H6,OFFSET(Очки!$A$20,2+H6-I6,IF(G6=1,13-H6,10+G6)),0) -> 2.2 | Q6: 2.5 | S6: =SUM(J6:R6) -> 36.2
A7: =RANK(S7,S$6:OFFSET(S$6,0,0,COUNTA(B$6:B$30))) -> 2 | B7: Джемула Сергей | C7: - | D7: 1 | E7: 6 | F7: 3 | G7: 1 | H7: 6 | I7: 3 | J7: 1.5 | K7: =OFFSET(Очки!$A$2,F7,D7+OFFSET(Очки!$A$18,0,$C$31-1)-1) -> 13 | L7: =IF(F7<E7,OFFSET(Очки!$A$20,2+E7-F7,IF(D7=1,13-E7,10+D7)),0) -> 2.7 | M7: 1.5 | N7: -2 | O7: =OFFSET(Очки!$A$2,I7,G7+OFFSET(Очки!$A$18,0,$C$31-1)-1) -> 13 | P7: =IF(I7<H7,OFFSET(Очки!$A$20,2+H7-I7,IF(G7=1,13-H7,10+G7)),0) -> 2.7 | Q7: 2 | R7: -4 | S7: =SUM(J7:R7) -> 30.4
A8: =RANK(S8,S$6:OFFSET(S$6,0,0,COUNTA(B$6:B$30))) -> 3 | B8: Мурыгин Сергей | C8: - | D8: 1 | E8: 7 | F8: 5 | G8: 1 | H8: 8 | I8: 7 | J8: 2 | K8: =OFFSET(Очки!$A$2,F8,D8+OFFSET(Очки!$A$18,0,$C$31-1)-1) -> 11 | L8: =IF(F8<E8,OFFSET(Очки!$A$20,2+E8-F8,IF(D8=1,13-E8,10+D8)),0) -> 2.1 | M8: 2.5 | O8: =OFFSET(Очки!$A$2,I8,G8+OFFSET(Очки!$A$18,0,$C$31-1)-1) -> 10 | P8: =IF(I8<H8,OFFSET(Очки!$A$20,2+H8-I8,IF(G8=1,13-H8,10+G8)),0) -> 1.2 | Q8: 1.5 | S8: =SUM(J8:R8) -> 30.3
A9: =RANK(S9,S$6:OFFSET(S$6,0,0,COUNTA(B$6:B$30))) -> 4 | B9: Хлопонин Андрей | C9: - | D9: 1 | E9: 8 | F9: 6 | G9: 1 | H9: 7 | I9: 8 | J9: 2.5 | K9: =OFFSET(Очки!$A$2,F9,D9+OFFSET(Очки!$A$18,0,$C$31-1)-1) -> 10.5 | L9: =IF(F9<E9,OFFSET(Очки!$A$20,2+E9-F9,IF(D9=1,13-E9,10+D9)),0) -> 2.3 | M9: 2 | O9: =OFFSET(Очки!$A$2,I9,G9+OFFSET(Очки!$A$18,0,$C$31-1)-1) -> 9.5 | P9: =IF(I9<H9,OFFSET(Очки!$A$20,2+H9-I9,IF(G9=1,13-H9,10+G9)),0) -> 0 | Q9: 1 | S9: =SUM(J9:R9) -> 27.8
A10: 4 | B10: Сорокин Сергей | C10: - | D10: 1 | E10: 2 | F10: 1 | G10: 1 | H10: 3 | I10: 4 | K10: =OFFSET(Очки!$A$2,F10,D10+OFFSET(Очки!$A$18,0,$C$31-1)-1) -> 15 | L10: =IF(F10<E10,OFFSET(Очки!$A$20,2+E10-F10,IF(D10=1,13-E10,10+D10)),0) -> 0.7 | O10: =OFFSET(Очки!$A$2,I10,G10+OFFSET(Очки!$A$18,0,$C$31-1)-1) -> 12 | P10: =IF(I10<H10,OFFSET(Очки!$A$20,2+H10-I10,IF(G10=1,13-H10,10+G10)),0) -> 0 | S10: =SUM(J10:R10) -> 27.7
A11: 5 | B11: Синани Влад | C11: 2.5 | D11: 1 | E11: 5 | F11: 4 | G11: 1 | H11: 5 | I11: 6 | J11: 1 | K11: =OFFSET(Очки!$A$2,F11,D11+OFFSET(Очки!$A$18,0,$C$31-1)-1) -> 12 | L11: =IF(F11<E11,OFFSET(Очки!$A$20,2+E11-F11,IF(D11=1,13-E11,10+D11)),0) -> 0.9 | M11: 1 | O11: =OFFSET(Очки!$A$2,I11,G11+OFFSET(Очки!$A$18,0,$C$31-1)-1) -> 10.5 | P11: =IF(I11<H11,OFFSET(Очки!$A$20,2+H11-I11,IF(G11=1,13-H11,10+G11)),0) -> 0 | Q11: 0.5 | S11: =SUM(J11:R11) -> 25.9
A12: 6 | B12: Демьянюк Дмитрий | C12: - | D12: 2 | E12: 3 | F12: 3 | G12: 1 | H12: 1 | I12: 2 | K12: =OFFSET(Очки!$A$2,F12,D12+OFFSET(Очки!$A$18,0,$C$31-1)-1) -> 8.5 | L12: =IF(F12<E12,OFFSET(Очки!$A$20,2+E12-F12,IF(D12=1,13-E12,10+D12)),0) -> 0 | O12: =OFFSET(Очки!$A$2,I12,G12+OFFSET(Очки!$A$18,0,$C$31-1)-1) -> 14 | P12: =IF(I12<H12,OFFSET(Очки!$A$20,2+H12-I12,IF(G12=1,13-H12,10+G12)),0) -> 0 | S12: =SUM(J12:R12) -> 22.5
A13: 7 | B13: Романов Саша | C13: - | D13: 2 | E13: 2 | F13: 1 | G13: 2 | H13: 4 | I13: 2 | K13: =OFFSET(Очки!$A$2,F13,D13+OFFSET(Очки!$A$18,0,$C$31-1)-1) -> 10.5 | L13: =IF(F13<E13,OFFSET(Очки!$A$20,2+E13-F13,IF(D13=1,13-E13,10+D13)),0) -> 0.7 | O13: =OFFSET(Очки!$A$2,I13,G13+OFFSET(Очки!$A$18,0,$C$31-1)-1) -> 9.5 | P13: =IF(I13<H13,OFFSET(Очки!$A$20,2+H13-I13,IF(G13=1,13-H13,10+G13)),0) -> 1.4 | S13: =SUM(J13:R13) -> 22.1
A14: 8 | B14: Булавинов Андрей | C14: 5 | D14: 1 | E14: 3 | F14: 8 | G14: 2 | H14: 3 | I14: 1 | K14: =OFFSET(Очки!$A$2,F14,D14+OFFSET(Очки!$A$18,0,$C$31-1)-1) -> 9.5 | L14: =IF(F14<E14,OFFSET(Очки!$A$20,2+E14-F14,IF(D14=1,13-E14,10+D14)),0) -> 0 | O14: =OFFSET(Очки!$A$2,I14,G14+OFFSET(Очки!$A$18,0,$C$31-1)-1) -> 10.5 | P14: =IF(I14<H14,OFFSET(Очки!$A$20,2+H14-I14,IF(G14=1,13-H14,10+G14)),0) -> 1.4 | S14: =SUM(J14:R14) -> 21.4
A15: 9 | B15: Голоцван Дмитрий | C15: 7.5 | D15: 2 | E15: 7 | F15: 4 | G15: 1 | H15: 2 | I15: 5 | K15: =OFFSET(Очки!$A$2,F15,D15+OFFSET(Очки!$A$18,0,$C$31-1)-1) -> 7.5 | L15: =IF(F15<E15,OFFSET(Очки!$A$20,2+E15-F15,IF(D15=1,13-E15,10+D15)),0) -> 2.1 | O15: =OFFSET(Очки!$A$2,I15,G15+OFFSET(Очки!$A$18,0,$C$31-1)-1) -> 11 | P15: =IF(I15<H15,OFFSET(Очки!$A$20,2+H15-I15,IF(G15=1,13-H15,10+G15)),0) -> 0 | S15: =SUM(J15:R15) -> 20.6
A16: 10 | B16: Киктенко Юрий | C16: 5 | D16: 1 | E16: 1 | F16: 7 | G16: 2 | H16: 5 | I16: 4 | K16: =OFFSET(Очки!$A$2,F16,D16+OFFSET(Очки!$A$18,0,$C$31-1)-1) -> 10 | L16: =IF(F16<E16,OFFSET(Очки!$A$20,2+E16-F16,IF(D16=1,13-E16,10+D16)),0) -> 0 | O16: =OFFSET(Очки!$A$2,I16,G16+OFFSET(Очки!$A$18,0,$C$31-1)-1) -> 7.5 | P16: =IF(I16<H16,OFFSET(Очки!$A$20,2+H16-I16,IF(G16=1,13-H16,10+G16)),0) -> 0.7 | S16: =SUM(J16:R16) -> 18.2
A17: 11 | B17: Фаль Александр | C17: - | D17: 2 | E17: 8 | F17: 6 | G17: 2 | H17: 6 | I17: 5 | K17: =OFFSET(Очки!$A$2,F17,D17+OFFSET(Очки!$A$18,0,$C$31-1)-1) -> 6 | L17: =IF(F17<E17,OFFSET(Очки!$A$20,2+E17-F17,IF(D17=1,13-E17,10+D17)),0) -> 1.4 | O17: =OFFSET(Очки!$A$2,I17,G17+OFFSET(Очки!$A$18,0,$C$31-1)-1) -> 6.5 | P17: =IF(I17<H17,OFFSET(Очки!$A$20,2+H17-I17,IF(G17=1,13-H17,10+G17)),0) -> 0.7 | S17: =SUM(J17:R17) -> 14.6
A18: 12 | B18: Михайлик Михаил | C18: 20 | D18: 2 | E18: 4 | F18: 7 | G18: 2 | H18: 2 | I18: 3 | K18: =OFFSET(Очки!$A$2,F18,D18+OFFSET(Очки!$A$18,0,$C$31-1)-1) -> 5.5 | L18: =IF(F18<E18,OFFSET(Очки!$A$20,2+E18-F18,IF(D18=1,13-E18,10+D18)),0) -> 0 | O18: =OFFSET(Очки!$A$2,I18,G18+OFFSET(Очки!$A$18,0,$C$31-1)-1) -> 8.5 | P18: =IF(I18<H18,OFFSET(Очки!$A$20,2+H18-I18,IF(G18=1,13-H18,10+G18)),0) -> 0 | S18: =SUM(J18:R18) -> 14
A19: 13 | B19: Муляр Андрей | C19: - | D19: 2 | E19: 6 | F19: 5 | G19: 2 | H19: 7 | I19: 6 | K19: =OFFSET(Очки!$A$2,F19,D19+OFFSET(Очки!$A$18,0,$C$31-1)-1) -> 6.5 | L19: =IF(F19<E19,OFFSET(Очки!$A$20,2+E19-F19,IF(D19=1,13-E19,10+D19)),0) -> 0.7 | O19: =OFFSET(Очки!$A$2,I19,G19+OFFSET(Очки!$A$18,0,$C$31-1)-1) -> 6 | P19: =IF(I19<H19,OFFSET(Очки!$A$20,2+H19-I19,IF(G19=1,13-H19,10+G19)),0) -> 0.7 | S19: =SUM(J19:R19) -> 13.9
A20: 14 | B20: Лысенко Алексей | C20: - | D20: 2 | E20: 5 | F20: 2 | G20: 2 | H20: 8 | I20: 7 | K20: =OFFSET(Очки!$A$2,F20,D20+OFFSET(Очки!$A$18,0,$C$31-1)-1) -> 9.5 | L20: =IF(F20<E20,OFFSET(Очки!$A$20,2+E20-F20,IF(D20=1,13-E20,10+D20)),0) -> 2.1 | N20: -4 | O20: =OFFSET(Очки!$A$2,I20,G20+OFFSET(Очки!$A$18,0,$C$31-1)-1) -> 5.5 | P20: =IF(I20<H20,OFFSET(Очки!$A$20,2+H20-I20,IF(G20=1,13-H20,10+G20)),0) -> 0.7 | S20: =SUM(J20:R20) -> 13.8
A21: 15 | B21: Дыкань Сергей | C21: - | D21: 2 | E21: 1 | F21: 8 | G21: 2 | H21: 1 | I21: 8 | K21: =OFFSET(Очки!$A$2,F21,D21+OFFSET(Очки!$A$18,0,$C$31-1)-1) -> 5 | L21: =IF(F21<E21,OFFSET(Очки!$A$20,2+E21-F21,IF(D21=1,13-E21,10+D21)),0) -> 0 | O21: =OFFSET(Очки!$A$2,I21,G21+OFFSET(Очки!$A$18,0,$C$31-1)-1) -> 5 | P21: =IF(I21<H21,OFFSET(Очки!$A$20,2+H21-I21,IF(G21=1,13-H21,10+G21)),0) -> 0 | S21: =SUM(J21:R21) -> 10
A22: =RANK(S22,S$6:OFFSET(S$6,0,0,COUNTA(B$6:B$30))) -> #N/A | C22: - | K22: =OFFSET(Очки!$A$2,F22,D22+OFFSET(Очки!$A$18,0,$C$31-1)-1) -> 0 | L22: =IF(F22<E22,OFFSET(Очки!$A$20,2+E22-F22,IF(D22=1,13-E22,10+D22)),0) -> 0 | O22: =OFFSET(Очки!$A$2,I22,G22+OFFSET(Очки!$A$18,0,$C$31-1)-1) -> 0 | P22: =IF(I22<H22,OFFSET(Очки!$A$20,2+H22-I22,IF(G22=1,13-H22,10+G22)),0) -> 0 | S22: =SUM(J22:R22) -> 0
A23: =RANK(S23,S$6:OFFSET(S$6,0,0,COUNTA(B$6:B$30))) -> #N/A | C23: - | K23: =OFFSET(Очки!$A$2,F23,D23+OFFSET(Очки!$A$18,0,$C$31-1)-1) -> 0 | L23: =IF(F23<E23,OFFSET(Очки!$A$20,2+E23-F23,IF(D23=1,13-E23,10+D23)),0) -> 0 | O23: =OFFSET(Очки!$A$2,I23,G23+OFFSET(Очки!$A$18,0,$C$31-1)-1) -> 0 | P23: =IF(I23<H23,OFFSET(Очки!$A$20,2+H23-I23,IF(G23=1,13-H23,10+G23)),0) -> 0 | S23: =SUM(J23:R23) -> 0
A24: =RANK(S24,S$6:OFFSET(S$6,0,0,COUNTA(B$6:B$30))) -> #N/A | C24: - | K24: =OFFSET(Очки!$A$2,F24,D24+OFFSET(Очки!$A$18,0,$C$31-1)-1) -> 0 | L24: =IF(F24<E24,OFFSET(Очки!$A$20,2+E24-F24,IF(D24=1,13-E24,10+D24)),0) -> 0 | O24: =OFFSET(Очки!$A$2,I24,G24+OFFSET(Очки!$A$18,0,$C$31-1)-1) -> 0 | P24: =IF(I24<H24,OFFSET(Очки!$A$20,2+H24-I24,IF(G24=1,13-H24,10+G24)),0) -> 0 | S24: =SUM(J24:R24) -> 0
A25: =RANK(S25,S$6:OFFSET(S$6,0,0,COUNTA(B$6:B$30))) -> #N/A | C25: - | K25: =OFFSET(Очки!$A$2,F25,D25+OFFSET(Очки!$A$18,0,$C$31-1)-1) -> 0 | L25: =IF(F25<E25,OFFSET(Очки!$A$20,2+E25-F25,IF(D25=1,13-E25,10+D25)),0) -> 0 | O25: =OFFSET(Очки!$A$2,I25,G25+OFFSET(Очки!$A$18,0,$C$31-1)-1) -> 0 | P25: =IF(I25<H25,OFFSET(Очки!$A$20,2+H25-I25,IF(G25=1,13-H25,10+G25)),0) -> 0 | S25: =SUM(J25:R25) -> 0
A26: =RANK(S26,S$6:OFFSET(S$6,0,0,COUNTA(B$6:B$30))) -> #N/A | C26: - | K26: =OFFSET(Очки!$A$2,F26,D26+OFFSET(Очки!$A$18,0,$C$31-1)-1) -> 0 | L26: =IF(F26<E26,OFFSET(Очки!$A$20,2+E26-F26,IF(D26=1,13-E26,10+D26)),0) -> 0 | O26: =OFFSET(Очки!$A$2,I26,G26+OFFSET(Очки!$A$18,0,$C$31-1)-1) -> 0 | P26: =IF(I26<H26,OFFSET(Очки!$A$20,2+H26-I26,IF(G26=1,13-H26,10+G26)),0) -> 0 | S26: =SUM(J26:R26) -> 0
A27: =RANK(S27,S$6:OFFSET(S$6,0,0,COUNTA(B$6:B$30))) -> #N/A | C27: - | K27: =OFFSET(Очки!$A$2,F27,D27+OFFSET(Очки!$A$18,0,$C$31-1)-1) -> 0 | L27: =IF(F27<E27,OFFSET(Очки!$A$20,2+E27-F27,IF(D27=1,13-E27,10+D27)),0) -> 0 | O27: =OFFSET(Очки!$A$2,I27,G27+OFFSET(Очки!$A$18,0,$C$31-1)-1) -> 0 | P27: =IF(I27<H27,OFFSET(Очки!$A$20,2+H27-I27,IF(G27=1,13-H27,10+G27)),0) -> 0 | S27: =SUM(J27:R27) -> 0
A28: =RANK(S28,S$6:OFFSET(S$6,0,0,COUNTA(B$6:B$30))) -> #N/A | C28: - | K28: =OFFSET(Очки!$A$2,F28,D28+OFFSET(Очки!$A$18,0,$C$31-1)-1) -> 0 | L28: =IF(F28<E28,OFFSET(Очки!$A$20,2+E28-F28,IF(D28=1,13-E28,10+D28)),0) -> 0 | O28: =OFFSET(Очки!$A$2,I28,G28+OFFSET(Очки!$A$18,0,$C$31-1)-1) -> 0 | P28: =IF(I28<H28,OFFSET(Очки!$A$20,2+H28-I28,IF(G28=1,13-H28,10+G28)),0) -> 0 | S28: =SUM(J28:R28) -> 0
A29: =RANK(S29,S$6:OFFSET(S$6,0,0,COUNTA(B$6:B$30))) -> #N/A | C29: - | K29: =OFFSET(Очки!$A$2,F29,D29+OFFSET(Очки!$A$18,0,$C$31-1)-1) -> 0 | L29: =IF(F29<E29,OFFSET(Очки!$A$20,2+E29-F29,IF(D29=1,13-E29,10+D29)),0) -> 0 | O29: =OFFSET(Очки!$A$2,I29,G29+OFFSET(Очки!$A$18,0,$C$31-1)-1) -> 0 | P29: =IF(I29<H29,OFFSET(Очки!$A$20,2+H29-I29,IF(G29=1,13-H29,10+G29)),0) -> 0 | S29: =SUM(J29:R29) -> 0
A30: =RANK(S30,S$6:OFFSET(S$6,0,0,COUNTA(B$6:B$30))) -> #N/A | C30: - | K30: =OFFSET(Очки!$A$2,F30,D30+OFFSET(Очки!$A$18,0,$C$31-1)-1) -> 0 | L30: =IF(F30<E30,OFFSET(Очки!$A$20,2+E30-F30,IF(D30=1,13-E30,10+D30)),0) -> 0 | O30: =OFFSET(Очки!$A$2,I30,G30+OFFSET(Очки!$A$18,0,$C$31-1)-1) -> 0 | P30: =IF(I30<H30,OFFSET(Очки!$A$20,2+H30-I30,IF(G30=1,13-H30,10+G30)),0) -> 0 | S30: =SUM(J30:R30) -> 0
B31: Всего участников | C31: =COUNTA(B6:B30) -> 16

Sheet 27.06
A1: Лайт Лига 27.06.2017 (конфигурация 5R)
A3: Место | B3: Участник | D3: 1 | G3: 2 | J3: Очки | S3: Сумма
C4: Довес | D4: группа | E4: Старт | F4: Финиш | G4: группа | H4: Старт | I4: Финиш | J4: Квала | K4: 1 | O4: 2
K5: очки | L5: обгоны | M5: время | N5: штрафы | O5: очки | P5: обгоны | Q5: время | R5: штрафы
A6: =RANK(S6,S$6:OFFSET(S$6,0,0,COUNTA(B$6:B$30))) -> 1 | B6: Гаврилюк Олег | C6: - | D6: 1 | E6: 11 | F6: 1 | G6: 1 | H6: 11 | I6: 4 | J6: 2.5 | K6: =OFFSET(Очки!$A$2,F6,D6+OFFSET(Очки!$A$18,0,$C$31-1)-1) -> 15 | L6: =IF(F6<E6,OFFSET(Очки!$A$20,2+E6-F6,IF(D6=1,13-E6,10+D6)),0) -> 10.1 | M6: 2.5 | O6: =OFFSET(Очки!$A$2,I6,G6+OFFSET(Очки!$A$18,0,$C$31-1)-1) -> 12 | P6: =IF(I6<H6,OFFSET(Очки!$A$20,2+H6-I6,IF(G6=1,13-H6,10+G6)),0) -> 7.9 | Q6: 2 | S6: =SUM(J6:R6) -> 52
A7: =RANK(S7,S$6:OFFSET(S$6,0,0,COUNTA(B$6:B$30))) -> 2 | B7: Кочмарев Юра | C7: - | D7: 1 | E7: 9 | F7: 2 | G7: 1 | H7: 9 | I7: 8 | J7: 1.5 | K7: =OFFSET(Очки!$A$2,F7,D7+OFFSET(Очки!$A$18,0,$C$31-1)-1) -> 14 | L7: =IF(F7<E7,OFFSET(Очки!$A$20,2+E7-F7,IF(D7=1,13-E7,10+D7)),0) -> 6.9 | M7: 1.5 | O7: =OFFSET(Очки!$A$2,I7,G7+OFFSET(Очки!$A$18,0,$C$31-1)-1) -> 9.5 | P7: =IF(I7<H7,OFFSET(Очки!$A$20,2+H7-I7,IF(G7=1,13-H7,10+G7)),0) -> 1.2 | Q7: 1 | S7: =SUM(J7:R7) -> 35.6
A8: 1 | B8: Мурыгин Сергей | C8: - | D8: 1 | E8: 3 | F8: 7 | G8: 1 | H8: 1 | I8: 1 | K8: =OFFSET(Очки!$A$2,F8,D8+OFFSET(Очки!$A$18,0,$C$31-1)-1) -> 10 | L8: =IF(F8<E8,OFFSET(Очки!$A$20,2+E8-F8,IF(D8=1,13-E8,10+D8)),0) -> 0 | O8: =OFFSET(Очки!$A$2,I8,G8+OFFSET(Очки!$A$18,0,$C$31-1)-1) -> 15 | P8: =IF(I8<H8,OFFSET(Очки!$A$20,2+H8-I8,IF(G8=1,13-H8,10+G8)),0) -> 0 | Q8: 2.5 | S8: =SUM(J8:R8) -> 27.5
A9: 2 | B9: Пархомчук Саша | C9: - | D9: 1 | E9: 8 | F9: 6 | G9: 1 | H9: 8 | I9: 9 | J9: 1 | K9: =OFFSET(Очки!$A$2,F9,D9+OFFSET(Очки!$A$18,0,$C$31-1)-1) -> 10.5 | L9: =IF(F9<E9,OFFSET(Очки!$A$20,2+E9-F9,IF(D9=1,13-E9,10+D9)),0) -> 2.3 | M9: 1 | O9: =OFFSET(Очки!$A$2,I9,G9+OFFSET(Очки!$A$18,0,$C$31-1)-1) -> 9 | P9: =IF(I9<H9,OFFSET(Очки!$A$20,2+H9-I9,IF(G9=1,13-H9,10+G9)),0) -> 0 | S9: =SUM(J9:R9) -> 23.8
A10: 3 | B10: Тамберг Александр | C10: - | D10: 2 | E10: 9 | F10: 4 | G10: 1 | H10: 2 | I10: 2 | K10: =OFFSET(Очки!$A$2,F10,D10+OFFSET(Очки!$A$18,0,$C$31-1)-1) -> 6 | L10: =IF(F10<E10,OFFSET(Очки!$A$20,2+E10-F10,IF(D10=1,13-E10,10+D10)),0) -> 3.5 | O10: =OFFSET(Очки!$A$2,I10,G10+OFFSET(Очки!$A$18,0,$C$31-1)-1) -> 14 | P10: =IF(I10<H10,OFFSET(Очки!$A$20,2+H10-I10,IF(G10=1,13-H10,10+G10)),0) -> 0 | S10: =SUM(J10:R10) -> 23.5
A11: 4 | B11: Яценко Вова | C11: 12.5 | D11: 1 | E11: 6 | F11: 2 | G11: 1 | H11: 10 | I11: 7 | J11: 2 | K11: =OFFSET(Очки!$A$2,F11,D11+OFFSET(Очки!$A$18,0,$C$31-1)-1) -> 14 | L11: =IF(F11<E11,OFFSET(Очки!$A$20,2+E11-F11,IF(D11=1,13-E11,10+D11)),0) -> 3.4 | M11: 2 | N11: =-4-4-2-4 -> -14 | O11: =OFFSET(Очки!$A$2,I11,G11+OFFSET(Очки!$A$18,0,$C$31-1)-1) -> 10 | P11: =IF(I11<H11,OFFSET(Очки!$A$20,2+H11-I11,IF(G11=1,13-H11,10+G11)),0) -> 3.6 | Q11: 0.5 | S11: =SUM(J11:R11) -> 21.5
A12: 5 | B12: Дядя Саша | C12: - | D12: 2 | E12: 4 | F12: 1 | G12: 1 | H12: 5 | I12: 11 | K12: =OFFSET(Очки!$A$2,F12,D12+OFFSET(Очки!$A$18,0,$C$31-1)-1) -> 9 | L12: =IF(F12<E12,OFFSET(Очки!$A$20,2+E12-F12,IF(D12=1,13-E12,10+D12)),0) -> 2.1 | O12: =OFFSET(Очки!$A$2,I12,G12+OFFSET(Очки!$A$18,0,$C$31-1)-1) -> 8 | P12: =IF(I12<H12,OFFSET(Очки!$A$20,2+H12-I12,IF(G12=1,13-H12,10+G12)),0) -> 0 | S12: =SUM(J12:R12) -> 19.1
A13: 5 | B13: Пилипчук Всилий | C13: - | D13: 1 | E13: 7 | F13: 9 | G13: 1 | H13: 7 | I13: 6 | J13: 0.5 | K13: =OFFSET(Очки!$A$2,F13,D13+OFFSET(Очки!$A$18,0,$C$31-1)-1) -> 9 | L13: =IF(F13<E13,OFFSET(Очки!$A$20,2+E13-F13,IF(D13=1,13-E13,10+D13)),0) -> 0 | M13: 0.5 | N13: -4 | O13: =OFFSET(Очки!$A$2,I13,G13+OFFSET(Очки!$A$18,0,$C$31-1)-1) -> 10.5 | P13: =IF(I13<H13,OFFSET(Очки!$A$20,2+H13-I13,IF(G13=1,13-H13,10+G13)),0) -> 1.1 | Q13: 1.5 | S13: =SUM(J13:R13) -> 19.1
A14: 7 | B14: Киселёв Филипп | C14: - | D14: 1 | E14: 4 | F14: 11 | G14: 1 | H14: 4 | I14: 5 | K14: =OFFSET(Очки!$A$2,F14,D14+OFFSET(Очки!$A$18,0,$C$31-1)-1) -> 8 | L14: =IF(F14<E14,OFFSET(Очки!$A$20,2+E14-F14,IF(D14=1,13-E14,10+D14)),0) -> 0 | O14: =OFFSET(Очки!$A$2,I14,G14+OFFSET(Очки!$A$18,0,$C$31-1)-1) -> 11 | P14: =IF(I14<H14,OFFSET(Очки!$A$20,2+H14-I14,IF(G14=1,13-H14,10+G14)),0) -> 0 | S14: =SUM(J14:R14) -> 19
A15: 8 | B15: Фаль Александр | C15: - | D15: 2 | E15: 6 | F15: 4 | G15: 2 | H15: 4 | I15: 1 | K15: =OFFSET(Очки!$A$2,F15,D15+OFFSET(Очки!$A$18,0,$C$31-1)-1) -> 6 | L15: =IF(F15<E15,OFFSET(Очки!$A$20,2+E15-F15,IF(D15=1,13-E15,10+D15)),0) -> 1.4 | O15: =OFFSET(Очки!$A$2,I15,G15+OFFSET(Очки!$A$18,0,$C$31-1)-1) -> 9 | P15: =IF(I15<H15,OFFSET(Очки!$A$20,2+H15-I15,IF(G15=1,13-H15,10+G15)),0) -> 2.1 | S15: =SUM(J15:R15) -> 18.5
A16: 9 | B16: Майбродский Миша | C16: - | D16: 1 | E16: 2 | F16: 5 | G16: 2 | H16: 5 | I16: 4 | K16: =OFFSET(Очки!$A$2,F16,D16+OFFSET(Очки!$A$18,0,$C$31-1)-1) -> 11 | L16: =IF(F16<E16,OFFSET(Очки!$A$20,2+E16-F16,IF(D16=1,13-E16,10+D16)),0) -> 0 | O16: =OFFSET(Очки!$A$2,I16,G16+OFFSET(Очки!$A$18,0,$C$31-1)-1) -> 6 | P16: =IF(I16<H16,OFFSET(Очки!$A$20,2+H16-I16,IF(G16=1,13-H16,10+G16)),0) -> 0.7 | S16: =SUM(J16:R16) -> 17.7
A17: 10 | B17: Муляр Андрей | C17: - | D17: 2 | E17: 8 | F17: 6 | G17: 2 | H17: 9 | I17: 4 | K17: =OFFSET(Очки!$A$2,F17,D17+OFFSET(Очки!$A$18,0,$C$31-1)-1) -> 4.5 | L17: =IF(F17<E17,OFFSET(Очки!$A$20,2+E17-F17,IF(D17=1,13-E17,10+D17)),0) -> 1.4 | O17: =OFFSET(Очки!$A$2,I17,G17+OFFSET(Очки!$A$18,0,$C$31-1)-1) -> 6 | P17: =IF(I17<H17,OFFSET(Очки!$A$20,2+H17-I17,IF(G17=1,13-H17,10+G17)),0) -> 3.5 | S17: =SUM(J17:R17) -> 15.4
A18: 11 | B18: Михайлик Михаил | C18: 20 | D18: 2 | E18: 7 | F18: 2 | G18: 2 | H18: 6 | I18: 2 | K18: =OFFSET(Очки!$A$2,F18,D18+OFFSET(Очки!$A$18,0,$C$31-1)-1) -> 8 | L18: =IF(F18<E18,OFFSET(Очки!$A$20,2+E18-F18,IF(D18=1,13-E18,10+D18)),0) -> 3.5 | N18: =-4-3 -> -7 | O18: =OFFSET(Очки!$A$2,I18,G18+OFFSET(Очки!$A$18,0,$C$31-1)-1) -> 8 | P18: =IF(I18<H18,OFFSET(Очки!$A$20,2+H18-I18,IF(G18=1,13-H18,10+G18)),0) -> 2.8 | S18: =SUM(J18:R18) -> 15.3
A19: 12 | B19: Якусик Саша | C19: 10 | D19: 1 | E19: 1 | F19: 4 | G19: 2 | H19: 8 | I19: 6 | K19: =OFFSET(Очки!$A$2,F19,D19+OFFSET(Очки!$A$18,0,$C$31-1)-1) -> 12 | L19: =IF(F19<E19,OFFSET(Очки!$A$20,2+E19-F19,IF(D19=1,13-E19,10+D19)),0) -> 0 | O19: =OFFSET(Очки!$A$2,I19,G19+OFFSET(Очки!$A$18,0,$C$31-1)-1) -> 4.5 | P19: =IF(I19<H19,OFFSET(Очки!$A$20,2+H19-I19,IF(G19=1,13-H19,10+G19)),0) -> 1.4 | R19: -4 | S19: =SUM(J19:R19) -> 13.9
A20: 13 | B20: Сорокин Сергей | C20: - | D20: 2 | E20: 10 | F20: 9 | G20: 1 | H20: 6 | I20: 10 | K20: =OFFSET(Очки!$A$2,F20,D20+OFFSET(Очки!$A$18,0,$C$31-1)-1) -> 3 | L20: =IF(F20<E20,OFFSET(Очки!$A$20,2+E20-F20,IF(D20=1,13-E20,10+D20)),0) -> 0.7 | O20: =OFFSET(Очки!$A$2,I20,G20+OFFSET(Очки!$A$18,0,$C$31-1)-1) -> 8.5 | P20: =IF(I20<H20,OFFSET(Очки!$A$20,2+H20-I20,IF(G20=1,13-H20,10+G20)),0) -> 0 | S20: =SUM(J20:R20) -> 12.2
A21: 14 | B21: Балтар Максим | C21: 2.5 | D21: 2 | E21: 5 | F21: 6 | G21: 2 | H21: 2 | I21: 3 | K21: =OFFSET(Очки!$A$2,F21,D21+OFFSET(Очки!$A$18,0,$C$31-1)-1) -> 4.5 | L21: =IF(F21<E21,OFFSET(Очки!$A$20,2+E21-F21,IF(D21=1,13-E21,10+D21)),0) -> 0 | O21: =OFFSET(Очки!$A$2,I21,G21+OFFSET(Очки!$A$18,0,$C$31-1)-1) -> 7 | P21: =IF(I21<H21,OFFSET(Очки!$A$20,2+H21-I21,IF(G21=1,13-H21,10+G21)),0) -> 0 | S21: =SUM(J21:R21) -> 11.5
A22: 15 | B22: Лабунский Алексей | C22: 7.5 | D22: 2 | E22: 2 | F22: 3 | G22: 2 | H22: 3 | I22: 7 | K22: =OFFSET(Очки!$A$2,F22,D22+OFFSET(Очки!$A$18,0,$C$31-1)-1) -> 7 | L22: =IF(F22<E22,OFFSET(Очки!$A$20,2+E22-F22,IF(D22=1,13-E22,10+D22)),0) -> 0 | O22: =OFFSET(Очки!$A$2,I22,G22+OFFSET(Очки!$A$18,0,$C$31-1)-1) -> 4 | P22: =IF(I22<H22,OFFSET(Очки!$A$20,2+H22-I22,IF(G22=1,13-H22,10+G22)),0) -> 0 | S22: =SUM(J22:R22) -> 11
A23: 16 | B23: Якусик Дима | C23: 7.5 | D23: 1 | E23: 10 | F23: 10 | G23: 1 | H23: 3 | I23: 36 | K23: =OFFSET(Очки!$A$2,F23,D23+OFFSET(Очки!$A$18,0,$C$31-1)-1) -> 8.5 | L23: =IF(F23<E23,OFFSET(Очки!$A$20,2+E23-F23,IF(D23=1,13-E23,10+D23)),0) -> 0 | O23: =OFFSET(Очки!$A$2,I23,G23+OFFSET(Очки!$A$18,0,$C$31-1)-1) -> 0 | P23: =IF(I23<H23,OFFSET(Очки!$A$20,2+H23-I23,IF(G23=1,13-H23,10+G23)),0) -> 0 | S23: =SUM(J23:R23) -> 8.5
A24: 17 | B24: Голоцван Дима | C24: 7.5 | D24: 1 | E24: 5 | F24: 8 | G24: 2 | H24: 7 | I24: 7 | K24: =OFFSET(Очки!$A$2,F24,D24+OFFSET(Очки!$A$18,0,$C$31-1)-1) -> 9.5 | L24: =IF(F24<E24,OFFSET(Очки!$A$20,2+E24-F24,IF(D24=1,13-E24,10+D24)),0) -> 0 | O24: =OFFSET(Очки!$A$2,I24,G24+OFFSET(Очки!$A$18,0,$C$31-1)-1) -> 4 | P24: =IF(I24<H24,OFFSET(Очки!$A$20,2+H24-I24,IF(G24=1,13-H24,10+G24)),0) -> 0 | R24: =-4-2 -> -6 | S24: =SUM(J24:R24) -> 7.5
A25: 18 | B25: Ильяшенко Владимир | C25: - | D25: 2 | E25: 1 | F25: 10 | G25: 2 | H25: 1 | I25: 9 | K25: =OFFSET(Очки!$A$2,F25,D25+OFFSET(Очки!$A$18,0,$C$31-1)-1) -> 2.5 | L25: =IF(F25<E25,OFFSET(Очки!$A$20,2+E25-F25,IF(D25=1,13-E25,10+D25)),0) -> 0 | O25: =OFFSET(Очки!$A$2,I25,G25+OFFSET(Очки!$A$18,0,$C$31-1)-1) -> 3 | P25: =IF(I25<H25,OFFSET(Очки!$A$20,2+H25-I25,IF(G25=1,13-H25,10+G25)),0) -> 0 | S25: =SUM(J25:R25) -> 5.5
A26: 19 | B26: Мурадян | C26: - | D26: 2 | E26: 3 | F26: 8 | G26: 2 | K26: =OFFSET(Очки!$A$2,F26,D26+OFFSET(Очки!$A$18,0,$C$31-1)-1) -> 3.5 | L26: =IF(F26<E26,OFFSET(Очки!$A$20,2+E26-F26,IF(D26=1,13-E26,10+D26)),0) -> 0 | N26: -5 | O26: =OFFSET(Очки!$A$2,I26,G26+OFFSET(Очки!$A$18,0,$C$31-1)-1) -> II | P26: =IF(I26<H26,OFFSET(Очки!$A$20,2+H26-I26,IF(G26=1,13-H26,10+G26)),0) -> 0 | S26: =SUM(J26:R26) -> -1.5
A27: =RANK(S27,S$6:OFFSET(S$6,0,0,COUNTA(B$6:B$30))) -> #N/A | C27: - | K27: =OFFSET(Очки!$A$2,F27,D27+OFFSET(Очки!$A$18,0,$C$31-1)-1) -> 0 | L27: =IF(F27<E27,OFFSET(Очки!$A$20,2+E27-F27,IF(D27=1,13-E27,10+D27)),0) -> 0 | O27: =OFFSET(Очки!$A$2,I27,G27+OFFSET(Очки!$A$18,0,$C$31-1)-1) -> 0 | P27: =IF(I27<H27,OFFSET(Очки!$A$20,2+H27-I27,IF(G27=1,13-H27,10+G27)),0) -> 0 | S27: =SUM(J27:R27) -> 0
A28: =RANK(S28,S$6:OFFSET(S$6,0,0,COUNTA(B$6:B$30))) -> #N/A | C28: - | K28: =OFFSET(Очки!$A$2,F28,D28+OFFSET(Очки!$A$18,0,$C$31-1)-1) -> 0 | L28: =IF(F28<E28,OFFSET(Очки!$A$20,2+E28-F28,IF(D28=1,13-E28,10+D28)),0) -> 0 | O28: =OFFSET(Очки!$A$2,I28,G28+OFFSET(Очки!$A$18,0,$C$31-1)-1) -> 0 | P28: =IF(I28<H28,OFFSET(Очки!$A$20,2+H28-I28,IF(G28=1,13-H28,10+G28)),0) -> 0 | S28: =SUM(J28:R28) -> 0
A29: =RANK(S29,S$6:OFFSET(S$6,0,0,COUNTA(B$6:B$30))) -> #N/A | C29: - | K29: =OFFSET(Очки!$A$2,F29,D29+OFFSET(Очки!$A$18,0,$C$31-1)-1) -> 0 | L29: =IF(F29<E29,OFFSET(Очки!$A$20,2+E29-F29,IF(D29=1,13-E29,10+D29)),0) -> 0 | O29: =OFFSET(Очки!$A$2,I29,G29+OFFSET(Очки!$A$18,0,$C$31-1)-1) -> 0 | P29: =IF(I29<H29,OFFSET(Очки!$A$20,2+H29-I29,IF(G29=1,13-H29,10+G29)),0) -> 0 | S29: =SUM(J29:R29) -> 0
A30: =RANK(S30,S$6:OFFSET(S$6,0,0,COUNTA(B$6:B$30))) -> #N/A | C30: - | K30: =OFFSET(Очки!$A$2,F30,D30+OFFSET(Очки!$A$18,0,$C$31-1)-1) -> 0 | L30: =IF(F30<E30,OFFSET(Очки!$A$20,2+E30-F30,IF(D30=1,13-E30,10+D30)),0) -> 0 | O30: =OFFSET(Очки!$A$2,I30,G30+OFFSET(Очки!$A$18,0,$C$31-1)-1) -> 0 | P30: =IF(I30<H30,OFFSET(Очки!$A$20,2+H30-I30,IF(G30=1,13-H30,10+G30)),0) -> 0 | S30: =SUM(J30:R30) -> 0
B31: Всего участников | C31: =COUNTA(B6:B30) -> 21

Sheet 04.07
A1: Лайт Лига 04.07.2017 (конфигурация 4)
A3: Место | B3: Участник | D3: 1 | G3: 2 | J3: Очки | S3: Сумма
C4: Довес | D4: группа | E4: Старт | F4: Финиш | G4: группа | H4: Старт | I4: Финиш | J4: Квала | K4: 1 | O4: 2
K5: очки | L5: обгоны | M5: время | N5: штрафы | O5: очки | P5: обгоны | Q5: время | R5: штрафы
A6: =RANK(S6,S$6:OFFSET(S$6,0,0,COUNTA(B$6:B$31))) -> 1 | B6: Звягин Григорий | C6: 7.5 | D6: 1 | E6: 7 | F6: 2 | G6: 1 | H6: 7 | I6: 2 | J6: 1.5 | K6: =OFFSET(Очки!$A$2,F6,D6+OFFSET(Очки!$A$18,0,$C$32-1)-1) -> 16 | L6: =IF(F6<E6,OFFSET(Очки!$A$20,2+E6-F6,IF(D6=1,13-E6,10+D6)),0) -> 4.5 | M6: 1.5 | O6: =OFFSET(Очки!$A$2,I6,G6+OFFSET(Очки!$A$18,0,$C$32-1)-1) -> 16 | P6: =IF(I6<H6,OFFSET(Очки!$A$20,2+H6-I6,IF(G6=1,13-H6,10+G6)),0) -> 4.5 | Q6: 1.5 | S6: =SUM(J6:R6) -> 45.5
A7: =RANK(S7,S$6:OFFSET(S$6,0,0,COUNTA(B$6:B$31))) -> 2 | B7: Онащук Максим | C7: - | D7: 1 | E7: 9 | F7: 6 | G7: 1 | H7: 9 | I7: 6 | J7: 2.5 | K7: =OFFSET(Очки!$A$2,F7,D7+OFFSET(Очки!$A$18,0,$C$32-1)-1) -> 12.5 | L7: =IF(F7<E7,OFFSET(Очки!$A$20,2+E7-F7,IF(D7=1,13-E7,10+D7)),0) -> 3.5 | M7: 2.5 | O7: =OFFSET(Очки!$A$2,I7,G7+OFFSET(Очки!$A$18,0,$C$32-1)-1) -> 12.5 | P7: =IF(I7<H7,OFFSET(Очки!$A$20,2+H7-I7,IF(G7=1,13-H7,10+G7)),0) -> 3.5 | Q7: 2 | S7: =SUM(J7:R7) -> 39
A8: 2 | B8: Фортуна Таня | C8: - | D8: 1 | E8: 8 | F8: 8 | G8: 1 | H8: 6 | I8: 1 | J8: 2 | K8: =OFFSET(Очки!$A$2,F8,D8+OFFSET(Очки!$A$18,0,$C$32-1)-1) -> 11.5 | L8: =IF(F8<E8,OFFSET(Очки!$A$20,2+E8-F8,IF(D8=1,13-E8,10+D8)),0) -> 0 | M8: 1 | O8: =OFFSET(Очки!$A$2,I8,G8+OFFSET(Очки!$A$18,0,$C$32-1)-1) -> 17 | P8: =IF(I8<H8,OFFSET(Очки!$A$20,2+H8-I8,IF(G8=1,13-H8,10+G8)),0) -> 4.1 | Q8: 2.5 | S8: =SUM(J8:R8) -> 38.1
A9: =RANK(S9,S$6:OFFSET(S$6,0,0,COUNTA(B$6:B$31))) -> 4 | B9: Кочмарев Юра | C9: - | D9: 2 | E9: 8 | F9: 2 | G9: 1 | H9: 8 | I9: 7 | K9: =OFFSET(Очки!$A$2,F9,D9+OFFSET(Очки!$A$18,0,$C$32-1)-1) -> 11 | L9: =IF(F9<E9,OFFSET(Очки!$A$20,2+E9-F9,IF(D9=1,13-E9,10+D9)),0) -> 4.2 | M9: 2 | O9: =OFFSET(Очки!$A$2,I9,G9+OFFSET(Очки!$A$18,0,$C$32-1)-1) -> 12 | P9: =IF(I9<H9,OFFSET(Очки!$A$20,2+H9-I9,IF(G9=1,13-H9,10+G9)),0) -> 1.2 | Q9: 1 | S9: =SUM(J9:R9) -> 31.4
A10: 3 | B10: Колтуненко Юра | C10: 12.5 | D10: 2 | E10: 1 | F10: 1 | G10: 1 | H10: 2 | I10: 4 | K10: =OFFSET(Очки!$A$2,F10,D10+OFFSET(Очки!$A$18,0,$C$32-1)-1) -> 12 | L10: =IF(F10<E10,OFFSET(Очки!$A$20,2+E10-F10,IF(D10=1,13-E10,10+D10)),0) -> 0 | O10: =OFFSET(Очки!$A$2,I10,G10+OFFSET(Очки!$A$18,0,$C$32-1)-1) -> 14 | P10: =IF(I10<H10,OFFSET(Очки!$A$20,2+H10-I10,IF(G10=1,13-H10,10+G10)),0) -> 0 | S10: =SUM(J10:R10) -> 26
A11: 4 | B11: Пилипчук Василий | C11: 5 | D11: 2 | E11: 6 | F11: 4 | G11: 1 | H11: 3 | I11: 3 | K11: =OFFSET(Очки!$A$2,F11,D11+OFFSET(Очки!$A$18,0,$C$32-1)-1) -> 9 | L11: =IF(F11<E11,OFFSET(Очки!$A$20,2+E11-F11,IF(D11=1,13-E11,10+D11)),0) -> 1.4 | O11: =OFFSET(Очки!$A$2,I11,G11+OFFSET(Очки!$A$18,0,$C$32-1)-1) -> 15 | P11: =IF(I11<H11,OFFSET(Очки!$A$20,2+H11-I11,IF(G11=1,13-H11,10+G11)),0) -> 0 | Q11: 0.5 | S11: =SUM(J11:R11) -> 25.9
A12: 5 | B12: Сомок Денис | C12: - | D12: 1 | E12: 6 | F12: 7 | G12: 1 | H12: 5 | I12: 8 | J12: 1 | K12: =OFFSET(Очки!$A$2,F12,D12+OFFSET(Очки!$A$18,0,$C$32-1)-1) -> 12 | L12: =IF(F12<E12,OFFSET(Очки!$A$20,2+E12-F12,IF(D12=1,13-E12,10+D12)),0) -> 0 | M12: 0.5 | O12: =OFFSET(Очки!$A$2,I12,G12+OFFSET(Очки!$A$18,0,$C$32-1)-1) -> 11.5 | P12: =IF(I12<H12,OFFSET(Очки!$A$20,2+H12-I12,IF(G12=1,13-H12,10+G12)),0) -> 0 | S12: =SUM(J12:R12) -> 25
A13: 6 | B13: Якусик Дима | C13: 7.5 | D13: 1 | E13: 5 | F13: 3 | G13: 2 | H13: 8 | I13: 7 | J13: 0.5 | K13: =OFFSET(Очки!$A$2,F13,D13+OFFSET(Очки!$A$18,0,$C$32-1)-1) -> 15 | L13: =IF(F13<E13,OFFSET(Очки!$A$20,2+E13-F13,IF(D13=1,13-E13,10+D13)),0) -> 1.7 | O13: =OFFSET(Очки!$A$2,I13,G13+OFFSET(Очки!$A$18,0,$C$32-1)-1) -> 7 | P13: =IF(I13<H13,OFFSET(Очки!$A$20,2+H13-I13,IF(G13=1,13-H13,10+G13)),0) -> 0.7 | S13: =SUM(J13:R13) -> 24.9
A14: 7 | B14: Дарий Игорь | C14: - | D14: 1 | E14: 1 | F14: 1 | G14: 2 | H14: 9 | I14: 6 | K14: =OFFSET(Очки!$A$2,F14,D14+OFFSET(Очки!$A$18,0,$C$32-1)-1) -> 17 | L14: =IF(F14<E14,OFFSET(Очки!$A$20,2+E14-F14,IF(D14=1,13-E14,10+D14)),0) -> 0 | O14: =OFFSET(Очки!$A$2,I14,G14+OFFSET(Очки!$A$18,0,$C$32-1)-1) -> 7.5 | P14: =IF(I14<H14,OFFSET(Очки!$A$20,2+H14-I14,IF(G14=1,13-H14,10+G14)),0) -> 2.1 | R14: -5 | S14: =SUM(J14:R14) -> 21.6
A15: 8 | B15: Лысенко Алексей | C15: - | D15: 1 | E15: 2 | F15: 5 | G15: 2 | H15: 7 | I15: 7 | K15: =OFFSET(Очки!$A$2,F15,D15+OFFSET(Очки!$A$18,0,$C$32-1)-1) -> 13 | L15: =IF(F15<E15,OFFSET(Очки!$A$20,2+E15-F15,IF(D15=1,13-E15,10+D15)),0) -> 0 | O15: =OFFSET(Очки!$A$2,I15,G15+OFFSET(Очки!$A$18,0,$C$32-1)-1) -> 7 | P15: =IF(I15<H15,OFFSET(Очки!$A$20,2+H15-I15,IF(G15=1,13-H15,10+G15)),0) -> 0 | S15: =SUM(J15:R15) -> 20
A16: 9 | B16: Киселев Филипп | C16: - | D16: 3 | E16: 5 | F16: 1 | G16: 2 | H16: 4 | I16: 3 | K16: =OFFSET(Очки!$A$2,F16,D16+OFFSET(Очки!$A$18,0,$C$32-1)-1) -> 7 | L16: =IF(F16<E16,OFFSET(Очки!$A$20,2+E16-F16,IF(D16=1,13-E16,10+D16)),0) -> 2 | O16: =OFFSET(Очки!$A$2,I16,G16+OFFSET(Очки!$A$18,0,$C$32-1)-1) -> 10 | P16: =IF(I16<H16,OFFSET(Очки!$A$20,2+H16-I16,IF(G16=1,13-H16,10+G16)),0) -> 0.7 | S16: =SUM(J16:R16) -> 19.7
A17: 9 | B17: Конюхов Роман | C17: 10 | D17: 3 | E17: 6 | F17: 2 | G17: 2 | H17: 3 | I17: 2 | K17: =OFFSET(Очки!$A$2,F17,D17+OFFSET(Очки!$A$18,0,$C$32-1)-1) -> 6 | L17: =IF(F17<E17,OFFSET(Очки!$A$20,2+E17-F17,IF(D17=1,13-E17,10+D17)),0) -> 2 | O17: =OFFSET(Очки!$A$2,I17,G17+OFFSET(Очки!$A$18,0,$C$32-1)-1) -> 11 | P17: =IF(I17<H17,OFFSET(Очки!$A$20,2+H17-I17,IF(G17=1,13-H17,10+G17)),0) -> 0.7 | S17: =SUM(J17:R17) -> 19.7
A18: 11 | B18: Якусик Александр | C18: 7.5 | D18: 2 | E18: 4 | F18: 9 | G18: 2 | H18: 2 | I18: 1 | K18: =OFFSET(Очки!$A$2,F18,D18+OFFSET(Очки!$A$18,0,$C$32-1)-1) -> 6 | L18: =IF(F18<E18,OFFSET(Очки!$A$20,2+E18-F18,IF(D18=1,13-E18,10+D18)),0) -> 0 | O18: =OFFSET(Очки!$A$2,I18,G18+OFFSET(Очки!$A$18,0,$C$32-1)-1) -> 12 | P18: =IF(I18<H18,OFFSET(Очки!$A$20,2+H18-I18,IF(G18=1,13-H18,10+G18)),0) -> 0.7 | S18: =SUM(J18:R18) -> 18.7
A19: 12 | B19: Шиленко Александр | C19: - | D19: 2 | E19: 7 | F19: 8 | G19: 1 | H19: 4 | I19: 9 | K19: =OFFSET(Очки!$A$2,F19,D19+OFFSET(Очки!$A$18,0,$C$32-1)-1) -> 6.5 | L19: =IF(F19<E19,OFFSET(Очки!$A$20,2+E19-F19,IF(D19=1,13-E19,10+D19)),0) -> 0 | O19: =OFFSET(Очки!$A$2,I19,G19+OFFSET(Очки!$A$18,0,$C$32-1)-1) -> 11 | P19: =IF(I19<H19,OFFSET(Очки!$A$20,2+H19-I19,IF(G19=1,13-H19,10+G19)),0) -> 0 | S19: =SUM(J19:R19) -> 17.5
A20: 13 | B20: Тамберг Александр | C20: - | D20: 1 | E20: 3 | F20: 4 | G20: 2 | H20: 6 | I20: 4 | K20: =OFFSET(Очки!$A$2,F20,D20+OFFSET(Очки!$A$18,0,$C$32-1)-1) -> 14 | L20: =IF(F20<E20,OFFSET(Очки!$A$20,2+E20-F20,IF(D20=1,13-E20,10+D20)),0) -> 0 | O20: =OFFSET(Очки!$A$2,I20,G20+OFFSET(Очки!$A$18,0,$C$32-1)-1) -> 9 | P20: =IF(I20<H20,OFFSET(Очки!$A$20,2+H20-I20,IF(G20=1,13-H20,10+G20)),0) -> 1.4 | R20: -7 | S20: =SUM(J20:R20) -> 17.4
A21: 14 | B21: Фаль Александр | C21: - | D21: 1 | E21: 4 | F21: 9 | G21: 2 | H21: 5 | I21: 4 | K21: =OFFSET(Очки!$A$2,F21,D21+OFFSET(Очки!$A$18,0,$C$32-1)-1) -> 11 | L21: =IF(F21<E21,OFFSET(Очки!$A$20,2+E21-F21,IF(D21=1,13-E21,10+D21)),0) -> 0 | O21: =OFFSET(Очки!$A$2,I21,G21+OFFSET(Очки!$A$18,0,$C$32-1)-1) -> 9 | P21: =IF(I21<H21,OFFSET(Очки!$A$20,2+H21-I21,IF(G21=1,13-H21,10+G21)),0) -> 0.7 | R21: -4 | S21: =SUM(J21:R21) -> 16.7
A22: 15 | B22: Муляр Андрей | C22: - | D22: 2 | E22: 3 | F22: 3 | G22: 2 | H22: 1 | I22: 8 | K22: =OFFSET(Очки!$A$2,F22,D22+OFFSET(Очки!$A$18,0,$C$32-1)-1) -> 10 | L22: =IF(F22<E22,OFFSET(Очки!$A$20,2+E22-F22,IF(D22=1,13-E22,10+D22)),0) -> 0 | O22: =OFFSET(Очки!$A$2,I22,G22+OFFSET(Очки!$A$18,0,$C$32-1)-1) -> 6.5 | P22: =IF(I22<H22,OFFSET(Очки!$A$20,2+H22-I22,IF(G22=1,13-H22,10+G22)),0) -> 0 | S22: =SUM(J22:R22) -> 16.5
A23: 16 | B23: Дядя Саша | C23: - | D23: 2 | E23: 9 | F23: 7 | G23: 3 | H23: 6 | I23: 3 | K23: =OFFSET(Очки!$A$2,F23,D23+OFFSET(Очки!$A$18,0,$C$32-1)-1) -> 7 | L23: =IF(F23<E23,OFFSET(Очки!$A$20,2+E23-F23,IF(D23=1,13-E23,10+D23)),0) -> 1.4 | O23: =OFFSET(Очки!$A$2,I23,G23+OFFSET(Очки!$A$18,0,$C$32-1)-1) -> 5 | P23: =IF(I23<H23,OFFSET(Очки!$A$20,2+H23-I23,IF(G23=1,13-H23,10+G23)),0) -> 1.5 | S23: =SUM(J23:R23) -> 14.9
A24: 17 | B24: Трихлеб Александр | C24: - | D24: 2 | E24: 5 | F24: 6 | G24: 1 | H24: 1 | I24: 5 | L24: =IF(F24<E24,OFFSET(Очки!$A$20,2+E24-F24,IF(D24=1,13-E24,10+D24)),0) -> 0 | O24: =OFFSET(Очки!$A$2,I24,G24+OFFSET(Очки!$A$18,0,$C$32-1)-1) -> 13 | P24: =IF(I24<H24,OFFSET(Очки!$A$20,2+H24-I24,IF(G24=1,13-H24,10+G24)),0) -> 0 | S24: =SUM(J24:R24) -> 13
A25: 18 | B25: Михайлик Миша | C25: 22.5 | D25: 3 | E25: 4 | F25: 3 | G25: 3 | H25: 4 | I25: 2 | K25: =OFFSET(Очки!$A$2,F25,D25+OFFSET(Очки!$A$18,0,$C$32-1)-1) -> 5 | L25: =IF(F25<E25,OFFSET(Очки!$A$20,2+E25-F25,IF(D25=1,13-E25,10+D25)),0) -> 0.5 | O25: =OFFSET(Очки!$A$2,I25,G25+OFFSET(Очки!$A$18,0,$C$32-1)-1) -> 6 | P25: =IF(I25<H25,OFFSET(Очки!$A$20,2+H25-I25,IF(G25=1,13-H25,10+G25)),0) -> 1 | S25: =SUM(J25:R25) -> 12.5
A26: 19 | B26: Литвиненко Дима | C26: 2.5 | D26: 3 | E26: 2 | F26: 4 | G26: 3 | H26: 2 | I26: 1 | K26: =OFFSET(Очки!$A$2,F26,D26+OFFSET(Очки!$A$18,0,$C$32-1)-1) -> 4 | L26: =IF(F26<E26,OFFSET(Очки!$A$20,2+E26-F26,IF(D26=1,13-E26,10+D26)),0) -> 0 | O26: =OFFSET(Очки!$A$2,I26,G26+OFFSET(Очки!$A$18,0,$C$32-1)-1) -> 7 | P26: =IF(I26<H26,OFFSET(Очки!$A$20,2+H26-I26,IF(G26=1,13-H26,10+G26)),0) -> 0.5 | S26: =SUM(J26:R26) -> 11.5
A27: 20 | B27: Остренко Стас | C27: - | D27: 2 | E27: 2 | F27: 5 | G27: 3 | H27: 5 | I27: 4 | K27: =OFFSET(Очки!$A$2,F27,D27+OFFSET(Очки!$A$18,0,$C$32-1)-1) -> 8 | L27: =IF(F27<E27,OFFSET(Очки!$A$20,2+E27-F27,IF(D27=1,13-E27,10+D27)),0) -> 0 | O27: =OFFSET(Очки!$A$2,I27,G27+OFFSET(Очки!$A$18,0,$C$32-1)-1) -> 4 | P27: =IF(I27<H27,OFFSET(Очки!$A$20,2+H27-I27,IF(G27=1,13-H27,10+G27)),0) -> 0.5 | R27: -3 | S27: =SUM(J27:R27) -> 9.5
A28: 21 | B28: Верна Николай | C28: 7.5 | D28: 3 | E28: 3 | F28: 5 | G28: 3 | H28: 3 | I28: 5 | K28: =OFFSET(Очки!$A$2,F28,D28+OFFSET(Очки!$A$18,0,$C$32-1)-1) -> 3 | L28: =IF(F28<E28,OFFSET(Очки!$A$20,2+E28-F28,IF(D28=1,13-E28,10+D28)),0) -> 0 | O28: =OFFSET(Очки!$A$2,I28,G28+OFFSET(Очки!$A$18,0,$C$32-1)-1) -> 3 | P28: =IF(I28<H28,OFFSET(Очки!$A$20,2+H28-I28,IF(G28=1,13-H28,10+G28)),0) -> 0 | S28: =SUM(J28:R28) -> 6
A29: 22 | B29: Ильяшенко Владимир | C29: - | D29: 3 | E29: 1 | F29: 6 | G29: 3 | H29: 1 | I29: 6 | K29: =OFFSET(Очки!$A$2,F29,D29+OFFSET(Очки!$A$18,0,$C$32-1)-1) -> 2.5 | L29: =IF(F29<E29,OFFSET(Очки!$A$20,2+E29-F29,IF(D29=1,13-E29,10+D29)),0) -> 0 | O29: =OFFSET(Очки!$A$2,I29,G29+OFFSET(Очки!$A$18,0,$C$32-1)-1) -> 2.5 | P29: =IF(I29<H29,OFFSET(Очки!$A$20,2+H29-I29,IF(G29=1,13-H29,10+G29)),0) -> 0 | S29: =SUM(J29:R29) -> 5
A30: 23 | B30: Колпачев Сергей | C30: 15 | D30: 3 | E30: 8 | F30: 8 | G30: 3 | H30: 8 | I30: 7 | K30: =OFFSET(Очки!$A$2,F30,D30+OFFSET(Очки!$A$18,0,$C$32-1)-1) -> 1.5 | L30: =IF(F30<E30,OFFSET(Очки!$A$20,2+E30-F30,IF(D30=1,13-E30,10+D30)),0) -> 0 | O30: =OFFSET(Очки!$A$2,I30,G30+OFFSET(Очки!$A$18,0,$C$32-1)-1) -> 2 | P30: =IF(I30<H30,OFFSET(Очки!$A$20,2+H30-I30,IF(G30=1,13-H30,10+G30)),0) -> 0.5 | S30: =SUM(J30:R30) -> 4
A31: 24 | B31: Колпачев Алексей | C31: 17.5 | D31: 3 | E31: 7 | F31: 7 | G31: 3 | H31: 7 | I31: 8 | K31: =OFFSET(Очки!$A$2,F31,D31+OFFSET(Очки!$A$18,0,$C$32-1)-1) -> 2 | L31: =IF(F31<E31,OFFSET(Очки!$A$20,2+E31-F31,IF(D31=1,13-E31,10+D31)),0) -> 0 | O31: =OFFSET(Очки!$A$2,I31,G31+OFFSET(Очки!$A$18,0,$C$32-1)-1) -> 1.5 | P31: =IF(I31<H31,OFFSET(Очки!$A$20,2+H31-I31,IF(G31=1,13-H31,10+G31)),0) -> 0 | S31: =SUM(J31:R31) -> 3.5
B32: Всего участников | C32: =COUNTA(B6:B31) -> 26

Sheet 11.07
A1: Лайт Лига 20.0.2017 (конфигурация 6R)
A3: 7п | B3: Участник | D3: 1 | G3: 2 | J3: Очки | S3: Сумма
C4: Довес | D4: группа | E4: Старт | F4: Финиш | G4: группа | H4: Старт | I4: Финиш | J4: Квала | K4: 1 | O4: 2
K5: очки | L5: обгоны | M5: время | N5: штрафы | O5: очки | P5: обгоны | Q5: время | R5: штрафы
A6: =RANK(S6,S$6:OFFSET(S$6,0,0,COUNTA(B$6:B$37))) -> 1 | B6: Кочмарёв Юра | C6: - | D6: 1 | E6: 9 | F6: 10 | G6: 1 | H6: 10 | I6: 3 | J6: 1.5 | K6: =OFFSET(Очки!$A$2,F6,D6+OFFSET(Очки!$A$18,0,$C$38-1)-1) -> 10.5 | L6: =IF(F6<E6,OFFSET(Очки!$A$20,2+E6-F6,IF(D6=1,13-E6,10+D6)),0) -> 0 | M6: 2 | O6: =OFFSET(Очки!$A$2,I6,G6+OFFSET(Очки!$A$18,0,$C$38-1)-1) -> 15 | P6: =IF(I6<H6,OFFSET(Очки!$A$20,2+H6-I6,IF(G6=1,13-H6,10+G6)),0) -> 7.4 | Q6: 2 | S6: =SUM(J6:R6) -> 38.4
A7: =RANK(S7,S$6:OFFSET(S$6,0,0,COUNTA(B$6:B$30))) -> 2 | B7: Яценко Владимир | C7: - | D7: 1 | E7: 10 | F7: 9 | G7: 1 | H7: 7 | I7: 1 | J7: 2 | K7: =OFFSET(Очки!$A$2,F7,D7+OFFSET(Очки!$A$18,0,$C$38-1)-1) -> 11 | L7: =IF(F7<E7,OFFSET(Очки!$A$20,2+E7-F7,IF(D7=1,13-E7,10+D7)),0) -> 1.2 | M7: 0.5 | O7: =OFFSET(Очки!$A$2,I7,G7+OFFSET(Очки!$A$18,0,$C$38-1)-1) -> 17 | P7: =IF(I7<H7,OFFSET(Очки!$A$20,2+H7-I7,IF(G7=1,13-H7,10+G7)),0) -> 5.2 | Q7: 1 | S7: =SUM(J7:R7) -> 37.9
A8: =RANK(S8,S$6:OFFSET(S$6,0,0,COUNTA(B$6:B$30))) -> 3 | B8: Джемула Сергей | C8: - | D8: 1 | E8: 3 | F8: 1 | G8: 1 | H8: 5 | I8: 4 | K8: =OFFSET(Очки!$A$2,F8,D8+OFFSET(Очки!$A$18,0,$C$38-1)-1) -> 17 | L8: =IF(F8<E8,OFFSET(Очки!$A$20,2+E8-F8,IF(D8=1,13-E8,10+D8)),0) -> 1.4 | O8: =OFFSET(Очки!$A$2,I8,G8+OFFSET(Очки!$A$18,0,$C$38-1)-1) -> 14 | P8: =IF(I8<H8,OFFSET(Очки!$A$20,2+H8-I8,IF(G8=1,13-H8,10+G8)),0) -> 0.9 | S8: =SUM(J8:R8) -> 33.3
A9: =RANK(S9,S$6:OFFSET(S$6,0,0,COUNTA(B$6:B$30))) -> 4 | B9: Ревчук Саша | C9: - | D9: 1 | E9: 8 | F9: 3 | G9: 1 | H9: 8 | I9: 10 | J9: 1 | K9: =OFFSET(Очки!$A$2,F9,D9+OFFSET(Очки!$A$18,0,$C$38-1)-1) -> 15 | L9: =IF(F9<E9,OFFSET(Очки!$A$20,2+E9-F9,IF(D9=1,13-E9,10+D9)),0) -> 5 | M9: 1 | O9: =OFFSET(Очки!$A$2,I9,G9+OFFSET(Очки!$A$18,0,$C$38-1)-1) -> 10.5 | P9: =IF(I9<H9,OFFSET(Очки!$A$20,2+H9-I9,IF(G9=1,13-H9,10+G9)),0) -> 0 | S9: =SUM(J9:R9) -> 32.5
A10: =RANK(S10,S$6:OFFSET(S$6,0,0,COUNTA(B$6:B$30))) -> 5 | B10: Синани Влад | C10: 5 | D10: 1 | E10: 1 | F10: 2 | G10: 1 | H10: 2 | I10: 2 | K10: =OFFSET(Очки!$A$2,F10,D10+OFFSET(Очки!$A$18,0,$C$38-1)-1) -> 16 | L10: =IF(F10<E10,OFFSET(Очки!$A$20,2+E10-F10,IF(D10=1,13-E10,10+D10)),0) -> 0 | O10: =OFFSET(Очки!$A$2,I10,G10+OFFSET(Очки!$A$18,0,$C$38-1)-1) -> 16 | P10: =IF(I10<H10,OFFSET(Очки!$A$20,2+H10-I10,IF(G10=1,13-H10,10+G10)),0) -> 0 | S10: =SUM(J10:R10) -> 32
A11: =RANK(S11,S$6:OFFSET(S$6,0,0,COUNTA(B$6:B$30))) -> 6 | B11: Фортуна Таня | C11: - | D11: 1 | E11: 11 | F11: 6 | G11: 1 | H11: 11 | I11: 11 | J11: 2.5 | K11: =OFFSET(Очки!$A$2,F11,D11+OFFSET(Очки!$A$18,0,$C$38-1)-1) -> 12.5 | L11: =IF(F11<E11,OFFSET(Очки!$A$20,2+E11-F11,IF(D11=1,13-E11,10+D11)),0) -> 6 | M11: 2.5 | N11: -4 | O11: =OFFSET(Очки!$A$2,I11,G11+OFFSET(Очки!$A$18,0,$C$38-1)-1) -> 10 | P11: =IF(I11<H11,OFFSET(Очки!$A$20,2+H11-I11,IF(G11=1,13-H11,10+G11)),0) -> 0 | Q11: 1.5 | S11: =SUM(J11:R11) -> 31
A12: =RANK(S12,S$6:OFFSET(S$6,0,0,COUNTA(B$6:B$30))) -> 7 | B12: Ревчук Леша | C12: 7.5 | D12: 1 | E12: 4 | F12: 7 | G12: 1 | H12: 9 | I12: 6 | K12: =OFFSET(Очки!$A$2,F12,D12+OFFSET(Очки!$A$18,0,$C$38-1)-1) -> 12 | L12: =IF(F12<E12,OFFSET(Очки!$A$20,2+E12-F12,IF(D12=1,13-E12,10+D12)),0) -> 0 | M12: 1.5 | O12: =OFFSET(Очки!$A$2,I12,G12+OFFSET(Очки!$A$18,0,$C$38-1)-1) -> 12.5 | P12: =IF(I12<H12,OFFSET(Очки!$A$20,2+H12-I12,IF(G12=1,13-H12,10+G12)),0) -> 3.5 | S12: =SUM(J12:R12) -> 29.5
A13: =RANK(S13,S$6:OFFSET(S$6,0,0,COUNTA(B$6:B$30))) -> 8 | B13: Дарий Игорь | C13: - | D13: 1 | E13: 5 | F13: 4 | G13: 1 | H13: 3 | I13: 5 | K13: =OFFSET(Очки!$A$2,F13,D13+OFFSET(Очки!$A$18,0,$C$38-1)-1) -> 14 | L13: =IF(F13<E13,OFFSET(Очки!$A$20,2+E13-F13,IF(D13=1,13-E13,10+D13)),0) -> 0.9 | O13: =OFFSET(Очки!$A$2,I13,G13+OFFSET(Очки!$A$18,0,$C$38-1)-1) -> 13 | P13: =IF(I13<H13,OFFSET(Очки!$A$20,2+H13-I13,IF(G13=1,13-H13,10+G13)),0) -> 0 | Q13: 0.5 | S13: =SUM(J13:R13) -> 28.4
A14: =RANK(S14,S$6:OFFSET(S$6,0,0,COUNTA(B$6:B$30))) -> 9 | B14: Пархомчук Саша | C14: - | D14: 1 | E14: 2 | F14: 5 | G14: 2 | H14: 10 | I14: 3 | K14: =OFFSET(Очки!$A$2,F14,D14+OFFSET(Очки!$A$18,0,$C$38-1)-1) -> 13 | L14: =IF(F14<E14,OFFSET(Очки!$A$20,2+E14-F14,IF(D14=1,13-E14,10+D14)),0) -> 0 | O14: =OFFSET(Очки!$A$2,I14,G14+OFFSET(Очки!$A$18,0,$C$38-1)-1) -> 9.5 | P14: =IF(I14<H14,OFFSET(Очки!$A$20,2+H14-I14,IF(G14=1,13-H14,10+G14)),0) -> 4.9 | S14: =SUM(J14:R14) -> 27.4
A15: =RANK(S15,S$6:OFFSET(S$6,0,0,COUNTA(B$6:B$30))) -> 10 | B15: Петренко Владислав | C15: 15 | D15: 1 | E15: 7 | F15: 7 | G15: 1 | H15: 6 | I15: 7 | J15: 0.5 | K15: =OFFSET(Очки!$A$2,F15,D15+OFFSET(Очки!$A$18,0,$C$38-1)-1) -> 12 | L15: =IF(F15<E15,OFFSET(Очки!$A$20,2+E15-F15,IF(D15=1,13-E15,10+D15)),0) -> 0 | O15: =OFFSET(Очки!$A$2,I15,G15+OFFSET(Очки!$A$18,0,$C$38-1)-1) -> 12 | P15: =IF(I15<H15,OFFSET(Очки!$A$20,2+H15-I15,IF(G15=1,13-H15,10+G15)),0) -> 0 | S15: =SUM(J15:R15) -> 24.5
A16: =RANK(S16,S$6:OFFSET(S$6,0,0,COUNTA(B$6:B$30))) -> 11 | B16: Якусик Дима | C16: 7.5 | D16: 2 | E16: 11 | F16: 5 | G16: 2 | H16: 8 | I16: 4 | K16: =OFFSET(Очки!$A$2,F16,D16+OFFSET(Очки!$A$18,0,$C$38-1)-1) -> 7.5 | L16: =IF(F16<E16,OFFSET(Очки!$A$20,2+E16-F16,IF(D16=1,13-E16,10+D16)),0) -> 4.2 | O16: =OFFSET(Очки!$A$2,I16,G16+OFFSET(Очки!$A$18,0,$C$38-1)-1) -> 8.5 | P16: =IF(I16<H16,OFFSET(Очки!$A$20,2+H16-I16,IF(G16=1,13-H16,10+G16)),0) -> 2.8 | S16: =SUM(J16:R16) -> 23
A17: =RANK(S17,S$6:OFFSET(S$6,0,0,COUNTA(B$6:B$30))) -> 12 | B17: Якусик Саша | C17: - | D17: 2 | E17: 5 | F17: 4 | G17: 1 | H17: 1 | I17: 8 | K17: =OFFSET(Очки!$A$2,F17,D17+OFFSET(Очки!$A$18,0,$C$38-1)-1) -> 8.5 | L17: =IF(F17<E17,OFFSET(Очки!$A$20,2+E17-F17,IF(D17=1,13-E17,10+D17)),0) -> 0.7 | O17: =OFFSET(Очки!$A$2,I17,G17+OFFSET(Очки!$A$18,0,$C$38-1)-1) -> 11.5 | P17: =IF(I17<H17,OFFSET(Очки!$A$20,2+H17-I17,IF(G17=1,13-H17,10+G17)),0) -> 0 | S17: =SUM(J17:R17) -> 20.7
A18: =RANK(S18,S$6:OFFSET(S$6,0,0,COUNTA(B$6:B$30))) -> 13 | B18: Пилипчук Василий | C18: 5 | D18: 1 | E18: 6 | F18: 11 | G18: 1 | H18: 4 | I18: 9 | K18: =OFFSET(Очки!$A$2,F18,D18+OFFSET(Очки!$A$18,0,$C$38-1)-1) -> 10 | L18: =IF(F18<E18,OFFSET(Очки!$A$20,2+E18-F18,IF(D18=1,13-E18,10+D18)),0) -> 0 | N18: -3 | O18: =OFFSET(Очки!$A$2,I18,G18+OFFSET(Очки!$A$18,0,$C$38-1)-1) -> 11 | P18: =IF(I18<H18,OFFSET(Очки!$A$20,2+H18-I18,IF(G18=1,13-H18,10+G18)),0) -> 0 | Q18: 2.5 | S18: =SUM(J18:R18) -> 20.5
A19: =RANK(S19,S$6:OFFSET(S$6,0,0,COUNTA(B$6:B$30))) -> 14 | B19: Остренко Стас | C19: - | D19: 2 | E19: 4 | F19: 2 | G19: 2 | H19: 9 | I19: 10 | K19: =OFFSET(Очки!$A$2,F19,D19+OFFSET(Очки!$A$18,0,$C$38-1)-1) -> 10.5 | L19: =IF(F19<E19,OFFSET(Очки!$A$20,2+E19-F19,IF(D19=1,13-E19,10+D19)),0) -> 1.4 | O19: =OFFSET(Очки!$A$2,I19,G19+OFFSET(Очки!$A$18,0,$C$38-1)-1) -> 5 | P19: =IF(I19<H19,OFFSET(Очки!$A$20,2+H19-I19,IF(G19=1,13-H19,10+G19)),0) -> 0 | S19: =SUM(J19:R19) -> 16.9
A20: =RANK(S20,S$6:OFFSET(S$6,0,0,COUNTA(B$6:B$30))) -> 15 | B20: Дядя Саша | C20: - | D20: 2 | E20: 9 | F20: 9 | G20: 2 | H20: 3 | I20: 2 | K20: =OFFSET(Очки!$A$2,F20,D20+OFFSET(Очки!$A$18,0,$C$38-1)-1) -> 5.5 | L20: =IF(F20<E20,OFFSET(Очки!$A$20,2+E20-F20,IF(D20=1,13-E20,10+D20)),0) -> 0 | O20: =OFFSET(Очки!$A$2,I20,G20+OFFSET(Очки!$A$18,0,$C$38-1)-1) -> 10.5 | P20: =IF(I20<H20,OFFSET(Очки!$A$20,2+H20-I20,IF(G20=1,13-H20,10+G20)),0) -> 0.7 | S20: =SUM(J20:R20) -> 16.7
A21: =RANK(S21,S$6:OFFSET(S$6,0,0,COUNTA(B$6:B$30))) -> 16 | B21: Булавинов Андрей | C21: 7.5 | D21: 3 | E21: 7 | F21: 1 | G21: 2 | H21: 4 | I21: 5 | K21: =OFFSET(Очки!$A$2,F21,D21+OFFSET(Очки!$A$18,0,$C$38-1)-1) -> 6 | L21: =IF(F21<E21,OFFSET(Очки!$A$20,2+E21-F21,IF(D21=1,13-E21,10+D21)),0) -> 3 | O21: =OFFSET(Очки!$A$2,I21,G21+OFFSET(Очки!$A$18,0,$C$38-1)-1) -> 7.5 | P21: =IF(I21<H21,OFFSET(Очки!$A$20,2+H21-I21,IF(G21=1,13-H21,10+G21)),0) -> 0 | S21: =SUM(J21:R21) -> 16.5
A22: =RANK(S22,S$6:OFFSET(S$6,0,0,COUNTA(B$6:B$30))) -> 16 | B22: Яремич Даниил | C22: - | D22: 2 | E22: 7 | F22: 10 | G22: 2 | H22: 1 | I22: 1 | K22: =OFFSET(Очки!$A$2,F22,D22+OFFSET(Очки!$A$18,0,$C$38-1)-1) -> 5 | L22: =IF(F22<E22,OFFSET(Очки!$A$20,2+E22-F22,IF(D22=1,13-E22,10+D22)),0) -> 0 | O22: =OFFSET(Очки!$A$2,I22,G22+OFFSET(Очки!$A$18,0,$C$38-1)-1) -> 11.5 | P22: =IF(I22<H22,OFFSET(Очки!$A$20,2+H22-I22,IF(G22=1,13-H22,10+G22)),0) -> 0 | S22: =SUM(J22:R22) -> 16.5
A23: =RANK(S23,S$6:OFFSET(S$6,0,0,COUNTA(B$6:B$30))) -> 18 | B23: Деда Гена | C23: - | D23: 2 | E23: 2 | F23: 3 | G23: 2 | H23: 5 | I23: 7 | K23: =OFFSET(Очки!$A$2,F23,D23+OFFSET(Очки!$A$18,0,$C$38-1)-1) -> 9.5 | L23: =IF(F23<E23,OFFSET(Очки!$A$20,2+E23-F23,IF(D23=1,13-E23,10+D23)),0) -> 0 | O23: =OFFSET(Очки!$A$2,I23,G23+OFFSET(Очки!$A$18,0,$C$38-1)-1) -> 6.5 | P23: =IF(I23<H23,OFFSET(Очки!$A$20,2+H23-I23,IF(G23=1,13-H23,10+G23)),0) -> 0 | S23: =SUM(J23:R23) -> 16
A24: =RANK(S24,S$6:OFFSET(S$6,0,0,COUNTA(B$6:B$30))) -> 19 | B24: Майбродский Миша | C24: - | D24: 2 | E24: 10 | F24: 8 | G24: 2 | H24: 11 | I24: 9 | K24: =OFFSET(Очки!$A$2,F24,D24+OFFSET(Очки!$A$18,0,$C$38-1)-1) -> 6 | L24: =IF(F24<E24,OFFSET(Очки!$A$20,2+E24-F24,IF(D24=1,13-E24,10+D24)),0) -> 1.4 | O24: =OFFSET(Очки!$A$2,I24,G24+OFFSET(Очки!$A$18,0,$C$38-1)-1) -> 5.5 | P24: =IF(I24<H24,OFFSET(Очки!$A$20,2+H24-I24,IF(G24=1,13-H24,10+G24)),0) -> 1.4 | S24: =SUM(J24:R24) -> 14.3
A25: =RANK(S25,S$6:OFFSET(S$6,0,0,COUNTA(B$6:B$30))) -> 20 | B25: Фурсав Никита | C25: - | D25: 2 | E25: 3 | F25: 6 | G25: 2 | H25: 2 | I25: 6 | K25: =OFFSET(Очки!$A$2,F25,D25+OFFSET(Очки!$A$18,0,$C$38-1)-1) -> 7 | L25: =IF(F25<E25,OFFSET(Очки!$A$20,2+E25-F25,IF(D25=1,13-E25,10+D25)),0) -> 0 | O25: =OFFSET(Очки!$A$2,I25,G25+OFFSET(Очки!$A$18,0,$C$38-1)-1) -> 7 | P25: =IF(I25<H25,OFFSET(Очки!$A$20,2+H25-I25,IF(G25=1,13-H25,10+G25)),0) -> 0 | S25: =SUM(J25:R25) -> 14
A26: =RANK(S26,S$6:OFFSET(S$6,0,0,COUNTA(B$6:B$30))) -> 21 | B26: Михайлык Михайло | C26: 20 | D26: 2 | E26: 1 | F26: 1 | G26: 2 | H26: 6 | I26: 8 | K26: =OFFSET(Очки!$A$2,F26,D26+OFFSET(Очки!$A$18,0,$C$38-1)-1) -> 11.5 | L26: =IF(F26<E26,OFFSET(Очки!$A$20,2+E26-F26,IF(D26=1,13-E26,10+D26)),0) -> 0 | O26: =OFFSET(Очки!$A$2,I26,G26+OFFSET(Очки!$A$18,0,$C$38-1)-1) -> 6 | P26: =IF(I26<H26,OFFSET(Очки!$A$20,2+H26-I26,IF(G26=1,13-H26,10+G26)),0) -> 0 | R26: -4 | S26: =SUM(J26:R26) -> 13.5
A27: =RANK(S27,S$6:OFFSET(S$6,0,0,COUNTA(B$6:B$30))) -> 22 | B27: Бураков Павел | C27: - | D27: 3 | E27: 2 | F27: 3 | G27: 3 | H27: 6 | I27: 1 | K27: =OFFSET(Очки!$A$2,F27,D27+OFFSET(Очки!$A$18,0,$C$38-1)-1) -> 4 | L27: =IF(F27<E27,OFFSET(Очки!$A$20,2+E27-F27,IF(D27=1,13-E27,10+D27)),0) -> 0 | O27: =OFFSET(Очки!$A$2,I27,G27+OFFSET(Очки!$A$18,0,$C$38-1)-1) -> 6 | P27: =IF(I27<H27,OFFSET(Очки!$A$20,2+H27-I27,IF(G27=1,13-H27,10+G27)),0) -> 2.5 | S27: =SUM(J27:R27) -> 12.5
A28: =RANK(S28,S$6:OFFSET(S$6,0,0,COUNTA(B$6:B$30))) -> 23 | B28: Трихлеб Александр | C28: 10 | D28: 2 | E28: 8 | F28: 6 | G28: 2 | H28: 7 | I28: 10 | K28: =OFFSET(Очки!$A$2,F28,D28+OFFSET(Очки!$A$18,0,$C$38-1)-1) -> 7 | L28: =IF(F28<E28,OFFSET(Очки!$A$20,2+E28-F28,IF(D28=1,13-E28,10+D28)),0) -> 1.4 | N28: -4 | O28: =OFFSET(Очки!$A$2,I28,G28+OFFSET(Очки!$A$18,0,$C$38-1)-1) -> 5 | P28: =IF(I28<H28,OFFSET(Очки!$A$20,2+H28-I28,IF(G28=1,13-H28,10+G28)),0) -> 0 | S28: =SUM(J28:R28) -> 9.4
A29: =RANK(S29,S$6:OFFSET(S$6,0,0,COUNTA(B$6:B$30))) -> 24 | B29: Лесников Александр | C29: 5 | D29: 3 | E29: 6 | F29: 2 | G29: 3 | H29: 5 | I29: 2 | K29: =OFFSET(Очки!$A$2,F29,D29+OFFSET(Очки!$A$18,0,$C$38-1)-1) -> 5 | L29: =IF(F29<E29,OFFSET(Очки!$A$20,2+E29-F29,IF(D29=1,13-E29,10+D29)),0) -> 2 | N29: -5 | O29: =OFFSET(Очки!$A$2,I29,G29+OFFSET(Очки!$A$18,0,$C$38-1)-1) -> 5 | P29: =IF(I29<H29,OFFSET(Очки!$A$20,2+H29-I29,IF(G29=1,13-H29,10+G29)),0) -> 1.5 | S29: =SUM(J29:R29) -> 8.5
A30: =RANK(S30,S$6:OFFSET(S$6,0,0,COUNTA(B$6:B$30))) -> 24 | B30: Черевко Владимир | C30: 12.5 | D30: 2 | E30: 6 | F30: 11 | G30: 3 | H30: 9 | I30: 5 | K30: =OFFSET(Очки!$A$2,F30,D30+OFFSET(Очки!$A$18,0,$C$38-1)-1) -> 4.5 | L30: =IF(F30<E30,OFFSET(Очки!$A$20,2+E30-F30,IF(D30=1,13-E30,10+D30)),0) -> 0 | O30: =OFFSET(Очки!$A$2,I30,G30+OFFSET(Очки!$A$18,0,$C$38-1)-1) -> 2 | P30: =IF(I30<H30,OFFSET(Очки!$A$20,2+H30-I30,IF(G30=1,13-H30,10+G30)),0) -> 2 | S30: =SUM(J30:R30) -> 8.5
A31: =RANK(S31,S$6:OFFSET(S$6,0,0,COUNTA(B$6:B$30))) -> #N/A | B31: Верна Николай | C31: - | D31: 3 | E31: 4 | F31: 6 | G31: 3 | H31: 7 | I31: 4 | K31: =OFFSET(Очки!$A$2,F31,D31+OFFSET(Очки!$A$18,0,$C$38-1)-1) -> 1.5 | L31: =IF(F31<E31,OFFSET(Очки!$A$20,2+E31-F31,IF(D31=1,13-E31,10+D31)),0) -> 0 | O31: =OFFSET(Очки!$A$2,I31,G31+OFFSET(Очки!$A$18,0,$C$38-1)-1) -> 3 | P31: =IF(I31<H31,OFFSET(Очки!$A$20,2+H31-I31,IF(G31=1,13-H31,10+G31)),0) -> 1.5 | S31: =SUM(J31:R31) -> 6
A32: =RANK(S32,S$6:OFFSET(S$6,0,0,COUNTA(B$6:B$30))) -> #N/A | B32: Кириченко Виталий | C32: 10 | D32: 3 | E32: 9 | F32: 10 | G32: 3 | H32: 11 | I32: 6 | K32: =OFFSET(Очки!$A$2,F32,D32+OFFSET(Очки!$A$18,0,$C$38-1)-1) -> 0 | L32: =IF(F32<E32,OFFSET(Очки!$A$20,2+E32-F32,IF(D32=1,13-E32,10+D32)),0) -> 0 | O32: =OFFSET(Очки!$A$2,I32,G32+OFFSET(Очки!$A$18,0,$C$38-1)-1) -> 1.5 | P32: =IF(I32<H32,OFFSET(Очки!$A$20,2+H32-I32,IF(G32=1,13-H32,10+G32)),0) -> 2.5 | S32: =SUM(J32:R32) -> 4
A33: =RANK(S33,S$6:OFFSET(S$6,0,0,COUNTA(B$6:B$30))) -> #N/A | B33: Колпачев Леша | C33: 15 | D33: 3 | E33: 1 | F33: 4 | G33: 3 | H33: 1 | I33: 3 | K33: =OFFSET(Очки!$A$2,F33,D33+OFFSET(Очки!$A$18,0,$C$38-1)-1) -> 3 | L33: =IF(F33<E33,OFFSET(Очки!$A$20,2+E33-F33,IF(D33=1,13-E33,10+D33)),0) -> 0 | O33: =OFFSET(Очки!$A$2,I33,G33+OFFSET(Очки!$A$18,0,$C$38-1)-1) -> 4 | P33: =IF(I33<H33,OFFSET(Очки!$A$20,2+H33-I33,IF(G33=1,13-H33,10+G33)),0) -> 0 | R33: -3 | S33: =SUM(J33:R33) -> 4
A34: =RANK(S34,S$6:OFFSET(S$6,0,0,COUNTA(B$6:B$30))) -> #N/A | B34: Ильяшенко Владимир | C34: 2.5 | D34: 3 | E34: 5 | F34: 5 | G34: 3 | H34: 3 | I34: 7 | K34: =OFFSET(Очки!$A$2,F34,D34+OFFSET(Очки!$A$18,0,$C$38-1)-1) -> 2 | L34: =IF(F34<E34,OFFSET(Очки!$A$20,2+E34-F34,IF(D34=1,13-E34,10+D34)),0) -> 0 | O34: =OFFSET(Очки!$A$2,I34,G34+OFFSET(Очки!$A$18,0,$C$38-1)-1) -> 1 | P34: =IF(I34<H34,OFFSET(Очки!$A$20,2+H34-I34,IF(G34=1,13-H34,10+G34)),0) -> 0 | S34: =SUM(J34:R34) -> 3
A35: =RANK(S35,S$6:OFFSET(S$6,0,0,COUNTA(B$6:B$30))) -> #N/A | B35: Ковалюк Дима | C35: - | D35: 3 | E35: 3 | F35: 6 | G35: 3 | H35: 4 | I35: 8 | K35: =OFFSET(Очки!$A$2,F35,D35+OFFSET(Очки!$A$18,0,$C$38-1)-1) -> 1.5 | L35: =IF(F35<E35,OFFSET(Очки!$A$20,2+E35-F35,IF(D35=1,13-E35,10+D35)),0) -> 0 | O35: =OFFSET(Очки!$A$2,I35,G35+OFFSET(Очки!$A$18,0,$C$38-1)-1) -> 0.5 | P35: =IF(I35<H35,OFFSET(Очки!$A$20,2+H35-I35,IF(G35=1,13-H35,10+G35)),0) -> 0 | S35: =SUM(J35:R35) -> 2
A36: =RANK(S36,S$6:OFFSET(S$6,0,0,COUNTA(B$6:B$30))) -> #N/A | B36: Колпачев Сергей | C36: 15 | D36: 3 | E36: 10 | F36: 9 | G36: 3 | H36: 2 | I36: 9 | K36: =OFFSET(Очки!$A$2,F36,D36+OFFSET(Очки!$A$18,0,$C$38-1)-1) -> 0 | L36: =IF(F36<E36,OFFSET(Очки!$A$20,2+E36-F36,IF(D36=1,13-E36,10+D36)),0) -> 0.5 | O36: =OFFSET(Очки!$A$2,I36,G36+OFFSET(Очки!$A$18,0,$C$38-1)-1) -> 0 | P36: =IF(I36<H36,OFFSET(Очки!$A$20,2+H36-I36,IF(G36=1,13-H36,10+G36)),0) -> 0 | S36: =SUM(J36:R36) -> 0.5
A37: =RANK(S37,S$6:OFFSET(S$6,0,0,COUNTA(B$6:B$30))) -> #N/A | B37: Резников Иван | C37: - | D37: 3 | E37: 8 | F37: 8 | G37: 3 | H37: 8 | I37: 9 | K37: =OFFSET(Очки!$A$2,F37,D37+OFFSET(Очки!$A$18,0,$C$38-1)-1) -> 0.5 | L37: =IF(F37<E37,OFFSET(Очки!$A$20,2+E37-F37,IF(D37=1,13-E37,10+D37)),0) -> 0 | O37: =OFFSET(Очки!$A$2,I37,G37+OFFSET(Очки!$A$18,0,$C$38-1)-1) -> 0 | P37: =IF(I37<H37,OFFSET(Очки!$A$20,2+H37-I37,IF(G37=1,13-H37,10+G37)),0) -> 0 | S37: =SUM(J37:R37) -> 0.5
B38: Всего участников | C38: =COUNTA(B6:B37) -> 32

Sheet 18.07
A1: Лайт Лига 20.06.2017 (конфигурация 6)
A3: Место | B3: Участник | D3: 1 | G3: 2 | J3: Очки | S3: Сумма
C4: Довес | D4: группа | E4: Старт | F4: Финиш | G4: группа | H4: Старт | I4: Финиш | J4: Квала | K4: 1 | O4: 2
K5: очки | L5: обгоны | M5: время | N5: штрафы | O5: очки | P5: обгоны | Q5: время | R5: штрафы
A6: =RANK(S6,S$6:OFFSET(S$6,0,0,COUNTA(B$6:B$44))) -> 1 | B6: Джемула Сергей | D6: 1 | E6: 12 | F6: 4 | G6: 1 | H6: 12 | I6: 5 | J6: 2.5 | K6: 14 | L6: =IF(F6<E6,OFFSET(Очки!$A$20,2+E6-F6,IF(D6=1,13-E6,10+D6)),0) -> 9.2 | M6: 2.5 | O6: 13 | P6: =IF(I6<H6,OFFSET(Очки!$A$20,2+H6-I6,IF(G6=1,13-H6,10+G6)),0) -> 8.3 | Q6: 1.5 | S6: =SUM(J6:R6) -> 51
A7: =RANK(S7,S$6:OFFSET(S$6,0,0,COUNTA(B$6:B$44))) -> 2 | B7: Фортуна Таня | C7: - | D7: 1 | E7: 10 | F7: 6 | G7: 1 | H7: 11 | I7: 12 | J7: 1.5 | K7: 12.5 | L7: =IF(F7<E7,OFFSET(Очки!$A$20,2+E7-F7,IF(D7=1,13-E7,10+D7)),0) -> 4.7 | M7: 2 | O7: 9.5 | P7: =IF(I7<H7,OFFSET(Очки!$A$20,2+H7-I7,IF(G7=1,13-H7,10+G7)),0) -> 0 | Q7: 2 | S7: =SUM(J7:R7) -> 32.2
A8: =RANK(S8,S$6:OFFSET(S$6,0,0,COUNTA(B$6:B$44))) -> 3 | B8: Лихошерст Алексей | C8: 15 | D8: 1 | E8: 8 | F8: 5 | G8: 1 | H8: 7 | I8: 5 | J8: 0.5 | K8: 13 | L8: =IF(F8<E8,OFFSET(Очки!$A$20,2+E8-F8,IF(D8=1,13-E8,10+D8)),0) -> 3.3 | O8: 13 | P8: =IF(I8<H8,OFFSET(Очки!$A$20,2+H8-I8,IF(G8=1,13-H8,10+G8)),0) -> 2.1 | S8: =SUM(J8:R8) -> 31.9
A9: 3 | B9: Шиленко Александр | C9: - | D9: 2 | E9: 11 | F9: 5 | G9: 1 | H9: 2 | I9: 1 | K9: 7.5 | L9: =IF(F9<E9,OFFSET(Очки!$A$20,2+E9-F9,IF(D9=1,13-E9,10+D9)),0) -> 4.2 | O9: 17 | P9: =IF(I9<H9,OFFSET(Очки!$A$20,2+H9-I9,IF(G9=1,13-H9,10+G9)),0) -> 0.7 | S9: =SUM(J9:R9) -> 29.4
A10: 4 | B10: Сомок Денис | C10: 7.5 | D10: 1 | E10: 3 | F10: 2 | G10: 2 | H10: 1 | I10: 1 | K10: 16 | L10: =IF(F10<E10,OFFSET(Очки!$A$20,2+E10-F10,IF(D10=1,13-E10,10+D10)),0) -> 0.7 | O10: 11.5 | P10: =IF(I10<H10,OFFSET(Очки!$A$20,2+H10-I10,IF(G10=1,13-H10,10+G10)),0) -> 0 | S10: =SUM(J10:R10) -> 28.2
A11: 5 | B11: Дарий Игорь | C11: - | D11: 1 | E11: 6 | F11: 8 | G11: 1 | H11: 10 | I11: 7 | K11: 11.5 | L11: =IF(F11<E11,OFFSET(Очки!$A$20,2+E11-F11,IF(D11=1,13-E11,10+D11)),0) -> 0 | M11: 1.5 | O11: 12 | P11: =IF(I11<H11,OFFSET(Очки!$A$20,2+H11-I11,IF(G11=1,13-H11,10+G11)),0) -> 3.6 | Q11: 2.5 | R11: -4 | S11: =SUM(J11:R11) -> 27.1
A12: 6 | B12: Якусик Дима | C12: 10 | D12: 2 | E12: 7 | F12: 4 | G12: 1 | H12: 1 | I12: 2 | K12: 8.5 | L12: =IF(F12<E12,OFFSET(Очки!$A$20,2+E12-F12,IF(D12=1,13-E12,10+D12)),0) -> 2.1 | O12: 16 | P12: =IF(I12<H12,OFFSET(Очки!$A$20,2+H12-I12,IF(G12=1,13-H12,10+G12)),0) -> 0 | S12: =SUM(J12:R12) -> 26.6
A13: 7 | B13: Синани Влад | C13: 5 | D13: 1 | E13: 11 | F13: 10 | G13: 2 | H13: 11 | I13: 7 | J13: 2 | K13: 10.5 | L13: =IF(F13<E13,OFFSET(Очки!$A$20,2+E13-F13,IF(D13=1,13-E13,10+D13)),0) -> 1.3 | O13: 6.5 | P13: =IF(I13<H13,OFFSET(Очки!$A$20,2+H13-I13,IF(G13=1,13-H13,10+G13)),0) -> 2.8 | Q13: 0.5 | S13: =SUM(J13:R13) -> 23.6
A14: 8 | B14: Тамберг Александр | C14: - | D14: 1 | E14: 4 | F14: 6 | G14: 2 | H14: 9 | I14: 3 | K14: 12.5 | L14: =IF(F14<E14,OFFSET(Очки!$A$20,2+E14-F14,IF(D14=1,13-E14,10+D14)),0) -> 0 | N14: -3 | O14: 9.5 | P14: =IF(I14<H14,OFFSET(Очки!$A$20,2+H14-I14,IF(G14=1,13-H14,10+G14)),0) -> 4.2 | S14: =SUM(J14:R14) -> 23.2
A15: 9 | B15: Морозенко Сергей | C15: - | D15: 1 | E15: 2 | F15: 3 | G15: 2 | H15: 4 | I15: 5 | K15: 15 | L15: =IF(F15<E15,OFFSET(Очки!$A$20,2+E15-F15,IF(D15=1,13-E15,10+D15)),0) -> 0 | O15: 7.5 | P15: =IF(I15<H15,OFFSET(Очки!$A$20,2+H15-I15,IF(G15=1,13-H15,10+G15)),0) -> 0 | S15: =SUM(J15:R15) -> 22.5
A16: 10 | B16: Гончаров Роман | C16: 20 | D16: 1 | E16: 1 | F16: 1 | G16: 2 | H16: 3 | I16: 11 | K16: 17 | L16: =IF(F16<E16,OFFSET(Очки!$A$20,2+E16-F16,IF(D16=1,13-E16,10+D16)),0) -> 0 | O16: 4.5 | P16: =IF(I16<H16,OFFSET(Очки!$A$20,2+H16-I16,IF(G16=1,13-H16,10+G16)),0) -> 0 | S16: =SUM(J16:R16) -> 21.5
A17: 11 | B17: Фаль Александр | C17: - | D17: 2 | E17: 4 | F17: 2 | G17: 2 | H17: 2 | I17: 4 | K17: 10.5 | L17: =IF(F17<E17,OFFSET(Очки!$A$20,2+E17-F17,IF(D17=1,13-E17,10+D17)),0) -> 1.4 | O17: 8.5 | P17: =IF(I17<H17,OFFSET(Очки!$A$20,2+H17-I17,IF(G17=1,13-H17,10+G17)),0) -> 0 | S17: =SUM(J17:R17) -> 20.4
A18: 12 | B18: Пилипчук Василий | C18: 5 | D18: 1 | E18: 9 | F18: 9 | G18: 1 | H18: 6 | I18: 9 | J18: 1 | K18: 11 | L18: =IF(F18<E18,OFFSET(Очки!$A$20,2+E18-F18,IF(D18=1,13-E18,10+D18)),0) -> 0 | N18: -3 | O18: 11 | P18: =IF(I18<H18,OFFSET(Очки!$A$20,2+H18-I18,IF(G18=1,13-H18,10+G18)),0) -> 0 | S18: =SUM(J18:R18) -> 20
A19: 12 | B19: Булавинов Андрей | C19: 7.5 | D19: 2 | E19: 10 | F19: 10 | G19: 1 | H19: 3 | I19: 3 | K19: 5 | L19: =IF(F19<E19,OFFSET(Очки!$A$20,2+E19-F19,IF(D19=1,13-E19,10+D19)),0) -> 0 | O19: 15 | P19: =IF(I19<H19,OFFSET(Очки!$A$20,2+H19-I19,IF(G19=1,13-H19,10+G19)),0) -> 0 | S19: =SUM(J19:R19) -> 20
A20: 14 | B20: Петренко Владислав | C20: 15 | D20: 1 | E20: 7 | F20: 11 | G20: 1 | H20: 8 | I20: 10 | K20: 10 | L20: =IF(F20<E20,OFFSET(Очки!$A$20,2+E20-F20,IF(D20=1,13-E20,10+D20)),0) -> 0 | M20: 0.5 | O20: 10.5 | P20: =IF(I20<H20,OFFSET(Очки!$A$20,2+H20-I20,IF(G20=1,13-H20,10+G20)),0) -> 0 | R20: -3 | S20: =SUM(J20:R20) -> 18
A21: 15 | B21: Рожков Олег | C21: 10 | D21: 3 | E21: 10 | F21: 6 | G21: 1 | H21: 4 | I21: 4 | K21: 1.5 | L21: =IF(F21<E21,OFFSET(Очки!$A$20,2+E21-F21,IF(D21=1,13-E21,10+D21)),0) -> 2 | O21: 14 | P21: =IF(I21<H21,OFFSET(Очки!$A$20,2+H21-I21,IF(G21=1,13-H21,10+G21)),0) -> 0 | S21: =SUM(J21:R21) -> 17.5
A22: 16 | B22: Чухаленко Дима | C22: - | D22: 2 | E22: 1 | F22: 1 | G22: 2 | H22: 8 | I22: 10 | K22: 11.5 | L22: =IF(F22<E22,OFFSET(Очки!$A$20,2+E22-F22,IF(D22=1,13-E22,10+D22)),0) -> 0 | O22: 5 | P22: =IF(I22<H22,OFFSET(Очки!$A$20,2+H22-I22,IF(G22=1,13-H22,10+G22)),0) -> 0 | S22: =SUM(J22:R22) -> 16.5
A23: 17 | B23: Строна Илона | C23: - | D23: 2 | E23: 3 | F23: 3 | G23: 2 | H23: 5 | I23: 7 | K23: 9.5 | L23: =IF(F23<E23,OFFSET(Очки!$A$20,2+E23-F23,IF(D23=1,13-E23,10+D23)),0) -> 0 | O23: 6.5 | P23: =IF(I23<H23,OFFSET(Очки!$A$20,2+H23-I23,IF(G23=1,13-H23,10+G23)),0) -> 0 | S23: =SUM(J23:R23) -> 16
A24: 17 | B24: Кузьмич Олег | C24: - | D24: 3 | E24: 8 | F24: 3 | G24: 3 | H24: 10 | I24: 1 | K24: 4 | L24: =IF(F24<E24,OFFSET(Очки!$A$20,2+E24-F24,IF(D24=1,13-E24,10+D24)),0) -> 2.5 | O24: 6 | P24: =IF(I24<H24,OFFSET(Очки!$A$20,2+H24-I24,IF(G24=1,13-H24,10+G24)),0) -> 4.5 | R24: -1 | S24: =SUM(J24:R24) -> 16
A25: 19 | B25: Остренко Стас | C25: - | D25: 1 | E25: 5 | F25: 12 | G25: 2 | H25: 12 | I25: 9 | K25: 9.5 | L25: =IF(F25<E25,OFFSET(Очки!$A$20,2+E25-F25,IF(D25=1,13-E25,10+D25)),0) -> 0 | N25: -2 | O25: 5.5 | P25: =IF(I25<H25,OFFSET(Очки!$A$20,2+H25-I25,IF(G25=1,13-H25,10+G25)),0) -> 2.1 | S25: =SUM(J25:R25) -> 15.1
A26: 20 | B26: Ищук Сергей | C26: 12.5 | D26: 2 | E26: 12 | F26: 11 | G26: 1 | H26: 5 | I26: 8 | K26: 4.5 | L26: =IF(F26<E26,OFFSET(Очки!$A$20,2+E26-F26,IF(D26=1,13-E26,10+D26)),0) -> 0.7 | N26: -2 | O26: 11.5 | P26: =IF(I26<H26,OFFSET(Очки!$A$20,2+H26-I26,IF(G26=1,13-H26,10+G26)),0) -> 0 | S26: =SUM(J26:R26) -> 14.7
A27: 21 | B27: Муляр Андрей | C27: - | D27: 2 | E27: 8 | F27: 9 | G27: 3 | H27: 9 | I27: 2 | K27: 5.5 | L27: =IF(F27<E27,OFFSET(Очки!$A$20,2+E27-F27,IF(D27=1,13-E27,10+D27)),0) -> 0 | O27: 5 | P27: =IF(I27<H27,OFFSET(Очки!$A$20,2+H27-I27,IF(G27=1,13-H27,10+G27)),0) -> 3.5 | S27: =SUM(J27:R27) -> 14
A28: 22 | B28: Бутковский Денис | C28: - | D28: 2 | E28: 6 | F28: 12 | G28: 2 | H28: 10 | I28: 2 | K28: 4 | L28: =IF(F28<E28,OFFSET(Очки!$A$20,2+E28-F28,IF(D28=1,13-E28,10+D28)),0) -> 0 | O28: 10.5 | P28: =IF(I28<H28,OFFSET(Очки!$A$20,2+H28-I28,IF(G28=1,13-H28,10+G28)),0) -> 5.6 | Q28: 1 | R28: =-4-4 -> -8 | S28: =SUM(J28:R28) -> 13.1
A29: 23 | B29: Голоцван Дима | C29: 7.5 | D29: 3 | E29: 3 | F29: 1 | G29: 2 | H29: 7 | I29: 10 | K29: 6 | L29: =IF(F29<E29,OFFSET(Очки!$A$20,2+E29-F29,IF(D29=1,13-E29,10+D29)),0) -> 1 | O29: 5 | P29: =IF(I29<H29,OFFSET(Очки!$A$20,2+H29-I29,IF(G29=1,13-H29,10+G29)),0) -> 0 | S29: =SUM(J29:R29) -> 12
A30: 23 | B30: Ярмоленко Сергей | C30: - | D30: 3 | E30: 11 | F30: 5 | G30: 2 | H30: 6 | I30: 6 | K30: 2 | L30: =IF(F30<E30,OFFSET(Очки!$A$20,2+E30-F30,IF(D30=1,13-E30,10+D30)),0) -> 3 | O30: 7 | P30: =IF(I30<H30,OFFSET(Очки!$A$20,2+H30-I30,IF(G30=1,13-H30,10+G30)),0) -> 0 | S30: =SUM(J30:R30) -> 12
A31: 25 | B31: Якусик Саша | C31: 7.5 | D31: 3 | E31: 12 | F31: 9 | G31: 1 | H31: 9 | I31: 9 | K31: =OFFSET(Очки!$A$2,F31,D31+OFFSET(Очки!$A$18,0,$C$45-1)-1) -> 0 | L31: =IF(F31<E31,OFFSET(Очки!$A$20,2+E31-F31,IF(D31=1,13-E31,10+D31)),0) -> 1.5 | M31: 1 | O31: 11 | P31: =IF(I31<H31,OFFSET(Очки!$A$20,2+H31-I31,IF(G31=1,13-H31,10+G31)),0) -> 0 | R31: -4 | S31: =SUM(J31:R31) -> 9.5
A32: 26 | B32: Литвиненко Дмитрий | C32: 5 | D32: 3 | E32: 4 | F32: 2 | G32: 3 | H32: 11 | I32: 7 | K32: 5 | L32: =IF(F32<E32,OFFSET(Очки!$A$20,2+E32-F32,IF(D32=1,13-E32,10+D32)),0) -> 1 | O32: 1 | P32: =IF(I32<H32,OFFSET(Очки!$A$20,2+H32-I32,IF(G32=1,13-H32,10+G32)),0) -> 2 | S32: =SUM(J32:R32) -> 9
A33: 27 | B33: Черевко .владимир | C33: 15 | D33: 3 | E33: 7 | F33: 4 | G33: 3 | H33: 7 | I33: 2 | K33: 3 | L33: =IF(F33<E33,OFFSET(Очки!$A$20,2+E33-F33,IF(D33=1,13-E33,10+D33)),0) -> 1.5 | O33: 5 | P33: =IF(I33<H33,OFFSET(Очки!$A$20,2+H33-I33,IF(G33=1,13-H33,10+G33)),0) -> 2.5 | R33: -4 | S33: =SUM(J33:R33) -> 8
A34: 28 | B34: Банников Денис | C34: 15 | D34: 2 | E34: 9 | F34: 8 | G34: 3 | H34: 2 | I34: 8 | K34: 6 | L34: =IF(F34<E34,OFFSET(Очки!$A$20,2+E34-F34,IF(D34=1,13-E34,10+D34)),0) -> 0.7 | O34: 0.5 | P34: =IF(I34<H34,OFFSET(Очки!$A$20,2+H34-I34,IF(G34=1,13-H34,10+G34)),0) -> 0 | S34: =SUM(J34:R34) -> 7.2
A35: 29 | B35: Конюхов Роман | C35: 10 | D35: 2 | E35: 2 | F35: 6 | G35: 3 | H35: 6 | I35: 11 | K35: 7 | L35: =IF(F35<E35,OFFSET(Очки!$A$20,2+E35-F35,IF(D35=1,13-E35,10+D35)),0) -> 0 | O35: =OFFSET(Очки!$A$2,I35,G35+OFFSET(Очки!$A$18,0,$C$45-1)-1) -> 0 | P35: =IF(I35<H35,OFFSET(Очки!$A$20,2+H35-I35,IF(G35=1,13-H35,10+G35)),0) -> 0 | S35: =SUM(J35:R35) -> 7
A36: 30 | B36: Михайлик Михайло | C36: 20 | D36: 2 | E36: 5 | F36: 7 | G36: 3 | H36: 5 | I36: 6 | K36: 6.5 | L36: =IF(F36<E36,OFFSET(Очки!$A$20,2+E36-F36,IF(D36=1,13-E36,10+D36)),0) -> 0 | O36: 1.5 | P36: =IF(I36<H36,OFFSET(Очки!$A$20,2+H36-I36,IF(G36=1,13-H36,10+G36)),0) -> 0 | R36: =-3-2 -> -5 | S36: =SUM(J36:R36) -> 3
A37: 30 | B37: Резников Иван | C37: - | D37: 3 | E37: 5 | F37: 9 | G37: 3 | H37: 3 | I37: 4 | K37: =OFFSET(Очки!$A$2,F37,D37+OFFSET(Очки!$A$18,0,$C$45-1)-1) -> 0 | L37: =IF(F37<E37,OFFSET(Очки!$A$20,2+E37-F37,IF(D37=1,13-E37,10+D37)),0) -> 0 | O37: 3 | P37: =IF(I37<H37,OFFSET(Очки!$A$20,2+H37-I37,IF(G37=1,13-H37,10+G37)),0) -> 0 | S37: =SUM(J37:R37) -> 3
A38: 32 | B38: Любина Елена | C38: - | D38: 3 | E38: 1 | F38: 8 | G38: 3 | H38: 2 | I38: 8 | K38: 0.5 | L38: =IF(F38<E38,OFFSET(Очки!$A$20,2+E38-F38,IF(D38=1,13-E38,10+D38)),0) -> 0 | O38: 0.5 | P38: =IF(I38<H38,OFFSET(Очки!$A$20,2+H38-I38,IF(G38=1,13-H38,10+G38)),0) -> 0 | S38: =SUM(J38:R38) -> 1
A39: 33 | B39: Мазурян Андрей | C39: - | D39: 3 | E39: 9 | F39: 11 | G39: 3 | H39: 4 | I39: 4 | K39: =OFFSET(Очки!$A$2,F39,D39+OFFSET(Очки!$A$18,0,$C$45-1)-1) -> 0 | L39: =IF(F39<E39,OFFSET(Очки!$A$20,2+E39-F39,IF(D39=1,13-E39,10+D39)),0) -> 0 | O39: 3 | P39: =IF(I39<H39,OFFSET(Очки!$A$20,2+H39-I39,IF(G39=1,13-H39,10+G39)),0) -> 0 | R39: -3 | S39: =SUM(J39:R39) -> 0
A40: 33 | B40: Фролов Максим | C40: - | D40: 3 | E40: 2 | F40: 12 | G40: 3 | H40: 1 | I40: 9 | K40: =OFFSET(Очки!$A$2,F40,D40+OFFSET(Очки!$A$18,0,$C$45-1)-1) -> 0 | L40: =IF(F40<E40,OFFSET(Очки!$A$20,2+E40-F40,IF(D40=1,13-E40,10+D40)),0) -> 0 | O40: =OFFSET(Очки!$A$2,I40,G40+OFFSET(Очки!$A$18,0,$C$45-1)-1) -> 0 | P40: =IF(I40<H40,OFFSET(Очки!$A$20,2+H40-I40,IF(G40=1,13-H40,10+G40)),0) -> 0 | S40: =SUM(J40:R40) -> 0
A41: 35 | B41: Фурсов Никита | C41: - | D41: 3 | E41: 6 | F41: 7 | G41: 3 | H41: 8 | I41: 9 | K41: 1 | L41: =IF(F41<E41,OFFSET(Очки!$A$20,2+E41-F41,IF(D41=1,13-E41,10+D41)),0) -> 0 | O41: =OFFSET(Очки!$A$2,I41,G41+OFFSET(Очки!$A$18,0,$C$45-1)-1) -> 0 | P41: =IF(I41<H41,OFFSET(Очки!$A$20,2+H41-I41,IF(G41=1,13-H41,10+G41)),0) -> 0 | R41: -4 | S41: =SUM(J41:R41) -> -3
A42: =RANK(S42,S$6:OFFSET(S$6,0,0,COUNTA(B$6:B$44))) -> 34 | K42: =OFFSET(Очки!$A$2,F42,D42+OFFSET(Очки!$A$18,0,$C$45-1)-1) -> 0 | L42: =IF(F42<E42,OFFSET(Очки!$A$20,2+E42-F42,IF(D42=1,13-E42,10+D42)),0) -> 0 | O42: =OFFSET(Очки!$A$2,I42,G42+OFFSET(Очки!$A$18,0,$C$45-1)-1) -> 0 | P42: =IF(I42<H42,OFFSET(Очки!$A$20,2+H42-I42,IF(G42=1,13-H42,10+G42)),0) -> 0 | S42: =SUM(J42:R42) -> 0
A43: =RANK(S43,S$6:OFFSET(S$6,0,0,COUNTA(B$6:B$44))) -> 34 | C43: - | K43: =OFFSET(Очки!$A$2,F43,D43+OFFSET(Очки!$A$18,0,$C$45-1)-1) -> 0 | L43: =IF(F43<E43,OFFSET(Очки!$A$20,2+E43-F43,IF(D43=1,13-E43,10+D43)),0) -> 0 | O43: =OFFSET(Очки!$A$2,I43,G43+OFFSET(Очки!$A$18,0,$C$45-1)-1) -> 0 | P43: =IF(I43<H43,OFFSET(Очки!$A$20,2+H43-I43,IF(G43=1,13-H43,10+G43)),0) -> 0 | S43: =SUM(J43:R43) -> 0
A44: =RANK(S44,S$6:OFFSET(S$6,0,0,COUNTA(B$6:B$44))) -> 34 | K44: =OFFSET(Очки!$A$2,F44,D44+OFFSET(Очки!$A$18,0,$C$45-1)-1) -> 0 | L44: =IF(F44<E44,OFFSET(Очки!$A$20,2+E44-F44,IF(D44=1,13-E44,10+D44)),0) -> 0 | O44: =OFFSET(Очки!$A$2,I44,G44+OFFSET(Очки!$A$18,0,$C$45-1)-1) -> 0 | P44: =IF(I44<H44,OFFSET(Очки!$A$20,2+H44-I44,IF(G44=1,13-H44,10+G44)),0) -> 0 | S44: =SUM(J44:R44) -> 0
B45: Всего участников | C45: =COUNTA(B6:B44) -> 36

Sheet 25.07
A1: Лайт Лига 25.07.2017 (конфигурация 3R)
A3: Место | B3: Участник | D3: 1 | G3: 2 | J3: Очки | S3: Сумма
C4: Довес | D4: группа | E4: Старт | F4: Финиш | G4: группа | H4: Старт | I4: Финиш | J4: Квала | K4: 1 | O4: 2
K5: очки | L5: обгоны | M5: время | N5: штрафы | O5: очки | P5: обгоны | Q5: время | R5: штрафы
A6: =RANK(S6,S$6:OFFSET(S$6,0,0,COUNTA(B$6:B$41))) -> 1 | B6: Фортуна Таня | C6: - | D6: 1 | E6: 11 | F6: 5 | G6: 1 | H6: 11 | I6: 3 | J6: 2 | K6: =OFFSET(Очки!$A$2,F6,D6+OFFSET(Очки!$A$18,0,$C$42-1)-1) -> 13 | L6: =IF(F6<E6,OFFSET(Очки!$A$20,2+E6-F6,IF(D6=1,13-E6,10+D6)),0) -> 7 | M6: 2 | O6: 15 | P6: =IF(I6<H6,OFFSET(Очки!$A$20,2+H6-I6,IF(G6=1,13-H6,10+G6)),0) -> 8.7 | Q6: 1.5 | S6: =SUM(J6:R6) -> 49.2
A7: =RANK(S7,S$6:OFFSET(S$6,0,0,COUNTA(B$6:B$41))) -> 2 | B7: Чухаленко Дима | C7: - | D7: 1 | E7: 10 | F7: 1 | G7: 1 | H7: 10 | I7: 12 | J7: 1.5 | K7: =OFFSET(Очки!$A$2,F7,D7+OFFSET(Очки!$A$18,0,$C$42-1)-1) -> 17 | L7: =IF(F7<E7,OFFSET(Очки!$A$20,2+E7-F7,IF(D7=1,13-E7,10+D7)),0) -> 8.8 | M7: 1.5 | O7: 9.5 | P7: =IF(I7<H7,OFFSET(Очки!$A$20,2+H7-I7,IF(G7=1,13-H7,10+G7)),0) -> 0 | S7: =SUM(J7:R7) -> 38.3
A8: =RANK(S8,S$6:OFFSET(S$6,0,0,COUNTA(B$6:B$41))) -> 3 | B8: Тамберг Александр | C8: - | D8: 1 | E8: 9 | F8: 7 | G8: 1 | H8: 12 | I8: 6 | J8: 1 | K8: =OFFSET(Очки!$A$2,F8,D8+OFFSET(Очки!$A$18,0,$C$42-1)-1) -> 12 | L8: =IF(F8<E8,OFFSET(Очки!$A$20,2+E8-F8,IF(D8=1,13-E8,10+D8)),0) -> 2.4 | M8: 2.5 | O8: 12.5 | P8: =IF(I8<H8,OFFSET(Очки!$A$20,2+H8-I8,IF(G8=1,13-H8,10+G8)),0) -> 7.3 | Q8: 2 | R8: -2 | S8: =SUM(J8:R8) -> 37.7
A9: =RANK(S9,S$6:OFFSET(S$6,0,0,COUNTA(B$6:B$41))) -> 4 | B9: Петренко Влад | C9: 12.5 | D9: 1 | E9: 12 | F9: 10 | G9: 1 | H9: 9 | I9: 4 | J9: 2.5 | K9: =OFFSET(Очки!$A$2,F9,D9+OFFSET(Очки!$A$18,0,$C$42-1)-1) -> 10.5 | L9: =IF(F9<E9,OFFSET(Очки!$A$20,2+E9-F9,IF(D9=1,13-E9,10+D9)),0) -> 2.6 | O9: 14 | P9: =IF(I9<H9,OFFSET(Очки!$A$20,2+H9-I9,IF(G9=1,13-H9,10+G9)),0) -> 5.4 | S9: =SUM(J9:R9) -> 35
A10: =RANK(S10,S$6:OFFSET(S$6,0,0,COUNTA(B$6:B$41))) -> 5 | B10: Трихлеб Александр | C10: - | D10: 2 | E10: 12 | F10: 1 | G10: 1 | H10: 4 | I10: 7 | K10: =OFFSET(Очки!$A$2,F10,D10+OFFSET(Очки!$A$18,0,$C$42-1)-1) -> 11.5 | L10: =IF(F10<E10,OFFSET(Очки!$A$20,2+E10-F10,IF(D10=1,13-E10,10+D10)),0) -> 7.7 | M10: 1 | O10: 12 | P10: =IF(I10<H10,OFFSET(Очки!$A$20,2+H10-I10,IF(G10=1,13-H10,10+G10)),0) -> 0 | S10: =SUM(J10:R10) -> 32.2
A11: =RANK(S11,S$6:OFFSET(S$6,0,0,COUNTA(B$6:B$41))) -> 6 | B11: Синани Влад | D11: 2 | E11: 3 | F11: 2 | G11: 1 | H11: 3 | I11: 1 | K11: =OFFSET(Очки!$A$2,F11,D11+OFFSET(Очки!$A$18,0,$C$42-1)-1) -> 10.5 | L11: =IF(F11<E11,OFFSET(Очки!$A$20,2+E11-F11,IF(D11=1,13-E11,10+D11)),0) -> 0.7 | M11: 0.5 | O11: 17 | P11: =IF(I11<H11,OFFSET(Очки!$A$20,2+H11-I11,IF(G11=1,13-H11,10+G11)),0) -> 1.4 | S11: =SUM(J11:R11) -> 30.1
A12: =RANK(S12,S$6:OFFSET(S$6,0,0,COUNTA(B$6:B$41))) -> 7 | B12: Киселев Филипп | C12: - | D12: 1 | E12: 3 | F12: 2 | G12: 1 | H12: 5 | I12: 4 | K12: =OFFSET(Очки!$A$2,F12,D12+OFFSET(Очки!$A$18,0,$C$42-1)-1) -> 16 | L12: =IF(F12<E12,OFFSET(Очки!$A$20,2+E12-F12,IF(D12=1,13-E12,10+D12)),0) -> 0.7 | O12: 14 | P12: =IF(I12<H12,OFFSET(Очки!$A$20,2+H12-I12,IF(G12=1,13-H12,10+G12)),0) -> 0.9 | R12: -3 | S12: =SUM(J12:R12) -> 28.6
A13: =RANK(S13,S$6:OFFSET(S$6,0,0,COUNTA(B$6:B$41))) -> 8 | B13: Шиленко Александр | C13: - | D13: 1 | E13: 4 | F13: 4 | G13: 2 | H13: 11 | I13: 5 | K13: =OFFSET(Очки!$A$2,F13,D13+OFFSET(Очки!$A$18,0,$C$42-1)-1) -> 14 | L13: =IF(F13<E13,OFFSET(Очки!$A$20,2+E13-F13,IF(D13=1,13-E13,10+D13)),0) -> 0 | O13: 7.5 | P13: =IF(I13<H13,OFFSET(Очки!$A$20,2+H13-I13,IF(G13=1,13-H13,10+G13)),0) -> 4.2 | Q13: 2.5 | S13: =SUM(J13:R13) -> 28.2
A14: =RANK(S14,S$6:OFFSET(S$6,0,0,COUNTA(B$6:B$41))) -> 9 | B14: Остренко Стас | C14: - | D14: 2 | E14: 5 | F14: 6 | G14: 1 | H14: 1 | I14: 2 | K14: =OFFSET(Очки!$A$2,F14,D14+OFFSET(Очки!$A$18,0,$C$42-1)-1) -> 7 | L14: =IF(F14<E14,OFFSET(Очки!$A$20,2+E14-F14,IF(D14=1,13-E14,10+D14)),0) -> 0 | O14: 16 | P14: =IF(I14<H14,OFFSET(Очки!$A$20,2+H14-I14,IF(G14=1,13-H14,10+G14)),0) -> 0 | S14: =SUM(J14:R14) -> 23
A15: =RANK(S15,S$6:OFFSET(S$6,0,0,COUNTA(B$6:B$41))) -> 10 | B15: Сомок Денис | C15: 7.5 | D15: 1 | E15: 6 | F15: 8 | G15: 1 | H15: 8 | I15: 11 | K15: =OFFSET(Очки!$A$2,F15,D15+OFFSET(Очки!$A$18,0,$C$42-1)-1) -> 11.5 | L15: =IF(F15<E15,OFFSET(Очки!$A$20,2+E15-F15,IF(D15=1,13-E15,10+D15)),0) -> 0 | O15: 10 | P15: =IF(I15<H15,OFFSET(Очки!$A$20,2+H15-I15,IF(G15=1,13-H15,10+G15)),0) -> 0 | Q15: 0.5 | S15: =SUM(J15:R15) -> 22
A16: =RANK(S16,S$6:OFFSET(S$6,0,0,COUNTA(B$6:B$41))) -> 11 | B16: Якусик Дима | C16: 7.5 | D16: 1 | E16: 5 | F16: 3 | G16: 2 | H16: 10 | I16: 8 | K16: =OFFSET(Очки!$A$2,F16,D16+OFFSET(Очки!$A$18,0,$C$42-1)-1) -> 15 | L16: =IF(F16<E16,OFFSET(Очки!$A$20,2+E16-F16,IF(D16=1,13-E16,10+D16)),0) -> 1.7 | O16: 6 | P16: =IF(I16<H16,OFFSET(Очки!$A$20,2+H16-I16,IF(G16=1,13-H16,10+G16)),0) -> 1.4 | R16: -3 | S16: =SUM(J16:R16) -> 21.1
A17: =RANK(S17,S$6:OFFSET(S$6,0,0,COUNTA(B$6:B$41))) -> 12 | B17: Рожков Олег | C17: 5 | D17: 1 | E17: 2 | F17: 11 | G17: 1 | H17: 6 | I17: 9 | K17: =OFFSET(Очки!$A$2,F17,D17+OFFSET(Очки!$A$18,0,$C$42-1)-1) -> 10 | L17: =IF(F17<E17,OFFSET(Очки!$A$20,2+E17-F17,IF(D17=1,13-E17,10+D17)),0) -> 0 | O17: 11 | P17: =IF(I17<H17,OFFSET(Очки!$A$20,2+H17-I17,IF(G17=1,13-H17,10+G17)),0) -> 0 | S17: =SUM(J17:R17) -> 21
A18: =RANK(S18,S$6:OFFSET(S$6,0,0,COUNTA(B$6:B$41))) -> 13 | B18: Дарий Игорь | C18: - | D18: 1 | E18: 8 | F18: 6 | G18: 1 | H18: 7 | I18: 9 | J18: 0.5 | K18: =OFFSET(Очки!$A$2,F18,D18+OFFSET(Очки!$A$18,0,$C$42-1)-1) -> 12.5 | L18: =IF(F18<E18,OFFSET(Очки!$A$20,2+E18-F18,IF(D18=1,13-E18,10+D18)),0) -> 2.3 | O18: 11 | P18: =IF(I18<H18,OFFSET(Очки!$A$20,2+H18-I18,IF(G18=1,13-H18,10+G18)),0) -> 0 | Q18: 1 | R18: =-4-3 -> -7 | S18: =SUM(J18:R18) -> 20.3
A19: =RANK(S19,S$6:OFFSET(S$6,0,0,COUNTA(B$6:B$41))) -> 14 | B19: Ищук Сергей | C19: 12.5 | D19: 2 | E19: 10 | F19: 12 | G19: 2 | H19: 6 | I19: 1 | K19: =OFFSET(Очки!$A$2,F19,D19+OFFSET(Очки!$A$18,0,$C$42-1)-1) -> 4 | L19: =IF(F19<E19,OFFSET(Очки!$A$20,2+E19-F19,IF(D19=1,13-E19,10+D19)),0) -> 0 | O19: 11.5 | P19: =IF(I19<H19,OFFSET(Очки!$A$20,2+H19-I19,IF(G19=1,13-H19,10+G19)),0) -> 3.5 | S19: =SUM(J19:R19) -> 19
A20: =RANK(S20,S$6:OFFSET(S$6,0,0,COUNTA(B$6:B$41))) -> 15 | B20: Якусик Саша | C20: 7.5 | D20: 1 | E20: 7 | F20: 9 | G20: 2 | H20: 12 | I20: 9 | K20: =OFFSET(Очки!$A$2,F20,D20+OFFSET(Очки!$A$18,0,$C$42-1)-1) -> 11 | L20: =IF(F20<E20,OFFSET(Очки!$A$20,2+E20-F20,IF(D20=1,13-E20,10+D20)),0) -> 0 | O20: 5.5 | P20: =IF(I20<H20,OFFSET(Очки!$A$20,2+H20-I20,IF(G20=1,13-H20,10+G20)),0) -> 2.1 | S20: =SUM(J20:R20) -> 18.6
A21: =RANK(S21,S$6:OFFSET(S$6,0,0,COUNTA(B$6:B$41))) -> 16 | B21: Фурсов Никита | C21: - | D21: 2 | E21: 8 | F21: 4 | G21: 2 | H21: 8 | I21: 5 | K21: =OFFSET(Очки!$A$2,F21,D21+OFFSET(Очки!$A$18,0,$C$42-1)-1) -> 8.5 | L21: =IF(F21<E21,OFFSET(Очки!$A$20,2+E21-F21,IF(D21=1,13-E21,10+D21)),0) -> 2.8 | N21: -3 | O21: 7.5 | P21: =IF(I21<H21,OFFSET(Очки!$A$20,2+H21-I21,IF(G21=1,13-H21,10+G21)),0) -> 2.1 | S21: =SUM(J21:R21) -> 17.9
A22: =RANK(S22,S$6:OFFSET(S$6,0,0,COUNTA(B$6:B$41))) -> 17 | B22: Майбродский Миша | C22: 10 | D22: 2 | E22: 2 | F22: 9 | G22: 1 | H22: 2 | I22: 8 | K22: =OFFSET(Очки!$A$2,F22,D22+OFFSET(Очки!$A$18,0,$C$42-1)-1) -> 5.5 | L22: =IF(F22<E22,OFFSET(Очки!$A$20,2+E22-F22,IF(D22=1,13-E22,10+D22)),0) -> 0 | O22: 11.5 | P22: =IF(I22<H22,OFFSET(Очки!$A$20,2+H22-I22,IF(G22=1,13-H22,10+G22)),0) -> 0 | S22: =SUM(J22:R22) -> 17
A23: =RANK(S23,S$6:OFFSET(S$6,0,0,COUNTA(B$6:B$41))) -> 18 | B23: Михайлик Михаил | C23: 20 | D23: 3 | E23: 6 | F23: 3 | G23: 2 | H23: 3 | I23: 2 | K23: =OFFSET(Очки!$A$2,F23,D23+OFFSET(Очки!$A$18,0,$C$42-1)-1) -> 4 | L23: =IF(F23<E23,OFFSET(Очки!$A$20,2+E23-F23,IF(D23=1,13-E23,10+D23)),0) -> 1.5 | O23: 10.5 | P23: =IF(I23<H23,OFFSET(Очки!$A$20,2+H23-I23,IF(G23=1,13-H23,10+G23)),0) -> 0.7 | S23: =SUM(J23:R23) -> 16.7
A24: =RANK(S24,S$6:OFFSET(S$6,0,0,COUNTA(B$6:B$41))) -> 19 | B24: Фаль Александр | C24: - | D24: 2 | E24: 4 | F24: 10 | G24: 2 | H24: 5 | I24: 3 | K24: =OFFSET(Очки!$A$2,F24,D24+OFFSET(Очки!$A$18,0,$C$42-1)-1) -> 5 | L24: =IF(F24<E24,OFFSET(Очки!$A$20,2+E24-F24,IF(D24=1,13-E24,10+D24)),0) -> 0 | O24: 9.5 | P24: =IF(I24<H24,OFFSET(Очки!$A$20,2+H24-I24,IF(G24=1,13-H24,10+G24)),0) -> 1.4 | S24: =SUM(J24:R24) -> 15.9
A25: =RANK(S25,S$6:OFFSET(S$6,0,0,COUNTA(B$6:B$41))) -> 20 | B25: Загирский Антон | C25: - | D25: 1 | E25: 1 | F25: 12 | G25: 2 | H25: 9 | I25: 10 | K25: =OFFSET(Очки!$A$2,F25,D25+OFFSET(Очки!$A$18,0,$C$42-1)-1) -> 9.5 | L25: =IF(F25<E25,OFFSET(Очки!$A$20,2+E25-F25,IF(D25=1,13-E25,10+D25)),0) -> 0 | O25: 5 | P25: =IF(I25<H25,OFFSET(Очки!$A$20,2+H25-I25,IF(G25=1,13-H25,10+G25)),0) -> 0 | S25: =SUM(J25:R25) -> 14.5
A26: =RANK(S26,S$6:OFFSET(S$6,0,0,COUNTA(B$6:B$41))) -> 21 | B26: Черевко Владимир | C26: 12.5 | D26: 3 | E26: 2 | F26: 2 | G26: 2 | H26: 1 | I26: 4 | K26: =OFFSET(Очки!$A$2,F26,D26+OFFSET(Очки!$A$18,0,$C$42-1)-1) -> 5 | L26: =IF(F26<E26,OFFSET(Очки!$A$20,2+E26-F26,IF(D26=1,13-E26,10+D26)),0) -> 0 | O26: 8.5 | P26: =IF(I26<H26,OFFSET(Очки!$A$20,2+H26-I26,IF(G26=1,13-H26,10+G26)),0) -> 0 | S26: =SUM(J26:R26) -> 13.5
A27: =RANK(S27,S$6:OFFSET(S$6,0,0,COUNTA(B$6:B$41))) -> 22 | B27: Морозенко Сергей | C27: - | D27: 2 | E27: 9 | F27: 8 | G27: 2 | H27: 7 | I27: 7 | K27: =OFFSET(Очки!$A$2,F27,D27+OFFSET(Очки!$A$18,0,$C$42-1)-1) -> 6 | L27: =IF(F27<E27,OFFSET(Очки!$A$20,2+E27-F27,IF(D27=1,13-E27,10+D27)),0) -> 0.7 | O27: 6.5 | P27: =IF(I27<H27,OFFSET(Очки!$A$20,2+H27-I27,IF(G27=1,13-H27,10+G27)),0) -> 0 | S27: =SUM(J27:R27) -> 13.2
A28: =RANK(S28,S$6:OFFSET(S$6,0,0,COUNTA(B$6:B$41))) -> 23 | B28: Билецкий Женя | C28: 2.5 | D28: 2 | E28: 6 | F28: 3 | G28: 3 | H28: 10 | I28: 8 | K28: =OFFSET(Очки!$A$2,F28,D28+OFFSET(Очки!$A$18,0,$C$42-1)-1) -> 9.5 | L28: =IF(F28<E28,OFFSET(Очки!$A$20,2+E28-F28,IF(D28=1,13-E28,10+D28)),0) -> 2.1 | O28: 0.5 | P28: =IF(I28<H28,OFFSET(Очки!$A$20,2+H28-I28,IF(G28=1,13-H28,10+G28)),0) -> 1 | S28: =SUM(J28:R28) -> 13.1
A29: =RANK(S29,S$6:OFFSET(S$6,0,0,COUNTA(B$6:B$41))) -> 24 | B29: Лесников Саша | C29: 5 | D29: 3 | E29: 5 | F29: 1 | G29: 2 | H29: 4 | I29: 12 | K29: =OFFSET(Очки!$A$2,F29,D29+OFFSET(Очки!$A$18,0,$C$42-1)-1) -> 6 | L29: =IF(F29<E29,OFFSET(Очки!$A$20,2+E29-F29,IF(D29=1,13-E29,10+D29)),0) -> 2 | O29: 4 | P29: =IF(I29<H29,OFFSET(Очки!$A$20,2+H29-I29,IF(G29=1,13-H29,10+G29)),0) -> 0 | S29: =SUM(J29:R29) -> 12
A30: =RANK(S30,S$6:OFFSET(S$6,0,0,COUNTA(B$6:B$41))) -> 25 | B30: Конюхов Роман | C30: 10 | D30: 2 | E30: 1 | F30: 6 | G30: 3 | H30: 12 | I30: 7 | K30: =OFFSET(Очки!$A$2,F30,D30+OFFSET(Очки!$A$18,0,$C$42-1)-1) -> 7 | L30: =IF(F30<E30,OFFSET(Очки!$A$20,2+E30-F30,IF(D30=1,13-E30,10+D30)),0) -> 0 | O30: 1 | P30: =IF(I30<H30,OFFSET(Очки!$A$20,2+H30-I30,IF(G30=1,13-H30,10+G30)),0) -> 2.5 | S30: =SUM(J30:R30) -> 10.5
A31: =RANK(S31,S$6:OFFSET(S$6,0,0,COUNTA(B$6:B$41))) -> 25 | B31: Муляр Андрей | C31: - | D31: 3 | E31: 7 | F31: 5 | G31: 3 | H31: 4 | I31: 1 | K31: =OFFSET(Очки!$A$2,F31,D31+OFFSET(Очки!$A$18,0,$C$42-1)-1) -> 2 | L31: =IF(F31<E31,OFFSET(Очки!$A$20,2+E31-F31,IF(D31=1,13-E31,10+D31)),0) -> 1 | O31: 6 | P31: =IF(I31<H31,OFFSET(Очки!$A$20,2+H31-I31,IF(G31=1,13-H31,10+G31)),0) -> 1.5 | S31: =SUM(J31:R31) -> 10.5
A32: =RANK(S32,S$6:OFFSET(S$6,0,0,COUNTA(B$6:B$41))) -> 27 | B32: Шапран Вячеслав | C32: 20 | D32: 2 | E32: 7 | F32: 5 | G32: 3 | H32: 11 | I32: 9 | K32: =OFFSET(Очки!$A$2,F32,D32+OFFSET(Очки!$A$18,0,$C$42-1)-1) -> 7.5 | L32: =IF(F32<E32,OFFSET(Очки!$A$20,2+E32-F32,IF(D32=1,13-E32,10+D32)),0) -> 1.4 | O32: =OFFSET(Очки!$A$2,I32,G32+OFFSET(Очки!$A$18,0,$C$42-1)-1) -> 0 | P32: =IF(I32<H32,OFFSET(Очки!$A$20,2+H32-I32,IF(G32=1,13-H32,10+G32)),0) -> 1 | S32: =SUM(J32:R32) -> 9.9
A33: =RANK(S33,S$6:OFFSET(S$6,0,0,COUNTA(B$6:B$41))) -> 28 | B33: Резников Иван | C33: - | D33: 3 | E33: 3 | F33: 4 | G33: 3 | H33: 3 | I33: 2 | K33: =OFFSET(Очки!$A$2,F33,D33+OFFSET(Очки!$A$18,0,$C$42-1)-1) -> 3 | L33: =IF(F33<E33,OFFSET(Очки!$A$20,2+E33-F33,IF(D33=1,13-E33,10+D33)),0) -> 0 | O33: 5 | P33: =IF(I33<H33,OFFSET(Очки!$A$20,2+H33-I33,IF(G33=1,13-H33,10+G33)),0) -> 0.5 | S33: =SUM(J33:R33) -> 8.5
A34: =RANK(S34,S$6:OFFSET(S$6,0,0,COUNTA(B$6:B$41))) -> 29 | B34: Дядя Саша | C34: - | D34: 2 | E34: 11 | F34: 11 | G34: 3 | H34: 9 | I34: 6 | K34: =OFFSET(Очки!$A$2,F34,D34+OFFSET(Очки!$A$18,0,$C$42-1)-1) -> 4.5 | L34: =IF(F34<E34,OFFSET(Очки!$A$20,2+E34-F34,IF(D34=1,13-E34,10+D34)),0) -> 0 | O34: 1.5 | P34: =IF(I34<H34,OFFSET(Очки!$A$20,2+H34-I34,IF(G34=1,13-H34,10+G34)),0) -> 1.5 | S34: =SUM(J34:R34) -> 7.5
A35: =RANK(S35,S$6:OFFSET(S$6,0,0,COUNTA(B$6:B$41))) -> 30 | B35: Верна Николай | C35: 7.5 | D35: 3 | E35: 8 | F35: 10 | G35: 3 | H35: 6 | I35: 3 | K35: =OFFSET(Очки!$A$2,F35,D35+OFFSET(Очки!$A$18,0,$C$42-1)-1) -> 0 | L35: =IF(F35<E35,OFFSET(Очки!$A$20,2+E35-F35,IF(D35=1,13-E35,10+D35)),0) -> 0 | O35: 4 | P35: =IF(I35<H35,OFFSET(Очки!$A$20,2+H35-I35,IF(G35=1,13-H35,10+G35)),0) -> 1.5 | S35: =SUM(J35:R35) -> 5.5
A36: =RANK(S36,S$6:OFFSET(S$6,0,0,COUNTA(B$6:B$41))) -> 30 | B36: Гончаров Роман | C36: 20 | D36: 3 | E36: 11 | F36: 9 | G36: 2 | H36: 2 | I36: 11 | K36: =OFFSET(Очки!$A$2,F36,D36+OFFSET(Очки!$A$18,0,$C$42-1)-1) -> 0 | L36: =IF(F36<E36,OFFSET(Очки!$A$20,2+E36-F36,IF(D36=1,13-E36,10+D36)),0) -> 1 | O36: 4.5 | P36: =IF(I36<H36,OFFSET(Очки!$A$20,2+H36-I36,IF(G36=1,13-H36,10+G36)),0) -> 0 | S36: =SUM(J36:R36) -> 5.5
A37: =RANK(S37,S$6:OFFSET(S$6,0,0,COUNTA(B$6:B$41))) -> 32 | B37: Булавинов Андрей | C37: - | D37: 3 | E37: 10 | F37: 12 | G37: 3 | H37: 8 | I37: 4 | K37: =OFFSET(Очки!$A$2,F37,D37+OFFSET(Очки!$A$18,0,$C$42-1)-1) -> 0 | L37: =IF(F37<E37,OFFSET(Очки!$A$20,2+E37-F37,IF(D37=1,13-E37,10+D37)),0) -> 0 | O37: 3 | P37: =IF(I37<H37,OFFSET(Очки!$A$20,2+H37-I37,IF(G37=1,13-H37,10+G37)),0) -> 2 | S37: =SUM(J37:R37) -> 5
A38: =RANK(S38,S$6:OFFSET(S$6,0,0,COUNTA(B$6:B$41))) -> 33 | B38: Кузьменко Артем | C38: - | D38: 3 | E38: 12 | F38: 7 | G38: 3 | H38: 7 | I38: 5 | K38: =OFFSET(Очки!$A$2,F38,D38+OFFSET(Очки!$A$18,0,$C$42-1)-1) -> 1 | L38: =IF(F38<E38,OFFSET(Очки!$A$20,2+E38-F38,IF(D38=1,13-E38,10+D38)),0) -> 2.5 | O38: 2 | P38: =IF(I38<H38,OFFSET(Очки!$A$20,2+H38-I38,IF(G38=1,13-H38,10+G38)),0) -> 1 | R38: -4 | S38: =SUM(J38:R38) -> 2.5
A39: =RANK(S39,S$6:OFFSET(S$6,0,0,COUNTA(B$6:B$41))) -> 34 | B39: Спижак Андрей | C39: - | D39: 3 | E39: 1 | F39: 6 | G39: 3 | H39: 2 | I39: 12 | K39: =OFFSET(Очки!$A$2,F39,D39+OFFSET(Очки!$A$18,0,$C$42-1)-1) -> 1.5 | L39: =IF(F39<E39,OFFSET(Очки!$A$20,2+E39-F39,IF(D39=1,13-E39,10+D39)),0) -> 0 | O39: =OFFSET(Очки!$A$2,I39,G39+OFFSET(Очки!$A$18,0,$C$42-1)-1) -> 0 | P39: =IF(I39<H39,OFFSET(Очки!$A$20,2+H39-I39,IF(G39=1,13-H39,10+G39)),0) -> 0 | S39: =SUM(J39:R39) -> 1.5
A40: =RANK(S40,S$6:OFFSET(S$6,0,0,COUNTA(B$6:B$41))) -> 35 | B40: Жарюк Сергей | C40: 15 | D40: 3 | E40: 9 | F40: 8 | G40: 3 | H40: 5 | I40: 9 | K40: =OFFSET(Очки!$A$2,F40,D40+OFFSET(Очки!$A$18,0,$C$42-1)-1) -> 0.5 | L40: =IF(F40<E40,OFFSET(Очки!$A$20,2+E40-F40,IF(D40=1,13-E40,10+D40)),0) -> 0.5 | O40: 0 | P40: =IF(I40<H40,OFFSET(Очки!$A$20,2+H40-I40,IF(G40=1,13-H40,10+G40)),0) -> 0 | S40: =SUM(J40:R40) -> 1
A41: =RANK(S41,S$6:OFFSET(S$6,0,0,COUNTA(B$6:B$41))) -> 36 | B41: Колпачев Леша | C41: 15 | D41: 3 | E41: 4 | F41: 11 | G41: 3 | H41: 1 | I41: 11 | K41: =OFFSET(Очки!$A$2,F41,D41+OFFSET(Очки!$A$18,0,$C$42-1)-1) -> 0 | L41: =IF(F41<E41,OFFSET(Очки!$A$20,2+E41-F41,IF(D41=1,13-E41,10+D41)),0) -> 0 | O41: 0 | P41: =IF(I41<H41,OFFSET(Очки!$A$20,2+H41-I41,IF(G41=1,13-H41,10+G41)),0) -> 0 | S41: =SUM(J41:R41) -> 0
B42: Всего участников | C42: =COUNTA(B6:B41) -> 36

Sheet 01.08
A1: Лайт Лига 01.08.2017 (конфигурация 2)
A3: Место | B3: Участник | D3: 1 | G3: 2 | J3: Очки | S3: Сумма
C4: Довес | D4: группа | E4: Старт | F4: Финиш | G4: группа | H4: Старт | I4: Финиш | J4: Квала | K4: 1 | O4: 2
K5: очки | L5: обгоны | M5: время | N5: штрафы | O5: очки | P5: обгоны | Q5: время | R5: штрафы
A6: =RANK(S6,S$6:OFFSET(S$6,0,0,COUNTA(B$6:B$41))) -> 1 | B6: Петренко Влад | C6: 12.5 | D6: 1 | E6: 11 | F6: 3 | G6: 1 | H6: 12 | I6: 10 | J6: 2 | K6: =OFFSET(Очки!$A$2,F6,D6+OFFSET(Очки!$A$18,0,$C$42-1)-1) -> 15 | L6: =IF(F6<E6,OFFSET(Очки!$A$20,2+E6-F6,IF(D6=1,13-E6,10+D6)),0) -> 8.7 | M6: 2.5 | O6: =OFFSET(Очки!$A$2,I6,G6+OFFSET(Очки!$A$18,0,$C$42-1)-1) -> 10.5 | P6: =IF(I6<H6,OFFSET(Очки!$A$20,2+H6-I6,IF(G6=1,13-H6,10+G6)),0) -> 2.6 | R6: -4 | S6: =SUM(J6:R6) -> 37.3
A7: =RANK(S7,S$6:OFFSET(S$6,0,0,COUNTA(B$6:B$41))) -> 2 | B7: Тамберг Александр | C7: - | D7: 1 | E7: 6 | F7: 7 | G7: 1 | H7: 8 | I7: 1 | K7: =OFFSET(Очки!$A$2,F7,D7+OFFSET(Очки!$A$18,0,$C$42-1)-1) -> 12 | L7: =IF(F7<E7,OFFSET(Очки!$A$20,2+E7-F7,IF(D7=1,13-E7,10+D7)),0) -> 0 | M7: 0.5 | O7: =OFFSET(Очки!$A$2,I7,G7+OFFSET(Очки!$A$18,0,$C$42-1)-1) -> 17 | P7: =IF(I7<H7,OFFSET(Очки!$A$20,2+H7-I7,IF(G7=1,13-H7,10+G7)),0) -> 6.4 | Q7: 2 | R7: -4 | S7: =SUM(J7:R7) -> 33.9
A8: =RANK(S8,S$6:OFFSET(S$6,0,0,COUNTA(B$6:B$41))) -> 3 | B8: Закалюк Евгений | C8: - | D8: 1 | E8: 1 | F8: 1 | G8: 1 | H8: 4 | I8: 3 | K8: =OFFSET(Очки!$A$2,F8,D8+OFFSET(Очки!$A$18,0,$C$42-1)-1) -> 17 | L8: =IF(F8<E8,OFFSET(Очки!$A$20,2+E8-F8,IF(D8=1,13-E8,10+D8)),0) -> 0 | O8: =OFFSET(Очки!$A$2,I8,G8+OFFSET(Очки!$A$18,0,$C$42-1)-1) -> 15 | P8: =IF(I8<H8,OFFSET(Очки!$A$20,2+H8-I8,IF(G8=1,13-H8,10+G8)),0) -> 0.8 | S8: =SUM(J8:R8) -> 32.8
A9: =RANK(S9,S$6:OFFSET(S$6,0,0,COUNTA(B$6:B$41))) -> 4 | B9: Якусик Саша | C9: 5 | D9: 1 | E9: 12 | F9: 9 | G9: 1 | H9: 11 | I9: 11 | J9: 2.5 | K9: =OFFSET(Очки!$A$2,F9,D9+OFFSET(Очки!$A$18,0,$C$42-1)-1) -> 11 | L9: =IF(F9<E9,OFFSET(Очки!$A$20,2+E9-F9,IF(D9=1,13-E9,10+D9)),0) -> 3.8 | M9: 2 | O9: =OFFSET(Очки!$A$2,I9,G9+OFFSET(Очки!$A$18,0,$C$42-1)-1) -> 10 | P9: =IF(I9<H9,OFFSET(Очки!$A$20,2+H9-I9,IF(G9=1,13-H9,10+G9)),0) -> 0 | S9: =SUM(J9:R9) -> 29.3
A10: =RANK(S10,S$6:OFFSET(S$6,0,0,COUNTA(B$6:B$41))) -> 5 | B10: Пархомчук Саша | C10: - | D10: 1 | E10: 7 | F10: 5 | G10: 1 | H10: 3 | I10: 4 | K10: =OFFSET(Очки!$A$2,F10,D10+OFFSET(Очки!$A$18,0,$C$42-1)-1) -> 13 | L10: =IF(F10<E10,OFFSET(Очки!$A$20,2+E10-F10,IF(D10=1,13-E10,10+D10)),0) -> 2.1 | O10: =OFFSET(Очки!$A$2,I10,G10+OFFSET(Очки!$A$18,0,$C$42-1)-1) -> 14 | P10: =IF(I10<H10,OFFSET(Очки!$A$20,2+H10-I10,IF(G10=1,13-H10,10+G10)),0) -> 0 | S10: =SUM(J10:R10) -> 29.1
A11: =RANK(S11,S$6:OFFSET(S$6,0,0,COUNTA(B$6:B$41))) -> 6 | B11: Сомок Денис | C11: 7.5 | D11: 1 | E11: 3 | F11: 2 | G11: 1 | H11: 7 | I11: 8 | K11: =OFFSET(Очки!$A$2,F11,D11+OFFSET(Очки!$A$18,0,$C$42-1)-1) -> 16 | L11: =IF(F11<E11,OFFSET(Очки!$A$20,2+E11-F11,IF(D11=1,13-E11,10+D11)),0) -> 0.7 | O11: =OFFSET(Очки!$A$2,I11,G11+OFFSET(Очки!$A$18,0,$C$42-1)-1) -> 11.5 | P11: =IF(I11<H11,OFFSET(Очки!$A$20,2+H11-I11,IF(G11=1,13-H11,10+G11)),0) -> 0 | S11: =SUM(J11:R11) -> 28.2
A12: =RANK(S12,S$6:OFFSET(S$6,0,0,COUNTA(B$6:B$41))) -> 7 | B12: Дарий Игорь | C12: - | D12: 1 | E12: 10 | F12: 4 | G12: 1 | H12: 9 | I12: 11 | J12: 1.5 | K12: =OFFSET(Очки!$A$2,F12,D12+OFFSET(Очки!$A$18,0,$C$42-1)-1) -> 14 | L12: =IF(F12<E12,OFFSET(Очки!$A$20,2+E12-F12,IF(D12=1,13-E12,10+D12)),0) -> 6.6 | M12: 1 | N12: -5 | O12: =OFFSET(Очки!$A$2,I12,G12+OFFSET(Очки!$A$18,0,$C$42-1)-1) -> 10 | P12: =IF(I12<H12,OFFSET(Очки!$A$20,2+H12-I12,IF(G12=1,13-H12,10+G12)),0) -> 0 | S12: =SUM(J12:R12) -> 28.1
A13: =RANK(S13,S$6:OFFSET(S$6,0,0,COUNTA(B$6:B$41))) -> 8 | B13: Шиленко Александр | C13: - | D13: 2 | E13: 1 | F13: 1 | G13: 1 | H13: 10 | I13: 7 | K13: =OFFSET(Очки!$A$2,F13,D13+OFFSET(Очки!$A$18,0,$C$42-1)-1) -> 11.5 | L13: =IF(F13<E13,OFFSET(Очки!$A$20,2+E13-F13,IF(D13=1,13-E13,10+D13)),0) -> 0 | M13: 1.5 | O13: =OFFSET(Очки!$A$2,I13,G13+OFFSET(Очки!$A$18,0,$C$42-1)-1) -> 12 | P13: =IF(I13<H13,OFFSET(Очки!$A$20,2+H13-I13,IF(G13=1,13-H13,10+G13)),0) -> 3.6 | Q13: 2.5 | R13: -4 | S13: =SUM(J13:R13) -> 27.1
A14: =RANK(S14,S$6:OFFSET(S$6,0,0,COUNTA(B$6:B$41))) -> 9 | B14: Рожков Олег | C14: 5 | D14: 1 | E14: 9 | F14: 8 | G14: 1 | H14: 5 | I14: 9 | J14: 1 | K14: =OFFSET(Очки!$A$2,F14,D14+OFFSET(Очки!$A$18,0,$C$42-1)-1) -> 11.5 | L14: =IF(F14<E14,OFFSET(Очки!$A$20,2+E14-F14,IF(D14=1,13-E14,10+D14)),0) -> 1.2 | O14: =OFFSET(Очки!$A$2,I14,G14+OFFSET(Очки!$A$18,0,$C$42-1)-1) -> 11 | P14: =IF(I14<H14,OFFSET(Очки!$A$20,2+H14-I14,IF(G14=1,13-H14,10+G14)),0) -> 0 | S14: =SUM(J14:R14) -> 24.7
A15: =RANK(S15,S$6:OFFSET(S$6,0,0,COUNTA(B$6:B$41))) -> 10 | B15: Чухаленко Дима | D15: 1 | E15: 8 | F15: 9 | G15: 1 | H15: 6 | I15: 6 | J15: 0.5 | K15: =OFFSET(Очки!$A$2,F15,D15+OFFSET(Очки!$A$18,0,$C$42-1)-1) -> 11 | L15: =IF(F15<E15,OFFSET(Очки!$A$20,2+E15-F15,IF(D15=1,13-E15,10+D15)),0) -> 0 | O15: =OFFSET(Очки!$A$2,I15,G15+OFFSET(Очки!$A$18,0,$C$42-1)-1) -> 12.5 | P15: =IF(I15<H15,OFFSET(Очки!$A$20,2+H15-I15,IF(G15=1,13-H15,10+G15)),0) -> 0 | Q15: 0.5 | S15: =SUM(J15:R15) -> 24.5
A16: =RANK(S16,S$6:OFFSET(S$6,0,0,COUNTA(B$6:B$41))) -> 11 | B16: Шапран Вячеслав | C16: 20 | D16: 2 | E16: 6 | F16: 3 | G16: 2 | H16: 2 | I16: 1 | K16: =OFFSET(Очки!$A$2,F16,D16+OFFSET(Очки!$A$18,0,$C$42-1)-1) -> 9.5 | L16: =IF(F16<E16,OFFSET(Очки!$A$20,2+E16-F16,IF(D16=1,13-E16,10+D16)),0) -> 2.1 | O16: =OFFSET(Очки!$A$2,I16,G16+OFFSET(Очки!$A$18,0,$C$42-1)-1) -> 11.5 | P16: =IF(I16<H16,OFFSET(Очки!$A$20,2+H16-I16,IF(G16=1,13-H16,10+G16)),0) -> 0.7 | S16: =SUM(J16:R16) -> 23.8
A17: =RANK(S17,S$6:OFFSET(S$6,0,0,COUNTA(B$6:B$41))) -> 12 | B17: Гончаров Рома | D17: 2 | E17: 9 | F17: 10 | G17: 1 | H17: 1 | I17: 1 | K17: =OFFSET(Очки!$A$2,F17,D17+OFFSET(Очки!$A$18,0,$C$42-1)-1) -> 5 | L17: =IF(F17<E17,OFFSET(Очки!$A$20,2+E17-F17,IF(D17=1,13-E17,10+D17)),0) -> 0 | O17: =OFFSET(Очки!$A$2,I17,G17+OFFSET(Очки!$A$18,0,$C$42-1)-1) -> 17 | P17: =IF(I17<H17,OFFSET(Очки!$A$20,2+H17-I17,IF(G17=1,13-H17,10+G17)),0) -> 0 | S17: =SUM(J17:R17) -> 22
A18: =RANK(S18,S$6:OFFSET(S$6,0,0,COUNTA(B$6:B$41))) -> 13 | B18: Билецкий Женя | D18: 2 | E18: 12 | F18: 11 | G18: 1 | H18: 2 | I18: 5 | K18: =OFFSET(Очки!$A$2,F18,D18+OFFSET(Очки!$A$18,0,$C$42-1)-1) -> 4.5 | L18: =IF(F18<E18,OFFSET(Очки!$A$20,2+E18-F18,IF(D18=1,13-E18,10+D18)),0) -> 0.7 | O18: =OFFSET(Очки!$A$2,I18,G18+OFFSET(Очки!$A$18,0,$C$42-1)-1) -> 13 | P18: =IF(I18<H18,OFFSET(Очки!$A$20,2+H18-I18,IF(G18=1,13-H18,10+G18)),0) -> 0 | S18: =SUM(J18:R18) -> 18.2
A19: =RANK(S19,S$6:OFFSET(S$6,0,0,COUNTA(B$6:B$41))) -> 14 | B19: Ищук Сергей | C19: 12.5 | D19: 2 | E19: 7 | F19: 6 | G19: 2 | H19: 10 | I19: 3 | K19: =OFFSET(Очки!$A$2,F19,D19+OFFSET(Очки!$A$18,0,$C$42-1)-1) -> 7 | L19: =IF(F19<E19,OFFSET(Очки!$A$20,2+E19-F19,IF(D19=1,13-E19,10+D19)),0) -> 0.7 | O19: =OFFSET(Очки!$A$2,I19,G19+OFFSET(Очки!$A$18,0,$C$42-1)-1) -> 9.5 | P19: =IF(I19<H19,OFFSET(Очки!$A$20,2+H19-I19,IF(G19=1,13-H19,10+G19)),0) -> 4.9 | R19: -4 | S19: =SUM(J19:R19) -> 18.1
A20: =RANK(S20,S$6:OFFSET(S$6,0,0,COUNTA(B$6:B$41))) -> 14 | B20: Лесников Александр | C20: 2.5 | D20: 3 | E20: 7 | F20: 2 | G20: 2 | H20: 7 | I20: 4 | K20: =OFFSET(Очки!$A$2,F20,D20+OFFSET(Очки!$A$18,0,$C$42-1)-1) -> 5 | L20: =IF(F20<E20,OFFSET(Очки!$A$20,2+E20-F20,IF(D20=1,13-E20,10+D20)),0) -> 2.5 | O20: =OFFSET(Очки!$A$2,I20,G20+OFFSET(Очки!$A$18,0,$C$42-1)-1) -> 8.5 | P20: =IF(I20<H20,OFFSET(Очки!$A$20,2+H20-I20,IF(G20=1,13-H20,10+G20)),0) -> 2.1 | S20: =SUM(J20:R20) -> 18.1
A21: =RANK(S21,S$6:OFFSET(S$6,0,0,COUNTA(B$6:B$41))) -> 16 | B21: Мазурян Андрей | C21: - | D21: 2 | E21: 2 | F21: 2 | G21: 2 | H21: 3 | I21: 5 | K21: =OFFSET(Очки!$A$2,F21,D21+OFFSET(Очки!$A$18,0,$C$42-1)-1) -> 10.5 | L21: =IF(F21<E21,OFFSET(Очки!$A$20,2+E21-F21,IF(D21=1,13-E21,10+D21)),0) -> 0 | O21: =OFFSET(Очки!$A$2,I21,G21+OFFSET(Очки!$A$18,0,$C$42-1)-1) -> 7.5 | P21: =IF(I21<H21,OFFSET(Очки!$A$20,2+H21-I21,IF(G21=1,13-H21,10+G21)),0) -> 0 | S21: =SUM(J21:R21) -> 18
A22: =RANK(S22,S$6:OFFSET(S$6,0,0,COUNTA(B$6:B$41))) -> 17 | B22: Остренко Стас | C22: - | D22: 1 | E22: 5 | F22: 10 | G22: 2 | H22: 12 | I22: 10 | K22: =OFFSET(Очки!$A$2,F22,D22+OFFSET(Очки!$A$18,0,$C$42-1)-1) -> 10.5 | L22: =IF(F22<E22,OFFSET(Очки!$A$20,2+E22-F22,IF(D22=1,13-E22,10+D22)),0) -> 0 | O22: =OFFSET(Очки!$A$2,I22,G22+OFFSET(Очки!$A$18,0,$C$42-1)-1) -> 5 | P22: =IF(I22<H22,OFFSET(Очки!$A$20,2+H22-I22,IF(G22=1,13-H22,10+G22)),0) -> 1.4 | Q22: 1 | S22: =SUM(J22:R22) -> 17.9
A23: =RANK(S23,S$6:OFFSET(S$6,0,0,COUNTA(B$6:B$41))) -> 18 | B23: Морозенко | C23: 10 | D23: 1 | E23: 4 | F23: 6 | G23: 2 | H23: 8 | I23: 12 | K23: =OFFSET(Очки!$A$2,F23,D23+OFFSET(Очки!$A$18,0,$C$42-1)-1) -> 12.5 | L23: =IF(F23<E23,OFFSET(Очки!$A$20,2+E23-F23,IF(D23=1,13-E23,10+D23)),0) -> 0 | O23: =OFFSET(Очки!$A$2,I23,G23+OFFSET(Очки!$A$18,0,$C$42-1)-1) -> 4 | P23: =IF(I23<H23,OFFSET(Очки!$A$20,2+H23-I23,IF(G23=1,13-H23,10+G23)),0) -> 0 | S23: =SUM(J23:R23) -> 16.5
A24: =RANK(S24,S$6:OFFSET(S$6,0,0,COUNTA(B$6:B$41))) -> 19 | B24: Фаль Александр | C24: - | D24: 2 | E24: 11 | F24: 8 | G24: 2 | H24: 6 | I24: 7 | K24: =OFFSET(Очки!$A$2,F24,D24+OFFSET(Очки!$A$18,0,$C$42-1)-1) -> 6 | L24: =IF(F24<E24,OFFSET(Очки!$A$20,2+E24-F24,IF(D24=1,13-E24,10+D24)),0) -> 2.1 | O24: =OFFSET(Очки!$A$2,I24,G24+OFFSET(Очки!$A$18,0,$C$42-1)-1) -> 6.5 | P24: =IF(I24<H24,OFFSET(Очки!$A$20,2+H24-I24,IF(G24=1,13-H24,10+G24)),0) -> 0 | S24: =SUM(J24:R24) -> 14.6
A25: =RANK(S25,S$6:OFFSET(S$6,0,0,COUNTA(B$6:B$41))) -> 20 | B25: Киселев Филипп | C25: - | D25: 2 | E25: 8 | F25: 7 | G25: 2 | H25: 4 | I25: 6 | K25: =OFFSET(Очки!$A$2,F25,D25+OFFSET(Очки!$A$18,0,$C$42-1)-1) -> 6.5 | L25: =IF(F25<E25,OFFSET(Очки!$A$20,2+E25-F25,IF(D25=1,13-E25,10+D25)),0) -> 0.7 | O25: =OFFSET(Очки!$A$2,I25,G25+OFFSET(Очки!$A$18,0,$C$42-1)-1) -> 7 | P25: =IF(I25<H25,OFFSET(Очки!$A$20,2+H25-I25,IF(G25=1,13-H25,10+G25)),0) -> 0 | S25: =SUM(J25:R25) -> 14.2
A26: =RANK(S26,S$6:OFFSET(S$6,0,0,COUNTA(B$6:B$41))) -> 21 | B26: Трихлеб Александр | C26: - | D26: 2 | E26: 3 | F26: 12 | G26: 3 | H26: 2 | I26: 1 | K26: =OFFSET(Очки!$A$2,F26,D26+OFFSET(Очки!$A$18,0,$C$42-1)-1) -> 4 | L26: =IF(F26<E26,OFFSET(Очки!$A$20,2+E26-F26,IF(D26=1,13-E26,10+D26)),0) -> 0 | O26: =OFFSET(Очки!$A$2,I26,G26+OFFSET(Очки!$A$18,0,$C$42-1)-1) -> 6 | P26: =IF(I26<H26,OFFSET(Очки!$A$20,2+H26-I26,IF(G26=1,13-H26,10+G26)),0) -> 0.5 | Q26: 1.5 | S26: =SUM(J26:R26) -> 12
A27: =RANK(S27,S$6:OFFSET(S$6,0,0,COUNTA(B$6:B$41))) -> 22 | B27: Дядя Саша | C27: - | D27: 2 | E27: 10 | F27: 9 | G27: 2 | H27: 9 | I27: 9 | K27: =OFFSET(Очки!$A$2,F27,D27+OFFSET(Очки!$A$18,0,$C$42-1)-1) -> 5.5 | L27: =IF(F27<E27,OFFSET(Очки!$A$20,2+E27-F27,IF(D27=1,13-E27,10+D27)),0) -> 0.7 | O27: =OFFSET(Очки!$A$2,I27,G27+OFFSET(Очки!$A$18,0,$C$42-1)-1) -> 5.5 | P27: =IF(I27<H27,OFFSET(Очки!$A$20,2+H27-I27,IF(G27=1,13-H27,10+G27)),0) -> 0 | S27: =SUM(J27:R27) -> 11.7
A28: =RANK(S28,S$6:OFFSET(S$6,0,0,COUNTA(B$6:B$41))) -> 23 | B28: Резников Иван | C28: - | D28: 2 | E28: 5 | F28: 5 | G28: 3 | H28: 12 | I28: 7 | K28: =OFFSET(Очки!$A$2,F28,D28+OFFSET(Очки!$A$18,0,$C$42-1)-1) -> 7.5 | L28: =IF(F28<E28,OFFSET(Очки!$A$20,2+E28-F28,IF(D28=1,13-E28,10+D28)),0) -> 0 | O28: =OFFSET(Очки!$A$2,I28,G28+OFFSET(Очки!$A$18,0,$C$42-1)-1) -> 1 | P28: =IF(I28<H28,OFFSET(Очки!$A$20,2+H28-I28,IF(G28=1,13-H28,10+G28)),0) -> 2.5 | S28: =SUM(J28:R28) -> 11
A29: =RANK(S29,S$6:OFFSET(S$6,0,0,COUNTA(B$6:B$41))) -> 23 | B29: Строна Илона | C29: - | D29: 3 | E29: 12 | F29: 11 | G29: 2 | H29: 1 | I29: 2 | K29: =OFFSET(Очки!$A$2,F29,D29+OFFSET(Очки!$A$18,0,$C$42-1)-1) -> 0 | L29: =IF(F29<E29,OFFSET(Очки!$A$20,2+E29-F29,IF(D29=1,13-E29,10+D29)),0) -> 0.5 | O29: =OFFSET(Очки!$A$2,I29,G29+OFFSET(Очки!$A$18,0,$C$42-1)-1) -> 10.5 | P29: =IF(I29<H29,OFFSET(Очки!$A$20,2+H29-I29,IF(G29=1,13-H29,10+G29)),0) -> 0 | S29: =SUM(J29:R29) -> 11
A30: =RANK(S30,S$6:OFFSET(S$6,0,0,COUNTA(B$6:B$41))) -> 25 | B30: Конюхов Роман | C30: 10 | D30: 3 | E30: 10 | F30: 4 | G30: 2 | H30: 11 | I30: 11 | K30: =OFFSET(Очки!$A$2,F30,D30+OFFSET(Очки!$A$18,0,$C$42-1)-1) -> 3 | L30: =IF(F30<E30,OFFSET(Очки!$A$20,2+E30-F30,IF(D30=1,13-E30,10+D30)),0) -> 3 | O30: =OFFSET(Очки!$A$2,I30,G30+OFFSET(Очки!$A$18,0,$C$42-1)-1) -> 4.5 | P30: =IF(I30<H30,OFFSET(Очки!$A$20,2+H30-I30,IF(G30=1,13-H30,10+G30)),0) -> 0 | S30: =SUM(J30:R30) -> 10.5
A31: =RANK(S31,S$6:OFFSET(S$6,0,0,COUNTA(B$6:B$41))) -> 25 | B31: Муляр Александр | C31: - | D31: 3 | E31: 5 | F31: 1 | G31: 2 | H31: 5 | I31: 7 | K31: =OFFSET(Очки!$A$2,F31,D31+OFFSET(Очки!$A$18,0,$C$42-1)-1) -> 6 | L31: =IF(F31<E31,OFFSET(Очки!$A$20,2+E31-F31,IF(D31=1,13-E31,10+D31)),0) -> 2 | O31: =OFFSET(Очки!$A$2,I31,G31+OFFSET(Очки!$A$18,0,$C$42-1)-1) -> 6.5 | P31: =IF(I31<H31,OFFSET(Очки!$A$20,2+H31-I31,IF(G31=1,13-H31,10+G31)),0) -> 0 | R31: -4 | S31: =SUM(J31:R31) -> 10.5
A32: =RANK(S32,S$6:OFFSET(S$6,0,0,COUNTA(B$6:B$41))) -> 27 | B32: Славинский Атон | C32: - | D32: 3 | E32: 11 | F32: 8 | G32: 3 | H32: 4 | I32: 2 | K32: =OFFSET(Очки!$A$2,F32,D32+OFFSET(Очки!$A$18,0,$C$42-1)-1) -> 0.5 | L32: =IF(F32<E32,OFFSET(Очки!$A$20,2+E32-F32,IF(D32=1,13-E32,10+D32)),0) -> 1.5 | O32: =OFFSET(Очки!$A$2,I32,G32+OFFSET(Очки!$A$18,0,$C$42-1)-1) -> 5 | P32: =IF(I32<H32,OFFSET(Очки!$A$20,2+H32-I32,IF(G32=1,13-H32,10+G32)),0) -> 1 | S32: =SUM(J32:R32) -> 8
A33: =RANK(S33,S$6:OFFSET(S$6,0,0,COUNTA(B$6:B$41))) -> 27 | B33: Федорончук Артём | C33: - | D33: 3 | E33: 6 | F33: 4 | G33: 3 | H33: 11 | I33: 6 | K33: =OFFSET(Очки!$A$2,F33,D33+OFFSET(Очки!$A$18,0,$C$42-1)-1) -> 3 | L33: =IF(F33<E33,OFFSET(Очки!$A$20,2+E33-F33,IF(D33=1,13-E33,10+D33)),0) -> 1 | O33: =OFFSET(Очки!$A$2,I33,G33+OFFSET(Очки!$A$18,0,$C$42-1)-1) -> 1.5 | P33: =IF(I33<H33,OFFSET(Очки!$A$20,2+H33-I33,IF(G33=1,13-H33,10+G33)),0) -> 2.5 | S33: =SUM(J33:R33) -> 8
A34: =RANK(S34,S$6:OFFSET(S$6,0,0,COUNTA(B$6:B$41))) -> 29 | B34: Черевко Владимир | C34: 15 | D34: 2 | E34: 4 | F34: 4 | G34: 3 | H34: 10 | I34: 8 | K34: =OFFSET(Очки!$A$2,F34,D34+OFFSET(Очки!$A$18,0,$C$42-1)-1) -> 8.5 | L34: =IF(F34<E34,OFFSET(Очки!$A$20,2+E34-F34,IF(D34=1,13-E34,10+D34)),0) -> 0 | O34: =OFFSET(Очки!$A$2,I34,G34+OFFSET(Очки!$A$18,0,$C$42-1)-1) -> 0.5 | P34: =IF(I34<H34,OFFSET(Очки!$A$20,2+H34-I34,IF(G34=1,13-H34,10+G34)),0) -> 1 | R34: -4 | S34: =SUM(J34:R34) -> 6
A35: =RANK(S35,S$6:OFFSET(S$6,0,0,COUNTA(B$6:B$41))) -> 30 | B35: Купцов Павел | C35: - | D35: 3 | E35: 8 | F35: 9 | G35: 3 | H35: 5 | I35: 3 | K35: =OFFSET(Очки!$A$2,F35,D35+OFFSET(Очки!$A$18,0,$C$42-1)-1) -> 0 | L35: =IF(F35<E35,OFFSET(Очки!$A$20,2+E35-F35,IF(D35=1,13-E35,10+D35)),0) -> 0 | O35: =OFFSET(Очки!$A$2,I35,G35+OFFSET(Очки!$A$18,0,$C$42-1)-1) -> 4 | P35: =IF(I35<H35,OFFSET(Очки!$A$20,2+H35-I35,IF(G35=1,13-H35,10+G35)),0) -> 1 | S35: =SUM(J35:R35) -> 5
A36: =RANK(S36,S$6:OFFSET(S$6,0,0,COUNTA(B$6:B$41))) -> 31 | B36: Михайлик Михайло | C36: 20 | D36: 3 | E36: 9 | F36: 10 | G36: 3 | H36: 6 | I36: 4 | K36: =OFFSET(Очки!$A$2,F36,D36+OFFSET(Очки!$A$18,0,$C$42-1)-1) -> 0 | L36: =IF(F36<E36,OFFSET(Очки!$A$20,2+E36-F36,IF(D36=1,13-E36,10+D36)),0) -> 0 | O36: =OFFSET(Очки!$A$2,I36,G36+OFFSET(Очки!$A$18,0,$C$42-1)-1) -> 3 | P36: =IF(I36<H36,OFFSET(Очки!$A$20,2+H36-I36,IF(G36=1,13-H36,10+G36)),0) -> 1 | S36: =SUM(J36:R36) -> 4
A37: =RANK(S37,S$6:OFFSET(S$6,0,0,COUNTA(B$6:B$41))) -> 31 | B37: Телегин Алексей | C37: - | D37: 3 | E37: 1 | F37: 3 | G37: 3 | H37: 7 | I37: 9 | K37: =OFFSET(Очки!$A$2,F37,D37+OFFSET(Очки!$A$18,0,$C$42-1)-1) -> 4 | L37: =IF(F37<E37,OFFSET(Очки!$A$20,2+E37-F37,IF(D37=1,13-E37,10+D37)),0) -> 0 | O37: =OFFSET(Очки!$A$2,I37,G37+OFFSET(Очки!$A$18,0,$C$42-1)-1) -> 0 | P37: =IF(I37<H37,OFFSET(Очки!$A$20,2+H37-I37,IF(G37=1,13-H37,10+G37)),0) -> 0 | S37: =SUM(J37:R37) -> 4
A38: =RANK(S38,S$6:OFFSET(S$6,0,0,COUNTA(B$6:B$41))) -> 33 | B38: Якусик Дима | C38: 7.5 | D38: 1 | E38: 2 | F38: 12 | G38: 3 | H38: 8 | I38: 4 | K38: =OFFSET(Очки!$A$2,F38,D38+OFFSET(Очки!$A$18,0,$C$42-1)-1) -> 9.5 | L38: =IF(F38<E38,OFFSET(Очки!$A$20,2+E38-F38,IF(D38=1,13-E38,10+D38)),0) -> 0 | O38: =OFFSET(Очки!$A$2,I38,G38+OFFSET(Очки!$A$18,0,$C$42-1)-1) -> 3 | P38: =IF(I38<H38,OFFSET(Очки!$A$20,2+H38-I38,IF(G38=1,13-H38,10+G38)),0) -> 2 | R38: =-4-4-5 -> -13 | S38: =SUM(J38:R38) -> 1.5
A39: =RANK(S39,S$6:OFFSET(S$6,0,0,COUNTA(B$6:B$41))) -> 34 | B39: Назаренко Вадим | C39: 20 | D39: 3 | E39: 3 | F39: 7 | G39: 3 | H39: 3 | I39: 10 | K39: =OFFSET(Очки!$A$2,F39,D39+OFFSET(Очки!$A$18,0,$C$42-1)-1) -> 1 | L39: =IF(F39<E39,OFFSET(Очки!$A$20,2+E39-F39,IF(D39=1,13-E39,10+D39)),0) -> 0 | O39: =OFFSET(Очки!$A$2,I39,G39+OFFSET(Очки!$A$18,0,$C$42-1)-1) -> 0 | P39: =IF(I39<H39,OFFSET(Очки!$A$20,2+H39-I39,IF(G39=1,13-H39,10+G39)),0) -> 0 | S39: =SUM(J39:R39) -> 1
A40: =RANK(S40,S$6:OFFSET(S$6,0,0,COUNTA(B$6:B$41))) -> 35 | B40: Чернега Николай | C40: 5 | D40: 3 | E40: 2 | F40: 12 | G40: 3 | H40: 1 | I40: 9 | K40: =OFFSET(Очки!$A$2,F40,D40+OFFSET(Очки!$A$18,0,$C$42-1)-1) -> 0 | L40: =IF(F40<E40,OFFSET(Очки!$A$20,2+E40-F40,IF(D40=1,13-E40,10+D40)),0) -> 0 | O40: =OFFSET(Очки!$A$2,I40,G40+OFFSET(Очки!$A$18,0,$C$42-1)-1) -> 0 | P40: =IF(I40<H40,OFFSET(Очки!$A$20,2+H40-I40,IF(G40=1,13-H40,10+G40)),0) -> 0 | S40: =SUM(J40:R40) -> 0
A41: =RANK(S41,S$6:OFFSET(S$6,0,0,COUNTA(B$6:B$41))) -> 36 | B41: Жарюк Сергей | D41: 3 | E41: 4 | F41: 6 | G41: 3 | H41: 9 | I41: 11 | K41: =OFFSET(Очки!$A$2,F41,D41+OFFSET(Очки!$A$18,0,$C$42-1)-1) -> 1.5 | L41: =IF(F41<E41,OFFSET(Очки!$A$20,2+E41-F41,IF(D41=1,13-E41,10+D41)),0) -> 0 | N41: -4 | O41: =OFFSET(Очки!$A$2,I41,G41+OFFSET(Очки!$A$18,0,$C$42-1)-1) -> 0 | P41: =IF(I41<H41,OFFSET(Очки!$A$20,2+H41-I41,IF(G41=1,13-H41,10+G41)),0) -> 0 | S41: =SUM(J41:R41) -> -2.5
B42: Всего участников | C42: =COUNTA(B6:B41) -> 36

Sheet 08.08
A1: Лайт Лига 08.08.2017 (конфигурация 5)
A3: Место | B3: Участник | D3: 1 | G3: 2 | J3: Очки | S3: Сумма
C4: Довес | D4: группа | E4: Старт | F4: Финиш | G4: группа | H4: Старт | I4: Финиш | J4: Квала | K4: 1 | O4: 2
K5: очки | L5: обгоны | M5: время | N5: штрафы | O5: очки | P5: обгоны | Q5: время | R5: штрафы
A6: =RANK(S6,S$6:OFFSET(S$6,0,0,COUNTA(B$6:B$46))) -> 1 | B6: Фортуна Таня | C6: - | D6: 1 | E6: 11 | F6: 4 | G6: 1 | H6: 12 | I6: 4 | J6: 2 | K6: =OFFSET(Очки!$A$2,F6,D6+OFFSET(Очки!$A$18,0,$C$47-1)-1) -> 14 | L6: =IF(F6<E6,OFFSET(Очки!$A$20,2+E6-F6,IF(D6=1,13-E6,10+D6)),0) -> 7.9 | M6: 2.5 | O6: =OFFSET(Очки!$A$2,I6,G6+OFFSET(Очки!$A$18,0,$C$47-1)-1) -> 14 | P6: =IF(I6<H6,OFFSET(Очки!$A$20,2+H6-I6,IF(G6=1,13-H6,10+G6)),0) -> 9.2 | Q6: 2.5 | R6: -5 | S6: =SUM(J6:R6) -> 47.1
A7: =RANK(S7,S$6:OFFSET(S$6,0,0,COUNTA(B$6:B$46))) -> 2 | B7: Тамберг Александр | C7: - | D7: 1 | E7: 10 | F7: 11 | G7: 1 | H7: 11 | I7: 5 | J7: 1.5 | K7: =OFFSET(Очки!$A$2,F7,D7+OFFSET(Очки!$A$18,0,$C$47-1)-1) -> 10 | L7: =IF(F7<E7,OFFSET(Очки!$A$20,2+E7-F7,IF(D7=1,13-E7,10+D7)),0) -> 0 | M7: 2 | O7: =OFFSET(Очки!$A$2,I7,G7+OFFSET(Очки!$A$18,0,$C$47-1)-1) -> 13 | P7: =IF(I7<H7,OFFSET(Очки!$A$20,2+H7-I7,IF(G7=1,13-H7,10+G7)),0) -> 7 | Q7: 1.5 | S7: =SUM(J7:R7) -> 35
A8: =RANK(S8,S$6:OFFSET(S$6,0,0,COUNTA(B$6:B$46))) -> 3 | B8: Пархомчук Саша | C8: - | D8: 1 | E8: 5 | F8: 2 | G8: 1 | H8: 10 | I8: 9 | K8: =OFFSET(Очки!$A$2,F8,D8+OFFSET(Очки!$A$18,0,$C$47-1)-1) -> 16 | L8: =IF(F8<E8,OFFSET(Очки!$A$20,2+E8-F8,IF(D8=1,13-E8,10+D8)),0) -> 2.4 | M8: 1.5 | O8: =OFFSET(Очки!$A$2,I8,G8+OFFSET(Очки!$A$18,0,$C$47-1)-1) -> 11 | P8: =IF(I8<H8,OFFSET(Очки!$A$20,2+H8-I8,IF(G8=1,13-H8,10+G8)),0) -> 1.2 | S8: =SUM(J8:R8) -> 32.1
A9: =RANK(S9,S$6:OFFSET(S$6,0,0,COUNTA(B$6:B$46))) -> 4 | B9: Шиленко Алкусандр | C9: - | D9: 1 | E9: 12 | F9: 5 | G9: 1 | H9: 8 | I9: 8 | J9: 2.5 | K9: =OFFSET(Очки!$A$2,F9,D9+OFFSET(Очки!$A$18,0,$C$47-1)-1) -> 13 | L9: =IF(F9<E9,OFFSET(Очки!$A$20,2+E9-F9,IF(D9=1,13-E9,10+D9)),0) -> 8.3 | M9: 0.5 | N9: -3 | O9: =OFFSET(Очки!$A$2,I9,G9+OFFSET(Очки!$A$18,0,$C$47-1)-1) -> 11.5 | P9: =IF(I9<H9,OFFSET(Очки!$A$20,2+H9-I9,IF(G9=1,13-H9,10+G9)),0) -> 0 | Q9: 0.5 | R9: -3 | S9: =SUM(J9:R9) -> 30.3
A10: =RANK(S10,S$6:OFFSET(S$6,0,0,COUNTA(B$6:B$46))) -> 5 | B10: Фаль Александр | D10: 1 | E10: 2 | F10: 1 | G10: 1 | H10: 1 | I10: 7 | K10: =OFFSET(Очки!$A$2,F10,D10+OFFSET(Очки!$A$18,0,$C$47-1)-1) -> 17 | L10: =IF(F10<E10,OFFSET(Очки!$A$20,2+E10-F10,IF(D10=1,13-E10,10+D10)),0) -> 0.7 | O10: =OFFSET(Очки!$A$2,I10,G10+OFFSET(Очки!$A$18,0,$C$47-1)-1) -> 12 | P10: =IF(I10<H10,OFFSET(Очки!$A$20,2+H10-I10,IF(G10=1,13-H10,10+G10)),0) -> 0 | S10: =SUM(J10:R10) -> 29.7
A11: =RANK(S11,S$6:OFFSET(S$6,0,0,COUNTA(B$6:B$46))) -> 6 | B11: Сомок Денис | C11: 5 | D11: 2 | E11: 9 | F11: 7 | G11: 1 | H11: 5 | I11: 2 | K11: =OFFSET(Очки!$A$2,F11,D11+OFFSET(Очки!$A$18,0,$C$47-1)-1) -> 6.5 | L11: =IF(F11<E11,OFFSET(Очки!$A$20,2+E11-F11,IF(D11=1,13-E11,10+D11)),0) -> 1.4 | O11: =OFFSET(Очки!$A$2,I11,G11+OFFSET(Очки!$A$18,0,$C$47-1)-1) -> 16 | P11: =IF(I11<H11,OFFSET(Очки!$A$20,2+H11-I11,IF(G11=1,13-H11,10+G11)),0) -> 2.4 | Q11: 2 | S11: =SUM(J11:R11) -> 28.3
A12: =RANK(S12,S$6:OFFSET(S$6,0,0,COUNTA(B$6:B$46))) -> 7 | B12: Коруз Вадим | C12: 7.5 | D12: 1 | E12: 6 | F12: 3 | G12: 1 | H12: 2 | I12: 1 | K12: =OFFSET(Очки!$A$2,F12,D12+OFFSET(Очки!$A$18,0,$C$47-1)-1) -> 15 | L12: =IF(F12<E12,OFFSET(Очки!$A$20,2+E12-F12,IF(D12=1,13-E12,10+D12)),0) -> 2.7 | N12: -11 | O12: =OFFSET(Очки!$A$2,I12,G12+OFFSET(Очки!$A$18,0,$C$47-1)-1) -> 17 | P12: =IF(I12<H12,OFFSET(Очки!$A$20,2+H12-I12,IF(G12=1,13-H12,10+G12)),0) -> 0.7 | S12: =SUM(J12:R12) -> 24.4
A13: =RANK(S13,S$6:OFFSET(S$6,0,0,COUNTA(B$6:B$46))) -> 8 | B13: Морозенко Сергей | C13: 10 | D13: 1 | E13: 7 | F13: 6 | G13: 1 | H13: 4 | I13: 12 | K13: =OFFSET(Очки!$A$2,F13,D13+OFFSET(Очки!$A$18,0,$C$47-1)-1) -> 12.5 | L13: =IF(F13<E13,OFFSET(Очки!$A$20,2+E13-F13,IF(D13=1,13-E13,10+D13)),0) -> 1.1 | O13: =OFFSET(Очки!$A$2,I13,G13+OFFSET(Очки!$A$18,0,$C$47-1)-1) -> 9.5 | P13: =IF(I13<H13,OFFSET(Очки!$A$20,2+H13-I13,IF(G13=1,13-H13,10+G13)),0) -> 0 | S13: =SUM(J13:R13) -> 23.1
A14: =RANK(S14,S$6:OFFSET(S$6,0,0,COUNTA(B$6:B$46))) -> 9 | B14: Закалюк Женя | C14: - | D14: 1 | E14: 8 | F14: 9 | G14: 1 | H14: 7 | I14: 10 | J14: 0.5 | K14: =OFFSET(Очки!$A$2,F14,D14+OFFSET(Очки!$A$18,0,$C$47-1)-1) -> 11 | L14: =IF(F14<E14,OFFSET(Очки!$A$20,2+E14-F14,IF(D14=1,13-E14,10+D14)),0) -> 0 | O14: =OFFSET(Очки!$A$2,I14,G14+OFFSET(Очки!$A$18,0,$C$47-1)-1) -> 10.5 | P14: =IF(I14<H14,OFFSET(Очки!$A$20,2+H14-I14,IF(G14=1,13-H14,10+G14)),0) -> 0 | S14: =SUM(J14:R14) -> 22
A15: =RANK(S15,S$6:OFFSET(S$6,0,0,COUNTA(B$6:B$46))) -> 10 | B15: Чухаленко Дима | C15: - | D15: 2 | E15: 5 | F15: 2 | G15: 2 | H15: 9 | I15: 4 | K15: =OFFSET(Очки!$A$2,F15,D15+OFFSET(Очки!$A$18,0,$C$47-1)-1) -> 10.5 | L15: =IF(F15<E15,OFFSET(Очки!$A$20,2+E15-F15,IF(D15=1,13-E15,10+D15)),0) -> 2.1 | O15: =OFFSET(Очки!$A$2,I15,G15+OFFSET(Очки!$A$18,0,$C$47-1)-1) -> 8.5 | P15: =IF(I15<H15,OFFSET(Очки!$A$20,2+H15-I15,IF(G15=1,13-H15,10+G15)),0) -> 3.5 | R15: -3 | S15: =SUM(J15:R15) -> 21.6
A16: =RANK(S16,S$6:OFFSET(S$6,0,0,COUNTA(B$6:B$46))) -> 11 | B16: Билецкий Женя | C16: 2.5 | D16: 1 | E16: 1 | F16: 7 | G16: 2 | H16: 2 | I16: 3 | K16: =OFFSET(Очки!$A$2,F16,D16+OFFSET(Очки!$A$18,0,$C$47-1)-1) -> 12 | L16: =IF(F16<E16,OFFSET(Очки!$A$20,2+E16-F16,IF(D16=1,13-E16,10+D16)),0) -> 0 | O16: =OFFSET(Очки!$A$2,I16,G16+OFFSET(Очки!$A$18,0,$C$47-1)-1) -> 9.5 | P16: =IF(I16<H16,OFFSET(Очки!$A$20,2+H16-I16,IF(G16=1,13-H16,10+G16)),0) -> 0 | S16: =SUM(J16:R16) -> 21.5
A17: =RANK(S17,S$6:OFFSET(S$6,0,0,COUNTA(B$6:B$46))) -> 12 | B17: Трихлеб Александр | C17: - | D17: 1 | E17: 9 | F17: 10 | G17: 2 | H17: 11 | I17: 8 | J17: 1 | K17: =OFFSET(Очки!$A$2,F17,D17+OFFSET(Очки!$A$18,0,$C$47-1)-1) -> 10.5 | L17: =IF(F17<E17,OFFSET(Очки!$A$20,2+E17-F17,IF(D17=1,13-E17,10+D17)),0) -> 0 | O17: =OFFSET(Очки!$A$2,I17,G17+OFFSET(Очки!$A$18,0,$C$47-1)-1) -> 6 | P17: =IF(I17<H17,OFFSET(Очки!$A$20,2+H17-I17,IF(G17=1,13-H17,10+G17)),0) -> 2.1 | S17: =SUM(J17:R17) -> 19.6
A18: =RANK(S18,S$6:OFFSET(S$6,0,0,COUNTA(B$6:B$46))) -> 13 | B18: Ищук Сергей | C18: 12.5 | D18: 3 | E18: 12 | F18: 5 | G18: 2 | H18: 4 | I18: 1 | K18: =OFFSET(Очки!$A$2,F18,D18+OFFSET(Очки!$A$18,0,$C$47-1)-1) -> 2 | L18: =IF(F18<E18,OFFSET(Очки!$A$20,2+E18-F18,IF(D18=1,13-E18,10+D18)),0) -> 3.5 | O18: =OFFSET(Очки!$A$2,I18,G18+OFFSET(Очки!$A$18,0,$C$47-1)-1) -> 11.5 | P18: =IF(I18<H18,OFFSET(Очки!$A$20,2+H18-I18,IF(G18=1,13-H18,10+G18)),0) -> 2.1 | S18: =SUM(J18:R18) -> 19.1
A19: =RANK(S19,S$6:OFFSET(S$6,0,0,COUNTA(B$6:B$46))) -> 14 | B19: Муляр Адрей | C19: - | D19: 2 | E19: 10 | F19: 5 | G19: 1 | H19: 9 | I19: 11 | K19: =OFFSET(Очки!$A$2,F19,D19+OFFSET(Очки!$A$18,0,$C$47-1)-1) -> 7.5 | L19: =IF(F19<E19,OFFSET(Очки!$A$20,2+E19-F19,IF(D19=1,13-E19,10+D19)),0) -> 3.5 | M19: 1 | N19: -3 | O19: =OFFSET(Очки!$A$2,I19,G19+OFFSET(Очки!$A$18,0,$C$47-1)-1) -> 10 | P19: =IF(I19<H19,OFFSET(Очки!$A$20,2+H19-I19,IF(G19=1,13-H19,10+G19)),0) -> 0 | S19: =SUM(J19:R19) -> 19
A20: =RANK(S20,S$6:OFFSET(S$6,0,0,COUNTA(B$6:B$46))) -> 15 | B20: Якусик Саша | C20: 7.5 | D20: 3 | E20: 8 | F20: 1 | G20: 1 | H20: 3 | I20: 3 | K20: =OFFSET(Очки!$A$2,F20,D20+OFFSET(Очки!$A$18,0,$C$47-1)-1) -> 6 | L20: =IF(F20<E20,OFFSET(Очки!$A$20,2+E20-F20,IF(D20=1,13-E20,10+D20)),0) -> 3.5 | N20: =-3-3 -> -6 | O20: =OFFSET(Очки!$A$2,I20,G20+OFFSET(Очки!$A$18,0,$C$47-1)-1) -> 15 | P20: =IF(I20<H20,OFFSET(Очки!$A$20,2+H20-I20,IF(G20=1,13-H20,10+G20)),0) -> 0 | S20: =SUM(J20:R20) -> 18.5
A21: =RANK(S21,S$6:OFFSET(S$6,0,0,COUNTA(B$6:B$46))) -> 16 | B21: Остренко Стас | C21: - | D21: 2 | E21: 7 | F21: 9 | G21: 2 | H21: 5 | I21: 2 | K21: =OFFSET(Очки!$A$2,F21,D21+OFFSET(Очки!$A$18,0,$C$47-1)-1) -> 5.5 | L21: =IF(F21<E21,OFFSET(Очки!$A$20,2+E21-F21,IF(D21=1,13-E21,10+D21)),0) -> 0 | O21: =OFFSET(Очки!$A$2,I21,G21+OFFSET(Очки!$A$18,0,$C$47-1)-1) -> 10.5 | P21: =IF(I21<H21,OFFSET(Очки!$A$20,2+H21-I21,IF(G21=1,13-H21,10+G21)),0) -> 2.1 | S21: =SUM(J21:R21) -> 18.1
A22: =RANK(S22,S$6:OFFSET(S$6,0,0,COUNTA(B$6:B$46))) -> 17 | B22: Славинский Антон | C22: - | D22: 2 | E22: 3 | F22: 3 | G22: 2 | H22: 3 | I22: 5 | K22: =OFFSET(Очки!$A$2,F22,D22+OFFSET(Очки!$A$18,0,$C$47-1)-1) -> 9.5 | L22: =IF(F22<E22,OFFSET(Очки!$A$20,2+E22-F22,IF(D22=1,13-E22,10+D22)),0) -> 0 | O22: =OFFSET(Очки!$A$2,I22,G22+OFFSET(Очки!$A$18,0,$C$47-1)-1) -> 7.5 | P22: =IF(I22<H22,OFFSET(Очки!$A$20,2+H22-I22,IF(G22=1,13-H22,10+G22)),0) -> 0 | S22: =SUM(J22:R22) -> 17
A23: =RANK(S23,S$6:OFFSET(S$6,0,0,COUNTA(B$6:B$46))) -> 18 | B23: Лесников Александр | D23: 3 | E23: 4 | F23: 3 | G23: 3 | H23: 10 | I23: 2 | K23: =OFFSET(Очки!$A$2,F23,D23+OFFSET(Очки!$A$18,0,$C$47-1)-1) -> 4 | L23: =IF(F23<E23,OFFSET(Очки!$A$20,2+E23-F23,IF(D23=1,13-E23,10+D23)),0) -> 0.5 | O23: =OFFSET(Очки!$A$2,I23,G23+OFFSET(Очки!$A$18,0,$C$47-1)-1) -> 5 | P23: =IF(I23<H23,OFFSET(Очки!$A$20,2+H23-I23,IF(G23=1,13-H23,10+G23)),0) -> 4 | Q23: 1 | S23: =SUM(J23:R23) -> 14.5
A24: =RANK(S24,S$6:OFFSET(S$6,0,0,COUNTA(B$6:B$46))) -> 19 | B24: Рожков Олег | C24: 10 | D24: 2 | E24: 2 | F24: 1 | G24: 2 | H24: 6 | I24: 11 | K24: =OFFSET(Очки!$A$2,F24,D24+OFFSET(Очки!$A$18,0,$C$47-1)-1) -> 11.5 | L24: =IF(F24<E24,OFFSET(Очки!$A$20,2+E24-F24,IF(D24=1,13-E24,10+D24)),0) -> 0.7 | O24: =OFFSET(Очки!$A$2,I24,G24+OFFSET(Очки!$A$18,0,$C$47-1)-1) -> 4.5 | P24: =IF(I24<H24,OFFSET(Очки!$A$20,2+H24-I24,IF(G24=1,13-H24,10+G24)),0) -> 0 | R24: -3 | S24: =SUM(J24:R24) -> 13.7
A25: =RANK(S25,S$6:OFFSET(S$6,0,0,COUNTA(B$6:B$46))) -> 20 | B25: Резников Иван | C25: - | D25: 2 | E25: 1 | F25: 6 | G25: 2 | H25: 1 | I25: 9 | K25: =OFFSET(Очки!$A$2,F25,D25+OFFSET(Очки!$A$18,0,$C$47-1)-1) -> 7 | L25: =IF(F25<E25,OFFSET(Очки!$A$20,2+E25-F25,IF(D25=1,13-E25,10+D25)),0) -> 0 | O25: =OFFSET(Очки!$A$2,I25,G25+OFFSET(Очки!$A$18,0,$C$47-1)-1) -> 5.5 | P25: =IF(I25<H25,OFFSET(Очки!$A$20,2+H25-I25,IF(G25=1,13-H25,10+G25)),0) -> 0 | S25: =SUM(J25:R25) -> 12.5
A26: =RANK(S26,S$6:OFFSET(S$6,0,0,COUNTA(B$6:B$46))) -> 21 | B26: Черевко Владимир | C26: 15 | D26: 2 | E26: 12 | F26: 10 | G26: 2 | H26: 8 | I26: 6 | K26: =OFFSET(Очки!$A$2,F26,D26+OFFSET(Очки!$A$18,0,$C$47-1)-1) -> 5 | L26: =IF(F26<E26,OFFSET(Очки!$A$20,2+E26-F26,IF(D26=1,13-E26,10+D26)),0) -> 1.4 | O26: =OFFSET(Очки!$A$2,I26,G26+OFFSET(Очки!$A$18,0,$C$47-1)-1) -> 7 | P26: =IF(I26<H26,OFFSET(Очки!$A$20,2+H26-I26,IF(G26=1,13-H26,10+G26)),0) -> 1.4 | R26: -3 | S26: =SUM(J26:R26) -> 11.8
A27: =RANK(S27,S$6:OFFSET(S$6,0,0,COUNTA(B$6:B$46))) -> 22 | B27: Белокриницький Руслан | C27: - | D27: 3 | E27: 2 | F27: 2 | G27: 3 | H27: 7 | I27: 4 | K27: =OFFSET(Очки!$A$2,F27,D27+OFFSET(Очки!$A$18,0,$C$47-1)-1) -> 5 | L27: =IF(F27<E27,OFFSET(Очки!$A$20,2+E27-F27,IF(D27=1,13-E27,10+D27)),0) -> 0 | O27: =OFFSET(Очки!$A$2,I27,G27+OFFSET(Очки!$A$18,0,$C$47-1)-1) -> 3 | P27: =IF(I27<H27,OFFSET(Очки!$A$20,2+H27-I27,IF(G27=1,13-H27,10+G27)),0) -> 1.5 | S27: =SUM(J27:R27) -> 9.5
A28: =RANK(S28,S$6:OFFSET(S$6,0,0,COUNTA(B$6:B$46))) -> 22 | B28: Дядя Саша | C28: - | D28: 1 | E28: 3 | F28: 8 | G28: 3 | H28: 9 | I28: 8 | K28: =OFFSET(Очки!$A$2,F28,D28+OFFSET(Очки!$A$18,0,$C$47-1)-1) -> 11.5 | L28: =IF(F28<E28,OFFSET(Очки!$A$20,2+E28-F28,IF(D28=1,13-E28,10+D28)),0) -> 0 | O28: =OFFSET(Очки!$A$2,I28,G28+OFFSET(Очки!$A$18,0,$C$47-1)-1) -> 0.5 | P28: =IF(I28<H28,OFFSET(Очки!$A$20,2+H28-I28,IF(G28=1,13-H28,10+G28)),0) -> 0.5 | R28: -3 | S28: =SUM(J28:R28) -> 9.5
A29: =RANK(S29,S$6:OFFSET(S$6,0,0,COUNTA(B$6:B$46))) -> 24 | B29: Майбродский Миша | C29: 10 | D29: 2 | E29: 8 | F29: 12 | G29: 2 | H29: 12 | I29: 12 | K29: =OFFSET(Очки!$A$2,F29,D29+OFFSET(Очки!$A$18,0,$C$47-1)-1) -> 4 | L29: =IF(F29<E29,OFFSET(Очки!$A$20,2+E29-F29,IF(D29=1,13-E29,10+D29)),0) -> 0 | O29: =OFFSET(Очки!$A$2,I29,G29+OFFSET(Очки!$A$18,0,$C$47-1)-1) -> 4 | P29: =IF(I29<H29,OFFSET(Очки!$A$20,2+H29-I29,IF(G29=1,13-H29,10+G29)),0) -> 0 | S29: =SUM(J29:R29) -> 8
A30: =RANK(S30,S$6:OFFSET(S$6,0,0,COUNTA(B$6:B$46))) -> 24 | B30: Михайлик Михайло | C30: 20 | D30: 2 | E30: 11 | F30: 11 | G30: 1 | H30: 6 | I30: 6 | K30: =OFFSET(Очки!$A$2,F30,D30+OFFSET(Очки!$A$18,0,$C$47-1)-1) -> 4.5 | L30: =IF(F30<E30,OFFSET(Очки!$A$20,2+E30-F30,IF(D30=1,13-E30,10+D30)),0) -> 0 | N30: =-3-3-3 -> -9 | O30: =OFFSET(Очки!$A$2,I30,G30+OFFSET(Очки!$A$18,0,$C$47-1)-1) -> 12.5 | P30: =IF(I30<H30,OFFSET(Очки!$A$20,2+H30-I30,IF(G30=1,13-H30,10+G30)),0) -> 0 | S30: =SUM(J30:R30) -> 8
A31: =RANK(S31,S$6:OFFSET(S$6,0,0,COUNTA(B$6:B$46))) -> 26 | B31: Мифтахутдинов Рафаєль | C31: - | D31: 3 | E31: 3 | F31: 6 | G31: 3 | H31: 1 | I31: 1 | K31: =OFFSET(Очки!$A$2,F31,D31+OFFSET(Очки!$A$18,0,$C$47-1)-1) -> 1.5 | L31: =IF(F31<E31,OFFSET(Очки!$A$20,2+E31-F31,IF(D31=1,13-E31,10+D31)),0) -> 0 | O31: =OFFSET(Очки!$A$2,I31,G31+OFFSET(Очки!$A$18,0,$C$47-1)-1) -> 6 | P31: =IF(I31<H31,OFFSET(Очки!$A$20,2+H31-I31,IF(G31=1,13-H31,10+G31)),0) -> 0 | S31: =SUM(J31:R31) -> 7.5
A32: =RANK(S32,S$6:OFFSET(S$6,0,0,COUNTA(B$6:B$46))) -> 27 | B32: Верна Николай | C32: 5 | D32: 3 | E32: 1 | F32: 4 | G32: 3 | H32: 3 | I32: 3 | K32: =OFFSET(Очки!$A$2,F32,D32+OFFSET(Очки!$A$18,0,$C$47-1)-1) -> 3 | L32: =IF(F32<E32,OFFSET(Очки!$A$20,2+E32-F32,IF(D32=1,13-E32,10+D32)),0) -> 0 | O32: =OFFSET(Очки!$A$2,I32,G32+OFFSET(Очки!$A$18,0,$C$47-1)-1) -> 4 | P32: =IF(I32<H32,OFFSET(Очки!$A$20,2+H32-I32,IF(G32=1,13-H32,10+G32)),0) -> 0 | S32: =SUM(J32:R32) -> 7
A33: =RANK(S33,S$6:OFFSET(S$6,0,0,COUNTA(B$6:B$46))) -> 28 | B33: Фурсов Никита | C33: - | D33: 3 | E33: 9 | F33: 9 | G33: 2 | H33: 7 | I33: 7 | K33: =OFFSET(Очки!$A$2,F33,D33+OFFSET(Очки!$A$18,0,$C$47-1)-1) -> 0 | L33: =IF(F33<E33,OFFSET(Очки!$A$20,2+E33-F33,IF(D33=1,13-E33,10+D33)),0) -> 0 | O33: =OFFSET(Очки!$A$2,I33,G33+OFFSET(Очки!$A$18,0,$C$47-1)-1) -> 6.5 | P33: =IF(I33<H33,OFFSET(Очки!$A$20,2+H33-I33,IF(G33=1,13-H33,10+G33)),0) -> 0 | S33: =SUM(J33:R33) -> 6.5
A34: =RANK(S34,S$6:OFFSET(S$6,0,0,COUNTA(B$6:B$46))) -> 29 | B34: Конюхов Роман | C34: 10 | D34: 3 | E34: 7 | F34: 7 | G34: 3 | H34: 8 | I34: 5 | K34: =OFFSET(Очки!$A$2,F34,D34+OFFSET(Очки!$A$18,0,$C$47-1)-1) -> 1 | L34: =IF(F34<E34,OFFSET(Очки!$A$20,2+E34-F34,IF(D34=1,13-E34,10+D34)),0) -> 0 | O34: =OFFSET(Очки!$A$2,I34,G34+OFFSET(Очки!$A$18,0,$C$47-1)-1) -> 2 | P34: =IF(I34<H34,OFFSET(Очки!$A$20,2+H34-I34,IF(G34=1,13-H34,10+G34)),0) -> 1.5 | S34: =SUM(J34:R34) -> 4.5
A35: =RANK(S35,S$6:OFFSET(S$6,0,0,COUNTA(B$6:B$46))) -> 30 | B35: Доценко Анатолий | C35: 12.5 | D35: 2 | E35: 6 | F35: 4 | G35: 2 | H35: 10 | I35: 10 | K35: =OFFSET(Очки!$A$2,F35,D35+OFFSET(Очки!$A$18,0,$C$47-1)-1) -> 8.5 | L35: =IF(F35<E35,OFFSET(Очки!$A$20,2+E35-F35,IF(D35=1,13-E35,10+D35)),0) -> 1.4 | N35: -8 | O35: =OFFSET(Очки!$A$2,I35,G35+OFFSET(Очки!$A$18,0,$C$47-1)-1) -> 5 | P35: =IF(I35<H35,OFFSET(Очки!$A$20,2+H35-I35,IF(G35=1,13-H35,10+G35)),0) -> 0 | R35: -3 | S35: =SUM(J35:R35) -> 3.9
A36: =RANK(S36,S$6:OFFSET(S$6,0,0,COUNTA(B$6:B$46))) -> 31 | B36: Якусик Дима | C36: 7.5 | D36: 1 | E36: 4 | F36: 12 | G36: 3 | H36: 4 | I36: 11 | K36: =OFFSET(Очки!$A$2,F36,D36+OFFSET(Очки!$A$18,0,$C$47-1)-1) -> 9.5 | L36: =IF(F36<E36,OFFSET(Очки!$A$20,2+E36-F36,IF(D36=1,13-E36,10+D36)),0) -> 0 | N36: -6 | O36: =OFFSET(Очки!$A$2,I36,G36+OFFSET(Очки!$A$18,0,$C$47-1)-1) -> 0 | P36: =IF(I36<H36,OFFSET(Очки!$A$20,2+H36-I36,IF(G36=1,13-H36,10+G36)),0) -> 0 | S36: =SUM(J36:R36) -> 3.5
A37: =RANK(S37,S$6:OFFSET(S$6,0,0,COUNTA(B$6:B$46))) -> 32 | B37: Корчагин Андрей | C37: 20 | D37: 3 | E37: 11 | F37: 8 | G37: 3 | H37: 12 | I37: 12 | K37: =OFFSET(Очки!$A$2,F37,D37+OFFSET(Очки!$A$18,0,$C$47-1)-1) -> 0.5 | L37: =IF(F37<E37,OFFSET(Очки!$A$20,2+E37-F37,IF(D37=1,13-E37,10+D37)),0) -> 1.5 | O37: =OFFSET(Очки!$A$2,I37,G37+OFFSET(Очки!$A$18,0,$C$47-1)-1) -> 0 | P37: =IF(I37<H37,OFFSET(Очки!$A$20,2+H37-I37,IF(G37=1,13-H37,10+G37)),0) -> 0 | S37: =SUM(J37:R37) -> 2
A38: =RANK(S38,S$6:OFFSET(S$6,0,0,COUNTA(B$6:B$46))) -> 33 | B38: Купцов Павел | C38: - | D38: 3 | E38: 5 | F38: 12 | G38: 3 | H38: 2 | I38: 6 | K38: =OFFSET(Очки!$A$2,F38,D38+OFFSET(Очки!$A$18,0,$C$47-1)-1) -> 0 | L38: =IF(F38<E38,OFFSET(Очки!$A$20,2+E38-F38,IF(D38=1,13-E38,10+D38)),0) -> 0 | O38: =OFFSET(Очки!$A$2,I38,G38+OFFSET(Очки!$A$18,0,$C$47-1)-1) -> 1.5 | P38: =IF(I38<H38,OFFSET(Очки!$A$20,2+H38-I38,IF(G38=1,13-H38,10+G38)),0) -> 0 | S38: =SUM(J38:R38) -> 1.5
A39: =RANK(S39,S$6:OFFSET(S$6,0,0,COUNTA(B$6:B$46))) -> 33 | B39: Литвиненко Дмитрий | C39: 5 | D39: 2 | E39: 4 | F39: 8 | G39: 3 | H39: 11 | I39: 10 | K39: =OFFSET(Очки!$A$2,F39,D39+OFFSET(Очки!$A$18,0,$C$47-1)-1) -> 6 | L39: =IF(F39<E39,OFFSET(Очки!$A$20,2+E39-F39,IF(D39=1,13-E39,10+D39)),0) -> 0 | O39: =OFFSET(Очки!$A$2,I39,G39+OFFSET(Очки!$A$18,0,$C$47-1)-1) -> 0 | P39: =IF(I39<H39,OFFSET(Очки!$A$20,2+H39-I39,IF(G39=1,13-H39,10+G39)),0) -> 0.5 | R39: -5 | S39: =SUM(J39:R39) -> 1.5
A40: =RANK(S40,S$6:OFFSET(S$6,0,0,COUNTA(B$6:B$46))) -> 35 | B40: Семенов Константин | C40: 15 | D40: 3 | E40: 10 | F40: 10 | G40: 3 | H40: 5 | I40: 7 | K40: =OFFSET(Очки!$A$2,F40,D40+OFFSET(Очки!$A$18,0,$C$47-1)-1) -> 0 | L40: =IF(F40<E40,OFFSET(Очки!$A$20,2+E40-F40,IF(D40=1,13-E40,10+D40)),0) -> 0 | O40: =OFFSET(Очки!$A$2,I40,G40+OFFSET(Очки!$A$18,0,$C$47-1)-1) -> 1 | P40: =IF(I40<H40,OFFSET(Очки!$A$20,2+H40-I40,IF(G40=1,13-H40,10+G40)),0) -> 0 | S40: =SUM(J40:R40) -> 1
A41: =RANK(S41,S$6:OFFSET(S$6,0,0,COUNTA(B$6:B$46))) -> 36 | B41: Жарюк Сергей | C41: 15 | D41: 3 | E41: 6 | F41: 11 | G41: 3 | H41: 6 | I41: 9 | K41: =OFFSET(Очки!$A$2,F41,D41+OFFSET(Очки!$A$18,0,$C$47-1)-1) -> 0 | L41: =IF(F41<E41,OFFSET(Очки!$A$20,2+E41-F41,IF(D41=1,13-E41,10+D41)),0) -> 0 | O41: =OFFSET(Очки!$A$2,I41,G41+OFFSET(Очки!$A$18,0,$C$47-1)-1) -> 0 | P41: =IF(I41<H41,OFFSET(Очки!$A$20,2+H41-I41,IF(G41=1,13-H41,10+G41)),0) -> 0 | S41: =SUM(J41:R41) -> 0
A42: =RANK(S42,S$6:OFFSET(S$6,0,0,COUNTA(B$6:B$46))) -> 36 | K42: =OFFSET(Очки!$A$2,F42,D42+OFFSET(Очки!$A$18,0,$C$47-1)-1) -> 0 | L42: =IF(F42<E42,OFFSET(Очки!$A$20,2+E42-F42,IF(D42=1,13-E42,10+D42)),0) -> 0 | O42: =OFFSET(Очки!$A$2,I42,G42+OFFSET(Очки!$A$18,0,$C$47-1)-1) -> 0 | P42: =IF(I42<H42,OFFSET(Очки!$A$20,2+H42-I42,IF(G42=1,13-H42,10+G42)),0) -> 0 | S42: =SUM(J42:R42) -> 0
A43: =RANK(S43,S$6:OFFSET(S$6,0,0,COUNTA(B$6:B$46))) -> 36 | K43: =OFFSET(Очки!$A$2,F43,D43+OFFSET(Очки!$A$18,0,$C$47-1)-1) -> 0 | L43: =IF(F43<E43,OFFSET(Очки!$A$20,2+E43-F43,IF(D43=1,13-E43,10+D43)),0) -> 0 | O43: =OFFSET(Очки!$A$2,I43,G43+OFFSET(Очки!$A$18,0,$C$47-1)-1) -> 0 | P43: =IF(I43<H43,OFFSET(Очки!$A$20,2+H43-I43,IF(G43=1,13-H43,10+G43)),0) -> 0 | S43: =SUM(J43:R43) -> 0
A44: =RANK(S44,S$6:OFFSET(S$6,0,0,COUNTA(B$6:B$46))) -> 36 | K44: =OFFSET(Очки!$A$2,F44,D44+OFFSET(Очки!$A$18,0,$C$47-1)-1) -> 0 | L44: =IF(F44<E44,OFFSET(Очки!$A$20,2+E44-F44,IF(D44=1,13-E44,10+D44)),0) -> 0 | O44: =OFFSET(Очки!$A$2,I44,G44+OFFSET(Очки!$A$18,0,$C$47-1)-1) -> 0 | P44: =IF(I44<H44,OFFSET(Очки!$A$20,2+H44-I44,IF(G44=1,13-H44,10+G44)),0) -> 0 | S44: =SUM(J44:R44) -> 0
A45: =RANK(S45,S$6:OFFSET(S$6,0,0,COUNTA(B$6:B$46))) -> 36 | K45: =OFFSET(Очки!$A$2,F45,D45+OFFSET(Очки!$A$18,0,$C$47-1)-1) -> 0 | L45: =IF(F45<E45,OFFSET(Очки!$A$20,2+E45-F45,IF(D45=1,13-E45,10+D45)),0) -> 0 | O45: =OFFSET(Очки!$A$2,I45,G45+OFFSET(Очки!$A$18,0,$C$47-1)-1) -> 0 | P45: =IF(I45<H45,OFFSET(Очки!$A$20,2+H45-I45,IF(G45=1,13-H45,10+G45)),0) -> 0 | S45: =SUM(J45:R45) -> 0
A46: =RANK(S46,S$6:OFFSET(S$6,0,0,COUNTA(B$6:B$46))) -> 36 | K46: =OFFSET(Очки!$A$2,F46,D46+OFFSET(Очки!$A$18,0,$C$47-1)-1) -> 0 | L46: =IF(F46<E46,OFFSET(Очки!$A$20,2+E46-F46,IF(D46=1,13-E46,10+D46)),0) -> 0 | O46: =OFFSET(Очки!$A$2,I46,G46+OFFSET(Очки!$A$18,0,$C$47-1)-1) -> 0 | P46: =IF(I46<H46,OFFSET(Очки!$A$20,2+H46-I46,IF(G46=1,13-H46,10+G46)),0) -> 0 | S46: =SUM(J46:R46) -> 0
B47: Всего участников | C47: =COUNTA(B6:B46) -> 36

Sheet 15.08
A1: Лайт Лига 15.08.2017 (конфигурация 1)
A3: Место | B3: Участник | D3: 1 | G3: 2 | J3: Очки | S3: Сумма
C4: Довес | D4: группа | E4: Старт | F4: Финиш | G4: группа | H4: Старт | I4: Финиш | J4: Квала | K4: 1 | O4: 2
K5: очки | L5: обгоны | M5: время | N5: штрафы | O5: очки | P5: обгоны | Q5: время | R5: штрафы
A6: =RANK(S6,S$6:OFFSET(S$6,0,0,COUNTA(B$6:B$38))) -> 1 | B6: Коруз Вадим | C6: 5 | D6: 1 | E6: 11 | F6: 2 | G6: 1 | H6: 7 | I6: 3 | J6: 2.5 | K6: =OFFSET(Очки!$A$2,F6,D6+OFFSET(Очки!$A$18,0,$C$39-1)-1) -> 16 | L6: =IF(F6<E6,OFFSET(Очки!$A$20,2+E6-F6,IF(D6=1,13-E6,10+D6)),0) -> 9.4 | M6: 0.5 | O6: =OFFSET(Очки!$A$2,I6,G6+OFFSET(Очки!$A$18,0,$C$39-1)-1) -> 15 | P6: =IF(I6<H6,OFFSET(Очки!$A$20,2+H6-I6,IF(G6=1,13-H6,10+G6)),0) -> 3.8 | Q6: 2 | R6: =-4-2 -> -6 | S6: =SUM(J6:R6) -> 43.2
A7: =RANK(S7,S$6:OFFSET(S$6,0,0,COUNTA(B$6:B$38))) -> 2 | B7: Сомок Денис | C7: 7.5 | D7: 1 | E7: 8 | F7: 6 | G7: 1 | H7: 11 | I7: 4 | J7: 1 | K7: =OFFSET(Очки!$A$2,F7,D7+OFFSET(Очки!$A$18,0,$C$39-1)-1) -> 12.5 | L7: =IF(F7<E7,OFFSET(Очки!$A$20,2+E7-F7,IF(D7=1,13-E7,10+D7)),0) -> 2.3 | M7: 2.5 | O7: =OFFSET(Очки!$A$2,I7,G7+OFFSET(Очки!$A$18,0,$C$39-1)-1) -> 14 | P7: =IF(I7<H7,OFFSET(Очки!$A$20,2+H7-I7,IF(G7=1,13-H7,10+G7)),0) -> 7.9 | Q7: 1 | S7: =SUM(J7:R7) -> 41.2
A8: =RANK(S8,S$6:OFFSET(S$6,0,0,COUNTA(B$6:B$38))) -> 3 | B8: Кошарук Женя | C8: 5 | D8: 1 | E8: 9 | F8: 4 | G8: 1 | H8: 6 | I8: 2 | J8: 1.5 | K8: =OFFSET(Очки!$A$2,F8,D8+OFFSET(Очки!$A$18,0,$C$39-1)-1) -> 14 | L8: =IF(F8<E8,OFFSET(Очки!$A$20,2+E8-F8,IF(D8=1,13-E8,10+D8)),0) -> 5.4 | N8: -4 | O8: =OFFSET(Очки!$A$2,I8,G8+OFFSET(Очки!$A$18,0,$C$39-1)-1) -> 16 | P8: =IF(I8<H8,OFFSET(Очки!$A$20,2+H8-I8,IF(G8=1,13-H8,10+G8)),0) -> 3.4 | Q8: 2.5 | S8: =SUM(J8:R8) -> 38.8
A9: =RANK(S9,S$6:OFFSET(S$6,0,0,COUNTA(B$6:B$38))) -> 4 | B9: Пархомчук Саша | C9: - | D9: 1 | E9: 5 | F9: 1 | G9: 1 | H9: 3 | I9: 5 | K9: =OFFSET(Очки!$A$2,F9,D9+OFFSET(Очки!$A$18,0,$C$39-1)-1) -> 17 | L9: =IF(F9<E9,OFFSET(Очки!$A$20,2+E9-F9,IF(D9=1,13-E9,10+D9)),0) -> 3.1 | O9: =OFFSET(Очки!$A$2,I9,G9+OFFSET(Очки!$A$18,0,$C$39-1)-1) -> 13 | P9: =IF(I9<H9,OFFSET(Очки!$A$20,2+H9-I9,IF(G9=1,13-H9,10+G9)),0) -> 0 | S9: =SUM(J9:R9) -> 33.1
A10: =RANK(S10,S$6:OFFSET(S$6,0,0,COUNTA(B$6:B$38))) -> 5 | B10: Дарий Игорь | C10: - | D10: 2 | E10: 1 | F10: 2 | G10: 1 | H10: 1 | I10: 1 | K10: =OFFSET(Очки!$A$2,F10,D10+OFFSET(Очки!$A$18,0,$C$39-1)-1) -> 10.5 | L10: =IF(F10<E10,OFFSET(Очки!$A$20,2+E10-F10,IF(D10=1,13-E10,10+D10)),0) -> 0 | O10: =OFFSET(Очки!$A$2,I10,G10+OFFSET(Очки!$A$18,0,$C$39-1)-1) -> 17 | P10: =IF(I10<H10,OFFSET(Очки!$A$20,2+H10-I10,IF(G10=1,13-H10,10+G10)),0) -> 0 | S10: =SUM(J10:R10) -> 27.5
A11: =RANK(S11,S$6:OFFSET(S$6,0,0,COUNTA(B$6:B$38))) -> 6 | B11: Ищук Сергей | C11: 15 | D11: 3 | E11: 5 | F11: 1 | G11: 1 | H11: 10 | I11: 7 | K11: =OFFSET(Очки!$A$2,F11,D11+OFFSET(Очки!$A$18,0,$C$39-1)-1) -> 6 | L11: =IF(F11<E11,OFFSET(Очки!$A$20,2+E11-F11,IF(D11=1,13-E11,10+D11)),0) -> 2 | M11: 2 | O11: =OFFSET(Очки!$A$2,I11,G11+OFFSET(Очки!$A$18,0,$C$39-1)-1) -> 12 | P11: =IF(I11<H11,OFFSET(Очки!$A$20,2+H11-I11,IF(G11=1,13-H11,10+G11)),0) -> 3.6 | Q11: 1.5 | S11: =SUM(J11:R11) -> 27.1
A12: =RANK(S12,S$6:OFFSET(S$6,0,0,COUNTA(B$6:B$38))) -> 7 | B12: Черевко Владимир | C12: 17.5 | D12: 2 | E12: 6 | F12: 1 | G12: 1 | H12: 8 | I12: 10 | K12: =OFFSET(Очки!$A$2,F12,D12+OFFSET(Очки!$A$18,0,$C$39-1)-1) -> 11.5 | L12: =IF(F12<E12,OFFSET(Очки!$A$20,2+E12-F12,IF(D12=1,13-E12,10+D12)),0) -> 3.5 | M12: 1 | O12: =OFFSET(Очки!$A$2,I12,G12+OFFSET(Очки!$A$18,0,$C$39-1)-1) -> 10.5 | P12: =IF(I12<H12,OFFSET(Очки!$A$20,2+H12-I12,IF(G12=1,13-H12,10+G12)),0) -> 0 | S12: =SUM(J12:R12) -> 26.5
A13: =RANK(S13,S$6:OFFSET(S$6,0,0,COUNTA(B$6:B$38))) -> 8 | B13: Гончаров Роман | C13: 20 | D13: 1 | E13: 10 | F13: 7 | G13: 2 | H13: 1 | I13: 8 | J13: 2 | K13: =OFFSET(Очки!$A$2,F13,D13+OFFSET(Очки!$A$18,0,$C$39-1)-1) -> 12 | L13: =IF(F13<E13,OFFSET(Очки!$A$20,2+E13-F13,IF(D13=1,13-E13,10+D13)),0) -> 3.6 | O13: =OFFSET(Очки!$A$2,I13,G13+OFFSET(Очки!$A$18,0,$C$39-1)-1) -> 6 | P13: =IF(I13<H13,OFFSET(Очки!$A$20,2+H13-I13,IF(G13=1,13-H13,10+G13)),0) -> 0 | S13: =SUM(J13:R13) -> 23.6
A14: =RANK(S14,S$6:OFFSET(S$6,0,0,COUNTA(B$6:B$38))) -> 9 | B14: Остренко Стас | C14: - | D14: 1 | E14: 7 | F14: 10 | G14: 1 | H14: 9 | I14: 9 | J14: 0.5 | K14: =OFFSET(Очки!$A$2,F14,D14+OFFSET(Очки!$A$18,0,$C$39-1)-1) -> 10.5 | L14: =IF(F14<E14,OFFSET(Очки!$A$20,2+E14-F14,IF(D14=1,13-E14,10+D14)),0) -> 0 | M14: 1.5 | O14: =OFFSET(Очки!$A$2,I14,G14+OFFSET(Очки!$A$18,0,$C$39-1)-1) -> 11 | P14: =IF(I14<H14,OFFSET(Очки!$A$20,2+H14-I14,IF(G14=1,13-H14,10+G14)),0) -> 0 | S14: =SUM(J14:R14) -> 23.5
A15: =RANK(S15,S$6:OFFSET(S$6,0,0,COUNTA(B$6:B$38))) -> 10 | B15: Доценко Анатолий | C15: 12.5 | D15: 2 | E15: 7 | F15: 3 | G15: 1 | H15: 4 | I15: 7 | K15: =OFFSET(Очки!$A$2,F15,D15+OFFSET(Очки!$A$18,0,$C$39-1)-1) -> 9.5 | L15: =IF(F15<E15,OFFSET(Очки!$A$20,2+E15-F15,IF(D15=1,13-E15,10+D15)),0) -> 2.8 | O15: =OFFSET(Очки!$A$2,I15,G15+OFFSET(Очки!$A$18,0,$C$39-1)-1) -> 12 | P15: =IF(I15<H15,OFFSET(Очки!$A$20,2+H15-I15,IF(G15=1,13-H15,10+G15)),0) -> 0 | R15: -2 | S15: =SUM(J15:R15) -> 22.3
A16: =RANK(S16,S$6:OFFSET(S$6,0,0,COUNTA(B$6:B$38))) -> 11 | B16: Жарюк Сергей | C16: 15 | D16: 3 | E16: 11 | F16: 3 | G16: 1 | H16: 2 | I16: 5 | K16: =OFFSET(Очки!$A$2,F16,D16+OFFSET(Очки!$A$18,0,$C$39-1)-1) -> 4 | L16: =IF(F16<E16,OFFSET(Очки!$A$20,2+E16-F16,IF(D16=1,13-E16,10+D16)),0) -> 4 | O16: =OFFSET(Очки!$A$2,I16,G16+OFFSET(Очки!$A$18,0,$C$39-1)-1) -> 13 | P16: =IF(I16<H16,OFFSET(Очки!$A$20,2+H16-I16,IF(G16=1,13-H16,10+G16)),0) -> 0 | S16: =SUM(J16:R16) -> 21
A17: =RANK(S17,S$6:OFFSET(S$6,0,0,COUNTA(B$6:B$38))) -> 12 | B17: Шиленко Александр | C17: - | D17: 1 | E17: 3 | F17: 2 | G17: 2 | H17: 11 | I17: 10 | K17: =OFFSET(Очки!$A$2,F17,D17+OFFSET(Очки!$A$18,0,$C$39-1)-1) -> 16 | L17: =IF(F17<E17,OFFSET(Очки!$A$20,2+E17-F17,IF(D17=1,13-E17,10+D17)),0) -> 0.7 | N17: -2 | O17: =OFFSET(Очки!$A$2,I17,G17+OFFSET(Очки!$A$18,0,$C$39-1)-1) -> 5 | P17: =IF(I17<H17,OFFSET(Очки!$A$20,2+H17-I17,IF(G17=1,13-H17,10+G17)),0) -> 0.7 | Q17: 0.5 | S17: =SUM(J17:R17) -> 20.9
A18: =RANK(S18,S$6:OFFSET(S$6,0,0,COUNTA(B$6:B$38))) -> 13 | B18: Фурсов Никита | C18: - | D18: 1 | E18: 2 | F18: 7 | G18: 2 | H18: 2 | I18: 1 | K18: =OFFSET(Очки!$A$2,F18,D18+OFFSET(Очки!$A$18,0,$C$39-1)-1) -> 12 | L18: =IF(F18<E18,OFFSET(Очки!$A$20,2+E18-F18,IF(D18=1,13-E18,10+D18)),0) -> 0 | N18: -4 | O18: =OFFSET(Очки!$A$2,I18,G18+OFFSET(Очки!$A$18,0,$C$39-1)-1) -> 11.5 | P18: =IF(I18<H18,OFFSET(Очки!$A$20,2+H18-I18,IF(G18=1,13-H18,10+G18)),0) -> 0.7 | S18: =SUM(J18:R18) -> 20.2
A19: =RANK(S19,S$6:OFFSET(S$6,0,0,COUNTA(B$6:B$38))) -> 14 | B19: Бурлаченко Дмитрий | C19: 2.5 | D19: 1 | E19: 6 | F19: 5 | G19: 2 | H19: 7 | I19: 9 | K19: =OFFSET(Очки!$A$2,F19,D19+OFFSET(Очки!$A$18,0,$C$39-1)-1) -> 13 | L19: =IF(F19<E19,OFFSET(Очки!$A$20,2+E19-F19,IF(D19=1,13-E19,10+D19)),0) -> 1 | O19: =OFFSET(Очки!$A$2,I19,G19+OFFSET(Очки!$A$18,0,$C$39-1)-1) -> 5.5 | P19: =IF(I19<H19,OFFSET(Очки!$A$20,2+H19-I19,IF(G19=1,13-H19,10+G19)),0) -> 0 | S19: =SUM(J19:R19) -> 19.5
A20: =RANK(S20,S$6:OFFSET(S$6,0,0,COUNTA(B$6:B$38))) -> 15 | B20: Якусик Саша | C20: 10 | D20: 3 | E20: 7 | F20: 4 | G20: 2 | H20: 8 | I20: 2 | K20: =OFFSET(Очки!$A$2,F20,D20+OFFSET(Очки!$A$18,0,$C$39-1)-1) -> 3 | L20: =IF(F20<E20,OFFSET(Очки!$A$20,2+E20-F20,IF(D20=1,13-E20,10+D20)),0) -> 1.5 | O20: =OFFSET(Очки!$A$2,I20,G20+OFFSET(Очки!$A$18,0,$C$39-1)-1) -> 10.5 | P20: =IF(I20<H20,OFFSET(Очки!$A$20,2+H20-I20,IF(G20=1,13-H20,10+G20)),0) -> 4.2 | S20: =SUM(J20:R20) -> 19.2
A21: =RANK(S21,S$6:OFFSET(S$6,0,0,COUNTA(B$6:B$38))) -> 16 | B21: Билецкий Женя | C21: - | D21: 1 | E21: 4 | F21: 11 | G21: 2 | H21: 3 | I21: 4 | K21: =OFFSET(Очки!$A$2,F21,D21+OFFSET(Очки!$A$18,0,$C$39-1)-1) -> 10 | L21: =IF(F21<E21,OFFSET(Очки!$A$20,2+E21-F21,IF(D21=1,13-E21,10+D21)),0) -> 0 | O21: =OFFSET(Очки!$A$2,I21,G21+OFFSET(Очки!$A$18,0,$C$39-1)-1) -> 8.5 | P21: =IF(I21<H21,OFFSET(Очки!$A$20,2+H21-I21,IF(G21=1,13-H21,10+G21)),0) -> 0 | S21: =SUM(J21:R21) -> 18.5
A22: =RANK(S22,S$6:OFFSET(S$6,0,0,COUNTA(B$6:B$38))) -> 17 | B22: Чухаленко Дима | C22: - | D22: 1 | E22: 1 | F22: 9 | G22: 3 | H22: 3 | I22: 1 | K22: =OFFSET(Очки!$A$2,F22,D22+OFFSET(Очки!$A$18,0,$C$39-1)-1) -> 11 | L22: =IF(F22<E22,OFFSET(Очки!$A$20,2+E22-F22,IF(D22=1,13-E22,10+D22)),0) -> 0 | O22: =OFFSET(Очки!$A$2,I22,G22+OFFSET(Очки!$A$18,0,$C$39-1)-1) -> 6 | P22: =IF(I22<H22,OFFSET(Очки!$A$20,2+H22-I22,IF(G22=1,13-H22,10+G22)),0) -> 1 | S22: =SUM(J22:R22) -> 18
A23: =RANK(S23,S$6:OFFSET(S$6,0,0,COUNTA(B$6:B$38))) -> 18 | B23: Дядя Саша | C23: - | D23: 2 | E23: 8 | F23: 6 | G23: 2 | H23: 9 | I23: 7 | K23: =OFFSET(Очки!$A$2,F23,D23+OFFSET(Очки!$A$18,0,$C$39-1)-1) -> 7 | L23: =IF(F23<E23,OFFSET(Очки!$A$20,2+E23-F23,IF(D23=1,13-E23,10+D23)),0) -> 1.4 | O23: =OFFSET(Очки!$A$2,I23,G23+OFFSET(Очки!$A$18,0,$C$39-1)-1) -> 6.5 | P23: =IF(I23<H23,OFFSET(Очки!$A$20,2+H23-I23,IF(G23=1,13-H23,10+G23)),0) -> 1.4 | S23: =SUM(J23:R23) -> 16.3
A24: =RANK(S24,S$6:OFFSET(S$6,0,0,COUNTA(B$6:B$38))) -> 18 | B24: Строна Илона | C24: - | D24: 2 | E24: 11 | F24: 8 | G24: 2 | H24: 6 | I24: 5 | K24: =OFFSET(Очки!$A$2,F24,D24+OFFSET(Очки!$A$18,0,$C$39-1)-1) -> 6 | L24: =IF(F24<E24,OFFSET(Очки!$A$20,2+E24-F24,IF(D24=1,13-E24,10+D24)),0) -> 2.1 | O24: =OFFSET(Очки!$A$2,I24,G24+OFFSET(Очки!$A$18,0,$C$39-1)-1) -> 7.5 | P24: =IF(I24<H24,OFFSET(Очки!$A$20,2+H24-I24,IF(G24=1,13-H24,10+G24)),0) -> 0.7 | S24: =SUM(J24:R24) -> 16.3
A25: =RANK(S25,S$6:OFFSET(S$6,0,0,COUNTA(B$6:B$38))) -> 20 | B25: Мирош Богдан | C25: - | D25: 2 | E25: 5 | F25: 4 | G25: 2 | H25: 5 | I25: 5 | K25: =OFFSET(Очки!$A$2,F25,D25+OFFSET(Очки!$A$18,0,$C$39-1)-1) -> 8.5 | L25: =IF(F25<E25,OFFSET(Очки!$A$20,2+E25-F25,IF(D25=1,13-E25,10+D25)),0) -> 0.7 | O25: =OFFSET(Очки!$A$2,I25,G25+OFFSET(Очки!$A$18,0,$C$39-1)-1) -> 7.5 | P25: =IF(I25<H25,OFFSET(Очки!$A$20,2+H25-I25,IF(G25=1,13-H25,10+G25)),0) -> 0 | R25: -4 | S25: =SUM(J25:R25) -> 12.7
A26: =RANK(S26,S$6:OFFSET(S$6,0,0,COUNTA(B$6:B$38))) -> 21 | B26: Трихлеб Александр | C26: - | D26: 2 | E26: 9 | F26: 9 | G26: 1 | H26: 5 | I26: 11 | K26: =OFFSET(Очки!$A$2,F26,D26+OFFSET(Очки!$A$18,0,$C$39-1)-1) -> 5.5 | L26: =IF(F26<E26,OFFSET(Очки!$A$20,2+E26-F26,IF(D26=1,13-E26,10+D26)),0) -> 0 | O26: =OFFSET(Очки!$A$2,I26,G26+OFFSET(Очки!$A$18,0,$C$39-1)-1) -> 10 | P26: =IF(I26<H26,OFFSET(Очки!$A$20,2+H26-I26,IF(G26=1,13-H26,10+G26)),0) -> 0 | R26: -4 | S26: =SUM(J26:R26) -> 11.5
A27: =RANK(S27,S$6:OFFSET(S$6,0,0,COUNTA(B$6:B$38))) -> 22 | B27: Лесников Саша | C27: 5 | D27: 3 | E27: 10 | F27: 5 | G27: 2 | H27: 4 | I27: 3 | K27: =OFFSET(Очки!$A$2,F27,D27+OFFSET(Очки!$A$18,0,$C$39-1)-1) -> 2 | L27: =IF(F27<E27,OFFSET(Очки!$A$20,2+E27-F27,IF(D27=1,13-E27,10+D27)),0) -> 2.5 | N27: -4 | O27: =OFFSET(Очки!$A$2,I27,G27+OFFSET(Очки!$A$18,0,$C$39-1)-1) -> 9.5 | P27: =IF(I27<H27,OFFSET(Очки!$A$20,2+H27-I27,IF(G27=1,13-H27,10+G27)),0) -> 0.7 | S27: =SUM(J27:R27) -> 10.7
A28: =RANK(S28,S$6:OFFSET(S$6,0,0,COUNTA(B$6:B$38))) -> 23 | B28: Резников Иван | C28: - | D28: 2 | E28: 3 | F28: 5 | G28: 3 | H28: 11 | I28: 7 | K28: =OFFSET(Очки!$A$2,F28,D28+OFFSET(Очки!$A$18,0,$C$39-1)-1) -> 7.5 | L28: =IF(F28<E28,OFFSET(Очки!$A$20,2+E28-F28,IF(D28=1,13-E28,10+D28)),0) -> 0 | O28: =OFFSET(Очки!$A$2,I28,G28+OFFSET(Очки!$A$18,0,$C$39-1)-1) -> 1 | P28: =IF(I28<H28,OFFSET(Очки!$A$20,2+H28-I28,IF(G28=1,13-H28,10+G28)),0) -> 2 | S28: =SUM(J28:R28) -> 10.5
A29: =RANK(S29,S$6:OFFSET(S$6,0,0,COUNTA(B$6:B$38))) -> 24 | B29: Мифтахутдинов Рафаєль | C29: - | D29: 2 | E29: 2 | F29: 11 | G29: 3 | H29: 2 | I29: 2 | K29: =OFFSET(Очки!$A$2,F29,D29+OFFSET(Очки!$A$18,0,$C$39-1)-1) -> 4.5 | L29: =IF(F29<E29,OFFSET(Очки!$A$20,2+E29-F29,IF(D29=1,13-E29,10+D29)),0) -> 0 | O29: =OFFSET(Очки!$A$2,I29,G29+OFFSET(Очки!$A$18,0,$C$39-1)-1) -> 5 | P29: =IF(I29<H29,OFFSET(Очки!$A$20,2+H29-I29,IF(G29=1,13-H29,10+G29)),0) -> 0 | S29: =SUM(J29:R29) -> 9.5
A30: =RANK(S30,S$6:OFFSET(S$6,0,0,COUNTA(B$6:B$38))) -> 25 | B30: Майбродский Миша | C30: 10 | D30: 2 | E30: 4 | F30: 7 | G30: 3 | H30: 8 | I30: 5 | K30: =OFFSET(Очки!$A$2,F30,D30+OFFSET(Очки!$A$18,0,$C$39-1)-1) -> 6.5 | L30: =IF(F30<E30,OFFSET(Очки!$A$20,2+E30-F30,IF(D30=1,13-E30,10+D30)),0) -> 0 | O30: =OFFSET(Очки!$A$2,I30,G30+OFFSET(Очки!$A$18,0,$C$39-1)-1) -> 2 | P30: =IF(I30<H30,OFFSET(Очки!$A$20,2+H30-I30,IF(G30=1,13-H30,10+G30)),0) -> 1.5 | R30: -1 | S30: =SUM(J30:R30) -> 9
A31: =RANK(S31,S$6:OFFSET(S$6,0,0,COUNTA(B$6:B$38))) -> 26 | B31: Конюхов Роман | C31: 10 | D31: 3 | E31: 1 | F31: 2 | G31: 3 | H31: 9 | I31: 3 | K31: =OFFSET(Очки!$A$2,F31,D31+OFFSET(Очки!$A$18,0,$C$39-1)-1) -> 5 | L31: =IF(F31<E31,OFFSET(Очки!$A$20,2+E31-F31,IF(D31=1,13-E31,10+D31)),0) -> 0 | O31: =OFFSET(Очки!$A$2,I31,G31+OFFSET(Очки!$A$18,0,$C$39-1)-1) -> 4 | P31: =IF(I31<H31,OFFSET(Очки!$A$20,2+H31-I31,IF(G31=1,13-H31,10+G31)),0) -> 3 | R31: -4 | S31: =SUM(J31:R31) -> 8
A32: =RANK(S32,S$6:OFFSET(S$6,0,0,COUNTA(B$6:B$38))) -> 27 | B32: Загирський Антон | C32: - | D32: 2 | E32: 10 | F32: 9 | G32: 2 | H32: 10 | I32: 11 | K32: =OFFSET(Очки!$A$2,F32,D32+OFFSET(Очки!$A$18,0,$C$39-1)-1) -> 5.5 | L32: =IF(F32<E32,OFFSET(Очки!$A$20,2+E32-F32,IF(D32=1,13-E32,10+D32)),0) -> 0.7 | N32: -4 | O32: =OFFSET(Очки!$A$2,I32,G32+OFFSET(Очки!$A$18,0,$C$39-1)-1) -> 4.5 | P32: =IF(I32<H32,OFFSET(Очки!$A$20,2+H32-I32,IF(G32=1,13-H32,10+G32)),0) -> 0 | S32: =SUM(J32:R32) -> 6.7
A33: =RANK(S33,S$6:OFFSET(S$6,0,0,COUNTA(B$6:B$38))) -> 28 | B33: Голоцван Дмитрий | C33: 5 | D33: 3 | E33: 2 | F33: 10 | G33: 3 | H33: 5 | I33: 2 | K33: =OFFSET(Очки!$A$2,F33,D33+OFFSET(Очки!$A$18,0,$C$39-1)-1) -> 0 | L33: =IF(F33<E33,OFFSET(Очки!$A$20,2+E33-F33,IF(D33=1,13-E33,10+D33)),0) -> 0 | O33: =OFFSET(Очки!$A$2,I33,G33+OFFSET(Очки!$A$18,0,$C$39-1)-1) -> 5 | P33: =IF(I33<H33,OFFSET(Очки!$A$20,2+H33-I33,IF(G33=1,13-H33,10+G33)),0) -> 1.5 | R33: -4 | S33: =SUM(J33:R33) -> 2.5
A34: =RANK(S34,S$6:OFFSET(S$6,0,0,COUNTA(B$6:B$38))) -> 29 | B34: Потапов Сергей | C34: 12.5 | D34: 3 | E34: 9 | F34: 7 | G34: 3 | H34: 7 | I34: 9 | K34: =OFFSET(Очки!$A$2,F34,D34+OFFSET(Очки!$A$18,0,$C$39-1)-1) -> 1 | L34: =IF(F34<E34,OFFSET(Очки!$A$20,2+E34-F34,IF(D34=1,13-E34,10+D34)),0) -> 1 | O34: =OFFSET(Очки!$A$2,I34,G34+OFFSET(Очки!$A$18,0,$C$39-1)-1) -> 0 | P34: =IF(I34<H34,OFFSET(Очки!$A$20,2+H34-I34,IF(G34=1,13-H34,10+G34)),0) -> 0 | S34: =SUM(J34:R34) -> 2
A35: =RANK(S35,S$6:OFFSET(S$6,0,0,COUNTA(B$6:B$38))) -> 30 | B35: Телегин Алексей | C35: - | D35: 3 | E35: 3 | F35: 9 | G35: 3 | H35: 4 | I35: 6 | K35: =OFFSET(Очки!$A$2,F35,D35+OFFSET(Очки!$A$18,0,$C$39-1)-1) -> 0 | L35: =IF(F35<E35,OFFSET(Очки!$A$20,2+E35-F35,IF(D35=1,13-E35,10+D35)),0) -> 0 | O35: =OFFSET(Очки!$A$2,I35,G35+OFFSET(Очки!$A$18,0,$C$39-1)-1) -> 1.5 | P35: =IF(I35<H35,OFFSET(Очки!$A$20,2+H35-I35,IF(G35=1,13-H35,10+G35)),0) -> 0 | S35: =SUM(J35:R35) -> 1.5
A36: =RANK(S36,S$6:OFFSET(S$6,0,0,COUNTA(B$6:B$38))) -> 31 | B36: Белокриницкий Руслан | C36: - | D36: 3 | E36: 6 | F36: 7 | G36: 3 | H36: 10 | I36: 11 | K36: =OFFSET(Очки!$A$2,F36,D36+OFFSET(Очки!$A$18,0,$C$39-1)-1) -> 1 | L36: =IF(F36<E36,OFFSET(Очки!$A$20,2+E36-F36,IF(D36=1,13-E36,10+D36)),0) -> 0 | O36: =OFFSET(Очки!$A$2,I36,G36+OFFSET(Очки!$A$18,0,$C$39-1)-1) -> 0 | P36: =IF(I36<H36,OFFSET(Очки!$A$20,2+H36-I36,IF(G36=1,13-H36,10+G36)),0) -> 0 | S36: =SUM(J36:R36) -> 1
A37: =RANK(S37,S$6:OFFSET(S$6,0,0,COUNTA(B$6:B$38))) -> 32 | B37: Чернега Николай | C37: 5 | D37: 3 | E37: 4 | F37: 11 | G37: 3 | H37: 1 | I37: 8 | K37: =OFFSET(Очки!$A$2,F37,D37+OFFSET(Очки!$A$18,0,$C$39-1)-1) -> 0 | L37: =IF(F37<E37,OFFSET(Очки!$A$20,2+E37-F37,IF(D37=1,13-E37,10+D37)),0) -> 0 | O37: =OFFSET(Очки!$A$2,I37,G37+OFFSET(Очки!$A$18,0,$C$39-1)-1) -> 0.5 | P37: =IF(I37<H37,OFFSET(Очки!$A$20,2+H37-I37,IF(G37=1,13-H37,10+G37)),0) -> 0 | S37: =SUM(J37:R37) -> 0.5
A38: =RANK(S38,S$6:OFFSET(S$6,0,0,COUNTA(B$6:B$38))) -> 33 | B38: Шилов Василий | C38: - | D38: 3 | E38: 8 | F38: 6 | G38: 3 | H38: 6 | I38: 9 | K38: =OFFSET(Очки!$A$2,F38,D38+OFFSET(Очки!$A$18,0,$C$39-1)-1) -> 1.5 | L38: =IF(F38<E38,OFFSET(Очки!$A$20,2+E38-F38,IF(D38=1,13-E38,10+D38)),0) -> 1 | O38: =OFFSET(Очки!$A$2,I38,G38+OFFSET(Очки!$A$18,0,$C$39-1)-1) -> 0 | P38: =IF(I38<H38,OFFSET(Очки!$A$20,2+H38-I38,IF(G38=1,13-H38,10+G38)),0) -> 0 | R38: -4 | S38: =SUM(J38:R38) -> -1.5
B39: Всего участников | C39: =COUNTA(B6:B38) -> 33

Sheet 22.08
A1: Лайт Лига 22.08.2017 (конфигурация 5)
A3: Место | B3: Участник | D3: 1 | G3: 2 | J3: Очки | S3: Сумма
C4: Довес | D4: группа | E4: Старт | F4: Финиш | G4: группа | H4: Старт | I4: Финиш | J4: Квала | K4: 1 | O4: 2
K5: очки | L5: обгоны | M5: время | N5: штрафы | O5: очки | P5: обгоны | Q5: время | R5: штрафы
A6: =RANK(S6,S$6:OFFSET(S$6,0,0,COUNTA(B$6:B$30))) -> 1 | B6: Наум | C6: 5 | D6: 1 | E6: 11 | F6: 3 | G6: 1 | H6: 11 | I6: 3 | J6: 2.5 | K6: =OFFSET(Очки!$A$2,F6,D6+OFFSET(Очки!$A$18,0,$C$31-1)-1) -> 13 | L6: =IF(F6<E6,OFFSET(Очки!$A$20,2+E6-F6,IF(D6=1,13-E6,10+D6)),0) -> 8.7 | M6: 2.5 | O6: =OFFSET(Очки!$A$2,I6,G6+OFFSET(Очки!$A$18,0,$C$31-1)-1) -> 13 | P6: =IF(I6<H6,OFFSET(Очки!$A$20,2+H6-I6,IF(G6=1,13-H6,10+G6)),0) -> 8.7 | Q6: 0.5 | S6: =SUM(J6:R6) -> 48.9
A7: =RANK(S7,S$6:OFFSET(S$6,0,0,COUNTA(B$6:B$30))) -> 2 | B7: Кочмарев Юра | C7: - | D7: 1 | E7: 10 | F7: 4 | G7: 1 | H7: 6 | I7: 1 | J7: 2 | K7: =OFFSET(Очки!$A$2,F7,D7+OFFSET(Очки!$A$18,0,$C$31-1)-1) -> 12 | L7: =IF(F7<E7,OFFSET(Очки!$A$20,2+E7-F7,IF(D7=1,13-E7,10+D7)),0) -> 6.6 | O7: =OFFSET(Очки!$A$2,I7,G7+OFFSET(Очки!$A$18,0,$C$31-1)-1) -> 15 | P7: =IF(I7<H7,OFFSET(Очки!$A$20,2+H7-I7,IF(G7=1,13-H7,10+G7)),0) -> 4.1 | Q7: 1.5 | S7: =SUM(J7:R7) -> 41.2
A8: 1 | B8: Якусик Дима | C8: 7.5 | D8: 1 | E8: 7 | F8: 1 | G8: 1 | H8: 9 | I8: 7 | J8: 0.5 | K8: =OFFSET(Очки!$A$2,F8,D8+OFFSET(Очки!$A$18,0,$C$31-1)-1) -> 15 | L8: =IF(F8<E8,OFFSET(Очки!$A$20,2+E8-F8,IF(D8=1,13-E8,10+D8)),0) -> 5.2 | M8: 1.5 | O8: =OFFSET(Очки!$A$2,I8,G8+OFFSET(Очки!$A$18,0,$C$31-1)-1) -> 10 | P8: =IF(I8<H8,OFFSET(Очки!$A$20,2+H8-I8,IF(G8=1,13-H8,10+G8)),0) -> 2.4 | S8: =SUM(J8:R8) -> 34.6
A9: =RANK(S9,S$6:OFFSET(S$6,0,0,COUNTA(B$6:B$30))) -> 4 | B9: Петренко Влад | C9: 12.5 | D9: 1 | E9: 8 | F9: 6 | G9: 1 | H9: 10 | I9: 5 | J9: 1 | K9: =OFFSET(Очки!$A$2,F9,D9+OFFSET(Очки!$A$18,0,$C$31-1)-1) -> 10.5 | L9: =IF(F9<E9,OFFSET(Очки!$A$20,2+E9-F9,IF(D9=1,13-E9,10+D9)),0) -> 2.3 | M9: 2 | O9: =OFFSET(Очки!$A$2,I9,G9+OFFSET(Очки!$A$18,0,$C$31-1)-1) -> 11 | P9: =IF(I9<H9,OFFSET(Очки!$A$20,2+H9-I9,IF(G9=1,13-H9,10+G9)),0) -> 5.7 | Q9: 1 | R9: -3 | S9: =SUM(J9:R9) -> 30.5
A10: 2 | B10: Коруз Вадим | C10: 5 | D10: 1 | E10: 6 | F10: 2 | G10: 1 | H10: 8 | I10: 10 | K10: =OFFSET(Очки!$A$2,F10,D10+OFFSET(Очки!$A$18,0,$C$31-1)-1) -> 14 | L10: =IF(F10<E10,OFFSET(Очки!$A$20,2+E10-F10,IF(D10=1,13-E10,10+D10)),0) -> 3.4 | M10: 1 | N10: -3 | O10: =OFFSET(Очки!$A$2,I10,G10+OFFSET(Очки!$A$18,0,$C$31-1)-1) -> 8.5 | P10: =IF(I10<H10,OFFSET(Очки!$A$20,2+H10-I10,IF(G10=1,13-H10,10+G10)),0) -> 0 | Q10: 2.5 | R10: -1 | S10: =SUM(J10:R10) -> 25.4
A11: 3 | B11: Чухаленко Дима | C11: - | D11: 1 | E11: 9 | F11: 5 | G11: 1 | H11: 7 | I11: 2 | J11: 1.5 | K11: =OFFSET(Очки!$A$2,F11,D11+OFFSET(Очки!$A$18,0,$C$31-1)-1) -> 11 | L11: =IF(F11<E11,OFFSET(Очки!$A$20,2+E11-F11,IF(D11=1,13-E11,10+D11)),0) -> 4.5 | M11: 0.5 | N11: -3 | O11: =OFFSET(Очки!$A$2,I11,G11+OFFSET(Очки!$A$18,0,$C$31-1)-1) -> 14 | P11: =IF(I11<H11,OFFSET(Очки!$A$20,2+H11-I11,IF(G11=1,13-H11,10+G11)),0) -> 4.5 | Q11: 2 | R11: =-5-3-2 -> -10 | S11: =SUM(J11:R11) -> 25
A12: 5 | B12: Фурсов Никита | C12: - | D12: 1 | E12: 2 | F12: 7 | G12: 1 | H12: 2 | I12: 4 | K12: =OFFSET(Очки!$A$2,F12,D12+OFFSET(Очки!$A$18,0,$C$31-1)-1) -> 10 | L12: =IF(F12<E12,OFFSET(Очки!$A$20,2+E12-F12,IF(D12=1,13-E12,10+D12)),0) -> 0 | O12: =OFFSET(Очки!$A$2,I12,G12+OFFSET(Очки!$A$18,0,$C$31-1)-1) -> 12 | P12: =IF(I12<H12,OFFSET(Очки!$A$20,2+H12-I12,IF(G12=1,13-H12,10+G12)),0) -> 0 | S12: =SUM(J12:R12) -> 22
A13: 6 | B13: Якусик Саша | C13: - | D13: 1 | E13: 4 | F13: 8 | G13: 1 | H13: 4 | I13: 5 | K13: =OFFSET(Очки!$A$2,F13,D13+OFFSET(Очки!$A$18,0,$C$31-1)-1) -> 9.5 | L13: =IF(F13<E13,OFFSET(Очки!$A$20,2+E13-F13,IF(D13=1,13-E13,10+D13)),0) -> 0 | O13: =OFFSET(Очки!$A$2,I13,G13+OFFSET(Очки!$A$18,0,$C$31-1)-1) -> 11 | P13: =IF(I13<H13,OFFSET(Очки!$A$20,2+H13-I13,IF(G13=1,13-H13,10+G13)),0) -> 0 | S13: =SUM(J13:R13) -> 20.5
A14: 7 | B14: Муляр Андрей | C14: - | D14: 1 | E14: 5 | F14: 10 | G14: 1 | H14: 5 | I14: 9 | K14: =OFFSET(Очки!$A$2,F14,D14+OFFSET(Очки!$A$18,0,$C$31-1)-1) -> 8.5 | L14: =IF(F14<E14,OFFSET(Очки!$A$20,2+E14-F14,IF(D14=1,13-E14,10+D14)),0) -> 0 | O14: =OFFSET(Очки!$A$2,I14,G14+OFFSET(Очки!$A$18,0,$C$31-1)-1) -> 9 | P14: =IF(I14<H14,OFFSET(Очки!$A$20,2+H14-I14,IF(G14=1,13-H14,10+G14)),0) -> 0 | S14: =SUM(J14:R14) -> 17.5
A15: 8 | B15: Сорокин Сергей | C15: - | D15: 1 | E15: 3 | F15: 9 | G15: 1 | H15: 3 | I15: 8 | K15: =OFFSET(Очки!$A$2,F15,D15+OFFSET(Очки!$A$18,0,$C$31-1)-1) -> 9 | L15: =IF(F15<E15,OFFSET(Очки!$A$20,2+E15-F15,IF(D15=1,13-E15,10+D15)),0) -> 0 | O15: =OFFSET(Очки!$A$2,I15,G15+OFFSET(Очки!$A$18,0,$C$31-1)-1) -> 9.5 | P15: =IF(I15<H15,OFFSET(Очки!$A$20,2+H15-I15,IF(G15=1,13-H15,10+G15)),0) -> 0 | R15: -1 | S15: =SUM(J15:R15) -> 17.5
A16: 9 | B16: Черевко Владимир | C16: 17.5 | D16: 1 | E16: 1 | F16: 11 | G16: 1 | H16: 1 | I16: 11 | K16: =OFFSET(Очки!$A$2,F16,D16+OFFSET(Очки!$A$18,0,$C$31-1)-1) -> 8 | L16: =IF(F16<E16,OFFSET(Очки!$A$20,2+E16-F16,IF(D16=1,13-E16,10+D16)),0) -> 0 | O16: =OFFSET(Очки!$A$2,I16,G16+OFFSET(Очки!$A$18,0,$C$31-1)-1) -> 8 | P16: =IF(I16<H16,OFFSET(Очки!$A$20,2+H16-I16,IF(G16=1,13-H16,10+G16)),0) -> 0 | S16: =SUM(J16:R16) -> 16
A17: =RANK(S17,S$6:OFFSET(S$6,0,0,COUNTA(B$6:B$30))) -> #N/A | C17: - | K17: =OFFSET(Очки!$A$2,F17,D17+OFFSET(Очки!$A$18,0,$C$31-1)-1) -> 0 | L17: =IF(F17<E17,OFFSET(Очки!$A$20,2+E17-F17,IF(D17=1,13-E17,10+D17)),0) -> 0 | O17: =OFFSET(Очки!$A$2,I17,G17+OFFSET(Очки!$A$18,0,$C$31-1)-1) -> 0 | P17: =IF(I17<H17,OFFSET(Очки!$A$20,2+H17-I17,IF(G17=1,13-H17,10+G17)),0) -> 0 | S17: =SUM(J17:R17) -> 0
A18: =RANK(S18,S$6:OFFSET(S$6,0,0,COUNTA(B$6:B$30))) -> #N/A | C18: - | K18: =OFFSET(Очки!$A$2,F18,D18+OFFSET(Очки!$A$18,0,$C$31-1)-1) -> 0 | L18: =IF(F18<E18,OFFSET(Очки!$A$20,2+E18-F18,IF(D18=1,13-E18,10+D18)),0) -> 0 | O18: =OFFSET(Очки!$A$2,I18,G18+OFFSET(Очки!$A$18,0,$C$31-1)-1) -> 0 | P18: =IF(I18<H18,OFFSET(Очки!$A$20,2+H18-I18,IF(G18=1,13-H18,10+G18)),0) -> 0 | S18: =SUM(J18:R18) -> 0
A19: =RANK(S19,S$6:OFFSET(S$6,0,0,COUNTA(B$6:B$30))) -> #N/A | C19: - | K19: =OFFSET(Очки!$A$2,F19,D19+OFFSET(Очки!$A$18,0,$C$31-1)-1) -> 0 | L19: =IF(F19<E19,OFFSET(Очки!$A$20,2+E19-F19,IF(D19=1,13-E19,10+D19)),0) -> 0 | O19: =OFFSET(Очки!$A$2,I19,G19+OFFSET(Очки!$A$18,0,$C$31-1)-1) -> 0 | P19: =IF(I19<H19,OFFSET(Очки!$A$20,2+H19-I19,IF(G19=1,13-H19,10+G19)),0) -> 0 | S19: =SUM(J19:R19) -> 0
A20: =RANK(S20,S$6:OFFSET(S$6,0,0,COUNTA(B$6:B$30))) -> #N/A | C20: - | K20: =OFFSET(Очки!$A$2,F20,D20+OFFSET(Очки!$A$18,0,$C$31-1)-1) -> 0 | L20: =IF(F20<E20,OFFSET(Очки!$A$20,2+E20-F20,IF(D20=1,13-E20,10+D20)),0) -> 0 | O20: =OFFSET(Очки!$A$2,I20,G20+OFFSET(Очки!$A$18,0,$C$31-1)-1) -> 0 | P20: =IF(I20<H20,OFFSET(Очки!$A$20,2+H20-I20,IF(G20=1,13-H20,10+G20)),0) -> 0 | S20: =SUM(J20:R20) -> 0
A21: =RANK(S21,S$6:OFFSET(S$6,0,0,COUNTA(B$6:B$30))) -> #N/A | C21: - | K21: =OFFSET(Очки!$A$2,F21,D21+OFFSET(Очки!$A$18,0,$C$31-1)-1) -> 0 | L21: =IF(F21<E21,OFFSET(Очки!$A$20,2+E21-F21,IF(D21=1,13-E21,10+D21)),0) -> 0 | O21: =OFFSET(Очки!$A$2,I21,G21+OFFSET(Очки!$A$18,0,$C$31-1)-1) -> 0 | P21: =IF(I21<H21,OFFSET(Очки!$A$20,2+H21-I21,IF(G21=1,13-H21,10+G21)),0) -> 0 | S21: =SUM(J21:R21) -> 0
