Workbook

Sheet Рейтинг
A1: Таблица рейтинга Лиги Чемпионов, 2-й сезон 2017
A3: Мес-то | B3: Пилот | C3: 1 | D3: 42907 | E3: 2 | G3: 3 | I3: 4 | K3: 5 | M3: 6 | O3: 7 | Q3: 8 | S3: 9 | U3: 10
C4: Очки | D4: Рейтинг | E4: Очки | F4: Рейтинг | G4: Очки | H4: Рейтинг | I4: Очки | J4: Рейтинг | K4: Очки | L4: Рейтинг | M4: Очки | N4: Рейтинг | O4: Очки | P4: Рейтинг | Q4: Очки | R4: Рейтинг | S4: Очки | T4: Рейтинг | U4: Очки | V4: Рейтинг
A5: =A4+1 -> 1 | B5: Манило Денис/Manilo Denis | C5: 45.2 | D5: =C5/3*10 -> 150.66667 | E5: 47.6 | F5: =IF(E5>0,IF(D5>0,(D5*C$3+E5*10/3)/E$3,E5*10/3*(1-0.1*C$3)),IF(D5>10,D5*0.9,D5)) -> 154.66667 | G5: 44.7 | H5: =IF(G5>0,IF(F5>0,(F5*E$3+G5*10/3)/G$3,G5*10/3*(1-0.1*E$3)),IF(F5>10,F5*0.9,F5)) -> 152.77778 | I5: 46.2 | J5: =IF(I5>0,IF(H5>0,(H5*G$3+I5*10/3)/I$3,I5*10/3*(1-0.1*G$3)),IF(H5>10,H5*0.9,H5)) -> 153.08333 | K5: 44.1 | L5: =IF(K5>0,IF(J5>0,(J5*I$3+K5*10/3)/K$3,K5*10/3*(1-0.1*I$3)),IF(J5>10,J5*0.9,J5)) -> 151.86667 | M5: 51.6 | N5: =IF(M5>0,IF(L5>0,(L5*K$3+M5*10/3)/M$3,M5*10/3*(1-0.1*K$3)),IF(L5>10,L5*0.9,L5)) -> 155.22222 | P5: =IF(O5>0,IF(N5>0,(N5*M$3+O5*10/3)/O$3,O5*10/3*(1-0.1*M$3)),IF(N5>10,N5*0.9,N5)) -> 139.7 | R5: =IF(Q5>0,IF(P5>0,(P5*O$3+Q5*10/3)/Q$3,Q5*10/3*(1-0.1*O$3)),IF(P5>10,P5*0.9,P5)) -> 125.73 | T5: =IF(S5>0,IF(R5>0,(R5*Q$3+S5*10/3)/S$3,S5*10/3*(1-0.1*Q$3)),IF(R5>10,R5*0.9,R5)) -> 113.157 | V5: =IF(U5>0,IF(T5>0,(T5*S$3+U5*10/3)/U$3,U5*10/3*(1-0.1*S$3)),IF(T5>10,T5*0.9,T5)) -> 101.8413
A6: 2 | B6: Пикулин Паша/Pikulin Pavlo | C6: 45.7 | D6: =C6/3*10 -> 152.33333 | E6: 46.3 | F6: =IF(E6>0,IF(D6>0,(D6*C$3+E6*10/3)/E$3,E6*10/3*(1-0.1*C$3)),IF(D6>10,D6*0.9,D6)) -> 153.33333 | G6: 39.2 | H6: =IF(G6>0,IF(F6>0,(F6*E$3+G6*10/3)/G$3,G6*10/3*(1-0.1*E$3)),IF(F6>10,F6*0.9,F6)) -> 145.77778 | I6: 52.4 | J6: =IF(I6>0,IF(H6>0,(H6*G$3+I6*10/3)/I$3,I6*10/3*(1-0.1*G$3)),IF(H6>10,H6*0.9,H6)) -> 153 | K6: 44.5 | L6: =IF(K6>0,IF(J6>0,(J6*I$3+K6*10/3)/K$3,K6*10/3*(1-0.1*I$3)),IF(J6>10,J6*0.9,J6)) -> 152.06667 | M6: 50.1 | N6: =IF(M6>0,IF(L6>0,(L6*K$3+M6*10/3)/M$3,M6*10/3*(1-0.1*K$3)),IF(L6>10,L6*0.9,L6)) -> 154.55556 | P6: =IF(O6>0,IF(N6>0,(N6*M$3+O6*10/3)/O$3,O6*10/3*(1-0.1*M$3)),IF(N6>10,N6*0.9,N6)) -> 139.1 | R6: =IF(Q6>0,IF(P6>0,(P6*O$3+Q6*10/3)/Q$3,Q6*10/3*(1-0.1*O$3)),IF(P6>10,P6*0.9,P6)) -> 125.19 | T6: =IF(S6>0,IF(R6>0,(R6*Q$3+S6*10/3)/S$3,S6*10/3*(1-0.1*Q$3)),IF(R6>10,R6*0.9,R6)) -> 112.671 | V6: =IF(U6>0,IF(T6>0,(T6*S$3+U6*10/3)/U$3,U6*10/3*(1-0.1*S$3)),IF(T6>10,T6*0.9,T6)) -> 101.4039
A7: 3 | B7: Наум/Vintoniv Ivan | C7: 34.3 | D7: =C7/3*10 -> 114.33333 | E7: 59.4 | F7: =IF(E7>0,IF(D7>0,(D7*C$3+E7*10/3)/E$3,E7*10/3*(1-0.1*C$3)),IF(D7>10,D7*0.9,D7)) -> 156.16667 | G7: 48.2 | H7: =IF(G7>0,IF(F7>0,(F7*E$3+G7*10/3)/G$3,G7*10/3*(1-0.1*E$3)),IF(F7>10,F7*0.9,F7)) -> 157.66667 | J7: =IF(I7>0,IF(H7>0,(H7*G$3+I7*10/3)/I$3,I7*10/3*(1-0.1*G$3)),IF(H7>10,H7*0.9,H7)) -> 141.9 | K7: 30.2 | L7: =IF(K7>0,IF(J7>0,(J7*I$3+K7*10/3)/K$3,K7*10/3*(1-0.1*I$3)),IF(J7>10,J7*0.9,J7)) -> 133.65333 | M7: 65.7 | N7: =IF(M7>0,IF(L7>0,(L7*K$3+M7*10/3)/M$3,M7*10/3*(1-0.1*K$3)),IF(L7>10,L7*0.9,L7)) -> 147.87778 | P7: =IF(O7>0,IF(N7>0,(N7*M$3+O7*10/3)/O$3,O7*10/3*(1-0.1*M$3)),IF(N7>10,N7*0.9,N7)) -> 133.09 | R7: =IF(Q7>0,IF(P7>0,(P7*O$3+Q7*10/3)/Q$3,Q7*10/3*(1-0.1*O$3)),IF(P7>10,P7*0.9,P7)) -> 119.781 | T7: =IF(S7>0,IF(R7>0,(R7*Q$3+S7*10/3)/S$3,S7*10/3*(1-0.1*Q$3)),IF(R7>10,R7*0.9,R7)) -> 107.8029 | V7: =IF(U7>0,IF(T7>0,(T7*S$3+U7*10/3)/U$3,U7*10/3*(1-0.1*S$3)),IF(T7>10,T7*0.9,T7)) -> 97.02261
A8: 4 | B8: Хавило Дима/Khavilo Dima | C8: 51.5 | D8: =C8/3*10 -> 171.66667 | E8: 30.5 | F8: =IF(E8>0,IF(D8>0,(D8*C$3+E8*10/3)/E$3,E8*10/3*(1-0.1*C$3)),IF(D8>10,D8*0.9,D8)) -> 136.66667 | G8: 42 | H8: =IF(G8>0,IF(F8>0,(F8*E$3+G8*10/3)/G$3,G8*10/3*(1-0.1*E$3)),IF(F8>10,F8*0.9,F8)) -> 137.77778 | I8: 44.4 | J8: =IF(I8>0,IF(H8>0,(H8*G$3+I8*10/3)/I$3,I8*10/3*(1-0.1*G$3)),IF(H8>10,H8*0.9,H8)) -> 140.33333 | K8: 46.9 | L8: =IF(K8>0,IF(J8>0,(J8*I$3+K8*10/3)/K$3,K8*10/3*(1-0.1*I$3)),IF(J8>10,J8*0.9,J8)) -> 143.53333 | M8: 30.5 | N8: =IF(M8>0,IF(L8>0,(L8*K$3+M8*10/3)/M$3,M8*10/3*(1-0.1*K$3)),IF(L8>10,L8*0.9,L8)) -> 136.55556 | P8: =IF(O8>0,IF(N8>0,(N8*M$3+O8*10/3)/O$3,O8*10/3*(1-0.1*M$3)),IF(N8>10,N8*0.9,N8)) -> 122.9 | R8: =IF(Q8>0,IF(P8>0,(P8*O$3+Q8*10/3)/Q$3,Q8*10/3*(1-0.1*O$3)),IF(P8>10,P8*0.9,P8)) -> 110.61 | T8: =IF(S8>0,IF(R8>0,(R8*Q$3+S8*10/3)/S$3,S8*10/3*(1-0.1*Q$3)),IF(R8>10,R8*0.9,R8)) -> 99.549 | V8: =IF(U8>0,IF(T8>0,(T8*S$3+U8*10/3)/U$3,U8*10/3*(1-0.1*S$3)),IF(T8>10,T8*0.9,T8)) -> 89.5941
A9: 5 | B9: Ткаченко Антон/Tkachenko Anton | C9: 32.6 | D9: =C9/3*10 -> 108.66667 | E9: 37.2 | F9: =IF(E9>0,IF(D9>0,(D9*C$3+E9*10/3)/E$3,E9*10/3*(1-0.1*C$3)),IF(D9>10,D9*0.9,D9)) -> 116.33333 | G9: 38.3 | H9: =IF(G9>0,IF(F9>0,(F9*E$3+G9*10/3)/G$3,G9*10/3*(1-0.1*E$3)),IF(F9>10,F9*0.9,F9)) -> 120.11111 | I9: 36.3 | J9: =IF(I9>0,IF(H9>0,(H9*G$3+I9*10/3)/I$3,I9*10/3*(1-0.1*G$3)),IF(H9>10,H9*0.9,H9)) -> 120.33333 | K9: 39.9 | L9: =IF(K9>0,IF(J9>0,(J9*I$3+K9*10/3)/K$3,K9*10/3*(1-0.1*I$3)),IF(J9>10,J9*0.9,J9)) -> 122.86667 | M9: 33.6 | N9: =IF(M9>0,IF(L9>0,(L9*K$3+M9*10/3)/M$3,M9*10/3*(1-0.1*K$3)),IF(L9>10,L9*0.9,L9)) -> 121.05556 | P9: =IF(O9>0,IF(N9>0,(N9*M$3+O9*10/3)/O$3,O9*10/3*(1-0.1*M$3)),IF(N9>10,N9*0.9,N9)) -> 108.95 | R9: =IF(Q9>0,IF(P9>0,(P9*O$3+Q9*10/3)/Q$3,Q9*10/3*(1-0.1*O$3)),IF(P9>10,P9*0.9,P9)) -> 98.055 | T9: =IF(S9>0,IF(R9>0,(R9*Q$3+S9*10/3)/S$3,S9*10/3*(1-0.1*Q$3)),IF(R9>10,R9*0.9,R9)) -> 88.2495 | V9: =IF(U9>0,IF(T9>0,(T9*S$3+U9*10/3)/U$3,U9*10/3*(1-0.1*S$3)),IF(T9>10,T9*0.9,T9)) -> 79.42455
A10: =A9+1 -> 6 | B10: Тыщенко Михаил/Tishchenko Mikhail | C10: 27.7 | D10: =C10/3*10 -> 92.333333 | E10: 32.1 | F10: =IF(E10>0,IF(D10>0,(D10*C$3+E10*10/3)/E$3,E10*10/3*(1-0.1*C$3)),IF(D10>10,D10*0.9,D10)) -> 99.666667 | G10: 37.9 | H10: =IF(G10>0,IF(F10>0,(F10*E$3+G10*10/3)/G$3,G10*10/3*(1-0.1*E$3)),IF(F10>10,F10*0.9,F10)) -> 108.55556 | I10: 40 | J10: =IF(I10>0,IF(H10>0,(H10*G$3+I10*10/3)/I$3,I10*10/3*(1-0.1*G$3)),IF(H10>10,H10*0.9,H10)) -> 114.75 | K10: 45 | L10: =IF(K10>0,IF(J10>0,(J10*I$3+K10*10/3)/K$3,K10*10/3*(1-0.1*I$3)),IF(J10>10,J10*0.9,J10)) -> 121.8 | M10: 29.2 | N10: =IF(M10>0,IF(L10>0,(L10*K$3+M10*10/3)/M$3,M10*10/3*(1-0.1*K$3)),IF(L10>10,L10*0.9,L10)) -> 117.72222 | P10: =IF(O10>0,IF(N10>0,(N10*M$3+O10*10/3)/O$3,O10*10/3*(1-0.1*M$3)),IF(N10>10,N10*0.9,N10)) -> 105.95 | R10: =IF(Q10>0,IF(P10>0,(P10*O$3+Q10*10/3)/Q$3,Q10*10/3*(1-0.1*O$3)),IF(P10>10,P10*0.9,P10)) -> 95.355 | T10: =IF(S10>0,IF(R10>0,(R10*Q$3+S10*10/3)/S$3,S10*10/3*(1-0.1*Q$3)),IF(R10>10,R10*0.9,R10)) -> 85.8195 | V10: =IF(U10>0,IF(T10>0,(T10*S$3+U10*10/3)/U$3,U10*10/3*(1-0.1*S$3)),IF(T10>10,T10*0.9,T10)) -> 77.23755
A11: =A10+1 -> 7 | B11: Петушков Андрей/ Petushkov Andrey | E11: 36.5 | F11: =IF(E11>0,IF(D11>0,(D11*C$3+E11*10/3)/E$3,E11*10/3*(1-0.1*C$3)),IF(D11>10,D11*0.9,D11)) -> 109.5 | G11: 39 | H11: =IF(G11>0,IF(F11>0,(F11*E$3+G11*10/3)/G$3,G11*10/3*(1-0.1*E$3)),IF(F11>10,F11*0.9,F11)) -> 116.33333 | I11: 45.2 | J11: =IF(I11>0,IF(H11>0,(H11*G$3+I11*10/3)/I$3,I11*10/3*(1-0.1*G$3)),IF(H11>10,H11*0.9,H11)) -> 124.91667 | L11: =IF(K11>0,IF(J11>0,(J11*I$3+K11*10/3)/K$3,K11*10/3*(1-0.1*I$3)),IF(J11>10,J11*0.9,J11)) -> 112.425 | M11: 35.2 | N11: =IF(M11>0,IF(L11>0,(L11*K$3+M11*10/3)/M$3,M11*10/3*(1-0.1*K$3)),IF(L11>10,L11*0.9,L11)) -> 113.24306 | P11: =IF(O11>0,IF(N11>0,(N11*M$3+O11*10/3)/O$3,O11*10/3*(1-0.1*M$3)),IF(N11>10,N11*0.9,N11)) -> 101.91875 | R11: =IF(Q11>0,IF(P11>0,(P11*O$3+Q11*10/3)/Q$3,Q11*10/3*(1-0.1*O$3)),IF(P11>10,P11*0.9,P11)) -> 91.726875 | T11: =IF(S11>0,IF(R11>0,(R11*Q$3+S11*10/3)/S$3,S11*10/3*(1-0.1*Q$3)),IF(R11>10,R11*0.9,R11)) -> 82.554188 | V11: =IF(U11>0,IF(T11>0,(T11*S$3+U11*10/3)/U$3,U11*10/3*(1-0.1*S$3)),IF(T11>10,T11*0.9,T11)) -> 74.298769
A12: =A11+1 -> 8 | B12: Онащук Максим | C12: 42.1 | D12: =C12/3*10 -> 140.33333 | E12: 38.5 | F12: =IF(E12>0,IF(D12>0,(D12*C$3+E12*10/3)/E$3,E12*10/3*(1-0.1*C$3)),IF(D12>10,D12*0.9,D12)) -> 134.33333 | H12: =IF(G12>0,IF(F12>0,(F12*E$3+G12*10/3)/G$3,G12*10/3*(1-0.1*E$3)),IF(F12>10,F12*0.9,F12)) -> 120.9 | J12: =IF(I12>0,IF(H12>0,(H12*G$3+I12*10/3)/I$3,I12*10/3*(1-0.1*G$3)),IF(H12>10,H12*0.9,H12)) -> 108.81 | K12: 35.7 | L12: =IF(K12>0,IF(J12>0,(J12*I$3+K12*10/3)/K$3,K12*10/3*(1-0.1*I$3)),IF(J12>10,J12*0.9,J12)) -> 110.848 | M12: 31.3 | N12: =IF(M12>0,IF(L12>0,(L12*K$3+M12*10/3)/M$3,M12*10/3*(1-0.1*K$3)),IF(L12>10,L12*0.9,L12)) -> 109.76222 | P12: =IF(O12>0,IF(N12>0,(N12*M$3+O12*10/3)/O$3,O12*10/3*(1-0.1*M$3)),IF(N12>10,N12*0.9,N12)) -> 98.786 | R12: =IF(Q12>0,IF(P12>0,(P12*O$3+Q12*10/3)/Q$3,Q12*10/3*(1-0.1*O$3)),IF(P12>10,P12*0.9,P12)) -> 88.9074 | T12: =IF(S12>0,IF(R12>0,(R12*Q$3+S12*10/3)/S$3,S12*10/3*(1-0.1*Q$3)),IF(R12>10,R12*0.9,R12)) -> 80.01666 | V12: =IF(U12>0,IF(T12>0,(T12*S$3+U12*10/3)/U$3,U12*10/3*(1-0.1*S$3)),IF(T12>10,T12*0.9,T12)) -> 72.014994
A13: 9 | B13: Лабинский Николай/Labinskiy Nikolay | C13: 42 | D13: =C13/3*10 -> 140 | E13: 43.1 | F13: =IF(E13>0,IF(D13>0,(D13*C$3+E13*10/3)/E$3,E13*10/3*(1-0.1*C$3)),IF(D13>10,D13*0.9,D13)) -> 141.83333 | G13: 23.5 | H13: =IF(G13>0,IF(F13>0,(F13*E$3+G13*10/3)/G$3,G13*10/3*(1-0.1*E$3)),IF(F13>10,F13*0.9,F13)) -> 120.66667 | I13: 41.1 | J13: =IF(I13>0,IF(H13>0,(H13*G$3+I13*10/3)/I$3,I13*10/3*(1-0.1*G$3)),IF(H13>10,H13*0.9,H13)) -> 124.75 | L13: =IF(K13>0,IF(J13>0,(J13*I$3+K13*10/3)/K$3,K13*10/3*(1-0.1*I$3)),IF(J13>10,J13*0.9,J13)) -> 112.275 | N13: =IF(M13>0,IF(L13>0,(L13*K$3+M13*10/3)/M$3,M13*10/3*(1-0.1*K$3)),IF(L13>10,L13*0.9,L13)) -> 101.0475 | P13: =IF(O13>0,IF(N13>0,(N13*M$3+O13*10/3)/O$3,O13*10/3*(1-0.1*M$3)),IF(N13>10,N13*0.9,N13)) -> 90.94275 | R13: =IF(Q13>0,IF(P13>0,(P13*O$3+Q13*10/3)/Q$3,Q13*10/3*(1-0.1*O$3)),IF(P13>10,P13*0.9,P13)) -> 81.848475 | T13: =IF(S13>0,IF(R13>0,(R13*Q$3+S13*10/3)/S$3,S13*10/3*(1-0.1*Q$3)),IF(R13>10,R13*0.9,R13)) -> 73.663628 | V13: =IF(U13>0,IF(T13>0,(T13*S$3+U13*10/3)/U$3,U13*10/3*(1-0.1*S$3)),IF(T13>10,T13*0.9,T13)) -> 66.297265
A14: 10 | B14: Кравченко Женя | C14: 35 | D14: =C14/3*10 -> 116.66667 | F14: =IF(E14>0,IF(D14>0,(D14*C$3+E14*10/3)/E$3,E14*10/3*(1-0.1*C$3)),IF(D14>10,D14*0.9,D14)) -> 105 | G14: 24.2 | H14: =IF(G14>0,IF(F14>0,(F14*E$3+G14*10/3)/G$3,G14*10/3*(1-0.1*E$3)),IF(F14>10,F14*0.9,F14)) -> 96.888889 | I14: 25 | J14: =IF(I14>0,IF(H14>0,(H14*G$3+I14*10/3)/I$3,I14*10/3*(1-0.1*G$3)),IF(H14>10,H14*0.9,H14)) -> 93.5 | K14: 41.8 | L14: =IF(K14>0,IF(J14>0,(J14*I$3+K14*10/3)/K$3,K14*10/3*(1-0.1*I$3)),IF(J14>10,J14*0.9,J14)) -> 102.66667 | M14: 26.3 | N14: =IF(M14>0,IF(L14>0,(L14*K$3+M14*10/3)/M$3,M14*10/3*(1-0.1*K$3)),IF(L14>10,L14*0.9,L14)) -> 100.16667 | P14: =IF(O14>0,IF(N14>0,(N14*M$3+O14*10/3)/O$3,O14*10/3*(1-0.1*M$3)),IF(N14>10,N14*0.9,N14)) -> 90.15 | R14: =IF(Q14>0,IF(P14>0,(P14*O$3+Q14*10/3)/Q$3,Q14*10/3*(1-0.1*O$3)),IF(P14>10,P14*0.9,P14)) -> 81.135 | T14: =IF(S14>0,IF(R14>0,(R14*Q$3+S14*10/3)/S$3,S14*10/3*(1-0.1*Q$3)),IF(R14>10,R14*0.9,R14)) -> 73.0215 | V14: =IF(U14>0,IF(T14>0,(T14*S$3+U14*10/3)/U$3,U14*10/3*(1-0.1*S$3)),IF(T14>10,T14*0.9,T14)) -> 65.71935
A15: 11 | B15: Дио / Lysenskiy Denis | E15: 13 | F15: =IF(E15>0,IF(D15>0,(D15*C$3+E15*10/3)/E$3,E15*10/3*(1-0.1*C$3)),IF(D15>10,D15*0.9,D15)) -> 39 | G15: 45.7 | H15: =IF(G15>0,IF(F15>0,(F15*E$3+G15*10/3)/G$3,G15*10/3*(1-0.1*E$3)),IF(F15>10,F15*0.9,F15)) -> 76.777778 | J15: =IF(I15>0,IF(H15>0,(H15*G$3+I15*10/3)/I$3,I15*10/3*(1-0.1*G$3)),IF(H15>10,H15*0.9,H15)) -> 69.1 | K15: 45.6 | L15: =IF(K15>0,IF(J15>0,(J15*I$3+K15*10/3)/K$3,K15*10/3*(1-0.1*I$3)),IF(J15>10,J15*0.9,J15)) -> 85.68 | M15: 47.1 | N15: =IF(M15>0,IF(L15>0,(L15*K$3+M15*10/3)/M$3,M15*10/3*(1-0.1*K$3)),IF(L15>10,L15*0.9,L15)) -> 97.566667 | P15: =IF(O15>0,IF(N15>0,(N15*M$3+O15*10/3)/O$3,O15*10/3*(1-0.1*M$3)),IF(N15>10,N15*0.9,N15)) -> 87.81 | R15: =IF(Q15>0,IF(P15>0,(P15*O$3+Q15*10/3)/Q$3,Q15*10/3*(1-0.1*O$3)),IF(P15>10,P15*0.9,P15)) -> 79.029 | T15: =IF(S15>0,IF(R15>0,(R15*Q$3+S15*10/3)/S$3,S15*10/3*(1-0.1*Q$3)),IF(R15>10,R15*0.9,R15)) -> 71.1261 | V15: =IF(U15>0,IF(T15>0,(T15*S$3+U15*10/3)/U$3,U15*10/3*(1-0.1*S$3)),IF(T15>10,T15*0.9,T15)) -> 64.01349
A16: 12 | B16: Гаврилюк Олег | G16: 39.2 | H16: =IF(G16>0,IF(F16>0,(F16*E$3+G16*10/3)/G$3,G16*10/3*(1-0.1*E$3)),IF(F16>10,F16*0.9,F16)) -> 104.53333 | J16: =IF(I16>0,IF(H16>0,(H16*G$3+I16*10/3)/I$3,I16*10/3*(1-0.1*G$3)),IF(H16>10,H16*0.9,H16)) -> 94.08 | L16: =IF(K16>0,IF(J16>0,(J16*I$3+K16*10/3)/K$3,K16*10/3*(1-0.1*I$3)),IF(J16>10,J16*0.9,J16)) -> 84.672 | M16: 41.6 | N16: =IF(M16>0,IF(L16>0,(L16*K$3+M16*10/3)/M$3,M16*10/3*(1-0.1*K$3)),IF(L16>10,L16*0.9,L16)) -> 93.671111 | P16: =IF(O16>0,IF(N16>0,(N16*M$3+O16*10/3)/O$3,O16*10/3*(1-0.1*M$3)),IF(N16>10,N16*0.9,N16)) -> 84.304 | R16: =IF(Q16>0,IF(P16>0,(P16*O$3+Q16*10/3)/Q$3,Q16*10/3*(1-0.1*O$3)),IF(P16>10,P16*0.9,P16)) -> 75.8736 | T16: =IF(S16>0,IF(R16>0,(R16*Q$3+S16*10/3)/S$3,S16*10/3*(1-0.1*Q$3)),IF(R16>10,R16*0.9,R16)) -> 68.28624 | V16: =IF(U16>0,IF(T16>0,(T16*S$3+U16*10/3)/U$3,U16*10/3*(1-0.1*S$3)),IF(T16>10,T16*0.9,T16)) -> 61.457616
A17: =A16+1 -> 13 | B17: Несторенко Андрей/Nestorenko Andrew | C17: 17.1 | D17: =C17/3*10 -> 57 | E17: 29.3 | F17: =IF(E17>0,IF(D17>0,(D17*C$3+E17*10/3)/E$3,E17*10/3*(1-0.1*C$3)),IF(D17>10,D17*0.9,D17)) -> 77.333333 | G17: 33.7 | H17: =IF(G17>0,IF(F17>0,(F17*E$3+G17*10/3)/G$3,G17*10/3*(1-0.1*E$3)),IF(F17>10,F17*0.9,F17)) -> 89 | I17: 23 | J17: =IF(I17>0,IF(H17>0,(H17*G$3+I17*10/3)/I$3,I17*10/3*(1-0.1*G$3)),IF(H17>10,H17*0.9,H17)) -> 85.916667 | K17: 31.3 | L17: =IF(K17>0,IF(J17>0,(J17*I$3+K17*10/3)/K$3,K17*10/3*(1-0.1*I$3)),IF(J17>10,J17*0.9,J17)) -> 89.6 | M17: 31 | N17: =IF(M17>0,IF(L17>0,(L17*K$3+M17*10/3)/M$3,M17*10/3*(1-0.1*K$3)),IF(L17>10,L17*0.9,L17)) -> 91.888889 | P17: =IF(O17>0,IF(N17>0,(N17*M$3+O17*10/3)/O$3,O17*10/3*(1-0.1*M$3)),IF(N17>10,N17*0.9,N17)) -> 82.7 | R17: =IF(Q17>0,IF(P17>0,(P17*O$3+Q17*10/3)/Q$3,Q17*10/3*(1-0.1*O$3)),IF(P17>10,P17*0.9,P17)) -> 74.43 | T17: =IF(S17>0,IF(R17>0,(R17*Q$3+S17*10/3)/S$3,S17*10/3*(1-0.1*Q$3)),IF(R17>10,R17*0.9,R17)) -> 66.987 | V17: =IF(U17>0,IF(T17>0,(T17*S$3+U17*10/3)/U$3,U17*10/3*(1-0.1*S$3)),IF(T17>10,T17*0.9,T17)) -> 60.2883
A18: =A17+1 -> 14 | B18: Кочмарев Юрий / Kochmarev Yuriy | C18: 34.5 | D18: =C18/3*10 -> 115 | E18: 32.1 | F18: =IF(E18>0,IF(D18>0,(D18*C$3+E18*10/3)/E$3,E18*10/3*(1-0.1*C$3)),IF(D18>10,D18*0.9,D18)) -> 111 | G18: 35 | H18: =IF(G18>0,IF(F18>0,(F18*E$3+G18*10/3)/G$3,G18*10/3*(1-0.1*E$3)),IF(F18>10,F18*0.9,F18)) -> 112.88889 | I18: 23.5 | J18: =IF(I18>0,IF(H18>0,(H18*G$3+I18*10/3)/I$3,I18*10/3*(1-0.1*G$3)),IF(H18>10,H18*0.9,H18)) -> 104.25 | L18: =IF(K18>0,IF(J18>0,(J18*I$3+K18*10/3)/K$3,K18*10/3*(1-0.1*I$3)),IF(J18>10,J18*0.9,J18)) -> 93.825 | M18: 23.1 | N18: =IF(M18>0,IF(L18>0,(L18*K$3+M18*10/3)/M$3,M18*10/3*(1-0.1*K$3)),IF(L18>10,L18*0.9,L18)) -> 91.020833 | P18: =IF(O18>0,IF(N18>0,(N18*M$3+O18*10/3)/O$3,O18*10/3*(1-0.1*M$3)),IF(N18>10,N18*0.9,N18)) -> 81.91875 | R18: =IF(Q18>0,IF(P18>0,(P18*O$3+Q18*10/3)/Q$3,Q18*10/3*(1-0.1*O$3)),IF(P18>10,P18*0.9,P18)) -> 73.726875 | T18: =IF(S18>0,IF(R18>0,(R18*Q$3+S18*10/3)/S$3,S18*10/3*(1-0.1*Q$3)),IF(R18>10,R18*0.9,R18)) -> 66.354188 | V18: =IF(U18>0,IF(T18>0,(T18*S$3+U18*10/3)/U$3,U18*10/3*(1-0.1*S$3)),IF(T18>10,T18*0.9,T18)) -> 59.718769
A19: =A18+1 -> 15 | B19: Гобади Курош | G19: 27.4 | H19: =IF(G19>0,IF(F19>0,(F19*E$3+G19*10/3)/G$3,G19*10/3*(1-0.1*E$3)),IF(F19>10,F19*0.9,F19)) -> 73.066667 | I19: 33.4 | J19: =IF(I19>0,IF(H19>0,(H19*G$3+I19*10/3)/I$3,I19*10/3*(1-0.1*G$3)),IF(H19>10,H19*0.9,H19)) -> 82.633333 | K19: 32.1 | L19: =IF(K19>0,IF(J19>0,(J19*I$3+K19*10/3)/K$3,K19*10/3*(1-0.1*I$3)),IF(J19>10,J19*0.9,J19)) -> 87.506667 | M19: 31.6 | N19: =IF(M19>0,IF(L19>0,(L19*K$3+M19*10/3)/M$3,M19*10/3*(1-0.1*K$3)),IF(L19>10,L19*0.9,L19)) -> 90.477778 | P19: =IF(O19>0,IF(N19>0,(N19*M$3+O19*10/3)/O$3,O19*10/3*(1-0.1*M$3)),IF(N19>10,N19*0.9,N19)) -> 81.43 | R19: =IF(Q19>0,IF(P19>0,(P19*O$3+Q19*10/3)/Q$3,Q19*10/3*(1-0.1*O$3)),IF(P19>10,P19*0.9,P19)) -> 73.287 | T19: =IF(S19>0,IF(R19>0,(R19*Q$3+S19*10/3)/S$3,S19*10/3*(1-0.1*Q$3)),IF(R19>10,R19*0.9,R19)) -> 65.9583 | V19: =IF(U19>0,IF(T19>0,(T19*S$3+U19*10/3)/U$3,U19*10/3*(1-0.1*S$3)),IF(T19>10,T19*0.9,T19)) -> 59.36247
A20: =A19+1 -> 16 | B20: Джемула Сергей / Dzemula Sergey | C20: 27.2 | D20: =C20/3*10 -> 90.666667 | E20: 19 | F20: =IF(E20>0,IF(D20>0,(D20*C$3+E20*10/3)/E$3,E20*10/3*(1-0.1*C$3)),IF(D20>10,D20*0.9,D20)) -> 77 | G20: 15.4 | H20: =IF(G20>0,IF(F20>0,(F20*E$3+G20*10/3)/G$3,G20*10/3*(1-0.1*E$3)),IF(F20>10,F20*0.9,F20)) -> 68.444444 | I20: 33.4 | J20: =IF(I20>0,IF(H20>0,(H20*G$3+I20*10/3)/I$3,I20*10/3*(1-0.1*G$3)),IF(H20>10,H20*0.9,H20)) -> 79.166667 | K20: 25.8 | L20: =IF(K20>0,IF(J20>0,(J20*I$3+K20*10/3)/K$3,K20*10/3*(1-0.1*I$3)),IF(J20>10,J20*0.9,J20)) -> 80.533333 | M20: 25.6 | N20: =IF(M20>0,IF(L20>0,(L20*K$3+M20*10/3)/M$3,M20*10/3*(1-0.1*K$3)),IF(L20>10,L20*0.9,L20)) -> 81.333333 | P20: =IF(O20>0,IF(N20>0,(N20*M$3+O20*10/3)/O$3,O20*10/3*(1-0.1*M$3)),IF(N20>10,N20*0.9,N20)) -> 73.2 | R20: =IF(Q20>0,IF(P20>0,(P20*O$3+Q20*10/3)/Q$3,Q20*10/3*(1-0.1*O$3)),IF(P20>10,P20*0.9,P20)) -> 65.88 | T20: =IF(S20>0,IF(R20>0,(R20*Q$3+S20*10/3)/S$3,S20*10/3*(1-0.1*Q$3)),IF(R20>10,R20*0.9,R20)) -> 59.292 | V20: =IF(U20>0,IF(T20>0,(T20*S$3+U20*10/3)/U$3,U20*10/3*(1-0.1*S$3)),IF(T20>10,T20*0.9,T20)) -> 53.3628
A21: =A20+1 -> 17 | B21: Фортуна Таня / Fortuna Tanya | C21: 29 | D21: =C21/3*10 -> 96.666667 | F21: =IF(E21>0,IF(D21>0,(D21*C$3+E21*10/3)/E$3,E21*10/3*(1-0.1*C$3)),IF(D21>10,D21*0.9,D21)) -> 87 | G21: 37 | H21: =IF(G21>0,IF(F21>0,(F21*E$3+G21*10/3)/G$3,G21*10/3*(1-0.1*E$3)),IF(F21>10,F21*0.9,F21)) -> 99.111111 | J21: =IF(I21>0,IF(H21>0,(H21*G$3+I21*10/3)/I$3,I21*10/3*(1-0.1*G$3)),IF(H21>10,H21*0.9,H21)) -> 89.2 | L21: =IF(K21>0,IF(J21>0,(J21*I$3+K21*10/3)/K$3,K21*10/3*(1-0.1*I$3)),IF(J21>10,J21*0.9,J21)) -> 80.28 | M21: 21.9 | N21: =IF(M21>0,IF(L21>0,(L21*K$3+M21*10/3)/M$3,M21*10/3*(1-0.1*K$3)),IF(L21>10,L21*0.9,L21)) -> 79.066667 | P21: =IF(O21>0,IF(N21>0,(N21*M$3+O21*10/3)/O$3,O21*10/3*(1-0.1*M$3)),IF(N21>10,N21*0.9,N21)) -> 71.16 | R21: =IF(Q21>0,IF(P21>0,(P21*O$3+Q21*10/3)/Q$3,Q21*10/3*(1-0.1*O$3)),IF(P21>10,P21*0.9,P21)) -> 64.044 | T21: =IF(S21>0,IF(R21>0,(R21*Q$3+S21*10/3)/S$3,S21*10/3*(1-0.1*Q$3)),IF(R21>10,R21*0.9,R21)) -> 57.6396 | V21: =IF(U21>0,IF(T21>0,(T21*S$3+U21*10/3)/U$3,U21*10/3*(1-0.1*S$3)),IF(T21>10,T21*0.9,T21)) -> 51.87564
A22: =A21+1 -> 18 | B22: Скобликов Влад / Skoblikov Vlad | E22: 35.1 | F22: =IF(E22>0,IF(D22>0,(D22*C$3+E22*10/3)/E$3,E22*10/3*(1-0.1*C$3)),IF(D22>10,D22*0.9,D22)) -> 105.3 | H22: =IF(G22>0,IF(F22>0,(F22*E$3+G22*10/3)/G$3,G22*10/3*(1-0.1*E$3)),IF(F22>10,F22*0.9,F22)) -> 94.77 | J22: =IF(I22>0,IF(H22>0,(H22*G$3+I22*10/3)/I$3,I22*10/3*(1-0.1*G$3)),IF(H22>10,H22*0.9,H22)) -> 85.293 | L22: =IF(K22>0,IF(J22>0,(J22*I$3+K22*10/3)/K$3,K22*10/3*(1-0.1*I$3)),IF(J22>10,J22*0.9,J22)) -> 76.7637 | N22: =IF(M22>0,IF(L22>0,(L22*K$3+M22*10/3)/M$3,M22*10/3*(1-0.1*K$3)),IF(L22>10,L22*0.9,L22)) -> 69.08733 | P22: =IF(O22>0,IF(N22>0,(N22*M$3+O22*10/3)/O$3,O22*10/3*(1-0.1*M$3)),IF(N22>10,N22*0.9,N22)) -> 62.178597 | R22: =IF(Q22>0,IF(P22>0,(P22*O$3+Q22*10/3)/Q$3,Q22*10/3*(1-0.1*O$3)),IF(P22>10,P22*0.9,P22)) -> 55.960737 | T22: =IF(S22>0,IF(R22>0,(R22*Q$3+S22*10/3)/S$3,S22*10/3*(1-0.1*Q$3)),IF(R22>10,R22*0.9,R22)) -> 50.364664 | V22: =IF(U22>0,IF(T22>0,(T22*S$3+U22*10/3)/U$3,U22*10/3*(1-0.1*S$3)),IF(T22>10,T22*0.9,T22)) -> 45.328197
A23: =A22+1 -> 19 | B23: Пилипчук Василий | K23: 32 | L23: =IF(K23>0,IF(J23>0,(J23*I$3+K23*10/3)/K$3,K23*10/3*(1-0.1*I$3)),IF(J23>10,J23*0.9,J23)) -> 64 | N23: =IF(M23>0,IF(L23>0,(L23*K$3+M23*10/3)/M$3,M23*10/3*(1-0.1*K$3)),IF(L23>10,L23*0.9,L23)) -> 57.6 | P23: =IF(O23>0,IF(N23>0,(N23*M$3+O23*10/3)/O$3,O23*10/3*(1-0.1*M$3)),IF(N23>10,N23*0.9,N23)) -> 51.84 | R23: =IF(Q23>0,IF(P23>0,(P23*O$3+Q23*10/3)/Q$3,Q23*10/3*(1-0.1*O$3)),IF(P23>10,P23*0.9,P23)) -> 46.656 | T23: =IF(S23>0,IF(R23>0,(R23*Q$3+S23*10/3)/S$3,S23*10/3*(1-0.1*Q$3)),IF(R23>10,R23*0.9,R23)) -> 41.9904 | V23: =IF(U23>0,IF(T23>0,(T23*S$3+U23*10/3)/U$3,U23*10/3*(1-0.1*S$3)),IF(T23>10,T23*0.9,T23)) -> 37.79136
A24: =A23+1 -> 20 | B24: Шутка Виталий/Shutka Vitalii | C24: 28.2 | D24: =C24/3*10 -> 94 | F24: =IF(E24>0,IF(D24>0,(D24*C$3+E24*10/3)/E$3,E24*10/3*(1-0.1*C$3)),IF(D24>10,D24*0.9,D24)) -> 84.6 | H24: =IF(G24>0,IF(F24>0,(F24*E$3+G24*10/3)/G$3,G24*10/3*(1-0.1*E$3)),IF(F24>10,F24*0.9,F24)) -> 76.14 | J24: =IF(I24>0,IF(H24>0,(H24*G$3+I24*10/3)/I$3,I24*10/3*(1-0.1*G$3)),IF(H24>10,H24*0.9,H24)) -> 68.526 | L24: =IF(K24>0,IF(J24>0,(J24*I$3+K24*10/3)/K$3,K24*10/3*(1-0.1*I$3)),IF(J24>10,J24*0.9,J24)) -> 61.6734 | N24: =IF(M24>0,IF(L24>0,(L24*K$3+M24*10/3)/M$3,M24*10/3*(1-0.1*K$3)),IF(L24>10,L24*0.9,L24)) -> 55.50606 | P24: =IF(O24>0,IF(N24>0,(N24*M$3+O24*10/3)/O$3,O24*10/3*(1-0.1*M$3)),IF(N24>10,N24*0.9,N24)) -> 49.955454 | R24: =IF(Q24>0,IF(P24>0,(P24*O$3+Q24*10/3)/Q$3,Q24*10/3*(1-0.1*O$3)),IF(P24>10,P24*0.9,P24)) -> 44.959909 | T24: =IF(S24>0,IF(R24>0,(R24*Q$3+S24*10/3)/S$3,S24*10/3*(1-0.1*Q$3)),IF(R24>10,R24*0.9,R24)) -> 40.463918 | V24: =IF(U24>0,IF(T24>0,(T24*S$3+U24*10/3)/U$3,U24*10/3*(1-0.1*S$3)),IF(T24>10,T24*0.9,T24)) -> 36.417526
A25: =A24+1 -> 21 | B25: Хлопонин Андрей | C25: 26.5 | D25: =C25/3*10 -> 88.333333 | E25: 16.1 | F25: =IF(E25>0,IF(D25>0,(D25*C$3+E25*10/3)/E$3,E25*10/3*(1-0.1*C$3)),IF(D25>10,D25*0.9,D25)) -> 71 | H25: =IF(G25>0,IF(F25>0,(F25*E$3+G25*10/3)/G$3,G25*10/3*(1-0.1*E$3)),IF(F25>10,F25*0.9,F25)) -> 63.9 | J25: =IF(I25>0,IF(H25>0,(H25*G$3+I25*10/3)/I$3,I25*10/3*(1-0.1*G$3)),IF(H25>10,H25*0.9,H25)) -> 57.51 | L25: =IF(K25>0,IF(J25>0,(J25*I$3+K25*10/3)/K$3,K25*10/3*(1-0.1*I$3)),IF(J25>10,J25*0.9,J25)) -> 51.759 | M25: 20 | N25: =IF(M25>0,IF(L25>0,(L25*K$3+M25*10/3)/M$3,M25*10/3*(1-0.1*K$3)),IF(L25>10,L25*0.9,L25)) -> 54.243611 | P25: =IF(O25>0,IF(N25>0,(N25*M$3+O25*10/3)/O$3,O25*10/3*(1-0.1*M$3)),IF(N25>10,N25*0.9,N25)) -> 48.81925 | R25: =IF(Q25>0,IF(P25>0,(P25*O$3+Q25*10/3)/Q$3,Q25*10/3*(1-0.1*O$3)),IF(P25>10,P25*0.9,P25)) -> 43.937325 | T25: =IF(S25>0,IF(R25>0,(R25*Q$3+S25*10/3)/S$3,S25*10/3*(1-0.1*Q$3)),IF(R25>10,R25*0.9,R25)) -> 39.543593 | V25: =IF(U25>0,IF(T25>0,(T25*S$3+U25*10/3)/U$3,U25*10/3*(1-0.1*S$3)),IF(T25>10,T25*0.9,T25)) -> 35.589233
A26: =A25+1 -> 22 | B26: Лихошерст Алексей / Lykhosherst Aleksey | E26: 21 | F26: =IF(E26>0,IF(D26>0,(D26*C$3+E26*10/3)/E$3,E26*10/3*(1-0.1*C$3)),IF(D26>10,D26*0.9,D26)) -> 63 | G26: 15.9 | H26: =IF(G26>0,IF(F26>0,(F26*E$3+G26*10/3)/G$3,G26*10/3*(1-0.1*E$3)),IF(F26>10,F26*0.9,F26)) -> 59.666667 | I26: 25.7 | J26: =IF(I26>0,IF(H26>0,(H26*G$3+I26*10/3)/I$3,I26*10/3*(1-0.1*G$3)),IF(H26>10,H26*0.9,H26)) -> 66.166667 | L26: =IF(K26>0,IF(J26>0,(J26*I$3+K26*10/3)/K$3,K26*10/3*(1-0.1*I$3)),IF(J26>10,J26*0.9,J26)) -> 59.55 | N26: =IF(M26>0,IF(L26>0,(L26*K$3+M26*10/3)/M$3,M26*10/3*(1-0.1*K$3)),IF(L26>10,L26*0.9,L26)) -> 53.595 | P26: =IF(O26>0,IF(N26>0,(N26*M$3+O26*10/3)/O$3,O26*10/3*(1-0.1*M$3)),IF(N26>10,N26*0.9,N26)) -> 48.2355 | R26: =IF(Q26>0,IF(P26>0,(P26*O$3+Q26*10/3)/Q$3,Q26*10/3*(1-0.1*O$3)),IF(P26>10,P26*0.9,P26)) -> 43.41195 | T26: =IF(S26>0,IF(R26>0,(R26*Q$3+S26*10/3)/S$3,S26*10/3*(1-0.1*Q$3)),IF(R26>10,R26*0.9,R26)) -> 39.070755 | V26: =IF(U26>0,IF(T26>0,(T26*S$3+U26*10/3)/U$3,U26*10/3*(1-0.1*S$3)),IF(T26>10,T26*0.9,T26)) -> 35.16368
A27: =A26+1 -> 23 | B27: Веселов Сергей | K27: 29.5 | L27: =IF(K27>0,IF(J27>0,(J27*I$3+K27*10/3)/K$3,K27*10/3*(1-0.1*I$3)),IF(J27>10,J27*0.9,J27)) -> 59 | N27: =IF(M27>0,IF(L27>0,(L27*K$3+M27*10/3)/M$3,M27*10/3*(1-0.1*K$3)),IF(L27>10,L27*0.9,L27)) -> 53.1 | P27: =IF(O27>0,IF(N27>0,(N27*M$3+O27*10/3)/O$3,O27*10/3*(1-0.1*M$3)),IF(N27>10,N27*0.9,N27)) -> 47.79 | R27: =IF(Q27>0,IF(P27>0,(P27*O$3+Q27*10/3)/Q$3,Q27*10/3*(1-0.1*O$3)),IF(P27>10,P27*0.9,P27)) -> 43.011 | T27: =IF(S27>0,IF(R27>0,(R27*Q$3+S27*10/3)/S$3,S27*10/3*(1-0.1*Q$3)),IF(R27>10,R27*0.9,R27)) -> 38.7099 | V27: =IF(U27>0,IF(T27>0,(T27*S$3+U27*10/3)/U$3,U27*10/3*(1-0.1*S$3)),IF(T27>10,T27*0.9,T27)) -> 34.83891
A28: =A27+1 -> 24 | B28: Чухаленко Дима | K28: 20 | L28: =IF(K28>0,IF(J28>0,(J28*I$3+K28*10/3)/K$3,K28*10/3*(1-0.1*I$3)),IF(J28>10,J28*0.9,J28)) -> 40 | M28: 29.9 | N28: =IF(M28>0,IF(L28>0,(L28*K$3+M28*10/3)/M$3,M28*10/3*(1-0.1*K$3)),IF(L28>10,L28*0.9,L28)) -> 49.944444 | P28: =IF(O28>0,IF(N28>0,(N28*M$3+O28*10/3)/O$3,O28*10/3*(1-0.1*M$3)),IF(N28>10,N28*0.9,N28)) -> 44.95 | R28: =IF(Q28>0,IF(P28>0,(P28*O$3+Q28*10/3)/Q$3,Q28*10/3*(1-0.1*O$3)),IF(P28>10,P28*0.9,P28)) -> 40.455 | T28: =IF(S28>0,IF(R28>0,(R28*Q$3+S28*10/3)/S$3,S28*10/3*(1-0.1*Q$3)),IF(R28>10,R28*0.9,R28)) -> 36.4095 | V28: =IF(U28>0,IF(T28>0,(T28*S$3+U28*10/3)/U$3,U28*10/3*(1-0.1*S$3)),IF(T28>10,T28*0.9,T28)) -> 32.76855
A29: =A28+1 -> 25 | B29: Плакидюк Виталий / Plakyduk Vitalii | E29: 21.5 | F29: =IF(E29>0,IF(D29>0,(D29*C$3+E29*10/3)/E$3,E29*10/3*(1-0.1*C$3)),IF(D29>10,D29*0.9,D29)) -> 64.5 | G29: 14.5 | H29: =IF(G29>0,IF(F29>0,(F29*E$3+G29*10/3)/G$3,G29*10/3*(1-0.1*E$3)),IF(F29>10,F29*0.9,F29)) -> 59.111111 | J29: =IF(I29>0,IF(H29>0,(H29*G$3+I29*10/3)/I$3,I29*10/3*(1-0.1*G$3)),IF(H29>10,H29*0.9,H29)) -> 53.2 | L29: =IF(K29>0,IF(J29>0,(J29*I$3+K29*10/3)/K$3,K29*10/3*(1-0.1*I$3)),IF(J29>10,J29*0.9,J29)) -> 47.88 | M29: 18 | N29: =IF(M29>0,IF(L29>0,(L29*K$3+M29*10/3)/M$3,M29*10/3*(1-0.1*K$3)),IF(L29>10,L29*0.9,L29)) -> 49.9 | P29: =IF(O29>0,IF(N29>0,(N29*M$3+O29*10/3)/O$3,O29*10/3*(1-0.1*M$3)),IF(N29>10,N29*0.9,N29)) -> 44.91 | R29: =IF(Q29>0,IF(P29>0,(P29*O$3+Q29*10/3)/Q$3,Q29*10/3*(1-0.1*O$3)),IF(P29>10,P29*0.9,P29)) -> 40.419 | T29: =IF(S29>0,IF(R29>0,(R29*Q$3+S29*10/3)/S$3,S29*10/3*(1-0.1*Q$3)),IF(R29>10,R29*0.9,R29)) -> 36.3771 | V29: =IF(U29>0,IF(T29>0,(T29*S$3+U29*10/3)/U$3,U29*10/3*(1-0.1*S$3)),IF(T29>10,T29*0.9,T29)) -> 32.73939
A30: =A29+1 -> 26 | B30: Костюк Максим | I30: 23 | J30: =IF(I30>0,IF(H30>0,(H30*G$3+I30*10/3)/I$3,I30*10/3*(1-0.1*G$3)),IF(H30>10,H30*0.9,H30)) -> 53.666667 | L30: =IF(K30>0,IF(J30>0,(J30*I$3+K30*10/3)/K$3,K30*10/3*(1-0.1*I$3)),IF(J30>10,J30*0.9,J30)) -> 48.3 | N30: =IF(M30>0,IF(L30>0,(L30*K$3+M30*10/3)/M$3,M30*10/3*(1-0.1*K$3)),IF(L30>10,L30*0.9,L30)) -> 43.47 | P30: =IF(O30>0,IF(N30>0,(N30*M$3+O30*10/3)/O$3,O30*10/3*(1-0.1*M$3)),IF(N30>10,N30*0.9,N30)) -> 39.123 | R30: =IF(Q30>0,IF(P30>0,(P30*O$3+Q30*10/3)/Q$3,Q30*10/3*(1-0.1*O$3)),IF(P30>10,P30*0.9,P30)) -> 35.2107 | T30: =IF(S30>0,IF(R30>0,(R30*Q$3+S30*10/3)/S$3,S30*10/3*(1-0.1*Q$3)),IF(R30>10,R30*0.9,R30)) -> 31.68963 | V30: =IF(U30>0,IF(T30>0,(T30*S$3+U30*10/3)/U$3,U30*10/3*(1-0.1*S$3)),IF(T30>10,T30*0.9,T30)) -> 28.520667
A31: =A30+1 -> 27 | B31: Денисенко Павел / Denysenko Pavel | E31: 15 | F31: =IF(E31>0,IF(D31>0,(D31*C$3+E31*10/3)/E$3,E31*10/3*(1-0.1*C$3)),IF(D31>10,D31*0.9,D31)) -> 45 | G31: 23 | H31: =IF(G31>0,IF(F31>0,(F31*E$3+G31*10/3)/G$3,G31*10/3*(1-0.1*E$3)),IF(F31>10,F31*0.9,F31)) -> 55.555556 | J31: =IF(I31>0,IF(H31>0,(H31*G$3+I31*10/3)/I$3,I31*10/3*(1-0.1*G$3)),IF(H31>10,H31*0.9,H31)) -> 50 | L31: =IF(K31>0,IF(J31>0,(J31*I$3+K31*10/3)/K$3,K31*10/3*(1-0.1*I$3)),IF(J31>10,J31*0.9,J31)) -> 45 | N31: =IF(M31>0,IF(L31>0,(L31*K$3+M31*10/3)/M$3,M31*10/3*(1-0.1*K$3)),IF(L31>10,L31*0.9,L31)) -> 40.5 | P31: =IF(O31>0,IF(N31>0,(N31*M$3+O31*10/3)/O$3,O31*10/3*(1-0.1*M$3)),IF(N31>10,N31*0.9,N31)) -> 36.45 | R31: =IF(Q31>0,IF(P31>0,(P31*O$3+Q31*10/3)/Q$3,Q31*10/3*(1-0.1*O$3)),IF(P31>10,P31*0.9,P31)) -> 32.805 | T31: =IF(S31>0,IF(R31>0,(R31*Q$3+S31*10/3)/S$3,S31*10/3*(1-0.1*Q$3)),IF(R31>10,R31*0.9,R31)) -> 29.5245 | V31: =IF(U31>0,IF(T31>0,(T31*S$3+U31*10/3)/U$3,U31*10/3*(1-0.1*S$3)),IF(T31>10,T31*0.9,T31)) -> 26.57205
A32: =A31+1 -> 28 | B32: Синани Влад | K32: 20 | L32: =IF(K32>0,IF(J32>0,(J32*I$3+K32*10/3)/K$3,K32*10/3*(1-0.1*I$3)),IF(J32>10,J32*0.9,J32)) -> 40 | N32: =IF(M32>0,IF(L32>0,(L32*K$3+M32*10/3)/M$3,M32*10/3*(1-0.1*K$3)),IF(L32>10,L32*0.9,L32)) -> 36 | P32: =IF(O32>0,IF(N32>0,(N32*M$3+O32*10/3)/O$3,O32*10/3*(1-0.1*M$3)),IF(N32>10,N32*0.9,N32)) -> 32.4 | R32: =IF(Q32>0,IF(P32>0,(P32*O$3+Q32*10/3)/Q$3,Q32*10/3*(1-0.1*O$3)),IF(P32>10,P32*0.9,P32)) -> 29.16 | T32: =IF(S32>0,IF(R32>0,(R32*Q$3+S32*10/3)/S$3,S32*10/3*(1-0.1*Q$3)),IF(R32>10,R32*0.9,R32)) -> 26.244 | V32: =IF(U32>0,IF(T32>0,(T32*S$3+U32*10/3)/U$3,U32*10/3*(1-0.1*S$3)),IF(T32>10,T32*0.9,T32)) -> 23.6196
A33: =A32+1 -> 29 | B33: Линнык Владимир | G33: 18.3 | H33: =IF(G33>0,IF(F33>0,(F33*E$3+G33*10/3)/G$3,G33*10/3*(1-0.1*E$3)),IF(F33>10,F33*0.9,F33)) -> 48.8 | J33: =IF(I33>0,IF(H33>0,(H33*G$3+I33*10/3)/I$3,I33*10/3*(1-0.1*G$3)),IF(H33>10,H33*0.9,H33)) -> 43.92 | L33: =IF(K33>0,IF(J33>0,(J33*I$3+K33*10/3)/K$3,K33*10/3*(1-0.1*I$3)),IF(J33>10,J33*0.9,J33)) -> 39.528 | N33: =IF(M33>0,IF(L33>0,(L33*K$3+M33*10/3)/M$3,M33*10/3*(1-0.1*K$3)),IF(L33>10,L33*0.9,L33)) -> 35.5752 | P33: =IF(O33>0,IF(N33>0,(N33*M$3+O33*10/3)/O$3,O33*10/3*(1-0.1*M$3)),IF(N33>10,N33*0.9,N33)) -> 32.01768 | R33: =IF(Q33>0,IF(P33>0,(P33*O$3+Q33*10/3)/Q$3,Q33*10/3*(1-0.1*O$3)),IF(P33>10,P33*0.9,P33)) -> 28.815912 | T33: =IF(S33>0,IF(R33>0,(R33*Q$3+S33*10/3)/S$3,S33*10/3*(1-0.1*Q$3)),IF(R33>10,R33*0.9,R33)) -> 25.934321 | V33: =IF(U33>0,IF(T33>0,(T33*S$3+U33*10/3)/U$3,U33*10/3*(1-0.1*S$3)),IF(T33>10,T33*0.9,T33)) -> 23.340889
A34: =A33+1 -> 30 | B34: Жайворонок Дима | K34: 19.7 | L34: =IF(K34>0,IF(J34>0,(J34*I$3+K34*10/3)/K$3,K34*10/3*(1-0.1*I$3)),IF(J34>10,J34*0.9,J34)) -> 39.4 | N34: =IF(M34>0,IF(L34>0,(L34*K$3+M34*10/3)/M$3,M34*10/3*(1-0.1*K$3)),IF(L34>10,L34*0.9,L34)) -> 35.46 | P34: =IF(O34>0,IF(N34>0,(N34*M$3+O34*10/3)/O$3,O34*10/3*(1-0.1*M$3)),IF(N34>10,N34*0.9,N34)) -> 31.914 | R34: =IF(Q34>0,IF(P34>0,(P34*O$3+Q34*10/3)/Q$3,Q34*10/3*(1-0.1*O$3)),IF(P34>10,P34*0.9,P34)) -> 28.7226 | T34: =IF(S34>0,IF(R34>0,(R34*Q$3+S34*10/3)/S$3,S34*10/3*(1-0.1*Q$3)),IF(R34>10,R34*0.9,R34)) -> 25.85034 | V34: =IF(U34>0,IF(T34>0,(T34*S$3+U34*10/3)/U$3,U34*10/3*(1-0.1*S$3)),IF(T34>10,T34*0.9,T34)) -> 23.265306
A35: =A34+1 -> 31 | B35: Дарий Игорь / Darii Igor | E35: 17.4 | F35: =IF(E35>0,IF(D35>0,(D35*C$3+E35*10/3)/E$3,E35*10/3*(1-0.1*C$3)),IF(D35>10,D35*0.9,D35)) -> 52.2 | H35: =IF(G35>0,IF(F35>0,(F35*E$3+G35*10/3)/G$3,G35*10/3*(1-0.1*E$3)),IF(F35>10,F35*0.9,F35)) -> 46.98 | J35: =IF(I35>0,IF(H35>0,(H35*G$3+I35*10/3)/I$3,I35*10/3*(1-0.1*G$3)),IF(H35>10,H35*0.9,H35)) -> 42.282 | L35: =IF(K35>0,IF(J35>0,(J35*I$3+K35*10/3)/K$3,K35*10/3*(1-0.1*I$3)),IF(J35>10,J35*0.9,J35)) -> 38.0538 | N35: =IF(M35>0,IF(L35>0,(L35*K$3+M35*10/3)/M$3,M35*10/3*(1-0.1*K$3)),IF(L35>10,L35*0.9,L35)) -> 34.24842 | P35: =IF(O35>0,IF(N35>0,(N35*M$3+O35*10/3)/O$3,O35*10/3*(1-0.1*M$3)),IF(N35>10,N35*0.9,N35)) -> 30.823578 | R35: =IF(Q35>0,IF(P35>0,(P35*O$3+Q35*10/3)/Q$3,Q35*10/3*(1-0.1*O$3)),IF(P35>10,P35*0.9,P35)) -> 27.74122 | T35: =IF(S35>0,IF(R35>0,(R35*Q$3+S35*10/3)/S$3,S35*10/3*(1-0.1*Q$3)),IF(R35>10,R35*0.9,R35)) -> 24.967098 | V35: =IF(U35>0,IF(T35>0,(T35*S$3+U35*10/3)/U$3,U35*10/3*(1-0.1*S$3)),IF(T35>10,T35*0.9,T35)) -> 22.470388
A36: =A35+1 -> 32 | B36: Звягин Григорий | G36: 15.2 | H36: =IF(G36>0,IF(F36>0,(F36*E$3+G36*10/3)/G$3,G36*10/3*(1-0.1*E$3)),IF(F36>10,F36*0.9,F36)) -> 40.533333 | J36: =IF(I36>0,IF(H36>0,(H36*G$3+I36*10/3)/I$3,I36*10/3*(1-0.1*G$3)),IF(H36>10,H36*0.9,H36)) -> 36.48 | L36: =IF(K36>0,IF(J36>0,(J36*I$3+K36*10/3)/K$3,K36*10/3*(1-0.1*I$3)),IF(J36>10,J36*0.9,J36)) -> 32.832 | N36: =IF(M36>0,IF(L36>0,(L36*K$3+M36*10/3)/M$3,M36*10/3*(1-0.1*K$3)),IF(L36>10,L36*0.9,L36)) -> 29.5488 | P36: =IF(O36>0,IF(N36>0,(N36*M$3+O36*10/3)/O$3,O36*10/3*(1-0.1*M$3)),IF(N36>10,N36*0.9,N36)) -> 26.59392 | R36: =IF(Q36>0,IF(P36>0,(P36*O$3+Q36*10/3)/Q$3,Q36*10/3*(1-0.1*O$3)),IF(P36>10,P36*0.9,P36)) -> 23.934528 | T36: =IF(S36>0,IF(R36>0,(R36*Q$3+S36*10/3)/S$3,S36*10/3*(1-0.1*Q$3)),IF(R36>10,R36*0.9,R36)) -> 21.541075 | V36: =IF(U36>0,IF(T36>0,(T36*S$3+U36*10/3)/U$3,U36*10/3*(1-0.1*S$3)),IF(T36>10,T36*0.9,T36)) -> 19.386968
A37: =A36+1 -> 33 | B37: Дымко Вячеслав / Dymko Vyacheslav | E37: 15 | F37: =IF(E37>0,IF(D37>0,(D37*C$3+E37*10/3)/E$3,E37*10/3*(1-0.1*C$3)),IF(D37>10,D37*0.9,D37)) -> 45 | H37: =IF(G37>0,IF(F37>0,(F37*E$3+G37*10/3)/G$3,G37*10/3*(1-0.1*E$3)),IF(F37>10,F37*0.9,F37)) -> 40.5 | J37: =IF(I37>0,IF(H37>0,(H37*G$3+I37*10/3)/I$3,I37*10/3*(1-0.1*G$3)),IF(H37>10,H37*0.9,H37)) -> 36.45 | L37: =IF(K37>0,IF(J37>0,(J37*I$3+K37*10/3)/K$3,K37*10/3*(1-0.1*I$3)),IF(J37>10,J37*0.9,J37)) -> 32.805 | N37: =IF(M37>0,IF(L37>0,(L37*K$3+M37*10/3)/M$3,M37*10/3*(1-0.1*K$3)),IF(L37>10,L37*0.9,L37)) -> 29.5245 | P37: =IF(O37>0,IF(N37>0,(N37*M$3+O37*10/3)/O$3,O37*10/3*(1-0.1*M$3)),IF(N37>10,N37*0.9,N37)) -> 26.57205 | R37: =IF(Q37>0,IF(P37>0,(P37*O$3+Q37*10/3)/Q$3,Q37*10/3*(1-0.1*O$3)),IF(P37>10,P37*0.9,P37)) -> 23.914845 | T37: =IF(S37>0,IF(R37>0,(R37*Q$3+S37*10/3)/S$3,S37*10/3*(1-0.1*Q$3)),IF(R37>10,R37*0.9,R37)) -> 21.523361 | V37: =IF(U37>0,IF(T37>0,(T37*S$3+U37*10/3)/U$3,U37*10/3*(1-0.1*S$3)),IF(T37>10,T37*0.9,T37)) -> 19.371024
A38: =A37+1 -> 34 | B38: Хорошавин Доминик / Khoroshavin Dominik | E38: 12.6 | F38: =IF(E38>0,IF(D38>0,(D38*C$3+E38*10/3)/E$3,E38*10/3*(1-0.1*C$3)),IF(D38>10,D38*0.9,D38)) -> 37.8 | H38: =IF(G38>0,IF(F38>0,(F38*E$3+G38*10/3)/G$3,G38*10/3*(1-0.1*E$3)),IF(F38>10,F38*0.9,F38)) -> 34.02 | J38: =IF(I38>0,IF(H38>0,(H38*G$3+I38*10/3)/I$3,I38*10/3*(1-0.1*G$3)),IF(H38>10,H38*0.9,H38)) -> 30.618 | L38: =IF(K38>0,IF(J38>0,(J38*I$3+K38*10/3)/K$3,K38*10/3*(1-0.1*I$3)),IF(J38>10,J38*0.9,J38)) -> 27.5562 | N38: =IF(M38>0,IF(L38>0,(L38*K$3+M38*10/3)/M$3,M38*10/3*(1-0.1*K$3)),IF(L38>10,L38*0.9,L38)) -> 24.80058 | P38: =IF(O38>0,IF(N38>0,(N38*M$3+O38*10/3)/O$3,O38*10/3*(1-0.1*M$3)),IF(N38>10,N38*0.9,N38)) -> 22.320522 | R38: =IF(Q38>0,IF(P38>0,(P38*O$3+Q38*10/3)/Q$3,Q38*10/3*(1-0.1*O$3)),IF(P38>10,P38*0.9,P38)) -> 20.08847 | T38: =IF(S38>0,IF(R38>0,(R38*Q$3+S38*10/3)/S$3,S38*10/3*(1-0.1*Q$3)),IF(R38>10,R38*0.9,R38)) -> 18.079623 | V38: =IF(U38>0,IF(T38>0,(T38*S$3+U38*10/3)/U$3,U38*10/3*(1-0.1*S$3)),IF(T38>10,T38*0.9,T38)) -> 16.271661
A39: =A38+1 -> 35 | B39: Миронов Максим | G39: 11.4 | H39: =IF(G39>0,IF(F39>0,(F39*E$3+G39*10/3)/G$3,G39*10/3*(1-0.1*E$3)),IF(F39>10,F39*0.9,F39)) -> 30.4 | J39: =IF(I39>0,IF(H39>0,(H39*G$3+I39*10/3)/I$3,I39*10/3*(1-0.1*G$3)),IF(H39>10,H39*0.9,H39)) -> 27.36 | L39: =IF(K39>0,IF(J39>0,(J39*I$3+K39*10/3)/K$3,K39*10/3*(1-0.1*I$3)),IF(J39>10,J39*0.9,J39)) -> 24.624 | N39: =IF(M39>0,IF(L39>0,(L39*K$3+M39*10/3)/M$3,M39*10/3*(1-0.1*K$3)),IF(L39>10,L39*0.9,L39)) -> 22.1616 | P39: =IF(O39>0,IF(N39>0,(N39*M$3+O39*10/3)/O$3,O39*10/3*(1-0.1*M$3)),IF(N39>10,N39*0.9,N39)) -> 19.94544 | R39: =IF(Q39>0,IF(P39>0,(P39*O$3+Q39*10/3)/Q$3,Q39*10/3*(1-0.1*O$3)),IF(P39>10,P39*0.9,P39)) -> 17.950896 | T39: =IF(S39>0,IF(R39>0,(R39*Q$3+S39*10/3)/S$3,S39*10/3*(1-0.1*Q$3)),IF(R39>10,R39*0.9,R39)) -> 16.155806 | V39: =IF(U39>0,IF(T39>0,(T39*S$3+U39*10/3)/U$3,U39*10/3*(1-0.1*S$3)),IF(T39>10,T39*0.9,T39)) -> 14.540226
A40: =A39+1 -> 36 | B40: Кузьменко Артем | M40: 13 | N40: =IF(M40>0,IF(L40>0,(L40*K$3+M40*10/3)/M$3,M40*10/3*(1-0.1*K$3)),IF(L40>10,L40*0.9,L40)) -> 21.666667 | P40: =IF(O40>0,IF(N40>0,(N40*M$3+O40*10/3)/O$3,O40*10/3*(1-0.1*M$3)),IF(N40>10,N40*0.9,N40)) -> 19.5 | R40: =IF(Q40>0,IF(P40>0,(P40*O$3+Q40*10/3)/Q$3,Q40*10/3*(1-0.1*O$3)),IF(P40>10,P40*0.9,P40)) -> 17.55 | T40: =IF(S40>0,IF(R40>0,(R40*Q$3+S40*10/3)/S$3,S40*10/3*(1-0.1*Q$3)),IF(R40>10,R40*0.9,R40)) -> 15.795 | V40: =IF(U40>0,IF(T40>0,(T40*S$3+U40*10/3)/U$3,U40*10/3*(1-0.1*S$3)),IF(T40>10,T40*0.9,T40)) -> 14.2155
A41: =A40+1 -> 37 | N41: =IF(M41>0,IF(L41>0,(L41*K$3+M41*10/3)/M$3,M41*10/3*(1-0.1*K$3)),IF(L41>10,L41*0.9,L41)) -> 0 | P41: =IF(O41>0,IF(N41>0,(N41*M$3+O41*10/3)/O$3,O41*10/3*(1-0.1*M$3)),IF(N41>10,N41*0.9,N41)) -> 0 | R41: =IF(Q41>0,IF(P41>0,(P41*O$3+Q41*10/3)/Q$3,Q41*10/3*(1-0.1*O$3)),IF(P41>10,P41*0.9,P41)) -> 0 | T41: =IF(S41>0,IF(R41>0,(R41*Q$3+S41*10/3)/S$3,S41*10/3*(1-0.1*Q$3)),IF(R41>10,R41*0.9,R41)) -> 0 | V41: =IF(U41>0,IF(T41>0,(T41*S$3+U41*10/3)/U$3,U41*10/3*(1-0.1*S$3)),IF(T41>10,T41*0.9,T41)) -> 0
A42: =A41+1 -> 38 | P42: =IF(O42>0,IF(N42>0,(N42*M$3+O42*10/3)/O$3,O42*10/3*(1-0.1*M$3)),IF(N42>10,N42*0.9,N42)) -> 0 | R42: =IF(Q42>0,IF(P42>0,(P42*O$3+Q42*10/3)/Q$3,Q42*10/3*(1-0.1*O$3)),IF(P42>10,P42*0.9,P42)) -> 0 | T42: =IF(S42>0,IF(R42>0,(R42*Q$3+S42*10/3)/S$3,S42*10/3*(1-0.1*Q$3)),IF(R42>10,R42*0.9,R42)) -> 0 | V42: =IF(U42>0,IF(T42>0,(T42*S$3+U42*10/3)/U$3,U42*10/3*(1-0.1*S$3)),IF(T42>10,T42*0.9,T42)) -> 0
A43: =A42+1 -> 39 | P43: =IF(O43>0,IF(N43>0,(N43*M$3+O43*10/3)/O$3,O43*10/3*(1-0.1*M$3)),IF(N43>10,N43*0.9,N43)) -> 0 | R43: =IF(Q43>0,IF(P43>0,(P43*O$3+Q43*10/3)/Q$3,Q43*10/3*(1-0.1*O$3)),IF(P43>10,P43*0.9,P43)) -> 0 | T43: =IF(S43>0,IF(R43>0,(R43*Q$3+S43*10/3)/S$3,S43*10/3*(1-0.1*Q$3)),IF(R43>10,R43*0.9,R43)) -> 0 | V43: =IF(U43>0,IF(T43>0,(T43*S$3+U43*10/3)/U$3,U43*10/3*(1-0.1*S$3)),IF(T43>10,T43*0.9,T43)) -> 0
A44: =A43+1 -> 40 | P44: =IF(O44>0,IF(N44>0,(N44*M$3+O44*10/3)/O$3,O44*10/3*(1-0.1*M$3)),IF(N44>10,N44*0.9,N44)) -> 0 | R44: =IF(Q44>0,IF(P44>0,(P44*O$3+Q44*10/3)/Q$3,Q44*10/3*(1-0.1*O$3)),IF(P44>10,P44*0.9,P44)) -> 0 | T44: =IF(S44>0,IF(R44>0,(R44*Q$3+S44*10/3)/S$3,S44*10/3*(1-0.1*Q$3)),IF(R44>10,R44*0.9,R44)) -> 0 | V44: =IF(U44>0,IF(T44>0,(T44*S$3+U44*10/3)/U$3,U44*10/3*(1-0.1*S$3)),IF(T44>10,T44*0.9,T44)) -> 0
A45: =A44+1 -> 41 | P45: =IF(O45>0,IF(N45>0,(N45*M$3+O45*10/3)/O$3,O45*10/3*(1-0.1*M$3)),IF(N45>10,N45*0.9,N45)) -> 0 | R45: =IF(Q45>0,IF(P45>0,(P45*O$3+Q45*10/3)/Q$3,Q45*10/3*(1-0.1*O$3)),IF(P45>10,P45*0.9,P45)) -> 0 | T45: =IF(S45>0,IF(R45>0,(R45*Q$3+S45*10/3)/S$3,S45*10/3*(1-0.1*Q$3)),IF(R45>10,R45*0.9,R45)) -> 0 | V45: =IF(U45>0,IF(T45>0,(T45*S$3+U45*10/3)/U$3,U45*10/3*(1-0.1*S$3)),IF(T45>10,T45*0.9,T45)) -> 0
A46: =A45+1 -> 42 | T46: =IF(S46>0,IF(R46>0,(R46*Q$3+S46*10/3)/S$3,S46*10/3*(1-0.1*Q$3)),IF(R46>10,R46*0.9,R46)) -> 0 | V46: =IF(U46>0,IF(T46>0,(T46*S$3+U46*10/3)/U$3,U46*10/3*(1-0.1*S$3)),IF(T46>10,T46*0.9,T46)) -> 0
A47: =A46+1 -> 43 | P47: =IF(O47>0,IF(N47>0,(N47*M$3+O47*10/3)/O$3,O47*10/3*(1-0.1*M$3)),IF(N47>10,N47*0.9,N47)) -> 0 | R47: =IF(Q47>0,IF(P47>0,(P47*O$3+Q47*10/3)/Q$3,Q47*10/3*(1-0.1*O$3)),IF(P47>10,P47*0.9,P47)) -> 0 | T47: =IF(S47>0,IF(R47>0,(R47*Q$3+S47*10/3)/S$3,S47*10/3*(1-0.1*Q$3)),IF(R47>10,R47*0.9,R47)) -> 0 | V47: =IF(U47>0,IF(T47>0,(T47*S$3+U47*10/3)/U$3,U47*10/3*(1-0.1*S$3)),IF(T47>10,T47*0.9,T47)) -> 0
A48: =A47+1 -> 44 | T48: =IF(S48>0,IF(R48>0,(R48*Q$3+S48*10/3)/S$3,S48*10/3*(1-0.1*Q$3)),IF(R48>10,R48*0.9,R48)) -> 0 | V48: =IF(U48>0,IF(T48>0,(T48*S$3+U48*10/3)/U$3,U48*10/3*(1-0.1*S$3)),IF(T48>10,T48*0.9,T48)) -> 0
A49: =A48+1 -> 45 | T49: =IF(S49>0,IF(R49>0,(R49*Q$3+S49*10/3)/S$3,S49*10/3*(1-0.1*Q$3)),IF(R49>10,R49*0.9,R49)) -> 0 | V49: =IF(U49>0,IF(T49>0,(T49*S$3+U49*10/3)/U$3,U49*10/3*(1-0.1*S$3)),IF(T49>10,T49*0.9,T49)) -> 0
A50: =A49+1 -> 46 | P50: =IF(O50>0,IF(N50>0,(N50*M$3+O50*10/3)/O$3,O50*10/3*(1-0.1*M$3)),IF(N50>10,N50*0.9,N50)) -> 0 | R50: =IF(Q50>0,IF(P50>0,(P50*O$3+Q50*10/3)/Q$3,Q50*10/3*(1-0.1*O$3)),IF(P50>10,P50*0.9,P50)) -> 0 | T50: =IF(S50>0,IF(R50>0,(R50*Q$3+S50*10/3)/S$3,S50*10/3*(1-0.1*Q$3)),IF(R50>10,R50*0.9,R50)) -> 0 | V50: =IF(U50>0,IF(T50>0,(T50*S$3+U50*10/3)/U$3,U50*10/3*(1-0.1*S$3)),IF(T50>10,T50*0.9,T50)) -> 0
A51: 45 | P51: =IF(O51>0,IF(N51>0,(N51*M$3+O51*10/3)/O$3,O51*10/3*(1-0.1*M$3)),IF(N51>10,N51*0.9,N51)) -> 0 | R51: =IF(Q51>0,IF(P51>0,(P51*O$3+Q51*10/3)/Q$3,Q51*10/3*(1-0.1*O$3)),IF(P51>10,P51*0.9,P51)) -> 0 | T51: =IF(S51>0,IF(R51>0,(R51*Q$3+S51*10/3)/S$3,S51*10/3*(1-0.1*Q$3)),IF(R51>10,R51*0.9,R51)) -> 0 | V51: =IF(U51>0,IF(T51>0,(T51*S$3+U51*10/3)/U$3,U51*10/3*(1-0.1*S$3)),IF(T51>10,T51*0.9,T51)) -> 0
A52: =A51+1 -> 46 | P52: =IF(O52>0,IF(N52>0,(N52*M$3+O52*10/3)/O$3,O52*10/3*(1-0.1*M$3)),IF(N52>10,N52*0.9,N52)) -> 0 | R52: =IF(Q52>0,IF(P52>0,(P52*O$3+Q52*10/3)/Q$3,Q52*10/3*(1-0.1*O$3)),IF(P52>10,P52*0.9,P52)) -> 0 | T52: =IF(S52>0,IF(R52>0,(R52*Q$3+S52*10/3)/S$3,S52*10/3*(1-0.1*Q$3)),IF(R52>10,R52*0.9,R52)) -> 0 | V52: =IF(U52>0,IF(T52>0,(T52*S$3+U52*10/3)/U$3,U52*10/3*(1-0.1*S$3)),IF(T52>10,T52*0.9,T52)) -> 0
A53: =A52+1 -> 47 | P53: =IF(O53>0,IF(N53>0,(N53*M$3+O53*10/3)/O$3,O53*10/3*(1-0.1*M$3)),IF(N53>10,N53*0.9,N53)) -> 0 | R53: =IF(Q53>0,IF(P53>0,(P53*O$3+Q53*10/3)/Q$3,Q53*10/3*(1-0.1*O$3)),IF(P53>10,P53*0.9,P53)) -> 0 | T53: =IF(S53>0,IF(R53>0,(R53*Q$3+S53*10/3)/S$3,S53*10/3*(1-0.1*Q$3)),IF(R53>10,R53*0.9,R53)) -> 0 | V53: =IF(U53>0,IF(T53>0,(T53*S$3+U53*10/3)/U$3,U53*10/3*(1-0.1*S$3)),IF(T53>10,T53*0.9,T53)) -> 0
A54: =A53+1 -> 48 | P54: =IF(O54>0,IF(N54>0,(N54*M$3+O54*10/3)/O$3,O54*10/3*(1-0.1*M$3)),IF(N54>10,N54*0.9,N54)) -> 0 | R54: =IF(Q54>0,IF(P54>0,(P54*O$3+Q54*10/3)/Q$3,Q54*10/3*(1-0.1*O$3)),IF(P54>10,P54*0.9,P54)) -> 0 | T54: =IF(S54>0,IF(R54>0,(R54*Q$3+S54*10/3)/S$3,S54*10/3*(1-0.1*Q$3)),IF(R54>10,R54*0.9,R54)) -> 0 | V54: =IF(U54>0,IF(T54>0,(T54*S$3+U54*10/3)/U$3,U54*10/3*(1-0.1*S$3)),IF(T54>10,T54*0.9,T54)) -> 0
A55: =A54+1 -> 49 | T55: =IF(S55>0,IF(R55>0,(R55*Q$3+S55*10/3)/S$3,S55*10/3*(1-0.1*Q$3)),IF(R55>10,R55*0.9,R55)) -> 0 | V55: =IF(U55>0,IF(T55>0,(T55*S$3+U55*10/3)/U$3,U55*10/3*(1-0.1*S$3)),IF(T55>10,T55*0.9,T55)) -> 0
A56: =A55+1 -> 50 | P56: =IF(O56>0,IF(N56>0,(N56*M$3+O56*10/3)/O$3,O56*10/3*(1-0.1*M$3)),IF(N56>10,N56*0.9,N56)) -> 0 | R56: =IF(Q56>0,IF(P56>0,(P56*O$3+Q56*10/3)/Q$3,Q56*10/3*(1-0.1*O$3)),IF(P56>10,P56*0.9,P56)) -> 0 | T56: =IF(S56>0,IF(R56>0,(R56*Q$3+S56*10/3)/S$3,S56*10/3*(1-0.1*Q$3)),IF(R56>10,R56*0.9,R56)) -> 0 | V56: =IF(U56>0,IF(T56>0,(T56*S$3+U56*10/3)/U$3,U56*10/3*(1-0.1*S$3)),IF(T56>10,T56*0.9,T56)) -> 0
A57: =A56+1 -> 51 | T57: =IF(S57>0,IF(R57>0,(R57*Q$3+S57*10/3)/S$3,S57*10/3*(1-0.1*Q$3)),IF(R57>10,R57*0.9,R57)) -> 0 | V57: =IF(U57>0,IF(T57>0,(T57*S$3+U57*10/3)/U$3,U57*10/3*(1-0.1*S$3)),IF(T57>10,T57*0.9,T57)) -> 0
A58: =A57+1 -> 52 | T58: =IF(S58>0,IF(R58>0,(R58*Q$3+S58*10/3)/S$3,S58*10/3*(1-0.1*Q$3)),IF(R58>10,R58*0.9,R58)) -> 0 | V58: =IF(U58>0,IF(T58>0,(T58*S$3+U58*10/3)/U$3,U58*10/3*(1-0.1*S$3)),IF(T58>10,T58*0.9,T58)) -> 0
A59: =A58+1 -> 53 | T59: =IF(S59>0,IF(R59>0,(R59*Q$3+S59*10/3)/S$3,S59*10/3*(1-0.1*Q$3)),IF(R59>10,R59*0.9,R59)) -> 0 | V59: =IF(U59>0,IF(T59>0,(T59*S$3+U59*10/3)/U$3,U59*10/3*(1-0.1*S$3)),IF(T59>10,T59*0.9,T59)) -> 0
A60: 56 | T60: =IF(S60>0,IF(R60>0,(R60*Q$3+S60*10/3)/S$3,S60*10/3*(1-0.1*Q$3)),IF(R60>10,R60*0.9,R60)) -> 0 | V60: =IF(U60>0,IF(T60>0,(T60*S$3+U60*10/3)/U$3,U60*10/3*(1-0.1*S$3)),IF(T60>10,T60*0.9,T60)) -> 0
A61: 57 | T61: =IF(S61>0,IF(R61>0,(R61*Q$3+S61*10/3)/S$3,S61*10/3*(1-0.1*Q$3)),IF(R61>10,R61*0.9,R61)) -> 0 | V61: =IF(U61>0,IF(T61>0,(T61*S$3+U61*10/3)/U$3,U61*10/3*(1-0.1*S$3)),IF(T61>10,T61*0.9,T61)) -> 0
A62: 58 | T62: =IF(S62>0,IF(R62>0,(R62*Q$3+S62*10/3)/S$3,S62*10/3*(1-0.1*Q$3)),IF(R62>10,R62*0.9,R62)) -> 0 | V62: =IF(U62>0,IF(T62>0,(T62*S$3+U62*10/3)/U$3,U62*10/3*(1-0.1*S$3)),IF(T62>10,T62*0.9,T62)) -> 0
A63: 59 | T63: =IF(S63>0,IF(R63>0,(R63*Q$3+S63*10/3)/S$3,S63*10/3*(1-0.1*Q$3)),IF(R63>10,R63*0.9,R63)) -> 0 | V63: =IF(U63>0,IF(T63>0,(T63*S$3+U63*10/3)/U$3,U63*10/3*(1-0.1*S$3)),IF(T63>10,T63*0.9,T63)) -> 0
A64: 60 | T64: =IF(S64>0,IF(R64>0,(R64*Q$3+S64*10/3)/S$3,S64*10/3*(1-0.1*Q$3)),IF(R64>10,R64*0.9,R64)) -> 0 | V64: =IF(U64>0,IF(T64>0,(T64*S$3+U64*10/3)/U$3,U64*10/3*(1-0.1*S$3)),IF(T64>10,T64*0.9,T64)) -> 0
A65: 61 | V65: =IF(U65>0,IF(T65>0,(T65*S$3+U65*10/3)/U$3,U65*10/3*(1-0.1*S$3)),IF(T65>10,T65*0.9,T65)) -> 0
A66: 62 | V66: =IF(U66>0,IF(T66>0,(T66*S$3+U66*10/3)/U$3,U66*10/3*(1-0.1*S$3)),IF(T66>10,T66*0.9,T66)) -> 0
A67: 63 | V67: =IF(U67>0,IF(T67>0,(T67*S$3+U67*10/3)/U$3,U67*10/3*(1-0.1*S$3)),IF(T67>10,T67*0.9,T67)) -> 0
A68: 64 | V68: =IF(U68>0,IF(T68>0,(T68*S$3+U68*10/3)/U$3,U68*10/3*(1-0.1*S$3)),IF(T68>10,T68*0.9,T68)) -> 0
A69: 65 | V69: =IF(U69>0,IF(T69>0,(T69*S$3+U69*10/3)/U$3,U69*10/3*(1-0.1*S$3)),IF(T69>10,T69*0.9,T69)) -> 0
A70: 66
A71: 67 | T71: =IF(S71>0,IF(R71>0,(R71*Q$3+S71*10/3)/S$3,S71*10/3*(1-0.1*Q$3)),IF(R71>10,R71*0.9,R71)) -> 0
A72: 68 | T72: =IF(S72>0,IF(R72>0,(R72*Q$3+S72*10/3)/S$3,S72*10/3*(1-0.1*Q$3)),IF(R72>10,R72*0.9,R72)) -> 0
A73: 69 | P73: =IF(O73>0,IF(N73>0,(N73*M$3+O73*10/3)/O$3,O73*10/3*(1-0.1*M$3)),IF(N73>10,N73*0.9,N73)) -> 0 | T73: =IF(S73>0,IF(R73>0,(R73*Q$3+S73*10/3)/S$3,S73*10/3*(1-0.1*Q$3)),IF(R73>10,R73*0.9,R73)) -> 0
A74: Лига Чемпионов проводится каждую среду в 20.30
A75: К участию приглашаются все желающие, чье время круга не более 3 секунд медленнее рекорда трассы.

Sheet Очки
A2: 6-12 | B2: группа | E2: 13-14 | F2: группа | I2: 15-16 | J2: группа | M2: 17-18 | N2: группа | Q2: 19-20 | R2: группа | U2: 21-22 | V2: группа | Y2: 23-24 | Z2: группа | AC2: 23-24 | AD2: группа
A3: Место | B3: 1 | E3: Место | F3: 1 | G3: 2 | I3: Место | J3: 1 | K3: 2 | M3: Место | N3: 1 | O3: 2 | Q3: Место | R3: 1 | S3: 2 | U3: Место | V3: 1 | W3: 2 | Y3: Место | Z3: 1 | AA3: 2 | AC3: Место | AD3: 1 | AE3: 2
A4: 1 | B4: 16 | E4: 1 | F4: 16 | G4: 12 | I4: 1 | J4: 16 | K4: 11.5 | M4: 1 | N4: 16 | O4: 11 | Q4: 1 | R4: 16 | S4: 10.5 | U4: 1 | V4: 16 | W4: 10 | Y4: 1 | Z4: 16 | AA4: 9.5 | AC4: 1 | AD4: 16 | AE4: 9.5
A5: 2 | B5: 15 | E5: 2 | F5: 15 | G5: 11 | I5: 2 | J5: 15 | K5: 10.5 | M5: 2 | N5: 15 | O5: 10 | Q5: 2 | R5: 15 | S5: 9.5 | U5: 2 | V5: 15 | W5: 9 | Y5: 2 | Z5: 15 | AA5: 8.5 | AC5: 2 | AD5: 15 | AE5: 8.5
A6: 3 | B6: 14 | E6: 3 | F6: 14 | G6: 10 | I6: 3 | J6: 14 | K6: 9.5 | M6: 3 | N6: 14 | O6: 9 | Q6: 3 | R6: 14 | S6: 8.5 | U6: 3 | V6: 14 | W6: 8 | Y6: 3 | Z6: 14 | AA6: 7.5 | AC6: 3 | AD6: 14 | AE6: 7.5
A7: 4 | B7: 13 | E7: 4 | F7: 13 | G7: 9 | I7: 4 | J7: 13 | K7: 8.5 | M7: 4 | N7: 13 | O7: 8 | Q7: 4 | R7: 13 | S7: 7.5 | U7: 4 | V7: 13 | W7: 7 | Y7: 4 | Z7: 13 | AA7: 6.5 | AC7: 4 | AD7: 13 | AE7: 6.5
A8: 5 | B8: 12 | E8: 5 | F8: 12 | G8: 8 | I8: 5 | J8: 12 | K8: 7.5 | M8: 5 | N8: 12 | O8: 7 | Q8: 5 | R8: 12 | S8: 6.5 | U8: 5 | V8: 12 | W8: 6 | Y8: 5 | Z8: 12 | AA8: 5.5 | AC8: 5 | AD8: 12 | AE8: 5.5
A9: 6 | B9: 11.5 | E9: 6 | F9: 11.5 | G9: 7.5 | I9: 6 | J9: 11.5 | K9: 7 | M9: 6 | N9: 11.5 | O9: 6.5 | Q9: 6 | R9: 11.5 | S9: 6 | U9: 6 | V9: 11.5 | W9: 5.5 | Y9: 6 | Z9: 11.5 | AA9: 5 | AC9: 6 | AD9: 11.5 | AE9: 5
A10: 7 | B10: 11 | E10: 7 | F10: 11 | G10: 7 | I10: 7 | J10: 11 | K10: 6.5 | M10: 7 | N10: 11 | O10: 6 | Q10: 7 | R10: 11 | S10: 5.5 | U10: 7 | V10: 11 | W10: 5 | Y10: 7 | Z10: 11 | AA10: 4.5 | AC10: 7 | AD10: 11 | AE10: 4.5
A11: 8 | B11: 10.5 | I11: 8 | J11: 10.5 | K11: 6 | M11: 8 | N11: 10.5 | O11: 5.5 | Q11: 8 | R11: 10.5 | S11: 5 | U11: 8 | V11: 10.5 | W11: 4.5 | Y11: 8 | Z11: 10.5 | AA11: 4 | AC11: 8 | AD11: 10.5 | AE11: 4
A12: 9 | B12: 10 | M12: 9 | N12: 10 | O12: 5 | Q12: 9 | R12: 10 | S12: 4.5 | U12: 9 | V12: 10 | W12: 4 | Y12: 9 | Z12: 10 | AA12: 3.5 | AC12: 9 | AD12: 10 | AE12: 3.5
A13: 10 | B13: 9.5 | Q13: 10 | R13: 9.5 | S13: 4 | U13: 10 | V13: 9.5 | W13: 3.5 | Y13: 10 | Z13: 9.5 | AA13: 3 | AC13: 10 | AD13: 9.5 | AE13: 3
A14: 11 | B14: 9 | U14: 11 | V14: 9 | W14: 3 | Y14: 11 | Z14: 9 | AA14: 2.5 | AC14: 11 | AD14: 9 | AE14: 2.5
A15: 12 | B15: 8.5 | Y15: 12 | Z15: 8.5 | AA15: 2 | AC15: 12 | AD15: 8.5 | AE15: 2
AC16: 13 | AD16: 8 | AE16: 1.5
B18: Обгоны для 1 группы более 10 человек | P18: ОБГОНЫ
B19: с 13 | C19: с 12 | D19: с 11 | E19: с 10 | F19: с 9 | G19: с 8 | H19: с 7 | I19: с 6 | J19: с 5 | K19: с 4 | L19: с 3 | M19: со 2 | P19: I гр | AA19: II гр
A20: 1 | B20: 1.3 | C20: 1.3 | D20: 1.2 | E20: 1.1 | F20: 1 | G20: 0.9 | H20: 0.8 | I20: 0.7 | J20: 0.6 | K20: 0.6 | L20: 0.5 | M20: 0.5 | P20: с 12 | Q20: с 11 | R20: с 10 | S20: с 9 | T20: с 8 | U20: с 7 | V20: с 6 | W20: с 5 | X20: с 4 | Y20: с 3 | Z20: со 2
A21: 2 | B21: 2.6 | C21: 2.5 | D21: 2.3 | E21: 2.1 | F21: 1.9 | G21: 1.7 | H21: 1.5 | I21: 1.3 | J21: =J20+K20 -> 1.2 | K21: =K20+L20 -> 1.1 | L21: =L20+M20 -> 1 | O21: 1.4 | P21: 1.3 | Q21: 1.3 | R21: 1.3 | S21: 1.2 | T21: 1.2 | U21: 1.1 | V21: 1 | W21: 0.9 | X21: 0.8 | Y21: 0.7 | Z21: 0.7 | AA21: 0.7
A22: 3 | B22: 3.8 | C22: 3.6 | D22: 3.3 | E22: 3 | F22: 2.7 | G22: 2.4 | H22: 2.1 | I22: 1.9 | J22: =J21+L20 -> 1.7 | K22: =K21+M20 -> 1.6 | O22: =O21+P21 -> 2.7 | P22: =P21+Q21 -> 2.6 | Q22: =Q21+R21 -> 2.6 | R22: =R21+S21 -> 2.5 | S22: =S21+T21 -> 2.4 | T22: =T21+U21 -> 2.3 | U22: =U21+V21 -> 2.1 | V22: =V21+W21 -> 1.9 | ... Y22: =Y21+Z21 -> 1.4 | AA22: 1.4
A23: 4 | B23: 4.9 | C23: 4.6 | D23: 4.2 | E23: 3.8 | F23: 3.4 | G23: 3 | H23: 2.7 | I23: 2.4 | J23: =J22+M20 -> 2.2 | O23: =O22+Q21 -> 4 | P23: =P22+R21 -> 3.9 | Q23: =Q22+S21 -> 3.8 | R23: =R22+T21 -> 3.7 | S23: =S22+U21 -> 3.5 | T23: =T22+V21 -> 3.3 | U23: =U22+W21 -> 3 | V23: =V22+X21 -> 2.7 | ... X23: =X22+Z21 -> 2.2 | AA23: 2.1
A24: 5 | B24: 5.9 | C24: 5.5 | E24: 4.5 | F24: 4 | G24: 3.6 | H24: 3.2 | I24: 2.9 | O24: =O23+R21 -> 5.3 | P24: =P23+S21 -> 5.1 | Q24: =Q23+T21 -> 5 | R24: =R23+U21 -> 4.8 | S24: =S23+V21 -> 4.5 | T24: =T23+W21 -> 4.2 | U24: =U23+X21 -> 3.8 | V24: =V23+Y21 -> 3.4 | W24: =W23+Z21 -> 3.1 | AA24: 2.8
A25: 6 | B25: 6.8 | C25: 6.3 | D25: 5.7 | E25: 5.1 | F25: 4.6 | G25: 4.1 | H25: 3.7 | O25: =O24+S21 -> 6.5 | P25: =P24+T21 -> 6.3 | Q25: =Q24+U21 -> 6.1 | R25: =R24+V21 -> 5.8 | S25: =S24+W21 -> 5.4 | T25: =T24+X21 -> 5 | U25: =U24+Y21 -> 4.5 | V25: =V24+Z21 -> 4.1 | AA25: 3.5
A26: 7 | B26: 7.6 | C26: 7 | D26: 6.3 | E26: 5.7 | F26: 5.1 | G26: 4.6 | O26: =O25+T21 -> 7.7 | P26: =P25+U21 -> 7.4 | Q26: =Q25+V21 -> 7.1 | R26: =R25+W21 -> 6.7 | S26: =S25+X21 -> 6.2 | T26: =T25+Y21 -> 5.7 | U26: =U25+Z21 -> 5.2 | AA26: 4.2
A27: 8 | B27: 8.3 | C27: 7.6 | D27: 6.9 | E27: 6.2 | F27: 5.6 | O27: =O26+U21 -> 8.8 | P27: =P26+V21 -> 8.4 | Q27: =Q26+W21 -> 8 | R27: =R26+X21 -> 7.5 | S27: =S26+Y21 -> 6.9 | T27: =T26+Z21 -> 6.4 | AA27: 4.9
A28: 9 | B28: 8.9 | C28: 8.2 | D28: 7.4 | E28: 6.7 | O28: =O27+V21 -> 9.8 | P28: =P27+W21 -> 9.3 | Q28: =Q27+X21 -> 8.8 | R28: =R27+Y21 -> 8.2 | S28: =S27+Z21 -> 7.6 | AA28: 5.6
A29: 10 | B29: 9.5 | C29: 8.7 | D29: 7.9 | O29: =O28+W21 -> 10.7 | P29: =P28+X21 -> 10.1 | Q29: =Q28+Y21 -> 9.5 | R29: =R28+Z21 -> 8.9 | AA29: 6.3
A30: 11 | B30: 10 | C30: 9.2 | O30: =O29+X21 -> 11.5 | P30: =P29+Y21 -> 10.8 | Q30: =Q29+Z21 -> 10.2 | AA30: 7
A31: 12 | B31: 10.5 | O31: =O30+Y21 -> 12.2 | P31: =P30+Z21 -> 11.5 | AA31: 7.7
O32: =O31+Z21 -> 12.9

Sheet 21.06
A1: Лига II -й сезон 21.06.2017 конфиг 6
A3: Место | B3: Участник | D3: 1 | G3: 2 | J3: 3 | M3: Очки | AA3: =SUM(M3:Z3) -> 0 | AB3: Сумма
C4: Довес | D4: группа | E4: Старт | F4: Финиш | G4: группа | H4: Старт | I4: Финиш | J4: группа | K4: Старт | L4: Финиш | M4: Квала | N4: 1 | R4: 2 | V4: 3
N5: очки | O5: обгоны | P5: время | Q5: штрафы | R5: очки | S5: обгоны | T5: время | U5: штрафы | V5: очки | W5: обгоны | X5: время | Y5: штрафы | Z5: 4
A6: =RANK(AB6,AB$6:OFFSET(AB$6,0,0,COUNTA(B$6:B$24))) -> 1 | B6: Хавило Дима/Khavilo Dima | C6: 10 | D6: 1 | E6: 1 | F6: 1 | G6: 1 | H6: 8 | I6: 5 | J6: 1 | K6: 3 | L6: 2 | N6: =OFFSET(Очки!$A$3,F6,D6+QUOTIENT(MAX($C$25-11,0), 2)*4) -> 16 | O6: =IF(F6<E6,OFFSET(IF(OR($C$25=11,$C$25=12),Очки!$B$17,Очки!$O$18),2+E6-F6,IF(D6=2,12,13-E6)),0) -> 0 | P6: 2.5 | R6: =OFFSET(Очки!$A$3,I6,G6+QUOTIENT(MAX($C$25-11,0), 2)*4) -> 12 | S6: =IF(I6<H6,OFFSET(IF(OR($C$25=11,$C$25=12),Очки!$B$17,Очки!$O$18),2+H6-I6,IF(G6=2,12,13-H6)),0) -> 3.3 | V6: =OFFSET(Очки!$A$3,L6,J6+QUOTIENT(MAX($C$25-11,0), 2)*4) -> 15 | W6: =IF(L6<K6,OFFSET(IF(OR($C$25=11,$C$25=12),Очки!$B$17,Очки!$O$18),2+K6-L6,IF(J6=2,12,13-K6)),0) -> 0.7 | X6: 2 | AB6: =SUM(M6:Y6) -> 51.5
A7: =RANK(AB7,AB$6:OFFSET(AB$6,0,0,COUNTA(B$6:B$24))) -> 2 | B7: Пикулин Паша/Pikulin Pavlo | C7: 7.5 | D7: 1 | E7: 8 | F7: 4 | G7: 1 | H7: 7 | I7: 7 | J7: 1 | K7: 5 | L7: 5 | M7: 2.5 | N7: =OFFSET(Очки!$A$3,F7,D7+QUOTIENT(MAX($C$25-11,0), 2)*4) -> 13 | O7: =IF(F7<E7,OFFSET(IF(OR($C$25=11,$C$25=12),Очки!$B$17,Очки!$O$18),2+E7-F7,IF(D7=2,12,13-E7)),0) -> 4.2 | P7: 2 | R7: =OFFSET(Очки!$A$3,I7,G7+QUOTIENT(MAX($C$25-11,0), 2)*4) -> 11 | S7: =IF(I7<H7,OFFSET(IF(OR($C$25=11,$C$25=12),Очки!$B$17,Очки!$O$18),2+H7-I7,IF(G7=2,12,13-H7)),0) -> 0 | T7: 1 | V7: =OFFSET(Очки!$A$3,L7,J7+QUOTIENT(MAX($C$25-11,0), 2)*4) -> 12 | W7: =IF(L7<K7,OFFSET(IF(OR($C$25=11,$C$25=12),Очки!$B$17,Очки!$O$18),2+K7-L7,IF(J7=2,12,13-K7)),0) -> 0 | AB7: =SUM(M7:Y7) -> 45.7
A8: =RANK(AB8,AB$6:OFFSET(AB$6,0,0,COUNTA(B$6:B$24))) -> 3 | B8: Манило Денис/Manilo Denis | C8: - | D8: 1 | E8: 2 | F8: 2 | G8: 1 | H8: 5 | I8: 3 | J8: 1 | K8: 7 | L8: 7 | N8: =OFFSET(Очки!$A$3,F8,D8+QUOTIENT(MAX($C$25-11,0), 2)*4) -> 15 | O8: =IF(F8<E8,OFFSET(IF(OR($C$25=11,$C$25=12),Очки!$B$17,Очки!$O$18),2+E8-F8,IF(D8=2,12,13-E8)),0) -> 0 | P8: 1 | R8: =OFFSET(Очки!$A$3,I8,G8+QUOTIENT(MAX($C$25-11,0), 2)*4) -> 14 | S8: =IF(I8<H8,OFFSET(IF(OR($C$25=11,$C$25=12),Очки!$B$17,Очки!$O$18),2+H8-I8,IF(G8=2,12,13-H8)),0) -> 1.7 | T8: 2 | V8: =OFFSET(Очки!$A$3,L8,J8+QUOTIENT(MAX($C$25-11,0), 2)*4) -> 11 | W8: =IF(L8<K8,OFFSET(IF(OR($C$25=11,$C$25=12),Очки!$B$17,Очки!$O$18),2+K8-L8,IF(J8=2,12,13-K8)),0) -> 0 | X8: 0.5 | AB8: =SUM(M8:Y8) -> 45.2
A9: =RANK(AB9,AB$6:OFFSET(AB$6,0,0,COUNTA(B$6:B$24))) -> 4 | B9: Онащук Максим | C9: - | D9: 1 | E9: 4 | F9: 3 | G9: 1 | H9: 6 | I9: 8 | J9: 2 | K9: 7 | L9: 3 | M9: 0.5 | N9: =OFFSET(Очки!$A$3,F9,D9+QUOTIENT(MAX($C$25-11,0), 2)*4) -> 14 | O9: =IF(F9<E9,OFFSET(IF(OR($C$25=11,$C$25=12),Очки!$B$17,Очки!$O$18),2+E9-F9,IF(D9=2,12,13-E9)),0) -> 0.8 | P9: 1.5 | R9: =OFFSET(Очки!$A$3,I9,G9+QUOTIENT(MAX($C$25-11,0), 2)*4) -> 10.5 | S9: =IF(I9<H9,OFFSET(IF(OR($C$25=11,$C$25=12),Очки!$B$17,Очки!$O$18),2+H9-I9,IF(G9=2,12,13-H9)),0) -> 0 | V9: =OFFSET(Очки!$A$3,L9,J9+QUOTIENT(MAX($C$25-11,0), 2)*4) -> 9.5 | W9: =IF(L9<K9,OFFSET(IF(OR($C$25=11,$C$25=12),Очки!$B$17,Очки!$O$18),2+K9-L9,IF(J9=2,12,13-K9)),0) -> 2.8 | X9: 2.5 | AB9: =SUM(M9:Y9) -> 42.1
A10: =RANK(AB10,AB$6:OFFSET(AB$6,0,0,COUNTA(B$6:B$24))) -> 5 | B10: Лабинский Николай/Labinskiy Nikolay | C10: - | D10: 1 | E10: 5 | F10: 6 | G10: 1 | H10: 1 | I10: 1 | J10: 1 | K10: 4 | L10: 4 | M10: 1 | N10: =OFFSET(Очки!$A$3,F10,D10+QUOTIENT(MAX($C$25-11,0), 2)*4) -> 11.5 | O10: =IF(F10<E10,OFFSET(IF(OR($C$25=11,$C$25=12),Очки!$B$17,Очки!$O$18),2+E10-F10,IF(D10=2,12,13-E10)),0) -> 0 | R10: =OFFSET(Очки!$A$3,I10,G10+QUOTIENT(MAX($C$25-11,0), 2)*4) -> 16 | S10: =IF(I10<H10,OFFSET(IF(OR($C$25=11,$C$25=12),Очки!$B$17,Очки!$O$18),2+H10-I10,IF(G10=2,12,13-H10)),0) -> 0 | T10: 0.5 | V10: =OFFSET(Очки!$A$3,L10,J10+QUOTIENT(MAX($C$25-11,0), 2)*4) -> 13 | W10: =IF(L10<K10,OFFSET(IF(OR($C$25=11,$C$25=12),Очки!$B$17,Очки!$O$18),2+K10-L10,IF(J10=2,12,13-K10)),0) -> 0 | AB10: =SUM(M10:Y10) -> 42
A11: =RANK(AB11,AB$6:OFFSET(AB$6,0,0,COUNTA(B$6:B$24))) -> 6 | B11: Кравченко Женя | D11: 2 | E11: 2 | F11: 2 | G11: 2 | H11: 2 | I11: 2 | J11: 1 | K11: 2 | L11: 3 | N11: =OFFSET(Очки!$A$3,F11,D11+QUOTIENT(MAX($C$25-11,0), 2)*4) -> 10.5 | O11: =IF(F11<E11,OFFSET(IF(OR($C$25=11,$C$25=12),Очки!$B$17,Очки!$O$18),2+E11-F11,IF(D11=2,12,13-E11)),0) -> 0 | R11: =OFFSET(Очки!$A$3,I11,G11+QUOTIENT(MAX($C$25-11,0), 2)*4) -> 10.5 | S11: =IF(I11<H11,OFFSET(IF(OR($C$25=11,$C$25=12),Очки!$B$17,Очки!$O$18),2+H11-I11,IF(G11=2,12,13-H11)),0) -> 0 | V11: =OFFSET(Очки!$A$3,L11,J11+QUOTIENT(MAX($C$25-11,0), 2)*4) -> 14 | W11: =IF(L11<K11,OFFSET(IF(OR($C$25=11,$C$25=12),Очки!$B$17,Очки!$O$18),2+K11-L11,IF(J11=2,12,13-K11)),0) -> 0 | AB11: =SUM(M11:Y11) -> 35
A12: =RANK(AB12,AB$6:OFFSET(AB$6,0,0,COUNTA(B$6:B$24))) -> 7 | B12: Кочмарев Юрий / Kochmarev Yuriy | C12: - | D12: 2 | E12: 1 | F12: 1 | G12: 1 | H12: 3 | I12: 6 | J12: 2 | K12: 1 | L12: 1 | N12: =OFFSET(Очки!$A$3,F12,D12+QUOTIENT(MAX($C$25-11,0), 2)*4) -> 11.5 | O12: =IF(F12<E12,OFFSET(IF(OR($C$25=11,$C$25=12),Очки!$B$17,Очки!$O$18),2+E12-F12,IF(D12=2,12,13-E12)),0) -> 0 | R12: =OFFSET(Очки!$A$3,I12,G12+QUOTIENT(MAX($C$25-11,0), 2)*4) -> 11.5 | S12: =IF(I12<H12,OFFSET(IF(OR($C$25=11,$C$25=12),Очки!$B$17,Очки!$O$18),2+H12-I12,IF(G12=2,12,13-H12)),0) -> 0 | V12: =OFFSET(Очки!$A$3,L12,J12+QUOTIENT(MAX($C$25-11,0), 2)*4) -> 11.5 | W12: =IF(L12<K12,OFFSET(IF(OR($C$25=11,$C$25=12),Очки!$B$17,Очки!$O$18),2+K12-L12,IF(J12=2,12,13-K12)),0) -> 0 | AB12: =SUM(M12:Y12) -> 34.5
A13: =RANK(AB13,AB$6:OFFSET(AB$6,0,0,COUNTA(B$6:B$24))) -> 8 | B13: Наум/Vintoniv Ivan | C13: 5 | D13: 1 | E13: 6 | F13: 6 | G13: 1 | H13: 4 | I13: 4 | J13: 1 | K13: 8 | L13: 6 | M13: 1.5 | N13: =OFFSET(Очки!$A$3,F13,D13+QUOTIENT(MAX($C$25-11,0), 2)*4) -> 11.5 | O13: =IF(F13<E13,OFFSET(IF(OR($C$25=11,$C$25=12),Очки!$B$17,Очки!$O$18),2+E13-F13,IF(D13=2,12,13-E13)),0) -> 0 | P13: 0.5 | R13: =OFFSET(Очки!$A$3,I13,G13+QUOTIENT(MAX($C$25-11,0), 2)*4) -> 13 | S13: =IF(I13<H13,OFFSET(IF(OR($C$25=11,$C$25=12),Очки!$B$17,Очки!$O$18),2+H13-I13,IF(G13=2,12,13-H13)),0) -> 0 | T13: 2.5 | V13: =OFFSET(Очки!$A$3,L13,J13+QUOTIENT(MAX($C$25-11,0), 2)*4) -> 11.5 | W13: =IF(L13<K13,OFFSET(IF(OR($C$25=11,$C$25=12),Очки!$B$17,Очки!$O$18),2+K13-L13,IF(J13=2,12,13-K13)),0) -> 2.3 | X13: 1.5 | Y13: =-5-5 -> -10 | AB13: =SUM(M13:Y13) -> 34.3
A14: =RANK(AB14,AB$6:OFFSET(AB$6,0,0,COUNTA(B$6:B$24))) -> 9 | B14: Ткаченко Антон/Tkachenko Anton | C14: - | D14: 1 | E14: 7 | F14: 5 | G14: 1 | H14: 2 | I14: 2 | J14: 2 | K14: 2 | L14: 2 | M14: 2 | N14: =OFFSET(Очки!$A$3,F14,D14+QUOTIENT(MAX($C$25-11,0), 2)*4) -> 12 | O14: =IF(F14<E14,OFFSET(IF(OR($C$25=11,$C$25=12),Очки!$B$17,Очки!$O$18),2+E14-F14,IF(D14=2,12,13-E14)),0) -> 2.1 | Q14: -9 | R14: =OFFSET(Очки!$A$3,I14,G14+QUOTIENT(MAX($C$25-11,0), 2)*4) -> 15 | S14: =IF(I14<H14,OFFSET(IF(OR($C$25=11,$C$25=12),Очки!$B$17,Очки!$O$18),2+H14-I14,IF(G14=2,12,13-H14)),0) -> 0 | V14: =OFFSET(Очки!$A$3,L14,J14+QUOTIENT(MAX($C$25-11,0), 2)*4) -> 10.5 | W14: =IF(L14<K14,OFFSET(IF(OR($C$25=11,$C$25=12),Очки!$B$17,Очки!$O$18),2+K14-L14,IF(J14=2,12,13-K14)),0) -> 0 | AB14: =SUM(M14:Y14) -> 32.6
A15: =RANK(AB15,AB$6:OFFSET(AB$6,0,0,COUNTA(B$6:B$24))) -> 10 | B15: Фортуна Таня / Fortuna Tanya | C15: - | D15: 2 | E15: 7 | F15: 7 | G15: 2 | H15: 5 | I15: 7 | J15: 1 | K15: 1 | L15: 1 | N15: =OFFSET(Очки!$A$3,F15,D15+QUOTIENT(MAX($C$25-11,0), 2)*4) -> 6.5 | O15: =IF(F15<E15,OFFSET(IF(OR($C$25=11,$C$25=12),Очки!$B$17,Очки!$O$18),2+E15-F15,IF(D15=2,12,13-E15)),0) -> 0 | R15: =OFFSET(Очки!$A$3,I15,G15+QUOTIENT(MAX($C$25-11,0), 2)*4) -> 6.5 | S15: =IF(I15<H15,OFFSET(IF(OR($C$25=11,$C$25=12),Очки!$B$17,Очки!$O$18),2+H15-I15,IF(G15=2,12,13-H15)),0) -> 0 | V15: =OFFSET(Очки!$A$3,L15,J15+QUOTIENT(MAX($C$25-11,0), 2)*4) -> 16 | W15: =IF(L15<K15,OFFSET(IF(OR($C$25=11,$C$25=12),Очки!$B$17,Очки!$O$18),2+K15-L15,IF(J15=2,12,13-K15)),0) -> 0 | AB15: =SUM(M15:Y15) -> 29
A16: =RANK(AB16,AB$6:OFFSET(AB$6,0,0,COUNTA(B$6:B$24))) -> 11 | B16: Шутка Виталий/Shutka Vitalii | C16: - | D16: 2 | E16: 4 | F16: 4 | G16: 2 | H16: 1 | I16: 1 | J16: 2 | K16: 6 | L16: 5 | N16: =OFFSET(Очки!$A$3,F16,D16+QUOTIENT(MAX($C$25-11,0), 2)*4) -> 8.5 | O16: =IF(F16<E16,OFFSET(IF(OR($C$25=11,$C$25=12),Очки!$B$17,Очки!$O$18),2+E16-F16,IF(D16=2,12,13-E16)),0) -> 0 | R16: =OFFSET(Очки!$A$3,I16,G16+QUOTIENT(MAX($C$25-11,0), 2)*4) -> 11.5 | S16: =IF(I16<H16,OFFSET(IF(OR($C$25=11,$C$25=12),Очки!$B$17,Очки!$O$18),2+H16-I16,IF(G16=2,12,13-H16)),0) -> 0 | V16: =OFFSET(Очки!$A$3,L16,J16+QUOTIENT(MAX($C$25-11,0), 2)*4) -> 7.5 | W16: =IF(L16<K16,OFFSET(IF(OR($C$25=11,$C$25=12),Очки!$B$17,Очки!$O$18),2+K16-L16,IF(J16=2,12,13-K16)),0) -> 0.7 | AB16: =SUM(M16:Y16) -> 28.2
A17: =RANK(AB17,AB$6:OFFSET(AB$6,0,0,COUNTA(B$6:B$24))) -> 12 | B17: Тыщенко Михаил/Tishchenko Mikhail | C17: - | D17: 2 | E17: 5 | F17: 5 | G17: 2 | H17: 7 | I17: 6 | J17: 1 | K17: 6 | L17: 7 | N17: =OFFSET(Очки!$A$3,F17,D17+QUOTIENT(MAX($C$25-11,0), 2)*4) -> 7.5 | O17: =IF(F17<E17,OFFSET(IF(OR($C$25=11,$C$25=12),Очки!$B$17,Очки!$O$18),2+E17-F17,IF(D17=2,12,13-E17)),0) -> 0 | R17: =OFFSET(Очки!$A$3,I17,G17+QUOTIENT(MAX($C$25-11,0), 2)*4) -> 7 | S17: =IF(I17<H17,OFFSET(IF(OR($C$25=11,$C$25=12),Очки!$B$17,Очки!$O$18),2+H17-I17,IF(G17=2,12,13-H17)),0) -> 0.7 | T17: 1.5 | V17: =OFFSET(Очки!$A$3,L17,J17+QUOTIENT(MAX($C$25-11,0), 2)*4) -> 11 | W17: =IF(L17<K17,OFFSET(IF(OR($C$25=11,$C$25=12),Очки!$B$17,Очки!$O$18),2+K17-L17,IF(J17=2,12,13-K17)),0) -> 0 | AB17: =SUM(M17:Y17) -> 27.7
A18: =RANK(AB18,AB$6:OFFSET(AB$6,0,0,COUNTA(B$6:B$24))) -> 13 | B18: Джемула Сергей / Dzemula Sergey | C18: - | D18: 2 | E18: 3 | F18: 3 | G18: 2 | H18: 4 | I18: 5 | J18: 2 | K18: 5 | L18: 4 | N18: =OFFSET(Очки!$A$3,F18,D18+QUOTIENT(MAX($C$25-11,0), 2)*4) -> 9.5 | O18: =IF(F18<E18,OFFSET(IF(OR($C$25=11,$C$25=12),Очки!$B$17,Очки!$O$18),2+E18-F18,IF(D18=2,12,13-E18)),0) -> 0 | R18: =OFFSET(Очки!$A$3,I18,G18+QUOTIENT(MAX($C$25-11,0), 2)*4) -> 7.5 | S18: =IF(I18<H18,OFFSET(IF(OR($C$25=11,$C$25=12),Очки!$B$17,Очки!$O$18),2+H18-I18,IF(G18=2,12,13-H18)),0) -> 0 | V18: =OFFSET(Очки!$A$3,L18,J18+QUOTIENT(MAX($C$25-11,0), 2)*4) -> 8.5 | W18: =IF(L18<K18,OFFSET(IF(OR($C$25=11,$C$25=12),Очки!$B$17,Очки!$O$18),2+K18-L18,IF(J18=2,12,13-K18)),0) -> 0.7 | X18: 1 | AB18: =SUM(M18:Y18) -> 27.2
A19: =RANK(AB19,AB$6:OFFSET(AB$6,0,0,COUNTA(B$6:B$24))) -> 14 | B19: Хлопонин Андрей | C19: 10 | D19: 1 | E19: 3 | F19: 8 | G19: 2 | H19: 3 | I19: 3 | J19: 2 | K19: 4 | L19: 7 | N19: =OFFSET(Очки!$A$3,F19,D19+QUOTIENT(MAX($C$25-11,0), 2)*4) -> 10.5 | O19: =IF(F19<E19,OFFSET(IF(OR($C$25=11,$C$25=12),Очки!$B$17,Очки!$O$18),2+E19-F19,IF(D19=2,12,13-E19)),0) -> 0 | R19: =OFFSET(Очки!$A$3,I19,G19+QUOTIENT(MAX($C$25-11,0), 2)*4) -> 9.5 | S19: =IF(I19<H19,OFFSET(IF(OR($C$25=11,$C$25=12),Очки!$B$17,Очки!$O$18),2+H19-I19,IF(G19=2,12,13-H19)),0) -> 0 | V19: =OFFSET(Очки!$A$3,L19,J19+QUOTIENT(MAX($C$25-11,0), 2)*4) -> 6.5 | W19: =IF(L19<K19,OFFSET(IF(OR($C$25=11,$C$25=12),Очки!$B$17,Очки!$O$18),2+K19-L19,IF(J19=2,12,13-K19)),0) -> 0 | AB19: =SUM(M19:Y19) -> 26.5
A20: =RANK(AB20,AB$6:OFFSET(AB$6,0,0,COUNTA(B$6:B$24))) -> 15 | B20: Несторенко Андрей/Nestorenko Andrew | C20: - | D20: 2 | E20: 6 | F20: 5 | G20: 2 | H20: 6 | I20: 4 | J20: 2 | K20: 3 | L20: 6 | N20: =OFFSET(Очки!$A$3,F20,D20+QUOTIENT(MAX($C$25-11,0), 2)*4) -> 7.5 | O20: =IF(F20<E20,OFFSET(IF(OR($C$25=11,$C$25=12),Очки!$B$17,Очки!$O$18),2+E20-F20,IF(D20=2,12,13-E20)),0) -> 0.7 | Q20: -8 | R20: =OFFSET(Очки!$A$3,I20,G20+QUOTIENT(MAX($C$25-11,0), 2)*4) -> 8.5 | S20: =IF(I20<H20,OFFSET(IF(OR($C$25=11,$C$25=12),Очки!$B$17,Очки!$O$18),2+H20-I20,IF(G20=2,12,13-H20)),0) -> 1.4 | V20: =OFFSET(Очки!$A$3,L20,J20+QUOTIENT(MAX($C$25-11,0), 2)*4) -> 7 | W20: =IF(L20<K20,OFFSET(IF(OR($C$25=11,$C$25=12),Очки!$B$17,Очки!$O$18),2+K20-L20,IF(J20=2,12,13-K20)),0) -> 0 | AB20: =SUM(M20:Y20) -> 17.1
A21: =RANK(AB21,AB$6:OFFSET(AB$6,0,0,COUNTA(B$6:B$24))) -> #N/A | N21: =OFFSET(Очки!$A$3,F21,D21+QUOTIENT(MAX($C$25-11,0), 2)*4) -> Место | O21: =IF(F21<E21,OFFSET(IF(OR($C$25=11,$C$25=12),Очки!$B$17,Очки!$O$18),2+E21-F21,IF(D21=2,12,13-E21)),0) -> 0 | R21: =OFFSET(Очки!$A$3,I21,G21+QUOTIENT(MAX($C$25-11,0), 2)*4) -> Место | S21: =IF(I21<H21,OFFSET(IF(OR($C$25=11,$C$25=12),Очки!$B$17,Очки!$O$18),2+H21-I21,IF(G21=2,12,13-H21)),0) -> 0 | V21: =OFFSET(Очки!$A$3,L21,J21+QUOTIENT(MAX($C$25-11,0), 2)*4) -> Место | W21: =IF(L21<K21,OFFSET(IF(OR($C$25=11,$C$25=12),Очки!$B$17,Очки!$O$18),2+K21-L21,IF(J21=2,12,13-K21)),0) -> 0 | AB21: =SUM(M21:Y21) -> 0
A22: =RANK(AB22,AB$6:OFFSET(AB$6,0,0,COUNTA(B$6:B$24))) -> #N/A | N22: =OFFSET(Очки!$A$3,F22,D22+QUOTIENT(MAX($C$25-11,0), 2)*4) -> Место | O22: =IF(F22<E22,OFFSET(IF(OR($C$25=11,$C$25=12),Очки!$B$17,Очки!$O$18),2+E22-F22,IF(D22=2,12,13-E22)),0) -> 0 | R22: =OFFSET(Очки!$A$3,I22,G22+QUOTIENT(MAX($C$25-11,0), 2)*4) -> Место | S22: =IF(I22<H22,OFFSET(IF(OR($C$25=11,$C$25=12),Очки!$B$17,Очки!$O$18),2+H22-I22,IF(G22=2,12,13-H22)),0) -> 0 | V22: =OFFSET(Очки!$A$3,L22,J22+QUOTIENT(MAX($C$25-11,0), 2)*4) -> Место | W22: =IF(L22<K22,OFFSET(IF(OR($C$25=11,$C$25=12),Очки!$B$17,Очки!$O$18),2+K22-L22,IF(J22=2,12,13-K22)),0) -> 0 | AB22: =SUM(M22:Y22) -> 0
A23: =RANK(AB23,AB$6:OFFSET(AB$6,0,0,COUNTA(B$6:B$24))) -> #N/A | N23: =OFFSET(Очки!$A$3,F23,D23+QUOTIENT(MAX($C$25-11,0), 2)*4) -> Место | O23: =IF(F23<E23,OFFSET(IF(OR($C$25=11,$C$25=12),Очки!$B$17,Очки!$O$18),2+E23-F23,IF(D23=2,12,13-E23)),0) -> 0 | R23: =OFFSET(Очки!$A$3,I23,G23+QUOTIENT(MAX($C$25-11,0), 2)*4) -> Место | S23: =IF(I23<H23,OFFSET(IF(OR($C$25=11,$C$25=12),Очки!$B$17,Очки!$O$18),2+H23-I23,IF(G23=2,12,13-H23)),0) -> 0 | V23: =OFFSET(Очки!$A$3,L23,J23+QUOTIENT(MAX($C$25-11,0), 2)*4) -> Место | W23: =IF(L23<K23,OFFSET(IF(OR($C$25=11,$C$25=12),Очки!$B$17,Очки!$O$18),2+K23-L23,IF(J23=2,12,13-K23)),0) -> 0 | AB23: =SUM(M23:Y23) -> 0
A24: =RANK(AB24,AB$6:OFFSET(AB$6,0,0,COUNTA(B$6:B$24))) -> #N/A | N24: =OFFSET(Очки!$A$3,F24,D24+QUOTIENT(MAX($C$25-11,0), 2)*4) -> Место | O24: =IF(F24<E24,OFFSET(IF(OR($C$25=11,$C$25=12),Очки!$B$17,Очки!$O$18),2+E24-F24,IF(D24=2,12,13-E24)),0) -> 0 | R24: =OFFSET(Очки!$A$3,I24,G24+QUOTIENT(MAX($C$25-11,0), 2)*4) -> Место | S24: =IF(I24<H24,OFFSET(IF(OR($C$25=11,$C$25=12),Очки!$B$17,Очки!$O$18),2+H24-I24,IF(G24=2,12,13-H24)),0) -> 0 | V24: =OFFSET(Очки!$A$3,L24,J24+QUOTIENT(MAX($C$25-11,0), 2)*4) -> Место | W24: =IF(L24<K24,OFFSET(IF(OR($C$25=11,$C$25=12),Очки!$B$17,Очки!$O$18),2+K24-L24,IF(J24=2,12,13-K24)),0) -> 0 | AB24: =SUM(M24:Y24) -> 0
B25: Всего участников | C25: =COUNTA(B6:B24) -> 15

Sheet 28.06
A1: Лига II -й сезон 21.06.2017 конфиг 6
A3: Место | B3: Участник | D3: 1 | G3: 2 | J3: 3 | M3: Очки | AA3: =SUM(M3:Z3) -> 0 | AB3: Сумма
C4: Довес | D4: группа | E4: Старт | F4: Финиш | G4: группа | H4: Старт | I4: Финиш | J4: группа | K4: Старт | L4: Финиш | M4: Квала | N4: 1 | R4: 2 | V4: 3
N5: очки | O5: обгоны | P5: время | Q5: штрафы | R5: очки | S5: обгоны | T5: время | U5: штрафы | V5: очки | W5: обгоны | X5: время | Y5: штрафы | Z5: 4
A6: =RANK(AB6,AB$6:OFFSET(AB$6,0,0,COUNTA(B$6:B$28))) -> 1 | B6: Наум/Vintoniv Ivan | D6: 1 | E6: 10 | F6: 11 | G6: 1 | H6: 10 | I6: 2 | J6: 1 | K6: 9 | L6: 3 | M6: 2 | N6: =OFFSET(Очки!$A$3,F6,D6+QUOTIENT(MAX($C$29-11,0), 2)*4) -> 9 | O6: =IF(F6<E6,OFFSET(IF(OR($C$29=11,$C$29=12),Очки!$B$17,Очки!$O$18),2+E6-F6,IF(D6=2,12,13-E6)),0) -> 0 | P6: 2.5 | Q6: -1 | R6: =OFFSET(Очки!$A$3,I6,G6+QUOTIENT(MAX($C$29-11,0), 2)*4) -> 15 | S6: =IF(I6<H6,OFFSET(IF(OR($C$29=11,$C$29=12),Очки!$B$17,Очки!$O$18),2+H6-I6,IF(G6=2,12,13-H6)),0) -> 8.2 | T6: 2 | V6: =OFFSET(Очки!$A$3,L6,J6+QUOTIENT(MAX($C$29-11,0), 2)*4) -> 14 | W6: =IF(L6<K6,OFFSET(IF(OR($C$29=11,$C$29=12),Очки!$B$17,Очки!$O$18),2+K6-L6,IF(J6=2,12,13-K6)),0) -> 6.2 | X6: 1.5 | AB6: =SUM(M6:Y6) -> 59.4
A7: =RANK(AB7,AB$6:OFFSET(AB$6,0,0,COUNTA(B$6:B$28))) -> 2 | B7: Манило Денис/Manilo Denis | D7: 1 | E7: 1 | F7: 1 | G7: 1 | H7: 8 | I7: 7 | J7: 1 | K7: 3 | L7: 1 | N7: =OFFSET(Очки!$A$3,F7,D7+QUOTIENT(MAX($C$29-11,0), 2)*4) -> 16 | O7: =IF(F7<E7,OFFSET(IF(OR($C$29=11,$C$29=12),Очки!$B$17,Очки!$O$18),2+E7-F7,IF(D7=2,12,13-E7)),0) -> 0 | P7: 1.5 | R7: =OFFSET(Очки!$A$3,I7,G7+QUOTIENT(MAX($C$29-11,0), 2)*4) -> 11 | S7: =IF(I7<H7,OFFSET(IF(OR($C$29=11,$C$29=12),Очки!$B$17,Очки!$O$18),2+H7-I7,IF(G7=2,12,13-H7)),0) -> 1.2 | V7: =OFFSET(Очки!$A$3,L7,J7+QUOTIENT(MAX($C$29-11,0), 2)*4) -> 16 | W7: =IF(L7<K7,OFFSET(IF(OR($C$29=11,$C$29=12),Очки!$B$17,Очки!$O$18),2+K7-L7,IF(J7=2,12,13-K7)),0) -> 1.4 | X7: 0.5 | AB7: =SUM(M7:Y7) -> 47.6
A8: =RANK(AB8,AB$6:OFFSET(AB$6,0,0,COUNTA(B$6:B$28))) -> 3 | B8: Пикулин Павел | D8: 1 | E8: 9 | F8: 7 | G8: 1 | H8: 7 | I8: 5 | J8: 1 | K8: 8 | L8: 5 | M8: 1.5 | N8: =OFFSET(Очки!$A$3,F8,D8+QUOTIENT(MAX($C$29-11,0), 2)*4) -> 11 | O8: =IF(F8<E8,OFFSET(IF(OR($C$29=11,$C$29=12),Очки!$B$17,Очки!$O$18),2+E8-F8,IF(D8=2,12,13-E8)),0) -> 2.4 | P8: 0.5 | R8: =OFFSET(Очки!$A$3,I8,G8+QUOTIENT(MAX($C$29-11,0), 2)*4) -> 12 | S8: =IF(I8<H8,OFFSET(IF(OR($C$29=11,$C$29=12),Очки!$B$17,Очки!$O$18),2+H8-I8,IF(G8=2,12,13-H8)),0) -> 2.1 | T8: 1.5 | V8: =OFFSET(Очки!$A$3,L8,J8+QUOTIENT(MAX($C$29-11,0), 2)*4) -> 12 | W8: =IF(L8<K8,OFFSET(IF(OR($C$29=11,$C$29=12),Очки!$B$17,Очки!$O$18),2+K8-L8,IF(J8=2,12,13-K8)),0) -> 3.3 | AB8: =SUM(M8:Y8) -> 46.3
A9: =RANK(AB9,AB$6:OFFSET(AB$6,0,0,COUNTA(B$6:B$28))) -> 4 | B9: Лабинский Николай/Labinskiy Nikolay | D9: 1 | E9: 11 | F9: 8 | G9: 1 | H9: 4 | I9: 3 | J9: 1 | K9: 5 | L9: 6 | M9: 2.5 | N9: =OFFSET(Очки!$A$3,F9,D9+QUOTIENT(MAX($C$29-11,0), 2)*4) -> 10.5 | O9: =IF(F9<E9,OFFSET(IF(OR($C$29=11,$C$29=12),Очки!$B$17,Очки!$O$18),2+E9-F9,IF(D9=2,12,13-E9)),0) -> 3.8 | R9: =OFFSET(Очки!$A$3,I9,G9+QUOTIENT(MAX($C$29-11,0), 2)*4) -> 14 | S9: =IF(I9<H9,OFFSET(IF(OR($C$29=11,$C$29=12),Очки!$B$17,Очки!$O$18),2+H9-I9,IF(G9=2,12,13-H9)),0) -> 0.8 | V9: =OFFSET(Очки!$A$3,L9,J9+QUOTIENT(MAX($C$29-11,0), 2)*4) -> 11.5 | W9: =IF(L9<K9,OFFSET(IF(OR($C$29=11,$C$29=12),Очки!$B$17,Очки!$O$18),2+K9-L9,IF(J9=2,12,13-K9)),0) -> 0 | AB9: =SUM(M9:Y9) -> 43.1
A10: =RANK(AB10,AB$6:OFFSET(AB$6,0,0,COUNTA(B$6:B$28))) -> 5 | B10: Онащук Максим | C10: - | D10: 1 | E10: 3 | F10: 5 | G10: 1 | H10: 1 | I10: 1 | J10: 1 | K10: 7 | L10: 2 | N10: =OFFSET(Очки!$A$3,F10,D10+QUOTIENT(MAX($C$29-11,0), 2)*4) -> 12 | O10: =IF(F10<E10,OFFSET(IF(OR($C$29=11,$C$29=12),Очки!$B$17,Очки!$O$18),2+E10-F10,IF(D10=2,12,13-E10)),0) -> 0 | R10: =OFFSET(Очки!$A$3,I10,G10+QUOTIENT(MAX($C$29-11,0), 2)*4) -> 16 | S10: =IF(I10<H10,OFFSET(IF(OR($C$29=11,$C$29=12),Очки!$B$17,Очки!$O$18),2+H10-I10,IF(G10=2,12,13-H10)),0) -> 0 | T10: 1 | V10: =OFFSET(Очки!$A$3,L10,J10+QUOTIENT(MAX($C$29-11,0), 2)*4) -> 15 | W10: =IF(L10<K10,OFFSET(IF(OR($C$29=11,$C$29=12),Очки!$B$17,Очки!$O$18),2+K10-L10,IF(J10=2,12,13-K10)),0) -> 4.5 | X10: 1 | Y10: -11 | AB10: =SUM(M10:Y10) -> 38.5
A11: =RANK(AB11,AB$6:OFFSET(AB$6,0,0,COUNTA(B$6:B$28))) -> 6 | B11: Ткаченко Антон/Tkachenko Anton | D11: 1 | E11: 4 | F11: 4 | G11: 2 | H11: 7 | I11: 8 | J11: 1 | K11: 10 | L11: 4 | N11: =OFFSET(Очки!$A$3,F11,D11+QUOTIENT(MAX($C$29-11,0), 2)*4) -> 13 | O11: =IF(F11<E11,OFFSET(IF(OR($C$29=11,$C$29=12),Очки!$B$17,Очки!$O$18),2+E11-F11,IF(D11=2,12,13-E11)),0) -> 0 | R11: =OFFSET(Очки!$A$3,I11,G11+QUOTIENT(MAX($C$29-11,0), 2)*4) -> 4.5 | S11: =IF(I11<H11,OFFSET(IF(OR($C$29=11,$C$29=12),Очки!$B$17,Очки!$O$18),2+H11-I11,IF(G11=2,12,13-H11)),0) -> 0 | T11: 2.5 | V11: =OFFSET(Очки!$A$3,L11,J11+QUOTIENT(MAX($C$29-11,0), 2)*4) -> 13 | W11: =IF(L11<K11,OFFSET(IF(OR($C$29=11,$C$29=12),Очки!$B$17,Очки!$O$18),2+K11-L11,IF(J11=2,12,13-K11)),0) -> 6.7 | X11: 2.5 | Y11: -5 | AB11: =SUM(M11:Y11) -> 37.2
A12: =RANK(AB12,AB$6:OFFSET(AB$6,0,0,COUNTA(B$6:B$28))) -> 7 | B12: Петушков Андрей | C12: 10 | D12: 1 | E12: 5 | F12: 3 | G12: 1 | H12: 5 | I12: 8 | J12: 2 | K12: 10 | L12: 6 | N12: =OFFSET(Очки!$A$3,F12,D12+QUOTIENT(MAX($C$29-11,0), 2)*4) -> 14 | O12: =IF(F12<E12,OFFSET(IF(OR($C$29=11,$C$29=12),Очки!$B$17,Очки!$O$18),2+E12-F12,IF(D12=2,12,13-E12)),0) -> 1.7 | R12: =OFFSET(Очки!$A$3,I12,G12+QUOTIENT(MAX($C$29-11,0), 2)*4) -> 10.5 | S12: =IF(I12<H12,OFFSET(IF(OR($C$29=11,$C$29=12),Очки!$B$17,Очки!$O$18),2+H12-I12,IF(G12=2,12,13-H12)),0) -> 0 | V12: =OFFSET(Очки!$A$3,L12,J12+QUOTIENT(MAX($C$29-11,0), 2)*4) -> 5.5 | W12: =IF(L12<K12,OFFSET(IF(OR($C$29=11,$C$29=12),Очки!$B$17,Очки!$O$18),2+K12-L12,IF(J12=2,12,13-K12)),0) -> 2.8 | X12: 2 | AB12: =SUM(M12:Y12) -> 36.5
A13: =RANK(AB13,AB$6:OFFSET(AB$6,0,0,COUNTA(B$6:B$28))) -> 8 | B13: Скобликов Владислав | C13: - | D13: 1 | E13: 7 | F13: 6 | G13: 1 | H13: 6 | I13: 6 | J13: 1 | K13: 6 | L13: 9 | M13: 0.5 | N13: =OFFSET(Очки!$A$3,F13,D13+QUOTIENT(MAX($C$29-11,0), 2)*4) -> 11.5 | O13: =IF(F13<E13,OFFSET(IF(OR($C$29=11,$C$29=12),Очки!$B$17,Очки!$O$18),2+E13-F13,IF(D13=2,12,13-E13)),0) -> 1.1 | R13: =OFFSET(Очки!$A$3,I13,G13+QUOTIENT(MAX($C$29-11,0), 2)*4) -> 11.5 | S13: =IF(I13<H13,OFFSET(IF(OR($C$29=11,$C$29=12),Очки!$B$17,Очки!$O$18),2+H13-I13,IF(G13=2,12,13-H13)),0) -> 0 | T13: 0.5 | V13: =OFFSET(Очки!$A$3,L13,J13+QUOTIENT(MAX($C$29-11,0), 2)*4) -> 10 | W13: =IF(L13<K13,OFFSET(IF(OR($C$29=11,$C$29=12),Очки!$B$17,Очки!$O$18),2+K13-L13,IF(J13=2,12,13-K13)),0) -> 0 | AB13: =SUM(M13:Y13) -> 35.1
A14: =RANK(AB14,AB$6:OFFSET(AB$6,0,0,COUNTA(B$6:B$28))) -> 9 | B14: Кочмарев Юрий / Kochmarev Yuriy | D14: 2 | E14: 9 | F14: 7 | G14: 2 | H14: 9 | I14: 3 | J14: 2 | K14: 6 | L14: 1 | N14: =OFFSET(Очки!$A$3,F14,D14+QUOTIENT(MAX($C$29-11,0), 2)*4) -> 5 | O14: =IF(F14<E14,OFFSET(IF(OR($C$29=11,$C$29=12),Очки!$B$17,Очки!$O$18),2+E14-F14,IF(D14=2,12,13-E14)),0) -> 1.4 | R14: =OFFSET(Очки!$A$3,I14,G14+QUOTIENT(MAX($C$29-11,0), 2)*4) -> 8 | S14: =IF(I14<H14,OFFSET(IF(OR($C$29=11,$C$29=12),Очки!$B$17,Очки!$O$18),2+H14-I14,IF(G14=2,12,13-H14)),0) -> 4.2 | V14: =OFFSET(Очки!$A$3,L14,J14+QUOTIENT(MAX($C$29-11,0), 2)*4) -> 10 | W14: =IF(L14<K14,OFFSET(IF(OR($C$29=11,$C$29=12),Очки!$B$17,Очки!$O$18),2+K14-L14,IF(J14=2,12,13-K14)),0) -> 3.5 | AB14: =SUM(M14:Y14) -> 32.1
A15: =RANK(AB15,AB$6:OFFSET(AB$6,0,0,COUNTA(B$6:B$28))) -> 9 | B15: Тыщенко Миша | C15: - | D15: 2 | E15: 4 | F15: 2 | G15: 1 | H15: 3 | I15: 4 | J15: 2 | K15: 4 | L15: 3 | N15: =OFFSET(Очки!$A$3,F15,D15+QUOTIENT(MAX($C$29-11,0), 2)*4) -> 9 | O15: =IF(F15<E15,OFFSET(IF(OR($C$29=11,$C$29=12),Очки!$B$17,Очки!$O$18),2+E15-F15,IF(D15=2,12,13-E15)),0) -> 1.4 | R15: =OFFSET(Очки!$A$3,I15,G15+QUOTIENT(MAX($C$29-11,0), 2)*4) -> 13 | S15: =IF(I15<H15,OFFSET(IF(OR($C$29=11,$C$29=12),Очки!$B$17,Очки!$O$18),2+H15-I15,IF(G15=2,12,13-H15)),0) -> 0 | V15: =OFFSET(Очки!$A$3,L15,J15+QUOTIENT(MAX($C$29-11,0), 2)*4) -> 8 | W15: =IF(L15<K15,OFFSET(IF(OR($C$29=11,$C$29=12),Очки!$B$17,Очки!$O$18),2+K15-L15,IF(J15=2,12,13-K15)),0) -> 0.7 | AB15: =SUM(M15:Y15) -> 32.1
A16: =RANK(AB16,AB$6:OFFSET(AB$6,0,0,COUNTA(B$6:B$28))) -> 11 | B16: Хавило Дима/Khavilo Dima | C16: 15 | D16: 1 | E16: 6 | F16: 10 | G16: 1 | H16: 9 | I16: 10 | J16: 1 | K16: 4 | L16: 10 | N16: =OFFSET(Очки!$A$3,F16,D16+QUOTIENT(MAX($C$29-11,0), 2)*4) -> 9.5 | O16: =IF(F16<E16,OFFSET(IF(OR($C$29=11,$C$29=12),Очки!$B$17,Очки!$O$18),2+E16-F16,IF(D16=2,12,13-E16)),0) -> 0 | P16: 2 | R16: =OFFSET(Очки!$A$3,I16,G16+QUOTIENT(MAX($C$29-11,0), 2)*4) -> 9.5 | S16: =IF(I16<H16,OFFSET(IF(OR($C$29=11,$C$29=12),Очки!$B$17,Очки!$O$18),2+H16-I16,IF(G16=2,12,13-H16)),0) -> 0 | V16: =OFFSET(Очки!$A$3,L16,J16+QUOTIENT(MAX($C$29-11,0), 2)*4) -> 9.5 | W16: =IF(L16<K16,OFFSET(IF(OR($C$29=11,$C$29=12),Очки!$B$17,Очки!$O$18),2+K16-L16,IF(J16=2,12,13-K16)),0) -> 0 | AB16: =SUM(M16:Y16) -> 30.5
A17: =RANK(AB17,AB$6:OFFSET(AB$6,0,0,COUNTA(B$6:B$28))) -> 12 | B17: Несторенко Андрей/Nestorenko Andrew | C17: - | D17: 2 | E17: 6 | F17: 5 | G17: 2 | H17: 4 | I17: 1 | J17: 2 | K17: 9 | L17: 4 | N17: =OFFSET(Очки!$A$3,F17,D17+QUOTIENT(MAX($C$29-11,0), 2)*4) -> 6 | O17: =IF(F17<E17,OFFSET(IF(OR($C$29=11,$C$29=12),Очки!$B$17,Очки!$O$18),2+E17-F17,IF(D17=2,12,13-E17)),0) -> 0.7 | R17: =OFFSET(Очки!$A$3,I17,G17+QUOTIENT(MAX($C$29-11,0), 2)*4) -> 10 | S17: =IF(I17<H17,OFFSET(IF(OR($C$29=11,$C$29=12),Очки!$B$17,Очки!$O$18),2+H17-I17,IF(G17=2,12,13-H17)),0) -> 2.1 | V17: =OFFSET(Очки!$A$3,L17,J17+QUOTIENT(MAX($C$29-11,0), 2)*4) -> 7 | W17: =IF(L17<K17,OFFSET(IF(OR($C$29=11,$C$29=12),Очки!$B$17,Очки!$O$18),2+K17-L17,IF(J17=2,12,13-K17)),0) -> 3.5 | AB17: =SUM(M17:Y17) -> 29.3
A18: =RANK(AB18,AB$6:OFFSET(AB$6,0,0,COUNTA(B$6:B$28))) -> 13 | B18: Плакидюк Виталий | C18: - | D18: 1 | E18: 2 | F18: 2 | G18: 1 | H18: 2 | I18: 9 | J18: 2 | K18: 5 | L18: 8 | N18: =OFFSET(Очки!$A$3,F18,D18+QUOTIENT(MAX($C$29-11,0), 2)*4) -> 15 | O18: =IF(F18<E18,OFFSET(IF(OR($C$29=11,$C$29=12),Очки!$B$17,Очки!$O$18),2+E18-F18,IF(D18=2,12,13-E18)),0) -> 0 | R18: =OFFSET(Очки!$A$3,I18,G18+QUOTIENT(MAX($C$29-11,0), 2)*4) -> 10 | S18: =IF(I18<H18,OFFSET(IF(OR($C$29=11,$C$29=12),Очки!$B$17,Очки!$O$18),2+H18-I18,IF(G18=2,12,13-H18)),0) -> 0 | V18: =OFFSET(Очки!$A$3,L18,J18+QUOTIENT(MAX($C$29-11,0), 2)*4) -> 4.5 | W18: =IF(L18<K18,OFFSET(IF(OR($C$29=11,$C$29=12),Очки!$B$17,Очки!$O$18),2+K18-L18,IF(J18=2,12,13-K18)),0) -> 0 | Y18: -8 | AB18: =SUM(M18:Y18) -> 21.5
A19: =RANK(AB19,AB$6:OFFSET(AB$6,0,0,COUNTA(B$6:B$28))) -> 14 | B19: Лихошерст Алексей | D19: 2 | E19: 7 | F19: 9 | G19: 2 | H19: 6 | I19: 7 | J19: 1 | K19: 1 | L19: 5 | N19: =OFFSET(Очки!$A$3,F19,D19+QUOTIENT(MAX($C$29-11,0), 2)*4) -> 4 | O19: =IF(F19<E19,OFFSET(IF(OR($C$29=11,$C$29=12),Очки!$B$17,Очки!$O$18),2+E19-F19,IF(D19=2,12,13-E19)),0) -> 0 | R19: =OFFSET(Очки!$A$3,I19,G19+QUOTIENT(MAX($C$29-11,0), 2)*4) -> 5 | S19: =IF(I19<H19,OFFSET(IF(OR($C$29=11,$C$29=12),Очки!$B$17,Очки!$O$18),2+H19-I19,IF(G19=2,12,13-H19)),0) -> 0 | V19: =OFFSET(Очки!$A$3,L19,J19+QUOTIENT(MAX($C$29-11,0), 2)*4) -> 12 | W19: =IF(L19<K19,OFFSET(IF(OR($C$29=11,$C$29=12),Очки!$B$17,Очки!$O$18),2+K19-L19,IF(J19=2,12,13-K19)),0) -> 0 | AB19: =SUM(M19:Y19) -> 21
A20: =RANK(AB20,AB$6:OFFSET(AB$6,0,0,COUNTA(B$6:B$28))) -> 15 | B20: Джемула Сергей | C20: - | D20: 2 | E20: 8 | F20: 8 | G20: 2 | H20: 8 | I20: 9 | J20: 1 | K20: 2 | L20: 8 | N20: =OFFSET(Очки!$A$3,F20,D20+QUOTIENT(MAX($C$29-11,0), 2)*4) -> 4.5 | O20: =IF(F20<E20,OFFSET(IF(OR($C$29=11,$C$29=12),Очки!$B$17,Очки!$O$18),2+E20-F20,IF(D20=2,12,13-E20)),0) -> 0 | R20: =OFFSET(Очки!$A$3,I20,G20+QUOTIENT(MAX($C$29-11,0), 2)*4) -> 4 | S20: =IF(I20<H20,OFFSET(IF(OR($C$29=11,$C$29=12),Очки!$B$17,Очки!$O$18),2+H20-I20,IF(G20=2,12,13-H20)),0) -> 0 | V20: =OFFSET(Очки!$A$3,L20,J20+QUOTIENT(MAX($C$29-11,0), 2)*4) -> 10.5 | W20: =IF(L20<K20,OFFSET(IF(OR($C$29=11,$C$29=12),Очки!$B$17,Очки!$O$18),2+K20-L20,IF(J20=2,12,13-K20)),0) -> 0 | AB20: =SUM(M20:Y20) -> 19
A21: =RANK(AB21,AB$6:OFFSET(AB$6,0,0,COUNTA(B$6:B$28))) -> 16 | B21: Дарий Игорь | C21: - | D21: 2 | E21: 10 | F21: 6 | G21: 2 | H21: 3 | I21: 2 | J21: 2 | K21: 7 | L21: 5 | N21: =OFFSET(Очки!$A$3,F21,D21+QUOTIENT(MAX($C$29-11,0), 2)*4) -> 5.5 | O21: =IF(F21<E21,OFFSET(IF(OR($C$29=11,$C$29=12),Очки!$B$17,Очки!$O$18),2+E21-F21,IF(D21=2,12,13-E21)),0) -> 2.8 | R21: =OFFSET(Очки!$A$3,I21,G21+QUOTIENT(MAX($C$29-11,0), 2)*4) -> 9 | S21: =IF(I21<H21,OFFSET(IF(OR($C$29=11,$C$29=12),Очки!$B$17,Очки!$O$18),2+H21-I21,IF(G21=2,12,13-H21)),0) -> 0.7 | U21: -8 | V21: =OFFSET(Очки!$A$3,L21,J21+QUOTIENT(MAX($C$29-11,0), 2)*4) -> 6 | W21: =IF(L21<K21,OFFSET(IF(OR($C$29=11,$C$29=12),Очки!$B$17,Очки!$O$18),2+K21-L21,IF(J21=2,12,13-K21)),0) -> 1.4 | AB21: =SUM(M21:Y21) -> 17.4
A22: =RANK(AB22,AB$6:OFFSET(AB$6,0,0,COUNTA(B$6:B$28))) -> 17 | B22: Хлопонин Андрей | C22: 10 | D22: 2 | E22: 5 | F22: 3 | G22: 2 | H22: 5 | I22: 5 | J22: 2 | K22: 8 | L22: 7 | N22: =OFFSET(Очки!$A$3,F22,D22+QUOTIENT(MAX($C$29-11,0), 2)*4) -> 8 | O22: =IF(F22<E22,OFFSET(IF(OR($C$29=11,$C$29=12),Очки!$B$17,Очки!$O$18),2+E22-F22,IF(D22=2,12,13-E22)),0) -> 1.4 | R22: =OFFSET(Очки!$A$3,I22,G22+QUOTIENT(MAX($C$29-11,0), 2)*4) -> 6 | S22: =IF(I22<H22,OFFSET(IF(OR($C$29=11,$C$29=12),Очки!$B$17,Очки!$O$18),2+H22-I22,IF(G22=2,12,13-H22)),0) -> 0 | U22: -5 | V22: =OFFSET(Очки!$A$3,L22,J22+QUOTIENT(MAX($C$29-11,0), 2)*4) -> 5 | W22: =IF(L22<K22,OFFSET(IF(OR($C$29=11,$C$29=12),Очки!$B$17,Очки!$O$18),2+K22-L22,IF(J22=2,12,13-K22)),0) -> 0.7 | AB22: =SUM(M22:Y22) -> 16.1
A23: =RANK(AB23,AB$6:OFFSET(AB$6,0,0,COUNTA(B$6:B$28))) -> 18 | B23: Денисенко Павел | C23: - | D23: 2 | E23: 3 | F23: 10 | G23: 2 | H23: 1 | I23: 3 | J23: 2 | K23: 1 | L23: 10 | N23: =OFFSET(Очки!$A$3,F23,D23+QUOTIENT(MAX($C$29-11,0), 2)*4) -> 3.5 | O23: =IF(F23<E23,OFFSET(IF(OR($C$29=11,$C$29=12),Очки!$B$17,Очки!$O$18),2+E23-F23,IF(D23=2,12,13-E23)),0) -> 0 | R23: =OFFSET(Очки!$A$3,I23,G23+QUOTIENT(MAX($C$29-11,0), 2)*4) -> 8 | S23: =IF(I23<H23,OFFSET(IF(OR($C$29=11,$C$29=12),Очки!$B$17,Очки!$O$18),2+H23-I23,IF(G23=2,12,13-H23)),0) -> 0 | V23: =OFFSET(Очки!$A$3,L23,J23+QUOTIENT(MAX($C$29-11,0), 2)*4) -> 3.5 | W23: =IF(L23<K23,OFFSET(IF(OR($C$29=11,$C$29=12),Очки!$B$17,Очки!$O$18),2+K23-L23,IF(J23=2,12,13-K23)),0) -> 0 | AB23: =SUM(M23:Y23) -> 15
A24: =RANK(AB24,AB$6:OFFSET(AB$6,0,0,COUNTA(B$6:B$28))) -> 18 | B24: Дымко Славик | D24: 2 | E24: 1 | F24: 4 | G24: 2 | H24: 2 | I24: 10 | J24: 2 | K24: 2 | L24: 8 | N24: =OFFSET(Очки!$A$3,F24,D24+QUOTIENT(MAX($C$29-11,0), 2)*4) -> 7 | O24: =IF(F24<E24,OFFSET(IF(OR($C$29=11,$C$29=12),Очки!$B$17,Очки!$O$18),2+E24-F24,IF(D24=2,12,13-E24)),0) -> 0 | R24: =OFFSET(Очки!$A$3,I24,G24+QUOTIENT(MAX($C$29-11,0), 2)*4) -> 3.5 | S24: =IF(I24<H24,OFFSET(IF(OR($C$29=11,$C$29=12),Очки!$B$17,Очки!$O$18),2+H24-I24,IF(G24=2,12,13-H24)),0) -> 0 | V24: =OFFSET(Очки!$A$3,L24,J24+QUOTIENT(MAX($C$29-11,0), 2)*4) -> 4.5 | W24: =IF(L24<K24,OFFSET(IF(OR($C$29=11,$C$29=12),Очки!$B$17,Очки!$O$18),2+K24-L24,IF(J24=2,12,13-K24)),0) -> 0 | AB24: =SUM(M24:Y24) -> 15
A25: =RANK(AB25,AB$6:OFFSET(AB$6,0,0,COUNTA(B$6:B$28))) -> 20 | B25: Дио | D25: 1 | E25: 8 | F25: 9 | G25: 1 | M25: 1 | N25: =OFFSET(Очки!$A$3,F25,D25+QUOTIENT(MAX($C$29-11,0), 2)*4) -> 10 | O25: =IF(F25<E25,OFFSET(IF(OR($C$29=11,$C$29=12),Очки!$B$17,Очки!$O$18),2+E25-F25,IF(D25=2,12,13-E25)),0) -> 0 | P25: 1 | R25: =OFFSET(Очки!$A$3,I25,G25+QUOTIENT(MAX($C$29-11,0), 2)*4) -> 1 | S25: =IF(I25<H25,OFFSET(IF(OR($C$29=11,$C$29=12),Очки!$B$17,Очки!$O$18),2+H25-I25,IF(G25=2,12,13-H25)),0) -> 0 | V25: =OFFSET(Очки!$A$3,L25,J25+QUOTIENT(MAX($C$29-11,0), 2)*4) -> Место | W25: =IF(L25<K25,OFFSET(IF(OR($C$29=11,$C$29=12),Очки!$B$17,Очки!$O$18),2+K25-L25,IF(J25=2,12,13-K25)),0) -> 0 | AB25: =SUM(M25:Y25) -> 13
A26: =RANK(AB26,AB$6:OFFSET(AB$6,0,0,COUNTA(B$6:B$28))) -> 21 | B26: Хорошавин Доминик | C26: 12.5 | D26: 2 | E26: 2 | F26: 1 | G26: 2 | H26: 10 | I26: 5 | J26: 2 | K26: 3 | L26: 1 | N26: =OFFSET(Очки!$A$3,F26,D26+QUOTIENT(MAX($C$29-11,0), 2)*4) -> 10 | O26: =IF(F26<E26,OFFSET(IF(OR($C$29=11,$C$29=12),Очки!$B$17,Очки!$O$18),2+E26-F26,IF(D26=2,12,13-E26)),0) -> 0.7 | R26: =OFFSET(Очки!$A$3,I26,G26+QUOTIENT(MAX($C$29-11,0), 2)*4) -> 6 | S26: =IF(I26<H26,OFFSET(IF(OR($C$29=11,$C$29=12),Очки!$B$17,Очки!$O$18),2+H26-I26,IF(G26=2,12,13-H26)),0) -> 3.5 | U26: -8 | V26: =OFFSET(Очки!$A$3,L26,J26+QUOTIENT(MAX($C$29-11,0), 2)*4) -> 10 | W26: =IF(L26<K26,OFFSET(IF(OR($C$29=11,$C$29=12),Очки!$B$17,Очки!$O$18),2+K26-L26,IF(J26=2,12,13-K26)),0) -> 1.4 | Y26: -11 | AB26: =SUM(M26:Y26) -> 12.6
A27: =RANK(AB27,AB$6:OFFSET(AB$6,0,0,COUNTA(B$6:B$28))) -> #N/A | N27: =OFFSET(Очки!$A$3,F27,D27+QUOTIENT(MAX($C$29-11,0), 2)*4) -> Место | O27: =IF(F27<E27,OFFSET(IF(OR($C$29=11,$C$29=12),Очки!$B$17,Очки!$O$18),2+E27-F27,IF(D27=2,12,13-E27)),0) -> 0 | R27: =OFFSET(Очки!$A$3,I27,G27+QUOTIENT(MAX($C$29-11,0), 2)*4) -> Место | S27: =IF(I27<H27,OFFSET(IF(OR($C$29=11,$C$29=12),Очки!$B$17,Очки!$O$18),2+H27-I27,IF(G27=2,12,13-H27)),0) -> 0 | V27: =OFFSET(Очки!$A$3,L27,J27+QUOTIENT(MAX($C$29-11,0), 2)*4) -> Место | W27: =IF(L27<K27,OFFSET(IF(OR($C$29=11,$C$29=12),Очки!$B$17,Очки!$O$18),2+K27-L27,IF(J27=2,12,13-K27)),0) -> 0 | AB27: =SUM(M27:Y27) -> 0
A28: =RANK(AB28,AB$6:OFFSET(AB$6,0,0,COUNTA(B$6:B$28))) -> #N/A | N28: =OFFSET(Очки!$A$3,F28,D28+QUOTIENT(MAX($C$29-11,0), 2)*4) -> Место | O28: =IF(F28<E28,OFFSET(IF(OR($C$29=11,$C$29=12),Очки!$B$17,Очки!$O$18),2+E28-F28,IF(D28=2,12,13-E28)),0) -> 0 | R28: =OFFSET(Очки!$A$3,I28,G28+QUOTIENT(MAX($C$29-11,0), 2)*4) -> Место | S28: =IF(I28<H28,OFFSET(IF(OR($C$29=11,$C$29=12),Очки!$B$17,Очки!$O$18),2+H28-I28,IF(G28=2,12,13-H28)),0) -> 0 | V28: =OFFSET(Очки!$A$3,L28,J28+QUOTIENT(MAX($C$29-11,0), 2)*4) -> Место | W28: =IF(L28<K28,OFFSET(IF(OR($C$29=11,$C$29=12),Очки!$B$17,Очки!$O$18),2+K28-L28,IF(J28=2,12,13-K28)),0) -> 0 | AB28: =SUM(M28:Y28) -> 0
B29: Всего участников | C29: =COUNTA(B6:B28) -> 21

Sheet 05.07
A1: Лига II -й сезон 05.07.2017 конфиг 4
A3: Место | B3: Участник | D3: 1 | G3: 2 | J3: 3 | M3: Очки | AA3: =SUM(M3:Z3) -> 0 | AB3: Сумма
C4: Довес | D4: группа | E4: Старт | F4: Финиш | G4: группа | H4: Старт | I4: Финиш | J4: группа | K4: Старт | L4: Финиш | M4: Квала | N4: 1 | R4: 2 | V4: 3
N5: очки | O5: обгоны | P5: время | Q5: штрафы | R5: очки | S5: обгоны | T5: время | U5: штрафы | V5: очки | W5: обгоны | X5: время | Y5: штрафы | Z5: 4
A6: =RANK(AB6,AB$6:OFFSET(AB$6,0,0,COUNTA(B$6:B$31))) -> 1 | B6: Наум / Vintoniv Ivan | C6: 2.5 | D6: 1 | E6: 10 | F6: 3 | G6: 1 | H6: 11 | I6: 11 | J6: 2 | K6: 2 | L6: 1 | M6: 2 | N6: =OFFSET(Очки!$A$3,F6,D6+QUOTIENT(MAX($C$32-11,0), 2)*4) -> 14 | O6: =IF(F6<E6,OFFSET(IF(OR($C$32=11,$C$32=12),Очки!$B$17,Очки!$O$18),2+E6-F6,IF(D6=2,12,13-E6)),0) -> 7.5 | P6: 2.5 | R6: =OFFSET(Очки!$A$3,I6,G6+QUOTIENT(MAX($C$32-11,0), 2)*4) -> 9 | S6: =IF(I6<H6,OFFSET(IF(OR($C$32=11,$C$32=12),Очки!$B$17,Очки!$O$18),2+H6-I6,IF(G6=2,12,13-H6)),0) -> 0 | V6: =OFFSET(Очки!$A$3,L6,J6+QUOTIENT(MAX($C$32-11,0), 2)*4) -> 10 | W6: =IF(L6<K6,OFFSET(IF(OR($C$32=11,$C$32=12),Очки!$B$17,Очки!$O$18),2+K6-L6,IF(J6=2,12,13-K6)),0) -> 0.7 | X6: 2.5 | AB6: =SUM(M6:Y6) -> 48.2
A7: =RANK(AB7,AB$6:OFFSET(AB$6,0,0,COUNTA(B$6:B$31))) -> 2 | B7: Дио / Lysenskiy Denis | C7: 2.5 | D7: 1 | E7: 11 | F7: 9 | G7: 1 | H7: 6 | I7: 4 | J7: 1 | K7: 5 | L7: 3 | M7: 2.5 | N7: =OFFSET(Очки!$A$3,F7,D7+QUOTIENT(MAX($C$32-11,0), 2)*4) -> 10 | O7: =IF(F7<E7,OFFSET(IF(OR($C$32=11,$C$32=12),Очки!$B$17,Очки!$O$18),2+E7-F7,IF(D7=2,12,13-E7)),0) -> 2.6 | R7: =OFFSET(Очки!$A$3,I7,G7+QUOTIENT(MAX($C$32-11,0), 2)*4) -> 13 | S7: =IF(I7<H7,OFFSET(IF(OR($C$32=11,$C$32=12),Очки!$B$17,Очки!$O$18),2+H7-I7,IF(G7=2,12,13-H7)),0) -> 1.9 | V7: =OFFSET(Очки!$A$3,L7,J7+QUOTIENT(MAX($C$32-11,0), 2)*4) -> 14 | W7: =IF(L7<K7,OFFSET(IF(OR($C$32=11,$C$32=12),Очки!$B$17,Очки!$O$18),2+K7-L7,IF(J7=2,12,13-K7)),0) -> 1.7 | AB7: =SUM(M7:Y7) -> 45.7
A8: =RANK(AB8,AB$6:OFFSET(AB$6,0,0,COUNTA(B$6:B$31))) -> 3 | B8: Манило Денис / Manilo Denis | C8: - | D8: 1 | E8: 6 | F8: 4 | G8: 1 | H8: 10 | I8: 6 | J8: 1 | K8: 7 | L8: 7 | N8: =OFFSET(Очки!$A$3,F8,D8+QUOTIENT(MAX($C$32-11,0), 2)*4) -> 13 | O8: =IF(F8<E8,OFFSET(IF(OR($C$32=11,$C$32=12),Очки!$B$17,Очки!$O$18),2+E8-F8,IF(D8=2,12,13-E8)),0) -> 1.9 | P8: 2 | R8: =OFFSET(Очки!$A$3,I8,G8+QUOTIENT(MAX($C$32-11,0), 2)*4) -> 11.5 | S8: =IF(I8<H8,OFFSET(IF(OR($C$32=11,$C$32=12),Очки!$B$17,Очки!$O$18),2+H8-I8,IF(G8=2,12,13-H8)),0) -> 4.8 | T8: 0.5 | V8: =OFFSET(Очки!$A$3,L8,J8+QUOTIENT(MAX($C$32-11,0), 2)*4) -> 11 | W8: =IF(L8<K8,OFFSET(IF(OR($C$32=11,$C$32=12),Очки!$B$17,Очки!$O$18),2+K8-L8,IF(J8=2,12,13-K8)),0) -> 0 | AB8: =SUM(M8:Y8) -> 44.7
A9: =RANK(AB9,AB$6:OFFSET(AB$6,0,0,COUNTA(B$6:B$31))) -> 4 | B9: Хавило Дима / Khavilo Dima | C9: 12 | D9: 1 | E9: 9 | F9: 6 | G9: 1 | H9: 3 | I9: 3 | J9: 1 | K9: 3 | L9: 6 | M9: 1.5 | N9: =OFFSET(Очки!$A$3,F9,D9+QUOTIENT(MAX($C$32-11,0), 2)*4) -> 11.5 | O9: =IF(F9<E9,OFFSET(IF(OR($C$32=11,$C$32=12),Очки!$B$17,Очки!$O$18),2+E9-F9,IF(D9=2,12,13-E9)),0) -> 3.5 | R9: =OFFSET(Очки!$A$3,I9,G9+QUOTIENT(MAX($C$32-11,0), 2)*4) -> 14 | S9: =IF(I9<H9,OFFSET(IF(OR($C$32=11,$C$32=12),Очки!$B$17,Очки!$O$18),2+H9-I9,IF(G9=2,12,13-H9)),0) -> 0 | V9: =OFFSET(Очки!$A$3,L9,J9+QUOTIENT(MAX($C$32-11,0), 2)*4) -> 11.5 | W9: =IF(L9<K9,OFFSET(IF(OR($C$32=11,$C$32=12),Очки!$B$17,Очки!$O$18),2+K9-L9,IF(J9=2,12,13-K9)),0) -> 0 | AB9: =SUM(M9:Y9) -> 42
A10: =RANK(AB10,AB$6:OFFSET(AB$6,0,0,COUNTA(B$6:B$31))) -> 5 | B10: Гаврилюк Олег / Gavriliuk Oleg | C10: 10 | D10: 1 | E10: 3 | F10: 5 | G10: 1 | H10: 2 | I10: 1 | J10: 1 | K10: 9 | L10: 11 | N10: =OFFSET(Очки!$A$3,F10,D10+QUOTIENT(MAX($C$32-11,0), 2)*4) -> 12 | O10: =IF(F10<E10,OFFSET(IF(OR($C$32=11,$C$32=12),Очки!$B$17,Очки!$O$18),2+E10-F10,IF(D10=2,12,13-E10)),0) -> 0 | R10: =OFFSET(Очки!$A$3,I10,G10+QUOTIENT(MAX($C$32-11,0), 2)*4) -> 16 | S10: =IF(I10<H10,OFFSET(IF(OR($C$32=11,$C$32=12),Очки!$B$17,Очки!$O$18),2+H10-I10,IF(G10=2,12,13-H10)),0) -> 0.7 | T10: 1.5 | V10: =OFFSET(Очки!$A$3,L10,J10+QUOTIENT(MAX($C$32-11,0), 2)*4) -> 9 | W10: =IF(L10<K10,OFFSET(IF(OR($C$32=11,$C$32=12),Очки!$B$17,Очки!$O$18),2+K10-L10,IF(J10=2,12,13-K10)),0) -> 0 | AB10: =SUM(M10:Y10) -> 39.2
A11: =RANK(AB11,AB$6:OFFSET(AB$6,0,0,COUNTA(B$6:B$31))) -> 5 | B11: Пикулин Паша / Pikulin Pavlo | C11: 7.5 | D11: 1 | E11: 7 | F11: 10 | G11: 1 | H11: 4 | I11: 8 | J11: 1 | K11: 8 | L11: 4 | M11: 0.5 | N11: =OFFSET(Очки!$A$3,F11,D11+QUOTIENT(MAX($C$32-11,0), 2)*4) -> 9.5 | O11: =IF(F11<E11,OFFSET(IF(OR($C$32=11,$C$32=12),Очки!$B$17,Очки!$O$18),2+E11-F11,IF(D11=2,12,13-E11)),0) -> 0 | R11: =OFFSET(Очки!$A$3,I11,G11+QUOTIENT(MAX($C$32-11,0), 2)*4) -> 10.5 | S11: =IF(I11<H11,OFFSET(IF(OR($C$32=11,$C$32=12),Очки!$B$17,Очки!$O$18),2+H11-I11,IF(G11=2,12,13-H11)),0) -> 0 | T11: 1 | V11: =OFFSET(Очки!$A$3,L11,J11+QUOTIENT(MAX($C$32-11,0), 2)*4) -> 13 | W11: =IF(L11<K11,OFFSET(IF(OR($C$32=11,$C$32=12),Очки!$B$17,Очки!$O$18),2+K11-L11,IF(J11=2,12,13-K11)),0) -> 4.2 | X11: 0.5 | AB11: =SUM(M11:Y11) -> 39.2
A12: =RANK(AB12,AB$6:OFFSET(AB$6,0,0,COUNTA(B$6:B$31))) -> 7 | B12: Петушков Андрей / Petushkov Andrey | C12: 10 | D12: 1 | E12: 4 | F12: 6 | G12: 1 | H12: 9 | I12: 9 | J12: 1 | K12: 2 | L12: 2 | N12: =OFFSET(Очки!$A$3,F12,D12+QUOTIENT(MAX($C$32-11,0), 2)*4) -> 11.5 | O12: =IF(F12<E12,OFFSET(IF(OR($C$32=11,$C$32=12),Очки!$B$17,Очки!$O$18),2+E12-F12,IF(D12=2,12,13-E12)),0) -> 0 | P12: 1.5 | R12: =OFFSET(Очки!$A$3,I12,G12+QUOTIENT(MAX($C$32-11,0), 2)*4) -> 10 | S12: =IF(I12<H12,OFFSET(IF(OR($C$32=11,$C$32=12),Очки!$B$17,Очки!$O$18),2+H12-I12,IF(G12=2,12,13-H12)),0) -> 0 | V12: =OFFSET(Очки!$A$3,L12,J12+QUOTIENT(MAX($C$32-11,0), 2)*4) -> 15 | W12: =IF(L12<K12,OFFSET(IF(OR($C$32=11,$C$32=12),Очки!$B$17,Очки!$O$18),2+K12-L12,IF(J12=2,12,13-K12)),0) -> 0 | X12: 1 | AB12: =SUM(M12:Y12) -> 39
A13: =RANK(AB13,AB$6:OFFSET(AB$6,0,0,COUNTA(B$6:B$31))) -> 8 | B13: Ткаченко Антон / Tkachenko Anton | C13: - | D13: 1 | E13: 5 | F13: 8 | G13: 1 | H13: 8 | I13: 5 | J13: 1 | K13: 10 | L13: 10 | N13: =OFFSET(Очки!$A$3,F13,D13+QUOTIENT(MAX($C$32-11,0), 2)*4) -> 10.5 | O13: =IF(F13<E13,OFFSET(IF(OR($C$32=11,$C$32=12),Очки!$B$17,Очки!$O$18),2+E13-F13,IF(D13=2,12,13-E13)),0) -> 0 | P13: 1 | R13: =OFFSET(Очки!$A$3,I13,G13+QUOTIENT(MAX($C$32-11,0), 2)*4) -> 12 | S13: =IF(I13<H13,OFFSET(IF(OR($C$32=11,$C$32=12),Очки!$B$17,Очки!$O$18),2+H13-I13,IF(G13=2,12,13-H13)),0) -> 3.3 | T13: 2 | V13: =OFFSET(Очки!$A$3,L13,J13+QUOTIENT(MAX($C$32-11,0), 2)*4) -> 9.5 | W13: =IF(L13<K13,OFFSET(IF(OR($C$32=11,$C$32=12),Очки!$B$17,Очки!$O$18),2+K13-L13,IF(J13=2,12,13-K13)),0) -> 0 | AB13: =SUM(M13:Y13) -> 38.3
A14: =RANK(AB14,AB$6:OFFSET(AB$6,0,0,COUNTA(B$6:B$31))) -> 9 | B14: Тыщенко Миша / Tishenko Misha | C14: - | D14: 2 | E14: 6 | F14: 2 | G14: 2 | H14: 2 | I14: 2 | J14: 1 | K14: 11 | L14: 9 | N14: =OFFSET(Очки!$A$3,F14,D14+QUOTIENT(MAX($C$32-11,0), 2)*4) -> 9 | O14: =IF(F14<E14,OFFSET(IF(OR($C$32=11,$C$32=12),Очки!$B$17,Очки!$O$18),2+E14-F14,IF(D14=2,12,13-E14)),0) -> 2.8 | R14: =OFFSET(Очки!$A$3,I14,G14+QUOTIENT(MAX($C$32-11,0), 2)*4) -> 9 | S14: =IF(I14<H14,OFFSET(IF(OR($C$32=11,$C$32=12),Очки!$B$17,Очки!$O$18),2+H14-I14,IF(G14=2,12,13-H14)),0) -> 0 | T14: 2.5 | V14: =OFFSET(Очки!$A$3,L14,J14+QUOTIENT(MAX($C$32-11,0), 2)*4) -> 10 | W14: =IF(L14<K14,OFFSET(IF(OR($C$32=11,$C$32=12),Очки!$B$17,Очки!$O$18),2+K14-L14,IF(J14=2,12,13-K14)),0) -> 2.6 | X14: 2 | AB14: =SUM(M14:Y14) -> 37.9
A15: =RANK(AB15,AB$6:OFFSET(AB$6,0,0,COUNTA(B$6:B$31))) -> 10 | B15: Фортуна Таня / Fortuns Tanya | C15: - | D15: 1 | E15: 1 | F15: 1 | G15: 1 | H15: 7 | I15: 10 | J15: 1 | K15: 1 | L15: 1 | N15: =OFFSET(Очки!$A$3,F15,D15+QUOTIENT(MAX($C$32-11,0), 2)*4) -> 16 | O15: =IF(F15<E15,OFFSET(IF(OR($C$32=11,$C$32=12),Очки!$B$17,Очки!$O$18),2+E15-F15,IF(D15=2,12,13-E15)),0) -> 0 | P15: 0.5 | R15: =OFFSET(Очки!$A$3,I15,G15+QUOTIENT(MAX($C$32-11,0), 2)*4) -> 9.5 | S15: =IF(I15<H15,OFFSET(IF(OR($C$32=11,$C$32=12),Очки!$B$17,Очки!$O$18),2+H15-I15,IF(G15=2,12,13-H15)),0) -> 0 | U15: -5 | V15: =OFFSET(Очки!$A$3,L15,J15+QUOTIENT(MAX($C$32-11,0), 2)*4) -> 16 | W15: =IF(L15<K15,OFFSET(IF(OR($C$32=11,$C$32=12),Очки!$B$17,Очки!$O$18),2+K15-L15,IF(J15=2,12,13-K15)),0) -> 0 | AB15: =SUM(M15:Y15) -> 37
A16: =RANK(AB16,AB$6:OFFSET(AB$6,0,0,COUNTA(B$6:B$31))) -> 11 | B16: Кочмарев Юрий / Kochmarev Yuriy | C16: - | D16: 1 | E16: 2 | F16: 2 | G16: 2 | H16: 10 | I16: 5 | J16: 1 | K16: 6 | L16: 8 | N16: =OFFSET(Очки!$A$3,F16,D16+QUOTIENT(MAX($C$32-11,0), 2)*4) -> 15 | O16: =IF(F16<E16,OFFSET(IF(OR($C$32=11,$C$32=12),Очки!$B$17,Очки!$O$18),2+E16-F16,IF(D16=2,12,13-E16)),0) -> 0 | R16: =OFFSET(Очки!$A$3,I16,G16+QUOTIENT(MAX($C$32-11,0), 2)*4) -> 6 | S16: =IF(I16<H16,OFFSET(IF(OR($C$32=11,$C$32=12),Очки!$B$17,Очки!$O$18),2+H16-I16,IF(G16=2,12,13-H16)),0) -> 3.5 | V16: =OFFSET(Очки!$A$3,L16,J16+QUOTIENT(MAX($C$32-11,0), 2)*4) -> 10.5 | W16: =IF(L16<K16,OFFSET(IF(OR($C$32=11,$C$32=12),Очки!$B$17,Очки!$O$18),2+K16-L16,IF(J16=2,12,13-K16)),0) -> 0 | AB16: =SUM(M16:Y16) -> 35
A17: =RANK(AB17,AB$6:OFFSET(AB$6,0,0,COUNTA(B$6:B$31))) -> 12 | B17: Несторенко Андрей / Nestorenko Andrey | C17: - | D17: 2 | E17: 7 | F17: 1 | G17: 1 | H17: 1 | I17: 2 | J17: 2 | K17: 6 | L17: 8 | N17: =OFFSET(Очки!$A$3,F17,D17+QUOTIENT(MAX($C$32-11,0), 2)*4) -> 10 | O17: =IF(F17<E17,OFFSET(IF(OR($C$32=11,$C$32=12),Очки!$B$17,Очки!$O$18),2+E17-F17,IF(D17=2,12,13-E17)),0) -> 4.2 | R17: =OFFSET(Очки!$A$3,I17,G17+QUOTIENT(MAX($C$32-11,0), 2)*4) -> 15 | S17: =IF(I17<H17,OFFSET(IF(OR($C$32=11,$C$32=12),Очки!$B$17,Очки!$O$18),2+H17-I17,IF(G17=2,12,13-H17)),0) -> 0 | V17: =OFFSET(Очки!$A$3,L17,J17+QUOTIENT(MAX($C$32-11,0), 2)*4) -> 4.5 | W17: =IF(L17<K17,OFFSET(IF(OR($C$32=11,$C$32=12),Очки!$B$17,Очки!$O$18),2+K17-L17,IF(J17=2,12,13-K17)),0) -> 0 | AB17: =SUM(M17:Y17) -> 33.7
A18: =RANK(AB18,AB$6:OFFSET(AB$6,0,0,COUNTA(B$6:B$31))) -> 13 | B18: Гободи Курош / Gobady Kourosh | C18: - | D18: 2 | E18: 8 | F18: 3 | G18: 2 | H18: 3 | I18: 3 | J18: 2 | K18: 10 | L18: 3 | N18: =OFFSET(Очки!$A$3,F18,D18+QUOTIENT(MAX($C$32-11,0), 2)*4) -> 8 | O18: =IF(F18<E18,OFFSET(IF(OR($C$32=11,$C$32=12),Очки!$B$17,Очки!$O$18),2+E18-F18,IF(D18=2,12,13-E18)),0) -> 3.5 | R18: =OFFSET(Очки!$A$3,I18,G18+QUOTIENT(MAX($C$32-11,0), 2)*4) -> 8 | S18: =IF(I18<H18,OFFSET(IF(OR($C$32=11,$C$32=12),Очки!$B$17,Очки!$O$18),2+H18-I18,IF(G18=2,12,13-H18)),0) -> 0 | V18: =OFFSET(Очки!$A$3,L18,J18+QUOTIENT(MAX($C$32-11,0), 2)*4) -> 8 | W18: =IF(L18<K18,OFFSET(IF(OR($C$32=11,$C$32=12),Очки!$B$17,Очки!$O$18),2+K18-L18,IF(J18=2,12,13-K18)),0) -> 4.9 | Y18: -5 | AB18: =SUM(M18:Y18) -> 27.4
A19: =RANK(AB19,AB$6:OFFSET(AB$6,0,0,COUNTA(B$6:B$31))) -> 14 | B19: Кравченко Женя / Kravchenko Eugen | D19: 2 | E19: 11 | F19: 8 | G19: 2 | H19: 6 | I19: 7 | J19: 2 | K19: 5 | L19: 2 | N19: =OFFSET(Очки!$A$3,F19,D19+QUOTIENT(MAX($C$32-11,0), 2)*4) -> 4.5 | O19: =IF(F19<E19,OFFSET(IF(OR($C$32=11,$C$32=12),Очки!$B$17,Очки!$O$18),2+E19-F19,IF(D19=2,12,13-E19)),0) -> 2.1 | R19: =OFFSET(Очки!$A$3,I19,G19+QUOTIENT(MAX($C$32-11,0), 2)*4) -> 5 | S19: =IF(I19<H19,OFFSET(IF(OR($C$32=11,$C$32=12),Очки!$B$17,Очки!$O$18),2+H19-I19,IF(G19=2,12,13-H19)),0) -> 0 | V19: =OFFSET(Очки!$A$3,L19,J19+QUOTIENT(MAX($C$32-11,0), 2)*4) -> 9 | W19: =IF(L19<K19,OFFSET(IF(OR($C$32=11,$C$32=12),Очки!$B$17,Очки!$O$18),2+K19-L19,IF(J19=2,12,13-K19)),0) -> 2.1 | X19: 1.5 | AB19: =SUM(M19:Y19) -> 24.2
A20: =RANK(AB20,AB$6:OFFSET(AB$6,0,0,COUNTA(B$6:B$31))) -> 15 | B20: Лабинский Коля / Labinsliy Nikolay | C20: - | D20: 1 | E20: 8 | F20: 11 | G20: 1 | H20: 5 | I20: 6 | J20: 1 | K20: 4 | L20: 5 | M20: 1 | N20: =OFFSET(Очки!$A$3,F20,D20+QUOTIENT(MAX($C$32-11,0), 2)*4) -> 9 | O20: =IF(F20<E20,OFFSET(IF(OR($C$32=11,$C$32=12),Очки!$B$17,Очки!$O$18),2+E20-F20,IF(D20=2,12,13-E20)),0) -> 0 | Q20: -5 | R20: =OFFSET(Очки!$A$3,I20,G20+QUOTIENT(MAX($C$32-11,0), 2)*4) -> 11.5 | S20: =IF(I20<H20,OFFSET(IF(OR($C$32=11,$C$32=12),Очки!$B$17,Очки!$O$18),2+H20-I20,IF(G20=2,12,13-H20)),0) -> 0 | U20: -5 | V20: =OFFSET(Очки!$A$3,L20,J20+QUOTIENT(MAX($C$32-11,0), 2)*4) -> 12 | W20: =IF(L20<K20,OFFSET(IF(OR($C$32=11,$C$32=12),Очки!$B$17,Очки!$O$18),2+K20-L20,IF(J20=2,12,13-K20)),0) -> 0 | AB20: =SUM(M20:Y20) -> 23.5
A21: =RANK(AB21,AB$6:OFFSET(AB$6,0,0,COUNTA(B$6:B$31))) -> 16 | B21: Денисенко Павел / Denysenko Pavel | C21: - | D21: 2 | E21: 1 | F21: 5 | G21: 2 | H21: 1 | I21: 1 | J21: 2 | K21: 1 | L21: 4 | N21: =OFFSET(Очки!$A$3,F21,D21+QUOTIENT(MAX($C$32-11,0), 2)*4) -> 6 | O21: =IF(F21<E21,OFFSET(IF(OR($C$32=11,$C$32=12),Очки!$B$17,Очки!$O$18),2+E21-F21,IF(D21=2,12,13-E21)),0) -> 0 | R21: =OFFSET(Очки!$A$3,I21,G21+QUOTIENT(MAX($C$32-11,0), 2)*4) -> 10 | S21: =IF(I21<H21,OFFSET(IF(OR($C$32=11,$C$32=12),Очки!$B$17,Очки!$O$18),2+H21-I21,IF(G21=2,12,13-H21)),0) -> 0 | V21: =OFFSET(Очки!$A$3,L21,J21+QUOTIENT(MAX($C$32-11,0), 2)*4) -> 7 | W21: =IF(L21<K21,OFFSET(IF(OR($C$32=11,$C$32=12),Очки!$B$17,Очки!$O$18),2+K21-L21,IF(J21=2,12,13-K21)),0) -> 0 | AB21: =SUM(M21:Y21) -> 23
A22: =RANK(AB22,AB$6:OFFSET(AB$6,0,0,COUNTA(B$6:B$31))) -> 17 | B22: Линнык Владимир / Linnyk Vlad | C22: 7.5 | D22: 2 | E22: 10 | F22: 6 | G22: 2 | H22: 4 | I22: 8 | J22: 2 | K22: 4 | L22: 6 | N22: =OFFSET(Очки!$A$3,F22,D22+QUOTIENT(MAX($C$32-11,0), 2)*4) -> 5.5 | O22: =IF(F22<E22,OFFSET(IF(OR($C$32=11,$C$32=12),Очки!$B$17,Очки!$O$18),2+E22-F22,IF(D22=2,12,13-E22)),0) -> 2.8 | R22: =OFFSET(Очки!$A$3,I22,G22+QUOTIENT(MAX($C$32-11,0), 2)*4) -> 4.5 | S22: =IF(I22<H22,OFFSET(IF(OR($C$32=11,$C$32=12),Очки!$B$17,Очки!$O$18),2+H22-I22,IF(G22=2,12,13-H22)),0) -> 0 | V22: =OFFSET(Очки!$A$3,L22,J22+QUOTIENT(MAX($C$32-11,0), 2)*4) -> 5.5 | W22: =IF(L22<K22,OFFSET(IF(OR($C$32=11,$C$32=12),Очки!$B$17,Очки!$O$18),2+K22-L22,IF(J22=2,12,13-K22)),0) -> 0 | AB22: =SUM(M22:Y22) -> 18.3
A23: =RANK(AB23,AB$6:OFFSET(AB$6,0,0,COUNTA(B$6:B$31))) -> 18 | B23: Лихошерст Алексей / Lykhosherst Aleksey | C23: 15 | D23: 2 | E23: 5 | F23: 10 | G23: 2 | H23: 8 | I23: 6 | J23: 2 | K23: 3 | L23: 6 | N23: =OFFSET(Очки!$A$3,F23,D23+QUOTIENT(MAX($C$32-11,0), 2)*4) -> 3.5 | O23: =IF(F23<E23,OFFSET(IF(OR($C$32=11,$C$32=12),Очки!$B$17,Очки!$O$18),2+E23-F23,IF(D23=2,12,13-E23)),0) -> 0 | R23: =OFFSET(Очки!$A$3,I23,G23+QUOTIENT(MAX($C$32-11,0), 2)*4) -> 5.5 | S23: =IF(I23<H23,OFFSET(IF(OR($C$32=11,$C$32=12),Очки!$B$17,Очки!$O$18),2+H23-I23,IF(G23=2,12,13-H23)),0) -> 1.4 | V23: =OFFSET(Очки!$A$3,L23,J23+QUOTIENT(MAX($C$32-11,0), 2)*4) -> 5.5 | W23: =IF(L23<K23,OFFSET(IF(OR($C$32=11,$C$32=12),Очки!$B$17,Очки!$O$18),2+K23-L23,IF(J23=2,12,13-K23)),0) -> 0 | AB23: =SUM(M23:Y23) -> 15.9
A24: =RANK(AB24,AB$6:OFFSET(AB$6,0,0,COUNTA(B$6:B$31))) -> 19 | B24: Джемула Сергей / Dzemula Sergey | C24: - | D24: 2 | E24: 2 | F24: 7 | G24: 2 | H24: 9 | I24: 11 | J24: 2 | K24: 7 | L24: 5 | N24: =OFFSET(Очки!$A$3,F24,D24+QUOTIENT(MAX($C$32-11,0), 2)*4) -> 5 | O24: =IF(F24<E24,OFFSET(IF(OR($C$32=11,$C$32=12),Очки!$B$17,Очки!$O$18),2+E24-F24,IF(D24=2,12,13-E24)),0) -> 0 | R24: =OFFSET(Очки!$A$3,I24,G24+QUOTIENT(MAX($C$32-11,0), 2)*4) -> 3 | S24: =IF(I24<H24,OFFSET(IF(OR($C$32=11,$C$32=12),Очки!$B$17,Очки!$O$18),2+H24-I24,IF(G24=2,12,13-H24)),0) -> 0 | V24: =OFFSET(Очки!$A$3,L24,J24+QUOTIENT(MAX($C$32-11,0), 2)*4) -> 6 | W24: =IF(L24<K24,OFFSET(IF(OR($C$32=11,$C$32=12),Очки!$B$17,Очки!$O$18),2+K24-L24,IF(J24=2,12,13-K24)),0) -> 1.4 | AB24: =SUM(M24:Y24) -> 15.4
A25: =RANK(AB25,AB$6:OFFSET(AB$6,0,0,COUNTA(B$6:B$31))) -> 20 | B25: Звягин Григогий / Zvyagin Grigoriy | D25: 2 | E25: 9 | F25: 9 | G25: 2 | H25: 5 | I25: 4 | J25: 2 | K25: 9 | L25: 10 | N25: =OFFSET(Очки!$A$3,F25,D25+QUOTIENT(MAX($C$32-11,0), 2)*4) -> 4 | O25: =IF(F25<E25,OFFSET(IF(OR($C$32=11,$C$32=12),Очки!$B$17,Очки!$O$18),2+E25-F25,IF(D25=2,12,13-E25)),0) -> 0 | R25: =OFFSET(Очки!$A$3,I25,G25+QUOTIENT(MAX($C$32-11,0), 2)*4) -> 7 | S25: =IF(I25<H25,OFFSET(IF(OR($C$32=11,$C$32=12),Очки!$B$17,Очки!$O$18),2+H25-I25,IF(G25=2,12,13-H25)),0) -> 0.7 | V25: =OFFSET(Очки!$A$3,L25,J25+QUOTIENT(MAX($C$32-11,0), 2)*4) -> 3.5 | W25: =IF(L25<K25,OFFSET(IF(OR($C$32=11,$C$32=12),Очки!$B$17,Очки!$O$18),2+K25-L25,IF(J25=2,12,13-K25)),0) -> 0 | AB25: =SUM(M25:Y25) -> 15.2
A26: =RANK(AB26,AB$6:OFFSET(AB$6,0,0,COUNTA(B$6:B$31))) -> 21 | B26: Плакидюк Виталий / Plakydiuk Vitaliy | C26: - | D26: 2 | E26: 4 | F26: 4 | G26: 2 | H26: 7 | I26: 10 | J26: 2 | K26: 8 | L26: 9 | N26: =OFFSET(Очки!$A$3,F26,D26+QUOTIENT(MAX($C$32-11,0), 2)*4) -> 7 | O26: =IF(F26<E26,OFFSET(IF(OR($C$32=11,$C$32=12),Очки!$B$17,Очки!$O$18),2+E26-F26,IF(D26=2,12,13-E26)),0) -> 0 | R26: =OFFSET(Очки!$A$3,I26,G26+QUOTIENT(MAX($C$32-11,0), 2)*4) -> 3.5 | S26: =IF(I26<H26,OFFSET(IF(OR($C$32=11,$C$32=12),Очки!$B$17,Очки!$O$18),2+H26-I26,IF(G26=2,12,13-H26)),0) -> 0 | V26: =OFFSET(Очки!$A$3,L26,J26+QUOTIENT(MAX($C$32-11,0), 2)*4) -> 4 | W26: =IF(L26<K26,OFFSET(IF(OR($C$32=11,$C$32=12),Очки!$B$17,Очки!$O$18),2+K26-L26,IF(J26=2,12,13-K26)),0) -> 0 | AB26: =SUM(M26:Y26) -> 14.5
A27: =RANK(AB27,AB$6:OFFSET(AB$6,0,0,COUNTA(B$6:B$31))) -> 22 | B27: Миронов Максим / Mironov Maksim | C27: 7.5 | D27: 2 | E27: 3 | F27: 11 | G27: 2 | H27: 11 | I27: 9 | J27: 2 | K27: 11 | L27: 11 | N27: =OFFSET(Очки!$A$3,F27,D27+QUOTIENT(MAX($C$32-11,0), 2)*4) -> 3 | O27: =IF(F27<E27,OFFSET(IF(OR($C$32=11,$C$32=12),Очки!$B$17,Очки!$O$18),2+E27-F27,IF(D27=2,12,13-E27)),0) -> 0 | R27: =OFFSET(Очки!$A$3,I27,G27+QUOTIENT(MAX($C$32-11,0), 2)*4) -> 4 | S27: =IF(I27<H27,OFFSET(IF(OR($C$32=11,$C$32=12),Очки!$B$17,Очки!$O$18),2+H27-I27,IF(G27=2,12,13-H27)),0) -> 1.4 | V27: =OFFSET(Очки!$A$3,L27,J27+QUOTIENT(MAX($C$32-11,0), 2)*4) -> 3 | W27: =IF(L27<K27,OFFSET(IF(OR($C$32=11,$C$32=12),Очки!$B$17,Очки!$O$18),2+K27-L27,IF(J27=2,12,13-K27)),0) -> 0 | AB27: =SUM(M27:Y27) -> 11.4
A28: =RANK(AB28,AB$6:OFFSET(AB$6,0,0,COUNTA(B$6:B$31))) -> #N/A | N28: =OFFSET(Очки!$A$3,F28,D28+QUOTIENT(MAX($C$32-11,0), 2)*4) -> Место | O28: =IF(F28<E28,OFFSET(IF(OR($C$32=11,$C$32=12),Очки!$B$17,Очки!$O$18),2+E28-F28,IF(D28=2,12,13-E28)),0) -> 0 | R28: =OFFSET(Очки!$A$3,I28,G28+QUOTIENT(MAX($C$32-11,0), 2)*4) -> Место | S28: =IF(I28<H28,OFFSET(IF(OR($C$32=11,$C$32=12),Очки!$B$17,Очки!$O$18),2+H28-I28,IF(G28=2,12,13-H28)),0) -> 0 | V28: =OFFSET(Очки!$A$3,L28,J28+QUOTIENT(MAX($C$32-11,0), 2)*4) -> Место | W28: =IF(L28<K28,OFFSET(IF(OR($C$32=11,$C$32=12),Очки!$B$17,Очки!$O$18),2+K28-L28,IF(J28=2,12,13-K28)),0) -> 0 | AB28: =SUM(M28:Y28) -> 0
A29: =RANK(AB29,AB$6:OFFSET(AB$6,0,0,COUNTA(B$6:B$31))) -> #N/A | N29: =OFFSET(Очки!$A$3,F29,D29+QUOTIENT(MAX($C$32-11,0), 2)*4) -> Место | O29: =IF(F29<E29,OFFSET(IF(OR($C$32=11,$C$32=12),Очки!$B$17,Очки!$O$18),2+E29-F29,IF(D29=2,12,13-E29)),0) -> 0 | R29: =OFFSET(Очки!$A$3,I29,G29+QUOTIENT(MAX($C$32-11,0), 2)*4) -> Место | S29: =IF(I29<H29,OFFSET(IF(OR($C$32=11,$C$32=12),Очки!$B$17,Очки!$O$18),2+H29-I29,IF(G29=2,12,13-H29)),0) -> 0 | V29: =OFFSET(Очки!$A$3,L29,J29+QUOTIENT(MAX($C$32-11,0), 2)*4) -> Место | W29: =IF(L29<K29,OFFSET(IF(OR($C$32=11,$C$32=12),Очки!$B$17,Очки!$O$18),2+K29-L29,IF(J29=2,12,13-K29)),0) -> 0 | AB29: =SUM(M29:Y29) -> 0
A30: =RANK(AB30,AB$6:OFFSET(AB$6,0,0,COUNTA(B$6:B$31))) -> #N/A | N30: =OFFSET(Очки!$A$3,F30,D30+QUOTIENT(MAX($C$32-11,0), 2)*4) -> Место | O30: =IF(F30<E30,OFFSET(IF(OR($C$32=11,$C$32=12),Очки!$B$17,Очки!$O$18),2+E30-F30,IF(D30=2,12,13-E30)),0) -> 0 | R30: =OFFSET(Очки!$A$3,I30,G30+QUOTIENT(MAX($C$32-11,0), 2)*4) -> Место | S30: =IF(I30<H30,OFFSET(IF(OR($C$32=11,$C$32=12),Очки!$B$17,Очки!$O$18),2+H30-I30,IF(G30=2,12,13-H30)),0) -> 0 | V30: =OFFSET(Очки!$A$3,L30,J30+QUOTIENT(MAX($C$32-11,0), 2)*4) -> Место | W30: =IF(L30<K30,OFFSET(IF(OR($C$32=11,$C$32=12),Очки!$B$17,Очки!$O$18),2+K30-L30,IF(J30=2,12,13-K30)),0) -> 0 | AB30: =SUM(M30:Y30) -> 0
A31: =RANK(AB31,AB$6:OFFSET(AB$6,0,0,COUNTA(B$6:B$31))) -> #N/A | N31: =OFFSET(Очки!$A$3,F31,D31+QUOTIENT(MAX($C$32-11,0), 2)*4) -> Место | O31: =IF(F31<E31,OFFSET(IF(OR($C$32=11,$C$32=12),Очки!$B$17,Очки!$O$18),2+E31-F31,IF(D31=2,12,13-E31)),0) -> 0 | R31: =OFFSET(Очки!$A$3,I31,G31+QUOTIENT(MAX($C$32-11,0), 2)*4) -> Место | S31: =IF(I31<H31,OFFSET(IF(OR($C$32=11,$C$32=12),Очки!$B$17,Очки!$O$18),2+H31-I31,IF(G31=2,12,13-H31)),0) -> 0 | V31: =OFFSET(Очки!$A$3,L31,J31+QUOTIENT(MAX($C$32-11,0), 2)*4) -> Место | W31: =IF(L31<K31,OFFSET(IF(OR($C$32=11,$C$32=12),Очки!$B$17,Очки!$O$18),2+K31-L31,IF(J31=2,12,13-K31)),0) -> 0 | AB31: =SUM(M31:Y31) -> 0
B32: Всего участников | C32: =COUNTA(B6:B31) -> 22

Sheet 12.07
A1: Лига II -й сезон 12.07.2017 конфиг 6R
A3: Место | B3: Участник | D3: 1 | G3: 2 | J3: 3 | M3: Очки | AA3: =SUM(M3:Z3) -> 0 | AB3: Сумма
C4: Довес | D4: группа | E4: Старт | F4: Финиш | G4: группа | H4: Старт | I4: Финиш | J4: группа | K4: Старт | L4: Финиш | M4: Квала | N4: 1 | R4: 2 | V4: 3
N5: очки | O5: обгоны | P5: время | Q5: штрафы | R5: очки | S5: обгоны | T5: время | U5: штрафы | V5: очки | W5: обгоны | X5: время | Y5: штрафы | Z5: 4
A6: =RANK(AB6,AB$6:OFFSET(AB$6,0,0,COUNTA(B$6:B$28))) -> 1 | B6: Пикулин Паша / Pikulin Pavlo | C6: 7.5 | D6: 1 | E6: 7 | F6: 5 | G6: 1 | H6: 3 | I6: 1 | J6: 1 | K6: 5 | L6: 4 | M6: 2.5 | N6: =OFFSET(Очки!$A$3,F6,D6+QUOTIENT(MAX($C$29-11,0), 2)*4) -> 12 | O6: =IF(F6<E6,OFFSET(IF(OR($C$29=11,$C$29=12),Очки!$B$17,Очки!$O$18),2+E6-F6,IF(D6=2,12,13-E6)),0) -> 2.1 | P6: 0.5 | R6: =OFFSET(Очки!$A$3,I6,G6+QUOTIENT(MAX($C$29-11,0), 2)*4) -> 16 | S6: =IF(I6<H6,OFFSET(IF(OR($C$29=11,$C$29=12),Очки!$B$17,Очки!$O$18),2+H6-I6,IF(G6=2,12,13-H6)),0) -> 1.4 | T6: 1.5 | V6: =OFFSET(Очки!$A$3,L6,J6+QUOTIENT(MAX($C$29-11,0), 2)*4) -> 13 | W6: =IF(L6<K6,OFFSET(IF(OR($C$29=11,$C$29=12),Очки!$B$17,Очки!$O$18),2+K6-L6,IF(J6=2,12,13-K6)),0) -> 0.9 | X6: 2.5 | AB6: =SUM(M6:Y6) -> 52.4
A7: =RANK(AB7,AB$6:OFFSET(AB$6,0,0,COUNTA(B$6:B$28))) -> 2 | B7: Манило Денис / Manilo Denis | C7: - | D7: 1 | E7: 5 | F7: 6 | G7: 1 | H7: 7 | I7: 5 | J7: 1 | K7: 7 | L7: 6 | M7: 1.5 | N7: =OFFSET(Очки!$A$3,F7,D7+QUOTIENT(MAX($C$29-11,0), 2)*4) -> 11.5 | O7: =IF(F7<E7,OFFSET(IF(OR($C$29=11,$C$29=12),Очки!$B$17,Очки!$O$18),2+E7-F7,IF(D7=2,12,13-E7)),0) -> 0 | P7: 2.5 | R7: =OFFSET(Очки!$A$3,I7,G7+QUOTIENT(MAX($C$29-11,0), 2)*4) -> 12 | S7: =IF(I7<H7,OFFSET(IF(OR($C$29=11,$C$29=12),Очки!$B$17,Очки!$O$18),2+H7-I7,IF(G7=2,12,13-H7)),0) -> 2.1 | T7: 2.5 | V7: =OFFSET(Очки!$A$3,L7,J7+QUOTIENT(MAX($C$29-11,0), 2)*4) -> 11.5 | W7: =IF(L7<K7,OFFSET(IF(OR($C$29=11,$C$29=12),Очки!$B$17,Очки!$O$18),2+K7-L7,IF(J7=2,12,13-K7)),0) -> 1.1 | X7: 1.5 | AB7: =SUM(M7:Y7) -> 46.2
A8: =RANK(AB8,AB$6:OFFSET(AB$6,0,0,COUNTA(B$6:B$28))) -> 3 | B8: Петушков Андрей/ Petushkov Andrey | C8: 10 | D8: 1 | E8: 3 | F8: 2 | G8: 1 | H8: 5 | I8: 6 | J8: 1 | K8: 2 | L8: 2 | M8: 0.5 | N8: =OFFSET(Очки!$A$3,F8,D8+QUOTIENT(MAX($C$29-11,0), 2)*4) -> 15 | O8: =IF(F8<E8,OFFSET(IF(OR($C$29=11,$C$29=12),Очки!$B$17,Очки!$O$18),2+E8-F8,IF(D8=2,12,13-E8)),0) -> 0.7 | P8: 1.5 | R8: =OFFSET(Очки!$A$3,I8,G8+QUOTIENT(MAX($C$29-11,0), 2)*4) -> 11.5 | S8: =IF(I8<H8,OFFSET(IF(OR($C$29=11,$C$29=12),Очки!$B$17,Очки!$O$18),2+H8-I8,IF(G8=2,12,13-H8)),0) -> 0 | V8: =OFFSET(Очки!$A$3,L8,J8+QUOTIENT(MAX($C$29-11,0), 2)*4) -> 15 | W8: =IF(L8<K8,OFFSET(IF(OR($C$29=11,$C$29=12),Очки!$B$17,Очки!$O$18),2+K8-L8,IF(J8=2,12,13-K8)),0) -> 0 | X8: 1 | AB8: =SUM(M8:Y8) -> 45.2
A9: =RANK(AB9,AB$6:OFFSET(AB$6,0,0,COUNTA(B$6:B$28))) -> 4 | B9: Хавило Дима / Khavilo Dima | C9: 12.5 | D9: 1 | E9: 1 | F9: 1 | G9: 1 | H9: 1 | I9: 2 | J9: 2 | K9: 3 | L9: 1 | N9: =OFFSET(Очки!$A$3,F9,D9+QUOTIENT(MAX($C$29-11,0), 2)*4) -> 16 | O9: =IF(F9<E9,OFFSET(IF(OR($C$29=11,$C$29=12),Очки!$B$17,Очки!$O$18),2+E9-F9,IF(D9=2,12,13-E9)),0) -> 0 | R9: =OFFSET(Очки!$A$3,I9,G9+QUOTIENT(MAX($C$29-11,0), 2)*4) -> 15 | S9: =IF(I9<H9,OFFSET(IF(OR($C$29=11,$C$29=12),Очки!$B$17,Очки!$O$18),2+H9-I9,IF(G9=2,12,13-H9)),0) -> 0 | V9: =OFFSET(Очки!$A$3,L9,J9+QUOTIENT(MAX($C$29-11,0), 2)*4) -> 12 | W9: =IF(L9<K9,OFFSET(IF(OR($C$29=11,$C$29=12),Очки!$B$17,Очки!$O$18),2+K9-L9,IF(J9=2,12,13-K9)),0) -> 1.4 | AB9: =SUM(M9:Y9) -> 44.4
A10: =RANK(AB10,AB$6:OFFSET(AB$6,0,0,COUNTA(B$6:B$28))) -> 5 | B10: Лабинский Николай / Labinskiy Nikolay | C10: - | D10: 1 | E10: 6 | F10: 4 | G10: 1 | H10: 6 | I10: 3 | J10: 1 | K10: 6 | L10: 7 | M10: 2 | N10: =OFFSET(Очки!$A$3,F10,D10+QUOTIENT(MAX($C$29-11,0), 2)*4) -> 13 | O10: =IF(F10<E10,OFFSET(IF(OR($C$29=11,$C$29=12),Очки!$B$17,Очки!$O$18),2+E10-F10,IF(D10=2,12,13-E10)),0) -> 1.9 | P10: 2 | R10: =OFFSET(Очки!$A$3,I10,G10+QUOTIENT(MAX($C$29-11,0), 2)*4) -> 14 | S10: =IF(I10<H10,OFFSET(IF(OR($C$29=11,$C$29=12),Очки!$B$17,Очки!$O$18),2+H10-I10,IF(G10=2,12,13-H10)),0) -> 2.7 | T10: 2 | U10: -8 | V10: =OFFSET(Очки!$A$3,L10,J10+QUOTIENT(MAX($C$29-11,0), 2)*4) -> 11 | W10: =IF(L10<K10,OFFSET(IF(OR($C$29=11,$C$29=12),Очки!$B$17,Очки!$O$18),2+K10-L10,IF(J10=2,12,13-K10)),0) -> 0 | X10: 0.5 | AB10: =SUM(M10:Y10) -> 41.1
A11: =RANK(AB11,AB$6:OFFSET(AB$6,0,0,COUNTA(B$6:B$28))) -> 6 | B11: Тыщенко Михаил / Tishchenko Mikhail | C11: - | D11: 1 | E11: 2 | F11: 7 | G11: 1 | H11: 2 | I11: 3 | J11: 1 | K11: 4 | L11: 5 | N11: =OFFSET(Очки!$A$3,F11,D11+QUOTIENT(MAX($C$29-11,0), 2)*4) -> 11 | O11: =IF(F11<E11,OFFSET(IF(OR($C$29=11,$C$29=12),Очки!$B$17,Очки!$O$18),2+E11-F11,IF(D11=2,12,13-E11)),0) -> 0 | R11: =OFFSET(Очки!$A$3,I11,G11+QUOTIENT(MAX($C$29-11,0), 2)*4) -> 14 | S11: =IF(I11<H11,OFFSET(IF(OR($C$29=11,$C$29=12),Очки!$B$17,Очки!$O$18),2+H11-I11,IF(G11=2,12,13-H11)),0) -> 0 | T11: 1 | V11: =OFFSET(Очки!$A$3,L11,J11+QUOTIENT(MAX($C$29-11,0), 2)*4) -> 12 | W11: =IF(L11<K11,OFFSET(IF(OR($C$29=11,$C$29=12),Очки!$B$17,Очки!$O$18),2+K11-L11,IF(J11=2,12,13-K11)),0) -> 0 | X11: 2 | AB11: =SUM(M11:Y11) -> 40
A12: =RANK(AB12,AB$6:OFFSET(AB$6,0,0,COUNTA(B$6:B$28))) -> 7 | B12: Ткаченко Антон / Tkachenko Anton | C12: - | D12: 1 | E12: 4 | F12: 3 | G12: 1 | H12: 4 | I12: 6 | J12: 1 | K12: 1 | L12: 1 | M12: 1 | N12: =OFFSET(Очки!$A$3,F12,D12+QUOTIENT(MAX($C$29-11,0), 2)*4) -> 14 | O12: =IF(F12<E12,OFFSET(IF(OR($C$29=11,$C$29=12),Очки!$B$17,Очки!$O$18),2+E12-F12,IF(D12=2,12,13-E12)),0) -> 0.8 | P12: 1 | R12: =OFFSET(Очки!$A$3,I12,G12+QUOTIENT(MAX($C$29-11,0), 2)*4) -> 11.5 | S12: =IF(I12<H12,OFFSET(IF(OR($C$29=11,$C$29=12),Очки!$B$17,Очки!$O$18),2+H12-I12,IF(G12=2,12,13-H12)),0) -> 0 | U12: -8 | V12: =OFFSET(Очки!$A$3,L12,J12+QUOTIENT(MAX($C$29-11,0), 2)*4) -> 16 | W12: =IF(L12<K12,OFFSET(IF(OR($C$29=11,$C$29=12),Очки!$B$17,Очки!$O$18),2+K12-L12,IF(J12=2,12,13-K12)),0) -> 0 | AB12: =SUM(M12:Y12) -> 36.3
A13: =RANK(AB13,AB$6:OFFSET(AB$6,0,0,COUNTA(B$6:B$28))) -> 8 | B13: Гобади Курош | C13: - | D13: 2 | E13: 4 | F13: 4 | G13: 2 | H13: 1 | I13: 1 | J13: 2 | K13: 4 | L13: 2 | N13: =OFFSET(Очки!$A$3,F13,D13+QUOTIENT(MAX($C$29-11,0), 2)*4) -> 9 | O13: =IF(F13<E13,OFFSET(IF(OR($C$29=11,$C$29=12),Очки!$B$17,Очки!$O$18),2+E13-F13,IF(D13=2,12,13-E13)),0) -> 0 | R13: =OFFSET(Очки!$A$3,I13,G13+QUOTIENT(MAX($C$29-11,0), 2)*4) -> 12 | S13: =IF(I13<H13,OFFSET(IF(OR($C$29=11,$C$29=12),Очки!$B$17,Очки!$O$18),2+H13-I13,IF(G13=2,12,13-H13)),0) -> 0 | V13: =OFFSET(Очки!$A$3,L13,J13+QUOTIENT(MAX($C$29-11,0), 2)*4) -> 11 | W13: =IF(L13<K13,OFFSET(IF(OR($C$29=11,$C$29=12),Очки!$B$17,Очки!$O$18),2+K13-L13,IF(J13=2,12,13-K13)),0) -> 1.4 | AB13: =SUM(M13:Y13) -> 33.4
A14: =RANK(AB14,AB$6:OFFSET(AB$6,0,0,COUNTA(B$6:B$28))) -> 8 | B14: Джемула Сергей / Dzemula Sergey | C14: - | D14: 2 | E14: 3 | F14: 6 | G14: 2 | H14: 5 | I14: 3 | J14: 1 | K14: 3 | L14: 3 | N14: =OFFSET(Очки!$A$3,F14,D14+QUOTIENT(MAX($C$29-11,0), 2)*4) -> 7.5 | O14: =IF(F14<E14,OFFSET(IF(OR($C$29=11,$C$29=12),Очки!$B$17,Очки!$O$18),2+E14-F14,IF(D14=2,12,13-E14)),0) -> 0 | R14: =OFFSET(Очки!$A$3,I14,G14+QUOTIENT(MAX($C$29-11,0), 2)*4) -> 10 | S14: =IF(I14<H14,OFFSET(IF(OR($C$29=11,$C$29=12),Очки!$B$17,Очки!$O$18),2+H14-I14,IF(G14=2,12,13-H14)),0) -> 1.4 | T14: 0.5 | V14: =OFFSET(Очки!$A$3,L14,J14+QUOTIENT(MAX($C$29-11,0), 2)*4) -> 14 | W14: =IF(L14<K14,OFFSET(IF(OR($C$29=11,$C$29=12),Очки!$B$17,Очки!$O$18),2+K14-L14,IF(J14=2,12,13-K14)),0) -> 0 | AB14: =SUM(M14:Y14) -> 33.4
A15: =RANK(AB15,AB$6:OFFSET(AB$6,0,0,COUNTA(B$6:B$28))) -> 10 | B15: Лихошерст Алексей / Lykhosherst Aleksey | C15: 15 | D15: 2 | E15: 2 | F15: 4 | G15: 2 | H15: 4 | I15: 5 | J15: 2 | K15: 6 | L15: 5 | N15: =OFFSET(Очки!$A$3,F15,D15+QUOTIENT(MAX($C$29-11,0), 2)*4) -> 9 | O15: =IF(F15<E15,OFFSET(IF(OR($C$29=11,$C$29=12),Очки!$B$17,Очки!$O$18),2+E15-F15,IF(D15=2,12,13-E15)),0) -> 0 | R15: =OFFSET(Очки!$A$3,I15,G15+QUOTIENT(MAX($C$29-11,0), 2)*4) -> 8 | S15: =IF(I15<H15,OFFSET(IF(OR($C$29=11,$C$29=12),Очки!$B$17,Очки!$O$18),2+H15-I15,IF(G15=2,12,13-H15)),0) -> 0 | V15: =OFFSET(Очки!$A$3,L15,J15+QUOTIENT(MAX($C$29-11,0), 2)*4) -> 8 | W15: =IF(L15<K15,OFFSET(IF(OR($C$29=11,$C$29=12),Очки!$B$17,Очки!$O$18),2+K15-L15,IF(J15=2,12,13-K15)),0) -> 0.7 | AB15: =SUM(M15:Y15) -> 25.7
A16: =RANK(AB16,AB$6:OFFSET(AB$6,0,0,COUNTA(B$6:B$28))) -> 11 | B16: Кравченко Женя | D16: 2 | E16: 6 | F16: 2 | G16: 2 | H16: 7 | I16: 7 | J16: 2 | K16: 7 | L16: 6 | N16: =OFFSET(Очки!$A$3,F16,D16+QUOTIENT(MAX($C$29-11,0), 2)*4) -> 11 | O16: =IF(F16<E16,OFFSET(IF(OR($C$29=11,$C$29=12),Очки!$B$17,Очки!$O$18),2+E16-F16,IF(D16=2,12,13-E16)),0) -> 2.8 | R16: =OFFSET(Очки!$A$3,I16,G16+QUOTIENT(MAX($C$29-11,0), 2)*4) -> 7 | S16: =IF(I16<H16,OFFSET(IF(OR($C$29=11,$C$29=12),Очки!$B$17,Очки!$O$18),2+H16-I16,IF(G16=2,12,13-H16)),0) -> 0 | U16: -2 | V16: =OFFSET(Очки!$A$3,L16,J16+QUOTIENT(MAX($C$29-11,0), 2)*4) -> 7.5 | W16: =IF(L16<K16,OFFSET(IF(OR($C$29=11,$C$29=12),Очки!$B$17,Очки!$O$18),2+K16-L16,IF(J16=2,12,13-K16)),0) -> 0.7 | Y16: -2 | AB16: =SUM(M16:Y16) -> 25
A17: =RANK(AB17,AB$6:OFFSET(AB$6,0,0,COUNTA(B$6:B$28))) -> 12 | B17: Кочмарев Юрий / Kochmarev Yuriy | C17: - | D17: 2 | E17: 5 | F17: 3 | G17: 2 | H17: 6 | I17: 4 | J17: 2 | K17: 5 | L17: 4 | N17: =OFFSET(Очки!$A$3,F17,D17+QUOTIENT(MAX($C$29-11,0), 2)*4) -> 10 | O17: =IF(F17<E17,OFFSET(IF(OR($C$29=11,$C$29=12),Очки!$B$17,Очки!$O$18),2+E17-F17,IF(D17=2,12,13-E17)),0) -> 1.4 | Q17: -8 | R17: =OFFSET(Очки!$A$3,I17,G17+QUOTIENT(MAX($C$29-11,0), 2)*4) -> 9 | S17: =IF(I17<H17,OFFSET(IF(OR($C$29=11,$C$29=12),Очки!$B$17,Очки!$O$18),2+H17-I17,IF(G17=2,12,13-H17)),0) -> 1.4 | V17: =OFFSET(Очки!$A$3,L17,J17+QUOTIENT(MAX($C$29-11,0), 2)*4) -> 9 | W17: =IF(L17<K17,OFFSET(IF(OR($C$29=11,$C$29=12),Очки!$B$17,Очки!$O$18),2+K17-L17,IF(J17=2,12,13-K17)),0) -> 0.7 | AB17: =SUM(M17:Y17) -> 23.5
A18: =RANK(AB18,AB$6:OFFSET(AB$6,0,0,COUNTA(B$6:B$28))) -> 13 | B18: Костюк Максим | C18: - | D18: 2 | E18: 7 | F18: 7 | G18: 2 | H18: 3 | I18: 5 | J18: 2 | K18: 1 | L18: 5 | N18: =OFFSET(Очки!$A$3,F18,D18+QUOTIENT(MAX($C$29-11,0), 2)*4) -> 7 | O18: =IF(F18<E18,OFFSET(IF(OR($C$29=11,$C$29=12),Очки!$B$17,Очки!$O$18),2+E18-F18,IF(D18=2,12,13-E18)),0) -> 0 | R18: =OFFSET(Очки!$A$3,I18,G18+QUOTIENT(MAX($C$29-11,0), 2)*4) -> 8 | S18: =IF(I18<H18,OFFSET(IF(OR($C$29=11,$C$29=12),Очки!$B$17,Очки!$O$18),2+H18-I18,IF(G18=2,12,13-H18)),0) -> 0 | V18: =OFFSET(Очки!$A$3,L18,J18+QUOTIENT(MAX($C$29-11,0), 2)*4) -> 8 | W18: =IF(L18<K18,OFFSET(IF(OR($C$29=11,$C$29=12),Очки!$B$17,Очки!$O$18),2+K18-L18,IF(J18=2,12,13-K18)),0) -> 0 | AB18: =SUM(M18:Y18) -> 23
A19: =RANK(AB19,AB$6:OFFSET(AB$6,0,0,COUNTA(B$6:B$28))) -> 13 | B19: Несторенко Андрей / Nestorenko Andrew | C19: - | D19: 2 | E19: 1 | F19: 1 | G19: 2 | H19: 2 | I19: 2 | J19: 2 | K19: 2 | L19: 3 | N19: =OFFSET(Очки!$A$3,F19,D19+QUOTIENT(MAX($C$29-11,0), 2)*4) -> 12 | O19: =IF(F19<E19,OFFSET(IF(OR($C$29=11,$C$29=12),Очки!$B$17,Очки!$O$18),2+E19-F19,IF(D19=2,12,13-E19)),0) -> 0 | R19: =OFFSET(Очки!$A$3,I19,G19+QUOTIENT(MAX($C$29-11,0), 2)*4) -> 11 | S19: =IF(I19<H19,OFFSET(IF(OR($C$29=11,$C$29=12),Очки!$B$17,Очки!$O$18),2+H19-I19,IF(G19=2,12,13-H19)),0) -> 0 | V19: =OFFSET(Очки!$A$3,L19,J19+QUOTIENT(MAX($C$29-11,0), 2)*4) -> 10 | W19: =IF(L19<K19,OFFSET(IF(OR($C$29=11,$C$29=12),Очки!$B$17,Очки!$O$18),2+K19-L19,IF(J19=2,12,13-K19)),0) -> 0 | Y19: -10 | AB19: =SUM(M19:Y19) -> 23
A20: =RANK(AB20,AB$6:OFFSET(AB$6,0,0,COUNTA(B$6:B$28))) -> #N/A | N20: =OFFSET(Очки!$A$3,F20,D20+QUOTIENT(MAX($C$29-11,0), 2)*4) -> Место | O20: =IF(F20<E20,OFFSET(IF(OR($C$29=11,$C$29=12),Очки!$B$17,Очки!$O$18),2+E20-F20,IF(D20=2,12,13-E20)),0) -> 0 | R20: =OFFSET(Очки!$A$3,I20,G20+QUOTIENT(MAX($C$29-11,0), 2)*4) -> Место | S20: =IF(I20<H20,OFFSET(IF(OR($C$29=11,$C$29=12),Очки!$B$17,Очки!$O$18),2+H20-I20,IF(G20=2,12,13-H20)),0) -> 0 | V20: =OFFSET(Очки!$A$3,L20,J20+QUOTIENT(MAX($C$29-11,0), 2)*4) -> Место | W20: =IF(L20<K20,OFFSET(IF(OR($C$29=11,$C$29=12),Очки!$B$17,Очки!$O$18),2+K20-L20,IF(J20=2,12,13-K20)),0) -> 0 | AB20: =SUM(M20:Y20) -> 0
A21: =RANK(AB21,AB$6:OFFSET(AB$6,0,0,COUNTA(B$6:B$28))) -> #N/A | N21: =OFFSET(Очки!$A$3,F21,D21+QUOTIENT(MAX($C$29-11,0), 2)*4) -> Место | O21: =IF(F21<E21,OFFSET(IF(OR($C$29=11,$C$29=12),Очки!$B$17,Очки!$O$18),2+E21-F21,IF(D21=2,12,13-E21)),0) -> 0 | R21: =OFFSET(Очки!$A$3,I21,G21+QUOTIENT(MAX($C$29-11,0), 2)*4) -> Место | S21: =IF(I21<H21,OFFSET(IF(OR($C$29=11,$C$29=12),Очки!$B$17,Очки!$O$18),2+H21-I21,IF(G21=2,12,13-H21)),0) -> 0 | V21: =OFFSET(Очки!$A$3,L21,J21+QUOTIENT(MAX($C$29-11,0), 2)*4) -> Место | W21: =IF(L21<K21,OFFSET(IF(OR($C$29=11,$C$29=12),Очки!$B$17,Очки!$O$18),2+K21-L21,IF(J21=2,12,13-K21)),0) -> 0 | AB21: =SUM(M21:Y21) -> 0
A22: =RANK(AB22,AB$6:OFFSET(AB$6,0,0,COUNTA(B$6:B$28))) -> #N/A | N22: =OFFSET(Очки!$A$3,F22,D22+QUOTIENT(MAX($C$29-11,0), 2)*4) -> Место | O22: =IF(F22<E22,OFFSET(IF(OR($C$29=11,$C$29=12),Очки!$B$17,Очки!$O$18),2+E22-F22,IF(D22=2,12,13-E22)),0) -> 0 | R22: =OFFSET(Очки!$A$3,I22,G22+QUOTIENT(MAX($C$29-11,0), 2)*4) -> Место | S22: =IF(I22<H22,OFFSET(IF(OR($C$29=11,$C$29=12),Очки!$B$17,Очки!$O$18),2+H22-I22,IF(G22=2,12,13-H22)),0) -> 0 | V22: =OFFSET(Очки!$A$3,L22,J22+QUOTIENT(MAX($C$29-11,0), 2)*4) -> Место | W22: =IF(L22<K22,OFFSET(IF(OR($C$29=11,$C$29=12),Очки!$B$17,Очки!$O$18),2+K22-L22,IF(J22=2,12,13-K22)),0) -> 0 | AB22: =SUM(M22:Y22) -> 0
A23: =RANK(AB23,AB$6:OFFSET(AB$6,0,0,COUNTA(B$6:B$28))) -> #N/A | N23: =OFFSET(Очки!$A$3,F23,D23+QUOTIENT(MAX($C$29-11,0), 2)*4) -> Место | O23: =IF(F23<E23,OFFSET(IF(OR($C$29=11,$C$29=12),Очки!$B$17,Очки!$O$18),2+E23-F23,IF(D23=2,12,13-E23)),0) -> 0 | R23: =OFFSET(Очки!$A$3,I23,G23+QUOTIENT(MAX($C$29-11,0), 2)*4) -> Место | S23: =IF(I23<H23,OFFSET(IF(OR($C$29=11,$C$29=12),Очки!$B$17,Очки!$O$18),2+H23-I23,IF(G23=2,12,13-H23)),0) -> 0 | V23: =OFFSET(Очки!$A$3,L23,J23+QUOTIENT(MAX($C$29-11,0), 2)*4) -> Место | W23: =IF(L23<K23,OFFSET(IF(OR($C$29=11,$C$29=12),Очки!$B$17,Очки!$O$18),2+K23-L23,IF(J23=2,12,13-K23)),0) -> 0 | AB23: =SUM(M23:Y23) -> 0
A24: =RANK(AB24,AB$6:OFFSET(AB$6,0,0,COUNTA(B$6:B$28))) -> #N/A | N24: =OFFSET(Очки!$A$3,F24,D24+QUOTIENT(MAX($C$29-11,0), 2)*4) -> Место | O24: =IF(F24<E24,OFFSET(IF(OR($C$29=11,$C$29=12),Очки!$B$17,Очки!$O$18),2+E24-F24,IF(D24=2,12,13-E24)),0) -> 0 | R24: =OFFSET(Очки!$A$3,I24,G24+QUOTIENT(MAX($C$29-11,0), 2)*4) -> Место | S24: =IF(I24<H24,OFFSET(IF(OR($C$29=11,$C$29=12),Очки!$B$17,Очки!$O$18),2+H24-I24,IF(G24=2,12,13-H24)),0) -> 0 | V24: =OFFSET(Очки!$A$3,L24,J24+QUOTIENT(MAX($C$29-11,0), 2)*4) -> Место | W24: =IF(L24<K24,OFFSET(IF(OR($C$29=11,$C$29=12),Очки!$B$17,Очки!$O$18),2+K24-L24,IF(J24=2,12,13-K24)),0) -> 0 | AB24: =SUM(M24:Y24) -> 0
A25: =RANK(AB25,AB$6:OFFSET(AB$6,0,0,COUNTA(B$6:B$28))) -> #N/A | N25: =OFFSET(Очки!$A$3,F25,D25+QUOTIENT(MAX($C$29-11,0), 2)*4) -> Место | O25: =IF(F25<E25,OFFSET(IF(OR($C$29=11,$C$29=12),Очки!$B$17,Очки!$O$18),2+E25-F25,IF(D25=2,12,13-E25)),0) -> 0 | R25: =OFFSET(Очки!$A$3,I25,G25+QUOTIENT(MAX($C$29-11,0), 2)*4) -> Место | S25: =IF(I25<H25,OFFSET(IF(OR($C$29=11,$C$29=12),Очки!$B$17,Очки!$O$18),2+H25-I25,IF(G25=2,12,13-H25)),0) -> 0 | V25: =OFFSET(Очки!$A$3,L25,J25+QUOTIENT(MAX($C$29-11,0), 2)*4) -> Место | W25: =IF(L25<K25,OFFSET(IF(OR($C$29=11,$C$29=12),Очки!$B$17,Очки!$O$18),2+K25-L25,IF(J25=2,12,13-K25)),0) -> 0 | AB25: =SUM(M25:Y25) -> 0
A26: =RANK(AB26,AB$6:OFFSET(AB$6,0,0,COUNTA(B$6:B$28))) -> #N/A | N26: =OFFSET(Очки!$A$3,F26,D26+QUOTIENT(MAX($C$29-11,0), 2)*4) -> Место | O26: =IF(F26<E26,OFFSET(IF(OR($C$29=11,$C$29=12),Очки!$B$17,Очки!$O$18),2+E26-F26,IF(D26=2,12,13-E26)),0) -> 0 | R26: =OFFSET(Очки!$A$3,I26,G26+QUOTIENT(MAX($C$29-11,0), 2)*4) -> Место | S26: =IF(I26<H26,OFFSET(IF(OR($C$29=11,$C$29=12),Очки!$B$17,Очки!$O$18),2+H26-I26,IF(G26=2,12,13-H26)),0) -> 0 | V26: =OFFSET(Очки!$A$3,L26,J26+QUOTIENT(MAX($C$29-11,0), 2)*4) -> Место | W26: =IF(L26<K26,OFFSET(IF(OR($C$29=11,$C$29=12),Очки!$B$17,Очки!$O$18),2+K26-L26,IF(J26=2,12,13-K26)),0) -> 0 | AB26: =SUM(M26:Y26) -> 0
A27: =RANK(AB27,AB$6:OFFSET(AB$6,0,0,COUNTA(B$6:B$28))) -> #N/A | N27: =OFFSET(Очки!$A$3,F27,D27+QUOTIENT(MAX($C$29-11,0), 2)*4) -> Место | O27: =IF(F27<E27,OFFSET(IF(OR($C$29=11,$C$29=12),Очки!$B$17,Очки!$O$18),2+E27-F27,IF(D27=2,12,13-E27)),0) -> 0 | R27: =OFFSET(Очки!$A$3,I27,G27+QUOTIENT(MAX($C$29-11,0), 2)*4) -> Место | S27: =IF(I27<H27,OFFSET(IF(OR($C$29=11,$C$29=12),Очки!$B$17,Очки!$O$18),2+H27-I27,IF(G27=2,12,13-H27)),0) -> 0 | V27: =OFFSET(Очки!$A$3,L27,J27+QUOTIENT(MAX($C$29-11,0), 2)*4) -> Место | W27: =IF(L27<K27,OFFSET(IF(OR($C$29=11,$C$29=12),Очки!$B$17,Очки!$O$18),2+K27-L27,IF(J27=2,12,13-K27)),0) -> 0 | AB27: =SUM(M27:Y27) -> 0
A28: =RANK(AB28,AB$6:OFFSET(AB$6,0,0,COUNTA(B$6:B$28))) -> #N/A | N28: =OFFSET(Очки!$A$3,F28,D28+QUOTIENT(MAX($C$29-11,0), 2)*4) -> Место | O28: =IF(F28<E28,OFFSET(IF(OR($C$29=11,$C$29=12),Очки!$B$17,Очки!$O$18),2+E28-F28,IF(D28=2,12,13-E28)),0) -> 0 | R28: =OFFSET(Очки!$A$3,I28,G28+QUOTIENT(MAX($C$29-11,0), 2)*4) -> Место | S28: =IF(I28<H28,OFFSET(IF(OR($C$29=11,$C$29=12),Очки!$B$17,Очки!$O$18),2+H28-I28,IF(G28=2,12,13-H28)),0) -> 0 | V28: =OFFSET(Очки!$A$3,L28,J28+QUOTIENT(MAX($C$29-11,0), 2)*4) -> Место | W28: =IF(L28<K28,OFFSET(IF(OR($C$29=11,$C$29=12),Очки!$B$17,Очки!$O$18),2+K28-L28,IF(J28=2,12,13-K28)),0) -> 0 | AB28: =SUM(M28:Y28) -> 0
B29: Всего участников | C29: =COUNTA(B6:B28) -> 14

Sheet 19.07
A1: Лига II -й сезон 19.07.2017 конфиг 7R
A3: Место | B3: Участник | D3: 1 | G3: 2 | J3: 3 | M3: Очки | AA3: =SUM(M3:Z3) -> 0 | AB3: Сумма
C4: Довес | D4: группа | E4: Старт | F4: Финиш | G4: группа | H4: Старт | I4: Финиш | J4: группа | K4: Старт | L4: Финиш | M4: Квала | N4: 1 | R4: 2 | V4: 3
N5: очки | O5: обгоны | P5: время | Q5: штрафы | R5: очки | S5: обгоны | T5: время | U5: штрафы | V5: очки | W5: обгоны | X5: время | Y5: штрафы | Z5: 4
A6: =RANK(AB6,AB$6:OFFSET(AB$6,0,0,COUNTA(B$6:B$28))) -> 1 | B6: Хавило Дима / Khavilo Dima | C6: 12.5 | D6: 1 | E6: 2 | F6: 1 | G6: 1 | H6: 4 | I6: 4 | J6: 1 | K6: 2 | L6: 1 | N6: =OFFSET(Очки!$A$3,F6,D6+QUOTIENT(MAX($C$29-11,0), 2)*4) -> 16 | O6: =IF(F6<E6,OFFSET(IF(OR($C$29=11,$C$29=12),Очки!$B$17,Очки!$O$18),2+E6-F6,IF(D6=2,12,13-E6)),0) -> 0.7 | R6: =OFFSET(Очки!$A$3,I6,G6+QUOTIENT(MAX($C$29-11,0), 2)*4) -> 13 | S6: =IF(I6<H6,OFFSET(IF(OR($C$29=11,$C$29=12),Очки!$B$17,Очки!$O$18),2+H6-I6,IF(G6=2,12,13-H6)),0) -> 0 | V6: =OFFSET(Очки!$A$3,L6,J6+QUOTIENT(MAX($C$29-11,0), 2)*4) -> 16 | W6: =IF(L6<K6,OFFSET(IF(OR($C$29=11,$C$29=12),Очки!$B$17,Очки!$O$18),2+K6-L6,IF(J6=2,12,13-K6)),0) -> 0.7 | X6: 0.5 | AB6: =SUM(M6:Y6) -> 46.9
A7: =RANK(AB7,AB$6:OFFSET(AB$6,0,0,COUNTA(B$6:B$28))) -> 2 | B7: Дио / lysenskiy Denis | C7: 2.5 | D7: 1 | E7: 7 | F7: 5 | G7: 1 | H7: 6 | I7: 6 | J7: 1 | K7: 7 | L7: 4 | M7: 1.5 | N7: =OFFSET(Очки!$A$3,F7,D7+QUOTIENT(MAX($C$29-11,0), 2)*4) -> 12 | O7: =IF(F7<E7,OFFSET(IF(OR($C$29=11,$C$29=12),Очки!$B$17,Очки!$O$18),2+E7-F7,IF(D7=2,12,13-E7)),0) -> 2.1 | P7: 1 | R7: =OFFSET(Очки!$A$3,I7,G7+QUOTIENT(MAX($C$29-11,0), 2)*4) -> 11.5 | S7: =IF(I7<H7,OFFSET(IF(OR($C$29=11,$C$29=12),Очки!$B$17,Очки!$O$18),2+H7-I7,IF(G7=2,12,13-H7)),0) -> 0 | T7: 1.5 | V7: =OFFSET(Очки!$A$3,L7,J7+QUOTIENT(MAX($C$29-11,0), 2)*4) -> 13 | W7: =IF(L7<K7,OFFSET(IF(OR($C$29=11,$C$29=12),Очки!$B$17,Очки!$O$18),2+K7-L7,IF(J7=2,12,13-K7)),0) -> 3 | AB7: =SUM(M7:Y7) -> 45.6
A8: =RANK(AB8,AB$6:OFFSET(AB$6,0,0,COUNTA(B$6:B$28))) -> 3 | B8: Пикулин Паша / Pikulin Pavlo | C8: 7.5 | D8: 1 | E8: 1 | F8: 8 | G8: 2 | H8: 7 | I8: 2 | J8: 1 | K8: 9 | L8: 5 | N8: =OFFSET(Очки!$A$3,F8,D8+QUOTIENT(MAX($C$29-11,0), 2)*4) -> 10.5 | O8: =IF(F8<E8,OFFSET(IF(OR($C$29=11,$C$29=12),Очки!$B$17,Очки!$O$18),2+E8-F8,IF(D8=2,12,13-E8)),0) -> 0 | R8: =OFFSET(Очки!$A$3,I8,G8+QUOTIENT(MAX($C$29-11,0), 2)*4) -> 10 | S8: =IF(I8<H8,OFFSET(IF(OR($C$29=11,$C$29=12),Очки!$B$17,Очки!$O$18),2+H8-I8,IF(G8=2,12,13-H8)),0) -> 3.5 | T8: 2.5 | V8: =OFFSET(Очки!$A$3,L8,J8+QUOTIENT(MAX($C$29-11,0), 2)*4) -> 12 | W8: =IF(L8<K8,OFFSET(IF(OR($C$29=11,$C$29=12),Очки!$B$17,Очки!$O$18),2+K8-L8,IF(J8=2,12,13-K8)),0) -> 4.5 | X8: 1.5 | AB8: =SUM(M8:Y8) -> 44.5
A9: =RANK(AB9,AB$6:OFFSET(AB$6,0,0,COUNTA(B$6:B$28))) -> 4 | B9: Манило Денис / Manilo Denis | C9: - | D9: 1 | E9: 9 | F9: 3 | G9: 1 | H9: 9 | I9: 8 | J9: 1 | K9: 8 | L9: 7 | M9: 2.5 | N9: =OFFSET(Очки!$A$3,F9,D9+QUOTIENT(MAX($C$29-11,0), 2)*4) -> 14 | O9: =IF(F9<E9,OFFSET(IF(OR($C$29=11,$C$29=12),Очки!$B$17,Очки!$O$18),2+E9-F9,IF(D9=2,12,13-E9)),0) -> 6.2 | P9: 2.5 | Q9: -7 | R9: =OFFSET(Очки!$A$3,I9,G9+QUOTIENT(MAX($C$29-11,0), 2)*4) -> 10.5 | S9: =IF(I9<H9,OFFSET(IF(OR($C$29=11,$C$29=12),Очки!$B$17,Очки!$O$18),2+H9-I9,IF(G9=2,12,13-H9)),0) -> 1.2 | T9: 2 | V9: =OFFSET(Очки!$A$3,L9,J9+QUOTIENT(MAX($C$29-11,0), 2)*4) -> 11 | W9: =IF(L9<K9,OFFSET(IF(OR($C$29=11,$C$29=12),Очки!$B$17,Очки!$O$18),2+K9-L9,IF(J9=2,12,13-K9)),0) -> 1.2 | AB9: =SUM(M9:Y9) -> 44.1
A10: =RANK(AB10,AB$6:OFFSET(AB$6,0,0,COUNTA(B$6:B$28))) -> 5 | B10: Тыщенко Михаил / Tishchenko Mikhail | C10: - | D10: 1 | E10: 8 | F10: 7 | G10: 1 | H10: 3 | I10: 2 | J10: 2 | K10: 4 | L10: 1 | M10: 2 | N10: =OFFSET(Очки!$A$3,F10,D10+QUOTIENT(MAX($C$29-11,0), 2)*4) -> 11 | O10: =IF(F10<E10,OFFSET(IF(OR($C$29=11,$C$29=12),Очки!$B$17,Очки!$O$18),2+E10-F10,IF(D10=2,12,13-E10)),0) -> 1.2 | R10: =OFFSET(Очки!$A$3,I10,G10+QUOTIENT(MAX($C$29-11,0), 2)*4) -> 15 | S10: =IF(I10<H10,OFFSET(IF(OR($C$29=11,$C$29=12),Очки!$B$17,Очки!$O$18),2+H10-I10,IF(G10=2,12,13-H10)),0) -> 0.7 | V10: =OFFSET(Очки!$A$3,L10,J10+QUOTIENT(MAX($C$29-11,0), 2)*4) -> 11 | W10: =IF(L10<K10,OFFSET(IF(OR($C$29=11,$C$29=12),Очки!$B$17,Очки!$O$18),2+K10-L10,IF(J10=2,12,13-K10)),0) -> 2.1 | AB10: =SUM(M10:Y10) -> 43
A11: =RANK(AB11,AB$6:OFFSET(AB$6,0,0,COUNTA(B$6:B$28))) -> 6 | B11: Кравченко Женя / Kravchenko Eugene | D11: 1 | E11: 4 | F11: 4 | G11: 1 | H11: 8 | I11: 5 | J11: 1 | K11: 4 | L11: 6 | N11: =OFFSET(Очки!$A$3,F11,D11+QUOTIENT(MAX($C$29-11,0), 2)*4) -> 13 | O11: =IF(F11<E11,OFFSET(IF(OR($C$29=11,$C$29=12),Очки!$B$17,Очки!$O$18),2+E11-F11,IF(D11=2,12,13-E11)),0) -> 0 | P11: 2 | R11: =OFFSET(Очки!$A$3,I11,G11+QUOTIENT(MAX($C$29-11,0), 2)*4) -> 12 | S11: =IF(I11<H11,OFFSET(IF(OR($C$29=11,$C$29=12),Очки!$B$17,Очки!$O$18),2+H11-I11,IF(G11=2,12,13-H11)),0) -> 3.3 | V11: =OFFSET(Очки!$A$3,L11,J11+QUOTIENT(MAX($C$29-11,0), 2)*4) -> 11.5 | W11: =IF(L11<K11,OFFSET(IF(OR($C$29=11,$C$29=12),Очки!$B$17,Очки!$O$18),2+K11-L11,IF(J11=2,12,13-K11)),0) -> 0 | AB11: =SUM(M11:Y11) -> 41.8
A12: =RANK(AB12,AB$6:OFFSET(AB$6,0,0,COUNTA(B$6:B$28))) -> 7 | B12: Ткаченко Антон / Tkachenko Anton | C12: - | D12: 1 | E12: 3 | F12: 2 | G12: 1 | H12: 7 | I12: 7 | J12: 1 | K12: 6 | L12: 3 | N12: =OFFSET(Очки!$A$3,F12,D12+QUOTIENT(MAX($C$29-11,0), 2)*4) -> 15 | O12: =IF(F12<E12,OFFSET(IF(OR($C$29=11,$C$29=12),Очки!$B$17,Очки!$O$18),2+E12-F12,IF(D12=2,12,13-E12)),0) -> 0.7 | P12: 1.5 | R12: =OFFSET(Очки!$A$3,I12,G12+QUOTIENT(MAX($C$29-11,0), 2)*4) -> 11 | S12: =IF(I12<H12,OFFSET(IF(OR($C$29=11,$C$29=12),Очки!$B$17,Очки!$O$18),2+H12-I12,IF(G12=2,12,13-H12)),0) -> 0 | T12: 1 | V12: =OFFSET(Очки!$A$3,L12,J12+QUOTIENT(MAX($C$29-11,0), 2)*4) -> 14 | W12: =IF(L12<K12,OFFSET(IF(OR($C$29=11,$C$29=12),Очки!$B$17,Очки!$O$18),2+K12-L12,IF(J12=2,12,13-K12)),0) -> 2.7 | X12: 1 | Y12: -7 | AB12: =SUM(M12:Y12) -> 39.9
A13: =RANK(AB13,AB$6:OFFSET(AB$6,0,0,COUNTA(B$6:B$28))) -> 8 | B13: Онащук Максим / Onashchuk Maxim | D13: 1 | E13: 6 | F13: 5 | G13: 2 | H13: 8 | I13: 6 | J13: 2 | K13: 7 | L13: 3 | M13: 1 | N13: =OFFSET(Очки!$A$3,F13,D13+QUOTIENT(MAX($C$29-11,0), 2)*4) -> 12 | O13: =IF(F13<E13,OFFSET(IF(OR($C$29=11,$C$29=12),Очки!$B$17,Очки!$O$18),2+E13-F13,IF(D13=2,12,13-E13)),0) -> 1 | R13: =OFFSET(Очки!$A$3,I13,G13+QUOTIENT(MAX($C$29-11,0), 2)*4) -> 6.5 | S13: =IF(I13<H13,OFFSET(IF(OR($C$29=11,$C$29=12),Очки!$B$17,Очки!$O$18),2+H13-I13,IF(G13=2,12,13-H13)),0) -> 1.4 | V13: =OFFSET(Очки!$A$3,L13,J13+QUOTIENT(MAX($C$29-11,0), 2)*4) -> 9 | W13: =IF(L13<K13,OFFSET(IF(OR($C$29=11,$C$29=12),Очки!$B$17,Очки!$O$18),2+K13-L13,IF(J13=2,12,13-K13)),0) -> 2.8 | X13: 2 | AB13: =SUM(M13:Y13) -> 35.7
A14: =RANK(AB14,AB$6:OFFSET(AB$6,0,0,COUNTA(B$6:B$28))) -> 9 | B14: Гобади Курош / Gobadi Kurosh | C14: - | D14: 2 | E14: 1 | F14: 4 | G14: 2 | H14: 6 | I14: 3 | J14: 1 | K14: 1 | L14: 2 | N14: =OFFSET(Очки!$A$3,F14,D14+QUOTIENT(MAX($C$29-11,0), 2)*4) -> 8 | O14: =IF(F14<E14,OFFSET(IF(OR($C$29=11,$C$29=12),Очки!$B$17,Очки!$O$18),2+E14-F14,IF(D14=2,12,13-E14)),0) -> 0 | Q14: -2 | R14: =OFFSET(Очки!$A$3,I14,G14+QUOTIENT(MAX($C$29-11,0), 2)*4) -> 9 | S14: =IF(I14<H14,OFFSET(IF(OR($C$29=11,$C$29=12),Очки!$B$17,Очки!$O$18),2+H14-I14,IF(G14=2,12,13-H14)),0) -> 2.1 | V14: =OFFSET(Очки!$A$3,L14,J14+QUOTIENT(MAX($C$29-11,0), 2)*4) -> 15 | W14: =IF(L14<K14,OFFSET(IF(OR($C$29=11,$C$29=12),Очки!$B$17,Очки!$O$18),2+K14-L14,IF(J14=2,12,13-K14)),0) -> 0 | AB14: =SUM(M14:Y14) -> 32.1
A15: =RANK(AB15,AB$6:OFFSET(AB$6,0,0,COUNTA(B$6:B$28))) -> 10 | B15: Пилипчук Василий / Pilipchuk Vasiliy | C15: 5 | D15: 1 | E15: 5 | F15: 9 | G15: 1 | H15: 1 | I15: 1 | J15: 2 | K15: 8 | L15: 8 | M15: 0.5 | N15: =OFFSET(Очки!$A$3,F15,D15+QUOTIENT(MAX($C$29-11,0), 2)*4) -> 10 | O15: =IF(F15<E15,OFFSET(IF(OR($C$29=11,$C$29=12),Очки!$B$17,Очки!$O$18),2+E15-F15,IF(D15=2,12,13-E15)),0) -> 0 | R15: =OFFSET(Очки!$A$3,I15,G15+QUOTIENT(MAX($C$29-11,0), 2)*4) -> 16 | S15: =IF(I15<H15,OFFSET(IF(OR($C$29=11,$C$29=12),Очки!$B$17,Очки!$O$18),2+H15-I15,IF(G15=2,12,13-H15)),0) -> 0 | V15: =OFFSET(Очки!$A$3,L15,J15+QUOTIENT(MAX($C$29-11,0), 2)*4) -> 5.5 | W15: =IF(L15<K15,OFFSET(IF(OR($C$29=11,$C$29=12),Очки!$B$17,Очки!$O$18),2+K15-L15,IF(J15=2,12,13-K15)),0) -> 0 | AB15: =SUM(M15:Y15) -> 32
A16: =RANK(AB16,AB$6:OFFSET(AB$6,0,0,COUNTA(B$6:B$28))) -> 11 | B16: Несторенко Андрей / Nestorenko Andrew | D16: 2 | E16: 6 | F16: 5 | G16: 2 | H16: 4 | I16: 1 | J16: 1 | K16: 3 | L16: 8 | N16: =OFFSET(Очки!$A$3,F16,D16+QUOTIENT(MAX($C$29-11,0), 2)*4) -> 7 | O16: =IF(F16<E16,OFFSET(IF(OR($C$29=11,$C$29=12),Очки!$B$17,Очки!$O$18),2+E16-F16,IF(D16=2,12,13-E16)),0) -> 0.7 | R16: =OFFSET(Очки!$A$3,I16,G16+QUOTIENT(MAX($C$29-11,0), 2)*4) -> 11 | S16: =IF(I16<H16,OFFSET(IF(OR($C$29=11,$C$29=12),Очки!$B$17,Очки!$O$18),2+H16-I16,IF(G16=2,12,13-H16)),0) -> 2.1 | V16: =OFFSET(Очки!$A$3,L16,J16+QUOTIENT(MAX($C$29-11,0), 2)*4) -> 10.5 | W16: =IF(L16<K16,OFFSET(IF(OR($C$29=11,$C$29=12),Очки!$B$17,Очки!$O$18),2+K16-L16,IF(J16=2,12,13-K16)),0) -> 0 | AB16: =SUM(M16:Y16) -> 31.3
A17: =RANK(AB17,AB$6:OFFSET(AB$6,0,0,COUNTA(B$6:B$28))) -> 12 | B17: Наум / Vintoniv Ivan | C17: 2.5 | D17: 2 | E17: 8 | F17: 2 | G17: 1 | H17: 5 | I17: 9 | J17: 1 | K17: 5 | L17: 8 | N17: =OFFSET(Очки!$A$3,F17,D17+QUOTIENT(MAX($C$29-11,0), 2)*4) -> 10 | O17: =IF(F17<E17,OFFSET(IF(OR($C$29=11,$C$29=12),Очки!$B$17,Очки!$O$18),2+E17-F17,IF(D17=2,12,13-E17)),0) -> 4.2 | P17: 0.5 | Q17: -8 | R17: =OFFSET(Очки!$A$3,I17,G17+QUOTIENT(MAX($C$29-11,0), 2)*4) -> 10 | S17: =IF(I17<H17,OFFSET(IF(OR($C$29=11,$C$29=12),Очки!$B$17,Очки!$O$18),2+H17-I17,IF(G17=2,12,13-H17)),0) -> 0 | T17: 0.5 | V17: =OFFSET(Очки!$A$3,L17,J17+QUOTIENT(MAX($C$29-11,0), 2)*4) -> 10.5 | W17: =IF(L17<K17,OFFSET(IF(OR($C$29=11,$C$29=12),Очки!$B$17,Очки!$O$18),2+K17-L17,IF(J17=2,12,13-K17)),0) -> 0 | X17: 2.5 | AB17: =SUM(M17:Y17) -> 30.2
A18: =RANK(AB18,AB$6:OFFSET(AB$6,0,0,COUNTA(B$6:B$28))) -> 13 | B18: Веселов Сергей / Veselov Sergey | C18: 12.5 | D18: 2 | E18: 7 | F18: 3 | G18: 1 | H18: 2 | I18: 3 | J18: 2 | K18: 3 | L18: 2 | N18: =OFFSET(Очки!$A$3,F18,D18+QUOTIENT(MAX($C$29-11,0), 2)*4) -> 9 | O18: =IF(F18<E18,OFFSET(IF(OR($C$29=11,$C$29=12),Очки!$B$17,Очки!$O$18),2+E18-F18,IF(D18=2,12,13-E18)),0) -> 2.8 | R18: =OFFSET(Очки!$A$3,I18,G18+QUOTIENT(MAX($C$29-11,0), 2)*4) -> 14 | S18: =IF(I18<H18,OFFSET(IF(OR($C$29=11,$C$29=12),Очки!$B$17,Очки!$O$18),2+H18-I18,IF(G18=2,12,13-H18)),0) -> 0 | V18: =OFFSET(Очки!$A$3,L18,J18+QUOTIENT(MAX($C$29-11,0), 2)*4) -> 10 | W18: =IF(L18<K18,OFFSET(IF(OR($C$29=11,$C$29=12),Очки!$B$17,Очки!$O$18),2+K18-L18,IF(J18=2,12,13-K18)),0) -> 0.7 | Y18: -7 | AB18: =SUM(M18:Y18) -> 29.5
A19: =RANK(AB19,AB$6:OFFSET(AB$6,0,0,COUNTA(B$6:B$28))) -> 14 | B19: Джемула Сергей / Dzemula Sergey | C19: - | D19: 2 | E19: 4 | F19: 1 | G19: 2 | H19: 5 | I19: 7 | J19: 2 | K19: 5 | L19: 4 | N19: =OFFSET(Очки!$A$3,F19,D19+QUOTIENT(MAX($C$29-11,0), 2)*4) -> 11 | O19: =IF(F19<E19,OFFSET(IF(OR($C$29=11,$C$29=12),Очки!$B$17,Очки!$O$18),2+E19-F19,IF(D19=2,12,13-E19)),0) -> 2.1 | R19: =OFFSET(Очки!$A$3,I19,G19+QUOTIENT(MAX($C$29-11,0), 2)*4) -> 6 | S19: =IF(I19<H19,OFFSET(IF(OR($C$29=11,$C$29=12),Очки!$B$17,Очки!$O$18),2+H19-I19,IF(G19=2,12,13-H19)),0) -> 0 | U19: -2 | V19: =OFFSET(Очки!$A$3,L19,J19+QUOTIENT(MAX($C$29-11,0), 2)*4) -> 8 | W19: =IF(L19<K19,OFFSET(IF(OR($C$29=11,$C$29=12),Очки!$B$17,Очки!$O$18),2+K19-L19,IF(J19=2,12,13-K19)),0) -> 0.7 | AB19: =SUM(M19:Y19) -> 25.8
A20: =RANK(AB20,AB$6:OFFSET(AB$6,0,0,COUNTA(B$6:B$28))) -> 15 | B20: Синани Влад / Sinani Vlad | C20: 5 | D20: 2 | E20: 5 | F20: 7 | G20: 2 | H20: 3 | I20: 4 | J20: 2 | K20: 1 | L20: 7 | N20: =OFFSET(Очки!$A$3,F20,D20+QUOTIENT(MAX($C$29-11,0), 2)*4) -> 6 | O20: =IF(F20<E20,OFFSET(IF(OR($C$29=11,$C$29=12),Очки!$B$17,Очки!$O$18),2+E20-F20,IF(D20=2,12,13-E20)),0) -> 0 | R20: =OFFSET(Очки!$A$3,I20,G20+QUOTIENT(MAX($C$29-11,0), 2)*4) -> 8 | S20: =IF(I20<H20,OFFSET(IF(OR($C$29=11,$C$29=12),Очки!$B$17,Очки!$O$18),2+H20-I20,IF(G20=2,12,13-H20)),0) -> 0 | V20: =OFFSET(Очки!$A$3,L20,J20+QUOTIENT(MAX($C$29-11,0), 2)*4) -> 6 | W20: =IF(L20<K20,OFFSET(IF(OR($C$29=11,$C$29=12),Очки!$B$17,Очки!$O$18),2+K20-L20,IF(J20=2,12,13-K20)),0) -> 0 | AB20: =SUM(M20:Y20) -> 20
A21: =RANK(AB21,AB$6:OFFSET(AB$6,0,0,COUNTA(B$6:B$28))) -> 15 | B21: Чухаленко Дима / Chukhalenko Dmitriy | C21: - | D21: 2 | E21: 3 | F21: 7 | G21: 2 | H21: 2 | I21: 5 | J21: 2 | K21: 2 | L21: 5 | N21: =OFFSET(Очки!$A$3,F21,D21+QUOTIENT(MAX($C$29-11,0), 2)*4) -> 6 | O21: =IF(F21<E21,OFFSET(IF(OR($C$29=11,$C$29=12),Очки!$B$17,Очки!$O$18),2+E21-F21,IF(D21=2,12,13-E21)),0) -> 0 | R21: =OFFSET(Очки!$A$3,I21,G21+QUOTIENT(MAX($C$29-11,0), 2)*4) -> 7 | S21: =IF(I21<H21,OFFSET(IF(OR($C$29=11,$C$29=12),Очки!$B$17,Очки!$O$18),2+H21-I21,IF(G21=2,12,13-H21)),0) -> 0 | V21: =OFFSET(Очки!$A$3,L21,J21+QUOTIENT(MAX($C$29-11,0), 2)*4) -> 7 | W21: =IF(L21<K21,OFFSET(IF(OR($C$29=11,$C$29=12),Очки!$B$17,Очки!$O$18),2+K21-L21,IF(J21=2,12,13-K21)),0) -> 0 | AB21: =SUM(M21:Y21) -> 20
A22: =RANK(AB22,AB$6:OFFSET(AB$6,0,0,COUNTA(B$6:B$28))) -> 17 | B22: Жайворонок Дима | D22: 2 | E22: 2 | F22: 6 | G22: 2 | H22: 1 | I22: 8 | J22: 2 | K22: 6 | L22: 5 | N22: =OFFSET(Очки!$A$3,F22,D22+QUOTIENT(MAX($C$29-11,0), 2)*4) -> 6.5 | O22: =IF(F22<E22,OFFSET(IF(OR($C$29=11,$C$29=12),Очки!$B$17,Очки!$O$18),2+E22-F22,IF(D22=2,12,13-E22)),0) -> 0 | R22: =OFFSET(Очки!$A$3,I22,G22+QUOTIENT(MAX($C$29-11,0), 2)*4) -> 5.5 | S22: =IF(I22<H22,OFFSET(IF(OR($C$29=11,$C$29=12),Очки!$B$17,Очки!$O$18),2+H22-I22,IF(G22=2,12,13-H22)),0) -> 0 | V22: =OFFSET(Очки!$A$3,L22,J22+QUOTIENT(MAX($C$29-11,0), 2)*4) -> 7 | W22: =IF(L22<K22,OFFSET(IF(OR($C$29=11,$C$29=12),Очки!$B$17,Очки!$O$18),2+K22-L22,IF(J22=2,12,13-K22)),0) -> 0.7 | AB22: =SUM(M22:Y22) -> 19.7
A23: =RANK(AB23,AB$6:OFFSET(AB$6,0,0,COUNTA(B$6:B$28))) -> #N/A | N23: =OFFSET(Очки!$A$3,F23,D23+QUOTIENT(MAX($C$29-11,0), 2)*4) -> Место | O23: =IF(F23<E23,OFFSET(IF(OR($C$29=11,$C$29=12),Очки!$B$17,Очки!$O$18),2+E23-F23,IF(D23=2,12,13-E23)),0) -> 0 | R23: =OFFSET(Очки!$A$3,I23,G23+QUOTIENT(MAX($C$29-11,0), 2)*4) -> Место | S23: =IF(I23<H23,OFFSET(IF(OR($C$29=11,$C$29=12),Очки!$B$17,Очки!$O$18),2+H23-I23,IF(G23=2,12,13-H23)),0) -> 0 | V23: =OFFSET(Очки!$A$3,L23,J23+QUOTIENT(MAX($C$29-11,0), 2)*4) -> Место | W23: =IF(L23<K23,OFFSET(IF(OR($C$29=11,$C$29=12),Очки!$B$17,Очки!$O$18),2+K23-L23,IF(J23=2,12,13-K23)),0) -> 0 | AB23: =SUM(M23:Y23) -> 0
A24: =RANK(AB24,AB$6:OFFSET(AB$6,0,0,COUNTA(B$6:B$28))) -> #N/A | N24: =OFFSET(Очки!$A$3,F24,D24+QUOTIENT(MAX($C$29-11,0), 2)*4) -> Место | O24: =IF(F24<E24,OFFSET(IF(OR($C$29=11,$C$29=12),Очки!$B$17,Очки!$O$18),2+E24-F24,IF(D24=2,12,13-E24)),0) -> 0 | R24: =OFFSET(Очки!$A$3,I24,G24+QUOTIENT(MAX($C$29-11,0), 2)*4) -> Место | S24: =IF(I24<H24,OFFSET(IF(OR($C$29=11,$C$29=12),Очки!$B$17,Очки!$O$18),2+H24-I24,IF(G24=2,12,13-H24)),0) -> 0 | V24: =OFFSET(Очки!$A$3,L24,J24+QUOTIENT(MAX($C$29-11,0), 2)*4) -> Место | W24: =IF(L24<K24,OFFSET(IF(OR($C$29=11,$C$29=12),Очки!$B$17,Очки!$O$18),2+K24-L24,IF(J24=2,12,13-K24)),0) -> 0 | AB24: =SUM(M24:Y24) -> 0
A25: =RANK(AB25,AB$6:OFFSET(AB$6,0,0,COUNTA(B$6:B$28))) -> #N/A | N25: =OFFSET(Очки!$A$3,F25,D25+QUOTIENT(MAX($C$29-11,0), 2)*4) -> Место | O25: =IF(F25<E25,OFFSET(IF(OR($C$29=11,$C$29=12),Очки!$B$17,Очки!$O$18),2+E25-F25,IF(D25=2,12,13-E25)),0) -> 0 | R25: =OFFSET(Очки!$A$3,I25,G25+QUOTIENT(MAX($C$29-11,0), 2)*4) -> Место | S25: =IF(I25<H25,OFFSET(IF(OR($C$29=11,$C$29=12),Очки!$B$17,Очки!$O$18),2+H25-I25,IF(G25=2,12,13-H25)),0) -> 0 | V25: =OFFSET(Очки!$A$3,L25,J25+QUOTIENT(MAX($C$29-11,0), 2)*4) -> Место | W25: =IF(L25<K25,OFFSET(IF(OR($C$29=11,$C$29=12),Очки!$B$17,Очки!$O$18),2+K25-L25,IF(J25=2,12,13-K25)),0) -> 0 | AB25: =SUM(M25:Y25) -> 0
A26: =RANK(AB26,AB$6:OFFSET(AB$6,0,0,COUNTA(B$6:B$28))) -> #N/A | N26: =OFFSET(Очки!$A$3,F26,D26+QUOTIENT(MAX($C$29-11,0), 2)*4) -> Место | O26: =IF(F26<E26,OFFSET(IF(OR($C$29=11,$C$29=12),Очки!$B$17,Очки!$O$18),2+E26-F26,IF(D26=2,12,13-E26)),0) -> 0 | R26: =OFFSET(Очки!$A$3,I26,G26+QUOTIENT(MAX($C$29-11,0), 2)*4) -> Место | S26: =IF(I26<H26,OFFSET(IF(OR($C$29=11,$C$29=12),Очки!$B$17,Очки!$O$18),2+H26-I26,IF(G26=2,12,13-H26)),0) -> 0 | V26: =OFFSET(Очки!$A$3,L26,J26+QUOTIENT(MAX($C$29-11,0), 2)*4) -> Место | W26: =IF(L26<K26,OFFSET(IF(OR($C$29=11,$C$29=12),Очки!$B$17,Очки!$O$18),2+K26-L26,IF(J26=2,12,13-K26)),0) -> 0 | AB26: =SUM(M26:Y26) -> 0
A27: =RANK(AB27,AB$6:OFFSET(AB$6,0,0,COUNTA(B$6:B$28))) -> #N/A | N27: =OFFSET(Очки!$A$3,F27,D27+QUOTIENT(MAX($C$29-11,0), 2)*4) -> Место | O27: =IF(F27<E27,OFFSET(IF(OR($C$29=11,$C$29=12),Очки!$B$17,Очки!$O$18),2+E27-F27,IF(D27=2,12,13-E27)),0) -> 0 | R27: =OFFSET(Очки!$A$3,I27,G27+QUOTIENT(MAX($C$29-11,0), 2)*4) -> Место | S27: =IF(I27<H27,OFFSET(IF(OR($C$29=11,$C$29=12),Очки!$B$17,Очки!$O$18),2+H27-I27,IF(G27=2,12,13-H27)),0) -> 0 | V27: =OFFSET(Очки!$A$3,L27,J27+QUOTIENT(MAX($C$29-11,0), 2)*4) -> Место | W27: =IF(L27<K27,OFFSET(IF(OR($C$29=11,$C$29=12),Очки!$B$17,Очки!$O$18),2+K27-L27,IF(J27=2,12,13-K27)),0) -> 0 | AB27: =SUM(M27:Y27) -> 0
A28: =RANK(AB28,AB$6:OFFSET(AB$6,0,0,COUNTA(B$6:B$28))) -> #N/A | N28: =OFFSET(Очки!$A$3,F28,D28+QUOTIENT(MAX($C$29-11,0), 2)*4) -> Место | O28: =IF(F28<E28,OFFSET(IF(OR($C$29=11,$C$29=12),Очки!$B$17,Очки!$O$18),2+E28-F28,IF(D28=2,12,13-E28)),0) -> 0 | R28: =OFFSET(Очки!$A$3,I28,G28+QUOTIENT(MAX($C$29-11,0), 2)*4) -> Место | S28: =IF(I28<H28,OFFSET(IF(OR($C$29=11,$C$29=12),Очки!$B$17,Очки!$O$18),2+H28-I28,IF(G28=2,12,13-H28)),0) -> 0 | V28: =OFFSET(Очки!$A$3,L28,J28+QUOTIENT(MAX($C$29-11,0), 2)*4) -> Место | W28: =IF(L28<K28,OFFSET(IF(OR($C$29=11,$C$29=12),Очки!$B$17,Очки!$O$18),2+K28-L28,IF(J28=2,12,13-K28)),0) -> 0 | AB28: =SUM(M28:Y28) -> 0
B29: Всего участников | C29: =COUNTA(B6:B28) -> 17

Sheet 26.07
A1: Лига II -й сезон 26.07.2017 конфиг 3R
A3: Место | B3: Участник | D3: 1 | G3: 2 | J3: 3 | M3: Очки | AA3: =SUM(M3:Z3) -> 0 | AB3: Сумма
C4: Довес | D4: группа | E4: Старт | F4: Финиш | G4: группа | H4: Старт | I4: Финиш | J4: группа | K4: Старт | L4: Финиш | M4: Квала | N4: 1 | R4: 2 | V4: 3
N5: очки | O5: обгоны | P5: время | Q5: штрафы | R5: очки | S5: обгоны | T5: время | U5: штрафы | V5: очки | W5: обгоны | X5: время | Y5: штрафы | Z5: 4
A6: =RANK(AB6,AB$6:OFFSET(AB$6,0,0,COUNTA(B$6:B$28))) -> 1 | B6: Наум / Vintoniv Ivan | C6: 5 | D6: 1 | E6: 10 | F6: 4 | G6: 1 | H6: 8 | I6: 3 | J6: 1 | K6: 8 | L6: 3 | M6: 2.5 | N6: =OFFSET(Очки!$A$3,F6,D6+QUOTIENT(MAX($C$29-11,0), 2)*4) -> 13 | O6: =IF(F6<E6,OFFSET(IF(OR($C$29=11,$C$29=12),Очки!$B$17,Очки!$O$18),2+E6-F6,IF(D6=2,12,13-E6)),0) -> 6.7 | P6: 1.5 | R6: =OFFSET(Очки!$A$3,I6,G6+QUOTIENT(MAX($C$29-11,0), 2)*4) -> 14 | S6: =IF(I6<H6,OFFSET(IF(OR($C$29=11,$C$29=12),Очки!$B$17,Очки!$O$18),2+H6-I6,IF(G6=2,12,13-H6)),0) -> 5 | T6: 1.5 | V6: =OFFSET(Очки!$A$3,L6,J6+QUOTIENT(MAX($C$29-11,0), 2)*4) -> 14 | W6: =IF(L6<K6,OFFSET(IF(OR($C$29=11,$C$29=12),Очки!$B$17,Очки!$O$18),2+K6-L6,IF(J6=2,12,13-K6)),0) -> 5 | X6: 2.5 | AB6: =SUM(M6:Y6) -> 65.7
A7: =RANK(AB7,AB$6:OFFSET(AB$6,0,0,COUNTA(B$6:B$28))) -> 2 | B7: Манило Денис / Manilo Denis | C7: - | D7: 2 | E7: 6 | F7: 2 | G7: 1 | H7: 10 | I7: 7 | J7: 1 | K7: 6 | L7: 1 | N7: =OFFSET(Очки!$A$3,F7,D7+QUOTIENT(MAX($C$29-11,0), 2)*4) -> 9.5 | O7: =IF(F7<E7,OFFSET(IF(OR($C$29=11,$C$29=12),Очки!$B$17,Очки!$O$18),2+E7-F7,IF(D7=2,12,13-E7)),0) -> 2.8 | P7: 2.5 | R7: =OFFSET(Очки!$A$3,I7,G7+QUOTIENT(MAX($C$29-11,0), 2)*4) -> 11 | S7: =IF(I7<H7,OFFSET(IF(OR($C$29=11,$C$29=12),Очки!$B$17,Очки!$O$18),2+H7-I7,IF(G7=2,12,13-H7)),0) -> 3.7 | T7: 0.5 | V7: =OFFSET(Очки!$A$3,L7,J7+QUOTIENT(MAX($C$29-11,0), 2)*4) -> 16 | W7: =IF(L7<K7,OFFSET(IF(OR($C$29=11,$C$29=12),Очки!$B$17,Очки!$O$18),2+K7-L7,IF(J7=2,12,13-K7)),0) -> 4.1 | X7: 1.5 | AB7: =SUM(M7:Y7) -> 51.6
A8: =RANK(AB8,AB$6:OFFSET(AB$6,0,0,COUNTA(B$6:B$28))) -> 3 | B8: Пикулин Паша / Pikulin Pavlo | D8: 1 | E8: 8 | F8: 5 | G8: 1 | H8: 7 | I8: 5 | J8: 1 | K8: 10 | L8: 7 | M8: 1.5 | N8: =OFFSET(Очки!$A$3,F8,D8+QUOTIENT(MAX($C$29-11,0), 2)*4) -> 12 | O8: =IF(F8<E8,OFFSET(IF(OR($C$29=11,$C$29=12),Очки!$B$17,Очки!$O$18),2+E8-F8,IF(D8=2,12,13-E8)),0) -> 3.3 | P8: 1 | R8: =OFFSET(Очки!$A$3,I8,G8+QUOTIENT(MAX($C$29-11,0), 2)*4) -> 12 | S8: =IF(I8<H8,OFFSET(IF(OR($C$29=11,$C$29=12),Очки!$B$17,Очки!$O$18),2+H8-I8,IF(G8=2,12,13-H8)),0) -> 2.1 | T8: 2.5 | V8: =OFFSET(Очки!$A$3,L8,J8+QUOTIENT(MAX($C$29-11,0), 2)*4) -> 11 | W8: =IF(L8<K8,OFFSET(IF(OR($C$29=11,$C$29=12),Очки!$B$17,Очки!$O$18),2+K8-L8,IF(J8=2,12,13-K8)),0) -> 3.7 | X8: 1 | AB8: =SUM(M8:Y8) -> 50.1
A9: =RANK(AB9,AB$6:OFFSET(AB$6,0,0,COUNTA(B$6:B$28))) -> 4 | B9: Дио / lysenskiy Denis | C9: 2.5 | D9: 1 | E9: 7 | F9: 2 | G9: 1 | H9: 9 | I9: 6 | J9: 1 | K9: 7 | L9: 5 | M9: 1 | N9: =OFFSET(Очки!$A$3,F9,D9+QUOTIENT(MAX($C$29-11,0), 2)*4) -> 15 | O9: =IF(F9<E9,OFFSET(IF(OR($C$29=11,$C$29=12),Очки!$B$17,Очки!$O$18),2+E9-F9,IF(D9=2,12,13-E9)),0) -> 4.5 | P9: 2 | Q9: -1 | R9: =OFFSET(Очки!$A$3,I9,G9+QUOTIENT(MAX($C$29-11,0), 2)*4) -> 11.5 | S9: =IF(I9<H9,OFFSET(IF(OR($C$29=11,$C$29=12),Очки!$B$17,Очки!$O$18),2+H9-I9,IF(G9=2,12,13-H9)),0) -> 3.5 | T9: 1 | V9: =OFFSET(Очки!$A$3,L9,J9+QUOTIENT(MAX($C$29-11,0), 2)*4) -> 12 | W9: =IF(L9<K9,OFFSET(IF(OR($C$29=11,$C$29=12),Очки!$B$17,Очки!$O$18),2+K9-L9,IF(J9=2,12,13-K9)),0) -> 2.1 | X9: 0.5 | Y9: -5 | AB9: =SUM(M9:Y9) -> 47.1
A10: =RANK(AB10,AB$6:OFFSET(AB$6,0,0,COUNTA(B$6:B$28))) -> 5 | B10: Гаврилюк Олег / Gavriliuk Oleg | C10: 10 | D10: 1 | E10: 5 | F10: 3 | G10: 1 | H10: 5 | I10: 4 | J10: 1 | K10: 9 | L10: 9 | N10: =OFFSET(Очки!$A$3,F10,D10+QUOTIENT(MAX($C$29-11,0), 2)*4) -> 14 | O10: =IF(F10<E10,OFFSET(IF(OR($C$29=11,$C$29=12),Очки!$B$17,Очки!$O$18),2+E10-F10,IF(D10=2,12,13-E10)),0) -> 1.7 | R10: =OFFSET(Очки!$A$3,I10,G10+QUOTIENT(MAX($C$29-11,0), 2)*4) -> 13 | S10: =IF(I10<H10,OFFSET(IF(OR($C$29=11,$C$29=12),Очки!$B$17,Очки!$O$18),2+H10-I10,IF(G10=2,12,13-H10)),0) -> 0.9 | T10: 2 | V10: =OFFSET(Очки!$A$3,L10,J10+QUOTIENT(MAX($C$29-11,0), 2)*4) -> 10 | W10: =IF(L10<K10,OFFSET(IF(OR($C$29=11,$C$29=12),Очки!$B$17,Очки!$O$18),2+K10-L10,IF(J10=2,12,13-K10)),0) -> 0 | AB10: =SUM(M10:Y10) -> 41.6
A11: =RANK(AB11,AB$6:OFFSET(AB$6,0,0,COUNTA(B$6:B$28))) -> 6 | B11: Петушков Андрей/ Petushkov Andrey | C11: 10 | D11: 1 | E11: 2 | F11: 7 | G11: 2 | H11: 2 | I11: 1 | J11: 1 | K11: 2 | L11: 4 | N11: =OFFSET(Очки!$A$3,F11,D11+QUOTIENT(MAX($C$29-11,0), 2)*4) -> 11 | O11: =IF(F11<E11,OFFSET(IF(OR($C$29=11,$C$29=12),Очки!$B$17,Очки!$O$18),2+E11-F11,IF(D11=2,12,13-E11)),0) -> 0 | R11: =OFFSET(Очки!$A$3,I11,G11+QUOTIENT(MAX($C$29-11,0), 2)*4) -> 10.5 | S11: =IF(I11<H11,OFFSET(IF(OR($C$29=11,$C$29=12),Очки!$B$17,Очки!$O$18),2+H11-I11,IF(G11=2,12,13-H11)),0) -> 0.7 | V11: =OFFSET(Очки!$A$3,L11,J11+QUOTIENT(MAX($C$29-11,0), 2)*4) -> 13 | W11: =IF(L11<K11,OFFSET(IF(OR($C$29=11,$C$29=12),Очки!$B$17,Очки!$O$18),2+K11-L11,IF(J11=2,12,13-K11)),0) -> 0 | AB11: =SUM(M11:Y11) -> 35.2
A12: =RANK(AB12,AB$6:OFFSET(AB$6,0,0,COUNTA(B$6:B$28))) -> 7 | B12: Ткаченко Антон / Tkachenko Anton | C12: - | D12: 1 | E12: 3 | F12: 9 | G12: 1 | H12: 3 | I12: 2 | J12: 2 | K12: 7 | L12: 5 | N12: =OFFSET(Очки!$A$3,F12,D12+QUOTIENT(MAX($C$29-11,0), 2)*4) -> 10 | O12: =IF(F12<E12,OFFSET(IF(OR($C$29=11,$C$29=12),Очки!$B$17,Очки!$O$18),2+E12-F12,IF(D12=2,12,13-E12)),0) -> 0 | R12: =OFFSET(Очки!$A$3,I12,G12+QUOTIENT(MAX($C$29-11,0), 2)*4) -> 15 | S12: =IF(I12<H12,OFFSET(IF(OR($C$29=11,$C$29=12),Очки!$B$17,Очки!$O$18),2+H12-I12,IF(G12=2,12,13-H12)),0) -> 0.7 | V12: =OFFSET(Очки!$A$3,L12,J12+QUOTIENT(MAX($C$29-11,0), 2)*4) -> 6.5 | W12: =IF(L12<K12,OFFSET(IF(OR($C$29=11,$C$29=12),Очки!$B$17,Очки!$O$18),2+K12-L12,IF(J12=2,12,13-K12)),0) -> 1.4 | AB12: =SUM(M12:Y12) -> 33.6
A13: =RANK(AB13,AB$6:OFFSET(AB$6,0,0,COUNTA(B$6:B$28))) -> 8 | B13: Гобади Курош / Gobadi Kurosh | C13: - | D13: 1 | E13: 9 | F13: 8 | G13: 1 | H13: 1 | I13: 1 | J13: 2 | K13: 9 | L13: 7 | M13: 2 | N13: =OFFSET(Очки!$A$3,F13,D13+QUOTIENT(MAX($C$29-11,0), 2)*4) -> 10.5 | O13: =IF(F13<E13,OFFSET(IF(OR($C$29=11,$C$29=12),Очки!$B$17,Очки!$O$18),2+E13-F13,IF(D13=2,12,13-E13)),0) -> 1.2 | R13: =OFFSET(Очки!$A$3,I13,G13+QUOTIENT(MAX($C$29-11,0), 2)*4) -> 16 | S13: =IF(I13<H13,OFFSET(IF(OR($C$29=11,$C$29=12),Очки!$B$17,Очки!$O$18),2+H13-I13,IF(G13=2,12,13-H13)),0) -> 0 | V13: =OFFSET(Очки!$A$3,L13,J13+QUOTIENT(MAX($C$29-11,0), 2)*4) -> 5.5 | W13: =IF(L13<K13,OFFSET(IF(OR($C$29=11,$C$29=12),Очки!$B$17,Очки!$O$18),2+K13-L13,IF(J13=2,12,13-K13)),0) -> 1.4 | Y13: -5 | AB13: =SUM(M13:Y13) -> 31.6
A14: =RANK(AB14,AB$6:OFFSET(AB$6,0,0,COUNTA(B$6:B$28))) -> 9 | B14: Онащук Максим / Onashchuk Maxim | C14: - | D14: 1 | E14: 4 | F14: 6 | G14: 2 | H14: 4 | I14: 3 | J14: 2 | K14: 6 | L14: 3 | N14: =OFFSET(Очки!$A$3,F14,D14+QUOTIENT(MAX($C$29-11,0), 2)*4) -> 11.5 | O14: =IF(F14<E14,OFFSET(IF(OR($C$29=11,$C$29=12),Очки!$B$17,Очки!$O$18),2+E14-F14,IF(D14=2,12,13-E14)),0) -> 0 | R14: =OFFSET(Очки!$A$3,I14,G14+QUOTIENT(MAX($C$29-11,0), 2)*4) -> 8.5 | S14: =IF(I14<H14,OFFSET(IF(OR($C$29=11,$C$29=12),Очки!$B$17,Очки!$O$18),2+H14-I14,IF(G14=2,12,13-H14)),0) -> 0.7 | V14: =OFFSET(Очки!$A$3,L14,J14+QUOTIENT(MAX($C$29-11,0), 2)*4) -> 8.5 | W14: =IF(L14<K14,OFFSET(IF(OR($C$29=11,$C$29=12),Очки!$B$17,Очки!$O$18),2+K14-L14,IF(J14=2,12,13-K14)),0) -> 2.1 | AB14: =SUM(M14:Y14) -> 31.3
A15: =RANK(AB15,AB$6:OFFSET(AB$6,0,0,COUNTA(B$6:B$28))) -> 10 | B15: Несторенко Андрей / Nestorenko Andrew | C15: - | D15: 2 | E15: 2 | F15: 1 | G15: 2 | H15: 6 | I15: 4 | J15: 2 | K15: 4 | L15: 2 | N15: =OFFSET(Очки!$A$3,F15,D15+QUOTIENT(MAX($C$29-11,0), 2)*4) -> 10.5 | O15: =IF(F15<E15,OFFSET(IF(OR($C$29=11,$C$29=12),Очки!$B$17,Очки!$O$18),2+E15-F15,IF(D15=2,12,13-E15)),0) -> 0.7 | R15: =OFFSET(Очки!$A$3,I15,G15+QUOTIENT(MAX($C$29-11,0), 2)*4) -> 7.5 | S15: =IF(I15<H15,OFFSET(IF(OR($C$29=11,$C$29=12),Очки!$B$17,Очки!$O$18),2+H15-I15,IF(G15=2,12,13-H15)),0) -> 1.4 | V15: =OFFSET(Очки!$A$3,L15,J15+QUOTIENT(MAX($C$29-11,0), 2)*4) -> 9.5 | W15: =IF(L15<K15,OFFSET(IF(OR($C$29=11,$C$29=12),Очки!$B$17,Очки!$O$18),2+K15-L15,IF(J15=2,12,13-K15)),0) -> 1.4 | AB15: =SUM(M15:Y15) -> 31
A16: =RANK(AB16,AB$6:OFFSET(AB$6,0,0,COUNTA(B$6:B$28))) -> 11 | B16: Хавило Дима / Khavilo Dima | C16: 12.5 | D16: 1 | E16: 1 | F16: 1 | G16: 2 | H16: 9 | I16: 10 | J16: 1 | K16: 5 | L16: 8 | N16: =OFFSET(Очки!$A$3,F16,D16+QUOTIENT(MAX($C$29-11,0), 2)*4) -> 16 | O16: =IF(F16<E16,OFFSET(IF(OR($C$29=11,$C$29=12),Очки!$B$17,Очки!$O$18),2+E16-F16,IF(D16=2,12,13-E16)),0) -> 0 | R16: =OFFSET(Очки!$A$3,I16,G16+QUOTIENT(MAX($C$29-11,0), 2)*4) -> 4 | S16: =IF(I16<H16,OFFSET(IF(OR($C$29=11,$C$29=12),Очки!$B$17,Очки!$O$18),2+H16-I16,IF(G16=2,12,13-H16)),0) -> 0 | V16: =OFFSET(Очки!$A$3,L16,J16+QUOTIENT(MAX($C$29-11,0), 2)*4) -> 10.5 | W16: =IF(L16<K16,OFFSET(IF(OR($C$29=11,$C$29=12),Очки!$B$17,Очки!$O$18),2+K16-L16,IF(J16=2,12,13-K16)),0) -> 0 | AB16: =SUM(M16:Y16) -> 30.5
A17: =RANK(AB17,AB$6:OFFSET(AB$6,0,0,COUNTA(B$6:B$28))) -> 12 | B17: Чухаленко Дима / Chukhalenko Dmitriy | C17: - | D17: 2 | E17: 3 | F17: 3 | G17: 2 | H17: 3 | I17: 2 | J17: 2 | K17: 2 | L17: 1 | N17: =OFFSET(Очки!$A$3,F17,D17+QUOTIENT(MAX($C$29-11,0), 2)*4) -> 8.5 | O17: =IF(F17<E17,OFFSET(IF(OR($C$29=11,$C$29=12),Очки!$B$17,Очки!$O$18),2+E17-F17,IF(D17=2,12,13-E17)),0) -> 0 | R17: =OFFSET(Очки!$A$3,I17,G17+QUOTIENT(MAX($C$29-11,0), 2)*4) -> 9.5 | S17: =IF(I17<H17,OFFSET(IF(OR($C$29=11,$C$29=12),Очки!$B$17,Очки!$O$18),2+H17-I17,IF(G17=2,12,13-H17)),0) -> 0.7 | V17: =OFFSET(Очки!$A$3,L17,J17+QUOTIENT(MAX($C$29-11,0), 2)*4) -> 10.5 | W17: =IF(L17<K17,OFFSET(IF(OR($C$29=11,$C$29=12),Очки!$B$17,Очки!$O$18),2+K17-L17,IF(J17=2,12,13-K17)),0) -> 0.7 | AB17: =SUM(M17:Y17) -> 29.9
A18: =RANK(AB18,AB$6:OFFSET(AB$6,0,0,COUNTA(B$6:B$28))) -> 13 | B18: Тыщенко Михаил / Tishchenko Mikhail | C18: - | D18: 1 | E18: 6 | F18: 8 | G18: 2 | H18: 5 | I18: 7 | J18: 1 | K18: 3 | L18: 2 | M18: 0.5 | N18: =OFFSET(Очки!$A$3,F18,D18+QUOTIENT(MAX($C$29-11,0), 2)*4) -> 10.5 | O18: =IF(F18<E18,OFFSET(IF(OR($C$29=11,$C$29=12),Очки!$B$17,Очки!$O$18),2+E18-F18,IF(D18=2,12,13-E18)),0) -> 0 | Q18: -5 | R18: =OFFSET(Очки!$A$3,I18,G18+QUOTIENT(MAX($C$29-11,0), 2)*4) -> 5.5 | S18: =IF(I18<H18,OFFSET(IF(OR($C$29=11,$C$29=12),Очки!$B$17,Очки!$O$18),2+H18-I18,IF(G18=2,12,13-H18)),0) -> 0 | V18: =OFFSET(Очки!$A$3,L18,J18+QUOTIENT(MAX($C$29-11,0), 2)*4) -> 15 | W18: =IF(L18<K18,OFFSET(IF(OR($C$29=11,$C$29=12),Очки!$B$17,Очки!$O$18),2+K18-L18,IF(J18=2,12,13-K18)),0) -> 0.7 | X18: 2 | AB18: =SUM(M18:Y18) -> 29.2
A19: =RANK(AB19,AB$6:OFFSET(AB$6,0,0,COUNTA(B$6:B$28))) -> 14 | B19: Кравченко Женя / Kravchenko Eugene | D19: 2 | E19: 5 | F19: 4 | G19: 1 | H19: 4 | I19: 10 | J19: 2 | K19: 8 | L19: 5 | N19: =OFFSET(Очки!$A$3,F19,D19+QUOTIENT(MAX($C$29-11,0), 2)*4) -> 7.5 | O19: =IF(F19<E19,OFFSET(IF(OR($C$29=11,$C$29=12),Очки!$B$17,Очки!$O$18),2+E19-F19,IF(D19=2,12,13-E19)),0) -> 0.7 | R19: =OFFSET(Очки!$A$3,I19,G19+QUOTIENT(MAX($C$29-11,0), 2)*4) -> 9.5 | S19: =IF(I19<H19,OFFSET(IF(OR($C$29=11,$C$29=12),Очки!$B$17,Очки!$O$18),2+H19-I19,IF(G19=2,12,13-H19)),0) -> 0 | V19: =OFFSET(Очки!$A$3,L19,J19+QUOTIENT(MAX($C$29-11,0), 2)*4) -> 6.5 | W19: =IF(L19<K19,OFFSET(IF(OR($C$29=11,$C$29=12),Очки!$B$17,Очки!$O$18),2+K19-L19,IF(J19=2,12,13-K19)),0) -> 2.1 | AB19: =SUM(M19:Y19) -> 26.3
A20: =RANK(AB20,AB$6:OFFSET(AB$6,0,0,COUNTA(B$6:B$28))) -> 15 | B20: Джемула Сергей / Dzemula Sergey | C20: - | D20: 2 | E20: 10 | F20: 7 | G20: 1 | H20: 2 | I20: 8 | J20: 2 | K20: 3 | L20: 4 | N20: =OFFSET(Очки!$A$3,F20,D20+QUOTIENT(MAX($C$29-11,0), 2)*4) -> 5.5 | O20: =IF(F20<E20,OFFSET(IF(OR($C$29=11,$C$29=12),Очки!$B$17,Очки!$O$18),2+E20-F20,IF(D20=2,12,13-E20)),0) -> 2.1 | R20: =OFFSET(Очки!$A$3,I20,G20+QUOTIENT(MAX($C$29-11,0), 2)*4) -> 10.5 | S20: =IF(I20<H20,OFFSET(IF(OR($C$29=11,$C$29=12),Очки!$B$17,Очки!$O$18),2+H20-I20,IF(G20=2,12,13-H20)),0) -> 0 | V20: =OFFSET(Очки!$A$3,L20,J20+QUOTIENT(MAX($C$29-11,0), 2)*4) -> 7.5 | W20: =IF(L20<K20,OFFSET(IF(OR($C$29=11,$C$29=12),Очки!$B$17,Очки!$O$18),2+K20-L20,IF(J20=2,12,13-K20)),0) -> 0 | AB20: =SUM(M20:Y20) -> 25.6
A21: =RANK(AB21,AB$6:OFFSET(AB$6,0,0,COUNTA(B$6:B$28))) -> 16 | B21: Кочмарев Юрий / Kochmarev Yuriy | C21: - | D21: 2 | E21: 7 | F21: 6 | G21: 2 | H21: 10 | I21: 5 | J21: 2 | K21: 10 | L21: 8 | N21: =OFFSET(Очки!$A$3,F21,D21+QUOTIENT(MAX($C$29-11,0), 2)*4) -> 6 | O21: =IF(F21<E21,OFFSET(IF(OR($C$29=11,$C$29=12),Очки!$B$17,Очки!$O$18),2+E21-F21,IF(D21=2,12,13-E21)),0) -> 0.7 | R21: =OFFSET(Очки!$A$3,I21,G21+QUOTIENT(MAX($C$29-11,0), 2)*4) -> 6.5 | S21: =IF(I21<H21,OFFSET(IF(OR($C$29=11,$C$29=12),Очки!$B$17,Очки!$O$18),2+H21-I21,IF(G21=2,12,13-H21)),0) -> 3.5 | V21: =OFFSET(Очки!$A$3,L21,J21+QUOTIENT(MAX($C$29-11,0), 2)*4) -> 5 | W21: =IF(L21<K21,OFFSET(IF(OR($C$29=11,$C$29=12),Очки!$B$17,Очки!$O$18),2+K21-L21,IF(J21=2,12,13-K21)),0) -> 1.4 | AB21: =SUM(M21:Y21) -> 23.1
A22: =RANK(AB22,AB$6:OFFSET(AB$6,0,0,COUNTA(B$6:B$28))) -> 17 | B22: Фортуна Таня / Fortuns Tanya | C22: - | D22: 2 | E22: 9 | F22: 8 | G22: 2 | H22: 7 | I22: 6 | J22: 1 | K22: 4 | L22: 10 | N22: =OFFSET(Очки!$A$3,F22,D22+QUOTIENT(MAX($C$29-11,0), 2)*4) -> 5 | O22: =IF(F22<E22,OFFSET(IF(OR($C$29=11,$C$29=12),Очки!$B$17,Очки!$O$18),2+E22-F22,IF(D22=2,12,13-E22)),0) -> 0.7 | R22: =OFFSET(Очки!$A$3,I22,G22+QUOTIENT(MAX($C$29-11,0), 2)*4) -> 6 | S22: =IF(I22<H22,OFFSET(IF(OR($C$29=11,$C$29=12),Очки!$B$17,Очки!$O$18),2+H22-I22,IF(G22=2,12,13-H22)),0) -> 0.7 | V22: =OFFSET(Очки!$A$3,L22,J22+QUOTIENT(MAX($C$29-11,0), 2)*4) -> 9.5 | W22: =IF(L22<K22,OFFSET(IF(OR($C$29=11,$C$29=12),Очки!$B$17,Очки!$O$18),2+K22-L22,IF(J22=2,12,13-K22)),0) -> 0 | AB22: =SUM(M22:Y22) -> 21.9
A23: =RANK(AB23,AB$6:OFFSET(AB$6,0,0,COUNTA(B$6:B$28))) -> 18 | B23: Хлопонин Андрей / Kloponin Andrii | C23: 10 | D23: 2 | E23: 8 | F23: 9 | G23: 1 | H23: 6 | I23: 9 | J23: 2 | K23: 5 | L23: 8 | N23: =OFFSET(Очки!$A$3,F23,D23+QUOTIENT(MAX($C$29-11,0), 2)*4) -> 4.5 | O23: =IF(F23<E23,OFFSET(IF(OR($C$29=11,$C$29=12),Очки!$B$17,Очки!$O$18),2+E23-F23,IF(D23=2,12,13-E23)),0) -> 0 | P23: 0.5 | R23: =OFFSET(Очки!$A$3,I23,G23+QUOTIENT(MAX($C$29-11,0), 2)*4) -> 10 | S23: =IF(I23<H23,OFFSET(IF(OR($C$29=11,$C$29=12),Очки!$B$17,Очки!$O$18),2+H23-I23,IF(G23=2,12,13-H23)),0) -> 0 | V23: =OFFSET(Очки!$A$3,L23,J23+QUOTIENT(MAX($C$29-11,0), 2)*4) -> 5 | W23: =IF(L23<K23,OFFSET(IF(OR($C$29=11,$C$29=12),Очки!$B$17,Очки!$O$18),2+K23-L23,IF(J23=2,12,13-K23)),0) -> 0 | AB23: =SUM(M23:Y23) -> 20
A24: =RANK(AB24,AB$6:OFFSET(AB$6,0,0,COUNTA(B$6:B$28))) -> 19 | B24: Плакидюк Виталий | C24: - | D24: 2 | E24: 4 | F24: 5 | G24: 2 | H24: 8 | I24: 9 | J24: 1 | K24: 1 | L24: 4 | N24: =OFFSET(Очки!$A$3,F24,D24+QUOTIENT(MAX($C$29-11,0), 2)*4) -> 6.5 | O24: =IF(F24<E24,OFFSET(IF(OR($C$29=11,$C$29=12),Очки!$B$17,Очки!$O$18),2+E24-F24,IF(D24=2,12,13-E24)),0) -> 0 | R24: =OFFSET(Очки!$A$3,I24,G24+QUOTIENT(MAX($C$29-11,0), 2)*4) -> 4.5 | S24: =IF(I24<H24,OFFSET(IF(OR($C$29=11,$C$29=12),Очки!$B$17,Очки!$O$18),2+H24-I24,IF(G24=2,12,13-H24)),0) -> 0 | U24: -1 | V24: =OFFSET(Очки!$A$3,L24,J24+QUOTIENT(MAX($C$29-11,0), 2)*4) -> 13 | W24: =IF(L24<K24,OFFSET(IF(OR($C$29=11,$C$29=12),Очки!$B$17,Очки!$O$18),2+K24-L24,IF(J24=2,12,13-K24)),0) -> 0 | Y24: -5 | AB24: =SUM(M24:Y24) -> 18
A25: =RANK(AB25,AB$6:OFFSET(AB$6,0,0,COUNTA(B$6:B$28))) -> 20 | B25: Кузьменко Артем | C25: - | D25: 2 | E25: 1 | F25: 10 | G25: 2 | H25: 1 | I25: 8 | J25: 2 | K25: 1 | L25: 10 | N25: =OFFSET(Очки!$A$3,F25,D25+QUOTIENT(MAX($C$29-11,0), 2)*4) -> 4 | O25: =IF(F25<E25,OFFSET(IF(OR($C$29=11,$C$29=12),Очки!$B$17,Очки!$O$18),2+E25-F25,IF(D25=2,12,13-E25)),0) -> 0 | R25: =OFFSET(Очки!$A$3,I25,G25+QUOTIENT(MAX($C$29-11,0), 2)*4) -> 5 | S25: =IF(I25<H25,OFFSET(IF(OR($C$29=11,$C$29=12),Очки!$B$17,Очки!$O$18),2+H25-I25,IF(G25=2,12,13-H25)),0) -> 0 | V25: =OFFSET(Очки!$A$3,L25,J25+QUOTIENT(MAX($C$29-11,0), 2)*4) -> 4 | W25: =IF(L25<K25,OFFSET(IF(OR($C$29=11,$C$29=12),Очки!$B$17,Очки!$O$18),2+K25-L25,IF(J25=2,12,13-K25)),0) -> 0 | AB25: =SUM(M25:Y25) -> 13
A26: =RANK(AB26,AB$6:OFFSET(AB$6,0,0,COUNTA(B$6:B$28))) -> #N/A | N26: =OFFSET(Очки!$A$3,F26,D26+QUOTIENT(MAX($C$29-11,0), 2)*4) -> Место | O26: =IF(F26<E26,OFFSET(IF(OR($C$29=11,$C$29=12),Очки!$B$17,Очки!$O$18),2+E26-F26,IF(D26=2,12,13-E26)),0) -> 0 | R26: =OFFSET(Очки!$A$3,I26,G26+QUOTIENT(MAX($C$29-11,0), 2)*4) -> Место | S26: =IF(I26<H26,OFFSET(IF(OR($C$29=11,$C$29=12),Очки!$B$17,Очки!$O$18),2+H26-I26,IF(G26=2,12,13-H26)),0) -> 0 | V26: =OFFSET(Очки!$A$3,L26,J26+QUOTIENT(MAX($C$29-11,0), 2)*4) -> Место | W26: =IF(L26<K26,OFFSET(IF(OR($C$29=11,$C$29=12),Очки!$B$17,Очки!$O$18),2+K26-L26,IF(J26=2,12,13-K26)),0) -> 0 | AB26: =SUM(M26:Y26) -> 0
A27: =RANK(AB27,AB$6:OFFSET(AB$6,0,0,COUNTA(B$6:B$28))) -> #N/A | N27: =OFFSET(Очки!$A$3,F27,D27+QUOTIENT(MAX($C$29-11,0), 2)*4) -> Место | O27: =IF(F27<E27,OFFSET(IF(OR($C$29=11,$C$29=12),Очки!$B$17,Очки!$O$18),2+E27-F27,IF(D27=2,12,13-E27)),0) -> 0 | R27: =OFFSET(Очки!$A$3,I27,G27+QUOTIENT(MAX($C$29-11,0), 2)*4) -> Место | S27: =IF(I27<H27,OFFSET(IF(OR($C$29=11,$C$29=12),Очки!$B$17,Очки!$O$18),2+H27-I27,IF(G27=2,12,13-H27)),0) -> 0 | V27: =OFFSET(Очки!$A$3,L27,J27+QUOTIENT(MAX($C$29-11,0), 2)*4) -> Место | W27: =IF(L27<K27,OFFSET(IF(OR($C$29=11,$C$29=12),Очки!$B$17,Очки!$O$18),2+K27-L27,IF(J27=2,12,13-K27)),0) -> 0 | AB27: =SUM(M27:Y27) -> 0
A28: =RANK(AB28,AB$6:OFFSET(AB$6,0,0,COUNTA(B$6:B$28))) -> #N/A | N28: =OFFSET(Очки!$A$3,F28,D28+QUOTIENT(MAX($C$29-11,0), 2)*4) -> Место | O28: =IF(F28<E28,OFFSET(IF(OR($C$29=11,$C$29=12),Очки!$B$17,Очки!$O$18),2+E28-F28,IF(D28=2,12,13-E28)),0) -> 0 | R28: =OFFSET(Очки!$A$3,I28,G28+QUOTIENT(MAX($C$29-11,0), 2)*4) -> Место | S28: =IF(I28<H28,OFFSET(IF(OR($C$29=11,$C$29=12),Очки!$B$17,Очки!$O$18),2+H28-I28,IF(G28=2,12,13-H28)),0) -> 0 | V28: =OFFSET(Очки!$A$3,L28,J28+QUOTIENT(MAX($C$29-11,0), 2)*4) -> Место | W28: =IF(L28<K28,OFFSET(IF(OR($C$29=11,$C$29=12),Очки!$B$17,Очки!$O$18),2+K28-L28,IF(J28=2,12,13-K28)),0) -> 0 | AB28: =SUM(M28:Y28) -> 0
B29: Всего участников | C29: =COUNTA(B6:B28) -> 20

Sheet 12.07 (4)
A1: Лига II -й сезон 12.07.2017 конфиг 6R
A3: Место | B3: Участник | D3: 1 | G3: 2 | J3: 3 | M3: Очки | AA3: =SUM(M3:Z3) -> 0 | AB3: Сумма
C4: Довес | D4: группа | E4: Старт | F4: Финиш | G4: группа | H4: Старт | I4: Финиш | J4: группа | K4: Старт | L4: Финиш | M4: Квала | N4: 1 | R4: 2 | V4: 3
N5: очки | O5: обгоны | P5: время | Q5: штрафы | R5: очки | S5: обгоны | T5: время | U5: штрафы | V5: очки | W5: обгоны | X5: время | Y5: штрафы | Z5: 4
A6: =RANK(AB6,AB$6:OFFSET(AB$6,0,0,COUNTA(B$6:B$28))) -> #REF! | N6: =OFFSET(Очки!$A$3,F6,D6+QUOTIENT(MAX($C$29-11,0), 2)*4) -> Место | O6: =IF(F6<E6,OFFSET(IF(OR($C$29=11,$C$29=12),Очки!$B$17,Очки!$O$18),2+E6-F6,IF(D6=2,12,13-E6)),0) -> 0 | R6: =OFFSET(Очки!$A$3,I6,G6+QUOTIENT(MAX($C$29-11,0), 2)*4) -> Место | S6: =IF(I6<H6,OFFSET(IF(OR($C$29=11,$C$29=12),Очки!$B$17,Очки!$O$18),2+H6-I6,IF(G6=2,12,13-H6)),0) -> 0 | V6: =OFFSET(Очки!$A$3,L6,J6+QUOTIENT(MAX($C$29-11,0), 2)*4) -> Место | W6: =IF(L6<K6,OFFSET(IF(OR($C$29=11,$C$29=12),Очки!$B$17,Очки!$O$18),2+K6-L6,IF(J6=2,12,13-K6)),0) -> 0 | AB6: =SUM(M6:Y6) -> 0
A7: =RANK(AB7,AB$6:OFFSET(AB$6,0,0,COUNTA(B$6:B$28))) -> #REF! | N7: =OFFSET(Очки!$A$3,F7,D7+QUOTIENT(MAX($C$29-11,0), 2)*4) -> Место | O7: =IF(F7<E7,OFFSET(IF(OR($C$29=11,$C$29=12),Очки!$B$17,Очки!$O$18),2+E7-F7,IF(D7=2,12,13-E7)),0) -> 0 | R7: =OFFSET(Очки!$A$3,I7,G7+QUOTIENT(MAX($C$29-11,0), 2)*4) -> Место | S7: =IF(I7<H7,OFFSET(IF(OR($C$29=11,$C$29=12),Очки!$B$17,Очки!$O$18),2+H7-I7,IF(G7=2,12,13-H7)),0) -> 0 | V7: =OFFSET(Очки!$A$3,L7,J7+QUOTIENT(MAX($C$29-11,0), 2)*4) -> Место | W7: =IF(L7<K7,OFFSET(IF(OR($C$29=11,$C$29=12),Очки!$B$17,Очки!$O$18),2+K7-L7,IF(J7=2,12,13-K7)),0) -> 0 | AB7: =SUM(M7:Y7) -> 0
A8: =RANK(AB8,AB$6:OFFSET(AB$6,0,0,COUNTA(B$6:B$28))) -> #REF! | N8: =OFFSET(Очки!$A$3,F8,D8+QUOTIENT(MAX($C$29-11,0), 2)*4) -> Место | O8: =IF(F8<E8,OFFSET(IF(OR($C$29=11,$C$29=12),Очки!$B$17,Очки!$O$18),2+E8-F8,IF(D8=2,12,13-E8)),0) -> 0 | R8: =OFFSET(Очки!$A$3,I8,G8+QUOTIENT(MAX($C$29-11,0), 2)*4) -> Место | S8: =IF(I8<H8,OFFSET(IF(OR($C$29=11,$C$29=12),Очки!$B$17,Очки!$O$18),2+H8-I8,IF(G8=2,12,13-H8)),0) -> 0 | V8: =OFFSET(Очки!$A$3,L8,J8+QUOTIENT(MAX($C$29-11,0), 2)*4) -> Место | W8: =IF(L8<K8,OFFSET(IF(OR($C$29=11,$C$29=12),Очки!$B$17,Очки!$O$18),2+K8-L8,IF(J8=2,12,13-K8)),0) -> 0 | AB8: =SUM(M8:Y8) -> 0
A9: =RANK(AB9,AB$6:OFFSET(AB$6,0,0,COUNTA(B$6:B$28))) -> #REF! | N9: =OFFSET(Очки!$A$3,F9,D9+QUOTIENT(MAX($C$29-11,0), 2)*4) -> Место | O9: =IF(F9<E9,OFFSET(IF(OR($C$29=11,$C$29=12),Очки!$B$17,Очки!$O$18),2+E9-F9,IF(D9=2,12,13-E9)),0) -> 0 | R9: =OFFSET(Очки!$A$3,I9,G9+QUOTIENT(MAX($C$29-11,0), 2)*4) -> Место | S9: =IF(I9<H9,OFFSET(IF(OR($C$29=11,$C$29=12),Очки!$B$17,Очки!$O$18),2+H9-I9,IF(G9=2,12,13-H9)),0) -> 0 | V9: =OFFSET(Очки!$A$3,L9,J9+QUOTIENT(MAX($C$29-11,0), 2)*4) -> Место | W9: =IF(L9<K9,OFFSET(IF(OR($C$29=11,$C$29=12),Очки!$B$17,Очки!$O$18),2+K9-L9,IF(J9=2,12,13-K9)),0) -> 0 | AB9: =SUM(M9:Y9) -> 0
A10: =RANK(AB10,AB$6:OFFSET(AB$6,0,0,COUNTA(B$6:B$28))) -> #REF! | N10: =OFFSET(Очки!$A$3,F10,D10+QUOTIENT(MAX($C$29-11,0), 2)*4) -> Место | O10: =IF(F10<E10,OFFSET(IF(OR($C$29=11,$C$29=12),Очки!$B$17,Очки!$O$18),2+E10-F10,IF(D10=2,12,13-E10)),0) -> 0 | R10: =OFFSET(Очки!$A$3,I10,G10+QUOTIENT(MAX($C$29-11,0), 2)*4) -> Место | S10: =IF(I10<H10,OFFSET(IF(OR($C$29=11,$C$29=12),Очки!$B$17,Очки!$O$18),2+H10-I10,IF(G10=2,12,13-H10)),0) -> 0 | V10: =OFFSET(Очки!$A$3,L10,J10+QUOTIENT(MAX($C$29-11,0), 2)*4) -> Место | W10: =IF(L10<K10,OFFSET(IF(OR($C$29=11,$C$29=12),Очки!$B$17,Очки!$O$18),2+K10-L10,IF(J10=2,12,13-K10)),0) -> 0 | AB10: =SUM(M10:Y10) -> 0
A11: =RANK(AB11,AB$6:OFFSET(AB$6,0,0,COUNTA(B$6:B$28))) -> #REF! | N11: =OFFSET(Очки!$A$3,F11,D11+QUOTIENT(MAX($C$29-11,0), 2)*4) -> Место | O11: =IF(F11<E11,OFFSET(IF(OR($C$29=11,$C$29=12),Очки!$B$17,Очки!$O$18),2+E11-F11,IF(D11=2,12,13-E11)),0) -> 0 | R11: =OFFSET(Очки!$A$3,I11,G11+QUOTIENT(MAX($C$29-11,0), 2)*4) -> Место | S11: =IF(I11<H11,OFFSET(IF(OR($C$29=11,$C$29=12),Очки!$B$17,Очки!$O$18),2+H11-I11,IF(G11=2,12,13-H11)),0) -> 0 | V11: =OFFSET(Очки!$A$3,L11,J11+QUOTIENT(MAX($C$29-11,0), 2)*4) -> Место | W11: =IF(L11<K11,OFFSET(IF(OR($C$29=11,$C$29=12),Очки!$B$17,Очки!$O$18),2+K11-L11,IF(J11=2,12,13-K11)),0) -> 0 | AB11: =SUM(M11:Y11) -> 0
A12: =RANK(AB12,AB$6:OFFSET(AB$6,0,0,COUNTA(B$6:B$28))) -> #REF! | N12: =OFFSET(Очки!$A$3,F12,D12+QUOTIENT(MAX($C$29-11,0), 2)*4) -> Место | O12: =IF(F12<E12,OFFSET(IF(OR($C$29=11,$C$29=12),Очки!$B$17,Очки!$O$18),2+E12-F12,IF(D12=2,12,13-E12)),0) -> 0 | R12: =OFFSET(Очки!$A$3,I12,G12+QUOTIENT(MAX($C$29-11,0), 2)*4) -> Место | S12: =IF(I12<H12,OFFSET(IF(OR($C$29=11,$C$29=12),Очки!$B$17,Очки!$O$18),2+H12-I12,IF(G12=2,12,13-H12)),0) -> 0 | V12: =OFFSET(Очки!$A$3,L12,J12+QUOTIENT(MAX($C$29-11,0), 2)*4) -> Место | W12: =IF(L12<K12,OFFSET(IF(OR($C$29=11,$C$29=12),Очки!$B$17,Очки!$O$18),2+K12-L12,IF(J12=2,12,13-K12)),0) -> 0 | AB12: =SUM(M12:Y12) -> 0
A13: =RANK(AB13,AB$6:OFFSET(AB$6,0,0,COUNTA(B$6:B$28))) -> #REF! | N13: =OFFSET(Очки!$A$3,F13,D13+QUOTIENT(MAX($C$29-11,0), 2)*4) -> Место | O13: =IF(F13<E13,OFFSET(IF(OR($C$29=11,$C$29=12),Очки!$B$17,Очки!$O$18),2+E13-F13,IF(D13=2,12,13-E13)),0) -> 0 | R13: =OFFSET(Очки!$A$3,I13,G13+QUOTIENT(MAX($C$29-11,0), 2)*4) -> Место | S13: =IF(I13<H13,OFFSET(IF(OR($C$29=11,$C$29=12),Очки!$B$17,Очки!$O$18),2+H13-I13,IF(G13=2,12,13-H13)),0) -> 0 | V13: =OFFSET(Очки!$A$3,L13,J13+QUOTIENT(MAX($C$29-11,0), 2)*4) -> Место | W13: =IF(L13<K13,OFFSET(IF(OR($C$29=11,$C$29=12),Очки!$B$17,Очки!$O$18),2+K13-L13,IF(J13=2,12,13-K13)),0) -> 0 | AB13: =SUM(M13:Y13) -> 0
A14: =RANK(AB14,AB$6:OFFSET(AB$6,0,0,COUNTA(B$6:B$28))) -> #REF! | N14: =OFFSET(Очки!$A$3,F14,D14+QUOTIENT(MAX($C$29-11,0), 2)*4) -> Место | O14: =IF(F14<E14,OFFSET(IF(OR($C$29=11,$C$29=12),Очки!$B$17,Очки!$O$18),2+E14-F14,IF(D14=2,12,13-E14)),0) -> 0 | R14: =OFFSET(Очки!$A$3,I14,G14+QUOTIENT(MAX($C$29-11,0), 2)*4) -> Место | S14: =IF(I14<H14,OFFSET(IF(OR($C$29=11,$C$29=12),Очки!$B$17,Очки!$O$18),2+H14-I14,IF(G14=2,12,13-H14)),0) -> 0 | V14: =OFFSET(Очки!$A$3,L14,J14+QUOTIENT(MAX($C$29-11,0), 2)*4) -> Место | W14: =IF(L14<K14,OFFSET(IF(OR($C$29=11,$C$29=12),Очки!$B$17,Очки!$O$18),2+K14-L14,IF(J14=2,12,13-K14)),0) -> 0 | AB14: =SUM(M14:Y14) -> 0
A15: =RANK(AB15,AB$6:OFFSET(AB$6,0,0,COUNTA(B$6:B$28))) -> #REF! | N15: =OFFSET(Очки!$A$3,F15,D15+QUOTIENT(MAX($C$29-11,0), 2)*4) -> Место | O15: =IF(F15<E15,OFFSET(IF(OR($C$29=11,$C$29=12),Очки!$B$17,Очки!$O$18),2+E15-F15,IF(D15=2,12,13-E15)),0) -> 0 | R15: =OFFSET(Очки!$A$3,I15,G15+QUOTIENT(MAX($C$29-11,0), 2)*4) -> Место | S15: =IF(I15<H15,OFFSET(IF(OR($C$29=11,$C$29=12),Очки!$B$17,Очки!$O$18),2+H15-I15,IF(G15=2,12,13-H15)),0) -> 0 | V15: =OFFSET(Очки!$A$3,L15,J15+QUOTIENT(MAX($C$29-11,0), 2)*4) -> Место | W15: =IF(L15<K15,OFFSET(IF(OR($C$29=11,$C$29=12),Очки!$B$17,Очки!$O$18),2+K15-L15,IF(J15=2,12,13-K15)),0) -> 0 | AB15: =SUM(M15:Y15) -> 0
A16: =RANK(AB16,AB$6:OFFSET(AB$6,0,0,COUNTA(B$6:B$28))) -> #REF! | N16: =OFFSET(Очки!$A$3,F16,D16+QUOTIENT(MAX($C$29-11,0), 2)*4) -> Место | O16: =IF(F16<E16,OFFSET(IF(OR($C$29=11,$C$29=12),Очки!$B$17,Очки!$O$18),2+E16-F16,IF(D16=2,12,13-E16)),0) -> 0 | R16: =OFFSET(Очки!$A$3,I16,G16+QUOTIENT(MAX($C$29-11,0), 2)*4) -> Место | S16: =IF(I16<H16,OFFSET(IF(OR($C$29=11,$C$29=12),Очки!$B$17,Очки!$O$18),2+H16-I16,IF(G16=2,12,13-H16)),0) -> 0 | V16: =OFFSET(Очки!$A$3,L16,J16+QUOTIENT(MAX($C$29-11,0), 2)*4) -> Место | W16: =IF(L16<K16,OFFSET(IF(OR($C$29=11,$C$29=12),Очки!$B$17,Очки!$O$18),2+K16-L16,IF(J16=2,12,13-K16)),0) -> 0 | AB16: =SUM(M16:Y16) -> 0
A17: =RANK(AB17,AB$6:OFFSET(AB$6,0,0,COUNTA(B$6:B$28))) -> #REF! | N17: =OFFSET(Очки!$A$3,F17,D17+QUOTIENT(MAX($C$29-11,0), 2)*4) -> Место | O17: =IF(F17<E17,OFFSET(IF(OR($C$29=11,$C$29=12),Очки!$B$17,Очки!$O$18),2+E17-F17,IF(D17=2,12,13-E17)),0) -> 0 | R17: =OFFSET(Очки!$A$3,I17,G17+QUOTIENT(MAX($C$29-11,0), 2)*4) -> Место | S17: =IF(I17<H17,OFFSET(IF(OR($C$29=11,$C$29=12),Очки!$B$17,Очки!$O$18),2+H17-I17,IF(G17=2,12,13-H17)),0) -> 0 | V17: =OFFSET(Очки!$A$3,L17,J17+QUOTIENT(MAX($C$29-11,0), 2)*4) -> Место | W17: =IF(L17<K17,OFFSET(IF(OR($C$29=11,$C$29=12),Очки!$B$17,Очки!$O$18),2+K17-L17,IF(J17=2,12,13-K17)),0) -> 0 | AB17: =SUM(M17:Y17) -> 0
... A28: =RANK(AB28,AB$6:OFFSET(AB$6,0,0,COUNTA(B$6:B$28))) -> #REF! | N28: =OFFSET(Очки!$A$3,F28,D28+QUOTIENT(MAX($C$29-11,0), 2)*4) -> Место | O28: =IF(F28<E28,OFFSET(IF(OR($C$29=11,$C$29=12),Очки!$B$17,Очки!$O$18),2+E28-F28,IF(D28=2,12,13-E28)),0) -> 0 | R28: =OFFSET(Очки!$A$3,I28,G28+QUOTIENT(MAX($C$29-11,0), 2)*4) -> Место | S28: =IF(I28<H28,OFFSET(IF(OR($C$29=11,$C$29=12),Очки!$B$17,Очки!$O$18),2+H28-I28,IF(G28=2,12,13-H28)),0) -> 0 | V28: =OFFSET(Очки!$A$3,L28,J28+QUOTIENT(MAX($C$29-11,0), 2)*4) -> Место | W28: =IF(L28<K28,OFFSET(IF(OR($C$29=11,$C$29=12),Очки!$B$17,Очки!$O$18),2+K28-L28,IF(J28=2,12,13-K28)),0) -> 0 | AB28: =SUM(M28:Y28) -> 0
B29: Всего участников | C29: =COUNTA(B6:B28) -> 0
