Workbook

Sheet Очки
A1: До 12 человек | F1: 13-14 человек | K1: 15-16 человек | P1: 17-18 человек | U1: 19-20 человек | Z1: 21-22 человек | AE1: 23-24 человек | AJ1: 25 человек | AO1: 26-27 человек | AT1: 28 человек | AY1: 29-30 человек
B2: I | C2: II | D2: III | G2: I | H2: II | I2: III | L2: I | M2: II | N2: III | Q2: I | R2: II | S2: III | V2: I | W2: II | X2: III | AA2: I | AB2: II | AC2: III | AF2: I | AG2: II | AH2: III | AK2: I | AL2: II | AM2: III | AP2: I | AQ2: II | AR2: III | AU2: I | AV2: II | AW2: III | AZ2: I | BA2: II | BB2: III
A3: 1 | B3: 15 | F3: 1 | G3: 15 | H3: 10.5 | K3: 1 | L3: 15 | M3: 10.5 | P3: 1 | Q3: 15 | R3: 10 | U3: 1 | V3: 15 | W3: 9.5 | Z3: 1 | AA3: 15 | AB3: 9 | AE3: 1 | AF3: 16 | AG3: 11.5 | AH3: 7 | AJ3: 1 | AK3: 16 | AL3: 11 | AM3: 6.5 | AO3: 1 | AP3: 17 | AQ3: 12 | AR3: 7 | AT3: 1 | AU3: 17 | AV3: 11.5 | AW3: 6.5 | AY3: 1 | AZ3: 17 | BA3: 11.5 | BB3: 6
A4: 2 | B4: 14 | F4: 2 | G4: 14 | H4: 9.5 | K4: 2 | L4: 14 | M4: 9.5 | P4: 2 | Q4: 14 | R4: 9 | U4: 2 | V4: 14 | W4: 8.5 | Z4: 2 | AA4: 14 | AB4: 8 | AE4: 2 | AF4: 15 | AG4: 10.5 | AH4: 6 | AJ4: 2 | AK4: 15 | AL4: 10 | AM4: 5.5 | AO4: 2 | AP4: 16 | AQ4: 11 | AR4: 6 | AT4: 2 | AU4: 16 | AV4: 10.5 | AW4: 5.5 | AY4: 2 | AZ4: 16 | BA4: 10.5 | BB4: 5
A5: 3 | B5: 13 | F5: 3 | G5: 13 | H5: 8.5 | K5: 3 | L5: 13 | M5: 8.5 | P5: 3 | Q5: 13 | R5: 8 | U5: 3 | V5: 13 | W5: 7.5 | Z5: 3 | AA5: 13 | AB5: 7 | AE5: 3 | AF5: 14 | AG5: 9.5 | AH5: 5 | AJ5: 3 | AK5: 14 | AL5: 9 | AM5: 4.5 | AO5: 3 | AP5: 15 | AQ5: 10 | AR5: 5 | AT5: 3 | AU5: 15 | AV5: 9.5 | AW5: 4.5 | AY5: 3 | AZ5: 15 | BA5: 9.5 | BB5: 4
A6: 4 | B6: 12 | F6: 4 | G6: 12 | H6: 7.5 | K6: 4 | L6: 12 | M6: 7.5 | P6: 4 | Q6: 12 | R6: 7 | U6: 4 | V6: 12 | W6: 6.5 | Z6: 4 | AA6: 12 | AB6: 6 | AE6: 4 | AF6: 13 | AG6: 8.5 | AH6: 4 | AJ6: 4 | AK6: 13 | AL6: 8 | AM6: 3.5 | AO6: 4 | AP6: 14 | AQ6: 9 | AR6: 4 | AT6: 4 | AU6: 14 | AV6: 8.5 | AW6: 3.5 | AY6: 4 | AZ6: 14 | BA6: 8.5 | BB6: 3
A7: 5 | B7: 11 | F7: 5 | G7: 11 | H7: 6.5 | K7: 5 | L7: 11 | M7: 6.5 | P7: 5 | Q7: 11 | R7: 6 | U7: 5 | V7: 11 | W7: 5.5 | Z7: 5 | AA7: 11 | AB7: 5 | AE7: 5 | AF7: 12 | AG7: 7.5 | AH7: 3 | AJ7: 5 | AK7: 12 | AL7: 7 | AM7: 2.5 | AO7: 5 | AP7: 13 | AQ7: 8 | AR7: 3 | AT7: 5 | AU7: 13 | AV7: 7.5 | AW7: 2.5 | AY7: 5 | AZ7: 13 | BA7: 7.5 | BB7: 2
A8: 6 | B8: 10.5 | F8: 6 | G8: 10.5 | H8: 6 | K8: 6 | L8: 10.5 | M8: 6 | P8: 6 | Q8: 10.5 | R8: 5.5 | U8: 6 | V8: 10.5 | W8: 5 | Z8: 6 | AA8: 10.5 | AB8: 4.5 | AE8: 6 | AF8: 11.5 | AG8: 7 | AH8: 2.5 | AJ8: 6 | AK8: 11.5 | AL8: 6.5 | AM8: 2 | AO8: 6 | AP8: 12.5 | AQ8: 7.5 | AR8: 2.5 | AT8: 6 | AU8: 12.5 | AV8: 7 | AW8: 2 | AY8: 6 | AZ8: 12.5 | BA8: 7 | BB8: 1.5
A9: 7 | B9: 10 | F9: 7 | G9: 10 | H9: 5.5 | K9: 7 | L9: 10 | M9: 5.5 | P9: 7 | Q9: 10 | R9: 5 | U9: 7 | V9: 10 | W9: 4.5 | Z9: 7 | AA9: 10 | AB9: 4 | AE9: 7 | AF9: 11 | AG9: 6.5 | AH9: 2 | AJ9: 7 | AK9: 11 | AL9: 6 | AM9: 1.5 | AO9: 7 | AP9: 12 | AQ9: 7 | AR9: 2 | AT9: 7 | AU9: 12 | AV9: 6.5 | AW9: 1.5 | AY9: 7 | AZ9: 12 | BA9: 6.5 | BB9: 1
A10: 8 | B10: 9.5 | K10: 8 | L10: 9.5 | M10: 5 | P10: 8 | Q10: 9.5 | R10: 4.5 | U10: 8 | V10: 9.5 | W10: 4 | Z10: 8 | AA10: 9.5 | AB10: 3.5 | AE10: 8 | AF10: 10.5 | AG10: 6 | AH10: 1.5 | AJ10: 8 | AK10: 10.5 | AL10: 5.5 | AM10: 1 | AO10: 8 | AP10: 11.5 | AQ10: 6.5 | AR10: 1.5 | AT10: 8 | AU10: 11.5 | AV10: 6 | AW10: 1 | AY10: 8 | AZ10: 11.5 | BA10: 6 | BB10: 0.5
A11: 9 | B11: 9 | P11: 9 | Q11: 9 | R11: 4 | U11: 9 | V11: 9 | W11: 3.5 | Z11: 9 | AA11: 9 | AB11: 3 | AJ11: 9 | AK11: 10 | AO11: 9 | AP11: 11 | AQ11: 6 | AR11: 1 | AT11: 9 | AU11: 11 | AV11: 5.5 | AW11: 0.5 | AY11: 9 | AZ11: 11 | BA11: 5.5 | BB11: 0
A12: 10 | B12: 8.5 | U12: 10 | V12: 8.5 | W12: 3 | Z12: 10 | AA12: 8.5 | AB12: 2.5 | AT12: 10 | AU12: 10.5 | AY12: 10 | AZ12: 10.5 | BA12: 5 | BB12: 0
A13: 11 | B13: 8 | Z13: 11 | AA13: 8
A14: 12 | B14: 7.5
A16: число людей / колонка для очков
A17: 1 | B17: 2 | C17: 3 | D17: 4 | E17: 5 | F17: 6 | G17: 7 | H17: 8 | I17: 9 | J17: 10 | K17: 11 | L17: 12 | M17: 13 | N17: 14 | O17: 15 | P17: 16 | Q17: 17 | R17: 18 | S17: 19 | T17: 20 | U17: 21 | V17: 22 | W17: 23 | X17: 24 | Y17: 25 | Z17: 26 | AA17: 27 | AB17: 28 | AC17: 29 | AD17: 30
A18: 1 | B18: 1 | C18: 1 | D18: 1 | E18: 1 | F18: 1 | G18: 1 | H18: 1 | I18: 1 | J18: 1 | K18: 1 | L18: 1 | M18: 6 | N18: 6 | O18: 11 | P18: 11 | Q18: 16 | R18: 16 | S18: 21 | T18: 21 | U18: 26 | V18: 26 | W18: 31 | X18: 31 | Y18: 36 | Z18: 41 | AA18: 41 | AB18: 46 | AC18: 51 | AD18: 51
A20: ОБГОНЫ
B21: I гр | M21: II гр | N21: III гр
B22: с 12 | C22: с 11 | D22: с 10 | E22: с 9 | F22: с 8 | G22: с 7 | H22: с 6 | I22: с 5 | J22: с 4 | K22: с 3 | L22: со 2
A23: 1 | B23: 1.3 | C23: 1.3 | D23: 1.2 | E23: 1.2 | F23: 1.2 | G23: 1.1 | H23: 1 | I23: 0.9 | J23: 0.8 | K23: 0.7 | L23: 0.7 | M23: 0.7 | N23: 0.5
A24: 2 | B24: =B23+C23 -> 2.6 | C24: =C23+D23 -> 2.5 | D24: =D23+E23 -> 2.4 | E24: =E23+F23 -> 2.4 | F24: =F23+G23 -> 2.3 | G24: =G23+H23 -> 2.1 | H24: =H23+I23 -> 1.9 | I24: =I23+J23 -> 1.7 | ... K24: =K23+L23 -> 1.4 | M24: 1.4 | N24: 1
A25: 3 | B25: =B24+D23 -> 3.8 | C25: =C24+E23 -> 3.7 | D25: =D24+F23 -> 3.6 | E25: =E24+G23 -> 3.5 | F25: =F24+H23 -> 3.3 | G25: =G24+I23 -> 3 | H25: =H24+J23 -> 2.7 | I25: =I24+K23 -> 2.4 | J25: =J24+L23 -> 2.2 | M25: 2.1 | N25: 1.5
A26: 4 | B26: =B25+E23 -> 5 | C26: =C25+F23 -> 4.9 | D26: =D25+G23 -> 4.7 | E26: =E25+H23 -> 4.5 | F26: =F25+I23 -> 4.2 | G26: =G25+J23 -> 3.8 | H26: =H25+K23 -> 3.4 | I26: =I25+L23 -> 3.1 | M26: 2.8 | N26: 2
A27: 5 | B27: =B26+F23 -> 6.2 | C27: =C26+G23 -> 6 | D27: =D26+H23 -> 5.7 | E27: =E26+I23 -> 5.4 | F27: =F26+J23 -> 5 | G27: =G26+K23 -> 4.5 | H27: =H26+L23 -> 4.1 | M27: 3.5 | N27: 2.5
A28: 6 | B28: =B27+G23 -> 7.3 | C28: =C27+H23 -> 7 | D28: =D27+I23 -> 6.6 | E28: =E27+J23 -> 6.2 | F28: =F27+K23 -> 5.7 | G28: =G27+L23 -> 5.2 | M28: 4.2 | N28: 3
A29: 7 | B29: =B28+H23 -> 8.3 | C29: =C28+I23 -> 7.9 | D29: =D28+J23 -> 7.4 | E29: =E28+K23 -> 6.9 | F29: =F28+L23 -> 6.4 | M29: 4.9 | N29: 3.5
A30: 8 | B30: =B29+I23 -> 9.2 | C30: =C29+J23 -> 8.7 | D30: =D29+K23 -> 8.1 | E30: =E29+L23 -> 7.6 | M30: 5.6 | N30: 4
A31: 9 | B31: =B30+J23 -> 10 | C31: =C30+K23 -> 9.4 | D31: =D30+L23 -> 8.8 | M31: 6.3 | N31: 4.5
A32: 10 | B32: =B31+K23 -> 10.7 | C32: =C31+L23 -> 10.1 | M32: 7 | N32: 5
A33: 11 | B33: =B32+L23 -> 11.4 | M33: 7.7 | N33: 5.5

Sheet 16.05
A1: Лайт Лига 16.05.2017 (конфигурация 1)
A3: Место | B3: Участник | D3: 1 | G3: 2 | J3: Очки | S3: Сумма
C4: Довес | D4: группа | E4: Старт | F4: Финиш | G4: группа | H4: Старт | I4: Финиш | J4: Квала | K4: 1 | O4: 2
K5: очки | L5: обгоны | M5: время | N5: штрафы | O5: очки | P5: обгоны | Q5: время | R5: штрафы
A6: =RANK(S6,S$6:OFFSET(S$6,0,0,COUNTA(B$6:B$30))) -> 1 | B6: Петренко Влад | C6: 15 | D6: 1 | E6: 8 | F6: 3 | G6: 1 | H6: 7 | I6: 7 | J6: 2.5 | K6: =OFFSET(Очки!$A$2,F6,D6+OFFSET(Очки!$A$18,0,$C$31-1)-1) -> 14 | L6: =IF(F6<E6,OFFSET(Очки!$A$20,2+E6-F6,IF(D6=1,13-E6,10+D6)),0) -> 5 | M6: 2 | O6: =OFFSET(Очки!$A$2,I6,G6+OFFSET(Очки!$A$18,0,$C$31-1)-1) -> 11 | P6: =IF(I6<H6,OFFSET(Очки!$A$20,2+H6-I6,IF(G6=1,13-H6,10+G6)),0) -> 0 | Q6: 2.5 | S6: =SUM(J6:R6) -> 37
A7: =RANK(S7,S$6:OFFSET(S$6,0,0,COUNTA(B$6:B$30))) -> 2 | B7: Пархомчук Саша | C7: - | D7: 1 | E7: 5 | F7: 4 | G7: 1 | H7: 5 | I7: 2 | J7: 1 | K7: =OFFSET(Очки!$A$2,F7,D7+OFFSET(Очки!$A$18,0,$C$31-1)-1) -> 13 | L7: =IF(F7<E7,OFFSET(Очки!$A$20,2+E7-F7,IF(D7=1,13-E7,10+D7)),0) -> 0.9 | M7: 1 | O7: =OFFSET(Очки!$A$2,I7,G7+OFFSET(Очки!$A$18,0,$C$31-1)-1) -> 15 | P7: =IF(I7<H7,OFFSET(Очки!$A$20,2+H7-I7,IF(G7=1,13-H7,10+G7)),0) -> 2.4 | Q7: 2 | S7: =SUM(J7:R7) -> 35.3
A8: =RANK(S8,S$6:OFFSET(S$6,0,0,COUNTA(B$6:B$30))) -> 3 | B8: Веселов Сергей | C8: 10 | D8: 1 | E8: 7 | F8: 6 | G8: 1 | H8: 6 | I8: 1 | J8: 2 | K8: =OFFSET(Очки!$A$2,F8,D8+OFFSET(Очки!$A$18,0,$C$31-1)-1) -> 11.5 | L8: =IF(F8<E8,OFFSET(Очки!$A$20,2+E8-F8,IF(D8=1,13-E8,10+D8)),0) -> 1.1 | M8: 1.5 | N8: -4 | O8: =OFFSET(Очки!$A$2,I8,G8+OFFSET(Очки!$A$18,0,$C$31-1)-1) -> 16 | P8: =IF(I8<H8,OFFSET(Очки!$A$20,2+H8-I8,IF(G8=1,13-H8,10+G8)),0) -> 4.1 | Q8: 1.5 | S8: =SUM(J8:R8) -> 33.7
A9: =RANK(S9,S$6:OFFSET(S$6,0,0,COUNTA(B$6:B$30))) -> 4 | B9: Булавинов Андрей | C9: 5 | D9: 1 | E9: 2 | F9: 2 | G9: 1 | H9: 1 | I9: 4 | K9: =OFFSET(Очки!$A$2,F9,D9+OFFSET(Очки!$A$18,0,$C$31-1)-1) -> 15 | L9: =IF(F9<E9,OFFSET(Очки!$A$20,2+E9-F9,IF(D9=1,13-E9,10+D9)),0) -> 0 | O9: =OFFSET(Очки!$A$2,I9,G9+OFFSET(Очки!$A$18,0,$C$31-1)-1) -> 13 | P9: =IF(I9<H9,OFFSET(Очки!$A$20,2+H9-I9,IF(G9=1,13-H9,10+G9)),0) -> 0 | S9: =SUM(J9:R9) -> 28
A10: =RANK(S10,S$6:OFFSET(S$6,0,0,COUNTA(B$6:B$30))) -> 5 | B10: Ольшанский Костя | C10: 17.5 | D10: 2 | E10: 3 | F10: 1 | G10: 1 | H10: 3 | I10: 3 | K10: =OFFSET(Очки!$A$2,F10,D10+OFFSET(Очки!$A$18,0,$C$31-1)-1) -> 11.5 | L10: =IF(F10<E10,OFFSET(Очки!$A$20,2+E10-F10,IF(D10=1,13-E10,10+D10)),0) -> 1.4 | O10: =OFFSET(Очки!$A$2,I10,G10+OFFSET(Очки!$A$18,0,$C$31-1)-1) -> 14 | P10: =IF(I10<H10,OFFSET(Очки!$A$20,2+H10-I10,IF(G10=1,13-H10,10+G10)),0) -> 0 | Q10: 0.5 | S10: =SUM(J10:R10) -> 27.4
A11: =RANK(S11,S$6:OFFSET(S$6,0,0,COUNTA(B$6:B$30))) -> 6 | B11: Дарий Игорь | C11: - | D11: 1 | E11: 6 | F11: 8 | G11: 1 | H11: 8 | I11: 8 | J11: 1.5 | K11: =OFFSET(Очки!$A$2,F11,D11+OFFSET(Очки!$A$18,0,$C$31-1)-1) -> 10.5 | L11: =IF(F11<E11,OFFSET(Очки!$A$20,2+E11-F11,IF(D11=1,13-E11,10+D11)),0) -> 0 | M11: 2.5 | O11: =OFFSET(Очки!$A$2,I11,G11+OFFSET(Очки!$A$18,0,$C$31-1)-1) -> 10.5 | P11: =IF(I11<H11,OFFSET(Очки!$A$20,2+H11-I11,IF(G11=1,13-H11,10+G11)),0) -> 0 | S11: =SUM(J11:R11) -> 25
A12: =RANK(S12,S$6:OFFSET(S$6,0,0,COUNTA(B$6:B$30))) -> 7 | B12: Дымко Вячеслав | D12: 1 | E12: 4 | F12: 5 | G12: 1 | H12: 2 | I12: 5 | J12: 0.5 | K12: =OFFSET(Очки!$A$2,F12,D12+OFFSET(Очки!$A$18,0,$C$31-1)-1) -> 12 | L12: =IF(F12<E12,OFFSET(Очки!$A$20,2+E12-F12,IF(D12=1,13-E12,10+D12)),0) -> 0 | O12: =OFFSET(Очки!$A$2,I12,G12+OFFSET(Очки!$A$18,0,$C$31-1)-1) -> 12 | P12: =IF(I12<H12,OFFSET(Очки!$A$20,2+H12-I12,IF(G12=1,13-H12,10+G12)),0) -> 0 | S12: =SUM(J12:R12) -> 24.5
A13: =RANK(S13,S$6:OFFSET(S$6,0,0,COUNTA(B$6:B$30))) -> 8 | B13: Пилипчук Вася | C13: 2.5 | D13: 1 | E13: 3 | F13: 6 | G13: 2 | H13: 8 | I13: 4 | K13: =OFFSET(Очки!$A$2,F13,D13+OFFSET(Очки!$A$18,0,$C$31-1)-1) -> 11.5 | L13: =IF(F13<E13,OFFSET(Очки!$A$20,2+E13-F13,IF(D13=1,13-E13,10+D13)),0) -> 0 | O13: =OFFSET(Очки!$A$2,I13,G13+OFFSET(Очки!$A$18,0,$C$31-1)-1) -> 8.5 | P13: =IF(I13<H13,OFFSET(Очки!$A$20,2+H13-I13,IF(G13=1,13-H13,10+G13)),0) -> 2.8 | Q13: 1 | S13: =SUM(J13:R13) -> 23.8
A14: =RANK(S14,S$6:OFFSET(S$6,0,0,COUNTA(B$6:B$30))) -> 9 | B14: Потапов Сергей | D14: 1 | E14: 1 | F14: 1 | G14: 2 | H14: 5 | I14: 5 | K14: =OFFSET(Очки!$A$2,F14,D14+OFFSET(Очки!$A$18,0,$C$31-1)-1) -> 16 | L14: =IF(F14<E14,OFFSET(Очки!$A$20,2+E14-F14,IF(D14=1,13-E14,10+D14)),0) -> 0 | O14: =OFFSET(Очки!$A$2,I14,G14+OFFSET(Очки!$A$18,0,$C$31-1)-1) -> 7.5 | P14: =IF(I14<H14,OFFSET(Очки!$A$20,2+H14-I14,IF(G14=1,13-H14,10+G14)),0) -> 0 | S14: =SUM(J14:R14) -> 23.5
A15: =RANK(S15,S$6:OFFSET(S$6,0,0,COUNTA(B$6:B$30))) -> 10 | B15: Синани Влад | C15: 5 | D15: 2 | E15: 1 | F15: 2 | G15: 2 | H15: 4 | I15: 2 | K15: =OFFSET(Очки!$A$2,F15,D15+OFFSET(Очки!$A$18,0,$C$31-1)-1) -> 10.5 | L15: =IF(F15<E15,OFFSET(Очки!$A$20,2+E15-F15,IF(D15=1,13-E15,10+D15)),0) -> 0 | O15: =OFFSET(Очки!$A$2,I15,G15+OFFSET(Очки!$A$18,0,$C$31-1)-1) -> 10.5 | P15: =IF(I15<H15,OFFSET(Очки!$A$20,2+H15-I15,IF(G15=1,13-H15,10+G15)),0) -> 1.4 | S15: =SUM(J15:R15) -> 22.4
A16: =RANK(S16,S$6:OFFSET(S$6,0,0,COUNTA(B$6:B$30))) -> 11 | B16: Муляр Андрей | C16: - | D16: 2 | E16: 5 | F16: 4 | G16: 2 | H16: 1 | I16: 1 | K16: =OFFSET(Очки!$A$2,F16,D16+OFFSET(Очки!$A$18,0,$C$31-1)-1) -> 8.5 | L16: =IF(F16<E16,OFFSET(Очки!$A$20,2+E16-F16,IF(D16=1,13-E16,10+D16)),0) -> 0.7 | O16: =OFFSET(Очки!$A$2,I16,G16+OFFSET(Очки!$A$18,0,$C$31-1)-1) -> 11.5 | P16: =IF(I16<H16,OFFSET(Очки!$A$20,2+H16-I16,IF(G16=1,13-H16,10+G16)),0) -> 0 | S16: =SUM(J16:R16) -> 20.7
A17: =RANK(S17,S$6:OFFSET(S$6,0,0,COUNTA(B$6:B$30))) -> 12 | B17: Халецкий Женя | C17: 7.5 | D17: 2 | E17: 6 | F17: 5 | G17: 1 | H17: 4 | I17: 6 | K17: =OFFSET(Очки!$A$2,F17,D17+OFFSET(Очки!$A$18,0,$C$31-1)-1) -> 7.5 | L17: =IF(F17<E17,OFFSET(Очки!$A$20,2+E17-F17,IF(D17=1,13-E17,10+D17)),0) -> 0.7 | M17: 0.5 | O17: =OFFSET(Очки!$A$2,I17,G17+OFFSET(Очки!$A$18,0,$C$31-1)-1) -> 11.5 | P17: =IF(I17<H17,OFFSET(Очки!$A$20,2+H17-I17,IF(G17=1,13-H17,10+G17)),0) -> 0 | S17: =SUM(J17:R17) -> 20.2
A18: =RANK(S18,S$6:OFFSET(S$6,0,0,COUNTA(B$6:B$30))) -> 13 | B18: Сомок Денис | C18: 5 | D18: 2 | E18: 7 | F18: 7 | G18: 2 | H18: 7 | I18: 3 | K18: =OFFSET(Очки!$A$2,F18,D18+OFFSET(Очки!$A$18,0,$C$31-1)-1) -> 6.5 | L18: =IF(F18<E18,OFFSET(Очки!$A$20,2+E18-F18,IF(D18=1,13-E18,10+D18)),0) -> 0 | O18: =OFFSET(Очки!$A$2,I18,G18+OFFSET(Очки!$A$18,0,$C$31-1)-1) -> 9.5 | P18: =IF(I18<H18,OFFSET(Очки!$A$20,2+H18-I18,IF(G18=1,13-H18,10+G18)),0) -> 2.8 | S18: =SUM(J18:R18) -> 18.8
A19: =RANK(S19,S$6:OFFSET(S$6,0,0,COUNTA(B$6:B$30))) -> 14 | B19: Фаль Александр | C19: - | D19: 2 | E19: 4 | F19: 3 | G19: 2 | H19: 2 | I19: 6 | K19: =OFFSET(Очки!$A$2,F19,D19+OFFSET(Очки!$A$18,0,$C$31-1)-1) -> 9.5 | L19: =IF(F19<E19,OFFSET(Очки!$A$20,2+E19-F19,IF(D19=1,13-E19,10+D19)),0) -> 0.7 | O19: =OFFSET(Очки!$A$2,I19,G19+OFFSET(Очки!$A$18,0,$C$31-1)-1) -> 7 | P19: =IF(I19<H19,OFFSET(Очки!$A$20,2+H19-I19,IF(G19=1,13-H19,10+G19)),0) -> 0 | S19: =SUM(J19:R19) -> 17.2
A20: =RANK(S20,S$6:OFFSET(S$6,0,0,COUNTA(B$6:B$30))) -> 15 | B20: Морозенко Сергей | C20: 10 | D20: 3 | E20: 4 | F20: 1 | G20: 3 | H20: 6 | I20: 2 | K20: =OFFSET(Очки!$A$2,F20,D20+OFFSET(Очки!$A$18,0,$C$31-1)-1) -> 7 | L20: =IF(F20<E20,OFFSET(Очки!$A$20,2+E20-F20,IF(D20=1,13-E20,10+D20)),0) -> 1.5 | O20: =OFFSET(Очки!$A$2,I20,G20+OFFSET(Очки!$A$18,0,$C$31-1)-1) -> 6 | P20: =IF(I20<H20,OFFSET(Очки!$A$20,2+H20-I20,IF(G20=1,13-H20,10+G20)),0) -> 2 | S20: =SUM(J20:R20) -> 16.5
A21: =RANK(S21,S$6:OFFSET(S$6,0,0,COUNTA(B$6:B$30))) -> 16 | B21: Яременко Алексей | C21: - | D21: 3 | E21: 5 | F21: 2 | G21: 3 | H21: 7 | I21: 1 | K21: =OFFSET(Очки!$A$2,F21,D21+OFFSET(Очки!$A$18,0,$C$31-1)-1) -> 6 | L21: =IF(F21<E21,OFFSET(Очки!$A$20,2+E21-F21,IF(D21=1,13-E21,10+D21)),0) -> 1.5 | N21: -3 | O21: =OFFSET(Очки!$A$2,I21,G21+OFFSET(Очки!$A$18,0,$C$31-1)-1) -> 7 | P21: =IF(I21<H21,OFFSET(Очки!$A$20,2+H21-I21,IF(G21=1,13-H21,10+G21)),0) -> 3 | S21: =SUM(J21:R21) -> 14.5
A22: =RANK(S22,S$6:OFFSET(S$6,0,0,COUNTA(B$6:B$30))) -> 17 | B22: Мифтахутдинов Рафаель | C22: - | D22: 2 | E22: 2 | F22: 6 | G22: 2 | H22: 3 | I22: 7 | K22: =OFFSET(Очки!$A$2,F22,D22+OFFSET(Очки!$A$18,0,$C$31-1)-1) -> 7 | L22: =IF(F22<E22,OFFSET(Очки!$A$20,2+E22-F22,IF(D22=1,13-E22,10+D22)),0) -> 0 | O22: =OFFSET(Очки!$A$2,I22,G22+OFFSET(Очки!$A$18,0,$C$31-1)-1) -> 6.5 | P22: =IF(I22<H22,OFFSET(Очки!$A$20,2+H22-I22,IF(G22=1,13-H22,10+G22)),0) -> 0 | S22: =SUM(J22:R22) -> 13.5
A23: =RANK(S23,S$6:OFFSET(S$6,0,0,COUNTA(B$6:B$30))) -> 18 | B23: Шиленко Александр | C23: - | D23: 2 | E23: 8 | F23: 8 | G23: 2 | H23: 6 | I23: 8 | K23: =OFFSET(Очки!$A$2,F23,D23+OFFSET(Очки!$A$18,0,$C$31-1)-1) -> 6 | L23: =IF(F23<E23,OFFSET(Очки!$A$20,2+E23-F23,IF(D23=1,13-E23,10+D23)),0) -> 0 | O23: =OFFSET(Очки!$A$2,I23,G23+OFFSET(Очки!$A$18,0,$C$31-1)-1) -> 6 | P23: =IF(I23<H23,OFFSET(Очки!$A$20,2+H23-I23,IF(G23=1,13-H23,10+G23)),0) -> 0 | S23: =SUM(J23:R23) -> 12
A24: =RANK(S24,S$6:OFFSET(S$6,0,0,COUNTA(B$6:B$30))) -> 19 | B24: Форостюк Миша | D24: 3 | E24: 8 | F24: 4 | G24: 3 | H24: 5 | I24: 4 | K24: =OFFSET(Очки!$A$2,F24,D24+OFFSET(Очки!$A$18,0,$C$31-1)-1) -> 4 | L24: =IF(F24<E24,OFFSET(Очки!$A$20,2+E24-F24,IF(D24=1,13-E24,10+D24)),0) -> 2 | O24: =OFFSET(Очки!$A$2,I24,G24+OFFSET(Очки!$A$18,0,$C$31-1)-1) -> 4 | P24: =IF(I24<H24,OFFSET(Очки!$A$20,2+H24-I24,IF(G24=1,13-H24,10+G24)),0) -> 0.5 | S24: =SUM(J24:R24) -> 10.5
A25: =RANK(S25,S$6:OFFSET(S$6,0,0,COUNTA(B$6:B$30))) -> 20 | B25: Дикань Сергей/ Dykan Sergey | C25: - | D25: 3 | E25: 3 | F25: 3 | G25: 3 | H25: 4 | I25: 6 | K25: =OFFSET(Очки!$A$2,F25,D25+OFFSET(Очки!$A$18,0,$C$31-1)-1) -> 5 | L25: =IF(F25<E25,OFFSET(Очки!$A$20,2+E25-F25,IF(D25=1,13-E25,10+D25)),0) -> 0 | O25: =OFFSET(Очки!$A$2,I25,G25+OFFSET(Очки!$A$18,0,$C$31-1)-1) -> 2.5 | P25: =IF(I25<H25,OFFSET(Очки!$A$20,2+H25-I25,IF(G25=1,13-H25,10+G25)),0) -> 0 | S25: =SUM(J25:R25) -> 7.5
A26: =RANK(S26,S$6:OFFSET(S$6,0,0,COUNTA(B$6:B$30))) -> 21 | B26: Чайка Кирилл | C26: 12.5 | D26: 3 | E26: 6 | F26: 7 | G26: 3 | H26: 1 | I26: 3 | K26: =OFFSET(Очки!$A$2,F26,D26+OFFSET(Очки!$A$18,0,$C$31-1)-1) -> 2 | L26: =IF(F26<E26,OFFSET(Очки!$A$20,2+E26-F26,IF(D26=1,13-E26,10+D26)),0) -> 0 | O26: =OFFSET(Очки!$A$2,I26,G26+OFFSET(Очки!$A$18,0,$C$31-1)-1) -> 5 | P26: =IF(I26<H26,OFFSET(Очки!$A$20,2+H26-I26,IF(G26=1,13-H26,10+G26)),0) -> 0 | S26: =SUM(J26:R26) -> 7
A27: =RANK(S27,S$6:OFFSET(S$6,0,0,COUNTA(B$6:B$30))) -> 22 | B27: Смелов Дмитрий | C27: 15 | D27: 3 | E27: 2 | F27: 6 | G27: 3 | H27: 3 | I27: 5 | K27: =OFFSET(Очки!$A$2,F27,D27+OFFSET(Очки!$A$18,0,$C$31-1)-1) -> 2.5 | L27: =IF(F27<E27,OFFSET(Очки!$A$20,2+E27-F27,IF(D27=1,13-E27,10+D27)),0) -> 0 | O27: =OFFSET(Очки!$A$2,I27,G27+OFFSET(Очки!$A$18,0,$C$31-1)-1) -> 3 | P27: =IF(I27<H27,OFFSET(Очки!$A$20,2+H27-I27,IF(G27=1,13-H27,10+G27)),0) -> 0 | S27: =SUM(J27:R27) -> 5.5
A28: =RANK(S28,S$6:OFFSET(S$6,0,0,COUNTA(B$6:B$30))) -> 23 | B28: Рябоконь Максим | C28: - | D28: 3 | E28: 1 | F28: 5 | G28: 3 | H28: 2 | I28: 7 | K28: =OFFSET(Очки!$A$2,F28,D28+OFFSET(Очки!$A$18,0,$C$31-1)-1) -> 3 | L28: =IF(F28<E28,OFFSET(Очки!$A$20,2+E28-F28,IF(D28=1,13-E28,10+D28)),0) -> 0 | O28: =OFFSET(Очки!$A$2,I28,G28+OFFSET(Очки!$A$18,0,$C$31-1)-1) -> 2 | P28: =IF(I28<H28,OFFSET(Очки!$A$20,2+H28-I28,IF(G28=1,13-H28,10+G28)),0) -> 0 | S28: =SUM(J28:R28) -> 5
A29: =RANK(S29,S$6:OFFSET(S$6,0,0,COUNTA(B$6:B$30))) -> 24 | B29: Морозова Дарья | C29: - | D29: 3 | E29: 7 | F29: 8 | G29: 3 | H29: 8 | I29: 8 | K29: =OFFSET(Очки!$A$2,F29,D29+OFFSET(Очки!$A$18,0,$C$31-1)-1) -> 1.5 | L29: =IF(F29<E29,OFFSET(Очки!$A$20,2+E29-F29,IF(D29=1,13-E29,10+D29)),0) -> 0 | O29: =OFFSET(Очки!$A$2,I29,G29+OFFSET(Очки!$A$18,0,$C$31-1)-1) -> 1.5 | P29: =IF(I29<H29,OFFSET(Очки!$A$20,2+H29-I29,IF(G29=1,13-H29,10+G29)),0) -> 0 | S29: =SUM(J29:R29) -> 3
A30: =RANK(S30,S$6:OFFSET(S$6,0,0,COUNTA(B$6:B$30))) -> #N/A | K30: =OFFSET(Очки!$A$2,F30,D30+OFFSET(Очки!$A$18,0,$C$31-1)-1) -> 0 | L30: =IF(F30<E30,OFFSET(Очки!$A$20,2+E30-F30,IF(D30=1,13-E30,10+D30)),0) -> 0 | O30: =OFFSET(Очки!$A$2,I30,G30+OFFSET(Очки!$A$18,0,$C$31-1)-1) -> 0 | P30: =IF(I30<H30,OFFSET(Очки!$A$20,2+H30-I30,IF(G30=1,13-H30,10+G30)),0) -> 0 | S30: =SUM(J30:R30) -> 0
B31: Всего участников | C31: =COUNTA(B6:B30) -> 24

Sheet 23.05
A1: Лайт Лига 23.05.2017 (конфигурация 6R)
A3: Место | B3: Участник | D3: 1 | G3: 2 | J3: Очки | S3: Сумма
C4: Довес | D4: группа | E4: Старт | F4: Финиш | G4: группа | H4: Старт | I4: Финиш | J4: Квала | K4: 1 | O4: 2
K5: очки | L5: обгоны | M5: время | N5: штрафы | O5: очки | P5: обгоны | Q5: время | R5: штрафы
A6: =RANK(S6,S$6:OFFSET(S$6,0,0,COUNTA(B$6:B$30))) -> 1 | B6: Веселов Сергей | C6: 10 | D6: 1 | E6: 2 | F6: 1 | G6: 1 | H6: 2 | I6: 2 | K6: =OFFSET(Очки!$A$2,F6,D6+OFFSET(Очки!$A$18,0,$C$31-1)-1) -> 15 | L6: =IF(F6<E6,OFFSET(Очки!$A$20,2+E6-F6,IF(D6=1,13-E6,10+D6)),0) -> 0.7 | O6: =OFFSET(Очки!$A$2,I6,G6+OFFSET(Очки!$A$18,0,$C$31-1)-1) -> 14 | P6: =IF(I6<H6,OFFSET(Очки!$A$20,2+H6-I6,IF(G6=1,13-H6,10+G6)),0) -> 0 | Q6: 2 | S6: =SUM(J6:R6) -> 31.7
A7: =RANK(S7,S$6:OFFSET(S$6,0,0,COUNTA(B$6:B$30))) -> 2 | B7: Кравченко Женя | C7: - | D7: 1 | E7: 7 | F7: 7 | G7: 1 | H7: 8 | I7: 5 | J7: 2 | K7: =OFFSET(Очки!$A$2,F7,D7+OFFSET(Очки!$A$18,0,$C$31-1)-1) -> 10 | L7: =IF(F7<E7,OFFSET(Очки!$A$20,2+E7-F7,IF(D7=1,13-E7,10+D7)),0) -> 0 | M7: 2.5 | O7: =OFFSET(Очки!$A$2,I7,G7+OFFSET(Очки!$A$18,0,$C$31-1)-1) -> 11 | P7: =IF(I7<H7,OFFSET(Очки!$A$20,2+H7-I7,IF(G7=1,13-H7,10+G7)),0) -> 3.3 | Q7: 2.5 | S7: =SUM(J7:R7) -> 31.3
A8: =RANK(S8,S$6:OFFSET(S$6,0,0,COUNTA(B$6:B$30))) -> 3 | B8: Джемула Сергей / Dzemula Sergey | C8: - | D8: 1 | E8: 8 | F8: 6 | G8: 1 | H8: 6 | I8: 2 | J8: 2.5 | K8: =OFFSET(Очки!$A$2,F8,D8+OFFSET(Очки!$A$18,0,$C$31-1)-1) -> 10.5 | L8: =IF(F8<E8,OFFSET(Очки!$A$20,2+E8-F8,IF(D8=1,13-E8,10+D8)),0) -> 2.3 | M8: 1.5 | O8: =OFFSET(Очки!$A$2,I8,G8+OFFSET(Очки!$A$18,0,$C$31-1)-1) -> 14 | P8: =IF(I8<H8,OFFSET(Очки!$A$20,2+H8-I8,IF(G8=1,13-H8,10+G8)),0) -> 3.4 | Q8: 1 | R8: -4 | S8: =SUM(J8:R8) -> 31.2
A9: =RANK(S9,S$6:OFFSET(S$6,0,0,COUNTA(B$6:B$30))) -> 4 | B9: Онащук Максим | C9: - | D9: 1 | E9: 6 | F9: 4 | G9: 1 | H9: 7 | I9: 6 | J9: 1.5 | K9: =OFFSET(Очки!$A$2,F9,D9+OFFSET(Очки!$A$18,0,$C$31-1)-1) -> 12 | L9: =IF(F9<E9,OFFSET(Очки!$A$20,2+E9-F9,IF(D9=1,13-E9,10+D9)),0) -> 1.9 | M9: 2 | O9: =OFFSET(Очки!$A$2,I9,G9+OFFSET(Очки!$A$18,0,$C$31-1)-1) -> 10.5 | P9: =IF(I9<H9,OFFSET(Очки!$A$20,2+H9-I9,IF(G9=1,13-H9,10+G9)),0) -> 1.1 | Q9: 1.5 | S9: =SUM(J9:R9) -> 30.5
A10: =RANK(S10,S$6:OFFSET(S$6,0,0,COUNTA(B$6:B$30))) -> 5 | B10: Григорьев Гена / Grigoriev Gennady | C10: 12.5 | D10: 1 | E10: 4 | F10: 2 | G10: 1 | H10: 3 | I10: 4 | J10: 0.5 | K10: =OFFSET(Очки!$A$2,F10,D10+OFFSET(Очки!$A$18,0,$C$31-1)-1) -> 14 | L10: =IF(F10<E10,OFFSET(Очки!$A$20,2+E10-F10,IF(D10=1,13-E10,10+D10)),0) -> 1.5 | O10: =OFFSET(Очки!$A$2,I10,G10+OFFSET(Очки!$A$18,0,$C$31-1)-1) -> 12 | P10: =IF(I10<H10,OFFSET(Очки!$A$20,2+H10-I10,IF(G10=1,13-H10,10+G10)),0) -> 0 | S10: =SUM(J10:R10) -> 28
A11: =RANK(S11,S$6:OFFSET(S$6,0,0,COUNTA(B$6:B$30))) -> 6 | B11: Дарий Игорь / Dariy Igor | C11: - | D11: 1 | E11: 5 | F11: 4 | G11: 1 | H11: 4 | I11: 6 | J11: 1 | K11: =OFFSET(Очки!$A$2,F11,D11+OFFSET(Очки!$A$18,0,$C$31-1)-1) -> 12 | L11: =IF(F11<E11,OFFSET(Очки!$A$20,2+E11-F11,IF(D11=1,13-E11,10+D11)),0) -> 0.9 | M11: 0.5 | O11: =OFFSET(Очки!$A$2,I11,G11+OFFSET(Очки!$A$18,0,$C$31-1)-1) -> 10.5 | P11: =IF(I11<H11,OFFSET(Очки!$A$20,2+H11-I11,IF(G11=1,13-H11,10+G11)),0) -> 0 | S11: =SUM(J11:R11) -> 24.9
A12: =RANK(S12,S$6:OFFSET(S$6,0,0,COUNTA(B$6:B$30))) -> 7 | B12: Смерчинский Саша | C12: 5 | D12: 2 | E12: 7 | F12: 3 | G12: 1 | H12: 1 | I12: 1 | K12: =OFFSET(Очки!$A$2,F12,D12+OFFSET(Очки!$A$18,0,$C$31-1)-1) -> 7 | L12: =IF(F12<E12,OFFSET(Очки!$A$20,2+E12-F12,IF(D12=1,13-E12,10+D12)),0) -> 2.8 | O12: =OFFSET(Очки!$A$2,I12,G12+OFFSET(Очки!$A$18,0,$C$31-1)-1) -> 15 | P12: =IF(I12<H12,OFFSET(Очки!$A$20,2+H12-I12,IF(G12=1,13-H12,10+G12)),0) -> 0 | R12: -4 | S12: =SUM(J12:R12) -> 20.8
A13: =RANK(S13,S$6:OFFSET(S$6,0,0,COUNTA(B$6:B$30))) -> 8 | B13: Пилипчук Вася | C13: 2.5 | D13: 1 | E13: 3 | F13: 3 | G13: 1 | H13: 5 | I13: 8 | K13: =OFFSET(Очки!$A$2,F13,D13+OFFSET(Очки!$A$18,0,$C$31-1)-1) -> 13 | L13: =IF(F13<E13,OFFSET(Очки!$A$20,2+E13-F13,IF(D13=1,13-E13,10+D13)),0) -> 0 | M13: 1 | N13: -3 | O13: =OFFSET(Очки!$A$2,I13,G13+OFFSET(Очки!$A$18,0,$C$31-1)-1) -> 9.5 | P13: =IF(I13<H13,OFFSET(Очки!$A$20,2+H13-I13,IF(G13=1,13-H13,10+G13)),0) -> 0 | S13: =SUM(J13:R13) -> 20.5
A14: =RANK(S14,S$6:OFFSET(S$6,0,0,COUNTA(B$6:B$30))) -> 9 | B14: Мандзюк Артур / Mandzuk Artur | C14: - | D14: 2 | E14: 2 | F14: 1 | G14: 2 | H14: 3 | I14: 2 | K14: =OFFSET(Очки!$A$2,F14,D14+OFFSET(Очки!$A$18,0,$C$31-1)-1) -> 9 | L14: =IF(F14<E14,OFFSET(Очки!$A$20,2+E14-F14,IF(D14=1,13-E14,10+D14)),0) -> 0.7 | O14: =OFFSET(Очки!$A$2,I14,G14+OFFSET(Очки!$A$18,0,$C$31-1)-1) -> 8 | P14: =IF(I14<H14,OFFSET(Очки!$A$20,2+H14-I14,IF(G14=1,13-H14,10+G14)),0) -> 0.7 | Q14: 0.5 | S14: =SUM(J14:R14) -> 18.9
A15: =RANK(S15,S$6:OFFSET(S$6,0,0,COUNTA(B$6:B$30))) -> 10 | B15: Синани Влад / Sinani Vlad | C15: - | D15: 2 | E15: 1 | F15: 2 | G15: 2 | H15: 4 | I15: 2 | K15: =OFFSET(Очки!$A$2,F15,D15+OFFSET(Очки!$A$18,0,$C$31-1)-1) -> 8 | L15: =IF(F15<E15,OFFSET(Очки!$A$20,2+E15-F15,IF(D15=1,13-E15,10+D15)),0) -> 0 | O15: =OFFSET(Очки!$A$2,I15,G15+OFFSET(Очки!$A$18,0,$C$31-1)-1) -> 8 | P15: =IF(I15<H15,OFFSET(Очки!$A$20,2+H15-I15,IF(G15=1,13-H15,10+G15)),0) -> 1.4 | S15: =SUM(J15:R15) -> 17.4
A16: =RANK(S16,S$6:OFFSET(S$6,0,0,COUNTA(B$6:B$30))) -> 13 | B16: Потапов Сергей/ Potapov Sergey | C16: - | D16: 3 | E16: 5 | F16: 1 | G16: 2 | H16: 1 | I16: 1 | K16: =OFFSET(Очки!$A$2,F16,D16+OFFSET(Очки!$A$18,0,$C$31-1)-1) -> 0 | L16: =IF(F16<E16,OFFSET(Очки!$A$20,2+E16-F16,IF(D16=1,13-E16,10+D16)),0) -> 2 | O16: =OFFSET(Очки!$A$2,I16,G16+OFFSET(Очки!$A$18,0,$C$31-1)-1) -> 9 | P16: =IF(I16<H16,OFFSET(Очки!$A$20,2+H16-I16,IF(G16=1,13-H16,10+G16)),0) -> 0 | S16: =SUM(J16:R16) -> 11
A17: =RANK(S17,S$6:OFFSET(S$6,0,0,COUNTA(B$6:B$30))) -> 12 | B17: Муляр Андрей / Mular Andrey | C17: - | D17: 2 | E17: 5 | F17: 4 | G17: 2 | H17: 7 | I17: 5 | K17: =OFFSET(Очки!$A$2,F17,D17+OFFSET(Очки!$A$18,0,$C$31-1)-1) -> 6 | L17: =IF(F17<E17,OFFSET(Очки!$A$20,2+E17-F17,IF(D17=1,13-E17,10+D17)),0) -> 0.7 | O17: =OFFSET(Очки!$A$2,I17,G17+OFFSET(Очки!$A$18,0,$C$31-1)-1) -> 5 | P17: =IF(I17<H17,OFFSET(Очки!$A$20,2+H17-I17,IF(G17=1,13-H17,10+G17)),0) -> 1.4 | S17: =SUM(J17:R17) -> 13.1
A18: =RANK(S18,S$6:OFFSET(S$6,0,0,COUNTA(B$6:B$30))) -> 11 | B18: Майбродский Миша | C18: 10 | D18: 1 | E18: 1 | F18: 8 | G18: 2 | H18: 2 | I18: 7 | K18: =OFFSET(Очки!$A$2,F18,D18+OFFSET(Очки!$A$18,0,$C$31-1)-1) -> 9.5 | L18: =IF(F18<E18,OFFSET(Очки!$A$20,2+E18-F18,IF(D18=1,13-E18,10+D18)),0) -> 0 | O18: =OFFSET(Очки!$A$2,I18,G18+OFFSET(Очки!$A$18,0,$C$31-1)-1) -> 4 | P18: =IF(I18<H18,OFFSET(Очки!$A$20,2+H18-I18,IF(G18=1,13-H18,10+G18)),0) -> 0 | S18: =SUM(J18:R18) -> 13.5
A19: =RANK(S19,S$6:OFFSET(S$6,0,0,COUNTA(B$6:B$30))) -> 14 | B19: Булавинов Андрей / Bulavinov Andrey | C19: - | D19: 3 | E19: 6 | F19: 3 | G19: 2 | H19: 5 | I19: 4 | K19: =OFFSET(Очки!$A$2,F19,D19+OFFSET(Очки!$A$18,0,$C$31-1)-1) -> 0 | L19: =IF(F19<E19,OFFSET(Очки!$A$20,2+E19-F19,IF(D19=1,13-E19,10+D19)),0) -> 1.5 | O19: =OFFSET(Очки!$A$2,I19,G19+OFFSET(Очки!$A$18,0,$C$31-1)-1) -> 6 | P19: =IF(I19<H19,OFFSET(Очки!$A$20,2+H19-I19,IF(G19=1,13-H19,10+G19)),0) -> 0.7 | S19: =SUM(J19:R19) -> 8.2
A20: =RANK(S20,S$6:OFFSET(S$6,0,0,COUNTA(B$6:B$30))) -> 15 | B20: Морозенко Сергей / Morozenko Sergey | C20: 10 | D20: 3 | E20: 7 | F20: 2 | G20: 2 | H20: 6 | I20: 6 | K20: =OFFSET(Очки!$A$2,F20,D20+OFFSET(Очки!$A$18,0,$C$31-1)-1) -> 0 | L20: =IF(F20<E20,OFFSET(Очки!$A$20,2+E20-F20,IF(D20=1,13-E20,10+D20)),0) -> 2.5 | O20: =OFFSET(Очки!$A$2,I20,G20+OFFSET(Очки!$A$18,0,$C$31-1)-1) -> 4.5 | P20: =IF(I20<H20,OFFSET(Очки!$A$20,2+H20-I20,IF(G20=1,13-H20,10+G20)),0) -> 0 | S20: =SUM(J20:R20) -> 7
A21: =RANK(S21,S$6:OFFSET(S$6,0,0,COUNTA(B$6:B$30))) -> 15 | B21: Седнин Роман / Konuhov Roman | C21: 12.5 | D21: 2 | E21: 4 | F21: 5 | G21: 3 | H21: 6 | I21: 2 | K21: =OFFSET(Очки!$A$2,F21,D21+OFFSET(Очки!$A$18,0,$C$31-1)-1) -> 5 | L21: =IF(F21<E21,OFFSET(Очки!$A$20,2+E21-F21,IF(D21=1,13-E21,10+D21)),0) -> 0 | O21: =OFFSET(Очки!$A$2,I21,G21+OFFSET(Очки!$A$18,0,$C$31-1)-1) -> 0 | P21: =IF(I21<H21,OFFSET(Очки!$A$20,2+H21-I21,IF(G21=1,13-H21,10+G21)),0) -> 2 | S21: =SUM(J21:R21) -> 7
A22: =RANK(S22,S$6:OFFSET(S$6,0,0,COUNTA(B$6:B$30))) -> 17 | B22: Сомок Денис | C22: 5 | D22: 2 | E22: 3 | F22: 7 | G22: 3 | H22: 2 | I22: 1 | K22: =OFFSET(Очки!$A$2,F22,D22+OFFSET(Очки!$A$18,0,$C$31-1)-1) -> 4 | L22: =IF(F22<E22,OFFSET(Очки!$A$20,2+E22-F22,IF(D22=1,13-E22,10+D22)),0) -> 0 | O22: =OFFSET(Очки!$A$2,I22,G22+OFFSET(Очки!$A$18,0,$C$31-1)-1) -> 0 | P22: =IF(I22<H22,OFFSET(Очки!$A$20,2+H22-I22,IF(G22=1,13-H22,10+G22)),0) -> 0.5 | S22: =SUM(J22:R22) -> 4.5
A23: =RANK(S23,S$6:OFFSET(S$6,0,0,COUNTA(B$6:B$30))) -> 20 | B23: Гальвес Саша | C23: - | D23: 3 | E23: 4 | F23: 4 | G23: 3 | H23: 4 | I23: 3 | K23: =OFFSET(Очки!$A$2,F23,D23+OFFSET(Очки!$A$18,0,$C$31-1)-1) -> 0 | L23: =IF(F23<E23,OFFSET(Очки!$A$20,2+E23-F23,IF(D23=1,13-E23,10+D23)),0) -> 0 | O23: =OFFSET(Очки!$A$2,I23,G23+OFFSET(Очки!$A$18,0,$C$31-1)-1) -> 0 | P23: =IF(I23<H23,OFFSET(Очки!$A$20,2+H23-I23,IF(G23=1,13-H23,10+G23)),0) -> 0.5 | S23: =SUM(J23:R23) -> 0.5
A24: =RANK(S24,S$6:OFFSET(S$6,0,0,COUNTA(B$6:B$30))) -> 18 | B24: Сорокин Сергей | C24: - | D24: 2 | E24: 6 | F24: 6 | G24: 3 | H24: 5 | I24: 4 | K24: =OFFSET(Очки!$A$2,F24,D24+OFFSET(Очки!$A$18,0,$C$31-1)-1) -> 4.5 | L24: =IF(F24<E24,OFFSET(Очки!$A$20,2+E24-F24,IF(D24=1,13-E24,10+D24)),0) -> 0 | O24: =OFFSET(Очки!$A$2,I24,G24+OFFSET(Очки!$A$18,0,$C$31-1)-1) -> 0 | P24: =IF(I24<H24,OFFSET(Очки!$A$20,2+H24-I24,IF(G24=1,13-H24,10+G24)),0) -> 0.5 | R24: -4 | S24: =SUM(J24:R24) -> 1
A25: =RANK(S25,S$6:OFFSET(S$6,0,0,COUNTA(B$6:B$30))) -> 18 | B25: Михайлик Михаил | C25: 20 | D25: 3 | E25: 3 | F25: 5 | G25: 3 | H25: 7 | I25: 5 | K25: =OFFSET(Очки!$A$2,F25,D25+OFFSET(Очки!$A$18,0,$C$31-1)-1) -> 0 | L25: =IF(F25<E25,OFFSET(Очки!$A$20,2+E25-F25,IF(D25=1,13-E25,10+D25)),0) -> 0 | O25: =OFFSET(Очки!$A$2,I25,G25+OFFSET(Очки!$A$18,0,$C$31-1)-1) -> 0 | P25: =IF(I25<H25,OFFSET(Очки!$A$20,2+H25-I25,IF(G25=1,13-H25,10+G25)),0) -> 1 | S25: =SUM(J25:R25) -> 1
A26: =RANK(S26,S$6:OFFSET(S$6,0,0,COUNTA(B$6:B$30))) -> 21 | B26: Соболев Александр | C26: 17.5 | D26: 3 | E26: 2 | F26: 6 | G26: 3 | H26: 3 | I26: 4 | K26: =OFFSET(Очки!$A$2,F26,D26+OFFSET(Очки!$A$18,0,$C$31-1)-1) -> 0 | L26: =IF(F26<E26,OFFSET(Очки!$A$20,2+E26-F26,IF(D26=1,13-E26,10+D26)),0) -> 0 | O26: =OFFSET(Очки!$A$2,I26,G26+OFFSET(Очки!$A$18,0,$C$31-1)-1) -> 0 | P26: =IF(I26<H26,OFFSET(Очки!$A$20,2+H26-I26,IF(G26=1,13-H26,10+G26)),0) -> 0 | S26: =SUM(J26:R26) -> 0
A27: =RANK(S27,S$6:OFFSET(S$6,0,0,COUNTA(B$6:B$30))) -> 22 | B27: Смелов Дима | C27: 17.5 | D27: 3 | E27: 1 | F27: 7 | G27: 3 | H27: 1 | I27: 7 | K27: =OFFSET(Очки!$A$2,F27,D27+OFFSET(Очки!$A$18,0,$C$31-1)-1) -> 0 | L27: =IF(F27<E27,OFFSET(Очки!$A$20,2+E27-F27,IF(D27=1,13-E27,10+D27)),0) -> 0 | O27: =OFFSET(Очки!$A$2,I27,G27+OFFSET(Очки!$A$18,0,$C$31-1)-1) -> 0 | P27: =IF(I27<H27,OFFSET(Очки!$A$20,2+H27-I27,IF(G27=1,13-H27,10+G27)),0) -> 0 | R27: -4 | S27: =SUM(J27:R27) -> -4
A28: =RANK(S28,S$6:OFFSET(S$6,0,0,COUNTA(B$6:B$30))) -> 21 | C28: - | K28: =OFFSET(Очки!$A$2,F28,D28+OFFSET(Очки!$A$18,0,$C$31-1)-1) -> 0 | L28: =IF(F28<E28,OFFSET(Очки!$A$20,2+E28-F28,IF(D28=1,13-E28,10+D28)),0) -> 0 | O28: =OFFSET(Очки!$A$2,I28,G28+OFFSET(Очки!$A$18,0,$C$31-1)-1) -> 0 | P28: =IF(I28<H28,OFFSET(Очки!$A$20,2+H28-I28,IF(G28=1,13-H28,10+G28)),0) -> 0 | S28: =SUM(J28:R28) -> 0
A29: =RANK(S29,S$6:OFFSET(S$6,0,0,COUNTA(B$6:B$30))) -> 21 | C29: - | K29: =OFFSET(Очки!$A$2,F29,D29+OFFSET(Очки!$A$18,0,$C$31-1)-1) -> 0 | L29: =IF(F29<E29,OFFSET(Очки!$A$20,2+E29-F29,IF(D29=1,13-E29,10+D29)),0) -> 0 | O29: =OFFSET(Очки!$A$2,I29,G29+OFFSET(Очки!$A$18,0,$C$31-1)-1) -> 0 | P29: =IF(I29<H29,OFFSET(Очки!$A$20,2+H29-I29,IF(G29=1,13-H29,10+G29)),0) -> 0 | S29: =SUM(J29:R29) -> 0
A30: =RANK(S30,S$6:OFFSET(S$6,0,0,COUNTA(B$6:B$30))) -> 21 | C30: - | K30: =OFFSET(Очки!$A$2,F30,D30+OFFSET(Очки!$A$18,0,$C$31-1)-1) -> 0 | L30: =IF(F30<E30,OFFSET(Очки!$A$20,2+E30-F30,IF(D30=1,13-E30,10+D30)),0) -> 0 | O30: =OFFSET(Очки!$A$2,I30,G30+OFFSET(Очки!$A$18,0,$C$31-1)-1) -> 0 | P30: =IF(I30<H30,OFFSET(Очки!$A$20,2+H30-I30,IF(G30=1,13-H30,10+G30)),0) -> 0 | S30: =SUM(J30:R30) -> 0
B31: Всего участников | C31: =COUNTA(B6:B30) -> 22

Sheet 30.05.
A1: Лайт Лига 30.05.2017 (конфигурация 3)
A3: Место | B3: Участник | D3: 1 | G3: 2 | J3: Очки | S3: Сумма
C4: Довес | D4: группа | E4: Старт | F4: Финиш | G4: группа | H4: Старт | I4: Финиш | J4: Квала | K4: 1 | O4: 2
K5: очки | L5: обгоны | M5: время | N5: штрафы | O5: очки | P5: обгоны | Q5: время | R5: штрафы
A6: =RANK(S6,S$6:OFFSET(S$6,0,0,COUNTA(B$6:B$30))) -> 1 | B6: Пилипчук Василий | C6: - | D6: 1 | E6: 6 | F6: 4 | G6: 1 | H6: 10 | I6: 5 | K6: =OFFSET(Очки!$A$2,F6,D6+OFFSET(Очки!$A$18,0,$C$31-1)-1) -> 12 | L6: =IF(F6<E6,OFFSET(Очки!$A$20,2+E6-F6,IF(D6=1,13-E6,10+D6)),0) -> 1.9 | M6: 2.5 | O6: =OFFSET(Очки!$A$2,I6,G6+OFFSET(Очки!$A$18,0,$C$31-1)-1) -> 11 | P6: =IF(I6<H6,OFFSET(Очки!$A$20,2+H6-I6,IF(G6=1,13-H6,10+G6)),0) -> 5.7 | Q6: 1.5 | S6: =SUM(J6:R6) -> 34.6
A7: =RANK(S7,S$6:OFFSET(S$6,0,0,COUNTA(B$6:B$30))) -> 2 | B7: Григорьев Геннадий | C7: - | D7: 1 | E7: 9 | F7: 8 | G7: 1 | H7: 3 | I7: 1 | J7: 2 | K7: =OFFSET(Очки!$A$2,F7,D7+OFFSET(Очки!$A$18,0,$C$31-1)-1) -> 9.5 | L7: =IF(F7<E7,OFFSET(Очки!$A$20,2+E7-F7,IF(D7=1,13-E7,10+D7)),0) -> 1.2 | O7: =OFFSET(Очки!$A$2,I7,G7+OFFSET(Очки!$A$18,0,$C$31-1)-1) -> 15 | P7: =IF(I7<H7,OFFSET(Очки!$A$20,2+H7-I7,IF(G7=1,13-H7,10+G7)),0) -> 1.4 | S7: =SUM(J7:R7) -> 29.1
A8: =RANK(S8,S$6:OFFSET(S$6,0,0,COUNTA(B$6:B$30))) -> 3 | B8: Пархомчук Саша | C8: - | D8: 1 | E8: 1 | F8: 1 | G8: 1 | H8: 9 | I8: 8 | K8: =OFFSET(Очки!$A$2,F8,D8+OFFSET(Очки!$A$18,0,$C$31-1)-1) -> 15 | L8: =IF(F8<E8,OFFSET(Очки!$A$20,2+E8-F8,IF(D8=1,13-E8,10+D8)),0) -> 0 | M8: 2 | O8: =OFFSET(Очки!$A$2,I8,G8+OFFSET(Очки!$A$18,0,$C$31-1)-1) -> 9.5 | P8: =IF(I8<H8,OFFSET(Очки!$A$20,2+H8-I8,IF(G8=1,13-H8,10+G8)),0) -> 1.2 | S8: =SUM(J8:R8) -> 27.7
A9: =RANK(S9,S$6:OFFSET(S$6,0,0,COUNTA(B$6:B$30))) -> 4 | B9: Ярошенко Саша | C9: - | D9: 1 | E9: 2 | F9: 2 | G9: 1 | H9: 8 | I9: 7 | K9: =OFFSET(Очки!$A$2,F9,D9+OFFSET(Очки!$A$18,0,$C$31-1)-1) -> 14 | L9: =IF(F9<E9,OFFSET(Очки!$A$20,2+E9-F9,IF(D9=1,13-E9,10+D9)),0) -> 0 | M9: 1.5 | O9: =OFFSET(Очки!$A$2,I9,G9+OFFSET(Очки!$A$18,0,$C$31-1)-1) -> 10 | P9: =IF(I9<H9,OFFSET(Очки!$A$20,2+H9-I9,IF(G9=1,13-H9,10+G9)),0) -> 1.2 | S9: =SUM(J9:R9) -> 26.7
A10: =RANK(S10,S$6:OFFSET(S$6,0,0,COUNTA(B$6:B$30))) -> 5 | B10: Дарий Игорь | C10: - | D10: 1 | E10: 10 | F10: 6 | G10: 1 | H10: 5 | I10: 3 | J10: 2.5 | K10: =OFFSET(Очки!$A$2,F10,D10+OFFSET(Очки!$A$18,0,$C$31-1)-1) -> 10.5 | L10: =IF(F10<E10,OFFSET(Очки!$A$20,2+E10-F10,IF(D10=1,13-E10,10+D10)),0) -> 4.7 | O10: =OFFSET(Очки!$A$2,I10,G10+OFFSET(Очки!$A$18,0,$C$31-1)-1) -> 13 | P10: =IF(I10<H10,OFFSET(Очки!$A$20,2+H10-I10,IF(G10=1,13-H10,10+G10)),0) -> 1.7 | Q10: 1 | R10: -7 | S10: =SUM(J10:R10) -> 26.4
A11: =RANK(S11,S$6:OFFSET(S$6,0,0,COUNTA(B$6:B$30))) -> 6 | B11: Мандзюк Артур | C11: - | D11: 1 | E11: 5 | F11: 5 | G11: 1 | H11: 2 | I11: 2 | J11: 0.5 | K11: =OFFSET(Очки!$A$2,F11,D11+OFFSET(Очки!$A$18,0,$C$31-1)-1) -> 11 | L11: =IF(F11<E11,OFFSET(Очки!$A$20,2+E11-F11,IF(D11=1,13-E11,10+D11)),0) -> 0 | O11: =OFFSET(Очки!$A$2,I11,G11+OFFSET(Очки!$A$18,0,$C$31-1)-1) -> 14 | P11: =IF(I11<H11,OFFSET(Очки!$A$20,2+H11-I11,IF(G11=1,13-H11,10+G11)),0) -> 0 | S11: =SUM(J11:R11) -> 25.5
A12: =RANK(S12,S$6:OFFSET(S$6,0,0,COUNTA(B$6:B$30))) -> 7 | B12: Халецкий Евгений | C12: 7.5 | D12: 1 | E12: 3 | F12: 3 | G12: 1 | H12: 7 | I12: 9 | K12: =OFFSET(Очки!$A$2,F12,D12+OFFSET(Очки!$A$18,0,$C$31-1)-1) -> 13 | L12: =IF(F12<E12,OFFSET(Очки!$A$20,2+E12-F12,IF(D12=1,13-E12,10+D12)),0) -> 0 | M12: 1 | O12: =OFFSET(Очки!$A$2,I12,G12+OFFSET(Очки!$A$18,0,$C$31-1)-1) -> 9 | P12: =IF(I12<H12,OFFSET(Очки!$A$20,2+H12-I12,IF(G12=1,13-H12,10+G12)),0) -> 0 | Q12: 2 | S12: =SUM(J12:R12) -> 25
A13: =RANK(S13,S$6:OFFSET(S$6,0,0,COUNTA(B$6:B$30))) -> 8 | B13: Чухалекно Дима | C13: - | D13: 2 | E13: 9 | F13: 2 | G13: 2 | H13: 8 | I13: 3 | K13: =OFFSET(Очки!$A$2,F13,D13+OFFSET(Очки!$A$18,0,$C$31-1)-1) -> 8.5 | L13: =IF(F13<E13,OFFSET(Очки!$A$20,2+E13-F13,IF(D13=1,13-E13,10+D13)),0) -> 4.9 | O13: =OFFSET(Очки!$A$2,I13,G13+OFFSET(Очки!$A$18,0,$C$31-1)-1) -> 7.5 | P13: =IF(I13<H13,OFFSET(Очки!$A$20,2+H13-I13,IF(G13=1,13-H13,10+G13)),0) -> 3.5 | S13: =SUM(J13:R13) -> 24.4
A14: =RANK(S14,S$6:OFFSET(S$6,0,0,COUNTA(B$6:B$30))) -> 9 | B14: Шиленко Александр | C14: - | D14: 1 | E14: 8 | F14: 10 | G14: 1 | H14: 6 | I14: 6 | J14: 1.5 | K14: =OFFSET(Очки!$A$2,F14,D14+OFFSET(Очки!$A$18,0,$C$31-1)-1) -> 8.5 | L14: =IF(F14<E14,OFFSET(Очки!$A$20,2+E14-F14,IF(D14=1,13-E14,10+D14)),0) -> 0 | M14: 0.5 | O14: =OFFSET(Очки!$A$2,I14,G14+OFFSET(Очки!$A$18,0,$C$31-1)-1) -> 10.5 | P14: =IF(I14<H14,OFFSET(Очки!$A$20,2+H14-I14,IF(G14=1,13-H14,10+G14)),0) -> 0 | Q14: 2.5 | S14: =SUM(J14:R14) -> 23.5
A15: =RANK(S15,S$6:OFFSET(S$6,0,0,COUNTA(B$6:B$30))) -> 10 | B15: Майбродский Миша | C15: - | D15: 1 | E15: 7 | F15: 9 | G15: 1 | H15: 4 | I15: 4 | J15: 1 | K15: =OFFSET(Очки!$A$2,F15,D15+OFFSET(Очки!$A$18,0,$C$31-1)-1) -> 9 | L15: =IF(F15<E15,OFFSET(Очки!$A$20,2+E15-F15,IF(D15=1,13-E15,10+D15)),0) -> 0 | O15: =OFFSET(Очки!$A$2,I15,G15+OFFSET(Очки!$A$18,0,$C$31-1)-1) -> 12 | P15: =IF(I15<H15,OFFSET(Очки!$A$20,2+H15-I15,IF(G15=1,13-H15,10+G15)),0) -> 0 | S15: =SUM(J15:R15) -> 22
A16: =RANK(S16,S$6:OFFSET(S$6,0,0,COUNTA(B$6:B$30))) -> 11 | B16: Муляр Андрей / Mular Andrey | C16: - | D16: 2 | E16: 6 | F16: 3 | G16: 2 | H16: 7 | I16: 2 | K16: =OFFSET(Очки!$A$2,F16,D16+OFFSET(Очки!$A$18,0,$C$31-1)-1) -> 7.5 | L16: =IF(F16<E16,OFFSET(Очки!$A$20,2+E16-F16,IF(D16=1,13-E16,10+D16)),0) -> 2.1 | O16: =OFFSET(Очки!$A$2,I16,G16+OFFSET(Очки!$A$18,0,$C$31-1)-1) -> 8.5 | P16: =IF(I16<H16,OFFSET(Очки!$A$20,2+H16-I16,IF(G16=1,13-H16,10+G16)),0) -> 3.5 | S16: =SUM(J16:R16) -> 21.6
A17: =RANK(S17,S$6:OFFSET(S$6,0,0,COUNTA(B$6:B$30))) -> 12 | B17: Морозенко Сергей | C17: 10 | D17: 2 | E17: 3 | F17: 1 | G17: 2 | H17: 9 | I17: 4 | K17: =OFFSET(Очки!$A$2,F17,D17+OFFSET(Очки!$A$18,0,$C$31-1)-1) -> 9.5 | L17: =IF(F17<E17,OFFSET(Очки!$A$20,2+E17-F17,IF(D17=1,13-E17,10+D17)),0) -> 1.4 | O17: =OFFSET(Очки!$A$2,I17,G17+OFFSET(Очки!$A$18,0,$C$31-1)-1) -> 6.5 | P17: =IF(I17<H17,OFFSET(Очки!$A$20,2+H17-I17,IF(G17=1,13-H17,10+G17)),0) -> 3.5 | Q17: 0.5 | R17: -2 | S17: =SUM(J17:R17) -> 19.4
A18: =RANK(S18,S$6:OFFSET(S$6,0,0,COUNTA(B$6:B$30))) -> 13 | B18: Сомок Денис | C18: 7.5 | D18: 1 | E18: 4 | F18: 7 | G18: 1 | H18: 1 | I18: 9 | K18: =OFFSET(Очки!$A$2,F18,D18+OFFSET(Очки!$A$18,0,$C$31-1)-1) -> 10 | L18: =IF(F18<E18,OFFSET(Очки!$A$20,2+E18-F18,IF(D18=1,13-E18,10+D18)),0) -> 0 | O18: =OFFSET(Очки!$A$2,I18,G18+OFFSET(Очки!$A$18,0,$C$31-1)-1) -> 9 | P18: =IF(I18<H18,OFFSET(Очки!$A$20,2+H18-I18,IF(G18=1,13-H18,10+G18)),0) -> 0 | S18: =SUM(J18:R18) -> 19
A19: =RANK(S19,S$6:OFFSET(S$6,0,0,COUNTA(B$6:B$30))) -> 14 | B19: Строна Илона | C19: - | D19: 2 | E19: 5 | F19: 7 | G19: 2 | H19: 3 | I19: 1 | K19: =OFFSET(Очки!$A$2,F19,D19+OFFSET(Очки!$A$18,0,$C$31-1)-1) -> 4.5 | L19: =IF(F19<E19,OFFSET(Очки!$A$20,2+E19-F19,IF(D19=1,13-E19,10+D19)),0) -> 0 | O19: =OFFSET(Очки!$A$2,I19,G19+OFFSET(Очки!$A$18,0,$C$31-1)-1) -> 9.5 | P19: =IF(I19<H19,OFFSET(Очки!$A$20,2+H19-I19,IF(G19=1,13-H19,10+G19)),0) -> 1.4 | S19: =SUM(J19:R19) -> 15.4
A20: =RANK(S20,S$6:OFFSET(S$6,0,0,COUNTA(B$6:B$30))) -> 15 | B20: Потапов Сергей | C20: - | D20: 2 | E20: 7 | F20: 5 | G20: 2 | H20: 4 | I20: 3 | K20: =OFFSET(Очки!$A$2,F20,D20+OFFSET(Очки!$A$18,0,$C$31-1)-1) -> 5.5 | L20: =IF(F20<E20,OFFSET(Очки!$A$20,2+E20-F20,IF(D20=1,13-E20,10+D20)),0) -> 1.4 | O20: =OFFSET(Очки!$A$2,I20,G20+OFFSET(Очки!$A$18,0,$C$31-1)-1) -> 7.5 | P20: =IF(I20<H20,OFFSET(Очки!$A$20,2+H20-I20,IF(G20=1,13-H20,10+G20)),0) -> 0.7 | R20: -4 | S20: =SUM(J20:R20) -> 11.1
A21: =RANK(S21,S$6:OFFSET(S$6,0,0,COUNTA(B$6:B$30))) -> 16 | B21: Сорокин Сергей | C21: - | D21: 2 | E21: 8 | F21: 6 | G21: 2 | H21: 5 | I21: 9 | K21: =OFFSET(Очки!$A$2,F21,D21+OFFSET(Очки!$A$18,0,$C$31-1)-1) -> 5 | L21: =IF(F21<E21,OFFSET(Очки!$A$20,2+E21-F21,IF(D21=1,13-E21,10+D21)),0) -> 1.4 | O21: =OFFSET(Очки!$A$2,I21,G21+OFFSET(Очки!$A$18,0,$C$31-1)-1) -> 3.5 | P21: =IF(I21<H21,OFFSET(Очки!$A$20,2+H21-I21,IF(G21=1,13-H21,10+G21)),0) -> 0 | S21: =SUM(J21:R21) -> 9.9
A22: =RANK(S22,S$6:OFFSET(S$6,0,0,COUNTA(B$6:B$30))) -> 17 | B22: Чайка Кирилл | C22: - | D22: 2 | E22: 1 | F22: 8 | G22: 2 | H22: 1 | I22: 7 | K22: =OFFSET(Очки!$A$2,F22,D22+OFFSET(Очки!$A$18,0,$C$31-1)-1) -> 4 | L22: =IF(F22<E22,OFFSET(Очки!$A$20,2+E22-F22,IF(D22=1,13-E22,10+D22)),0) -> 0 | O22: =OFFSET(Очки!$A$2,I22,G22+OFFSET(Очки!$A$18,0,$C$31-1)-1) -> 4.5 | P22: =IF(I22<H22,OFFSET(Очки!$A$20,2+H22-I22,IF(G22=1,13-H22,10+G22)),0) -> 0 | S22: =SUM(J22:R22) -> 8.5
A23: =RANK(S23,S$6:OFFSET(S$6,0,0,COUNTA(B$6:B$30))) -> 18 | B23: Евстратенко Денис | C23: - | D23: 2 | E23: 2 | F23: 9 | G23: 2 | H23: 2 | I23: 8 | K23: =OFFSET(Очки!$A$2,F23,D23+OFFSET(Очки!$A$18,0,$C$31-1)-1) -> 3.5 | L23: =IF(F23<E23,OFFSET(Очки!$A$20,2+E23-F23,IF(D23=1,13-E23,10+D23)),0) -> 0 | O23: =OFFSET(Очки!$A$2,I23,G23+OFFSET(Очки!$A$18,0,$C$31-1)-1) -> 4 | P23: =IF(I23<H23,OFFSET(Очки!$A$20,2+H23-I23,IF(G23=1,13-H23,10+G23)),0) -> 0 | S23: =SUM(J23:R23) -> 7.5
A24: =RANK(S24,S$6:OFFSET(S$6,0,0,COUNTA(B$6:B$30))) -> 19 | B24: Фаль Александр / Fal Alexandr | C24: - | D24: 2 | E24: 4 | F24: 3 | G24: 2 | H24: 6 | I24: 6 | K24: =OFFSET(Очки!$A$2,F24,D24+OFFSET(Очки!$A$18,0,$C$31-1)-1) -> 7.5 | L24: =IF(F24<E24,OFFSET(Очки!$A$20,2+E24-F24,IF(D24=1,13-E24,10+D24)),0) -> 0.7 | N24: -3 | O24: =OFFSET(Очки!$A$2,I24,G24+OFFSET(Очки!$A$18,0,$C$31-1)-1) -> 5 | P24: =IF(I24<H24,OFFSET(Очки!$A$20,2+H24-I24,IF(G24=1,13-H24,10+G24)),0) -> 0 | R24: -4 | S24: =SUM(J24:R24) -> 6.2
A25: =RANK(S25,S$6:OFFSET(S$6,0,0,COUNTA(B$6:B$30))) -> #N/A | C25: - | K25: =OFFSET(Очки!$A$2,F25,D25+OFFSET(Очки!$A$18,0,$C$31-1)-1) -> 0 | L25: =IF(F25<E25,OFFSET(Очки!$A$20,2+E25-F25,IF(D25=1,13-E25,10+D25)),0) -> 0 | O25: =OFFSET(Очки!$A$2,I25,G25+OFFSET(Очки!$A$18,0,$C$31-1)-1) -> 0 | P25: =IF(I25<H25,OFFSET(Очки!$A$20,2+H25-I25,IF(G25=1,13-H25,10+G25)),0) -> 0 | S25: =SUM(J25:R25) -> 0
A26: =RANK(S26,S$6:OFFSET(S$6,0,0,COUNTA(B$6:B$30))) -> #N/A | C26: - | K26: =OFFSET(Очки!$A$2,F26,D26+OFFSET(Очки!$A$18,0,$C$31-1)-1) -> 0 | L26: =IF(F26<E26,OFFSET(Очки!$A$20,2+E26-F26,IF(D26=1,13-E26,10+D26)),0) -> 0 | O26: =OFFSET(Очки!$A$2,I26,G26+OFFSET(Очки!$A$18,0,$C$31-1)-1) -> 0 | P26: =IF(I26<H26,OFFSET(Очки!$A$20,2+H26-I26,IF(G26=1,13-H26,10+G26)),0) -> 0 | S26: =SUM(J26:R26) -> 0
A27: =RANK(S27,S$6:OFFSET(S$6,0,0,COUNTA(B$6:B$30))) -> #N/A | C27: - | K27: =OFFSET(Очки!$A$2,F27,D27+OFFSET(Очки!$A$18,0,$C$31-1)-1) -> 0 | L27: =IF(F27<E27,OFFSET(Очки!$A$20,2+E27-F27,IF(D27=1,13-E27,10+D27)),0) -> 0 | O27: =OFFSET(Очки!$A$2,I27,G27+OFFSET(Очки!$A$18,0,$C$31-1)-1) -> 0 | P27: =IF(I27<H27,OFFSET(Очки!$A$20,2+H27-I27,IF(G27=1,13-H27,10+G27)),0) -> 0 | S27: =SUM(J27:R27) -> 0
A28: =RANK(S28,S$6:OFFSET(S$6,0,0,COUNTA(B$6:B$30))) -> #N/A | C28: - | K28: =OFFSET(Очки!$A$2,F28,D28+OFFSET(Очки!$A$18,0,$C$31-1)-1) -> 0 | L28: =IF(F28<E28,OFFSET(Очки!$A$20,2+E28-F28,IF(D28=1,13-E28,10+D28)),0) -> 0 | O28: =OFFSET(Очки!$A$2,I28,G28+OFFSET(Очки!$A$18,0,$C$31-1)-1) -> 0 | P28: =IF(I28<H28,OFFSET(Очки!$A$20,2+H28-I28,IF(G28=1,13-H28,10+G28)),0) -> 0 | S28: =SUM(J28:R28) -> 0
A29: =RANK(S29,S$6:OFFSET(S$6,0,0,COUNTA(B$6:B$30))) -> #N/A | C29: - | K29: =OFFSET(Очки!$A$2,F29,D29+OFFSET(Очки!$A$18,0,$C$31-1)-1) -> 0 | L29: =IF(F29<E29,OFFSET(Очки!$A$20,2+E29-F29,IF(D29=1,13-E29,10+D29)),0) -> 0 | O29: =OFFSET(Очки!$A$2,I29,G29+OFFSET(Очки!$A$18,0,$C$31-1)-1) -> 0 | P29: =IF(I29<H29,OFFSET(Очки!$A$20,2+H29-I29,IF(G29=1,13-H29,10+G29)),0) -> 0 | S29: =SUM(J29:R29) -> 0
A30: =RANK(S30,S$6:OFFSET(S$6,0,0,COUNTA(B$6:B$30))) -> #N/A | C30: - | K30: =OFFSET(Очки!$A$2,F30,D30+OFFSET(Очки!$A$18,0,$C$31-1)-1) -> 0 | L30: =IF(F30<E30,OFFSET(Очки!$A$20,2+E30-F30,IF(D30=1,13-E30,10+D30)),0) -> 0 | O30: =OFFSET(Очки!$A$2,I30,G30+OFFSET(Очки!$A$18,0,$C$31-1)-1) -> 0 | P30: =IF(I30<H30,OFFSET(Очки!$A$20,2+H30-I30,IF(G30=1,13-H30,10+G30)),0) -> 0 | S30: =SUM(J30:R30) -> 0
B31: Всего участников | C31: =COUNTA(B6:B30) -> 19

Sheet 06.06
A1: Лайт Лига 06.06.2017 (конфигурация 10R)
A3: Место | B3: Участник | D3: 1 | G3: 2 | J3: Очки | S3: Сумма
C4: Довес | D4: группа | E4: Старт | F4: Финиш | G4: группа | H4: Старт | I4: Финиш | J4: Квала | K4: 1 | O4: 2
K5: очки | L5: обгоны | M5: время | N5: штрафы | O5: очки | P5: обгоны | Q5: время | R5: штрафы
A6: =RANK(S6,S$6:OFFSET(S$6,0,0,COUNTA(B$6:B$30))) -> 1 | B6: Дымко Вячеслав | C6: - | D6: 1 | E6: 6 | F6: 2 | G6: 1 | H6: 3 | I6: 3 | J6: 1.5 | K6: =OFFSET(Очки!$A$2,F6,D6+OFFSET(Очки!$A$18,0,$C$31-1)-1) -> 14 | L6: =IF(F6<E6,OFFSET(Очки!$A$20,2+E6-F6,IF(D6=1,13-E6,10+D6)),0) -> 3.4 | O6: =OFFSET(Очки!$A$2,I6,G6+OFFSET(Очки!$A$18,0,$C$31-1)-1) -> 13 | P6: =IF(I6<H6,OFFSET(Очки!$A$20,2+H6-I6,IF(G6=1,13-H6,10+G6)),0) -> 0 | Q6: 2 | S6: =SUM(J6:R6) -> 33.9
A7: =RANK(S7,S$6:OFFSET(S$6,0,0,COUNTA(B$6:B$30))) -> 2 | B7: Дарий Игорь | C7: - | D7: 1 | E7: 8 | F7: 7 | G7: 1 | H7: 8 | I7: 7 | J7: 2.5 | K7: =OFFSET(Очки!$A$2,F7,D7+OFFSET(Очки!$A$18,0,$C$31-1)-1) -> 10 | L7: =IF(F7<E7,OFFSET(Очки!$A$20,2+E7-F7,IF(D7=1,13-E7,10+D7)),0) -> 1.2 | M7: 2.5 | O7: =OFFSET(Очки!$A$2,I7,G7+OFFSET(Очки!$A$18,0,$C$31-1)-1) -> 10 | P7: =IF(I7<H7,OFFSET(Очки!$A$20,2+H7-I7,IF(G7=1,13-H7,10+G7)),0) -> 1.2 | S7: =SUM(J7:R7) -> 27.4
A8: =RANK(S8,S$6:OFFSET(S$6,0,0,COUNTA(B$6:B$30))) -> 3 | B8: Потапов Сергей | C8: 12.5 | D8: 1 | E8: 1 | F8: 1 | G8: 1 | H8: 5 | I8: 5 | K8: =OFFSET(Очки!$A$2,F8,D8+OFFSET(Очки!$A$18,0,$C$31-1)-1) -> 15 | L8: =IF(F8<E8,OFFSET(Очки!$A$20,2+E8-F8,IF(D8=1,13-E8,10+D8)),0) -> 0 | M8: 1 | O8: =OFFSET(Очки!$A$2,I8,G8+OFFSET(Очки!$A$18,0,$C$31-1)-1) -> 11 | P8: =IF(I8<H8,OFFSET(Очки!$A$20,2+H8-I8,IF(G8=1,13-H8,10+G8)),0) -> 0 | S8: =SUM(J8:R8) -> 27
A9: =RANK(S9,S$6:OFFSET(S$6,0,0,COUNTA(B$6:B$30))) -> 4 | B9: Сомок Денис | C9: 5 | D9: 1 | E9: 3 | F9: 8 | G9: 1 | H9: 2 | I9: 1 | K9: =OFFSET(Очки!$A$2,F9,D9+OFFSET(Очки!$A$18,0,$C$31-1)-1) -> 9.5 | L9: =IF(F9<E9,OFFSET(Очки!$A$20,2+E9-F9,IF(D9=1,13-E9,10+D9)),0) -> 0 | O9: =OFFSET(Очки!$A$2,I9,G9+OFFSET(Очки!$A$18,0,$C$31-1)-1) -> 15 | P9: =IF(I9<H9,OFFSET(Очки!$A$20,2+H9-I9,IF(G9=1,13-H9,10+G9)),0) -> 0.7 | Q9: 1 | S9: =SUM(J9:R9) -> 26.2
A10: =RANK(S10,S$6:OFFSET(S$6,0,0,COUNTA(B$6:B$30))) -> 5 | B10: Шиленко Александр | C10: - | D10: 1 | E10: 7 | F10: 6 | G10: 1 | H10: 6 | I10: 8 | J10: 2 | K10: =OFFSET(Очки!$A$2,F10,D10+OFFSET(Очки!$A$18,0,$C$31-1)-1) -> 10.5 | L10: =IF(F10<E10,OFFSET(Очки!$A$20,2+E10-F10,IF(D10=1,13-E10,10+D10)),0) -> 1.1 | M10: 1.5 | O10: =OFFSET(Очки!$A$2,I10,G10+OFFSET(Очки!$A$18,0,$C$31-1)-1) -> 9.5 | P10: =IF(I10<H10,OFFSET(Очки!$A$20,2+H10-I10,IF(G10=1,13-H10,10+G10)),0) -> 0 | Q10: 1.5 | S10: =SUM(J10:R10) -> 26.1
A11: =RANK(S11,S$6:OFFSET(S$6,0,0,COUNTA(B$6:B$30))) -> 6 | B11: Морозенко Сергей | C11: 10 | D11: 1 | E11: 5 | F11: 5 | G11: 1 | H11: 4 | I11: 4 | J11: 1 | K11: =OFFSET(Очки!$A$2,F11,D11+OFFSET(Очки!$A$18,0,$C$31-1)-1) -> 11 | L11: =IF(F11<E11,OFFSET(Очки!$A$20,2+E11-F11,IF(D11=1,13-E11,10+D11)),0) -> 0 | M11: 0.5 | O11: =OFFSET(Очки!$A$2,I11,G11+OFFSET(Очки!$A$18,0,$C$31-1)-1) -> 12 | P11: =IF(I11<H11,OFFSET(Очки!$A$20,2+H11-I11,IF(G11=1,13-H11,10+G11)),0) -> 0 | Q11: 0.5 | S11: =SUM(J11:R11) -> 25
A12: =RANK(S12,S$6:OFFSET(S$6,0,0,COUNTA(B$6:B$30))) -> 6 | B12: Булавинов Андрей | C12: 5 | D12: 1 | E12: 2 | F12: 3 | G12: 2 | H12: 8 | I12: 3 | K12: =OFFSET(Очки!$A$2,F12,D12+OFFSET(Очки!$A$18,0,$C$31-1)-1) -> 13 | L12: =IF(F12<E12,OFFSET(Очки!$A$20,2+E12-F12,IF(D12=1,13-E12,10+D12)),0) -> 0 | O12: =OFFSET(Очки!$A$2,I12,G12+OFFSET(Очки!$A$18,0,$C$31-1)-1) -> 8.5 | P12: =IF(I12<H12,OFFSET(Очки!$A$20,2+H12-I12,IF(G12=1,13-H12,10+G12)),0) -> 3.5 | S12: =SUM(J12:R12) -> 25
A13: =RANK(S13,S$6:OFFSET(S$6,0,0,COUNTA(B$6:B$30))) -> 8 | B13: Синани Влад | C13: - | D13: 2 | E13: 8 | F13: 1 | G13: 2 | H13: 6 | I13: 4 | K13: =OFFSET(Очки!$A$2,F13,D13+OFFSET(Очки!$A$18,0,$C$31-1)-1) -> 10.5 | L13: =IF(F13<E13,OFFSET(Очки!$A$20,2+E13-F13,IF(D13=1,13-E13,10+D13)),0) -> 4.9 | O13: =OFFSET(Очки!$A$2,I13,G13+OFFSET(Очки!$A$18,0,$C$31-1)-1) -> 7.5 | P13: =IF(I13<H13,OFFSET(Очки!$A$20,2+H13-I13,IF(G13=1,13-H13,10+G13)),0) -> 1.4 | S13: =SUM(J13:R13) -> 24.3
A14: =RANK(S14,S$6:OFFSET(S$6,0,0,COUNTA(B$6:B$30))) -> 9 | B14: Сорокин Сергей | C14: - | D14: 2 | E14: 7 | F14: 7 | G14: 1 | H14: 7 | I14: 5 | K14: =OFFSET(Очки!$A$2,F14,D14+OFFSET(Очки!$A$18,0,$C$31-1)-1) -> 5.5 | L14: =IF(F14<E14,OFFSET(Очки!$A$20,2+E14-F14,IF(D14=1,13-E14,10+D14)),0) -> 0 | M14: 2 | O14: =OFFSET(Очки!$A$2,I14,G14+OFFSET(Очки!$A$18,0,$C$31-1)-1) -> 11 | P14: =IF(I14<H14,OFFSET(Очки!$A$20,2+H14-I14,IF(G14=1,13-H14,10+G14)),0) -> 2.1 | Q14: 2.5 | S14: =SUM(J14:R14) -> 23.1
A15: =RANK(S15,S$6:OFFSET(S$6,0,0,COUNTA(B$6:B$30))) -> 10 | B15: Муляр Андрей | C15: - | D15: 1 | E15: 4 | F15: 4 | G15: 1 | H15: 1 | I15: 2 | J15: 0.5 | K15: =OFFSET(Очки!$A$2,F15,D15+OFFSET(Очки!$A$18,0,$C$31-1)-1) -> 12 | L15: =IF(F15<E15,OFFSET(Очки!$A$20,2+E15-F15,IF(D15=1,13-E15,10+D15)),0) -> 0 | O15: =OFFSET(Очки!$A$2,I15,G15+OFFSET(Очки!$A$18,0,$C$31-1)-1) -> 14 | P15: =IF(I15<H15,OFFSET(Очки!$A$20,2+H15-I15,IF(G15=1,13-H15,10+G15)),0) -> 0 | R15: -4 | S15: =SUM(J15:R15) -> 22.5
A16: =RANK(S16,S$6:OFFSET(S$6,0,0,COUNTA(B$6:B$30))) -> 11 | B16: Бутковский Денис | C16: - | D16: 2 | E16: 4 | F16: 4 | G16: 2 | H16: 2 | I16: 1 | K16: =OFFSET(Очки!$A$2,F16,D16+OFFSET(Очки!$A$18,0,$C$31-1)-1) -> 7.5 | L16: =IF(F16<E16,OFFSET(Очки!$A$20,2+E16-F16,IF(D16=1,13-E16,10+D16)),0) -> 0 | O16: =OFFSET(Очки!$A$2,I16,G16+OFFSET(Очки!$A$18,0,$C$31-1)-1) -> 10.5 | P16: =IF(I16<H16,OFFSET(Очки!$A$20,2+H16-I16,IF(G16=1,13-H16,10+G16)),0) -> 0.7 | S16: =SUM(J16:R16) -> 18.7
A17: =RANK(S17,S$6:OFFSET(S$6,0,0,COUNTA(B$6:B$30))) -> 12 | B17: Банников Денис | C17: 12.5 | D17: 2 | E17: 2 | F17: 2 | G17: 2 | H17: 3 | I17: 6 | K17: =OFFSET(Очки!$A$2,F17,D17+OFFSET(Очки!$A$18,0,$C$31-1)-1) -> 9.5 | L17: =IF(F17<E17,OFFSET(Очки!$A$20,2+E17-F17,IF(D17=1,13-E17,10+D17)),0) -> 0 | O17: =OFFSET(Очки!$A$2,I17,G17+OFFSET(Очки!$A$18,0,$C$31-1)-1) -> 6 | P17: =IF(I17<H17,OFFSET(Очки!$A$20,2+H17-I17,IF(G17=1,13-H17,10+G17)),0) -> 0 | S17: =SUM(J17:R17) -> 15.5
A18: =RANK(S18,S$6:OFFSET(S$6,0,0,COUNTA(B$6:B$30))) -> 12 | B18: Михайлик Михаил | C18: 17.5 | D18: 2 | E18: 5 | F18: 6 | G18: 2 | H18: 1 | I18: 2 | K18: =OFFSET(Очки!$A$2,F18,D18+OFFSET(Очки!$A$18,0,$C$31-1)-1) -> 6 | L18: =IF(F18<E18,OFFSET(Очки!$A$20,2+E18-F18,IF(D18=1,13-E18,10+D18)),0) -> 0 | O18: =OFFSET(Очки!$A$2,I18,G18+OFFSET(Очки!$A$18,0,$C$31-1)-1) -> 9.5 | P18: =IF(I18<H18,OFFSET(Очки!$A$20,2+H18-I18,IF(G18=1,13-H18,10+G18)),0) -> 0 | S18: =SUM(J18:R18) -> 15.5
A19: =RANK(S19,S$6:OFFSET(S$6,0,0,COUNTA(B$6:B$30))) -> 14 | B19: Морозов Андрей | C19: - | D19: 2 | E19: 1 | F19: 5 | G19: 2 | H19: 5 | I19: 5 | K19: =OFFSET(Очки!$A$2,F19,D19+OFFSET(Очки!$A$18,0,$C$31-1)-1) -> 6.5 | L19: =IF(F19<E19,OFFSET(Очки!$A$20,2+E19-F19,IF(D19=1,13-E19,10+D19)),0) -> 0 | N19: -2 | O19: =OFFSET(Очки!$A$2,I19,G19+OFFSET(Очки!$A$18,0,$C$31-1)-1) -> 6.5 | P19: =IF(I19<H19,OFFSET(Очки!$A$20,2+H19-I19,IF(G19=1,13-H19,10+G19)),0) -> 0 | S19: =SUM(J19:R19) -> 11
A20: =RANK(S20,S$6:OFFSET(S$6,0,0,COUNTA(B$6:B$30))) -> 15 | B20: Евстратенко Денис | C20: - | D20: 2 | E20: 3 | F20: 8 | G20: 2 | H20: 4 | I20: 8 | K20: =OFFSET(Очки!$A$2,F20,D20+OFFSET(Очки!$A$18,0,$C$31-1)-1) -> 5 | L20: =IF(F20<E20,OFFSET(Очки!$A$20,2+E20-F20,IF(D20=1,13-E20,10+D20)),0) -> 0 | O20: =OFFSET(Очки!$A$2,I20,G20+OFFSET(Очки!$A$18,0,$C$31-1)-1) -> 5 | P20: =IF(I20<H20,OFFSET(Очки!$A$20,2+H20-I20,IF(G20=1,13-H20,10+G20)),0) -> 0 | S20: =SUM(J20:R20) -> 10
A21: =RANK(S21,S$6:OFFSET(S$6,0,0,COUNTA(B$6:B$30))) -> 16 | B21: Майбродский Миша | C21: 10 | D21: 2 | E21: 6 | F21: 2 | G21: 2 | H21: 7 | I21: 7 | K21: =OFFSET(Очки!$A$2,F21,D21+OFFSET(Очки!$A$18,0,$C$31-1)-1) -> 9.5 | L21: =IF(F21<E21,OFFSET(Очки!$A$20,2+E21-F21,IF(D21=1,13-E21,10+D21)),0) -> 2.8 | N21: =-4-4 -> -8 | O21: =OFFSET(Очки!$A$2,I21,G21+OFFSET(Очки!$A$18,0,$C$31-1)-1) -> 5.5 | P21: =IF(I21<H21,OFFSET(Очки!$A$20,2+H21-I21,IF(G21=1,13-H21,10+G21)),0) -> 0 | S21: =SUM(J21:R21) -> 9.8
A22: =RANK(S22,S$6:OFFSET(S$6,0,0,COUNTA(B$6:B$30))) -> #N/A | C22: - | K22: =OFFSET(Очки!$A$2,F22,D22+OFFSET(Очки!$A$18,0,$C$31-1)-1) -> 0 | L22: =IF(F22<E22,OFFSET(Очки!$A$20,2+E22-F22,IF(D22=1,13-E22,10+D22)),0) -> 0 | O22: =OFFSET(Очки!$A$2,I22,G22+OFFSET(Очки!$A$18,0,$C$31-1)-1) -> 0 | P22: =IF(I22<H22,OFFSET(Очки!$A$20,2+H22-I22,IF(G22=1,13-H22,10+G22)),0) -> 0 | S22: =SUM(J22:R22) -> 0
A23: =RANK(S23,S$6:OFFSET(S$6,0,0,COUNTA(B$6:B$30))) -> #N/A | C23: - | K23: =OFFSET(Очки!$A$2,F23,D23+OFFSET(Очки!$A$18,0,$C$31-1)-1) -> 0 | L23: =IF(F23<E23,OFFSET(Очки!$A$20,2+E23-F23,IF(D23=1,13-E23,10+D23)),0) -> 0 | O23: =OFFSET(Очки!$A$2,I23,G23+OFFSET(Очки!$A$18,0,$C$31-1)-1) -> 0 | P23: =IF(I23<H23,OFFSET(Очки!$A$20,2+H23-I23,IF(G23=1,13-H23,10+G23)),0) -> 0 | S23: =SUM(J23:R23) -> 0
A24: =RANK(S24,S$6:OFFSET(S$6,0,0,COUNTA(B$6:B$30))) -> #N/A | C24: - | K24: =OFFSET(Очки!$A$2,F24,D24+OFFSET(Очки!$A$18,0,$C$31-1)-1) -> 0 | L24: =IF(F24<E24,OFFSET(Очки!$A$20,2+E24-F24,IF(D24=1,13-E24,10+D24)),0) -> 0 | O24: =OFFSET(Очки!$A$2,I24,G24+OFFSET(Очки!$A$18,0,$C$31-1)-1) -> 0 | P24: =IF(I24<H24,OFFSET(Очки!$A$20,2+H24-I24,IF(G24=1,13-H24,10+G24)),0) -> 0 | S24: =SUM(J24:R24) -> 0
A25: =RANK(S25,S$6:OFFSET(S$6,0,0,COUNTA(B$6:B$30))) -> #N/A | C25: - | K25: =OFFSET(Очки!$A$2,F25,D25+OFFSET(Очки!$A$18,0,$C$31-1)-1) -> 0 | L25: =IF(F25<E25,OFFSET(Очки!$A$20,2+E25-F25,IF(D25=1,13-E25,10+D25)),0) -> 0 | O25: =OFFSET(Очки!$A$2,I25,G25+OFFSET(Очки!$A$18,0,$C$31-1)-1) -> 0 | P25: =IF(I25<H25,OFFSET(Очки!$A$20,2+H25-I25,IF(G25=1,13-H25,10+G25)),0) -> 0 | S25: =SUM(J25:R25) -> 0
A26: =RANK(S26,S$6:OFFSET(S$6,0,0,COUNTA(B$6:B$30))) -> #N/A | C26: - | K26: =OFFSET(Очки!$A$2,F26,D26+OFFSET(Очки!$A$18,0,$C$31-1)-1) -> 0 | L26: =IF(F26<E26,OFFSET(Очки!$A$20,2+E26-F26,IF(D26=1,13-E26,10+D26)),0) -> 0 | O26: =OFFSET(Очки!$A$2,I26,G26+OFFSET(Очки!$A$18,0,$C$31-1)-1) -> 0 | P26: =IF(I26<H26,OFFSET(Очки!$A$20,2+H26-I26,IF(G26=1,13-H26,10+G26)),0) -> 0 | S26: =SUM(J26:R26) -> 0
A27: =RANK(S27,S$6:OFFSET(S$6,0,0,COUNTA(B$6:B$30))) -> #N/A | C27: - | K27: =OFFSET(Очки!$A$2,F27,D27+OFFSET(Очки!$A$18,0,$C$31-1)-1) -> 0 | L27: =IF(F27<E27,OFFSET(Очки!$A$20,2+E27-F27,IF(D27=1,13-E27,10+D27)),0) -> 0 | O27: =OFFSET(Очки!$A$2,I27,G27+OFFSET(Очки!$A$18,0,$C$31-1)-1) -> 0 | P27: =IF(I27<H27,OFFSET(Очки!$A$20,2+H27-I27,IF(G27=1,13-H27,10+G27)),0) -> 0 | S27: =SUM(J27:R27) -> 0
A28: =RANK(S28,S$6:OFFSET(S$6,0,0,COUNTA(B$6:B$30))) -> #N/A | C28: - | K28: =OFFSET(Очки!$A$2,F28,D28+OFFSET(Очки!$A$18,0,$C$31-1)-1) -> 0 | L28: =IF(F28<E28,OFFSET(Очки!$A$20,2+E28-F28,IF(D28=1,13-E28,10+D28)),0) -> 0 | O28: =OFFSET(Очки!$A$2,I28,G28+OFFSET(Очки!$A$18,0,$C$31-1)-1) -> 0 | P28: =IF(I28<H28,OFFSET(Очки!$A$20,2+H28-I28,IF(G28=1,13-H28,10+G28)),0) -> 0 | S28: =SUM(J28:R28) -> 0
A29: =RANK(S29,S$6:OFFSET(S$6,0,0,COUNTA(B$6:B$30))) -> #N/A | C29: - | K29: =OFFSET(Очки!$A$2,F29,D29+OFFSET(Очки!$A$18,0,$C$31-1)-1) -> 0 | L29: =IF(F29<E29,OFFSET(Очки!$A$20,2+E29-F29,IF(D29=1,13-E29,10+D29)),0) -> 0 | O29: =OFFSET(Очки!$A$2,I29,G29+OFFSET(Очки!$A$18,0,$C$31-1)-1) -> 0 | P29: =IF(I29<H29,OFFSET(Очки!$A$20,2+H29-I29,IF(G29=1,13-H29,10+G29)),0) -> 0 | S29: =SUM(J29:R29) -> 0
A30: =RANK(S30,S$6:OFFSET(S$6,0,0,COUNTA(B$6:B$30))) -> #N/A | C30: - | K30: =OFFSET(Очки!$A$2,F30,D30+OFFSET(Очки!$A$18,0,$C$31-1)-1) -> 0 | L30: =IF(F30<E30,OFFSET(Очки!$A$20,2+E30-F30,IF(D30=1,13-E30,10+D30)),0) -> 0 | O30: =OFFSET(Очки!$A$2,I30,G30+OFFSET(Очки!$A$18,0,$C$31-1)-1) -> 0 | P30: =IF(I30<H30,OFFSET(Очки!$A$20,2+H30-I30,IF(G30=1,13-H30,10+G30)),0) -> 0 | S30: =SUM(J30:R30) -> 0
B31: Всего участников | C31: =COUNTA(B6:B30) -> 16

Sheet 13.06
A1: Лайт Лига 13.06.2017 (конфигурация 10)
A3: Место | B3: Участник | D3: 1 | G3: 2 | J3: Очки | S3: Сумма
C4: Довес | D4: группа | E4: Старт | F4: Финиш | G4: группа | H4: Старт | I4: Финиш | J4: Квала | K4: 1 | O4: 2
K5: очки | L5: обгоны | M5: время | N5: штрафы | O5: очки | P5: обгоны | Q5: время | R5: штрафы
A6: =RANK(S6,S$6:OFFSET(S$6,0,0,COUNTA(B$6:B$17))) -> 1 | B6: Чухаленко Дима | C6: - | D6: 1 | E6: 8 | F6: 3 | G6: 1 | H6: 8 | I6: 1 | J6: 1 | K6: =OFFSET(Очки!$A$2,F6,D6+OFFSET(Очки!$A$18,0,$C$18-1)-1) -> 13 | L6: =IF(F6<E6,OFFSET(Очки!$A$20,2+E6-F6,IF(D6=1,13-E6,10+D6)),0) -> 5 | M6: 1 | O6: =OFFSET(Очки!$A$2,I6,G6+OFFSET(Очки!$A$18,0,$C$18-1)-1) -> 15 | P6: =IF(I6<H6,OFFSET(Очки!$A$20,2+H6-I6,IF(G6=1,13-H6,10+G6)),0) -> 6.4 | Q6: 2.5 | S6: =SUM(J6:R6) -> 43.9
A7: =RANK(S7,S$6:OFFSET(S$6,0,0,COUNTA(B$6:B$17))) -> 2 | B7: Морозенко Сергей | C7: 10 | D7: 1 | E7: 9 | F7: 2 | G7: 1 | H7: 6 | I7: 3 | J7: 1.5 | K7: =OFFSET(Очки!$A$2,F7,D7+OFFSET(Очки!$A$18,0,$C$18-1)-1) -> 14 | L7: =IF(F7<E7,OFFSET(Очки!$A$20,2+E7-F7,IF(D7=1,13-E7,10+D7)),0) -> 6.9 | O7: =OFFSET(Очки!$A$2,I7,G7+OFFSET(Очки!$A$18,0,$C$18-1)-1) -> 13 | P7: =IF(I7<H7,OFFSET(Очки!$A$20,2+H7-I7,IF(G7=1,13-H7,10+G7)),0) -> 2.7 | Q7: 1.5 | S7: =SUM(J7:R7) -> 39.6
A8: =RANK(S8,S$6:OFFSET(S$6,0,0,COUNTA(B$6:B$17))) -> 3 | B8: Дарий Игорь | C8: - | D8: 1 | E8: 11 | F8: 6 | G8: 1 | H8: 11 | I8: 6 | J8: 2.5 | K8: =OFFSET(Очки!$A$2,F8,D8+OFFSET(Очки!$A$18,0,$C$18-1)-1) -> 10.5 | L8: =IF(F8<E8,OFFSET(Очки!$A$20,2+E8-F8,IF(D8=1,13-E8,10+D8)),0) -> 6 | M8: 2.5 | O8: =OFFSET(Очки!$A$2,I8,G8+OFFSET(Очки!$A$18,0,$C$18-1)-1) -> 10.5 | P8: =IF(I8<H8,OFFSET(Очки!$A$20,2+H8-I8,IF(G8=1,13-H8,10+G8)),0) -> 6 | R8: -2 | S8: =SUM(J8:R8) -> 36
A9: =RANK(S9,S$6:OFFSET(S$6,0,0,COUNTA(B$6:B$17))) -> 4 | B9: Михайлик Михайло | C9: 20 | D9: 1 | E9: 2 | F9: 1 | G9: 1 | H9: 5 | I9: 3 | K9: =OFFSET(Очки!$A$2,F9,D9+OFFSET(Очки!$A$18,0,$C$18-1)-1) -> 15 | L9: =IF(F9<E9,OFFSET(Очки!$A$20,2+E9-F9,IF(D9=1,13-E9,10+D9)),0) -> 0.7 | O9: =OFFSET(Очки!$A$2,I9,G9+OFFSET(Очки!$A$18,0,$C$18-1)-1) -> 13 | P9: =IF(I9<H9,OFFSET(Очки!$A$20,2+H9-I9,IF(G9=1,13-H9,10+G9)),0) -> 1.7 | S9: =SUM(J9:R9) -> 30.4
A10: =RANK(S10,S$6:OFFSET(S$6,0,0,COUNTA(B$6:B$17))) -> 5 | B10: Сорокин Сергей | C10: - | D10: 1 | E10: 7 | F10: 4 | G10: 1 | H10: 10 | I10: 8 | J10: 0.5 | K10: =OFFSET(Очки!$A$2,F10,D10+OFFSET(Очки!$A$18,0,$C$18-1)-1) -> 12 | L10: =IF(F10<E10,OFFSET(Очки!$A$20,2+E10-F10,IF(D10=1,13-E10,10+D10)),0) -> 3 | M10: 2 | O10: =OFFSET(Очки!$A$2,I10,G10+OFFSET(Очки!$A$18,0,$C$18-1)-1) -> 9.5 | P10: =IF(I10<H10,OFFSET(Очки!$A$20,2+H10-I10,IF(G10=1,13-H10,10+G10)),0) -> 2.4 | S10: =SUM(J10:R10) -> 29.4
A11: =RANK(S11,S$6:OFFSET(S$6,0,0,COUNTA(B$6:B$17))) -> 6 | B11: Смерчиский Александр | C11: 7.5 | D11: 1 | E11: 10 | F11: 8 | G11: 1 | H11: 3 | I11: 2 | J11: 2 | K11: =OFFSET(Очки!$A$2,F11,D11+OFFSET(Очки!$A$18,0,$C$18-1)-1) -> 9.5 | L11: =IF(F11<E11,OFFSET(Очки!$A$20,2+E11-F11,IF(D11=1,13-E11,10+D11)),0) -> 2.4 | O11: =OFFSET(Очки!$A$2,I11,G11+OFFSET(Очки!$A$18,0,$C$18-1)-1) -> 14 | P11: =IF(I11<H11,OFFSET(Очки!$A$20,2+H11-I11,IF(G11=1,13-H11,10+G11)),0) -> 0.7 | Q11: 2 | R11: -4 | S11: =SUM(J11:R11) -> 26.6
A12: =RANK(S12,S$6:OFFSET(S$6,0,0,COUNTA(B$6:B$17))) -> 7 | B12: Майбродский Михаил | C12: 12.5 | D12: 1 | E12: 6 | F12: 7 | G12: 1 | H12: 7 | I12: 7 | K12: =OFFSET(Очки!$A$2,F12,D12+OFFSET(Очки!$A$18,0,$C$18-1)-1) -> 10 | L12: =IF(F12<E12,OFFSET(Очки!$A$20,2+E12-F12,IF(D12=1,13-E12,10+D12)),0) -> 0 | M12: 0.5 | O12: =OFFSET(Очки!$A$2,I12,G12+OFFSET(Очки!$A$18,0,$C$18-1)-1) -> 10 | P12: =IF(I12<H12,OFFSET(Очки!$A$20,2+H12-I12,IF(G12=1,13-H12,10+G12)),0) -> 0 | S12: =SUM(J12:R12) -> 20.5
A13: =RANK(S13,S$6:OFFSET(S$6,0,0,COUNTA(B$6:B$17))) -> 8 | B13: Конюхов Роман | C13: - | D13: 1 | E13: 3 | F13: 4 | G13: 1 | H13: 4 | I13: 12 | K13: =OFFSET(Очки!$A$2,F13,D13+OFFSET(Очки!$A$18,0,$C$18-1)-1) -> 12 | L13: =IF(F13<E13,OFFSET(Очки!$A$20,2+E13-F13,IF(D13=1,13-E13,10+D13)),0) -> 0 | O13: =OFFSET(Очки!$A$2,I13,G13+OFFSET(Очки!$A$18,0,$C$18-1)-1) -> 7.5 | P13: =IF(I13<H13,OFFSET(Очки!$A$20,2+H13-I13,IF(G13=1,13-H13,10+G13)),0) -> 0 | S13: =SUM(J13:R13) -> 19.5
A14: =RANK(S14,S$6:OFFSET(S$6,0,0,COUNTA(B$6:B$17))) -> 9 | B14: Шпакович Валик | C14: 7.5 | D14: 1 | E14: 1 | F14: 11 | G14: 1 | H14: 1 | I14: 5 | K14: =OFFSET(Очки!$A$2,F14,D14+OFFSET(Очки!$A$18,0,$C$18-1)-1) -> 8 | L14: =IF(F14<E14,OFFSET(Очки!$A$20,2+E14-F14,IF(D14=1,13-E14,10+D14)),0) -> 0 | O14: =OFFSET(Очки!$A$2,I14,G14+OFFSET(Очки!$A$18,0,$C$18-1)-1) -> 11 | P14: =IF(I14<H14,OFFSET(Очки!$A$20,2+H14-I14,IF(G14=1,13-H14,10+G14)),0) -> 0 | S14: =SUM(J14:R14) -> 19
A15: =RANK(S15,S$6:OFFSET(S$6,0,0,COUNTA(B$6:B$17))) -> 10 | B15: Житомирский Дмитрий | C15: 7.5 | D15: 1 | E15: 12 | F15: 12 | G15: 1 | H15: 12 | I15: 10 | K15: =OFFSET(Очки!$A$2,F15,D15+OFFSET(Очки!$A$18,0,$C$18-1)-1) -> 7.5 | L15: =IF(F15<E15,OFFSET(Очки!$A$20,2+E15-F15,IF(D15=1,13-E15,10+D15)),0) -> 0 | O15: =OFFSET(Очки!$A$2,I15,G15+OFFSET(Очки!$A$18,0,$C$18-1)-1) -> 8.5 | P15: =IF(I15<H15,OFFSET(Очки!$A$20,2+H15-I15,IF(G15=1,13-H15,10+G15)),0) -> 2.6 | S15: =SUM(J15:R15) -> 18.6
A16: =RANK(S16,S$6:OFFSET(S$6,0,0,COUNTA(B$6:B$17))) -> 11 | B16: Сомок Денис | C16: 5 | D16: 1 | E16: 4 | F16: 9 | G16: 1 | H16: 9 | I16: 9 | K16: =OFFSET(Очки!$A$2,F16,D16+OFFSET(Очки!$A$18,0,$C$18-1)-1) -> 9 | L16: =IF(F16<E16,OFFSET(Очки!$A$20,2+E16-F16,IF(D16=1,13-E16,10+D16)),0) -> 0 | M16: 1.5 | O16: =OFFSET(Очки!$A$2,I16,G16+OFFSET(Очки!$A$18,0,$C$18-1)-1) -> 9 | P16: =IF(I16<H16,OFFSET(Очки!$A$20,2+H16-I16,IF(G16=1,13-H16,10+G16)),0) -> 0 | Q16: 1 | R16: -4 | S16: =SUM(J16:R16) -> 16.5
A17: =RANK(S17,S$6:OFFSET(S$6,0,0,COUNTA(B$6:B$17))) -> 12 | B17: Балтер Максим | C17: - | D17: 1 | E17: 5 | F17: 10 | G17: 1 | H17: 2 | I17: 8 | K17: =OFFSET(Очки!$A$2,F17,D17+OFFSET(Очки!$A$18,0,$C$18-1)-1) -> 8.5 | L17: =IF(F17<E17,OFFSET(Очки!$A$20,2+E17-F17,IF(D17=1,13-E17,10+D17)),0) -> 0 | N17: -4 | O17: =OFFSET(Очки!$A$2,I17,G17+OFFSET(Очки!$A$18,0,$C$18-1)-1) -> 9.5 | P17: =IF(I17<H17,OFFSET(Очки!$A$20,2+H17-I17,IF(G17=1,13-H17,10+G17)),0) -> 0 | Q17: 0.5 | R17: =-4-4 -> -8 | S17: =SUM(J17:R17) -> 6.5
B18: Всего участников | C18: =COUNTA(B6:B17) -> 12

Sheet 20.06
A1: Лайт Лига xx.yy.2017 (конфигурация X)
A3: Место | B3: Участник | D3: 1 | G3: 2 | J3: Очки | S3: Сумма
C4: Довес | D4: группа | E4: Старт | F4: Финиш | G4: группа | H4: Старт | I4: Финиш | J4: Квала | K4: 1 | O4: 2
K5: очки | L5: обгоны | M5: время | N5: штрафы | O5: очки | P5: обгоны | Q5: время | R5: штрафы
A6: =RANK(S6,S$6:OFFSET(S$6,0,0,COUNTA(B$6:B$30))) -> 1 | B6: Дарий Игорь | C6: - | D6: 1 | E6: 4 | F6: 2 | G6: 1 | H6: 4 | I6: 1 | J6: 0.5 | K6: =OFFSET(Очки!$A$2,F6,D6+OFFSET(Очки!$A$18,0,$C$31-1)-1) -> 14 | L6: =IF(F6<E6,OFFSET(Очки!$A$20,2+E6-F6,IF(D6=1,13-E6,10+D6)),0) -> 1.5 | M6: 0.5 | O6: =OFFSET(Очки!$A$2,I6,G6+OFFSET(Очки!$A$18,0,$C$31-1)-1) -> 15 | P6: =IF(I6<H6,OFFSET(Очки!$A$20,2+H6-I6,IF(G6=1,13-H6,10+G6)),0) -> 2.2 | Q6: 2.5 | S6: =SUM(J6:R6) -> 36.2
A7: =RANK(S7,S$6:OFFSET(S$6,0,0,COUNTA(B$6:B$30))) -> 2 | B7: Джемула Сергей | C7: - | D7: 1 | E7: 6 | F7: 3 | G7: 1 | H7: 6 | I7: 3 | J7: 1.5 | K7: =OFFSET(Очки!$A$2,F7,D7+OFFSET(Очки!$A$18,0,$C$31-1)-1) -> 13 | L7: =IF(F7<E7,OFFSET(Очки!$A$20,2+E7-F7,IF(D7=1,13-E7,10+D7)),0) -> 2.7 | M7: 1.5 | N7: -2 | O7: =OFFSET(Очки!$A$2,I7,G7+OFFSET(Очки!$A$18,0,$C$31-1)-1) -> 13 | P7: =IF(I7<H7,OFFSET(Очки!$A$20,2+H7-I7,IF(G7=1,13-H7,10+G7)),0) -> 2.7 | Q7: 2 | R7: -4 | S7: =SUM(J7:R7) -> 30.4
A8: =RANK(S8,S$6:OFFSET(S$6,0,0,COUNTA(B$6:B$30))) -> 3 | B8: Мурыгин Сергей | C8: - | D8: 1 | E8: 7 | F8: 5 | G8: 1 | H8: 8 | I8: 7 | J8: 2 | K8: =OFFSET(Очки!$A$2,F8,D8+OFFSET(Очки!$A$18,0,$C$31-1)-1) -> 11 | L8: =IF(F8<E8,OFFSET(Очки!$A$20,2+E8-F8,IF(D8=1,13-E8,10+D8)),0) -> 2.1 | M8: 2.5 | O8: =OFFSET(Очки!$A$2,I8,G8+OFFSET(Очки!$A$18,0,$C$31-1)-1) -> 10 | P8: =IF(I8<H8,OFFSET(Очки!$A$20,2+H8-I8,IF(G8=1,13-H8,10+G8)),0) -> 1.2 | Q8: 1.5 | S8: =SUM(J8:R8) -> 30.3
A9: =RANK(S9,S$6:OFFSET(S$6,0,0,COUNTA(B$6:B$30))) -> 4 | B9: Хлопонин Андрей | C9: - | D9: 1 | E9: 8 | F9: 6 | G9: 1 | H9: 7 | I9: 8 | J9: 2.5 | K9: =OFFSET(Очки!$A$2,F9,D9+OFFSET(Очки!$A$18,0,$C$31-1)-1) -> 10.5 | L9: =IF(F9<E9,OFFSET(Очки!$A$20,2+E9-F9,IF(D9=1,13-E9,10+D9)),0) -> 2.3 | M9: 2 | O9: =OFFSET(Очки!$A$2,I9,G9+OFFSET(Очки!$A$18,0,$C$31-1)-1) -> 9.5 | P9: =IF(I9<H9,OFFSET(Очки!$A$20,2+H9-I9,IF(G9=1,13-H9,10+G9)),0) -> 0 | Q9: 1 | S9: =SUM(J9:R9) -> 27.8
A10: 4 | B10: Сорокин Сергей | C10: - | D10: 1 | E10: 2 | F10: 1 | G10: 1 | H10: 3 | I10: 4 | K10: =OFFSET(Очки!$A$2,F10,D10+OFFSET(Очки!$A$18,0,$C$31-1)-1) -> 15 | L10: =IF(F10<E10,OFFSET(Очки!$A$20,2+E10-F10,IF(D10=1,13-E10,10+D10)),0) -> 0.7 | O10: =OFFSET(Очки!$A$2,I10,G10+OFFSET(Очки!$A$18,0,$C$31-1)-1) -> 12 | P10: =IF(I10<H10,OFFSET(Очки!$A$20,2+H10-I10,IF(G10=1,13-H10,10+G10)),0) -> 0 | S10: =SUM(J10:R10) -> 27.7
A11: 5 | B11: Синани Влад | C11: 2.5 | D11: 1 | E11: 5 | F11: 4 | G11: 1 | H11: 5 | I11: 6 | J11: 1 | K11: =OFFSET(Очки!$A$2,F11,D11+OFFSET(Очки!$A$18,0,$C$31-1)-1) -> 12 | L11: =IF(F11<E11,OFFSET(Очки!$A$20,2+E11-F11,IF(D11=1,13-E11,10+D11)),0) -> 0.9 | M11: 1 | O11: =OFFSET(Очки!$A$2,I11,G11+OFFSET(Очки!$A$18,0,$C$31-1)-1) -> 10.5 | P11: =IF(I11<H11,OFFSET(Очки!$A$20,2+H11-I11,IF(G11=1,13-H11,10+G11)),0) -> 0 | Q11: 0.5 | S11: =SUM(J11:R11) -> 25.9
A12: 6 | B12: Демьянюк Дмитрий | C12: - | D12: 2 | E12: 3 | F12: 3 | G12: 1 | H12: 1 | I12: 2 | K12: =OFFSET(Очки!$A$2,F12,D12+OFFSET(Очки!$A$18,0,$C$31-1)-1) -> 8.5 | L12: =IF(F12<E12,OFFSET(Очки!$A$20,2+E12-F12,IF(D12=1,13-E12,10+D12)),0) -> 0 | O12: =OFFSET(Очки!$A$2,I12,G12+OFFSET(Очки!$A$18,0,$C$31-1)-1) -> 14 | P12: =IF(I12<H12,OFFSET(Очки!$A$20,2+H12-I12,IF(G12=1,13-H12,10+G12)),0) -> 0 | S12: =SUM(J12:R12) -> 22.5
A13: 7 | B13: Романов Саша | C13: - | D13: 2 | E13: 2 | F13: 1 | G13: 2 | H13: 4 | I13: 2 | K13: =OFFSET(Очки!$A$2,F13,D13+OFFSET(Очки!$A$18,0,$C$31-1)-1) -> 10.5 | L13: =IF(F13<E13,OFFSET(Очки!$A$20,2+E13-F13,IF(D13=1,13-E13,10+D13)),0) -> 0.7 | O13: =OFFSET(Очки!$A$2,I13,G13+OFFSET(Очки!$A$18,0,$C$31-1)-1) -> 9.5 | P13: =IF(I13<H13,OFFSET(Очки!$A$20,2+H13-I13,IF(G13=1,13-H13,10+G13)),0) -> 1.4 | S13: =SUM(J13:R13) -> 22.1
A14: 8 | B14: Булавинов Андрей | C14: 5 | D14: 1 | E14: 3 | F14: 8 | G14: 2 | H14: 3 | I14: 1 | K14: =OFFSET(Очки!$A$2,F14,D14+OFFSET(Очки!$A$18,0,$C$31-1)-1) -> 9.5 | L14: =IF(F14<E14,OFFSET(Очки!$A$20,2+E14-F14,IF(D14=1,13-E14,10+D14)),0) -> 0 | O14: =OFFSET(Очки!$A$2,I14,G14+OFFSET(Очки!$A$18,0,$C$31-1)-1) -> 10.5 | P14: =IF(I14<H14,OFFSET(Очки!$A$20,2+H14-I14,IF(G14=1,13-H14,10+G14)),0) -> 1.4 | S14: =SUM(J14:R14) -> 21.4
A15: 9 | B15: Голоцван Дмитрий | C15: 7.5 | D15: 2 | E15: 7 | F15: 4 | G15: 1 | H15: 2 | I15: 5 | K15: =OFFSET(Очки!$A$2,F15,D15+OFFSET(Очки!$A$18,0,$C$31-1)-1) -> 7.5 | L15: =IF(F15<E15,OFFSET(Очки!$A$20,2+E15-F15,IF(D15=1,13-E15,10+D15)),0) -> 2.1 | O15: =OFFSET(Очки!$A$2,I15,G15+OFFSET(Очки!$A$18,0,$C$31-1)-1) -> 11 | P15: =IF(I15<H15,OFFSET(Очки!$A$20,2+H15-I15,IF(G15=1,13-H15,10+G15)),0) -> 0 | S15: =SUM(J15:R15) -> 20.6
A16: 10 | B16: Киктенко Юрий | C16: 5 | D16: 1 | E16: 1 | F16: 7 | G16: 2 | H16: 5 | I16: 4 | K16: =OFFSET(Очки!$A$2,F16,D16+OFFSET(Очки!$A$18,0,$C$31-1)-1) -> 10 | L16: =IF(F16<E16,OFFSET(Очки!$A$20,2+E16-F16,IF(D16=1,13-E16,10+D16)),0) -> 0 | O16: =OFFSET(Очки!$A$2,I16,G16+OFFSET(Очки!$A$18,0,$C$31-1)-1) -> 7.5 | P16: =IF(I16<H16,OFFSET(Очки!$A$20,2+H16-I16,IF(G16=1,13-H16,10+G16)),0) -> 0.7 | S16: =SUM(J16:R16) -> 18.2
A17: 11 | B17: Фаль Александр | C17: - | D17: 2 | E17: 8 | F17: 6 | G17: 2 | H17: 6 | I17: 5 | K17: =OFFSET(Очки!$A$2,F17,D17+OFFSET(Очки!$A$18,0,$C$31-1)-1) -> 6 | L17: =IF(F17<E17,OFFSET(Очки!$A$20,2+E17-F17,IF(D17=1,13-E17,10+D17)),0) -> 1.4 | O17: =OFFSET(Очки!$A$2,I17,G17+OFFSET(Очки!$A$18,0,$C$31-1)-1) -> 6.5 | P17: =IF(I17<H17,OFFSET(Очки!$A$20,2+H17-I17,IF(G17=1,13-H17,10+G17)),0) -> 0.7 | S17: =SUM(J17:R17) -> 14.6
A18: 12 | B18: Михайлик Михаил | C18: 20 | D18: 2 | E18: 4 | F18: 7 | G18: 2 | H18: 2 | I18: 3 | K18: =OFFSET(Очки!$A$2,F18,D18+OFFSET(Очки!$A$18,0,$C$31-1)-1) -> 5.5 | L18: =IF(F18<E18,OFFSET(Очки!$A$20,2+E18-F18,IF(D18=1,13-E18,10+D18)),0) -> 0 | O18: =OFFSET(Очки!$A$2,I18,G18+OFFSET(Очки!$A$18,0,$C$31-1)-1) -> 8.5 | P18: =IF(I18<H18,OFFSET(Очки!$A$20,2+H18-I18,IF(G18=1,13-H18,10+G18)),0) -> 0 | S18: =SUM(J18:R18) -> 14
A19: 13 | B19: Муляр Андрей | C19: - | D19: 2 | E19: 6 | F19: 5 | G19: 2 | H19: 7 | I19: 6 | K19: =OFFSET(Очки!$A$2,F19,D19+OFFSET(Очки!$A$18,0,$C$31-1)-1) -> 6.5 | L19: =IF(F19<E19,OFFSET(Очки!$A$20,2+E19-F19,IF(D19=1,13-E19,10+D19)),0) -> 0.7 | O19: =OFFSET(Очки!$A$2,I19,G19+OFFSET(Очки!$A$18,0,$C$31-1)-1) -> 6 | P19: =IF(I19<H19,OFFSET(Очки!$A$20,2+H19-I19,IF(G19=1,13-H19,10+G19)),0) -> 0.7 | S19: =SUM(J19:R19) -> 13.9
A20: 14 | B20: Лысенко Алексей | C20: - | D20: 2 | E20: 5 | F20: 2 | G20: 2 | H20: 8 | I20: 7 | K20: =OFFSET(Очки!$A$2,F20,D20+OFFSET(Очки!$A$18,0,$C$31-1)-1) -> 9.5 | L20: =IF(F20<E20,OFFSET(Очки!$A$20,2+E20-F20,IF(D20=1,13-E20,10+D20)),0) -> 2.1 | N20: -4 | O20: =OFFSET(Очки!$A$2,I20,G20+OFFSET(Очки!$A$18,0,$C$31-1)-1) -> 5.5 | P20: =IF(I20<H20,OFFSET(Очки!$A$20,2+H20-I20,IF(G20=1,13-H20,10+G20)),0) -> 0.7 | S20: =SUM(J20:R20) -> 13.8
A21: 15 | B21: Дыкань Сергей | C21: - | D21: 2 | E21: 1 | F21: 8 | G21: 2 | H21: 1 | I21: 8 | K21: =OFFSET(Очки!$A$2,F21,D21+OFFSET(Очки!$A$18,0,$C$31-1)-1) -> 5 | L21: =IF(F21<E21,OFFSET(Очки!$A$20,2+E21-F21,IF(D21=1,13-E21,10+D21)),0) -> 0 | O21: =OFFSET(Очки!$A$2,I21,G21+OFFSET(Очки!$A$18,0,$C$31-1)-1) -> 5 | P21: =IF(I21<H21,OFFSET(Очки!$A$20,2+H21-I21,IF(G21=1,13-H21,10+G21)),0) -> 0 | S21: =SUM(J21:R21) -> 10
A22: =RANK(S22,S$6:OFFSET(S$6,0,0,COUNTA(B$6:B$30))) -> #N/A | C22: - | K22: =OFFSET(Очки!$A$2,F22,D22+OFFSET(Очки!$A$18,0,$C$31-1)-1) -> 0 | L22: =IF(F22<E22,OFFSET(Очки!$A$20,2+E22-F22,IF(D22=1,13-E22,10+D22)),0) -> 0 | O22: =OFFSET(Очки!$A$2,I22,G22+OFFSET(Очки!$A$18,0,$C$31-1)-1) -> 0 | P22: =IF(I22<H22,OFFSET(Очки!$A$20,2+H22-I22,IF(G22=1,13-H22,10+G22)),0) -> 0 | S22: =SUM(J22:R22) -> 0
A23: =RANK(S23,S$6:OFFSET(S$6,0,0,COUNTA(B$6:B$30))) -> #N/A | C23: - | K23: =OFFSET(Очки!$A$2,F23,D23+OFFSET(Очки!$A$18,0,$C$31-1)-1) -> 0 | L23: =IF(F23<E23,OFFSET(Очки!$A$20,2+E23-F23,IF(D23=1,13-E23,10+D23)),0) -> 0 | O23: =OFFSET(Очки!$A$2,I23,G23+OFFSET(Очки!$A$18,0,$C$31-1)-1) -> 0 | P23: =IF(I23<H23,OFFSET(Очки!$A$20,2+H23-I23,IF(G23=1,13-H23,10+G23)),0) -> 0 | S23: =SUM(J23:R23) -> 0
A24: =RANK(S24,S$6:OFFSET(S$6,0,0,COUNTA(B$6:B$30))) -> #N/A | C24: - | K24: =OFFSET(Очки!$A$2,F24,D24+OFFSET(Очки!$A$18,0,$C$31-1)-1) -> 0 | L24: =IF(F24<E24,OFFSET(Очки!$A$20,2+E24-F24,IF(D24=1,13-E24,10+D24)),0) -> 0 | O24: =OFFSET(Очки!$A$2,I24,G24+OFFSET(Очки!$A$18,0,$C$31-1)-1) -> 0 | P24: =IF(I24<H24,OFFSET(Очки!$A$20,2+H24-I24,IF(G24=1,13-H24,10+G24)),0) -> 0 | S24: =SUM(J24:R24) -> 0
A25: =RANK(S25,S$6:OFFSET(S$6,0,0,COUNTA(B$6:B$30))) -> #N/A | C25: - | K25: =OFFSET(Очки!$A$2,F25,D25+OFFSET(Очки!$A$18,0,$C$31-1)-1) -> 0 | L25: =IF(F25<E25,OFFSET(Очки!$A$20,2+E25-F25,IF(D25=1,13-E25,10+D25)),0) -> 0 | O25: =OFFSET(Очки!$A$2,I25,G25+OFFSET(Очки!$A$18,0,$C$31-1)-1) -> 0 | P25: =IF(I25<H25,OFFSET(Очки!$A$20,2+H25-I25,IF(G25=1,13-H25,10+G25)),0) -> 0 | S25: =SUM(J25:R25) -> 0
A26: =RANK(S26,S$6:OFFSET(S$6,0,0,COUNTA(B$6:B$30))) -> #N/A | C26: - | K26: =OFFSET(Очки!$A$2,F26,D26+OFFSET(Очки!$A$18,0,$C$31-1)-1) -> 0 | L26: =IF(F26<E26,OFFSET(Очки!$A$20,2+E26-F26,IF(D26=1,13-E26,10+D26)),0) -> 0 | O26: =OFFSET(Очки!$A$2,I26,G26+OFFSET(Очки!$A$18,0,$C$31-1)-1) -> 0 | P26: =IF(I26<H26,OFFSET(Очки!$A$20,2+H26-I26,IF(G26=1,13-H26,10+G26)),0) -> 0 | S26: =SUM(J26:R26) -> 0
A27: =RANK(S27,S$6:OFFSET(S$6,0,0,COUNTA(B$6:B$30))) -> #N/A | C27: - | K27: =OFFSET(Очки!$A$2,F27,D27+OFFSET(Очки!$A$18,0,$C$31-1)-1) -> 0 | L27: =IF(F27<E27,OFFSET(Очки!$A$20,2+E27-F27,IF(D27=1,13-E27,10+D27)),0) -> 0 | O27: =OFFSET(Очки!$A$2,I27,G27+OFFSET(Очки!$A$18,0,$C$31-1)-1) -> 0 | P27: =IF(I27<H27,OFFSET(Очки!$A$20,2+H27-I27,IF(G27=1,13-H27,10+G27)),0) -> 0 | S27: =SUM(J27:R27) -> 0
A28: =RANK(S28,S$6:OFFSET(S$6,0,0,COUNTA(B$6:B$30))) -> #N/A | C28: - | K28: =OFFSET(Очки!$A$2,F28,D28+OFFSET(Очки!$A$18,0,$C$31-1)-1) -> 0 | L28: =IF(F28<E28,OFFSET(Очки!$A$20,2+E28-F28,IF(D28=1,13-E28,10+D28)),0) -> 0 | O28: =OFFSET(Очки!$A$2,I28,G28+OFFSET(Очки!$A$18,0,$C$31-1)-1) -> 0 | P28: =IF(I28<H28,OFFSET(Очки!$A$20,2+H28-I28,IF(G28=1,13-H28,10+G28)),0) -> 0 | S28: =SUM(J28:R28) -> 0
A29: =RANK(S29,S$6:OFFSET(S$6,0,0,COUNTA(B$6:B$30))) -> #N/A | C29: - | K29: =OFFSET(Очки!$A$2,F29,D29+OFFSET(Очки!$A$18,0,$C$31-1)-1) -> 0 | L29: =IF(F29<E29,OFFSET(Очки!$A$20,2+E29-F29,IF(D29=1,13-E29,10+D29)),0) -> 0 | O29: =OFFSET(Очки!$A$2,I29,G29+OFFSET(Очки!$A$18,0,$C$31-1)-1) -> 0 | P29: =IF(I29<H29,OFFSET(Очки!$A$20,2+H29-I29,IF(G29=1,13-H29,10+G29)),0) -> 0 | S29: =SUM(J29:R29) -> 0
A30: =RANK(S30,S$6:OFFSET(S$6,0,0,COUNTA(B$6:B$30))) -> #N/A | C30: - | K30: =OFFSET(Очки!$A$2,F30,D30+OFFSET(Очки!$A$18,0,$C$31-1)-1) -> 0 | L30: =IF(F30<E30,OFFSET(Очки!$A$20,2+E30-F30,IF(D30=1,13-E30,10+D30)),0) -> 0 | O30: =OFFSET(Очки!$A$2,I30,G30+OFFSET(Очки!$A$18,0,$C$31-1)-1) -> 0 | P30: =IF(I30<H30,OFFSET(Очки!$A$20,2+H30-I30,IF(G30=1,13-H30,10+G30)),0) -> 0 | S30: =SUM(J30:R30) -> 0
B31: Всего участников | C31: =COUNTA(B6:B30) -> 16

Sheet 27.06
A1: Лайт Лига 27.06.2017 (конфигурация 5R)
A3: Место | B3: Участник | D3: 1 | G3: 2 | J3: Очки | S3: Сумма
C4: Довес | D4: группа | E4: Старт | F4: Финиш | G4: группа | H4: Старт | I4: Финиш | J4: Квала | K4: 1 | O4: 2
K5: очки | L5: обгоны | M5: время | N5: штрафы | O5: очки | P5: обгоны | Q5: время | R5: штрафы
A6: =RANK(S6,S$6:OFFSET(S$6,0,0,COUNTA(B$6:B$30))) -> 1 | B6: Гаврилюк Олег | C6: - | D6: 1 | E6: 11 | F6: 1 | G6: 1 | H6: 11 | I6: 4 | J6: 2.5 | K6: =OFFSET(Очки!$A$2,F6,D6+OFFSET(Очки!$A$18,0,$C$31-1)-1) -> 15 | L6: =IF(F6<E6,OFFSET(Очки!$A$20,2+E6-F6,IF(D6=1,13-E6,10+D6)),0) -> 10.1 | M6: 2.5 | O6: =OFFSET(Очки!$A$2,I6,G6+OFFSET(Очки!$A$18,0,$C$31-1)-1) -> 12 | P6: =IF(I6<H6,OFFSET(Очки!$A$20,2+H6-I6,IF(G6=1,13-H6,10+G6)),0) -> 7.9 | Q6: 2 | S6: =SUM(J6:R6) -> 52
A7: =RANK(S7,S$6:OFFSET(S$6,0,0,COUNTA(B$6:B$30))) -> 2 | B7: Кочмарев Юра | C7: - | D7: 1 | E7: 9 | F7: 2 | G7: 1 | H7: 9 | I7: 8 | J7: 1.5 | K7: =OFFSET(Очки!$A$2,F7,D7+OFFSET(Очки!$A$18,0,$C$31-1)-1) -> 14 | L7: =IF(F7<E7,OFFSET(Очки!$A$20,2+E7-F7,IF(D7=1,13-E7,10+D7)),0) -> 6.9 | M7: 1.5 | O7: =OFFSET(Очки!$A$2,I7,G7+OFFSET(Очки!$A$18,0,$C$31-1)-1) -> 9.5 | P7: =IF(I7<H7,OFFSET(Очки!$A$20,2+H7-I7,IF(G7=1,13-H7,10+G7)),0) -> 1.2 | Q7: 1 | S7: =SUM(J7:R7) -> 35.6
A8: 1 | B8: Мурыгин Сергей | C8: - | D8: 1 | E8: 3 | F8: 7 | G8: 1 | H8: 1 | I8: 1 | K8: =OFFSET(Очки!$A$2,F8,D8+OFFSET(Очки!$A$18,0,$C$31-1)-1) -> 10 | L8: =IF(F8<E8,OFFSET(Очки!$A$20,2+E8-F8,IF(D8=1,13-E8,10+D8)),0) -> 0 | O8: =OFFSET(Очки!$A$2,I8,G8+OFFSET(Очки!$A$18,0,$C$31-1)-1) -> 15 | P8: =IF(I8<H8,OFFSET(Очки!$A$20,2+H8-I8,IF(G8=1,13-H8,10+G8)),0) -> 0 | Q8: 2.5 | S8: =SUM(J8:R8) -> 27.5
A9: 2 | B9: Пархомчук Саша | C9: - | D9: 1 | E9: 8 | F9: 6 | G9: 1 | H9: 8 | I9: 9 | J9: 1 | K9: =OFFSET(Очки!$A$2,F9,D9+OFFSET(Очки!$A$18,0,$C$31-1)-1) -> 10.5 | L9: =IF(F9<E9,OFFSET(Очки!$A$20,2+E9-F9,IF(D9=1,13-E9,10+D9)),0) -> 2.3 | M9: 1 | O9: =OFFSET(Очки!$A$2,I9,G9+OFFSET(Очки!$A$18,0,$C$31-1)-1) -> 9 | P9: =IF(I9<H9,OFFSET(Очки!$A$20,2+H9-I9,IF(G9=1,13-H9,10+G9)),0) -> 0 | S9: =SUM(J9:R9) -> 23.8
A10: 3 | B10: Тамберг Александр | C10: - | D10: 2 | E10: 9 | F10: 4 | G10: 1 | H10: 2 | I10: 2 | K10: =OFFSET(Очки!$A$2,F10,D10+OFFSET(Очки!$A$18,0,$C$31-1)-1) -> 6 | L10: =IF(F10<E10,OFFSET(Очки!$A$20,2+E10-F10,IF(D10=1,13-E10,10+D10)),0) -> 3.5 | O10: =OFFSET(Очки!$A$2,I10,G10+OFFSET(Очки!$A$18,0,$C$31-1)-1) -> 14 | P10: =IF(I10<H10,OFFSET(Очки!$A$20,2+H10-I10,IF(G10=1,13-H10,10+G10)),0) -> 0 | S10: =SUM(J10:R10) -> 23.5
A11: 4 | B11: Яценко Вова | C11: 12.5 | D11: 1 | E11: 6 | F11: 2 | G11: 1 | H11: 10 | I11: 7 | J11: 2 | K11: =OFFSET(Очки!$A$2,F11,D11+OFFSET(Очки!$A$18,0,$C$31-1)-1) -> 14 | L11: =IF(F11<E11,OFFSET(Очки!$A$20,2+E11-F11,IF(D11=1,13-E11,10+D11)),0) -> 3.4 | M11: 2 | N11: =-4-4-2-4 -> -14 | O11: =OFFSET(Очки!$A$2,I11,G11+OFFSET(Очки!$A$18,0,$C$31-1)-1) -> 10 | P11: =IF(I11<H11,OFFSET(Очки!$A$20,2+H11-I11,IF(G11=1,13-H11,10+G11)),0) -> 3.6 | Q11: 0.5 | S11: =SUM(J11:R11) -> 21.5
A12: 4 | B12: Якусик Дима | C12: 7.5 | D12: 1 | E12: 10 | F12: 10 | G12: 1 | H12: 3 | I12: 3 | K12: =OFFSET(Очки!$A$2,F12,D12+OFFSET(Очки!$A$18,0,$C$31-1)-1) -> 8.5 | L12: =IF(F12<E12,OFFSET(Очки!$A$20,2+E12-F12,IF(D12=1,13-E12,10+D12)),0) -> 0 | O12: =OFFSET(Очки!$A$2,I12,G12+OFFSET(Очки!$A$18,0,$C$31-1)-1) -> 13 | P12: =IF(I12<H12,OFFSET(Очки!$A$20,2+H12-I12,IF(G12=1,13-H12,10+G12)),0) -> 0 | S12: =SUM(J12:R12) -> 21.5
A13: 6 | B13: Дядя Саша | C13: - | D13: 2 | E13: 4 | F13: 1 | G13: 1 | H13: 5 | I13: 11 | K13: =OFFSET(Очки!$A$2,F13,D13+OFFSET(Очки!$A$18,0,$C$31-1)-1) -> 9 | L13: =IF(F13<E13,OFFSET(Очки!$A$20,2+E13-F13,IF(D13=1,13-E13,10+D13)),0) -> 2.1 | O13: =OFFSET(Очки!$A$2,I13,G13+OFFSET(Очки!$A$18,0,$C$31-1)-1) -> 8 | P13: =IF(I13<H13,OFFSET(Очки!$A$20,2+H13-I13,IF(G13=1,13-H13,10+G13)),0) -> 0 | S13: =SUM(J13:R13) -> 19.1
A14: 6 | B14: Пилипчук Всилий | C14: - | D14: 1 | E14: 7 | F14: 9 | G14: 1 | H14: 7 | I14: 6 | J14: 0.5 | K14: =OFFSET(Очки!$A$2,F14,D14+OFFSET(Очки!$A$18,0,$C$31-1)-1) -> 9 | L14: =IF(F14<E14,OFFSET(Очки!$A$20,2+E14-F14,IF(D14=1,13-E14,10+D14)),0) -> 0 | M14: 0.5 | N14: -4 | O14: =OFFSET(Очки!$A$2,I14,G14+OFFSET(Очки!$A$18,0,$C$31-1)-1) -> 10.5 | P14: =IF(I14<H14,OFFSET(Очки!$A$20,2+H14-I14,IF(G14=1,13-H14,10+G14)),0) -> 1.1 | Q14: 1.5 | S14: =SUM(J14:R14) -> 19.1
A15: 8 | B15: Киселёв Филипп | C15: - | D15: 1 | E15: 4 | F15: 11 | G15: 1 | H15: 4 | I15: 5 | K15: =OFFSET(Очки!$A$2,F15,D15+OFFSET(Очки!$A$18,0,$C$31-1)-1) -> 8 | L15: =IF(F15<E15,OFFSET(Очки!$A$20,2+E15-F15,IF(D15=1,13-E15,10+D15)),0) -> 0 | O15: =OFFSET(Очки!$A$2,I15,G15+OFFSET(Очки!$A$18,0,$C$31-1)-1) -> 11 | P15: =IF(I15<H15,OFFSET(Очки!$A$20,2+H15-I15,IF(G15=1,13-H15,10+G15)),0) -> 0 | S15: =SUM(J15:R15) -> 19
A16: 9 | B16: Фаль Александр | C16: - | D16: 2 | E16: 6 | F16: 4 | G16: 2 | H16: 4 | I16: 1 | K16: =OFFSET(Очки!$A$2,F16,D16+OFFSET(Очки!$A$18,0,$C$31-1)-1) -> 6 | L16: =IF(F16<E16,OFFSET(Очки!$A$20,2+E16-F16,IF(D16=1,13-E16,10+D16)),0) -> 1.4 | O16: =OFFSET(Очки!$A$2,I16,G16+OFFSET(Очки!$A$18,0,$C$31-1)-1) -> 9 | P16: =IF(I16<H16,OFFSET(Очки!$A$20,2+H16-I16,IF(G16=1,13-H16,10+G16)),0) -> 2.1 | S16: =SUM(J16:R16) -> 18.5
A17: 10 | B17: Майбродский Миша | C17: - | D17: 1 | E17: 2 | F17: 5 | G17: 2 | H17: 5 | I17: 4 | K17: =OFFSET(Очки!$A$2,F17,D17+OFFSET(Очки!$A$18,0,$C$31-1)-1) -> 11 | L17: =IF(F17<E17,OFFSET(Очки!$A$20,2+E17-F17,IF(D17=1,13-E17,10+D17)),0) -> 0 | O17: =OFFSET(Очки!$A$2,I17,G17+OFFSET(Очки!$A$18,0,$C$31-1)-1) -> 6 | P17: =IF(I17<H17,OFFSET(Очки!$A$20,2+H17-I17,IF(G17=1,13-H17,10+G17)),0) -> 0.7 | S17: =SUM(J17:R17) -> 17.7
A18: 11 | B18: Муляр Андрей | C18: - | D18: 2 | E18: 8 | F18: 6 | G18: 2 | H18: 9 | I18: 4 | K18: =OFFSET(Очки!$A$2,F18,D18+OFFSET(Очки!$A$18,0,$C$31-1)-1) -> 4.5 | L18: =IF(F18<E18,OFFSET(Очки!$A$20,2+E18-F18,IF(D18=1,13-E18,10+D18)),0) -> 1.4 | O18: =OFFSET(Очки!$A$2,I18,G18+OFFSET(Очки!$A$18,0,$C$31-1)-1) -> 6 | P18: =IF(I18<H18,OFFSET(Очки!$A$20,2+H18-I18,IF(G18=1,13-H18,10+G18)),0) -> 3.5 | S18: =SUM(J18:R18) -> 15.4
A19: 12 | B19: Михайлик Михаил | C19: 20 | D19: 2 | E19: 7 | F19: 2 | G19: 2 | H19: 6 | I19: 2 | K19: =OFFSET(Очки!$A$2,F19,D19+OFFSET(Очки!$A$18,0,$C$31-1)-1) -> 8 | L19: =IF(F19<E19,OFFSET(Очки!$A$20,2+E19-F19,IF(D19=1,13-E19,10+D19)),0) -> 3.5 | N19: =-4-3 -> -7 | O19: =OFFSET(Очки!$A$2,I19,G19+OFFSET(Очки!$A$18,0,$C$31-1)-1) -> 8 | P19: =IF(I19<H19,OFFSET(Очки!$A$20,2+H19-I19,IF(G19=1,13-H19,10+G19)),0) -> 2.8 | S19: =SUM(J19:R19) -> 15.3
A20: 13 | B20: Якусик Саша | C20: 10 | D20: 1 | E20: 1 | F20: 4 | G20: 2 | H20: 8 | I20: 6 | K20: =OFFSET(Очки!$A$2,F20,D20+OFFSET(Очки!$A$18,0,$C$31-1)-1) -> 12 | L20: =IF(F20<E20,OFFSET(Очки!$A$20,2+E20-F20,IF(D20=1,13-E20,10+D20)),0) -> 0 | O20: =OFFSET(Очки!$A$2,I20,G20+OFFSET(Очки!$A$18,0,$C$31-1)-1) -> 4.5 | P20: =IF(I20<H20,OFFSET(Очки!$A$20,2+H20-I20,IF(G20=1,13-H20,10+G20)),0) -> 1.4 | R20: -4 | S20: =SUM(J20:R20) -> 13.9
A21: 14 | B21: Сорокин Сергей | C21: - | D21: 2 | E21: 10 | F21: 9 | G21: 1 | H21: 6 | I21: 10 | K21: =OFFSET(Очки!$A$2,F21,D21+OFFSET(Очки!$A$18,0,$C$31-1)-1) -> 3 | L21: =IF(F21<E21,OFFSET(Очки!$A$20,2+E21-F21,IF(D21=1,13-E21,10+D21)),0) -> 0.7 | O21: =OFFSET(Очки!$A$2,I21,G21+OFFSET(Очки!$A$18,0,$C$31-1)-1) -> 8.5 | P21: =IF(I21<H21,OFFSET(Очки!$A$20,2+H21-I21,IF(G21=1,13-H21,10+G21)),0) -> 0 | S21: =SUM(J21:R21) -> 12.2
A22: 15 | B22: Балтар Максим | C22: 2.5 | D22: 2 | E22: 5 | F22: 6 | G22: 2 | H22: 2 | I22: 3 | K22: =OFFSET(Очки!$A$2,F22,D22+OFFSET(Очки!$A$18,0,$C$31-1)-1) -> 4.5 | L22: =IF(F22<E22,OFFSET(Очки!$A$20,2+E22-F22,IF(D22=1,13-E22,10+D22)),0) -> 0 | O22: =OFFSET(Очки!$A$2,I22,G22+OFFSET(Очки!$A$18,0,$C$31-1)-1) -> 7 | P22: =IF(I22<H22,OFFSET(Очки!$A$20,2+H22-I22,IF(G22=1,13-H22,10+G22)),0) -> 0 | S22: =SUM(J22:R22) -> 11.5
A23: 16 | B23: Лабунский Алексей | C23: 7.5 | D23: 2 | E23: 2 | F23: 3 | G23: 2 | H23: 3 | I23: 7 | K23: =OFFSET(Очки!$A$2,F23,D23+OFFSET(Очки!$A$18,0,$C$31-1)-1) -> 7 | L23: =IF(F23<E23,OFFSET(Очки!$A$20,2+E23-F23,IF(D23=1,13-E23,10+D23)),0) -> 0 | O23: =OFFSET(Очки!$A$2,I23,G23+OFFSET(Очки!$A$18,0,$C$31-1)-1) -> 4 | P23: =IF(I23<H23,OFFSET(Очки!$A$20,2+H23-I23,IF(G23=1,13-H23,10+G23)),0) -> 0 | S23: =SUM(J23:R23) -> 11
A24: 17 | B24: Голоцван Дима | C24: 7.5 | D24: 1 | E24: 5 | F24: 8 | G24: 2 | H24: 7 | I24: 7 | K24: =OFFSET(Очки!$A$2,F24,D24+OFFSET(Очки!$A$18,0,$C$31-1)-1) -> 9.5 | L24: =IF(F24<E24,OFFSET(Очки!$A$20,2+E24-F24,IF(D24=1,13-E24,10+D24)),0) -> 0 | O24: =OFFSET(Очки!$A$2,I24,G24+OFFSET(Очки!$A$18,0,$C$31-1)-1) -> 4 | P24: =IF(I24<H24,OFFSET(Очки!$A$20,2+H24-I24,IF(G24=1,13-H24,10+G24)),0) -> 0 | R24: =-4-2 -> -6 | S24: =SUM(J24:R24) -> 7.5
A25: 18 | B25: Ильяшенко Владимир | C25: - | D25: 2 | E25: 1 | F25: 10 | G25: 2 | H25: 1 | I25: 9 | K25: =OFFSET(Очки!$A$2,F25,D25+OFFSET(Очки!$A$18,0,$C$31-1)-1) -> 2.5 | L25: =IF(F25<E25,OFFSET(Очки!$A$20,2+E25-F25,IF(D25=1,13-E25,10+D25)),0) -> 0 | O25: =OFFSET(Очки!$A$2,I25,G25+OFFSET(Очки!$A$18,0,$C$31-1)-1) -> 3 | P25: =IF(I25<H25,OFFSET(Очки!$A$20,2+H25-I25,IF(G25=1,13-H25,10+G25)),0) -> 0 | S25: =SUM(J25:R25) -> 5.5
A26: 19 | B26: Мурадян Карен | C26: - | D26: 2 | E26: 3 | F26: 8 | G26: 2 | K26: =OFFSET(Очки!$A$2,F26,D26+OFFSET(Очки!$A$18,0,$C$31-1)-1) -> 3.5 | L26: =IF(F26<E26,OFFSET(Очки!$A$20,2+E26-F26,IF(D26=1,13-E26,10+D26)),0) -> 0 | N26: -5 | O26: =OFFSET(Очки!$A$2,I26,G26+OFFSET(Очки!$A$18,0,$C$31-1)-1) -> II | P26: =IF(I26<H26,OFFSET(Очки!$A$20,2+H26-I26,IF(G26=1,13-H26,10+G26)),0) -> 0 | S26: =SUM(J26:R26) -> -1.5
A27: =RANK(S27,S$6:OFFSET(S$6,0,0,COUNTA(B$6:B$30))) -> #N/A | C27: - | K27: =OFFSET(Очки!$A$2,F27,D27+OFFSET(Очки!$A$18,0,$C$31-1)-1) -> 0 | L27: =IF(F27<E27,OFFSET(Очки!$A$20,2+E27-F27,IF(D27=1,13-E27,10+D27)),0) -> 0 | O27: =OFFSET(Очки!$A$2,I27,G27+OFFSET(Очки!$A$18,0,$C$31-1)-1) -> 0 | P27: =IF(I27<H27,OFFSET(Очки!$A$20,2+H27-I27,IF(G27=1,13-H27,10+G27)),0) -> 0 | S27: =SUM(J27:R27) -> 0
A28: =RANK(S28,S$6:OFFSET(S$6,0,0,COUNTA(B$6:B$30))) -> #N/A | C28: - | K28: =OFFSET(Очки!$A$2,F28,D28+OFFSET(Очки!$A$18,0,$C$31-1)-1) -> 0 | L28: =IF(F28<E28,OFFSET(Очки!$A$20,2+E28-F28,IF(D28=1,13-E28,10+D28)),0) -> 0 | O28: =OFFSET(Очки!$A$2,I28,G28+OFFSET(Очки!$A$18,0,$C$31-1)-1) -> 0 | P28: =IF(I28<H28,OFFSET(Очки!$A$20,2+H28-I28,IF(G28=1,13-H28,10+G28)),0) -> 0 | S28: =SUM(J28:R28) -> 0
A29: =RANK(S29,S$6:OFFSET(S$6,0,0,COUNTA(B$6:B$30))) -> #N/A | C29: - | K29: =OFFSET(Очки!$A$2,F29,D29+OFFSET(Очки!$A$18,0,$C$31-1)-1) -> 0 | L29: =IF(F29<E29,OFFSET(Очки!$A$20,2+E29-F29,IF(D29=1,13-E29,10+D29)),0) -> 0 | O29: =OFFSET(Очки!$A$2,I29,G29+OFFSET(Очки!$A$18,0,$C$31-1)-1) -> 0 | P29: =IF(I29<H29,OFFSET(Очки!$A$20,2+H29-I29,IF(G29=1,13-H29,10+G29)),0) -> 0 | S29: =SUM(J29:R29) -> 0
A30: =RANK(S30,S$6:OFFSET(S$6,0,0,COUNTA(B$6:B$30))) -> #N/A | C30: - | K30: =OFFSET(Очки!$A$2,F30,D30+OFFSET(Очки!$A$18,0,$C$31-1)-1) -> 0 | L30: =IF(F30<E30,OFFSET(Очки!$A$20,2+E30-F30,IF(D30=1,13-E30,10+D30)),0) -> 0 | O30: =OFFSET(Очки!$A$2,I30,G30+OFFSET(Очки!$A$18,0,$C$31-1)-1) -> 0 | P30: =IF(I30<H30,OFFSET(Очки!$A$20,2+H30-I30,IF(G30=1,13-H30,10+G30)),0) -> 0 | S30: =SUM(J30:R30) -> 0
B31: Всего участников | C31: =COUNTA(B6:B30) -> 21

Sheet 04.07
A1: Лайт Лига 04.07.2017 (конфигурация 4)
A3: Место | B3: Участник | D3: 1 | G3: 2 | J3: Очки | S3: Сумма
C4: Довес | D4: группа | E4: Старт | F4: Финиш | G4: группа | H4: Старт | I4: Финиш | J4: Квала | K4: 1 | O4: 2
K5: очки | L5: обгоны | M5: время | N5: штрафы | O5: очки | P5: обгоны | Q5: время | R5: штрафы
A6: =RANK(S6,S$6:OFFSET(S$6,0,0,COUNTA(B$6:B$31))) -> 1 | B6: Звягин Григорий | C6: 7.5 | D6: 1 | E6: 7 | F6: 2 | G6: 1 | H6: 7 | I6: 2 | J6: 1.5 | K6: =OFFSET(Очки!$A$2,F6,D6+OFFSET(Очки!$A$18,0,$C$32-1)-1) -> 16 | L6: =IF(F6<E6,OFFSET(Очки!$A$20,2+E6-F6,IF(D6=1,13-E6,10+D6)),0) -> 4.5 | M6: 1.5 | O6: =OFFSET(Очки!$A$2,I6,G6+OFFSET(Очки!$A$18,0,$C$32-1)-1) -> 16 | P6: =IF(I6<H6,OFFSET(Очки!$A$20,2+H6-I6,IF(G6=1,13-H6,10+G6)),0) -> 4.5 | Q6: 1.5 | S6: =SUM(J6:R6) -> 45.5
A7: =RANK(S7,S$6:OFFSET(S$6,0,0,COUNTA(B$6:B$31))) -> 2 | B7: Онащук Максим | C7: - | D7: 1 | E7: 9 | F7: 6 | G7: 1 | H7: 9 | I7: 6 | J7: 2.5 | K7: =OFFSET(Очки!$A$2,F7,D7+OFFSET(Очки!$A$18,0,$C$32-1)-1) -> 12.5 | L7: =IF(F7<E7,OFFSET(Очки!$A$20,2+E7-F7,IF(D7=1,13-E7,10+D7)),0) -> 3.5 | M7: 2.5 | O7: =OFFSET(Очки!$A$2,I7,G7+OFFSET(Очки!$A$18,0,$C$32-1)-1) -> 12.5 | P7: =IF(I7<H7,OFFSET(Очки!$A$20,2+H7-I7,IF(G7=1,13-H7,10+G7)),0) -> 3.5 | Q7: 2 | S7: =SUM(J7:R7) -> 39
A8: 2 | B8: Фортуна Таня | C8: - | D8: 1 | E8: 8 | F8: 8 | G8: 1 | H8: 6 | I8: 1 | J8: 2 | K8: =OFFSET(Очки!$A$2,F8,D8+OFFSET(Очки!$A$18,0,$C$32-1)-1) -> 11.5 | L8: =IF(F8<E8,OFFSET(Очки!$A$20,2+E8-F8,IF(D8=1,13-E8,10+D8)),0) -> 0 | M8: 1 | O8: =OFFSET(Очки!$A$2,I8,G8+OFFSET(Очки!$A$18,0,$C$32-1)-1) -> 17 | P8: =IF(I8<H8,OFFSET(Очки!$A$20,2+H8-I8,IF(G8=1,13-H8,10+G8)),0) -> 4.1 | Q8: 2.5 | S8: =SUM(J8:R8) -> 38.1
A9: =RANK(S9,S$6:OFFSET(S$6,0,0,COUNTA(B$6:B$31))) -> 4 | B9: Кочмарев Юра | C9: - | D9: 2 | E9: 8 | F9: 2 | G9: 1 | H9: 8 | I9: 7 | K9: =OFFSET(Очки!$A$2,F9,D9+OFFSET(Очки!$A$18,0,$C$32-1)-1) -> 11 | L9: =IF(F9<E9,OFFSET(Очки!$A$20,2+E9-F9,IF(D9=1,13-E9,10+D9)),0) -> 4.2 | M9: 2 | O9: =OFFSET(Очки!$A$2,I9,G9+OFFSET(Очки!$A$18,0,$C$32-1)-1) -> 12 | P9: =IF(I9<H9,OFFSET(Очки!$A$20,2+H9-I9,IF(G9=1,13-H9,10+G9)),0) -> 1.2 | Q9: 1 | S9: =SUM(J9:R9) -> 31.4
A10: 3 | B10: Колтуненко Юра | C10: 12.5 | D10: 2 | E10: 1 | F10: 1 | G10: 1 | H10: 2 | I10: 4 | K10: =OFFSET(Очки!$A$2,F10,D10+OFFSET(Очки!$A$18,0,$C$32-1)-1) -> 12 | L10: =IF(F10<E10,OFFSET(Очки!$A$20,2+E10-F10,IF(D10=1,13-E10,10+D10)),0) -> 0 | O10: =OFFSET(Очки!$A$2,I10,G10+OFFSET(Очки!$A$18,0,$C$32-1)-1) -> 14 | P10: =IF(I10<H10,OFFSET(Очки!$A$20,2+H10-I10,IF(G10=1,13-H10,10+G10)),0) -> 0 | S10: =SUM(J10:R10) -> 26
A11: 4 | B11: Пилипчук Василий | C11: 5 | D11: 2 | E11: 6 | F11: 4 | G11: 1 | H11: 3 | I11: 3 | K11: =OFFSET(Очки!$A$2,F11,D11+OFFSET(Очки!$A$18,0,$C$32-1)-1) -> 9 | L11: =IF(F11<E11,OFFSET(Очки!$A$20,2+E11-F11,IF(D11=1,13-E11,10+D11)),0) -> 1.4 | O11: =OFFSET(Очки!$A$2,I11,G11+OFFSET(Очки!$A$18,0,$C$32-1)-1) -> 15 | P11: =IF(I11<H11,OFFSET(Очки!$A$20,2+H11-I11,IF(G11=1,13-H11,10+G11)),0) -> 0 | Q11: 0.5 | S11: =SUM(J11:R11) -> 25.9
A12: 5 | B12: Сомок Денис | C12: - | D12: 1 | E12: 6 | F12: 7 | G12: 1 | H12: 5 | I12: 8 | J12: 1 | K12: =OFFSET(Очки!$A$2,F12,D12+OFFSET(Очки!$A$18,0,$C$32-1)-1) -> 12 | L12: =IF(F12<E12,OFFSET(Очки!$A$20,2+E12-F12,IF(D12=1,13-E12,10+D12)),0) -> 0 | M12: 0.5 | O12: =OFFSET(Очки!$A$2,I12,G12+OFFSET(Очки!$A$18,0,$C$32-1)-1) -> 11.5 | P12: =IF(I12<H12,OFFSET(Очки!$A$20,2+H12-I12,IF(G12=1,13-H12,10+G12)),0) -> 0 | S12: =SUM(J12:R12) -> 25
A13: 6 | B13: Якусик Дима | C13: 7.5 | D13: 1 | E13: 5 | F13: 3 | G13: 2 | H13: 8 | I13: 7 | J13: 0.5 | K13: =OFFSET(Очки!$A$2,F13,D13+OFFSET(Очки!$A$18,0,$C$32-1)-1) -> 15 | L13: =IF(F13<E13,OFFSET(Очки!$A$20,2+E13-F13,IF(D13=1,13-E13,10+D13)),0) -> 1.7 | O13: =OFFSET(Очки!$A$2,I13,G13+OFFSET(Очки!$A$18,0,$C$32-1)-1) -> 7 | P13: =IF(I13<H13,OFFSET(Очки!$A$20,2+H13-I13,IF(G13=1,13-H13,10+G13)),0) -> 0.7 | S13: =SUM(J13:R13) -> 24.9
A14: 7 | B14: Дарий Игорь | C14: - | D14: 1 | E14: 1 | F14: 1 | G14: 2 | H14: 9 | I14: 6 | K14: =OFFSET(Очки!$A$2,F14,D14+OFFSET(Очки!$A$18,0,$C$32-1)-1) -> 17 | L14: =IF(F14<E14,OFFSET(Очки!$A$20,2+E14-F14,IF(D14=1,13-E14,10+D14)),0) -> 0 | O14: =OFFSET(Очки!$A$2,I14,G14+OFFSET(Очки!$A$18,0,$C$32-1)-1) -> 7.5 | P14: =IF(I14<H14,OFFSET(Очки!$A$20,2+H14-I14,IF(G14=1,13-H14,10+G14)),0) -> 2.1 | R14: -5 | S14: =SUM(J14:R14) -> 21.6
A15: 8 | B15: Лысенко Алексей | C15: - | D15: 1 | E15: 2 | F15: 5 | G15: 2 | H15: 7 | I15: 7 | K15: =OFFSET(Очки!$A$2,F15,D15+OFFSET(Очки!$A$18,0,$C$32-1)-1) -> 13 | L15: =IF(F15<E15,OFFSET(Очки!$A$20,2+E15-F15,IF(D15=1,13-E15,10+D15)),0) -> 0 | O15: =OFFSET(Очки!$A$2,I15,G15+OFFSET(Очки!$A$18,0,$C$32-1)-1) -> 7 | P15: =IF(I15<H15,OFFSET(Очки!$A$20,2+H15-I15,IF(G15=1,13-H15,10+G15)),0) -> 0 | S15: =SUM(J15:R15) -> 20
A16: 9 | B16: Киселев Филипп | C16: - | D16: 3 | E16: 5 | F16: 1 | G16: 2 | H16: 4 | I16: 3 | K16: =OFFSET(Очки!$A$2,F16,D16+OFFSET(Очки!$A$18,0,$C$32-1)-1) -> 7 | L16: =IF(F16<E16,OFFSET(Очки!$A$20,2+E16-F16,IF(D16=1,13-E16,10+D16)),0) -> 2 | O16: =OFFSET(Очки!$A$2,I16,G16+OFFSET(Очки!$A$18,0,$C$32-1)-1) -> 10 | P16: =IF(I16<H16,OFFSET(Очки!$A$20,2+H16-I16,IF(G16=1,13-H16,10+G16)),0) -> 0.7 | S16: =SUM(J16:R16) -> 19.7
A17: 9 | B17: Конюхов Роман | C17: 10 | D17: 3 | E17: 6 | F17: 2 | G17: 2 | H17: 3 | I17: 2 | K17: =OFFSET(Очки!$A$2,F17,D17+OFFSET(Очки!$A$18,0,$C$32-1)-1) -> 6 | L17: =IF(F17<E17,OFFSET(Очки!$A$20,2+E17-F17,IF(D17=1,13-E17,10+D17)),0) -> 2 | O17: =OFFSET(Очки!$A$2,I17,G17+OFFSET(Очки!$A$18,0,$C$32-1)-1) -> 11 | P17: =IF(I17<H17,OFFSET(Очки!$A$20,2+H17-I17,IF(G17=1,13-H17,10+G17)),0) -> 0.7 | S17: =SUM(J17:R17) -> 19.7
A18: 11 | B18: Якусик Александр | C18: 7.5 | D18: 2 | E18: 4 | F18: 9 | G18: 2 | H18: 2 | I18: 1 | K18: =OFFSET(Очки!$A$2,F18,D18+OFFSET(Очки!$A$18,0,$C$32-1)-1) -> 6 | L18: =IF(F18<E18,OFFSET(Очки!$A$20,2+E18-F18,IF(D18=1,13-E18,10+D18)),0) -> 0 | O18: =OFFSET(Очки!$A$2,I18,G18+OFFSET(Очки!$A$18,0,$C$32-1)-1) -> 12 | P18: =IF(I18<H18,OFFSET(Очки!$A$20,2+H18-I18,IF(G18=1,13-H18,10+G18)),0) -> 0.7 | S18: =SUM(J18:R18) -> 18.7
A19: 12 | B19: Шиленко Александр | C19: - | D19: 2 | E19: 7 | F19: 8 | G19: 1 | H19: 4 | I19: 9 | K19: =OFFSET(Очки!$A$2,F19,D19+OFFSET(Очки!$A$18,0,$C$32-1)-1) -> 6.5 | L19: =IF(F19<E19,OFFSET(Очки!$A$20,2+E19-F19,IF(D19=1,13-E19,10+D19)),0) -> 0 | O19: =OFFSET(Очки!$A$2,I19,G19+OFFSET(Очки!$A$18,0,$C$32-1)-1) -> 11 | P19: =IF(I19<H19,OFFSET(Очки!$A$20,2+H19-I19,IF(G19=1,13-H19,10+G19)),0) -> 0 | S19: =SUM(J19:R19) -> 17.5
A20: 13 | B20: Тамберг Александр | C20: - | D20: 1 | E20: 3 | F20: 4 | G20: 2 | H20: 6 | I20: 4 | K20: =OFFSET(Очки!$A$2,F20,D20+OFFSET(Очки!$A$18,0,$C$32-1)-1) -> 14 | L20: =IF(F20<E20,OFFSET(Очки!$A$20,2+E20-F20,IF(D20=1,13-E20,10+D20)),0) -> 0 | O20: =OFFSET(Очки!$A$2,I20,G20+OFFSET(Очки!$A$18,0,$C$32-1)-1) -> 9 | P20: =IF(I20<H20,OFFSET(Очки!$A$20,2+H20-I20,IF(G20=1,13-H20,10+G20)),0) -> 1.4 | R20: -7 | S20: =SUM(J20:R20) -> 17.4
A21: 14 | B21: Фаль Александр | C21: - | D21: 1 | E21: 4 | F21: 9 | G21: 2 | H21: 5 | I21: 4 | K21: =OFFSET(Очки!$A$2,F21,D21+OFFSET(Очки!$A$18,0,$C$32-1)-1) -> 11 | L21: =IF(F21<E21,OFFSET(Очки!$A$20,2+E21-F21,IF(D21=1,13-E21,10+D21)),0) -> 0 | O21: =OFFSET(Очки!$A$2,I21,G21+OFFSET(Очки!$A$18,0,$C$32-1)-1) -> 9 | P21: =IF(I21<H21,OFFSET(Очки!$A$20,2+H21-I21,IF(G21=1,13-H21,10+G21)),0) -> 0.7 | R21: -4 | S21: =SUM(J21:R21) -> 16.7
A22: 15 | B22: Муляр Андрей | C22: - | D22: 2 | E22: 3 | F22: 3 | G22: 2 | H22: 1 | I22: 8 | K22: =OFFSET(Очки!$A$2,F22,D22+OFFSET(Очки!$A$18,0,$C$32-1)-1) -> 10 | L22: =IF(F22<E22,OFFSET(Очки!$A$20,2+E22-F22,IF(D22=1,13-E22,10+D22)),0) -> 0 | O22: =OFFSET(Очки!$A$2,I22,G22+OFFSET(Очки!$A$18,0,$C$32-1)-1) -> 6.5 | P22: =IF(I22<H22,OFFSET(Очки!$A$20,2+H22-I22,IF(G22=1,13-H22,10+G22)),0) -> 0 | S22: =SUM(J22:R22) -> 16.5
A23: 16 | B23: Дядя Саша | C23: - | D23: 2 | E23: 9 | F23: 7 | G23: 3 | H23: 6 | I23: 3 | K23: =OFFSET(Очки!$A$2,F23,D23+OFFSET(Очки!$A$18,0,$C$32-1)-1) -> 7 | L23: =IF(F23<E23,OFFSET(Очки!$A$20,2+E23-F23,IF(D23=1,13-E23,10+D23)),0) -> 1.4 | O23: =OFFSET(Очки!$A$2,I23,G23+OFFSET(Очки!$A$18,0,$C$32-1)-1) -> 5 | P23: =IF(I23<H23,OFFSET(Очки!$A$20,2+H23-I23,IF(G23=1,13-H23,10+G23)),0) -> 1.5 | S23: =SUM(J23:R23) -> 14.9
A24: 17 | B24: Трихлеб Александр | C24: - | D24: 2 | E24: 5 | F24: 6 | G24: 1 | H24: 1 | I24: 5 | L24: =IF(F24<E24,OFFSET(Очки!$A$20,2+E24-F24,IF(D24=1,13-E24,10+D24)),0) -> 0 | O24: =OFFSET(Очки!$A$2,I24,G24+OFFSET(Очки!$A$18,0,$C$32-1)-1) -> 13 | P24: =IF(I24<H24,OFFSET(Очки!$A$20,2+H24-I24,IF(G24=1,13-H24,10+G24)),0) -> 0 | S24: =SUM(J24:R24) -> 13
A25: 18 | B25: Михайлик Миша | C25: 22.5 | D25: 3 | E25: 4 | F25: 3 | G25: 3 | H25: 4 | I25: 2 | K25: =OFFSET(Очки!$A$2,F25,D25+OFFSET(Очки!$A$18,0,$C$32-1)-1) -> 5 | L25: =IF(F25<E25,OFFSET(Очки!$A$20,2+E25-F25,IF(D25=1,13-E25,10+D25)),0) -> 0.5 | O25: =OFFSET(Очки!$A$2,I25,G25+OFFSET(Очки!$A$18,0,$C$32-1)-1) -> 6 | P25: =IF(I25<H25,OFFSET(Очки!$A$20,2+H25-I25,IF(G25=1,13-H25,10+G25)),0) -> 1 | S25: =SUM(J25:R25) -> 12.5
A26: 19 | B26: Литвиненко Дима | C26: 2.5 | D26: 3 | E26: 2 | F26: 4 | G26: 3 | H26: 2 | I26: 1 | K26: =OFFSET(Очки!$A$2,F26,D26+OFFSET(Очки!$A$18,0,$C$32-1)-1) -> 4 | L26: =IF(F26<E26,OFFSET(Очки!$A$20,2+E26-F26,IF(D26=1,13-E26,10+D26)),0) -> 0 | O26: =OFFSET(Очки!$A$2,I26,G26+OFFSET(Очки!$A$18,0,$C$32-1)-1) -> 7 | P26: =IF(I26<H26,OFFSET(Очки!$A$20,2+H26-I26,IF(G26=1,13-H26,10+G26)),0) -> 0.5 | S26: =SUM(J26:R26) -> 11.5
A27: 20 | B27: Остренко Стас | C27: - | D27: 2 | E27: 2 | F27: 5 | G27: 3 | H27: 5 | I27: 4 | K27: =OFFSET(Очки!$A$2,F27,D27+OFFSET(Очки!$A$18,0,$C$32-1)-1) -> 8 | L27: =IF(F27<E27,OFFSET(Очки!$A$20,2+E27-F27,IF(D27=1,13-E27,10+D27)),0) -> 0 | O27: =OFFSET(Очки!$A$2,I27,G27+OFFSET(Очки!$A$18,0,$C$32-1)-1) -> 4 | P27: =IF(I27<H27,OFFSET(Очки!$A$20,2+H27-I27,IF(G27=1,13-H27,10+G27)),0) -> 0.5 | R27: -3 | S27: =SUM(J27:R27) -> 9.5
A28: 21 | B28: Верна Николай | C28: 7.5 | D28: 3 | E28: 3 | F28: 5 | G28: 3 | H28: 3 | I28: 5 | K28: =OFFSET(Очки!$A$2,F28,D28+OFFSET(Очки!$A$18,0,$C$32-1)-1) -> 3 | L28: =IF(F28<E28,OFFSET(Очки!$A$20,2+E28-F28,IF(D28=1,13-E28,10+D28)),0) -> 0 | O28: =OFFSET(Очки!$A$2,I28,G28+OFFSET(Очки!$A$18,0,$C$32-1)-1) -> 3 | P28: =IF(I28<H28,OFFSET(Очки!$A$20,2+H28-I28,IF(G28=1,13-H28,10+G28)),0) -> 0 | S28: =SUM(J28:R28) -> 6
A29: 22 | B29: Ильяшенко Владимир | C29: - | D29: 3 | E29: 1 | F29: 6 | G29: 3 | H29: 1 | I29: 6 | K29: =OFFSET(Очки!$A$2,F29,D29+OFFSET(Очки!$A$18,0,$C$32-1)-1) -> 2.5 | L29: =IF(F29<E29,OFFSET(Очки!$A$20,2+E29-F29,IF(D29=1,13-E29,10+D29)),0) -> 0 | O29: =OFFSET(Очки!$A$2,I29,G29+OFFSET(Очки!$A$18,0,$C$32-1)-1) -> 2.5 | P29: =IF(I29<H29,OFFSET(Очки!$A$20,2+H29-I29,IF(G29=1,13-H29,10+G29)),0) -> 0 | S29: =SUM(J29:R29) -> 5
A30: 23 | B30: Колпачев Сергей | C30: 15 | D30: 3 | E30: 8 | F30: 8 | G30: 3 | H30: 8 | I30: 7 | K30: =OFFSET(Очки!$A$2,F30,D30+OFFSET(Очки!$A$18,0,$C$32-1)-1) -> 1.5 | L30: =IF(F30<E30,OFFSET(Очки!$A$20,2+E30-F30,IF(D30=1,13-E30,10+D30)),0) -> 0 | O30: =OFFSET(Очки!$A$2,I30,G30+OFFSET(Очки!$A$18,0,$C$32-1)-1) -> 2 | P30: =IF(I30<H30,OFFSET(Очки!$A$20,2+H30-I30,IF(G30=1,13-H30,10+G30)),0) -> 0.5 | S30: =SUM(J30:R30) -> 4
A31: 24 | B31: Колпачев Алексей | C31: 17.5 | D31: 3 | E31: 7 | F31: 7 | G31: 3 | H31: 7 | I31: 8 | K31: =OFFSET(Очки!$A$2,F31,D31+OFFSET(Очки!$A$18,0,$C$32-1)-1) -> 2 | L31: =IF(F31<E31,OFFSET(Очки!$A$20,2+E31-F31,IF(D31=1,13-E31,10+D31)),0) -> 0 | O31: =OFFSET(Очки!$A$2,I31,G31+OFFSET(Очки!$A$18,0,$C$32-1)-1) -> 1.5 | P31: =IF(I31<H31,OFFSET(Очки!$A$20,2+H31-I31,IF(G31=1,13-H31,10+G31)),0) -> 0 | S31: =SUM(J31:R31) -> 3.5
B32: Всего участников | C32: =COUNTA(B6:B31) -> 26

Sheet 12121 (3)
A1: Лайт Лига 20.06.2017 (конфигурация 6)
A3: Место | B3: Участник | D3: 1 | G3: 2 | J3: Очки | S3: Сумма
C4: Довес | D4: группа | E4: Старт | F4: Финиш | G4: группа | H4: Старт | I4: Финиш | J4: Квала | K4: 1 | O4: 2
K5: очки | L5: обгоны | M5: время | N5: штрафы | O5: очки | P5: обгоны | Q5: время | R5: штрафы
A6: =RANK(S6,S$6:OFFSET(S$6,0,0,COUNTA(B$6:B$30))) -> #REF! | C6: - | K6: =OFFSET(Очки!$A$2,F6,D6+OFFSET(Очки!$A$18,0,$C$31-1)-1) -> #REF! | L6: =IF(F6<E6,OFFSET(Очки!$A$20,2+E6-F6,IF(D6=1,13-E6,10+D6)),0) -> 0 | O6: =OFFSET(Очки!$A$2,I6,G6+OFFSET(Очки!$A$18,0,$C$31-1)-1) -> #REF! | P6: =IF(I6<H6,OFFSET(Очки!$A$20,2+H6-I6,IF(G6=1,13-H6,10+G6)),0) -> 0 | S6: =SUM(J6:R6) -> #REF!
A7: =RANK(S7,S$6:OFFSET(S$6,0,0,COUNTA(B$6:B$30))) -> #REF! | C7: - | K7: =OFFSET(Очки!$A$2,F7,D7+OFFSET(Очки!$A$18,0,$C$31-1)-1) -> #REF! | L7: =IF(F7<E7,OFFSET(Очки!$A$20,2+E7-F7,IF(D7=1,13-E7,10+D7)),0) -> 0 | O7: =OFFSET(Очки!$A$2,I7,G7+OFFSET(Очки!$A$18,0,$C$31-1)-1) -> #REF! | P7: =IF(I7<H7,OFFSET(Очки!$A$20,2+H7-I7,IF(G7=1,13-H7,10+G7)),0) -> 0 | S7: =SUM(J7:R7) -> #REF!
A8: =RANK(S8,S$6:OFFSET(S$6,0,0,COUNTA(B$6:B$30))) -> #REF! | C8: - | K8: =OFFSET(Очки!$A$2,F8,D8+OFFSET(Очки!$A$18,0,$C$31-1)-1) -> #REF! | L8: =IF(F8<E8,OFFSET(Очки!$A$20,2+E8-F8,IF(D8=1,13-E8,10+D8)),0) -> 0 | O8: =OFFSET(Очки!$A$2,I8,G8+OFFSET(Очки!$A$18,0,$C$31-1)-1) -> #REF! | P8: =IF(I8<H8,OFFSET(Очки!$A$20,2+H8-I8,IF(G8=1,13-H8,10+G8)),0) -> 0 | S8: =SUM(J8:R8) -> #REF!
A9: =RANK(S9,S$6:OFFSET(S$6,0,0,COUNTA(B$6:B$30))) -> #REF! | C9: - | K9: =OFFSET(Очки!$A$2,F9,D9+OFFSET(Очки!$A$18,0,$C$31-1)-1) -> #REF! | L9: =IF(F9<E9,OFFSET(Очки!$A$20,2+E9-F9,IF(D9=1,13-E9,10+D9)),0) -> 0 | O9: =OFFSET(Очки!$A$2,I9,G9+OFFSET(Очки!$A$18,0,$C$31-1)-1) -> #REF! | P9: =IF(I9<H9,OFFSET(Очки!$A$20,2+H9-I9,IF(G9=1,13-H9,10+G9)),0) -> 0 | S9: =SUM(J9:R9) -> #REF!
A10: =RANK(S10,S$6:OFFSET(S$6,0,0,COUNTA(B$6:B$30))) -> #REF! | C10: - | K10: =OFFSET(Очки!$A$2,F10,D10+OFFSET(Очки!$A$18,0,$C$31-1)-1) -> #REF! | L10: =IF(F10<E10,OFFSET(Очки!$A$20,2+E10-F10,IF(D10=1,13-E10,10+D10)),0) -> 0 | O10: =OFFSET(Очки!$A$2,I10,G10+OFFSET(Очки!$A$18,0,$C$31-1)-1) -> #REF! | P10: =IF(I10<H10,OFFSET(Очки!$A$20,2+H10-I10,IF(G10=1,13-H10,10+G10)),0) -> 0 | S10: =SUM(J10:R10) -> #REF!
A11: =RANK(S11,S$6:OFFSET(S$6,0,0,COUNTA(B$6:B$30))) -> #REF! | C11: - | K11: =OFFSET(Очки!$A$2,F11,D11+OFFSET(Очки!$A$18,0,$C$31-1)-1) -> #REF! | L11: =IF(F11<E11,OFFSET(Очки!$A$20,2+E11-F11,IF(D11=1,13-E11,10+D11)),0) -> 0 | O11: =OFFSET(Очки!$A$2,I11,G11+OFFSET(Очки!$A$18,0,$C$31-1)-1) -> #REF! | P11: =IF(I11<H11,OFFSET(Очки!$A$20,2+H11-I11,IF(G11=1,13-H11,10+G11)),0) -> 0 | S11: =SUM(J11:R11) -> #REF!
A12: =RANK(S12,S$6:OFFSET(S$6,0,0,COUNTA(B$6:B$30))) -> #REF! | C12: - | K12: =OFFSET(Очки!$A$2,F12,D12+OFFSET(Очки!$A$18,0,$C$31-1)-1) -> #REF! | L12: =IF(F12<E12,OFFSET(Очки!$A$20,2+E12-F12,IF(D12=1,13-E12,10+D12)),0) -> 0 | O12: =OFFSET(Очки!$A$2,I12,G12+OFFSET(Очки!$A$18,0,$C$31-1)-1) -> #REF! | P12: =IF(I12<H12,OFFSET(Очки!$A$20,2+H12-I12,IF(G12=1,13-H12,10+G12)),0) -> 0 | S12: =SUM(J12:R12) -> #REF!
A13: =RANK(S13,S$6:OFFSET(S$6,0,0,COUNTA(B$6:B$30))) -> #REF! | C13: - | K13: =OFFSET(Очки!$A$2,F13,D13+OFFSET(Очки!$A$18,0,$C$31-1)-1) -> #REF! | L13: =IF(F13<E13,OFFSET(Очки!$A$20,2+E13-F13,IF(D13=1,13-E13,10+D13)),0) -> 0 | O13: =OFFSET(Очки!$A$2,I13,G13+OFFSET(Очки!$A$18,0,$C$31-1)-1) -> #REF! | P13: =IF(I13<H13,OFFSET(Очки!$A$20,2+H13-I13,IF(G13=1,13-H13,10+G13)),0) -> 0 | S13: =SUM(J13:R13) -> #REF!
A14: =RANK(S14,S$6:OFFSET(S$6,0,0,COUNTA(B$6:B$30))) -> #REF! | C14: - | K14: =OFFSET(Очки!$A$2,F14,D14+OFFSET(Очки!$A$18,0,$C$31-1)-1) -> #REF! | L14: =IF(F14<E14,OFFSET(Очки!$A$20,2+E14-F14,IF(D14=1,13-E14,10+D14)),0) -> 0 | O14: =OFFSET(Очки!$A$2,I14,G14+OFFSET(Очки!$A$18,0,$C$31-1)-1) -> #REF! | P14: =IF(I14<H14,OFFSET(Очки!$A$20,2+H14-I14,IF(G14=1,13-H14,10+G14)),0) -> 0 | S14: =SUM(J14:R14) -> #REF!
A15: =RANK(S15,S$6:OFFSET(S$6,0,0,COUNTA(B$6:B$30))) -> #REF! | C15: - | K15: =OFFSET(Очки!$A$2,F15,D15+OFFSET(Очки!$A$18,0,$C$31-1)-1) -> #REF! | L15: =IF(F15<E15,OFFSET(Очки!$A$20,2+E15-F15,IF(D15=1,13-E15,10+D15)),0) -> 0 | O15: =OFFSET(Очки!$A$2,I15,G15+OFFSET(Очки!$A$18,0,$C$31-1)-1) -> #REF! | P15: =IF(I15<H15,OFFSET(Очки!$A$20,2+H15-I15,IF(G15=1,13-H15,10+G15)),0) -> 0 | S15: =SUM(J15:R15) -> #REF!
A16: =RANK(S16,S$6:OFFSET(S$6,0,0,COUNTA(B$6:B$30))) -> #REF! | C16: - | K16: =OFFSET(Очки!$A$2,F16,D16+OFFSET(Очки!$A$18,0,$C$31-1)-1) -> #REF! | L16: =IF(F16<E16,OFFSET(Очки!$A$20,2+E16-F16,IF(D16=1,13-E16,10+D16)),0) -> 0 | O16: =OFFSET(Очки!$A$2,I16,G16+OFFSET(Очки!$A$18,0,$C$31-1)-1) -> #REF! | P16: =IF(I16<H16,OFFSET(Очки!$A$20,2+H16-I16,IF(G16=1,13-H16,10+G16)),0) -> 0 | S16: =SUM(J16:R16) -> #REF!
A17: =RANK(S17,S$6:OFFSET(S$6,0,0,COUNTA(B$6:B$30))) -> #REF! | C17: - | K17: =OFFSET(Очки!$A$2,F17,D17+OFFSET(Очки!$A$18,0,$C$31-1)-1) -> #REF! | L17: =IF(F17<E17,OFFSET(Очки!$A$20,2+E17-F17,IF(D17=1,13-E17,10+D17)),0) -> 0 | O17: =OFFSET(Очки!$A$2,I17,G17+OFFSET(Очки!$A$18,0,$C$31-1)-1) -> #REF! | P17: =IF(I17<H17,OFFSET(Очки!$A$20,2+H17-I17,IF(G17=1,13-H17,10+G17)),0) -> 0 | S17: =SUM(J17:R17) -> #REF!
... A30: =RANK(S30,S$6:OFFSET(S$6,0,0,COUNTA(B$6:B$30))) -> #REF! | C30: - | K30: =OFFSET(Очки!$A$2,F30,D30+OFFSET(Очки!$A$18,0,$C$31-1)-1) -> #REF! | L30: =IF(F30<E30,OFFSET(Очки!$A$20,2+E30-F30,IF(D30=1,13-E30,10+D30)),0) -> 0 | O30: =OFFSET(Очки!$A$2,I30,G30+OFFSET(Очки!$A$18,0,$C$31-1)-1) -> #REF! | P30: =IF(I30<H30,OFFSET(Очки!$A$20,2+H30-I30,IF(G30=1,13-H30,10+G30)),0) -> 0 | S30: =SUM(J30:R30) -> #REF!
B31: Всего участников | C31: =COUNTA(B6:B30) -> 0
