Workbook

Sheet Регистрация
A1: Кубок дружбы, 02.06.2017, Конфигурация №9
A3: Регистрационная форма
A5: № в гонке | B5: Команда | C5: Город | D5: Пилот | E5: Вес | F5: Довес
A7: 1 | B7: Kozaks | C7: Киев | D7: Пикулин Паша | E7: 74.1 | F7: =AVERAGE(E7:E8) -> 76
C8: Киев | D8: Наум | E8: 77.9
A9: 2 | B9: Kozak I razboiniki | C9: Киев | D9: Манило Денис | E9: 81.3 | F9: =AVERAGE(E9:E10) -> 76
C10: Киев | D10: Гаврилюк Олег | E10: 70.7
A11: 3 | B11: Simon f1 up | C11: Киев | D11: Вильнев Артем | E11: 95.2 | F11: =AVERAGE(E11:E12) -> 85.65
C12: Киев | D12: Таволжан Виталий | E12: 76.1
F13: =AVERAGE(E13:E14) -> #DIV/0!
A15: 4 | B15: RocknRolla | C15: Киев | D15: Лабинский Коля | E15: 83 | F15: =AVERAGE(E15:E16) -> 83.2
C16: Киев | D16: Ткаченко Антон | E16: 83.4
A17: 5 | B17: Fast and sexy | C17: Харьков | D17: Медведева Дарья | E17: 80 | F17: =AVERAGE(E17:E18) -> 74.65
C18: Харьков | D18: Кравченок Александр | E18: 69.3
A19: 6 | B19: Na_Сnuax | C19: Харьков | D19: Звягин Григорий | E19: 74.5 | F19: =AVERAGE(E19:E20) -> 76.65
C20: Харьков | D20: Харченко Артем | E20: 78.8
A21: 8
A23: 9
A25: 10
E27: -
E28: 70.2
A29: 12
A31: 7 | B31: Marlboro | C31: Одесса | D31: Литвиненко Олег | E31: 65.6 | F31: =AVERAGE(E31:E32) -> 65.9
C32: Одесса | D32: Толоченко Александр | E32: 66.2
A33: 8 | B33: Vse rovno | C33: Одесса | D33: Юрченко Вова | E33: 72.6 | F33: =AVERAGE(E33:E34) -> 74.7
A34: 11.653534 | C34: Херсон | D34: Скорик Сергей | E34: 76.8
A35: 9 | B35: kartbrothers | C35: Харьков | D35: Ярошенко Дмитро | E35: 63.7 | F35: =AVERAGE(E35:E36) -> 79.3
A36: 12.438007 | C36: Харьков | D36: Ерофеев Денис | E36: 94.9
A37: 10 | B37: Fast team | C37: Одесса | D37: Новиков Герман | E37: 45.8 | F37: =AVERAGE(E37:E38) -> 46.05
A38: 13.22248 | C38: Херсон | D38: Тихий Влад | E38: 46.3
A39: 11 | B39: Monaco | C39: Киев | D39: Онащук Максим | E39: 84.3 | F39: =AVERAGE(E39:E40) -> 77.7
A40: 14.006952 | C40: Киев | D40: Хлопонин Андрей | E40: 71.1
A41: 14.399189
A42: 14.791425
A43: 15.183662
A44: 15.575898
A45: 15.968134
A46: 16.360371
A47: 16.752607
A48: 17.144844
A49: 17.53708
A50: 17.929316
A51: 12 | B51: Jaguar | C51: Одесса | D51: Береза Дмитрий | E51: 78.8 | F51: =AVERAGE(E51:E52) -> 72.8
A52: 18.713789 | C52: Киев | D52: Лихошерт алекей | E52: 66.8
A53: 13 | B53: Shum | C53: Киев | D53: Шутка Виталий | E53: 88.8 | F53: =AVERAGE(E53:E54) -> 88.8
A54: 19.498262 | C54: Киев | D54: ДИО
A55: 14 | F55: =AVERAGE(E55:E56) -> #DIV/0!
A56: 20.282735
A57: 20.674971 | F57: =AVERAGE(E57:E58) -> #DIV/0!
A59: 21.067207 | F59: =AVERAGE(E59:E60) -> #DIV/0!
A60: 21.459444
A61: 21.85168
A62: 22.243917
A63: 22.636153
A64: 23.028389
A65: 23.420626
A66: 23.812862
A67: 24.205098
A68: 24.597335
A69: 24.989571
A70: 25.381808
A71: 25.774044 | F71: =AVERAGE(E71:E72) -> #DIV/0!
A72: 26.16628
A73: 26.558517 | F73: =AVERAGE(E73:E74) -> #DIV/0!
A74: 26.950753
A75: 27.34299
A76: 27.735226
A77: 28.127462
A78: 28.519699
A79: 28.911935
A80: 29.304171
A81: 29.696408
A82: 30.088644
A83: 30.480881
A85: 30.873117
A86: 31.265353
... A152: 56.356345

Sheet Схема заездов
A1: Схема гоночных заездов
A2: Заезд | C2: 1 | H2: Заезд | J2: 5 | S2: # участника | T2: ЗАЕЗД
A3: =$S$4 -> 10 | B3: =T4 -> 1 | C3: =VLOOKUP($B3,'таблица гонки'!$A$5:$D$17,2,0) -> Jaguar | D3: =VLOOKUP($B3,'таблица гонки'!$A$5:$D$17,3,0) -> Киев , Одесса | E3: =VLOOKUP($B3,'таблица гонки'!$A$5:$D$17,4,0) -> 7.5 | H3: =$S$4 -> 10 | I3: =X4 -> 9 | J3: =VLOOKUP($I3,'таблица гонки'!$A$5:$D$17,2,0) -> Vse rovno | K3: =VLOOKUP($I3,'таблица гонки'!$A$5:$D$17,3,0) -> Одесса, Херсон | L3: =VLOOKUP($I3,'таблица гонки'!$A$5:$D$17,4,0) -> 7.5 | S3: поз(карт) | T3: 1 | U3: 2 | V3: 3 | W3: 4 | X3: 5 | Y3: 6 | Z3: 7 | AA3: 8
A4: =$S$5 -> 33 | B4: =T5 -> 2 | C4: =VLOOKUP($B4,'таблица гонки'!$A$5:$D$17,2,0) -> Kozaks | D4: =VLOOKUP($B4,'таблица гонки'!$A$5:$D$17,3,0) -> Киев | E4: =VLOOKUP($B4,'таблица гонки'!$A$5:$D$17,4,0) -> 5 | H4: =$S$5 -> 33 | I4: =X5 -> 3 | J4: =VLOOKUP($I4,'таблица гонки'!$A$5:$D$17,2,0) -> Fast and sexy | K4: =VLOOKUP($I4,'таблица гонки'!$A$5:$D$17,3,0) -> Харьков | L4: =VLOOKUP($I4,'таблица гонки'!$A$5:$D$17,4,0) -> 7.5 | S4: 10 | T4: 1 | U4: 11 | V4: 10 | W4: 4 | X4: 9 | Y4: 6 | Z4: 7 | AA4: =SUM(T4:Z5) -> 91
A5: =$S$6 -> 9 | B5: =T6 -> 3 | C5: =VLOOKUP($B5,'таблица гонки'!$A$5:$D$17,2,0) -> Fast and sexy | D5: =VLOOKUP($B5,'таблица гонки'!$A$5:$D$17,3,0) -> Харьков | E5: =VLOOKUP($B5,'таблица гонки'!$A$5:$D$17,4,0) -> 7.5 | H5: =$S$6 -> 9 | I5: =X6 -> 10 | J5: =VLOOKUP($I5,'таблица гонки'!$A$5:$D$17,2,0) -> Simon f1 up | K5: =VLOOKUP($I5,'таблица гонки'!$A$5:$D$17,3,0) -> Киев | L5: =VLOOKUP($I5,'таблица гонки'!$A$5:$D$17,4,0) -> - | S5: 33 | T5: 2 | U5: 8 | V5: 5 | X5: 3 | Y5: 12 | Z5: 13
A6: =$S$7 -> 5 | B6: =T7 -> 4 | C6: =VLOOKUP($B6,'таблица гонки'!$A$5:$D$17,2,0) -> RocknRolla | D6: =VLOOKUP($B6,'таблица гонки'!$A$5:$D$17,3,0) -> Киев | E6: =VLOOKUP($B6,'таблица гонки'!$A$5:$D$17,4,0) -> - | H6: =$S$7 -> 5 | I6: =X7 -> 11 | J6: =VLOOKUP($I6,'таблица гонки'!$A$5:$D$17,2,0) -> Kozak I razboiniki | K6: =VLOOKUP($I6,'таблица гонки'!$A$5:$D$17,3,0) -> Киев | L6: =VLOOKUP($I6,'таблица гонки'!$A$5:$D$17,4,0) -> 5 | S6: 9 | T6: 3 | U6: 12 | V6: 8 | W6: 2 | X6: 10 | Y6: 5 | AA6: =SUM(T6:Z7) -> 91
A7: =$S$8 -> 13 | B7: =T8 -> 5 | C7: =VLOOKUP($B7,'таблица гонки'!$A$5:$D$17,2,0) -> Fast team | D7: =VLOOKUP($B7,'таблица гонки'!$A$5:$D$17,3,0) -> Одесса, Херсон | E7: =VLOOKUP($B7,'таблица гонки'!$A$5:$D$17,4,0) -> 15 | H7: =$S$8 -> 13 | I7: =X8 -> 8 | J7: =VLOOKUP($I7,'таблица гонки'!$A$5:$D$17,2,0) -> kartbrothers | K7: =VLOOKUP($I7,'таблица гонки'!$A$5:$D$17,3,0) -> Харьков | L7: =VLOOKUP($I7,'таблица гонки'!$A$5:$D$17,4,0) -> 2.5 | S7: 5 | T7: 4 | U7: 13 | V7: 9 | W7: 6 | X7: 11 | Y7: 7 | Z7: 1
A8: =$S$9 -> 8 | B8: =T9 -> 6 | C8: =VLOOKUP($B8,'таблица гонки'!$A$5:$D$17,2,0) -> Monaco | D8: =VLOOKUP($B8,'таблица гонки'!$A$5:$D$17,3,0) -> Киев | E8: =VLOOKUP($B8,'таблица гонки'!$A$5:$D$17,4,0) -> 2.5 | H8: =$S$9 -> 8 | I8: =X9 -> 4 | J8: =VLOOKUP($I8,'таблица гонки'!$A$5:$D$17,2,0) -> RocknRolla | K8: =VLOOKUP($I8,'таблица гонки'!$A$5:$D$17,3,0) -> Киев | L8: =VLOOKUP($I8,'таблица гонки'!$A$5:$D$17,4,0) -> - | S8: 13 | T8: 5 | V8: 1 | W8: 13 | X8: 8 | Y8: 10 | Z8: 12 | AA8: =SUM(T8:Z9) -> 91
A9: =$S$10 -> 6 | B9: =T10 -> 7 | C9: =VLOOKUP($B9,'таблица гонки'!$A$5:$D$17,2,0) -> Shum | D9: =VLOOKUP($B9,'таблица гонки'!$A$5:$D$17,3,0) -> Киев | E9: =VLOOKUP($B9,'таблица гонки'!$A$5:$D$17,4,0) -> - | H9: =$S$10 -> 6 | I9: =X10 -> 12 | J9: =VLOOKUP($I9,'таблица гонки'!$A$5:$D$17,2,0) -> Marlboro | K9: =VLOOKUP($I9,'таблица гонки'!$A$5:$D$17,3,0) -> Одесса | L9: =VLOOKUP($I9,'таблица гонки'!$A$5:$D$17,4,0) -> 15 | S9: 8 | T9: 6 | U9: 2 | V9: 11 | W9: 7 | X9: 4 | Y9: 3 | Z9: 9
A10: =$S$11 -> 21 | B10: =T11 -> 8 | C10: =VLOOKUP($B10,'таблица гонки'!$A$5:$D$17,2,0) -> kartbrothers | D10: =VLOOKUP($B10,'таблица гонки'!$A$5:$D$17,3,0) -> Харьков | E10: =VLOOKUP($B10,'таблица гонки'!$A$5:$D$17,4,0) -> 2.5 | H10: =$S$11 -> 21 | I10: =X11 -> 5 | J10: =VLOOKUP($I10,'таблица гонки'!$A$5:$D$17,2,0) -> Fast team | K10: =VLOOKUP($I10,'таблица гонки'!$A$5:$D$17,3,0) -> Одесса, Херсон | L10: =VLOOKUP($I10,'таблица гонки'!$A$5:$D$17,4,0) -> 15 | S10: 6 | T10: 7 | U10: 4 | V10: 6 | W10: 9 | X10: 12 | Y10: 13 | Z10: 3 | AA10: =SUM(T10:Z11) -> 91
A11: =$S$12 -> 7 | B11: =T12 -> 9 | C11: =VLOOKUP($B11,'таблица гонки'!$A$5:$D$17,2,0) -> Vse rovno | D11: =VLOOKUP($B11,'таблица гонки'!$A$5:$D$17,3,0) -> Одесса, Херсон | E11: =VLOOKUP($B11,'таблица гонки'!$A$5:$D$17,4,0) -> 7.5 | H11: =$S$12 -> 7 | I11: =X12 -> 0 | J11: =VLOOKUP($I11,'таблица гонки'!$A$5:$D$17,2,0) -> #N/A | K11: =VLOOKUP($I11,'таблица гонки'!$A$5:$D$17,3,0) -> #N/A | L11: =VLOOKUP($I11,'таблица гонки'!$A$5:$D$17,4,0) -> #N/A | S11: 21 | T11: 8 | U11: 1 | W11: 10 | X11: 5 | Y11: 2 | Z11: 11
A12: =$S$13 -> 3 | B12: =T13 -> 10 | C12: =VLOOKUP($B12,'таблица гонки'!$A$5:$D$17,2,0) -> Simon f1 up | D12: =VLOOKUP($B12,'таблица гонки'!$A$5:$D$17,3,0) -> Киев | E12: =VLOOKUP($B12,'таблица гонки'!$A$5:$D$17,4,0) -> - | H12: =$S$13 -> 3 | I12: =X13 -> 1 | J12: =VLOOKUP($I12,'таблица гонки'!$A$5:$D$17,2,0) -> Jaguar | K12: =VLOOKUP($I12,'таблица гонки'!$A$5:$D$17,3,0) -> Киев , Одесса | L12: =VLOOKUP($I12,'таблица гонки'!$A$5:$D$17,4,0) -> 7.5 | S12: 7 | T12: 9 | U12: 3 | V12: 2 | W12: 5 | Y12: 11 | Z12: 8 | AA12: =SUM(T12:Z13) -> 91
A13: Заезд | C13: 2 | H13: Заезд | J13: 6 | S13: 3 | T13: 10 | U13: 7 | V13: 13 | W13: 12 | X13: 1 | Y13: 4 | Z13: 6
A14: =$S$4 -> 10 | B14: =U4 -> 11 | C14: =VLOOKUP($B14,'таблица гонки'!$A$5:$D$17,2,0) -> Kozak I razboiniki | D14: =VLOOKUP($B14,'таблица гонки'!$A$5:$D$17,3,0) -> Киев | E14: =VLOOKUP($B14,'таблица гонки'!$A$5:$D$17,4,0) -> 5 | H14: =$S$4 -> 10 | I14: =Y4 -> 6 | J14: =VLOOKUP($I14,'таблица гонки'!$A$5:$D$17,2,0) -> Monaco | K14: =VLOOKUP($I14,'таблица гонки'!$A$5:$D$17,3,0) -> Киев | L14: =VLOOKUP($I14,'таблица гонки'!$A$5:$D$17,4,0) -> 2.5
A15: =$S$5 -> 33 | B15: =U5 -> 8 | C15: =VLOOKUP($B15,'таблица гонки'!$A$5:$D$17,2,0) -> kartbrothers | D15: =VLOOKUP($B15,'таблица гонки'!$A$5:$D$17,3,0) -> Харьков | E15: =VLOOKUP($B15,'таблица гонки'!$A$5:$D$17,4,0) -> 2.5 | H15: =$S$5 -> 33 | I15: =Y5 -> 12 | J15: =VLOOKUP($I15,'таблица гонки'!$A$5:$D$17,2,0) -> Marlboro | K15: =VLOOKUP($I15,'таблица гонки'!$A$5:$D$17,3,0) -> Одесса | L15: =VLOOKUP($I15,'таблица гонки'!$A$5:$D$17,4,0) -> 15
A16: =$S$6 -> 9 | B16: =U6 -> 12 | C16: =VLOOKUP($B16,'таблица гонки'!$A$5:$D$17,2,0) -> Marlboro | D16: =VLOOKUP($B16,'таблица гонки'!$A$5:$D$17,3,0) -> Одесса | E16: =VLOOKUP($B16,'таблица гонки'!$A$5:$D$17,4,0) -> 15 | H16: =$S$6 -> 9 | I16: =Y6 -> 5 | J16: =VLOOKUP($I16,'таблица гонки'!$A$5:$D$17,2,0) -> Fast team | K16: =VLOOKUP($I16,'таблица гонки'!$A$5:$D$17,3,0) -> Одесса, Херсон | L16: =VLOOKUP($I16,'таблица гонки'!$A$5:$D$17,4,0) -> 15
A17: =$S$7 -> 5 | B17: =U7 -> 13 | C17: =VLOOKUP($B17,'таблица гонки'!$A$5:$D$17,2,0) -> Na_Сnuax | D17: =VLOOKUP($B17,'таблица гонки'!$A$5:$D$17,3,0) -> Харьков | E17: =VLOOKUP($B17,'таблица гонки'!$A$5:$D$17,4,0) -> 5 | H17: =$S$7 -> 5 | I17: =Y7 -> 7 | J17: =VLOOKUP($I17,'таблица гонки'!$A$5:$D$17,2,0) -> Shum | K17: =VLOOKUP($I17,'таблица гонки'!$A$5:$D$17,3,0) -> Киев | L17: =VLOOKUP($I17,'таблица гонки'!$A$5:$D$17,4,0) -> -
A18: =$S$8 -> 13 | B18: =U8 -> 0 | C18: =VLOOKUP($B18,'таблица гонки'!$A$5:$D$17,2,0) -> #N/A | D18: =VLOOKUP($B18,'таблица гонки'!$A$5:$D$17,3,0) -> #N/A | E18: =VLOOKUP($B18,'таблица гонки'!$A$5:$D$17,4,0) -> #N/A | H18: =$S$8 -> 13 | I18: =Y8 -> 10 | J18: =VLOOKUP($I18,'таблица гонки'!$A$5:$D$17,2,0) -> Simon f1 up | K18: =VLOOKUP($I18,'таблица гонки'!$A$5:$D$17,3,0) -> Киев | L18: =VLOOKUP($I18,'таблица гонки'!$A$5:$D$17,4,0) -> -
A19: =$S$9 -> 8 | B19: =U9 -> 2 | C19: =VLOOKUP($B19,'таблица гонки'!$A$5:$D$17,2,0) -> Kozaks | D19: =VLOOKUP($B19,'таблица гонки'!$A$5:$D$17,3,0) -> Киев | E19: =VLOOKUP($B19,'таблица гонки'!$A$5:$D$17,4,0) -> 5 | H19: =$S$9 -> 8 | I19: =Y9 -> 3 | J19: =VLOOKUP($I19,'таблица гонки'!$A$5:$D$17,2,0) -> Fast and sexy | K19: =VLOOKUP($I19,'таблица гонки'!$A$5:$D$17,3,0) -> Харьков | L19: =VLOOKUP($I19,'таблица гонки'!$A$5:$D$17,4,0) -> 7.5
A20: =$S$10 -> 6 | B20: =U10 -> 4 | C20: =VLOOKUP($B20,'таблица гонки'!$A$5:$D$17,2,0) -> RocknRolla | D20: =VLOOKUP($B20,'таблица гонки'!$A$5:$D$17,3,0) -> Киев | E20: =VLOOKUP($B20,'таблица гонки'!$A$5:$D$17,4,0) -> - | H20: =$S$10 -> 6 | I20: =Y10 -> 13 | J20: =VLOOKUP($I20,'таблица гонки'!$A$5:$D$17,2,0) -> Na_Сnuax | K20: =VLOOKUP($I20,'таблица гонки'!$A$5:$D$17,3,0) -> Харьков | L20: =VLOOKUP($I20,'таблица гонки'!$A$5:$D$17,4,0) -> 5
A21: =$S$11 -> 21 | B21: =U11 -> 1 | C21: =VLOOKUP($B21,'таблица гонки'!$A$5:$D$17,2,0) -> Jaguar | D21: =VLOOKUP($B21,'таблица гонки'!$A$5:$D$17,3,0) -> Киев , Одесса | E21: =VLOOKUP($B21,'таблица гонки'!$A$5:$D$17,4,0) -> 7.5 | H21: =$S$11 -> 21 | I21: =Y11 -> 2 | J21: =VLOOKUP($I21,'таблица гонки'!$A$5:$D$17,2,0) -> Kozaks | K21: =VLOOKUP($I21,'таблица гонки'!$A$5:$D$17,3,0) -> Киев | L21: =VLOOKUP($I21,'таблица гонки'!$A$5:$D$17,4,0) -> 5
A22: =$S$12 -> 7 | B22: =U12 -> 3 | C22: =VLOOKUP($B22,'таблица гонки'!$A$5:$D$17,2,0) -> Fast and sexy | D22: =VLOOKUP($B22,'таблица гонки'!$A$5:$D$17,3,0) -> Харьков | E22: =VLOOKUP($B22,'таблица гонки'!$A$5:$D$17,4,0) -> 7.5 | H22: =$S$12 -> 7 | I22: =Y12 -> 11 | J22: =VLOOKUP($I22,'таблица гонки'!$A$5:$D$17,2,0) -> Kozak I razboiniki | K22: =VLOOKUP($I22,'таблица гонки'!$A$5:$D$17,3,0) -> Киев | L22: =VLOOKUP($I22,'таблица гонки'!$A$5:$D$17,4,0) -> 5
A23: =$S$13 -> 3 | B23: =U13 -> 7 | C23: =VLOOKUP($B23,'таблица гонки'!$A$5:$D$17,2,0) -> Shum | D23: =VLOOKUP($B23,'таблица гонки'!$A$5:$D$17,3,0) -> Киев | E23: =VLOOKUP($B23,'таблица гонки'!$A$5:$D$17,4,0) -> - | H23: =$S$13 -> 3 | I23: =Y13 -> 4 | J23: =VLOOKUP($I23,'таблица гонки'!$A$5:$D$17,2,0) -> RocknRolla | K23: =VLOOKUP($I23,'таблица гонки'!$A$5:$D$17,3,0) -> Киев | L23: =VLOOKUP($I23,'таблица гонки'!$A$5:$D$17,4,0) -> -
A24: Заезд | B24: Заезд | C24: 3 | H24: Заезд | J24: 7
A25: =$S$4 -> 10 | B25: =V4 -> 10 | C25: =VLOOKUP($B25,'таблица гонки'!$A$5:$D$17,2,0) -> Simon f1 up | D25: =VLOOKUP($B25,'таблица гонки'!$A$5:$D$17,3,0) -> Киев | E25: =VLOOKUP($B25,'таблица гонки'!$A$5:$D$17,4,0) -> - | H25: =$S$4 -> 10 | I25: =Z4 -> 7 | J25: =VLOOKUP($I25,'таблица гонки'!$A$5:$D$17,2,0) -> Shum | K25: =VLOOKUP($I25,'таблица гонки'!$A$5:$D$17,3,0) -> Киев | L25: =VLOOKUP($I25,'таблица гонки'!$A$5:$D$17,4,0) -> -
A26: =$S$5 -> 33 | B26: =V5 -> 5 | C26: =VLOOKUP($B26,'таблица гонки'!$A$5:$D$17,2,0) -> Fast team | D26: =VLOOKUP($B26,'таблица гонки'!$A$5:$D$17,3,0) -> Одесса, Херсон | E26: =VLOOKUP($B26,'таблица гонки'!$A$5:$D$17,4,0) -> 15 | H26: =$S$5 -> 33 | I26: =Z5 -> 13 | J26: =VLOOKUP($I26,'таблица гонки'!$A$5:$D$17,2,0) -> Na_Сnuax | K26: =VLOOKUP($I26,'таблица гонки'!$A$5:$D$17,3,0) -> Харьков | L26: =VLOOKUP($I26,'таблица гонки'!$A$5:$D$17,4,0) -> 5
A27: =$S$6 -> 9 | B27: =V6 -> 8 | C27: =VLOOKUP($B27,'таблица гонки'!$A$5:$D$17,2,0) -> kartbrothers | D27: =VLOOKUP($B27,'таблица гонки'!$A$5:$D$17,3,0) -> Харьков | E27: =VLOOKUP($B27,'таблица гонки'!$A$5:$D$17,4,0) -> 2.5 | H27: =$S$6 -> 9 | I27: =Z6 -> 0 | J27: =VLOOKUP($I27,'таблица гонки'!$A$5:$D$17,2,0) -> #N/A | K27: =VLOOKUP($I27,'таблица гонки'!$A$5:$D$17,3,0) -> #N/A | L27: =VLOOKUP($I27,'таблица гонки'!$A$5:$D$17,4,0) -> #N/A
A28: =$S$7 -> 5 | B28: =V7 -> 9 | C28: =VLOOKUP($B28,'таблица гонки'!$A$5:$D$17,2,0) -> Vse rovno | D28: =VLOOKUP($B28,'таблица гонки'!$A$5:$D$17,3,0) -> Одесса, Херсон | E28: =VLOOKUP($B28,'таблица гонки'!$A$5:$D$17,4,0) -> 7.5 | H28: =$S$7 -> 5 | I28: =Z7 -> 1 | J28: =VLOOKUP($I28,'таблица гонки'!$A$5:$D$17,2,0) -> Jaguar | K28: =VLOOKUP($I28,'таблица гонки'!$A$5:$D$17,3,0) -> Киев , Одесса | L28: =VLOOKUP($I28,'таблица гонки'!$A$5:$D$17,4,0) -> 7.5
A29: =$S$8 -> 13 | B29: =V8 -> 1 | C29: =VLOOKUP($B29,'таблица гонки'!$A$5:$D$17,2,0) -> Jaguar | D29: =VLOOKUP($B29,'таблица гонки'!$A$5:$D$17,3,0) -> Киев , Одесса | E29: =VLOOKUP($B29,'таблица гонки'!$A$5:$D$17,4,0) -> 7.5 | H29: =$S$8 -> 13 | I29: =Z8 -> 12 | J29: =VLOOKUP($I29,'таблица гонки'!$A$5:$D$17,2,0) -> Marlboro | K29: =VLOOKUP($I29,'таблица гонки'!$A$5:$D$17,3,0) -> Одесса | L29: =VLOOKUP($I29,'таблица гонки'!$A$5:$D$17,4,0) -> 15
A30: =$S$9 -> 8 | B30: =V9 -> 11 | C30: =VLOOKUP($B30,'таблица гонки'!$A$5:$D$17,2,0) -> Kozak I razboiniki | D30: =VLOOKUP($B30,'таблица гонки'!$A$5:$D$17,3,0) -> Киев | E30: =VLOOKUP($B30,'таблица гонки'!$A$5:$D$17,4,0) -> 5 | H30: =$S$9 -> 8 | I30: =Z9 -> 9 | J30: =VLOOKUP($I30,'таблица гонки'!$A$5:$D$17,2,0) -> Vse rovno | K30: =VLOOKUP($I30,'таблица гонки'!$A$5:$D$17,3,0) -> Одесса, Херсон | L30: =VLOOKUP($I30,'таблица гонки'!$A$5:$D$17,4,0) -> 7.5
A31: =$S$10 -> 6 | B31: =V10 -> 6 | C31: =VLOOKUP($B31,'таблица гонки'!$A$5:$D$17,2,0) -> Monaco | D31: =VLOOKUP($B31,'таблица гонки'!$A$5:$D$17,3,0) -> Киев | E31: =VLOOKUP($B31,'таблица гонки'!$A$5:$D$17,4,0) -> 2.5 | H31: =$S$10 -> 6 | I31: =Z10 -> 3 | J31: =VLOOKUP($I31,'таблица гонки'!$A$5:$D$17,2,0) -> Fast and sexy | K31: =VLOOKUP($I31,'таблица гонки'!$A$5:$D$17,3,0) -> Харьков | L31: =VLOOKUP($I31,'таблица гонки'!$A$5:$D$17,4,0) -> 7.5
A32: =$S$11 -> 21 | B32: =V11 -> 0 | C32: =VLOOKUP($B32,'таблица гонки'!$A$5:$D$17,2,0) -> #N/A | D32: =VLOOKUP($B32,'таблица гонки'!$A$5:$D$17,3,0) -> #N/A | E32: =VLOOKUP($B32,'таблица гонки'!$A$5:$D$17,4,0) -> #N/A | H32: =$S$11 -> 21 | I32: =Z11 -> 11 | J32: =VLOOKUP($I32,'таблица гонки'!$A$5:$D$17,2,0) -> Kozak I razboiniki | K32: =VLOOKUP($I32,'таблица гонки'!$A$5:$D$17,3,0) -> Киев | L32: =VLOOKUP($I32,'таблица гонки'!$A$5:$D$17,4,0) -> 5
A33: =$S$12 -> 7 | B33: =V12 -> 2 | C33: =VLOOKUP($B33,'таблица гонки'!$A$5:$D$17,2,0) -> Kozaks | D33: =VLOOKUP($B33,'таблица гонки'!$A$5:$D$17,3,0) -> Киев | E33: =VLOOKUP($B33,'таблица гонки'!$A$5:$D$17,4,0) -> 5 | H33: =$S$12 -> 7 | I33: =Z12 -> 8 | J33: =VLOOKUP($I33,'таблица гонки'!$A$5:$D$17,2,0) -> kartbrothers | K33: =VLOOKUP($I33,'таблица гонки'!$A$5:$D$17,3,0) -> Харьков | L33: =VLOOKUP($I33,'таблица гонки'!$A$5:$D$17,4,0) -> 2.5
A34: =$S$13 -> 3 | B34: =V13 -> 13 | C34: =VLOOKUP($B34,'таблица гонки'!$A$5:$D$17,2,0) -> Na_Сnuax | D34: =VLOOKUP($B34,'таблица гонки'!$A$5:$D$17,3,0) -> Харьков | E34: =VLOOKUP($B34,'таблица гонки'!$A$5:$D$17,4,0) -> 5 | H34: =$S$13 -> 3 | I34: =Z13 -> 6 | J34: =VLOOKUP($I34,'таблица гонки'!$A$5:$D$17,2,0) -> Monaco | K34: =VLOOKUP($I34,'таблица гонки'!$A$5:$D$17,3,0) -> Киев | L34: =VLOOKUP($I34,'таблица гонки'!$A$5:$D$17,4,0) -> 2.5
A35: Заезд | C35: 4
A36: =$S$4 -> 10 | B36: =W4 -> 4 | C36: =VLOOKUP($B36,'таблица гонки'!$A$5:$D$17,2,0) -> RocknRolla | D36: =VLOOKUP($B36,'таблица гонки'!$A$5:$D$17,3,0) -> Киев | E36: =VLOOKUP($B36,'таблица гонки'!$A$5:$D$17,4,0) -> -
A37: =$S$5 -> 33 | B37: =W5 -> 0 | C37: =VLOOKUP($B37,'таблица гонки'!$A$5:$D$17,2,0) -> #N/A | D37: =VLOOKUP($B37,'таблица гонки'!$A$5:$D$17,3,0) -> #N/A | E37: =VLOOKUP($B37,'таблица гонки'!$A$5:$D$17,4,0) -> #N/A
A38: =$S$6 -> 9 | B38: =W6 -> 2 | C38: =VLOOKUP($B38,'таблица гонки'!$A$5:$D$17,2,0) -> Kozaks | D38: =VLOOKUP($B38,'таблица гонки'!$A$5:$D$17,3,0) -> Киев | E38: =VLOOKUP($B38,'таблица гонки'!$A$5:$D$17,4,0) -> 5
A39: =$S$7 -> 5 | B39: =W7 -> 6 | C39: =VLOOKUP($B39,'таблица гонки'!$A$5:$D$17,2,0) -> Monaco | D39: =VLOOKUP($B39,'таблица гонки'!$A$5:$D$17,3,0) -> Киев | E39: =VLOOKUP($B39,'таблица гонки'!$A$5:$D$17,4,0) -> 2.5
A40: =$S$8 -> 13 | B40: =W8 -> 13 | C40: =VLOOKUP($B40,'таблица гонки'!$A$5:$D$17,2,0) -> Na_Сnuax | D40: =VLOOKUP($B40,'таблица гонки'!$A$5:$D$17,3,0) -> Харьков | E40: =VLOOKUP($B40,'таблица гонки'!$A$5:$D$17,4,0) -> 5
A41: =$S$9 -> 8 | B41: =W9 -> 7 | C41: =VLOOKUP($B41,'таблица гонки'!$A$5:$D$17,2,0) -> Shum | D41: =VLOOKUP($B41,'таблица гонки'!$A$5:$D$17,3,0) -> Киев | E41: =VLOOKUP($B41,'таблица гонки'!$A$5:$D$17,4,0) -> -
A42: =$S$10 -> 6 | B42: =W10 -> 9 | C42: =VLOOKUP($B42,'таблица гонки'!$A$5:$D$17,2,0) -> Vse rovno | D42: =VLOOKUP($B42,'таблица гонки'!$A$5:$D$17,3,0) -> Одесса, Херсон | E42: =VLOOKUP($B42,'таблица гонки'!$A$5:$D$17,4,0) -> 7.5
A43: =$S$11 -> 21 | B43: =W11 -> 10 | C43: =VLOOKUP($B43,'таблица гонки'!$A$5:$D$17,2,0) -> Simon f1 up | D43: =VLOOKUP($B43,'таблица гонки'!$A$5:$D$17,3,0) -> Киев | E43: =VLOOKUP($B43,'таблица гонки'!$A$5:$D$17,4,0) -> -
A44: =$S$12 -> 7 | B44: =W12 -> 5 | C44: =VLOOKUP($B44,'таблица гонки'!$A$5:$D$17,2,0) -> Fast team | D44: =VLOOKUP($B44,'таблица гонки'!$A$5:$D$17,3,0) -> Одесса, Херсон | E44: =VLOOKUP($B44,'таблица гонки'!$A$5:$D$17,4,0) -> 15
A45: =$S$13 -> 3 | B45: =W13 -> 12 | C45: =VLOOKUP($B45,'таблица гонки'!$A$5:$D$17,2,0) -> Marlboro | D45: =VLOOKUP($B45,'таблица гонки'!$A$5:$D$17,3,0) -> Одесса | E45: =VLOOKUP($B45,'таблица гонки'!$A$5:$D$17,4,0) -> 15

Sheet таблица гонки
A1: КУБОК ГОРОДОВ НА ЖАЖДЕ СКОРОСТИ, 18.09.2016 | T1: Таблица лучших кругов в заездах
A3: № п/п | B3: Команда | C3: Город | D3: Довес | E3: Места в гоночных заездах | J3: Очки в гоночных заездах | O3: Штр/бонусы | P3: Очки | Q3: МЕСТА | R3: Финал | U3: Карт №
E4: 1 | F4: 2 | G4: 3 | H4: 4 | I4: 5 | J4: 1 | K4: 2 | L4: 3 | M4: 4 | N4: 5 | P4: ИТОГО | R4: МЕСТА | T4: Заезд | U4: 10 | V4: 33 | W4: 9 | X4: 5 | Y4: 13 | Z4: 8 | AA4: 6 | AB4: 21 | AC4: 7 | AD4: 3
A5: 2 | B5: Kozaks | C5: Киев | D5: 5 | E5: 1 | F5: 3 | G5: 1 | H5: 3 | I5: 2 | J5: =VLOOKUP(E5,$T$40:$U$49,2) -> 20 | K5: =VLOOKUP(F5,$T$40:$U$49,2) -> 16 | L5: =VLOOKUP(G5,$T$40:$U$49,2) -> 20 | M5: =VLOOKUP(H5,$T$40:$U$49,2) -> 16 | N5: =VLOOKUP(I5,$T$40:$U$49,2) -> 18 | P5: =SUM(J5:O5) -> 90 | Q5: 1 | R5: 1 | T5: 1 | U5: 40.81 | V5: 40.11 | W5: 40.05 | X5: 40.26 | Y5: 41.06 | Z5: 40.5 | AA5: 39.88 | AB5: 40.17 | AC5: 41.06 | AD5: 40.1
A6: 7 | B6: Shum | C6: Киев | D6: - | E6: 3 | F6: 4 | G6: 5 | H6: 1 | I6: 1 | J6: =VLOOKUP(E6,$T$40:$U$49,2) -> 16 | K6: =VLOOKUP(F6,$T$40:$U$49,2) -> 14 | L6: =VLOOKUP(G6,$T$40:$U$49,2) -> 12 | M6: =VLOOKUP(H6,$T$40:$U$49,2) -> 20 | N6: =VLOOKUP(I6,$T$40:$U$49,2) -> 20 | O6: 2 | P6: =SUM(J6:O6) -> 84 | Q6: 2 | R6: 2 | T6: 2 | U6: 40.12 | V6: 40.24 | W6: 40.54 | X6: 40.45 | Z6: 40.22 | AA6: 40 | AB6: 40.3 | AC6: 40.26 | AD6: 39.99
A7: 11 | B7: Kozak I razboiniki | C7: Киев | D7: 5 | E7: 2 | F7: 6 | G7: 1 | H7: 6 | I7: 2 | J7: =VLOOKUP(E7,$T$40:$U$49,2) -> 18 | K7: =VLOOKUP(F7,$T$40:$U$49,2) -> 10 | L7: =VLOOKUP(G7,$T$40:$U$49,2) -> 20 | M7: =VLOOKUP(H7,$T$40:$U$49,2) -> 10 | N7: =VLOOKUP(I7,$T$40:$U$49,2) -> 18 | P7: =SUM(J7:O7) -> 76 | Q7: 5 | R7: 3 | T7: 3 | U7: 40 | V7: 40.64 | W7: 40.83 | X7: 40.5 | Y7: 40.4 | Z7: 40.72 | AA7: 39.71 | AC7: 39.9 | AD7: 40.27
A8: 13 | B8: Na_Сnuax | C8: Харьков | D8: 5 | E8: 5 | F8: 4 | G8: 6 | H8: 7 | I8: 4 | J8: =VLOOKUP(E8,$T$40:$U$49,2) -> 12 | K8: =VLOOKUP(F8,$T$40:$U$49,2) -> 14 | L8: =VLOOKUP(G8,$T$40:$U$49,2) -> 10 | M8: =VLOOKUP(H8,$T$40:$U$49,2) -> 8 | N8: =VLOOKUP(I8,$T$40:$U$49,2) -> 14 | P8: =SUM(J8:O8) -> 58 | Q8: 7 | R8: 4 | T8: 4 | U8: 39.96 | W8: 39.81 | X8: 39.68 | Y8: 40.27 | Z8: 40.27 | AA8: 40.49 | AB8: 40.08 | AC8: 40.77 | AD8: 40.13
A9: 6 | B9: Monaco | C9: Киев | D9: 2.5 | E9: 6 | F9: 3 | G9: 2 | H9: 3 | I9: 3 | J9: =VLOOKUP(E9,$T$40:$U$49,2) -> 10 | K9: =VLOOKUP(F9,$T$40:$U$49,2) -> 16 | L9: =VLOOKUP(G9,$T$40:$U$49,2) -> 18 | M9: =VLOOKUP(H9,$T$40:$U$49,2) -> 16 | N9: =VLOOKUP(I9,$T$40:$U$49,2) -> 16 | O9: 4 | P9: =SUM(J9:O9) -> 80 | Q9: 3 | R9: 5 | T9: 5 | U9: 40.37 | V9: 40.13 | W9: 40.04 | X9: 40.11 | Y9: 40.21 | Z9: 40.65 | AA9: 40.02 | AB9: 40.61 | AD9: 40.18
A10: 10 | B10: Simon f1 up | C10: Киев | D10: - | E10: 4 | F10: 2 | G10: 4 | H10: 3 | I10: 8 | J10: =VLOOKUP(E10,$T$40:$U$49,2) -> 14 | K10: =VLOOKUP(F10,$T$40:$U$49,2) -> 18 | L10: =VLOOKUP(G10,$T$40:$U$49,2) -> 14 | M10: =VLOOKUP(H10,$T$40:$U$49,2) -> 16 | N10: =VLOOKUP(I10,$T$40:$U$49,2) -> 6 | P10: =SUM(J10:O10) -> 68 | Q10: 6 | R10: 6 | T10: 6 | U10: 39.88 | V10: 40.27 | W10: 41.48 | X10: 39.92 | Y10: 40.02 | Z10: 40.61 | AA10: 40.14 | AB10: 39.93 | AC10: 40.12 | AD10: 40.06
A11: 8 | B11: kartbrothers | C11: Харьков | D11: 2.5 | E11: 5 | F11: 6 | G11: 7 | H11: 4 | I11: 7 | J11: =VLOOKUP(E11,$T$40:$U$49,2) -> 12 | K11: =VLOOKUP(F11,$T$40:$U$49,2) -> 10 | L11: =VLOOKUP(G11,$T$40:$U$49,2) -> 8 | M11: =VLOOKUP(H11,$T$40:$U$49,2) -> 14 | N11: =VLOOKUP(I11,$T$40:$U$49,2) -> 8 | P11: =SUM(J11:O11) -> 52 | Q11: 8 | R11: 7 | T11: 7 | U11: 40.02 | V11: 40.24 | X11: 40.46 | Y11: 40.25 | Z11: 40.87 | AA11: 40.01 | AB11: 40.02 | AC11: 40.54 | AD11: 39.83
A12: 4 | B12: RocknRolla | C12: Киев | D12: - | E12: 2 | F12: 1 | G12: 1 | H12: 8 | I12: 4 | J12: =VLOOKUP(E12,$T$40:$U$49,2) -> 18 | K12: =VLOOKUP(F12,$T$40:$U$49,2) -> 20 | L12: =VLOOKUP(G12,$T$40:$U$49,2) -> 20 | M12: =VLOOKUP(H12,$T$40:$U$49,2) -> 6 | N12: =VLOOKUP(I12,$T$40:$U$49,2) -> 14 | P12: =SUM(J12:O12) -> 78 | Q12: 4 | R12: 8 | T12: 8
A13: 12 | B13: Marlboro | C13: Одесса | D13: 15 | E13: 7 | F13: 7 | G13: 5 | H13: 5 | I13: 6 | J13: =VLOOKUP(E13,$T$40:$U$49,2) -> 8 | K13: =VLOOKUP(F13,$T$40:$U$49,2) -> 8 | L13: =VLOOKUP(G13,$T$40:$U$49,2) -> 12 | M13: =VLOOKUP(H13,$T$40:$U$49,2) -> 12 | N13: =VLOOKUP(I13,$T$40:$U$49,2) -> 10 | O13: 1 | P13: =SUM(J13:O13) -> 51 | Q13: 9 | T13: 9
A14: 9 | B14: Vse rovno | C14: Одесса, Херсон | D14: 7.5 | E14: 10 | F14: 5 | G14: 8 | H14: 2 | I14: 9 | J14: =VLOOKUP(E14,$T$40:$U$49,2) -> 2 | K14: =VLOOKUP(F14,$T$40:$U$49,2) -> 12 | L14: =VLOOKUP(G14,$T$40:$U$49,2) -> 6 | M14: =VLOOKUP(H14,$T$40:$U$49,2) -> 18 | N14: =VLOOKUP(I14,$T$40:$U$49,2) -> 4 | P14: =SUM(J14:O14) -> 42 | Q14: 10 | T14: 10
A15: 3 | B15: Fast and sexy | C15: Харьков | D15: 7.5 | E15: 8 | F15: 8 | G15: 7 | H15: 9 | I15: 5 | J15: =VLOOKUP(E15,$T$40:$U$49,2) -> 6 | K15: =VLOOKUP(F15,$T$40:$U$49,2) -> 6 | L15: =VLOOKUP(G15,$T$40:$U$49,2) -> 8 | M15: =VLOOKUP(H15,$T$40:$U$49,2) -> 4 | N15: =VLOOKUP(I15,$T$40:$U$49,2) -> 12 | P15: =SUM(J15:O15) -> 36 | Q15: 11 | T15: 11
A16: 1 | B16: Jaguar | C16: Киев , Одесса | D16: 7.5 | E16: 7 | F16: 9 | G16: 9 | H16: 9 | I16: 8 | J16: =VLOOKUP(E16,$T$40:$U$49,2) -> 8 | K16: =VLOOKUP(F16,$T$40:$U$49,2) -> 4 | L16: =VLOOKUP(G16,$T$40:$U$49,2) -> 4 | M16: =VLOOKUP(H16,$T$40:$U$49,2) -> 4 | N16: =VLOOKUP(I16,$T$40:$U$49,2) -> 6 | P16: =SUM(J16:O16) -> 26 | Q16: 12 | T16: 12
A17: 5 | B17: Fast team | C17: Одесса, Херсон | D17: 15 | E17: 9 | F17: 8 | G17: 9 | H17: 6 | I17: 10 | J17: =VLOOKUP(E17,$T$40:$U$49,2) -> 4 | K17: =VLOOKUP(F17,$T$40:$U$49,2) -> 6 | L17: =VLOOKUP(G17,$T$40:$U$49,2) -> 4 | M17: =VLOOKUP(H17,$T$40:$U$49,2) -> 10 | N17: =VLOOKUP(I17,$T$40:$U$49,2) -> 2 | O17: -2 | P17: =SUM(J17:O17) -> 24 | Q17: 13 | T17: 13
T18: 14
T19: 15
T20: 16
T21: 17
T22: 18
T23: 19
T24: 20
T25: 21
T26: 22
T27: 23
T28: 24
T29: 25
T31: пф1
T32: пф2
T33: ф
T34: Карт № | U34: 10 | V34: 33 | W34: 9 | X34: 5 | Y34: 13 | Z34: 8 | AA34: 6 | AB34: 21 | AC34: 7 | AD34: 3
T35: ср | U35: =AVERAGE(U5:U33) -> 40.165714 | V35: =AVERAGE(V5:V33) -> 40.271667 | W35: =AVERAGE(W5:W33) -> 40.458333 | X35: =AVERAGE(X5:X33) -> 40.197143 | Y35: =AVERAGE(Y5:Y33) -> 40.368333 | Z35: =AVERAGE(Z5:Z33) -> 40.548571 | AA35: =AVERAGE(AA5:AA33) -> 40.035714 | AB35: =AVERAGE(AB5:AB33) -> 40.185 | ... AD35: =AVERAGE(AD5:AD33) -> 40.08
T36: лк | U36: =MIN(U5:U33) -> 39.88 | V36: =MIN(V5:V33) -> 40.11 | W36: =MIN(W5:W33) -> 39.81 | X36: =MIN(X5:X33) -> 39.68 | Y36: =MIN(Y5:Y33) -> 40.02 | Z36: =MIN(Z5:Z33) -> 40.22 | AA36: =MIN(AA5:AA33) -> 39.71 | AB36: =MIN(AB5:AB33) -> 39.93 | ... AD36: =MIN(AD5:AD33) -> 39.83
T37: Разница | U37: =U35-MIN($V35:$AD35) -> 0.13 | V37: =V35-MIN($V35:$AD35) -> 0.23595238 | W37: =W35-MIN($V35:$AD35) -> 0.42261905 | X37: =X35-MIN($V35:$AD35) -> 0.16142857 | Y37: =Y35-MIN($V35:$AD35) -> 0.33261905 | Z37: =Z35-MIN($V35:$AD35) -> 0.51285714 | AA37: =AA35-MIN($V35:$AD35) -> 0 | AB37: =AB35-MIN($V35:$AD35) -> 0.14928571 | ... AD37: =AD35-MIN($V35:$AD35) -> 0.044285714
T40: 1 | U40: 20
T41: 2 | U41: 18
T42: 3 | U42: 16
T43: 4 | U43: 14
T44: 5 | U44: 12
T45: 6 | U45: 10
T46: 7 | U46: 8
T47: 8 | U47: 6
T48: 9 | U48: 4
T49: 10 | U49: 2

Sheet Лист1
B1: 1 | D1: 2
A2: 1
A3: 2
A4: 3
A5: 4
A6: 5
A7: 6
A8: 7
A9: 8
A10: 9
A11: 10
A12: 11
A13: 12

Sheet Лист2

Sheet Лист3
