Workbook

Sheet Рейтинг
A1: Таблица рейтинга Лиги Чемпионов, 3-й сезон 2016
A3: Мес-то | B3: Пилот | C3: 1 | D3: 42613 | E3: 2 | F3: 42620 | G3: 3 | H3: 42565 | I3: 4 | J3: 42494 | K3: 5 | L3: 42501 | M3: 6 | N3: 42508 | O3: 7 | P3: 41780 | Q3: 8 | R3: 42522 | S3: 9 | T3: 41794 | U3: 10 | V3: 42536
C4: Очки | D4: Рейтинг | E4: Очки | F4: Рейтинг | G4: Очки | H4: Рейтинг | I4: Очки | J4: Рейтинг | K4: Очки | L4: Рейтинг | M4: Очки | N4: Рейтинг | O4: Очки | P4: Рейтинг | Q4: Очки | R4: Рейтинг | S4: Очки | T4: Рейтинг | U4: Очки | V4: Рейтинг
A5: 1 | B5: Наум/ Vintoniv Ivan | C5: 34.9 | D5: =C5/3*10 -> 116.33333 | E5: 48.3 | F5: =IF(E5>0,IF(D5>0,(D5*C$3+E5*10/3)/E$3,E5*10/3*(1-0.1*C$3)),IF(D5>10,D5*0.9,D5)) -> 138.66667 | G5: 49.4 | H5: =IF(G5>0,IF(F5>0,(F5*E$3+G5*10/3)/G$3,G5*10/3*(1-0.1*E$3)),IF(F5>10,F5*0.9,F5)) -> 147.33333 | I5: 34.1 | J5: =IF(I5>0,IF(H5>0,(H5*G$3+I5*10/3)/I$3,I5*10/3*(1-0.1*G$3)),IF(H5>10,H5*0.9,H5)) -> 138.91667 | L5: =IF(K5>0,IF(J5>0,(J5*I$3+K5*10/3)/K$3,K5*10/3*(1-0.1*I$3)),IF(J5>10,J5*0.9,J5)) -> 125.025 | N5: =IF(M5>0,IF(L5>0,(L5*K$3+M5*10/3)/M$3,M5*10/3*(1-0.1*K$3)),IF(L5>10,L5*0.9,L5)) -> 112.5225 | P5: =IF(O5>0,IF(N5>0,(N5*M$3+O5*10/3)/O$3,O5*10/3*(1-0.1*M$3)),IF(N5>10,N5*0.9,N5)) -> 101.27025 | R5: =IF(Q5>0,IF(P5>0,(P5*O$3+Q5*10/3)/Q$3,Q5*10/3*(1-0.1*O$3)),IF(P5>10,P5*0.9,P5)) -> 91.143225 | T5: =IF(S5>0,IF(R5>0,(R5*Q$3+S5*10/3)/S$3,S5*10/3*(1-0.1*Q$3)),IF(R5>10,R5*0.9,R5)) -> 82.028902 | V5: =IF(U5>0,IF(T5>0,(T5*S$3+U5*10/3)/U$3,U5*10/3*(1-0.1*S$3)),IF(T5>10,T5*0.9,T5)) -> 73.826012
A6: 2 | B6: Хавило Дима / Khavilo Dmitry | C6: 37 | D6: =C6/3*10 -> 123.33333 | F6: =IF(E6>0,IF(D6>0,(D6*C$3+E6*10/3)/E$3,E6*10/3*(1-0.1*C$3)),IF(D6>10,D6*0.9,D6)) -> 111 | G6: 49.8 | H6: =IF(G6>0,IF(F6>0,(F6*E$3+G6*10/3)/G$3,G6*10/3*(1-0.1*E$3)),IF(F6>10,F6*0.9,F6)) -> 129.33333 | I6: 49 | J6: =IF(I6>0,IF(H6>0,(H6*G$3+I6*10/3)/I$3,I6*10/3*(1-0.1*G$3)),IF(H6>10,H6*0.9,H6)) -> 137.83333 | L6: =IF(K6>0,IF(J6>0,(J6*I$3+K6*10/3)/K$3,K6*10/3*(1-0.1*I$3)),IF(J6>10,J6*0.9,J6)) -> 124.05 | N6: =IF(M6>0,IF(L6>0,(L6*K$3+M6*10/3)/M$3,M6*10/3*(1-0.1*K$3)),IF(L6>10,L6*0.9,L6)) -> 111.645 | P6: =IF(O6>0,IF(N6>0,(N6*M$3+O6*10/3)/O$3,O6*10/3*(1-0.1*M$3)),IF(N6>10,N6*0.9,N6)) -> 100.4805 | R6: =IF(Q6>0,IF(P6>0,(P6*O$3+Q6*10/3)/Q$3,Q6*10/3*(1-0.1*O$3)),IF(P6>10,P6*0.9,P6)) -> 90.43245 | T6: =IF(S6>0,IF(R6>0,(R6*Q$3+S6*10/3)/S$3,S6*10/3*(1-0.1*Q$3)),IF(R6>10,R6*0.9,R6)) -> 81.389205 | V6: =IF(U6>0,IF(T6>0,(T6*S$3+U6*10/3)/U$3,U6*10/3*(1-0.1*S$3)),IF(T6>10,T6*0.9,T6)) -> 73.250285
A7: 3 | B7: Ткаченко Антон / Tkachenko Anton | C7: 32.7 | D7: =C7/3*10 -> 109 | E7: 40.5 | F7: =IF(E7>0,IF(D7>0,(D7*C$3+E7*10/3)/E$3,E7*10/3*(1-0.1*C$3)),IF(D7>10,D7*0.9,D7)) -> 122 | G7: 51.1 | H7: =IF(G7>0,IF(F7>0,(F7*E$3+G7*10/3)/G$3,G7*10/3*(1-0.1*E$3)),IF(F7>10,F7*0.9,F7)) -> 138.11111 | I7: 40.1 | J7: =IF(I7>0,IF(H7>0,(H7*G$3+I7*10/3)/I$3,I7*10/3*(1-0.1*G$3)),IF(H7>10,H7*0.9,H7)) -> 137 | L7: =IF(K7>0,IF(J7>0,(J7*I$3+K7*10/3)/K$3,K7*10/3*(1-0.1*I$3)),IF(J7>10,J7*0.9,J7)) -> 123.3 | N7: =IF(M7>0,IF(L7>0,(L7*K$3+M7*10/3)/M$3,M7*10/3*(1-0.1*K$3)),IF(L7>10,L7*0.9,L7)) -> 110.97 | P7: =IF(O7>0,IF(N7>0,(N7*M$3+O7*10/3)/O$3,O7*10/3*(1-0.1*M$3)),IF(N7>10,N7*0.9,N7)) -> 99.873 | R7: =IF(Q7>0,IF(P7>0,(P7*O$3+Q7*10/3)/Q$3,Q7*10/3*(1-0.1*O$3)),IF(P7>10,P7*0.9,P7)) -> 89.8857 | T7: =IF(S7>0,IF(R7>0,(R7*Q$3+S7*10/3)/S$3,S7*10/3*(1-0.1*Q$3)),IF(R7>10,R7*0.9,R7)) -> 80.89713 | V7: =IF(U7>0,IF(T7>0,(T7*S$3+U7*10/3)/U$3,U7*10/3*(1-0.1*S$3)),IF(T7>10,T7*0.9,T7)) -> 72.807417
A8: =A7+1 -> 4 | B8: Шутка Виталий / Shutka Vitaliy | C8: 36.9 | D8: =C8/3*10 -> 123 | E8: 33.8 | F8: =IF(E8>0,IF(D8>0,(D8*C$3+E8*10/3)/E$3,E8*10/3*(1-0.1*C$3)),IF(D8>10,D8*0.9,D8)) -> 117.83333 | G8: 49.4 | H8: =IF(G8>0,IF(F8>0,(F8*E$3+G8*10/3)/G$3,G8*10/3*(1-0.1*E$3)),IF(F8>10,F8*0.9,F8)) -> 133.44444 | I8: 25.6 | J8: =IF(I8>0,IF(H8>0,(H8*G$3+I8*10/3)/I$3,I8*10/3*(1-0.1*G$3)),IF(H8>10,H8*0.9,H8)) -> 121.41667 | L8: =IF(K8>0,IF(J8>0,(J8*I$3+K8*10/3)/K$3,K8*10/3*(1-0.1*I$3)),IF(J8>10,J8*0.9,J8)) -> 109.275 | N8: =IF(M8>0,IF(L8>0,(L8*K$3+M8*10/3)/M$3,M8*10/3*(1-0.1*K$3)),IF(L8>10,L8*0.9,L8)) -> 98.3475 | P8: =IF(O8>0,IF(N8>0,(N8*M$3+O8*10/3)/O$3,O8*10/3*(1-0.1*M$3)),IF(N8>10,N8*0.9,N8)) -> 88.51275 | R8: =IF(Q8>0,IF(P8>0,(P8*O$3+Q8*10/3)/Q$3,Q8*10/3*(1-0.1*O$3)),IF(P8>10,P8*0.9,P8)) -> 79.661475 | T8: =IF(S8>0,IF(R8>0,(R8*Q$3+S8*10/3)/S$3,S8*10/3*(1-0.1*Q$3)),IF(R8>10,R8*0.9,R8)) -> 71.695327 | V8: =IF(U8>0,IF(T8>0,(T8*S$3+U8*10/3)/U$3,U8*10/3*(1-0.1*S$3)),IF(T8>10,T8*0.9,T8)) -> 64.525795
A9: =A8+1 -> 5 | B9: Пикулин Паша / Pikulin Pavlo | C9: 44.5 | D9: =C9/3*10 -> 148.33333 | E9: 40.1 | F9: =IF(E9>0,IF(D9>0,(D9*C$3+E9*10/3)/E$3,E9*10/3*(1-0.1*C$3)),IF(D9>10,D9*0.9,D9)) -> 141 | G9: 36.5 | H9: =IF(G9>0,IF(F9>0,(F9*E$3+G9*10/3)/G$3,G9*10/3*(1-0.1*E$3)),IF(F9>10,F9*0.9,F9)) -> 134.55556 | J9: =IF(I9>0,IF(H9>0,(H9*G$3+I9*10/3)/I$3,I9*10/3*(1-0.1*G$3)),IF(H9>10,H9*0.9,H9)) -> 121.1 | L9: =IF(K9>0,IF(J9>0,(J9*I$3+K9*10/3)/K$3,K9*10/3*(1-0.1*I$3)),IF(J9>10,J9*0.9,J9)) -> 108.99 | N9: =IF(M9>0,IF(L9>0,(L9*K$3+M9*10/3)/M$3,M9*10/3*(1-0.1*K$3)),IF(L9>10,L9*0.9,L9)) -> 98.091 | P9: =IF(O9>0,IF(N9>0,(N9*M$3+O9*10/3)/O$3,O9*10/3*(1-0.1*M$3)),IF(N9>10,N9*0.9,N9)) -> 88.2819 | R9: =IF(Q9>0,IF(P9>0,(P9*O$3+Q9*10/3)/Q$3,Q9*10/3*(1-0.1*O$3)),IF(P9>10,P9*0.9,P9)) -> 79.45371 | T9: =IF(S9>0,IF(R9>0,(R9*Q$3+S9*10/3)/S$3,S9*10/3*(1-0.1*Q$3)),IF(R9>10,R9*0.9,R9)) -> 71.508339 | V9: =IF(U9>0,IF(T9>0,(T9*S$3+U9*10/3)/U$3,U9*10/3*(1-0.1*S$3)),IF(T9>10,T9*0.9,T9)) -> 64.357505
A10: =A9+1 -> 6 | B10: Петушков Андрей / Petushkov Andrey | C10: 23.9 | D10: =C10/3*10 -> 79.666667 | E10: 42.1 | F10: =IF(E10>0,IF(D10>0,(D10*C$3+E10*10/3)/E$3,E10*10/3*(1-0.1*C$3)),IF(D10>10,D10*0.9,D10)) -> 110 | G10: 27 | H10: =IF(G10>0,IF(F10>0,(F10*E$3+G10*10/3)/G$3,G10*10/3*(1-0.1*E$3)),IF(F10>10,F10*0.9,F10)) -> 103.33333 | I10: 43.4 | J10: =IF(I10>0,IF(H10>0,(H10*G$3+I10*10/3)/I$3,I10*10/3*(1-0.1*G$3)),IF(H10>10,H10*0.9,H10)) -> 113.66667 | L10: =IF(K10>0,IF(J10>0,(J10*I$3+K10*10/3)/K$3,K10*10/3*(1-0.1*I$3)),IF(J10>10,J10*0.9,J10)) -> 102.3 | N10: =IF(M10>0,IF(L10>0,(L10*K$3+M10*10/3)/M$3,M10*10/3*(1-0.1*K$3)),IF(L10>10,L10*0.9,L10)) -> 92.07 | P10: =IF(O10>0,IF(N10>0,(N10*M$3+O10*10/3)/O$3,O10*10/3*(1-0.1*M$3)),IF(N10>10,N10*0.9,N10)) -> 82.863 | R10: =IF(Q10>0,IF(P10>0,(P10*O$3+Q10*10/3)/Q$3,Q10*10/3*(1-0.1*O$3)),IF(P10>10,P10*0.9,P10)) -> 74.5767 | T10: =IF(S10>0,IF(R10>0,(R10*Q$3+S10*10/3)/S$3,S10*10/3*(1-0.1*Q$3)),IF(R10>10,R10*0.9,R10)) -> 67.11903 | V10: =IF(U10>0,IF(T10>0,(T10*S$3+U10*10/3)/U$3,U10*10/3*(1-0.1*S$3)),IF(T10>10,T10*0.9,T10)) -> 60.407127
A11: =A10+1 -> 7 | B11: Горбоконь Андрей / Horbokon Andrii | E11: 47.6 | F11: =IF(E11>0,IF(D11>0,(D11*C$3+E11*10/3)/E$3,E11*10/3*(1-0.1*C$3)),IF(D11>10,D11*0.9,D11)) -> 142.8 | G11: -6.1 | H11: =IF(G11>0,IF(F11>0,(F11*E$3+G11*10/3)/G$3,G11*10/3*(1-0.1*E$3)),IF(F11>10,F11*0.9,F11)) -> 128.52 | I11: 18.6 | J11: =IF(I11>0,IF(H11>0,(H11*G$3+I11*10/3)/I$3,I11*10/3*(1-0.1*G$3)),IF(H11>10,H11*0.9,H11)) -> 111.89 | L11: =IF(K11>0,IF(J11>0,(J11*I$3+K11*10/3)/K$3,K11*10/3*(1-0.1*I$3)),IF(J11>10,J11*0.9,J11)) -> 100.701 | N11: =IF(M11>0,IF(L11>0,(L11*K$3+M11*10/3)/M$3,M11*10/3*(1-0.1*K$3)),IF(L11>10,L11*0.9,L11)) -> 90.6309 | P11: =IF(O11>0,IF(N11>0,(N11*M$3+O11*10/3)/O$3,O11*10/3*(1-0.1*M$3)),IF(N11>10,N11*0.9,N11)) -> 81.56781 | R11: =IF(Q11>0,IF(P11>0,(P11*O$3+Q11*10/3)/Q$3,Q11*10/3*(1-0.1*O$3)),IF(P11>10,P11*0.9,P11)) -> 73.411029 | T11: =IF(S11>0,IF(R11>0,(R11*Q$3+S11*10/3)/S$3,S11*10/3*(1-0.1*Q$3)),IF(R11>10,R11*0.9,R11)) -> 66.069926 | V11: =IF(U11>0,IF(T11>0,(T11*S$3+U11*10/3)/U$3,U11*10/3*(1-0.1*S$3)),IF(T11>10,T11*0.9,T11)) -> 59.462933
A12: =A11+1 -> 8 | B12: Манило Денис / Manilo Denis | C12: 24.3 | D12: =C12/3*10 -> 81 | F12: =IF(E12>0,IF(D12>0,(D12*C$3+E12*10/3)/E$3,E12*10/3*(1-0.1*C$3)),IF(D12>10,D12*0.9,D12)) -> 72.9 | G12: 44.8 | H12: =IF(G12>0,IF(F12>0,(F12*E$3+G12*10/3)/G$3,G12*10/3*(1-0.1*E$3)),IF(F12>10,F12*0.9,F12)) -> 98.377778 | I12: 45.7 | J12: =IF(I12>0,IF(H12>0,(H12*G$3+I12*10/3)/I$3,I12*10/3*(1-0.1*G$3)),IF(H12>10,H12*0.9,H12)) -> 111.86667 | L12: =IF(K12>0,IF(J12>0,(J12*I$3+K12*10/3)/K$3,K12*10/3*(1-0.1*I$3)),IF(J12>10,J12*0.9,J12)) -> 100.68 | N12: =IF(M12>0,IF(L12>0,(L12*K$3+M12*10/3)/M$3,M12*10/3*(1-0.1*K$3)),IF(L12>10,L12*0.9,L12)) -> 90.612 | P12: =IF(O12>0,IF(N12>0,(N12*M$3+O12*10/3)/O$3,O12*10/3*(1-0.1*M$3)),IF(N12>10,N12*0.9,N12)) -> 81.5508 | R12: =IF(Q12>0,IF(P12>0,(P12*O$3+Q12*10/3)/Q$3,Q12*10/3*(1-0.1*O$3)),IF(P12>10,P12*0.9,P12)) -> 73.39572 | T12: =IF(S12>0,IF(R12>0,(R12*Q$3+S12*10/3)/S$3,S12*10/3*(1-0.1*Q$3)),IF(R12>10,R12*0.9,R12)) -> 66.056148 | V12: =IF(U12>0,IF(T12>0,(T12*S$3+U12*10/3)/U$3,U12*10/3*(1-0.1*S$3)),IF(T12>10,T12*0.9,T12)) -> 59.450533
A13: =A12+1 -> 9 | B13: Тыщенко Миша / Tishenko Mikhail | C13: 22 | D13: =C13/3*10 -> 73.333333 | E13: 29.9 | F13: =IF(E13>0,IF(D13>0,(D13*C$3+E13*10/3)/E$3,E13*10/3*(1-0.1*C$3)),IF(D13>10,D13*0.9,D13)) -> 86.5 | G13: 39.2 | H13: =IF(G13>0,IF(F13>0,(F13*E$3+G13*10/3)/G$3,G13*10/3*(1-0.1*E$3)),IF(F13>10,F13*0.9,F13)) -> 101.22222 | I13: 41.4 | J13: =IF(I13>0,IF(H13>0,(H13*G$3+I13*10/3)/I$3,I13*10/3*(1-0.1*G$3)),IF(H13>10,H13*0.9,H13)) -> 110.41667 | L13: =IF(K13>0,IF(J13>0,(J13*I$3+K13*10/3)/K$3,K13*10/3*(1-0.1*I$3)),IF(J13>10,J13*0.9,J13)) -> 99.375 | N13: =IF(M13>0,IF(L13>0,(L13*K$3+M13*10/3)/M$3,M13*10/3*(1-0.1*K$3)),IF(L13>10,L13*0.9,L13)) -> 89.4375 | P13: =IF(O13>0,IF(N13>0,(N13*M$3+O13*10/3)/O$3,O13*10/3*(1-0.1*M$3)),IF(N13>10,N13*0.9,N13)) -> 80.49375 | R13: =IF(Q13>0,IF(P13>0,(P13*O$3+Q13*10/3)/Q$3,Q13*10/3*(1-0.1*O$3)),IF(P13>10,P13*0.9,P13)) -> 72.444375 | T13: =IF(S13>0,IF(R13>0,(R13*Q$3+S13*10/3)/S$3,S13*10/3*(1-0.1*Q$3)),IF(R13>10,R13*0.9,R13)) -> 65.199938 | V13: =IF(U13>0,IF(T13>0,(T13*S$3+U13*10/3)/U$3,U13*10/3*(1-0.1*S$3)),IF(T13>10,T13*0.9,T13)) -> 58.679944
A14: =A13+1 -> 10 | B14: Гобади Курош / Gobadi Kourosh | C14: 45.4 | D14: =C14/3*10 -> 151.33333 | F14: =IF(E14>0,IF(D14>0,(D14*C$3+E14*10/3)/E$3,E14*10/3*(1-0.1*C$3)),IF(D14>10,D14*0.9,D14)) -> 136.2 | H14: =IF(G14>0,IF(F14>0,(F14*E$3+G14*10/3)/G$3,G14*10/3*(1-0.1*E$3)),IF(F14>10,F14*0.9,F14)) -> 122.58 | J14: =IF(I14>0,IF(H14>0,(H14*G$3+I14*10/3)/I$3,I14*10/3*(1-0.1*G$3)),IF(H14>10,H14*0.9,H14)) -> 110.322 | L14: =IF(K14>0,IF(J14>0,(J14*I$3+K14*10/3)/K$3,K14*10/3*(1-0.1*I$3)),IF(J14>10,J14*0.9,J14)) -> 99.2898 | N14: =IF(M14>0,IF(L14>0,(L14*K$3+M14*10/3)/M$3,M14*10/3*(1-0.1*K$3)),IF(L14>10,L14*0.9,L14)) -> 89.36082 | P14: =IF(O14>0,IF(N14>0,(N14*M$3+O14*10/3)/O$3,O14*10/3*(1-0.1*M$3)),IF(N14>10,N14*0.9,N14)) -> 80.424738 | R14: =IF(Q14>0,IF(P14>0,(P14*O$3+Q14*10/3)/Q$3,Q14*10/3*(1-0.1*O$3)),IF(P14>10,P14*0.9,P14)) -> 72.382264 | T14: =IF(S14>0,IF(R14>0,(R14*Q$3+S14*10/3)/S$3,S14*10/3*(1-0.1*Q$3)),IF(R14>10,R14*0.9,R14)) -> 65.144038 | V14: =IF(U14>0,IF(T14>0,(T14*S$3+U14*10/3)/U$3,U14*10/3*(1-0.1*S$3)),IF(T14>10,T14*0.9,T14)) -> 58.629634
A15: =A14+1 -> 11 | B15: Дио / Lysenskiy Denis | C15: 32 | D15: =C15/3*10 -> 106.66667 | E15: 48 | F15: =IF(E15>0,IF(D15>0,(D15*C$3+E15*10/3)/E$3,E15*10/3*(1-0.1*C$3)),IF(D15>10,D15*0.9,D15)) -> 133.33333 | H15: =IF(G15>0,IF(F15>0,(F15*E$3+G15*10/3)/G$3,G15*10/3*(1-0.1*E$3)),IF(F15>10,F15*0.9,F15)) -> 120 | J15: =IF(I15>0,IF(H15>0,(H15*G$3+I15*10/3)/I$3,I15*10/3*(1-0.1*G$3)),IF(H15>10,H15*0.9,H15)) -> 108 | L15: =IF(K15>0,IF(J15>0,(J15*I$3+K15*10/3)/K$3,K15*10/3*(1-0.1*I$3)),IF(J15>10,J15*0.9,J15)) -> 97.2 | N15: =IF(M15>0,IF(L15>0,(L15*K$3+M15*10/3)/M$3,M15*10/3*(1-0.1*K$3)),IF(L15>10,L15*0.9,L15)) -> 87.48 | P15: =IF(O15>0,IF(N15>0,(N15*M$3+O15*10/3)/O$3,O15*10/3*(1-0.1*M$3)),IF(N15>10,N15*0.9,N15)) -> 78.732 | R15: =IF(Q15>0,IF(P15>0,(P15*O$3+Q15*10/3)/Q$3,Q15*10/3*(1-0.1*O$3)),IF(P15>10,P15*0.9,P15)) -> 70.8588 | T15: =IF(S15>0,IF(R15>0,(R15*Q$3+S15*10/3)/S$3,S15*10/3*(1-0.1*Q$3)),IF(R15>10,R15*0.9,R15)) -> 63.77292 | V15: =IF(U15>0,IF(T15>0,(T15*S$3+U15*10/3)/U$3,U15*10/3*(1-0.1*S$3)),IF(T15>10,T15*0.9,T15)) -> 57.395628
A16: =A15+1 -> 12 | B16: Горошко Игорь | H16: =IF(G16>0,IF(F16>0,(F16*E$3+G16*10/3)/G$3,G16*10/3*(1-0.1*E$3)),IF(F16>10,F16*0.9,F16)) -> 0 | I16: 46.2 | J16: =IF(I16>0,IF(H16>0,(H16*G$3+I16*10/3)/I$3,I16*10/3*(1-0.1*G$3)),IF(H16>10,H16*0.9,H16)) -> 107.8 | L16: =IF(K16>0,IF(J16>0,(J16*I$3+K16*10/3)/K$3,K16*10/3*(1-0.1*I$3)),IF(J16>10,J16*0.9,J16)) -> 97.02 | N16: =IF(M16>0,IF(L16>0,(L16*K$3+M16*10/3)/M$3,M16*10/3*(1-0.1*K$3)),IF(L16>10,L16*0.9,L16)) -> 87.318 | P16: =IF(O16>0,IF(N16>0,(N16*M$3+O16*10/3)/O$3,O16*10/3*(1-0.1*M$3)),IF(N16>10,N16*0.9,N16)) -> 78.5862 | R16: =IF(Q16>0,IF(P16>0,(P16*O$3+Q16*10/3)/Q$3,Q16*10/3*(1-0.1*O$3)),IF(P16>10,P16*0.9,P16)) -> 70.72758 | T16: =IF(S16>0,IF(R16>0,(R16*Q$3+S16*10/3)/S$3,S16*10/3*(1-0.1*Q$3)),IF(R16>10,R16*0.9,R16)) -> 63.654822 | V16: =IF(U16>0,IF(T16>0,(T16*S$3+U16*10/3)/U$3,U16*10/3*(1-0.1*S$3)),IF(T16>10,T16*0.9,T16)) -> 57.28934
A17: =A16+1 -> 13 | B17: Лантушенко Игорь / Lantushenko Ihor | C17: 14.5 | D17: =C17/3*10 -> 48.333333 | E17: 34 | F17: =IF(E17>0,IF(D17>0,(D17*C$3+E17*10/3)/E$3,E17*10/3*(1-0.1*C$3)),IF(D17>10,D17*0.9,D17)) -> 80.833333 | G17: 43 | H17: =IF(G17>0,IF(F17>0,(F17*E$3+G17*10/3)/G$3,G17*10/3*(1-0.1*E$3)),IF(F17>10,F17*0.9,F17)) -> 101.66667 | I17: 35.2 | J17: =IF(I17>0,IF(H17>0,(H17*G$3+I17*10/3)/I$3,I17*10/3*(1-0.1*G$3)),IF(H17>10,H17*0.9,H17)) -> 105.58333 | L17: =IF(K17>0,IF(J17>0,(J17*I$3+K17*10/3)/K$3,K17*10/3*(1-0.1*I$3)),IF(J17>10,J17*0.9,J17)) -> 95.025 | N17: =IF(M17>0,IF(L17>0,(L17*K$3+M17*10/3)/M$3,M17*10/3*(1-0.1*K$3)),IF(L17>10,L17*0.9,L17)) -> 85.5225 | P17: =IF(O17>0,IF(N17>0,(N17*M$3+O17*10/3)/O$3,O17*10/3*(1-0.1*M$3)),IF(N17>10,N17*0.9,N17)) -> 76.97025 | R17: =IF(Q17>0,IF(P17>0,(P17*O$3+Q17*10/3)/Q$3,Q17*10/3*(1-0.1*O$3)),IF(P17>10,P17*0.9,P17)) -> 69.273225 | T17: =IF(S17>0,IF(R17>0,(R17*Q$3+S17*10/3)/S$3,S17*10/3*(1-0.1*Q$3)),IF(R17>10,R17*0.9,R17)) -> 62.345903 | V17: =IF(U17>0,IF(T17>0,(T17*S$3+U17*10/3)/U$3,U17*10/3*(1-0.1*S$3)),IF(T17>10,T17*0.9,T17)) -> 56.111312
A18: =A17+1 -> 14 | B18: Гаврилюк Олег/ Gavriluk Oleg | E18: 43 | F18: =IF(E18>0,IF(D18>0,(D18*C$3+E18*10/3)/E$3,E18*10/3*(1-0.1*C$3)),IF(D18>10,D18*0.9,D18)) -> 129 | H18: =IF(G18>0,IF(F18>0,(F18*E$3+G18*10/3)/G$3,G18*10/3*(1-0.1*E$3)),IF(F18>10,F18*0.9,F18)) -> 116.1 | J18: =IF(I18>0,IF(H18>0,(H18*G$3+I18*10/3)/I$3,I18*10/3*(1-0.1*G$3)),IF(H18>10,H18*0.9,H18)) -> 104.49 | L18: =IF(K18>0,IF(J18>0,(J18*I$3+K18*10/3)/K$3,K18*10/3*(1-0.1*I$3)),IF(J18>10,J18*0.9,J18)) -> 94.041 | N18: =IF(M18>0,IF(L18>0,(L18*K$3+M18*10/3)/M$3,M18*10/3*(1-0.1*K$3)),IF(L18>10,L18*0.9,L18)) -> 84.6369 | P18: =IF(O18>0,IF(N18>0,(N18*M$3+O18*10/3)/O$3,O18*10/3*(1-0.1*M$3)),IF(N18>10,N18*0.9,N18)) -> 76.17321 | R18: =IF(Q18>0,IF(P18>0,(P18*O$3+Q18*10/3)/Q$3,Q18*10/3*(1-0.1*O$3)),IF(P18>10,P18*0.9,P18)) -> 68.555889 | T18: =IF(S18>0,IF(R18>0,(R18*Q$3+S18*10/3)/S$3,S18*10/3*(1-0.1*Q$3)),IF(R18>10,R18*0.9,R18)) -> 61.7003 | V18: =IF(U18>0,IF(T18>0,(T18*S$3+U18*10/3)/U$3,U18*10/3*(1-0.1*S$3)),IF(T18>10,T18*0.9,T18)) -> 55.53027
A19: =A18+1 -> 15 | B19: Резанко Оля / Rezanko Olga | C19: 39.7 | D19: =C19/3*10 -> 132.33333 | F19: =IF(E19>0,IF(D19>0,(D19*C$3+E19*10/3)/E$3,E19*10/3*(1-0.1*C$3)),IF(D19>10,D19*0.9,D19)) -> 119.1 | H19: =IF(G19>0,IF(F19>0,(F19*E$3+G19*10/3)/G$3,G19*10/3*(1-0.1*E$3)),IF(F19>10,F19*0.9,F19)) -> 107.19 | J19: =IF(I19>0,IF(H19>0,(H19*G$3+I19*10/3)/I$3,I19*10/3*(1-0.1*G$3)),IF(H19>10,H19*0.9,H19)) -> 96.471 | L19: =IF(K19>0,IF(J19>0,(J19*I$3+K19*10/3)/K$3,K19*10/3*(1-0.1*I$3)),IF(J19>10,J19*0.9,J19)) -> 86.8239 | N19: =IF(M19>0,IF(L19>0,(L19*K$3+M19*10/3)/M$3,M19*10/3*(1-0.1*K$3)),IF(L19>10,L19*0.9,L19)) -> 78.14151 | P19: =IF(O19>0,IF(N19>0,(N19*M$3+O19*10/3)/O$3,O19*10/3*(1-0.1*M$3)),IF(N19>10,N19*0.9,N19)) -> 70.327359 | R19: =IF(Q19>0,IF(P19>0,(P19*O$3+Q19*10/3)/Q$3,Q19*10/3*(1-0.1*O$3)),IF(P19>10,P19*0.9,P19)) -> 63.294623 | T19: =IF(S19>0,IF(R19>0,(R19*Q$3+S19*10/3)/S$3,S19*10/3*(1-0.1*Q$3)),IF(R19>10,R19*0.9,R19)) -> 56.965161 | V19: =IF(U19>0,IF(T19>0,(T19*S$3+U19*10/3)/U$3,U19*10/3*(1-0.1*S$3)),IF(T19>10,T19*0.9,T19)) -> 51.268645
A20: =A19+1 -> 16 | B20: Скобликов Влад / Skoblikov Vladyslav | C20: 37.8 | D20: =C20/3*10 -> 126 | E20: 24.4 | F20: =IF(E20>0,IF(D20>0,(D20*C$3+E20*10/3)/E$3,E20*10/3*(1-0.1*C$3)),IF(D20>10,D20*0.9,D20)) -> 103.66667 | G20: 33.6 | H20: =IF(G20>0,IF(F20>0,(F20*E$3+G20*10/3)/G$3,G20*10/3*(1-0.1*E$3)),IF(F20>10,F20*0.9,F20)) -> 106.44444 | J20: =IF(I20>0,IF(H20>0,(H20*G$3+I20*10/3)/I$3,I20*10/3*(1-0.1*G$3)),IF(H20>10,H20*0.9,H20)) -> 95.8 | L20: =IF(K20>0,IF(J20>0,(J20*I$3+K20*10/3)/K$3,K20*10/3*(1-0.1*I$3)),IF(J20>10,J20*0.9,J20)) -> 86.22 | N20: =IF(M20>0,IF(L20>0,(L20*K$3+M20*10/3)/M$3,M20*10/3*(1-0.1*K$3)),IF(L20>10,L20*0.9,L20)) -> 77.598 | P20: =IF(O20>0,IF(N20>0,(N20*M$3+O20*10/3)/O$3,O20*10/3*(1-0.1*M$3)),IF(N20>10,N20*0.9,N20)) -> 69.8382 | R20: =IF(Q20>0,IF(P20>0,(P20*O$3+Q20*10/3)/Q$3,Q20*10/3*(1-0.1*O$3)),IF(P20>10,P20*0.9,P20)) -> 62.85438 | T20: =IF(S20>0,IF(R20>0,(R20*Q$3+S20*10/3)/S$3,S20*10/3*(1-0.1*Q$3)),IF(R20>10,R20*0.9,R20)) -> 56.568942 | V20: =IF(U20>0,IF(T20>0,(T20*S$3+U20*10/3)/U$3,U20*10/3*(1-0.1*S$3)),IF(T20>10,T20*0.9,T20)) -> 50.912048
A21: =A20+1 -> 17 | B21: Онащук Максим / Onashuk Maxim | C21: 30 | D21: =C21/3*10 -> 100 | E21: 31.5 | F21: =IF(E21>0,IF(D21>0,(D21*C$3+E21*10/3)/E$3,E21*10/3*(1-0.1*C$3)),IF(D21>10,D21*0.9,D21)) -> 102.5 | G21: 28 | H21: =IF(G21>0,IF(F21>0,(F21*E$3+G21*10/3)/G$3,G21*10/3*(1-0.1*E$3)),IF(F21>10,F21*0.9,F21)) -> 99.444444 | J21: =IF(I21>0,IF(H21>0,(H21*G$3+I21*10/3)/I$3,I21*10/3*(1-0.1*G$3)),IF(H21>10,H21*0.9,H21)) -> 89.5 | L21: =IF(K21>0,IF(J21>0,(J21*I$3+K21*10/3)/K$3,K21*10/3*(1-0.1*I$3)),IF(J21>10,J21*0.9,J21)) -> 80.55 | N21: =IF(M21>0,IF(L21>0,(L21*K$3+M21*10/3)/M$3,M21*10/3*(1-0.1*K$3)),IF(L21>10,L21*0.9,L21)) -> 72.495 | P21: =IF(O21>0,IF(N21>0,(N21*M$3+O21*10/3)/O$3,O21*10/3*(1-0.1*M$3)),IF(N21>10,N21*0.9,N21)) -> 65.2455 | R21: =IF(Q21>0,IF(P21>0,(P21*O$3+Q21*10/3)/Q$3,Q21*10/3*(1-0.1*O$3)),IF(P21>10,P21*0.9,P21)) -> 58.72095 | T21: =IF(S21>0,IF(R21>0,(R21*Q$3+S21*10/3)/S$3,S21*10/3*(1-0.1*Q$3)),IF(R21>10,R21*0.9,R21)) -> 52.848855 | V21: =IF(U21>0,IF(T21>0,(T21*S$3+U21*10/3)/U$3,U21*10/3*(1-0.1*S$3)),IF(T21>10,T21*0.9,T21)) -> 47.56397
A22: =A21+1 -> 18 | B22: Кочмарев Юра / Kochmarev Yuriy | C22: 23.7 | D22: =C22/3*10 -> 79 | E22: 28 | F22: =IF(E22>0,IF(D22>0,(D22*C$3+E22*10/3)/E$3,E22*10/3*(1-0.1*C$3)),IF(D22>10,D22*0.9,D22)) -> 86.166667 | G22: 21.9 | H22: =IF(G22>0,IF(F22>0,(F22*E$3+G22*10/3)/G$3,G22*10/3*(1-0.1*E$3)),IF(F22>10,F22*0.9,F22)) -> 81.777778 | I22: 28.9 | J22: =IF(I22>0,IF(H22>0,(H22*G$3+I22*10/3)/I$3,I22*10/3*(1-0.1*G$3)),IF(H22>10,H22*0.9,H22)) -> 85.416667 | L22: =IF(K22>0,IF(J22>0,(J22*I$3+K22*10/3)/K$3,K22*10/3*(1-0.1*I$3)),IF(J22>10,J22*0.9,J22)) -> 76.875 | N22: =IF(M22>0,IF(L22>0,(L22*K$3+M22*10/3)/M$3,M22*10/3*(1-0.1*K$3)),IF(L22>10,L22*0.9,L22)) -> 69.1875 | P22: =IF(O22>0,IF(N22>0,(N22*M$3+O22*10/3)/O$3,O22*10/3*(1-0.1*M$3)),IF(N22>10,N22*0.9,N22)) -> 62.26875 | R22: =IF(Q22>0,IF(P22>0,(P22*O$3+Q22*10/3)/Q$3,Q22*10/3*(1-0.1*O$3)),IF(P22>10,P22*0.9,P22)) -> 56.041875 | T22: =IF(S22>0,IF(R22>0,(R22*Q$3+S22*10/3)/S$3,S22*10/3*(1-0.1*Q$3)),IF(R22>10,R22*0.9,R22)) -> 50.437688 | V22: =IF(U22>0,IF(T22>0,(T22*S$3+U22*10/3)/U$3,U22*10/3*(1-0.1*S$3)),IF(T22>10,T22*0.9,T22)) -> 45.393919
A23: =A22+1 -> 19 | B23: Якубовский Александр / Yakubovskiy Alex | C23: 24.5 | D23: =C23/3*10 -> 81.666667 | E23: 33.1 | F23: =IF(E23>0,IF(D23>0,(D23*C$3+E23*10/3)/E$3,E23*10/3*(1-0.1*C$3)),IF(D23>10,D23*0.9,D23)) -> 96 | G23: 24.1 | H23: =IF(G23>0,IF(F23>0,(F23*E$3+G23*10/3)/G$3,G23*10/3*(1-0.1*E$3)),IF(F23>10,F23*0.9,F23)) -> 90.777778 | J23: =IF(I23>0,IF(H23>0,(H23*G$3+I23*10/3)/I$3,I23*10/3*(1-0.1*G$3)),IF(H23>10,H23*0.9,H23)) -> 81.7 | L23: =IF(K23>0,IF(J23>0,(J23*I$3+K23*10/3)/K$3,K23*10/3*(1-0.1*I$3)),IF(J23>10,J23*0.9,J23)) -> 73.53 | N23: =IF(M23>0,IF(L23>0,(L23*K$3+M23*10/3)/M$3,M23*10/3*(1-0.1*K$3)),IF(L23>10,L23*0.9,L23)) -> 66.177 | P23: =IF(O23>0,IF(N23>0,(N23*M$3+O23*10/3)/O$3,O23*10/3*(1-0.1*M$3)),IF(N23>10,N23*0.9,N23)) -> 59.5593 | R23: =IF(Q23>0,IF(P23>0,(P23*O$3+Q23*10/3)/Q$3,Q23*10/3*(1-0.1*O$3)),IF(P23>10,P23*0.9,P23)) -> 53.60337 | T23: =IF(S23>0,IF(R23>0,(R23*Q$3+S23*10/3)/S$3,S23*10/3*(1-0.1*Q$3)),IF(R23>10,R23*0.9,R23)) -> 48.243033 | V23: =IF(U23>0,IF(T23>0,(T23*S$3+U23*10/3)/U$3,U23*10/3*(1-0.1*S$3)),IF(T23>10,T23*0.9,T23)) -> 43.41873
A24: =A23+1 -> 20 | B24: Несторенко Андрей / Nestorenko Andrii | C24: 26.1 | D24: =C24/3*10 -> 87 | F24: =IF(E24>0,IF(D24>0,(D24*C$3+E24*10/3)/E$3,E24*10/3*(1-0.1*C$3)),IF(D24>10,D24*0.9,D24)) -> 78.3 | H24: =IF(G24>0,IF(F24>0,(F24*E$3+G24*10/3)/G$3,G24*10/3*(1-0.1*E$3)),IF(F24>10,F24*0.9,F24)) -> 70.47 | I24: 29.4 | J24: =IF(I24>0,IF(H24>0,(H24*G$3+I24*10/3)/I$3,I24*10/3*(1-0.1*G$3)),IF(H24>10,H24*0.9,H24)) -> 77.3525 | L24: =IF(K24>0,IF(J24>0,(J24*I$3+K24*10/3)/K$3,K24*10/3*(1-0.1*I$3)),IF(J24>10,J24*0.9,J24)) -> 69.61725 | N24: =IF(M24>0,IF(L24>0,(L24*K$3+M24*10/3)/M$3,M24*10/3*(1-0.1*K$3)),IF(L24>10,L24*0.9,L24)) -> 62.655525 | P24: =IF(O24>0,IF(N24>0,(N24*M$3+O24*10/3)/O$3,O24*10/3*(1-0.1*M$3)),IF(N24>10,N24*0.9,N24)) -> 56.389973 | R24: =IF(Q24>0,IF(P24>0,(P24*O$3+Q24*10/3)/Q$3,Q24*10/3*(1-0.1*O$3)),IF(P24>10,P24*0.9,P24)) -> 50.750975 | T24: =IF(S24>0,IF(R24>0,(R24*Q$3+S24*10/3)/S$3,S24*10/3*(1-0.1*Q$3)),IF(R24>10,R24*0.9,R24)) -> 45.675878 | V24: =IF(U24>0,IF(T24>0,(T24*S$3+U24*10/3)/U$3,U24*10/3*(1-0.1*S$3)),IF(T24>10,T24*0.9,T24)) -> 41.10829
A25: =A24+1 -> 21 | B25: Кравченко Евгений | G25: 31.1 | H25: =IF(G25>0,IF(F25>0,(F25*E$3+G25*10/3)/G$3,G25*10/3*(1-0.1*E$3)),IF(F25>10,F25*0.9,F25)) -> 82.933333 | J25: =IF(I25>0,IF(H25>0,(H25*G$3+I25*10/3)/I$3,I25*10/3*(1-0.1*G$3)),IF(H25>10,H25*0.9,H25)) -> 74.64 | L25: =IF(K25>0,IF(J25>0,(J25*I$3+K25*10/3)/K$3,K25*10/3*(1-0.1*I$3)),IF(J25>10,J25*0.9,J25)) -> 67.176 | N25: =IF(M25>0,IF(L25>0,(L25*K$3+M25*10/3)/M$3,M25*10/3*(1-0.1*K$3)),IF(L25>10,L25*0.9,L25)) -> 60.4584 | P25: =IF(O25>0,IF(N25>0,(N25*M$3+O25*10/3)/O$3,O25*10/3*(1-0.1*M$3)),IF(N25>10,N25*0.9,N25)) -> 54.41256 | R25: =IF(Q25>0,IF(P25>0,(P25*O$3+Q25*10/3)/Q$3,Q25*10/3*(1-0.1*O$3)),IF(P25>10,P25*0.9,P25)) -> 48.971304 | T25: =IF(S25>0,IF(R25>0,(R25*Q$3+S25*10/3)/S$3,S25*10/3*(1-0.1*Q$3)),IF(R25>10,R25*0.9,R25)) -> 44.074174 | V25: =IF(U25>0,IF(T25>0,(T25*S$3+U25*10/3)/U$3,U25*10/3*(1-0.1*S$3)),IF(T25>10,T25*0.9,T25)) -> 39.666756
A26: =A25+1 -> 22 | B26: Трофименко Иван / Trofimenko Ivan | C26: 22.1 | D26: =C26/3*10 -> 73.666667 | F26: =IF(E26>0,IF(D26>0,(D26*C$3+E26*10/3)/E$3,E26*10/3*(1-0.1*C$3)),IF(D26>10,D26*0.9,D26)) -> 66.3 | H26: =IF(G26>0,IF(F26>0,(F26*E$3+G26*10/3)/G$3,G26*10/3*(1-0.1*E$3)),IF(F26>10,F26*0.9,F26)) -> 59.67 | I26: 25.7 | J26: =IF(I26>0,IF(H26>0,(H26*G$3+I26*10/3)/I$3,I26*10/3*(1-0.1*G$3)),IF(H26>10,H26*0.9,H26)) -> 66.169167 | L26: =IF(K26>0,IF(J26>0,(J26*I$3+K26*10/3)/K$3,K26*10/3*(1-0.1*I$3)),IF(J26>10,J26*0.9,J26)) -> 59.55225 | N26: =IF(M26>0,IF(L26>0,(L26*K$3+M26*10/3)/M$3,M26*10/3*(1-0.1*K$3)),IF(L26>10,L26*0.9,L26)) -> 53.597025 | P26: =IF(O26>0,IF(N26>0,(N26*M$3+O26*10/3)/O$3,O26*10/3*(1-0.1*M$3)),IF(N26>10,N26*0.9,N26)) -> 48.237323 | R26: =IF(Q26>0,IF(P26>0,(P26*O$3+Q26*10/3)/Q$3,Q26*10/3*(1-0.1*O$3)),IF(P26>10,P26*0.9,P26)) -> 43.41359 | T26: =IF(S26>0,IF(R26>0,(R26*Q$3+S26*10/3)/S$3,S26*10/3*(1-0.1*Q$3)),IF(R26>10,R26*0.9,R26)) -> 39.072231 | V26: =IF(U26>0,IF(T26>0,(T26*S$3+U26*10/3)/U$3,U26*10/3*(1-0.1*S$3)),IF(T26>10,T26*0.9,T26)) -> 35.165008
A27: =A26+1 -> 23 | B27: Фортуна Таня/ Fortuna Tanya | E27: 19.5 | F27: =IF(E27>0,IF(D27>0,(D27*C$3+E27*10/3)/E$3,E27*10/3*(1-0.1*C$3)),IF(D27>10,D27*0.9,D27)) -> 58.5 | G27: 21 | H27: =IF(G27>0,IF(F27>0,(F27*E$3+G27*10/3)/G$3,G27*10/3*(1-0.1*E$3)),IF(F27>10,F27*0.9,F27)) -> 62.333333 | I27: 20 | J27: =IF(I27>0,IF(H27>0,(H27*G$3+I27*10/3)/I$3,I27*10/3*(1-0.1*G$3)),IF(H27>10,H27*0.9,H27)) -> 63.416667 | L27: =IF(K27>0,IF(J27>0,(J27*I$3+K27*10/3)/K$3,K27*10/3*(1-0.1*I$3)),IF(J27>10,J27*0.9,J27)) -> 57.075 | N27: =IF(M27>0,IF(L27>0,(L27*K$3+M27*10/3)/M$3,M27*10/3*(1-0.1*K$3)),IF(L27>10,L27*0.9,L27)) -> 51.3675 | P27: =IF(O27>0,IF(N27>0,(N27*M$3+O27*10/3)/O$3,O27*10/3*(1-0.1*M$3)),IF(N27>10,N27*0.9,N27)) -> 46.23075 | R27: =IF(Q27>0,IF(P27>0,(P27*O$3+Q27*10/3)/Q$3,Q27*10/3*(1-0.1*O$3)),IF(P27>10,P27*0.9,P27)) -> 41.607675 | T27: =IF(S27>0,IF(R27>0,(R27*Q$3+S27*10/3)/S$3,S27*10/3*(1-0.1*Q$3)),IF(R27>10,R27*0.9,R27)) -> 37.446908 | V27: =IF(U27>0,IF(T27>0,(T27*S$3+U27*10/3)/U$3,U27*10/3*(1-0.1*S$3)),IF(T27>10,T27*0.9,T27)) -> 33.702217
A28: =A27+1 -> 24 | B28: Ткаченко Сергей / Tkachenko Sergey | C28: -3.5 | D28: =C28/3*10 -> -11.666667 | E28: 25.2 | F28: =IF(E28>0,IF(D28>0,(D28*C$3+E28*10/3)/E$3,E28*10/3*(1-0.1*C$3)),IF(D28>10,D28*0.9,D28)) -> 75.6 | H28: =IF(G28>0,IF(F28>0,(F28*E$3+G28*10/3)/G$3,G28*10/3*(1-0.1*E$3)),IF(F28>10,F28*0.9,F28)) -> 68.04 | J28: =IF(I28>0,IF(H28>0,(H28*G$3+I28*10/3)/I$3,I28*10/3*(1-0.1*G$3)),IF(H28>10,H28*0.9,H28)) -> 61.236 | L28: =IF(K28>0,IF(J28>0,(J28*I$3+K28*10/3)/K$3,K28*10/3*(1-0.1*I$3)),IF(J28>10,J28*0.9,J28)) -> 55.1124 | N28: =IF(M28>0,IF(L28>0,(L28*K$3+M28*10/3)/M$3,M28*10/3*(1-0.1*K$3)),IF(L28>10,L28*0.9,L28)) -> 49.60116 | P28: =IF(O28>0,IF(N28>0,(N28*M$3+O28*10/3)/O$3,O28*10/3*(1-0.1*M$3)),IF(N28>10,N28*0.9,N28)) -> 44.641044 | R28: =IF(Q28>0,IF(P28>0,(P28*O$3+Q28*10/3)/Q$3,Q28*10/3*(1-0.1*O$3)),IF(P28>10,P28*0.9,P28)) -> 40.17694 | T28: =IF(S28>0,IF(R28>0,(R28*Q$3+S28*10/3)/S$3,S28*10/3*(1-0.1*Q$3)),IF(R28>10,R28*0.9,R28)) -> 36.159246 | V28: =IF(U28>0,IF(T28>0,(T28*S$3+U28*10/3)/U$3,U28*10/3*(1-0.1*S$3)),IF(T28>10,T28*0.9,T28)) -> 32.543321
A29: =A28+1 -> 25 | B29: Лабинский Николай / Labinskiy Nikolay | C29: 15.1 | D29: =C29/3*10 -> 50.333333 | F29: =IF(E29>0,IF(D29>0,(D29*C$3+E29*10/3)/E$3,E29*10/3*(1-0.1*C$3)),IF(D29>10,D29*0.9,D29)) -> 45.3 | H29: =IF(G29>0,IF(F29>0,(F29*E$3+G29*10/3)/G$3,G29*10/3*(1-0.1*E$3)),IF(F29>10,F29*0.9,F29)) -> 40.77 | I29: 31.6 | J29: =IF(I29>0,IF(H29>0,(H29*G$3+I29*10/3)/I$3,I29*10/3*(1-0.1*G$3)),IF(H29>10,H29*0.9,H29)) -> 56.910833 | L29: =IF(K29>0,IF(J29>0,(J29*I$3+K29*10/3)/K$3,K29*10/3*(1-0.1*I$3)),IF(J29>10,J29*0.9,J29)) -> 51.21975 | N29: =IF(M29>0,IF(L29>0,(L29*K$3+M29*10/3)/M$3,M29*10/3*(1-0.1*K$3)),IF(L29>10,L29*0.9,L29)) -> 46.097775 | P29: =IF(O29>0,IF(N29>0,(N29*M$3+O29*10/3)/O$3,O29*10/3*(1-0.1*M$3)),IF(N29>10,N29*0.9,N29)) -> 41.487997 | R29: =IF(Q29>0,IF(P29>0,(P29*O$3+Q29*10/3)/Q$3,Q29*10/3*(1-0.1*O$3)),IF(P29>10,P29*0.9,P29)) -> 37.339198 | T29: =IF(S29>0,IF(R29>0,(R29*Q$3+S29*10/3)/S$3,S29*10/3*(1-0.1*Q$3)),IF(R29>10,R29*0.9,R29)) -> 33.605278 | V29: =IF(U29>0,IF(T29>0,(T29*S$3+U29*10/3)/U$3,U29*10/3*(1-0.1*S$3)),IF(T29>10,T29*0.9,T29)) -> 30.24475
A30: =A29+1 -> 26 | B30: Плакидюк Виталий / Plakidiuk Vitaliy | C30: 23.3 | D30: =C30/3*10 -> 77.666667 | F30: =IF(E30>0,IF(D30>0,(D30*C$3+E30*10/3)/E$3,E30*10/3*(1-0.1*C$3)),IF(D30>10,D30*0.9,D30)) -> 69.9 | H30: =IF(G30>0,IF(F30>0,(F30*E$3+G30*10/3)/G$3,G30*10/3*(1-0.1*E$3)),IF(F30>10,F30*0.9,F30)) -> 62.91 | J30: =IF(I30>0,IF(H30>0,(H30*G$3+I30*10/3)/I$3,I30*10/3*(1-0.1*G$3)),IF(H30>10,H30*0.9,H30)) -> 56.619 | L30: =IF(K30>0,IF(J30>0,(J30*I$3+K30*10/3)/K$3,K30*10/3*(1-0.1*I$3)),IF(J30>10,J30*0.9,J30)) -> 50.9571 | N30: =IF(M30>0,IF(L30>0,(L30*K$3+M30*10/3)/M$3,M30*10/3*(1-0.1*K$3)),IF(L30>10,L30*0.9,L30)) -> 45.86139 | P30: =IF(O30>0,IF(N30>0,(N30*M$3+O30*10/3)/O$3,O30*10/3*(1-0.1*M$3)),IF(N30>10,N30*0.9,N30)) -> 41.275251 | R30: =IF(Q30>0,IF(P30>0,(P30*O$3+Q30*10/3)/Q$3,Q30*10/3*(1-0.1*O$3)),IF(P30>10,P30*0.9,P30)) -> 37.147726 | T30: =IF(S30>0,IF(R30>0,(R30*Q$3+S30*10/3)/S$3,S30*10/3*(1-0.1*Q$3)),IF(R30>10,R30*0.9,R30)) -> 33.432953 | V30: =IF(U30>0,IF(T30>0,(T30*S$3+U30*10/3)/U$3,U30*10/3*(1-0.1*S$3)),IF(T30>10,T30*0.9,T30)) -> 30.089658
A31: =A30+1 -> 27 | B31: Хлопонин Андрей/ Khloponin Andrew | E31: 16.7 | F31: =IF(E31>0,IF(D31>0,(D31*C$3+E31*10/3)/E$3,E31*10/3*(1-0.1*C$3)),IF(D31>10,D31*0.9,D31)) -> 50.1 | G31: 22.5 | H31: =IF(G31>0,IF(F31>0,(F31*E$3+G31*10/3)/G$3,G31*10/3*(1-0.1*E$3)),IF(F31>10,F31*0.9,F31)) -> 58.4 | J31: =IF(I31>0,IF(H31>0,(H31*G$3+I31*10/3)/I$3,I31*10/3*(1-0.1*G$3)),IF(H31>10,H31*0.9,H31)) -> 52.56 | L31: =IF(K31>0,IF(J31>0,(J31*I$3+K31*10/3)/K$3,K31*10/3*(1-0.1*I$3)),IF(J31>10,J31*0.9,J31)) -> 47.304 | N31: =IF(M31>0,IF(L31>0,(L31*K$3+M31*10/3)/M$3,M31*10/3*(1-0.1*K$3)),IF(L31>10,L31*0.9,L31)) -> 42.5736 | P31: =IF(O31>0,IF(N31>0,(N31*M$3+O31*10/3)/O$3,O31*10/3*(1-0.1*M$3)),IF(N31>10,N31*0.9,N31)) -> 38.31624 | R31: =IF(Q31>0,IF(P31>0,(P31*O$3+Q31*10/3)/Q$3,Q31*10/3*(1-0.1*O$3)),IF(P31>10,P31*0.9,P31)) -> 34.484616 | T31: =IF(S31>0,IF(R31>0,(R31*Q$3+S31*10/3)/S$3,S31*10/3*(1-0.1*Q$3)),IF(R31>10,R31*0.9,R31)) -> 31.036154 | V31: =IF(U31>0,IF(T31>0,(T31*S$3+U31*10/3)/U$3,U31*10/3*(1-0.1*S$3)),IF(T31>10,T31*0.9,T31)) -> 27.932539
A32: =A31+1 -> 28 | B32: Джемула Сергей / Dzhemula Sergii | C32: 18.4 | D32: =C32/3*10 -> 61.333333 | F32: =IF(E32>0,IF(D32>0,(D32*C$3+E32*10/3)/E$3,E32*10/3*(1-0.1*C$3)),IF(D32>10,D32*0.9,D32)) -> 55.2 | G32: 19 | H32: =IF(G32>0,IF(F32>0,(F32*E$3+G32*10/3)/G$3,G32*10/3*(1-0.1*E$3)),IF(F32>10,F32*0.9,F32)) -> 57.911111 | J32: =IF(I32>0,IF(H32>0,(H32*G$3+I32*10/3)/I$3,I32*10/3*(1-0.1*G$3)),IF(H32>10,H32*0.9,H32)) -> 52.12 | L32: =IF(K32>0,IF(J32>0,(J32*I$3+K32*10/3)/K$3,K32*10/3*(1-0.1*I$3)),IF(J32>10,J32*0.9,J32)) -> 46.908 | N32: =IF(M32>0,IF(L32>0,(L32*K$3+M32*10/3)/M$3,M32*10/3*(1-0.1*K$3)),IF(L32>10,L32*0.9,L32)) -> 42.2172 | P32: =IF(O32>0,IF(N32>0,(N32*M$3+O32*10/3)/O$3,O32*10/3*(1-0.1*M$3)),IF(N32>10,N32*0.9,N32)) -> 37.99548 | R32: =IF(Q32>0,IF(P32>0,(P32*O$3+Q32*10/3)/Q$3,Q32*10/3*(1-0.1*O$3)),IF(P32>10,P32*0.9,P32)) -> 34.195932 | T32: =IF(S32>0,IF(R32>0,(R32*Q$3+S32*10/3)/S$3,S32*10/3*(1-0.1*Q$3)),IF(R32>10,R32*0.9,R32)) -> 30.776339 | V32: =IF(U32>0,IF(T32>0,(T32*S$3+U32*10/3)/U$3,U32*10/3*(1-0.1*S$3)),IF(T32>10,T32*0.9,T32)) -> 27.698705
A33: =A32+1 -> 29 | B33: Ищук Сергей / Ischuk Sergey | C33: 2.5 | D33: =C33/3*10 -> 8.3333333 | E33: 19 | F33: =IF(E33>0,IF(D33>0,(D33*C$3+E33*10/3)/E$3,E33*10/3*(1-0.1*C$3)),IF(D33>10,D33*0.9,D33)) -> 35.833333 | G33: 15.2 | H33: =IF(G33>0,IF(F33>0,(F33*E$3+G33*10/3)/G$3,G33*10/3*(1-0.1*E$3)),IF(F33>10,F33*0.9,F33)) -> 40.777778 | J33: =IF(I33>0,IF(H33>0,(H33*G$3+I33*10/3)/I$3,I33*10/3*(1-0.1*G$3)),IF(H33>10,H33*0.9,H33)) -> 36.7 | L33: =IF(K33>0,IF(J33>0,(J33*I$3+K33*10/3)/K$3,K33*10/3*(1-0.1*I$3)),IF(J33>10,J33*0.9,J33)) -> 33.03 | N33: =IF(M33>0,IF(L33>0,(L33*K$3+M33*10/3)/M$3,M33*10/3*(1-0.1*K$3)),IF(L33>10,L33*0.9,L33)) -> 29.727 | P33: =IF(O33>0,IF(N33>0,(N33*M$3+O33*10/3)/O$3,O33*10/3*(1-0.1*M$3)),IF(N33>10,N33*0.9,N33)) -> 26.7543 | R33: =IF(Q33>0,IF(P33>0,(P33*O$3+Q33*10/3)/Q$3,Q33*10/3*(1-0.1*O$3)),IF(P33>10,P33*0.9,P33)) -> 24.07887 | T33: =IF(S33>0,IF(R33>0,(R33*Q$3+S33*10/3)/S$3,S33*10/3*(1-0.1*Q$3)),IF(R33>10,R33*0.9,R33)) -> 21.670983 | V33: =IF(U33>0,IF(T33>0,(T33*S$3+U33*10/3)/U$3,U33*10/3*(1-0.1*S$3)),IF(T33>10,T33*0.9,T33)) -> 19.503885
A34: =A33+1 -> 30 | B34: Линнык Владимир/ Linnyk Vlad | E34: 13 | F34: =IF(E34>0,IF(D34>0,(D34*C$3+E34*10/3)/E$3,E34*10/3*(1-0.1*C$3)),IF(D34>10,D34*0.9,D34)) -> 39 | H34: =IF(G34>0,IF(F34>0,(F34*E$3+G34*10/3)/G$3,G34*10/3*(1-0.1*E$3)),IF(F34>10,F34*0.9,F34)) -> 35.1 | J34: =IF(I34>0,IF(H34>0,(H34*G$3+I34*10/3)/I$3,I34*10/3*(1-0.1*G$3)),IF(H34>10,H34*0.9,H34)) -> 31.59 | L34: =IF(K34>0,IF(J34>0,(J34*I$3+K34*10/3)/K$3,K34*10/3*(1-0.1*I$3)),IF(J34>10,J34*0.9,J34)) -> 28.431 | N34: =IF(M34>0,IF(L34>0,(L34*K$3+M34*10/3)/M$3,M34*10/3*(1-0.1*K$3)),IF(L34>10,L34*0.9,L34)) -> 25.5879 | P34: =IF(O34>0,IF(N34>0,(N34*M$3+O34*10/3)/O$3,O34*10/3*(1-0.1*M$3)),IF(N34>10,N34*0.9,N34)) -> 23.02911 | R34: =IF(Q34>0,IF(P34>0,(P34*O$3+Q34*10/3)/Q$3,Q34*10/3*(1-0.1*O$3)),IF(P34>10,P34*0.9,P34)) -> 20.726199 | T34: =IF(S34>0,IF(R34>0,(R34*Q$3+S34*10/3)/S$3,S34*10/3*(1-0.1*Q$3)),IF(R34>10,R34*0.9,R34)) -> 18.653579 | V34: =IF(U34>0,IF(T34>0,(T34*S$3+U34*10/3)/U$3,U34*10/3*(1-0.1*S$3)),IF(T34>10,T34*0.9,T34)) -> 16.788221
A35: =A34+1 -> 31 | B35: Пархомчук Александр /Parhomchuk Alexander | E35: 10.7 | F35: =IF(E35>0,IF(D35>0,(D35*C$3+E35*10/3)/E$3,E35*10/3*(1-0.1*C$3)),IF(D35>10,D35*0.9,D35)) -> 32.1 | H35: =IF(G35>0,IF(F35>0,(F35*E$3+G35*10/3)/G$3,G35*10/3*(1-0.1*E$3)),IF(F35>10,F35*0.9,F35)) -> 28.89 | J35: =IF(I35>0,IF(H35>0,(H35*G$3+I35*10/3)/I$3,I35*10/3*(1-0.1*G$3)),IF(H35>10,H35*0.9,H35)) -> 26.001 | L35: =IF(K35>0,IF(J35>0,(J35*I$3+K35*10/3)/K$3,K35*10/3*(1-0.1*I$3)),IF(J35>10,J35*0.9,J35)) -> 23.4009 | N35: =IF(M35>0,IF(L35>0,(L35*K$3+M35*10/3)/M$3,M35*10/3*(1-0.1*K$3)),IF(L35>10,L35*0.9,L35)) -> 21.06081 | P35: =IF(O35>0,IF(N35>0,(N35*M$3+O35*10/3)/O$3,O35*10/3*(1-0.1*M$3)),IF(N35>10,N35*0.9,N35)) -> 18.954729 | R35: =IF(Q35>0,IF(P35>0,(P35*O$3+Q35*10/3)/Q$3,Q35*10/3*(1-0.1*O$3)),IF(P35>10,P35*0.9,P35)) -> 17.059256 | T35: =IF(S35>0,IF(R35>0,(R35*Q$3+S35*10/3)/S$3,S35*10/3*(1-0.1*Q$3)),IF(R35>10,R35*0.9,R35)) -> 15.35333 | V35: =IF(U35>0,IF(T35>0,(T35*S$3+U35*10/3)/U$3,U35*10/3*(1-0.1*S$3)),IF(T35>10,T35*0.9,T35)) -> 13.817997
A36: =A35+1 -> 32 | B36: Фалько Костя / Falko Konstantin | C36: 7.9 | D36: =C36/3*10 -> 26.333333 | F36: =IF(E36>0,IF(D36>0,(D36*C$3+E36*10/3)/E$3,E36*10/3*(1-0.1*C$3)),IF(D36>10,D36*0.9,D36)) -> 23.7 | H36: =IF(G36>0,IF(F36>0,(F36*E$3+G36*10/3)/G$3,G36*10/3*(1-0.1*E$3)),IF(F36>10,F36*0.9,F36)) -> 21.33 | J36: =IF(I36>0,IF(H36>0,(H36*G$3+I36*10/3)/I$3,I36*10/3*(1-0.1*G$3)),IF(H36>10,H36*0.9,H36)) -> 19.197 | L36: =IF(K36>0,IF(J36>0,(J36*I$3+K36*10/3)/K$3,K36*10/3*(1-0.1*I$3)),IF(J36>10,J36*0.9,J36)) -> 17.2773 | N36: =IF(M36>0,IF(L36>0,(L36*K$3+M36*10/3)/M$3,M36*10/3*(1-0.1*K$3)),IF(L36>10,L36*0.9,L36)) -> 15.54957 | P36: =IF(O36>0,IF(N36>0,(N36*M$3+O36*10/3)/O$3,O36*10/3*(1-0.1*M$3)),IF(N36>10,N36*0.9,N36)) -> 13.994613 | R36: =IF(Q36>0,IF(P36>0,(P36*O$3+Q36*10/3)/Q$3,Q36*10/3*(1-0.1*O$3)),IF(P36>10,P36*0.9,P36)) -> 12.595152 | T36: =IF(S36>0,IF(R36>0,(R36*Q$3+S36*10/3)/S$3,S36*10/3*(1-0.1*Q$3)),IF(R36>10,R36*0.9,R36)) -> 11.335637 | V36: =IF(U36>0,IF(T36>0,(T36*S$3+U36*10/3)/U$3,U36*10/3*(1-0.1*S$3)),IF(T36>10,T36*0.9,T36)) -> 10.202073
A37: =A36+1 -> 33 | L37: =IF(K37>0,IF(J37>0,(J37*I$3+K37*10/3)/K$3,K37*10/3*(1-0.1*I$3)),IF(J37>10,J37*0.9,J37)) -> 0 | N37: =IF(M37>0,IF(L37>0,(L37*K$3+M37*10/3)/M$3,M37*10/3*(1-0.1*K$3)),IF(L37>10,L37*0.9,L37)) -> 0 | P37: =IF(O37>0,IF(N37>0,(N37*M$3+O37*10/3)/O$3,O37*10/3*(1-0.1*M$3)),IF(N37>10,N37*0.9,N37)) -> 0 | R37: =IF(Q37>0,IF(P37>0,(P37*O$3+Q37*10/3)/Q$3,Q37*10/3*(1-0.1*O$3)),IF(P37>10,P37*0.9,P37)) -> 0 | T37: =IF(S37>0,IF(R37>0,(R37*Q$3+S37*10/3)/S$3,S37*10/3*(1-0.1*Q$3)),IF(R37>10,R37*0.9,R37)) -> 0 | V37: =IF(U37>0,IF(T37>0,(T37*S$3+U37*10/3)/U$3,U37*10/3*(1-0.1*S$3)),IF(T37>10,T37*0.9,T37)) -> 0
A38: =A37+1 -> 34 | P38: =IF(O38>0,IF(N38>0,(N38*M$3+O38*10/3)/O$3,O38*10/3*(1-0.1*M$3)),IF(N38>10,N38*0.9,N38)) -> 0 | R38: =IF(Q38>0,IF(P38>0,(P38*O$3+Q38*10/3)/Q$3,Q38*10/3*(1-0.1*O$3)),IF(P38>10,P38*0.9,P38)) -> 0 | T38: =IF(S38>0,IF(R38>0,(R38*Q$3+S38*10/3)/S$3,S38*10/3*(1-0.1*Q$3)),IF(R38>10,R38*0.9,R38)) -> 0 | V38: =IF(U38>0,IF(T38>0,(T38*S$3+U38*10/3)/U$3,U38*10/3*(1-0.1*S$3)),IF(T38>10,T38*0.9,T38)) -> 0
A39: =A38+1 -> 35 | L39: =IF(K39>0,IF(J39>0,(J39*I$3+K39*10/3)/K$3,K39*10/3*(1-0.1*I$3)),IF(J39>10,J39*0.9,J39)) -> 0 | N39: =IF(M39>0,IF(L39>0,(L39*K$3+M39*10/3)/M$3,M39*10/3*(1-0.1*K$3)),IF(L39>10,L39*0.9,L39)) -> 0 | P39: =IF(O39>0,IF(N39>0,(N39*M$3+O39*10/3)/O$3,O39*10/3*(1-0.1*M$3)),IF(N39>10,N39*0.9,N39)) -> 0 | R39: =IF(Q39>0,IF(P39>0,(P39*O$3+Q39*10/3)/Q$3,Q39*10/3*(1-0.1*O$3)),IF(P39>10,P39*0.9,P39)) -> 0 | T39: =IF(S39>0,IF(R39>0,(R39*Q$3+S39*10/3)/S$3,S39*10/3*(1-0.1*Q$3)),IF(R39>10,R39*0.9,R39)) -> 0 | V39: =IF(U39>0,IF(T39>0,(T39*S$3+U39*10/3)/U$3,U39*10/3*(1-0.1*S$3)),IF(T39>10,T39*0.9,T39)) -> 0
A40: =A39+1 -> 36 | H40: =IF(G40>0,IF(F40>0,(F40*E$3+G40*10/3)/G$3,G40*10/3*(1-0.1*E$3)),IF(F40>10,F40*0.9,F40)) -> 0 | J40: =IF(I40>0,IF(H40>0,(H40*G$3+I40*10/3)/I$3,I40*10/3*(1-0.1*G$3)),IF(H40>10,H40*0.9,H40)) -> 0 | L40: =IF(K40>0,IF(J40>0,(J40*I$3+K40*10/3)/K$3,K40*10/3*(1-0.1*I$3)),IF(J40>10,J40*0.9,J40)) -> 0 | N40: =IF(M40>0,IF(L40>0,(L40*K$3+M40*10/3)/M$3,M40*10/3*(1-0.1*K$3)),IF(L40>10,L40*0.9,L40)) -> 0 | P40: =IF(O40>0,IF(N40>0,(N40*M$3+O40*10/3)/O$3,O40*10/3*(1-0.1*M$3)),IF(N40>10,N40*0.9,N40)) -> 0 | R40: =IF(Q40>0,IF(P40>0,(P40*O$3+Q40*10/3)/Q$3,Q40*10/3*(1-0.1*O$3)),IF(P40>10,P40*0.9,P40)) -> 0 | T40: =IF(S40>0,IF(R40>0,(R40*Q$3+S40*10/3)/S$3,S40*10/3*(1-0.1*Q$3)),IF(R40>10,R40*0.9,R40)) -> 0 | V40: =IF(U40>0,IF(T40>0,(T40*S$3+U40*10/3)/U$3,U40*10/3*(1-0.1*S$3)),IF(T40>10,T40*0.9,T40)) -> 0
A41: =A40+1 -> 37 | N41: =IF(M41>0,IF(L41>0,(L41*K$3+M41*10/3)/M$3,M41*10/3*(1-0.1*K$3)),IF(L41>10,L41*0.9,L41)) -> 0 | P41: =IF(O41>0,IF(N41>0,(N41*M$3+O41*10/3)/O$3,O41*10/3*(1-0.1*M$3)),IF(N41>10,N41*0.9,N41)) -> 0 | R41: =IF(Q41>0,IF(P41>0,(P41*O$3+Q41*10/3)/Q$3,Q41*10/3*(1-0.1*O$3)),IF(P41>10,P41*0.9,P41)) -> 0 | T41: =IF(S41>0,IF(R41>0,(R41*Q$3+S41*10/3)/S$3,S41*10/3*(1-0.1*Q$3)),IF(R41>10,R41*0.9,R41)) -> 0 | V41: =IF(U41>0,IF(T41>0,(T41*S$3+U41*10/3)/U$3,U41*10/3*(1-0.1*S$3)),IF(T41>10,T41*0.9,T41)) -> 0
...

Sheet Очки
A2: 6-12 | B2: группа | E2: 13-14 | F2: группа | I2: 15-16 | J2: группа | M2: 17-18 | N2: группа | Q2: 19-20 | R2: группа | U2: 21-22 | V2: группа | Y2: 23-24 | Z2: группа
A3: Место | B3: 1 | E3: Место | F3: 1 | G3: 2 | I3: Место | J3: 1 | K3: 2 | M3: Место | N3: 1 | O3: 2 | Q3: Место | R3: 1 | S3: 2 | U3: Место | V3: 1 | W3: 2 | Y3: Место | Z3: 1 | AA3: 2
A4: 1 | B4: 16 | E4: 1 | F4: 16 | G4: 12 | I4: 1 | J4: 16 | K4: 11.5 | M4: 1 | N4: 16 | O4: 11 | Q4: 1 | R4: 16 | S4: 10.5 | U4: 1 | V4: 16 | W4: 10 | Y4: 1 | Z4: 16 | AA4: 9.5
A5: 2 | B5: 15 | E5: 2 | F5: 15 | G5: 11 | I5: 2 | J5: 15 | K5: 10.5 | M5: 2 | N5: 15 | O5: 10 | Q5: 2 | R5: 15 | S5: 9.5 | U5: 2 | V5: 15 | W5: 9 | Y5: 2 | Z5: 15 | AA5: 8.5
A6: 3 | B6: 14 | E6: 3 | F6: 14 | G6: 10 | I6: 3 | J6: 14 | K6: 9.5 | M6: 3 | N6: 14 | O6: 9 | Q6: 3 | R6: 14 | S6: 8.5 | U6: 3 | V6: 14 | W6: 8 | Y6: 3 | Z6: 14 | AA6: 7.5
A7: 4 | B7: 13 | E7: 4 | F7: 13 | G7: 9 | I7: 4 | J7: 13 | K7: 8.5 | M7: 4 | N7: 13 | O7: 8 | Q7: 4 | R7: 13 | S7: 7.5 | U7: 4 | V7: 13 | W7: 7 | Y7: 4 | Z7: 13 | AA7: 6.5
A8: 5 | B8: 12 | E8: 5 | F8: 12 | G8: 8 | I8: 5 | J8: 12 | K8: 7.5 | M8: 5 | N8: 12 | O8: 7 | Q8: 5 | R8: 12 | S8: 6.5 | U8: 5 | V8: 12 | W8: 6 | Y8: 5 | Z8: 12 | AA8: 5.5
A9: 6 | B9: 11.5 | E9: 6 | F9: 11.5 | G9: 7.5 | I9: 6 | J9: 11.5 | K9: 7 | M9: 6 | N9: 11.5 | O9: 6.5 | Q9: 6 | R9: 11.5 | S9: 6 | U9: 6 | V9: 11.5 | W9: 5.5 | Y9: 6 | Z9: 11.5 | AA9: 5
A10: 7 | B10: 11 | E10: 7 | F10: 11 | G10: 7 | I10: 7 | J10: 11 | K10: 6.5 | M10: 7 | N10: 11 | O10: 6 | Q10: 7 | R10: 11 | S10: 5.5 | U10: 7 | V10: 11 | W10: 5 | Y10: 7 | Z10: 11 | AA10: 4.5
A11: 8 | B11: 10.5 | I11: 8 | J11: 10.5 | K11: 6 | M11: 8 | N11: 10.5 | O11: 5.5 | Q11: 8 | R11: 10.5 | S11: 5 | U11: 8 | V11: 10.5 | W11: 4.5 | Y11: 8 | Z11: 10.5 | AA11: 4
A12: 9 | B12: 10 | M12: 9 | N12: 10 | O12: 5 | Q12: 9 | R12: 10 | S12: 4.5 | U12: 9 | V12: 10 | W12: 4 | Y12: 9 | Z12: 10 | AA12: 3.5
A13: 10 | B13: 9.5 | Q13: 10 | R13: 9.5 | S13: 4 | U13: 10 | V13: 9.5 | W13: 3.5 | Y13: 10 | Z13: 9.5 | AA13: 3
A14: 11 | B14: 9 | U14: 11 | V14: 9 | W14: 3 | Y14: 11 | Z14: 9 | AA14: 2.5
A15: 12 | B15: 8.5 | Y15: 12 | Z15: 8.5 | AA15: 2
B18: Обгоны для 1 группы более 10 человек | P18: ОБГОНЫ
B19: с 13 | C19: с 12 | D19: с 11 | E19: с 10 | F19: с 9 | G19: с 8 | H19: с 7 | I19: с 6 | J19: с 5 | K19: с 4 | L19: с 3 | M19: со 2 | P19: I гр | AA19: II гр
A20: 1 | B20: 1.3 | C20: 1.3 | D20: 1.2 | E20: 1.1 | F20: 1 | G20: 0.9 | H20: 0.8 | I20: 0.7 | J20: 0.6 | K20: 0.6 | L20: 0.5 | M20: 0.5 | P20: с 12 | Q20: с 11 | R20: с 10 | S20: с 9 | T20: с 8 | U20: с 7 | V20: с 6 | W20: с 5 | X20: с 4 | Y20: с 3 | Z20: со 2
A21: 2 | B21: 2.6 | C21: 2.5 | D21: 2.3 | E21: 2.1 | F21: 1.9 | G21: 1.7 | H21: 1.5 | I21: 1.3 | J21: 1.2 | K21: 1.1 | L21: 1 | O21: 1 | P21: 1.3 | Q21: 1.3 | R21: 1.3 | S21: 1.2 | T21: 1.2 | U21: 1.1 | V21: 1 | W21: 0.9 | X21: 0.8 | Y21: 0.7 | Z21: 0.7 | AA21: 0.7
A22: 3 | B22: 3.8 | C22: 3.6 | D22: 3.3 | E22: 3 | F22: 2.7 | G22: 2.4 | H22: 2.1 | I22: 1.9 | J22: 1.7 | K22: 1.6 | O22: 2 | P22: =P21+Q21 -> 2.6 | Q22: =Q21+R21 -> 2.6 | R22: =R21+S21 -> 2.5 | S22: =S21+T21 -> 2.4 | T22: =T21+U21 -> 2.3 | U22: =U21+V21 -> 2.1 | V22: =V21+W21 -> 1.9 | W22: =W21+X21 -> 1.7 | ... Y22: =Y21+Z21 -> 1.4 | AA22: 1.4
A23: 4 | B23: 4.9 | C23: 4.6 | D23: 4.2 | E23: 3.8 | F23: 3.4 | G23: 3 | H23: 2.7 | I23: 2.4 | J23: 2.2 | O23: 3 | P23: =P22+R21 -> 3.9 | Q23: =Q22+S21 -> 3.8 | R23: =R22+T21 -> 3.7 | S23: =S22+U21 -> 3.5 | T23: =T22+V21 -> 3.3 | U23: =U22+W21 -> 3 | V23: =V22+W21 -> 2.8 | W23: =W22+Y21 -> 2.4 | X23: =X22+Z21 -> 2.2 | AA23: 2.1
A24: 5 | B24: 5.9 | C24: 5.5 | D24: 5 | E24: 4.5 | F24: 4 | G24: 3.6 | H24: 3.2 | I24: 2.9 | O24: 4 | P24: =P23+S21 -> 5.1 | Q24: =Q23+T21 -> 5 | R24: =R23+U21 -> 4.8 | S24: =S23+V21 -> 4.5 | T24: =T23+W21 -> 4.2 | U24: =U23+X21 -> 3.8 | V24: =V23+Y21 -> 3.5 | W24: =W23+Z21 -> 3.1 | AA24: 2.8
A25: 6 | B25: 6.8 | C25: 6.3 | D25: 5.7 | E25: 5.1 | F25: 4.6 | G25: 4.1 | H25: 3.7 | O25: 5 | P25: =P24+T21 -> 6.3 | Q25: =Q24+U21 -> 6.1 | R25: =R24+V21 -> 5.8 | S25: =S24+W21 -> 5.4 | T25: =T24+X21 -> 5 | U25: =U24+Y21 -> 4.5 | V25: =V24+Z21 -> 4.2 | AA25: 3.5
A26: 7 | B26: 7.6 | C26: 7 | D26: 6.3 | E26: 5.7 | F26: 5.1 | G26: 4.6 | O26: 6 | P26: =P25+U21 -> 7.4 | Q26: =Q25+V21 -> 7.1 | R26: =R25+W21 -> 6.7 | S26: =S25+X21 -> 6.2 | T26: =T25+Y21 -> 5.7 | U26: =U25+Z21 -> 5.2 | AA26: 4.2
A27: 8 | B27: 8.3 | C27: 7.6 | D27: 6.9 | E27: 6.2 | F27: 5.6 | O27: 7 | P27: =P26+V21 -> 8.4 | Q27: =Q26+W21 -> 8 | R27: =R26+X21 -> 7.5 | S27: =S26+Y21 -> 6.9 | T27: =T26+Z21 -> 6.4 | AA27: 4.9
A28: 9 | B28: 8.9 | C28: 8.2 | D28: 7.4 | E28: 6.7 | O28: 8 | P28: =P27+W21 -> 9.3 | Q28: =Q27+X21 -> 8.8 | R28: =R27+Y21 -> 8.2 | S28: =S27+Z21 -> 7.6 | AA28: 5.6
A29: 10 | B29: 9.5 | C29: 8.7 | D29: 7.9 | O29: 9 | P29: =P28+X21 -> 10.1 | Q29: =Q28+Y21 -> 9.5 | R29: =R28+Z21 -> 8.9 | AA29: 6.3
A30: 11 | B30: 10 | C30: 9.2 | O30: 10 | P30: =P29+Y21 -> 10.8 | Q30: =Q29+Z21 -> 10.2 | AA30: 7
A31: 12 | B31: 10.5 | O31: 11 | P31: =P30+Z21 -> 11.5 | AA31: 7.7

Sheet 31.08
A1: Лига III-й сезон 31.08.2016 (5 реверс)
A3: Место | B3: Участник | D3: 1 | G3: 2 | J3: 3 | N3: Очки | AB3: =SUM(N3:AA3) -> 0 | AC3: Сумма
C4: Довес | D4: группа | E4: Старт | F4: Финиш | G4: группа | H4: Старт | I4: Финиш | J4: группа | K4: Старт | L4: Финиш | N4: Квала | O4: 1 | S4: 2 | W4: 3
M5: 4 | O5: очки | P5: обгоны | Q5: время | R5: штрафы | S5: очки | T5: обгоны | U5: время | V5: штрафы | W5: очки | X5: обгоны | Y5: время | Z5: штрафы | AA5: 4
A6: 1 | B6: Гобади Курош / Gobadi Kourosh | C6: - | D6: 1 | E6: 6 | F6: 2 | G6: 1 | H6: 3 | I6: 5 | J6: 1 | K6: 1 | L6: 1 | O6: 15 | P6: 2.4 | S6: 12 | W6: 16 | AC6: =SUM(N6:Z6) -> 45.4
A7: 2 | B7: Пикулин Паша / Pikulin Pavlo | C7: 7.5 | D7: 1 | E7: 10 | F7: 7 | G7: 1 | H7: 12 | I7: 10 | J7: 1 | K7: 7 | L7: 5 | N7: 1.5 | O7: 11 | P7: 3 | Q7: 2.5 | S7: 9.5 | T7: 2.5 | W7: 12 | X7: 1.5 | Y7: 1 | AC7: =SUM(N7:Z7) -> 44.5
A8: 3 | B8: Резанко Оля / Rezanko Olga | C8: - | D8: 1 | E8: 1 | F8: 11 | G8: 1 | H8: 1 | I8: 1 | J8: 1 | K8: 11 | L8: 10 | O8: 9 | S8: 16 | U8: 2 | W8: 9.5 | X8: 1.2 | Y8: 2 | AC8: =SUM(N8:Z8) -> 39.7
A9: 4 | B9: Скобликов Влад / Skoblikov Vladyslav | C9: - | D9: 2 | E9: 12 | F9: 2 | G9: 1 | H9: 11 | I9: 9 | J9: 1 | K9: 3 | L9: 12 | O9: 8.5 | P9: 7 | Q9: 2 | S9: 10 | T9: 2.3 | W9: 8.5 | AC9: =SUM(N9:Z9) -> 38.3
A10: 5 | B10: Хавило Дима / Khavilo Dmitry | D10: 1 | E10: 9 | F10: 9 | G10: 1 | H10: 7 | I10: 8 | J10: 1 | K10: 10 | L10: 7 | N10: 1 | O10: 10 | S10: 10.5 | U10: 1.5 | W10: 11 | X10: 3 | AC10: =SUM(N10:Z10) -> 37
A11: 6 | B11: Шутка Виталий / Shutka Vitaliy | C11: - | D11: 1 | E11: 3 | F11: 3 | G11: 2 | H11: 5 | I11: 3 | J11: 1 | K11: 2 | L11: 3 | O11: 14 | S11: 7.5 | T11: 1.4 | W11: 14 | AC11: =SUM(N11:Z11) -> 36.9
A12: 7 | B12: Наум/ Vintoniv Ivan | C12: 5 | D12: 1 | E12: 11 | F12: 6 | G12: 1 | H12: 8 | I12: 4 | J12: 1 | K12: 6 | L12: 2 | N12: 2 | O12: 11.5 | P12: 5 | Q12: 0.5 | R12: =-12-8 -> -20 | S12: 13 | T12: 3 | W12: 15 | X12: 2.4 | Y12: 2.5 | AC12: =SUM(N12:Z12) -> 34.9
A13: 8 | B13: Ткаченко Антон / Tkachenko Anton | C13: - | D13: 1 | E13: 8 | F13: 10 | G13: 1 | H13: 5 | I13: 3 | J13: 1 | K13: 9 | L13: 9 | N13: 0.5 | O13: 9.5 | S13: 14 | T13: 1.2 | U13: 1 | W13: 10 | Y13: 1.5 | Z13: -5 | AC13: =SUM(N13:Z13) -> 32.7
A14: 9 | B14: Дио | D14: 1 | E14: 5 | F14: 5 | G14: 1 | H14: 9 | I14: 7 | J14: 1 | K14: 12 | L14: 8 | O14: 12 | Q14: 1 | S14: 11 | T14: 1.9 | U14: 2.5 | V14: -12 | W14: 10.5 | X14: 4.6 | Y14: 0.5 | AC14: =SUM(N14:Z14) -> 32
A15: 10 | B15: Онащук Максим / Onashuk Maxim | C15: - | D15: 1 | E15: 12 | F15: 12 | G15: 1 | H15: 10 | I15: 12 | J15: 1 | K15: 5 | L15: 11 | N15: 2.5 | O15: 8.5 | Q15: 1.5 | S15: 8.5 | W15: 9 | AC15: =SUM(N15:Z15) -> 30
A16: 11 | B16: Несторенко Андрей / Nestorenko Andrii | C16: - | D16: 1 | E16: 2 | F16: 1 | G16: 2 | H16: 11 | I16: 11 | J16: 2 | K16: 9 | L16: 6 | O16: 16 | P16: 0.5 | S16: 2.5 | W16: 5 | X16: 2.1 | AC16: =SUM(N16:Z16) -> 26.1
A17: 12 | B17: Якубовский Александр / Yakubovskiy Alex | C17: - | D17: 1 | E17: 7 | F17: 8 | G17: 1 | H17: 4 | I17: 6 | J17: 2 | K17: 11 | L17: 11 | O17: 10.5 | S17: 11.5 | W17: 2.5 | AC17: =SUM(N17:Z17) -> 24.5
A18: 13 | B18: Манило Денис / Manilo Denis | C18: - | D18: 2 | E18: 10 | F18: 1 | G18: 1 | H18: 6 | I18: 11 | J18: 1 | K18: 8 | L18: 4 | O18: 9.5 | P18: 6.3 | R18: -12 | S18: 9 | U18: 0.5 | W18: 13 | X18: 3 | Z18: -5 | AC18: =SUM(N18:Z18) -> 24.3
A19: 14 | B19: Петушков Андрей / Petushkov Andrey | C19: 12.5 | D19: 2 | E19: 11 | F19: 12 | G19: 1 | H19: 2 | I19: 2 | J19: 2 | K19: 7 | L19: 5 | O19: 2 | S19: 15 | W19: 5.5 | X19: 1.4 | AC19: =SUM(N19:Z19) -> 23.9
A20: 15 | B20: Кочмарев Юра / Kochmarev Yuriy | C20: - | D20: 2 | E20: 9 | F20: 5 | G20: 2 | H20: 8 | I20: 7 | J20: 2 | K20: 2 | L20: 1 | O20: 5.5 | P20: 2.8 | S20: 4.5 | T20: 0.7 | W20: 9.5 | X20: 0.7 | AC20: =SUM(N20:Z20) -> 23.7
A21: 16 | B21: Плакидюк Виталий / Plakidiuk Vitaliy | C21: - | D21: 2 | E21: 8 | F21: 9 | G21: 2 | H21: 3 | I21: 2 | J21: 2 | K21: 5 | L21: 2 | O21: 3.5 | S21: 8.5 | T21: 0.7 | W21: 8.5 | X21: 2.1 | AC21: =SUM(N21:Z21) -> 23.3
A22: 17 | B22: Трофименко Иван | C22: - | D22: 2 | E22: 1 | F22: 8 | G22: 2 | H22: 2 | I22: 1 | J22: 2 | K22: 6 | L22: 4 | O22: 4 | S22: 9.5 | T22: 0.7 | W22: 6.5 | X22: 1.4 | AC22: =SUM(N22:Z22) -> 22.1
A23: 18 | B23: Тыщенко Миша / Tishenko Mikhail | C23: - | D23: 2 | E23: 6 | F23: 6 | G23: 2 | H23: 4 | I23: 5 | J23: 1 | K23: 4 | L23: 6 | O23: 5 | S23: 5.5 | W23: 11.5 | AC23: =SUM(N23:Z23) -> 22
A24: 19 | B24: Джемула Сергей / Dzhemula Sergii | C24: - | D24: 2 | E24: 4 | F24: 7 | G24: 2 | H24: 9 | I24: 6 | J24: 2 | K24: 12 | L24: 8 | O24: 4.5 | S24: 5 | T24: 2.1 | W24: 4 | X24: 2.8 | AC24: =SUM(N24:Z24) -> 18.4
A25: 20 | B25: Лабинский Николай / Labinskiy Nikolay | C25: - | D25: 2 | E25: 5 | F25: 10 | G25: 2 | H25: 6 | I25: 4 | J25: 2 | K25: 10 | L25: 9 | O25: 3 | S25: 6.5 | T25: 1.4 | W25: 3.5 | X25: 0.7 | AC25: =SUM(N25:Z25) -> 15.1
A26: 21 | B26: Лантушенко Игорь / Lantushenko Ihor | C26: - | D26: 1 | E26: 4 | F26: 4 | G26: 2 | H26: 7 | I26: 12 | J26: 2 | K26: 3 | L26: 3 | O26: 13 | S26: 2 | V26: -8 | W26: 7.5 | AC26: =SUM(N26:Z26) -> 14.5
A27: 22 | B27: Фалько Костя / Falko Konstantin | C27: - | D27: 2 | E27: 3 | F27: 3 | G27: 2 | H27: 10 | I27: 8 | J27: 2 | K27: 4 | L27: 10 | O27: 7.5 | S27: 4 | T27: 1.4 | V27: -8 | W27: 3 | AC27: =SUM(N27:Z27) -> 7.9
A28: 23 | B28: Ищук Сергей / Ischuk Sergey | C28: 12.5 | D28: 2 | E28: 7 | F28: 11 | G28: 2 | H28: 1 | I28: 9 | J28: 2 | K28: 1 | L28: 7 | O28: 2.5 | R28: -8 | S28: 3.5 | W28: 4.5 | AC28: =SUM(N28:Z28) -> 2.5
A29: 24 | B29: Ткаченко Сергей / Tkachenko Sergey | C29: - | D29: 2 | E29: 2 | F29: 4 | G29: 2 | H29: 12 | I29: 10 | J29: 2 | K29: 8 | L29: 12 | O29: 6.5 | S29: 3 | W29: 2 | Z29: -15 | AC29: =SUM(N29:Z29) -> -3.5
A30: 25 | AC30: =SUM(N30:Z30) -> 0

Sheet 07.09
A1: Лига III-й сезон 07.09.2016 Конфиг 4
A3: Место | B3: Участник | D3: 1 | G3: 2 | J3: 3 | N3: Очки | AB3: =SUM(N3:AA3) -> 0 | AC3: Сумма
C4: Довес | D4: группа | E4: Старт | F4: Финиш | G4: группа | H4: Старт | I4: Финиш | J4: группа | K4: Старт | L4: Финиш | N4: Квала | O4: 1 | S4: 2 | W4: 3
M5: 4 | O5: очки | P5: обгоны | Q5: время | R5: штрафы | S5: очки | T5: обгоны | U5: время | V5: штрафы | W5: очки | X5: обгоны | Y5: время | Z5: штрафы | AA5: 4
A6: 1 | B6: Наум/ Vintoniv Ivan | C6: 5 | D6: 1 | E6: 10 | F6: 8 | G6: 1 | H6: 10 | I6: 6 | J6: 1 | K6: 10 | L6: 9 | N6: 2.5 | O6: 10.5 | P6: 2.4 | Q6: 2.5 | S6: 11.5 | T6: 4.7 | U6: 2.5 | W6: 10 | X6: 1.2 | Y6: 0.5 | AC6: =SUM(N6:Z6) -> 48.3
A7: 2 | B7: Дио | D7: 1 | E7: 9 | F7: 6 | G7: 1 | H7: 3 | I7: 1 | J7: 1 | K7: 7 | L7: 6 | N7: 2 | O7: 11.5 | P7: 3.5 | S7: 16 | T7: 1.4 | U7: 1 | W7: 11.5 | X7: 1.1 | AC7: =SUM(N7:Z7) -> 48
A8: 3 | B8: Горбоконь Андрей / Horbokon Andrii | D8: 1 | E8: 5 | F8: 3 | G8: 1 | H8: 9 | I8: 4 | J8: 1 | K8: 9 | L8: 10 | O8: 14 | P8: 1.7 | Q8: 2 | S8: 13 | T8: 5.4 | U8: 2 | W8: 9.5 | AC8: =SUM(N8:Z8) -> 47.6
A9: 4 | B9: Гаврилюк Олег/ Gavriluk Oleg | C9: 10 | D9: 1 | E9: 4 | F9: 2 | G9: 1 | H9: 6 | I9: 5 | J9: 1 | K9: 1 | L9: 4 | O9: 15 | P9: 1.5 | Q9: 0.5 | S9: 12 | T9: 1 | W9: 13 | AC9: =SUM(N9:Z9) -> 43
A10: 5 | B10: Петушков Андрей / Petushkov Andrey | C10: 12.5 | D10: 2 | E10: 6 | F10: 4 | G10: 1 | H10: 4 | I10: 2 | J10: 1 | K10: 2 | L10: 1 | O10: 7.5 | P10: 1.4 | S10: 15 | T10: 1.5 | W10: 16 | X10: 0.7 | AC10: =SUM(N10:Z10) -> 42.1
A11: 6 | B11: Ткаченко Антон/ Tkachenko Anton | D11: 1 | E11: 1 | F11: 1 | G11: 1 | H11: 5 | I11: 8 | J11: 1 | K11: 8 | L11: 8 | O11: 16 | T11: 10.5 | U11: 1.5 | W11: 10.5 | Y11: 2 | AC11: =SUM(N11:Z11) -> 40.5
A12: 7 | B12: Пикулин Паша / Pikulin Pavlo | C12: 5 | D12: 1 | E12: 6 | F12: 4 | G12: 1 | H12: 7 | I12: 10 | J12: 2 | K12: 9 | L12: 3 | N12: 0.5 | O12: 13 | P12: 1.9 | Q12: 1 | S12: 9.5 | W12: 8.5 | X12: 4.2 | Y12: 1.5 | AC12: =SUM(N12:Z12) -> 40.1
A13: 8 | B13: Лантушенко Игорь Lantushenko Ihor | C13: - | D13: 1 | E13: 3 | F13: 10 | G13: 2 | H13: 8 | I13: 2 | J13: 2 | K13: 8 | L13: 4 | O13: 9.5 | R13: =-1-1 -> -2 | S13: 9.5 | T13: 4.2 | W13: 7.5 | X13: 2.8 | Y13: 2.5 | AC13: =SUM(N13:Z13) -> 34
A14: 9 | B14: Шутка Виталий / Shutka Vitaliy | C14: - | D14: 2 | E14: 7 | F14: 2 | G14: 2 | H14: 9 | I14: 5 | J14: 1 | K14: 6 | L14: 7 | O14: 9.5 | P14: 3.5 | S14: 6.5 | T14: 2.8 | U14: 0.5 | W14: 11 | AC14: =SUM(N14:Z14) -> 33.8
A15: 10 | B15: Якубовский Александр / Yakubovskiy Alex | C15: 10 | D15: 2 | E15: 3 | F15: 1 | G15: 1 | H15: 1 | I15: 9 | J15: 2 | K15: 2 | L15: 1 | O15: 10.5 | P15: 1.4 | S15: 10 | W15: 10.5 | X15: 0.7 | AC15: =SUM(N15:Z15) -> 33.1
A16: 11 | B16: Онащук Максим / Onashuk Maxim | C16: - | D16: 1 | E16: 7 | F16: 5 | G16: 1 | H16: 8 | I16: 7 | J16: 1 | K16: 3 | L16: 2 | N16: 1 | O16: 12 | P16: 2.1 | Q16: 1.5 | R16: -5 | S16: 11 | T16: 1.2 | V16: -8 | W16: 15 | X16: 0.7 | AC16: =SUM(N16:Z16) -> 31.5
A17: 12 | B17: Тыщенко Миша / Tishenko Mikhail | C17: - | D17: 1 | E17: 8 | F17: 9 | G17: 2 | H17: 10 | I17: 8 | J17: 1 | K17: 5 | L17: 5 | N17: 1.5 | O17: 10 | S17: 5 | T17: 1.4 | W17: 12 | AC17: =SUM(N17:Z17) -> 29.9
A18: 13 | B18: Кочмарев Юра / Kochmarev Yuriy | C18: - | D18: 1 | E18: 2 | F18: 7 | G18: 2 | H18: 1 | I18: 1 | J18: 2 | K18: 4 | L18: 5 | O18: 11 | S18: 10.5 | W18: 6.5 | AC18: =SUM(N18:Z18) -> 28
A19: 14 | B19: Ткаченко Сергей / Tkachenko Sergey | C19: 5 | D19: 2 | E19: 2 | F19: 3 | G19: 2 | H19: 6 | I19: 4 | J19: 1 | K19: 4 | L19: 3 | O19: 8.5 | S19: 7.5 | T19: 1.4 | V19: -8 | W19: 14 | X19: 0.8 | Y19: 1 | AC19: =SUM(N19:Z19) -> 25.2
A20: 15 | B20: Скобликов Влад / Skoblikov Vladyslav | C20: - | D20: 2 | E20: 10 | F20: 9 | G20: 1 | H20: 2 | I20: 3 | J20: 2 | K20: 10 | L20: 9 | O20: 4.5 | P20: 0.7 | S20: 14 | W20: 4.5 | X20: 0.7 | AC20: =SUM(N20:Z20) -> 24.4
A21: 16 | B21: Фортуна Таня/ Fortuna Tanya | C21: - | D21: 2 | E21: 1 | F21: 7 | G21: 2 | H21: 2 | I21: 9 | J21: 2 | K21: 1 | L21: 2 | O21: 5.5 | S21: 4.5 | W21: 9.5 | AC21: =SUM(N21:Z21) -> 19.5
A22: 17 | B22: Ищук Сергей/ Ischuk Sergey | C22: 12.5 | D22: 2 | E22: 5 | F22: 5 | G22: 2 | H22: 3 | I22: 3 | J22: 2 | K22: 5 | L22: 10 | O22: 6.5 | S22: 8.5 | W22: 4 | AC22: =SUM(N22:Z22) -> 19
A23: 18 | B23: Хлопонин Андрей/ Khloponin Andrew | D23: 2 | E23: 9 | F23: 8 | G23: 2 | H23: 7 | I23: 7 | J23: 2 | K23: 6 | L23: 7 | O23: 5 | P23: 0.7 | S23: 5.5 | W23: 5.5 | AC23: =SUM(N23:Z23) -> 16.7
A24: 19 | B24: Линнык Владимир/ Linnyk Vlad | C24: 12.5 | D24: 2 | E24: 8 | F24: 10 | G24: 2 | H24: 5 | I24: 10 | J24: 2 | K24: 3 | L24: 8 | O24: 4 | S24: 4 | W24: 5 | AC24: =SUM(N24:Z24) -> 13
A25: 20 | B25: Пархомчук Александр /Parhomchuk Alexander | C25: - | D25: 2 | E25: 4 | F25: 6 | G25: 2 | H25: 4 | I25: 6 | J25: 2 | K25: 7 | L25: 6 | O25: 6 | S25: 6 | V25: -8 | W25: 6 | X25: 0.7 | AC25: =SUM(N25:Z25) -> 10.7
A26: 21 | AC26: =SUM(N26:Z26) -> 0
A27: 22 | AC27: =SUM(N27:Z27) -> 0
A28: 23 | AC28: =SUM(N28:Z28) -> 0
A29: 24 | AC29: =SUM(N29:Z29) -> 0
A30: 25 | AC30: =SUM(N30:Z30) -> 0

Sheet 14.09
A1: Лига III-й сезон 14.09.2016 Конфиг 8
A3: Место | B3: Участник | D3: 1 | G3: 2 | J3: 3 | N3: Очки | AB3: =SUM(N3:AA3) -> 0 | AC3: Сумма
C4: Довес | D4: группа | E4: Старт | F4: Финиш | G4: группа | H4: Старт | I4: Финиш | J4: группа | K4: Старт | L4: Финиш | N4: Квала | O4: 1 | S4: 2 | W4: 3
M5: 4 | O5: очки | P5: обгоны | Q5: время | R5: штрафы | S5: очки | T5: обгоны | U5: время | V5: штрафы | W5: очки | X5: обгоны | Y5: время | Z5: штрафы | AA5: 4
A6: 1 | B6: Ткаченко Антон/ Tkachenko Anton | C6: - | D6: 1 | E6: 7 | F6: 4 | G6: 1 | H6: 7 | I6: 5 | J6: 1 | K6: 1 | L6: 1 | N6: 1 | O6: 13 | P6: 3 | Q6: 1 | S6: 12 | T6: 2.1 | U6: 1.5 | W6: 16 | Y6: 1.5 | AC6: =SUM(N6:Z6) -> 51.1
A7: 2 | B7: Хавило Дима / Khavilo Dmitry | C7: 12.5 | D7: 1 | E7: 5 | F7: 1 | G7: 1 | H7: 10 | I7: 7 | J7: 1 | K7: 6 | L7: 5 | O7: 16 | P7: 3.1 | Q7: 2.5 | S7: 11 | T7: 3.7 | U7: 0.5 | W7: 12 | X7: 1 | AC7: =SUM(N7:Z7) -> 49.8
A8: 3 | B8: Шутка Виталий / Shutka Vitaliy | C8: - | D8: 1 | E8: 4 | F8: 2 | G8: 1 | H8: 9 | I8: 4 | J8: 1 | K8: 7 | L8: 7 | O8: 15 | P8: 1.5 | Q8: 2 | S8: 13 | T8: 5.4 | U8: 1 | W8: 11 | Y8: 0.5 | AC8: =SUM(N8:Z8) -> 49.4
A9: 4 | B9: Шутка Виталий / Shutka Vitaliy | C9: 5 | D9: 1 | E9: 10 | F9: 8 | G9: 2 | H9: 9 | I9: 2 | J9: 1 | K9: 9 | L9: 6 | N9: 2.5 | O9: 10.5 | P9: 2.5 | S9: 9.5 | T9: 4.9 | U9: 2.5 | W9: 11.5 | X9: 3.5 | Y9: 2 | AC9: =SUM(N9:Z9) -> 49.4
A10: 5 | B10: Манило Денис / Manilo Denis | C10: - | D10: 2 | E10: 4 | F10: 2 | G10: 1 | H10: 3 | I10: 1 | J10: 1 | K10: 4 | L10: 2 | O10: 9.5 | P10: 1.4 | S10: 16 | T10: 1.4 | W10: 15 | X10: 1.5 | AC10: =SUM(N10:Z10) -> 44.8
A11: 6 | B11: Лантушенко Игорь/ Lantushenko Ihor | C11: - | D11: 1 | E11: 1 | F11: 3 | G11: 1 | H11: 1 | I11: 2 | J11: 1 | K11: 2 | L11: 3 | O11: 14 | S11: 15 | W11: 14 | AC11: =SUM(N11:Z11) -> 43
A12: 7 | B12: Тыщенко Миша / Tishenko Mikhail | C12: - | D12: 1 | E12: 6 | F12: 10 | G12: 1 | H12: 5 | I12: 3 | J12: 1 | K12: 8 | L12: 8 | N12: 0.5 | O12: 9.5 | S12: 14 | T12: 1.7 | U12: 2 | W12: 10.5 | Y12: 1 | AC12: =SUM(N12:Z12) -> 39.2
A13: 8 | B13: Пикулин Паша / Pikulin Pavlo | C13: 7.5 | D13: 1 | E13: 9 | F13: 9 | G13: 1 | H13: 8 | I13: 8 | J13: 1 | K13: 5 | L13: 9 | N13: 2 | O13: 10 | Q13: 1.5 | S13: 10.5 | W13: 10 | Y13: 2.5 | AC13: =SUM(N13:Z13) -> 36.5
A14: 9 | B14: Скобликов Влад / Skoblikov Vladyslav | C14: - | D14: 1 | E14: 8 | F14: 7 | G14: 2 | H14: 8 | I14: 7 | J14: 2 | K14: 8 | L14: 2 | N14: 1.5 | O14: 11 | P14: 1.2 | S14: 5.5 | T14: 0.7 | W14: 9.5 | X14: 4.2 | AC14: =SUM(N14:Z14) -> 33.6
A15: 10 | B15: Кравченко Евгений | D15: 1 | E15: 3 | F15: 6 | G15: 1 | H15: 4 | I15: 6 | J15: 2 | K15: 9 | L15: 6 | O15: 11.5 | S15: 11.5 | W15: 6 | X15: 2.1 | AC15: =SUM(N15:Z15) -> 31.1
A16: 11 | B16: Онащук Максим / Onashuk Maxim | C16: - | D16: 2 | E16: 6 | F16: 7 | G16: 1 | H16: 2 | I16: 10 | J16: 1 | K16: 3 | L16: 4 | O16: 5.5 | S16: 9.5 | W16: 13 | AC16: =SUM(N16:Z16) -> 28
A17: 12 | B17: Петушков Андрей / Petushkov Andrey | C17: 12.5 | D17: 2 | E17: 7 | F17: 5 | G17: 2 | H17: 7 | I17: 5 | J17: 2 | K17: 2 | L17: 1 | O17: 6.5 | P17: 1.4 | S17: 6.5 | T17: 1.4 | W17: 10.5 | X17: 0.7 | AC17: =SUM(N17:Z17) -> 27
A18: 13 | B18: Якубовский Александр / Yakubovskiy Alex | C18: 10 | D18: 2 | E18: 9 | F18: 8 | G18: 2 | H18: 1 | I18: 1 | J18: 2 | K18: 7 | L18: 5 | O18: 5 | P18: 0.7 | S18: 10.5 | W18: 6.5 | X18: 1.4 | AC18: =SUM(N18:Z18) -> 24.1
A19: 14 | B19: Хлопонин Андрей/ Khloponin Andrew | C19: 10 | D19: 1 | E19: 2 | F19: 5 | G19: 1 | H19: 6 | I19: 9 | O19: 12 | Q19: 0.5 | S19: 10 | AC19: =SUM(N19:Z19) -> 22.5
A20: 15 | B20: Кочмарев Юра / Kochmarev Yuriy | C20: - | D20: 2 | E20: 5 | F20: 4 | G20: 2 | H20: 4 | I20: 3 | J20: 2 | K20: 6 | L20: 9 | O20: 7.5 | P20: 0.7 | S20: 8.5 | T20: 0.7 | W20: 4.5 | AC20: =SUM(N20:Z20) -> 21.9
A21: 16 | B21: Фортуна Таня/ Fortuna Tanya | C21: - | D21: 2 | E21: 1 | F21: 3 | G21: 2 | H21: 2 | I21: 4 | J21: 2 | K21: 1 | L21: 8 | O21: 8.5 | S21: 7.5 | W21: 5 | AC21: =SUM(N21:Z21) -> 21
A22: 17 | B22: Джемула Сергей / Dzhemula Sergii | C22: - | D22: 2 | E22: 3 | F22: 9 | G22: 2 | H22: 5 | I22: 6 | J22: 2 | K22: 3 | L22: 3 | O22: 4.5 | S22: 6 | W22: 8.5 | AC22: =SUM(N22:Z22) -> 19
A23: 18 | B23: Ищук Сергей / Ischuk Sergey | C23: 12.5 | D23: 2 | E23: 2 | F23: 1 | G23: 2 | H23: 6 | I23: 9 | J23: 2 | K23: 4 | L23: 4 | O23: 10.5 | P23: 0.7 | S23: 4.5 | W23: 7.5 | Z23: -8 | AC23: =SUM(N23:Z23) -> 15.2
A24: 19 | B24: Горбоконь Андрей / Horbokon Andrii | C24: - | D24: 2 | E24: 8 | F24: 6 | G24: 2 | H24: 3 | I24: 8 | J24: 2 | K24: 5 | L24: 7 | O24: 6 | P24: 1.4 | R24: =-8-8-8 -> -24 | S24: 5 | W24: 5.5 | AC24: =SUM(N24:Z24) -> -6.1
A25: 20 | AC25: =SUM(N25:Z25) -> 0
A26: 21 | AC26: =SUM(N26:Z26) -> 0
A27: 22 | AC27: =SUM(N27:Z27) -> 0
A28: 23 | AC28: =SUM(N28:Z28) -> 0
A29: 24 | AC29: =SUM(N29:Z29) -> 0
A30: 25 | AC30: =SUM(N30:Z30) -> 0

Sheet 21.09
A1: Лига III-й сезон 21.09.2016 конфиг 3
A3: Место | B3: Участник | D3: 1 | G3: 2 | J3: 3 | M3: Очки | AA3: =SUM(M3:Z3) -> 0 | AB3: Сумма
C4: Довес | D4: группа | E4: Старт | F4: Финиш | G4: группа | H4: Старт | I4: Финиш | J4: группа | K4: Старт | L4: Финиш | M4: Квала | N4: 1 | R4: 2 | V4: 3
N5: очки | O5: обгоны | P5: время | Q5: штрафы | R5: очки | S5: обгоны | T5: время | U5: штрафы | V5: очки | W5: обгоны | X5: время | Y5: штрафы | Z5: 4
A6: =RANK(AB6,AB$6:OFFSET(AB$6,0,0,COUNTA(B$6:B$30))) -> 1 | B6: Хавило Дима / Khavilo Dmitry | C6: 12.5 | D6: 1 | E6: 2 | F6: 4 | G6: 1 | H6: 1 | I6: 1 | J6: 1 | K6: 7 | L6: 4 | N6: =OFFSET(Очки!$A$3,F6,D6+QUOTIENT(MAX($C$31-11,0), 2)*4) -> 13 | O6: =IF(F6<E6,OFFSET(IF(OR($C$31=11,$C$31=12),Очки!$A$17,Очки!$O$18),2+E6-F6,IF(D6=2,12,13-E6)),0) -> 0 | R6: =OFFSET(Очки!$A$3,I6,G6+QUOTIENT(MAX($C$31-11,0), 2)*4) -> 16 | S6: =IF(I6<H6,OFFSET(IF(OR($C$31=11,$C$31=12),Очки!$A$17,Очки!$O$18),2+H6-I6,IF(G6=2,12,13-H6)),0) -> 0 | T6: 2 | V6: =OFFSET(Очки!$A$3,L6,J6+QUOTIENT(MAX($C$31-11,0), 2)*4) -> 13 | W6: =IF(L6<K6,OFFSET(IF(OR($C$31=11,$C$31=12),Очки!$A$17,Очки!$O$18),2+K6-L6,IF(J6=2,12,13-K6)),0) -> 3 | X6: 2 | AB6: =SUM(M6:Y6) -> 49
A7: =RANK(AB7,AB$6:OFFSET(AB$6,0,0,COUNTA(B$6:B$30))) -> 2 | B7: Горошко Игорь | C7: - | D7: 1 | E7: 5 | F7: 2 | G7: 1 | H7: 5 | I7: 8 | J7: 1 | K7: 8 | L7: 6 | M7: 1 | N7: =OFFSET(Очки!$A$3,F7,D7+QUOTIENT(MAX($C$31-11,0), 2)*4) -> 15 | O7: =IF(F7<E7,OFFSET(IF(OR($C$31=11,$C$31=12),Очки!$A$17,Очки!$O$18),2+E7-F7,IF(D7=2,12,13-E7)),0) -> 2.4 | P7: 1 | R7: =OFFSET(Очки!$A$3,I7,G7+QUOTIENT(MAX($C$31-11,0), 2)*4) -> 10.5 | S7: =IF(I7<H7,OFFSET(IF(OR($C$31=11,$C$31=12),Очки!$A$17,Очки!$O$18),2+H7-I7,IF(G7=2,12,13-H7)),0) -> 0 | T7: 2.5 | V7: =OFFSET(Очки!$A$3,L7,J7+QUOTIENT(MAX($C$31-11,0), 2)*4) -> 11.5 | W7: =IF(L7<K7,OFFSET(IF(OR($C$31=11,$C$31=12),Очки!$A$17,Очки!$O$18),2+K7-L7,IF(J7=2,12,13-K7)),0) -> 2.3 | AB7: =SUM(M7:Y7) -> 46.2
